{"text_format":"3","workbook":"xlsx","n_sheets":15,"sheets":["Respondent Information","Org Commitment to Quality","Dental Quality Measurement Exp","Expanded Benefits-Defined","Value-Based Purchasing","Provider Network Enhancements","Compliance","Compliance-Terminations","FL Presence","Managed Care Experience","Accreditation","Claims Processing and Payment","Provider Engagement Model","Community Partnerships","Grievances"],"not_rendered":{"macros":1,"defined_names":3},"read":"whole","date_system":"1900"}

{"sheet":"Respondent Information","index":0,"n_rows":33,"n_cols":17,"rows_kept":33,"merged":[[2,0,3,3],[2,4,3,10],[4,7,4,9],[5,0,5,1],[5,5,6,5],[5,6,6,6],[5,7,6,7],[5,8,6,8],[5,9,6,9],[5,10,6,10],[6,0,8,1],[6,2,8,2],[6,3,8,3],[6,4,8,4],[9,0,11,1],[9,2,11,2],[9,3,11,3],[9,4,11,4],[12,0,14,1],[12,2,14,2],[12,3,14,3],[12,4,14,4],[16,7,16,8],[16,9,16,10],[17,1,17,3],[17,7,17,8],[17,9,17,10],[18,1,18,3],[18,7,18,8],[18,9,18,10],[19,1,19,3],[19,7,19,8],[19,9,19,10],[20,1,20,3],[20,7,20,8],[20,9,20,10],[21,1,21,3],[21,7,21,8],[21,9,21,10],[22,1,22,3],[22,7,22,8],[22,9,22,10],[23,0,25,0],[23,1,23,3],[23,5,25,5],[23,6,25,6],[23,7,25,8],[23,9,25,10],[24,1,24,3],[25,1,25,3],[26,1,26,3],[26,7,26,8],[26,9,26,10],[27,1,27,3],[27,7,27,8],[27,9,27,10],[28,1,28,3],[28,7,28,8],[28,9,28,10],[29,1,29,3],[29,7,29,8],[29,9,29,10],[30,1,30,3],[30,7,30,8],[30,9,30,10],[31,1,31,3],[31,7,31,8],[31,9,31,10],[32,1,32,3],[32,7,32,8],[32,9,32,10]]}
["Respondent Information"]
[]
["Plan/Respondent Name:"]
[]
[]
[null,null,"State","Contract Number","Line of Business","Calendar Year 1: ",null,"Calendar Year 2: ",null,"Calendar Year 3: "]
["Contract 1: ",{"$nulls":15},"Medicaid "]
[{"$nulls":5},"Number of Enrollees: ",null,"Number of Enrollees: ",null,"Number of Enrollees: ",{"$nulls":6},"CHIP"]
[{"$nulls":5},"Total Claim-Based Expenditures:",null,"Total Claim-Based Expenditures:",null,"Total Claim-Based Expenditures:",{"$nulls":6},"Commercial"]
["Contract 2: ",{"$nulls":4},"Calendar Year 1: ",null,"Calendar Year 2: ",null,"Calendar Year 3: "]
[{"$nulls":5},"Number of Enrollees: ",null,"Number of Enrollees: ",null,"Number of Enrollees: "]
[{"$nulls":5},"Total Claim-Based Expenditures:",null,"Total Claim-Based Expenditures:",null,"Total Claim-Based Expenditures:"]
[" Contract 3: ",{"$nulls":4},"Calendar Year 1: ",null,"Calendar Year 2: ",null,"Calendar Year 3: "]
[{"$nulls":5},"Number of Enrollees: ",null,"Number of Enrollees: ",null,"Number of Enrollees: "]
[{"$nulls":5},"Total Claim-Based Expenditures:",null,"Total Claim-Based Expenditures:",null,"Total Claim-Based Expenditures:"]
[]
[]
["SRC#","Scores",null,null,"Points Earned","Total Points Available","Percent"]
[19,"Organizational Commitment to Quality",null,null,{"$f":"'Org Commitment to Quality'!B5","v":0},{"$f":"'Org Commitment to Quality'!B4","v":{"v":99.99,"d":"100"}},{"$f":"'Org Commitment to Quality'!B6","v":{"v":0,"d":"0%"}}]
[20,"Dental Quality Measurement Experience",null,null,{"$f":"'Dental Quality Measurement Exp'!B5","v":0},{"$f":"'Dental Quality Measurement Exp'!B4","v":{"v":99.9,"d":"100"}},{"$f":"'Dental Quality Measurement Exp'!B6","v":{"v":0,"d":"0%"}}]
[21,"Expanded Benefits - Defined",null,null,{"$f":"'Expanded Benefits-Defined'!B5","v":0},{"$f":"'Expanded Benefits-Defined'!B4","v":100},{"$f":"'Expanded Benefits-Defined'!B6","v":{"v":0,"d":"0%"}}]
[22,"Value-Based Purchasing",null,null,{"$f":"'Value-Based Purchasing'!B5","v":0},{"$f":"'Value-Based Purchasing'!B4","v":{"v":99.99,"d":"100"}},{"$f":"'Value-Based Purchasing'!B6","v":{"v":0,"d":"0%"}}]
[24,"Provider Network Enhancements",null,null,{"$f":"'Provider Network Enhancements'!B5","v":0},{"$f":"'Provider Network Enhancements'!B4","v":100},{"$f":"'Provider Network Enhancements'!B6","v":{"v":0,"d":"0%"}}]
[27,"Compliance",null,null,{"$f":"'Compliance-Terminations'!C6","v":0},100,{"$f":"'Compliance-Terminations'!C7","v":{"v":0,"d":"0%"}}]
[null,"Compliance",null,null,{"$f":"Compliance!C5","v":0}]
[null,"Compliance-Terminations",null,null,{"$f":"'Compliance-Terminations'!C5","v":0}]
[28,"Required Florida Presence",null,null,{"$f":"'FL Presence'!B5","v":0},{"$f":"'FL Presence'!B4","v":100},{"$f":"'FL Presence'!B6","v":{"v":0,"d":"0%"}}]
[29,"Managed Care Experience",null,null,{"$f":"'Managed Care Experience'!B5","v":0},{"$f":"'Managed Care Experience'!B4","v":100},{"$f":"'Managed Care Experience'!B6","v":{"v":0,"d":"0%"}}]
[30,"Accreditation",null,null,{"$f":"Accreditation!B5","v":0},{"$f":"Accreditation!B4","v":100},{"$f":"Accreditation!B6","v":{"v":0,"d":"0%"}}]
[32,"Claims Processing and Payment",null,null,{"$f":"'Claims Processing and Payment'!B5","v":0},{"$f":"'Claims Processing and Payment'!B4","v":100},{"$f":"'Claims Processing and Payment'!B6","v":{"v":0,"d":"0%"}}]
[33,"Provider Engagement Model",null,null,{"$f":"'Provider Engagement Model'!B5","v":0},{"$f":"'Provider Engagement Model'!B4","v":{"v":99.99,"d":"100"}},{"$f":"'Provider Engagement Model'!B6","v":{"v":0,"d":"0%"}}]
[34,"Community Partnerships",null,null,{"$f":"'Community Partnerships'!B5","v":0},{"$f":"'Community Partnerships'!B4","v":100},{"$f":"'Community Partnerships'!B6","v":{"v":0,"d":"0%"}}]
[40,"Grievances",null,null,{"$f":"Grievances!B5","v":0},{"$f":"Grievances!B4","v":100},{"$f":"Grievances!B6","v":{"v":0,"d":"0%"}}]

{"sheet":"Org Commitment to Quality","index":1,"n_rows":42,"n_cols":8,"rows_kept":42,"merged":[[7,0,7,1],[7,2,7,3],[7,4,7,5],[20,0,24,0],[23,1,23,2],[24,1,24,2],[25,0,29,0],[28,1,28,2],[29,1,29,2],[30,0,34,0],[33,1,33,2],[34,1,34,2],[35,0,35,2]]}
["SRC #19: Organizational Commitment to Quality",null,null,"Back to Respondent Information"]
[]
["Item","Score"]
["Total Points Possible:",{"$f":"SUM(C21:C35)","v":{"v":99.99,"d":"100"}}]
["Points Earned:",{"$f":"D36","v":0}]
["Percent:",{"$f":"(IFERROR(B5/B4,0))","v":{"v":0,"d":"0%"}}]
[]
[{"$f":"'Respondent Information'!C7","v":0},null,{"$f":"'Respondent Information'!C10","v":0},null,{"$f":"'Respondent Information'!C13","v":0}]
["Line of Business",{"$f":"'Respondent Information'!E7","v":0},"Line of Business",{"$f":"'Respondent Information'!E10","v":0},"Line of Business",{"$f":"'Respondent Information'!E13","v":0}]
["Project Focus",null,"Project Focus",null,"Project Focus"]
["Key Metric",null,"Key Metric",null,"Key Metric"]
["Desired Metric Change",null,"Desired Metric Change",null,"Desired Metric Change"]
["Baseline Key Metric Rate",null,"Baseline Key Metric Rate",null,"Baseline Key Metric Rate",null,null,"Increase"]
["Key Metric Rate after Project",null,"Key Metric Rate after Project",null,"Key Metric Rate after Project",null,null,"Decrease"]
["Change in Key Metric Rate in %",{"$f":"IF(ISERROR(((B14-B13)/B13)),0,((B14-B13)/B13))","v":{"v":0,"d":"0.00%"}},"Change in Key Metric Rate in %",{"$f":"IF(ISERROR(((D14-D13)/D13)),0,((D14-D13)/D13))","v":{"v":0,"d":"0.00%"}},"Change in Key Metric Rate in %",{"$f":"IF(ISERROR(((F14-F13)/F13)),0,((F14-F13)/F13))","v":{"v":0,"d":"0.00%"}}]
["% of Enrolleees Targeted",null,"% of Enrolleees Targeted",null,"% of Enrolleees Targeted"]
[]
["Scores:"]
[]
["State","Evaluation Criteria","Points Possible","Points Earned"]
[{"$f":"A8","v":0},"Change in Key Metric Rate",15,{"$f":"IF(B12=\"Decrease\", IF(B15<=-0.2, C21, IF(B15<=-0.16, C21*0.8, IF(B15<=-0.11, C21*0.6, IF(B15<=-0.06, C21*0.4, IF(B15<=-0.01, C21*0.2, 0))))), IF(B15>=0.2, C21, IF(B15>=0.16, C21*0.8, IF(B15>=0.11, C21*0.6, IF(B15>=0.06, C21*0.4, IF(B15>=0.01, C21*0.2, 0))))))","v":0}]
[null,"% of Enrollees Targeted by QI Project",15,{"$f":"IF(B16>=0.2, C22, IF(B16>=0.16, C22*0.8, IF(B16>=0.11, C22*0.6, IF(B16>=0.06, C22*0.4, IF(B16>=0.01, C22*0.2, 0)))))","v":0}]
[null,"Project Focus",3.33,{"$f":"IF(ISBLANK(B10), 0, IF(B10<>\"Other Focus\", C23, 0))","v":0}]
[null,"State Points Earned:",null,{"$f":"SUM(D21:D23)","v":0}]
[null,"Points Weighted by Line of Business:",null,{"$f":"IF(B9=\"Medicaid \", D24*1, IF(B9=\"CHIP\", D24*0.9, IF(B9=\"Commercial\", D24*0.8, 0)))","v":{"v":0,"d":"0.00"}}]
[{"$f":"C8","v":0},"Change in Key Metric Rate",15,{"$f":"IF(D12=\"Decrease\", IF(D15<=-0.2, C26, IF(D15<=-0.16, C26*0.8, IF(D15<=-0.11, C26*0.6, IF(D15<=-0.06, C26*0.4, IF(D15<=-0.01, C26*0.2, 0))))), IF(D15>=0.2, C26, IF(D15>=0.16, C26*0.8, IF(D15>=0.11, C26*0.6, IF(D15>=0.06, C26*0.4, IF(D15>=0.01, C26*0.2, 0))))))","v":0}]
[null,"% of Enrollees Targeted by QI Project",15,{"$f":"IF(D16>=0.2, C27, IF(D16>=0.16, C27*0.8, IF(D16>=0.11, C27*0.6, IF(D16>=0.06, C27*0.4, IF(D16>=0.01, C27*0.2, 0)))))","v":0}]
[null,"Project Focus",3.33,{"$f":"IF(ISBLANK(D10), 0, IF(D10<>\"Other Focus\", C28, 0))","v":0}]
[null,"State Points Earned:",null,{"$f":"SUM(D26:D28)","v":0}]
[null,"Points Weighted by Line of Business:",null,{"$f":"IF(D9=\"Medicaid \", D29*1, IF(D9=\"CHIP\", D29*0.9, IF(D9=\"Commercial\", D29*0.8, 0)))","v":{"v":0,"d":"0.00"}}]
[{"$f":"E8","v":0},"Change in Key Metric Rate",15,{"$f":"IF(F12=\"Decrease\", IF(F15<=-0.2, C31, IF(F15<=-0.16, C31*0.8, IF(F15<=-0.11, C31*0.6, IF(F15<=-0.06, C31*0.4, IF(F15<=-0.01, C31*0.2, 0))))), IF(F15>=0.2, C31, IF(F15>=0.16, C31*0.8, IF(F15>=0.11, C31*0.6, IF(F15>=0.06, C31*0.4, IF(F15>=0.01, C31*0.2, 0))))))","v":0}]
[null,"% of Enrollees Targeted by QI Project",15,{"$f":"IF(F16>=0.2, C32, IF(F16>=0.16, C32*0.8, IF(F16>=0.11, C32*0.6, IF(F16>=0.06, C32*0.4, IF(F16>=0.01, C32*0.2, 0)))))","v":0}]
[null,"Project Focus",3.33,{"$f":"IF(ISBLANK(F10), 0, IF(F10<>\"Other Focus\", C33, 0))","v":0}]
[null,"State Points Earned:",null,{"$f":"SUM(D31:D33)","v":0}]
[null,"Points Weighted by Line of Business:",null,{"$f":"IF(F9=\"Medicaid \", D34*1, IF(F9=\"CHIP\", D34*0.9, IF(F9=\"Commercial\", D34*0.8, 0)))","v":{"v":0,"d":"0.00"}}]
["Total Points Earned:",null,null,{"$f":"SUM(D25,D30,D35)","v":0}]
[]
[null,"Medicaid","Reducing preventable dental-related ED visits"]
[null,"CHIP","Improving follow-up after dental related ED visits"]
[null,null,"Improving dental outcomes"]
[null,null,"Improving delivery of services to target populations"]
[null,null,"Other Focus"]

{"sheet":"Dental Quality Measurement Exp","index":2,"n_rows":22,"n_cols":18,"rows_kept":22,"merged":[[7,1,7,3],[7,4,7,6],[7,7,7,9],[14,3,14,4],[14,6,14,7],[14,8,14,9],[15,0,16,0],[15,3,15,4],[15,6,15,7],[15,8,15,9],[16,3,16,4],[16,6,16,7],[16,8,16,9],[17,0,18,0],[17,3,17,4],[17,6,17,7],[17,8,17,9],[18,3,18,4],[18,6,18,7],[18,8,18,9],[19,0,20,0],[19,3,19,4],[19,6,19,7],[19,8,19,9],[20,3,20,4],[20,6,20,7],[20,8,20,9],[21,0,21,8]]}
["SRC #20: Dental Quality Measurement Experience",{"$nulls":4},"Back to Respondent Information"]
[]
["Item","Score"]
["Total Points Possible:",{"v":99.9,"d":"100"}]
["Points Earned:",{"$f":"J22","v":0}]
["Percent:",{"$f":"(IFERROR(B5/B4,0))","v":{"v":0,"d":"0%"}}]
[]
["Contract Number",{"$f":"'Respondent Information'!D7","v":0},null,null,{"$f":"'Respondent Information'!D10","v":0},null,null,{"$f":"'Respondent Information'!D13","v":0}]
[null,2020,2021,2022,2020,2021,2022,2020,2021,2022,{"$nulls":4},"Child Core Set Measures – FL Medicaid Statewide Weighted Means ","CY 2020 ","CY 2021 ","CY 2022 "]
["Oral Evaluation, Dental Services – Total  ",{"$nulls":13},"Oral Evaluation, Dental Services – Total  ",{"v":0.3226,"d":"32.26%"},{"v":0.3574,"d":"35.74%"},{"v":0.3407,"d":"34.07%"}]
["Sealant Receipt on Permanent First Molars – At least 1 ",{"$nulls":13},"Sealant Receipt on Permanent First Molars – At least 1 ",{"v":0.2469,"d":"24.69%"},{"v":0.3784,"d":"37.84%"},{"v":0.4808,"d":"48.08%"}]
[]
["Scores:"]
[]
["State","Question","Year 1-Greater than State Average","Year 2 - Improvement from Previous Year",null,"Year 2- Greater than State Average","Year 3 - Improvement from Previous Year",null,"Year 3- Greater than State Average"]
[{"$f":"B8","v":0},"Oral Evaluation",{"$f":"IF(B10>$P$10, 3.33, 0)","v":0},{"$f":"IF(ISBLANK(B10),0,IF(C10>B10,3.33,0))","v":0},null,{"$f":"IF(ISBLANK(C10), 0, IF(C10>Q10, 3.33, 0))","v":0},{"$f":"IF(ISBLANK(C10), IF(ISBLANK(B10), 0, IF(D10>B10, 3.33, 0)), IF(D10>C10, 3.33, 0))","v":0},null,{"$f":"IF(ISBLANK(D10), 0, IF(D10>R10, 3.33, 0))","v":0}]
[null,"Sealant",{"$f":"IF(B11>P11, 3.33, 0)","v":0},{"$f":"IF(ISBLANK(B11),0,IF(C11>B11,3.33,0))","v":0},null,{"$f":"IF(ISBLANK(C11), 0, IF(C11>Q11, 3.33, 0))","v":0},{"$f":"IF(ISBLANK(C11), IF(ISBLANK(B11), 0, IF(D11>B11, 3.33, 0)), IF(D11>C11, 3.33, 0))","v":0},null,{"$f":"IF(ISBLANK(D11), 0, IF(D11>R11, 3.33, 0))","v":0}]
[{"$f":"E8","v":0},"Oral Evaluation",{"$f":"IF(E10>P10, 3.33, 0)","v":0},{"$f":"IF(ISBLANK(E10), 0, IF(F10>E10, 3.33, 0))","v":0},null,{"$f":"IF(ISBLANK(F10), 0, IF(F10>Q10, 3.33, 0))","v":0},{"$f":"IF(ISBLANK(F10), IF(ISBLANK(E10), 0, IF(G10>E10, 3.33, 0)), IF(G10>F10, 3.33, 0))","v":0},null,{"$f":"IF(ISBLANK(G10), 0, IF(G10>R10, 3.33, 0))","v":0}]
[null,"Sealant",{"$f":"IF(E11>P11, 3.33, 0)","v":0},{"$f":"IF(ISBLANK(E11), 0, IF(F11>E11, 3.33, 0))","v":0},null,{"$f":"IF(ISBLANK(F11), 0, IF(F11>Q11, 3.33, 0))","v":0},{"$f":"IF(ISBLANK(F11), IF(ISBLANK(E11), 0, IF(G11>E11, 3.33, 0)), IF(G11>F11, 3.33, 0))","v":0},null,{"$f":"IF(ISBLANK(G11), 0, IF(G11>R11, 3.33, 0))","v":0}]
[{"$f":"H8","v":0},"Oral Evaluation",{"$f":"IF(H10>P10, 3.33, 0)","v":0},{"$f":"IF(ISBLANK(H10), 0, IF(I10>H10, 3.33, 0))","v":0},null,{"$f":"IF(ISBLANK(I10), 0, IF(I10>Q10, 3.33, 0))","v":0},{"$f":"IF(ISBLANK(I10), IF(ISBLANK(H10), 0, IF(J10>H10, 3.33, 0)), IF(J10>I10, 3.33, 0))","v":0},null,{"$f":"IF(ISBLANK(J10), 0, IF(J10>R10,3.33, 0))","v":0}]
[null,"Sealant",{"$f":"IF(H11>P11, 3.33, 0)","v":0},{"$f":"IF(ISBLANK(H11), 0, IF(I11>H11, 3.33, 0))","v":0},null,{"$f":"IF(ISBLANK(I11), 0, IF(I11>Q11, 3.33, 0))","v":0},{"$f":"IF(ISBLANK(I11), IF(ISBLANK(H11), 0, IF(J11>H11, 3.33, 0)), IF(J11>I11, 3.33, 0))","v":0},null,{"$f":"IF(ISBLANK(J11), 0, IF(J11>R11,3.33, 0))","v":0}]
["Total Points Earned:",{"$nulls":8},{"$f":"SUM(C16:J21)","v":0}]

{"sheet":"Expanded Benefits-Defined","index":3,"n_rows":36,"n_cols":16,"rows_kept":36,"merged":[[9,0,9,1],[35,0,35,1]]}
["SRC #21: Expanded Benefits - Defined",{"$nulls":4},"Back to Respondent Information"]
[]
["Item","Score"]
["Total Points Possible:",{"$f":"SUM(B26:B35)","v":100}]
["Points Earned:",{"$f":"C36","v":0}]
["Percent:",{"$f":"(IFERROR(B5/B4,0))","v":{"v":0,"d":"0%"}}]
[]
[null,"Florida",{"$nulls":13},"Yes"]
["Line of Business:","Medicaid",{"$nulls":13},"No"]
["The respondent must indicate “yes” or “no” for each of the following categories of Expanded Benefits it proposes to offer to its enrollees. "]
[null,"Offered"]
["Acclimation Visits for Individuals with Intellectual and Developmental Disabilities"]
["Anterior Root Canals for Individuals with Intellectual and Developmental Disabilities and Seniors Aged 65+"]
["Dental Cleanings for Individuals 21+"]
["Dental Crowns for Individuals with Intellectual and Developmental Disabilities and Seniors Aged 65+"]
["Extra Dental Cleanings for Individuals with Intellectual and Developmental Disabilities and Pregnant Women"]
["Fillings for Individuals 21+"]
["OTC Benefits"]
["Periodontal Services for Individuals 21+"]
["Screenings for Individuals 21+"]
["X-Rays for Individuals 21+"]
[]
["Scores:"]
[]
["Criteria","Points Possible","Points Earned"]
["Acclimation Visits for Individuals with Intellectual and Developmental Disabilities",4,{"$f":"IF(B12=\"Yes\", B26, 0)","v":0}]
["Anterior Root Canals for Individuals with Intellectual and Developmental Disabilities and Seniors Aged 65+",8,0]
["Dental Cleanings for Individuals 21+",17,0]
["Dental Crowns for Individuals with Intellectual and Developmental Disabilities and Seniors Aged 65+",8,0]
["Extra Dental Cleanings for Individuals with Intellectual and Developmental Disabilities and Pregnant Women",8,0]
["Fillings for Individuals 21+",10,0]
["OTC Benefits",12,0]
["Periodontal Services for Individuals 21+",6,0]
["Screenings for Individuals 21+",17,0]
["X-Rays for Individuals 21+",10,0]
["Total Points Earned: ",null,{"$f":"SUM(C26:C35)","v":0}]

{"sheet":"Value-Based Purchasing","index":4,"n_rows":34,"n_cols":5,"rows_kept":34,"merged":[[24,0,26,0],[27,0,29,0],[30,0,32,0],[33,0,33,2]]}
["SRC #22: Value-Based Purchasing",{"$nulls":3},"Back to Respondent Information"]
[]
["Item","Score"]
["Total Points Possible:",{"$f":"SUM(C25:C33)","v":{"v":99.99,"d":"100"}}]
["Points Earned:",{"$f":"D34","v":0}]
["Percent:",{"$f":"(IFERROR(B5/B4,0))","v":{"v":0,"d":"0%"}}]
[]
[]
[{"$f":"'Respondent Information'!C7","v":0},"CY2020","CY2021","CY2022","Three Year Average"]
["Percent of in-network dentists who were in at least one LAN2A+ VBP Agreement",{"$nulls":3},{"$f":"IFERROR(AVERAGE(B10:D10), 0)","v":{"v":0,"d":"0.00%"}}]
["Percent of dentists in LAN2A+ VBP Agreements who were paid more than $10,000 in rewards for achieving or surpassing VBP Outcomes",{"$nulls":3},{"$f":"IFERROR(AVERAGE(B11:D11), 0)","v":{"v":0,"d":"0.00%"}}]
["Percentage of total claim-based expenditures in LAN3A+ VBP Agreements",{"$nulls":3},{"$f":"IFERROR(AVERAGE(B12:D12), 0)","v":{"v":0,"d":"0.00%"}}]
[{"$f":"'Respondent Information'!C10","v":0},"CY2020","CY2021","CY2022","Three Year Average"]
["Percent of in-network dentists who were in at least one LAN2A+ VBP Agreement",{"$nulls":3},{"$f":"IFERROR(AVERAGE(B14:D14), 0)","v":{"v":0,"d":"0.00%"}}]
["Percent of dentists in LAN2A+ VBP Agreements who were paid more than $10,000 in rewards for achieving or surpassing VBP Outcomes",{"$nulls":3},{"$f":"IFERROR(AVERAGE(B15:D15), 0)","v":{"v":0,"d":"0.00%"}}]
["Percentage of total claim-based expenditures in LAN3A+ VBP Agreements",{"$nulls":3},{"$f":"IFERROR(AVERAGE(B16:D16), 0)","v":{"v":0,"d":"0.00%"}}]
[{"$f":"'Respondent Information'!C13","v":0},"CY2020","CY2021","CY2022","Three Year Average"]
["Percent of in-network dentists who were in at least one LAN2A+ VBP Agreement",{"$nulls":3},{"$f":"IFERROR(AVERAGE(B18:D18), 0)","v":{"v":0,"d":"0.00%"}}]
["Percent of dentists in LAN2A+ VBP Agreements who were paid more than $10,000 in rewards for achieving or surpassing VBP Outcomes",{"$nulls":3},{"$f":"IFERROR(AVERAGE(B19:D19), 0)","v":{"v":0,"d":"0.00%"}}]
["Percentage of total claim-based expenditures in LAN3A+ VBP Agreements",{"$nulls":3},{"$f":"IFERROR(AVERAGE(B20:D20), 0)","v":{"v":0,"d":"0.00%"}}]
[]
["Scores:"]
[]
["State","Question","Points Possible","Points Earned"]
[{"$f":"'Respondent Information'!C7","v":0},"Percent of in-network dentists who were in at least one LAN2A+ VBP Agreement",11.11,{"$f":"IF(ISBLANK(E10), 0, IF(E10>=0.2, 11.11, IF(E10>=0.1, 5, IF(E10>=0.01, 1, 0))))","v":0}]
[null,"Percent of dentists in LAN2A+ VBP Aagreements who were paid more than $10,000 in rewards for achieving or surpassing VBP Outcomes",11.11,{"$f":"IF(ISBLANK(E11), 0, IF(E11>=0.2, 11.11, IF(E11>=0.1, 5, IF(E11>=0.01, 1, 0))))","v":0}]
[null,"Percentage of total claim-based expenditures in LAN3A+ VBP Agreements",11.11,{"$f":"IF(ISBLANK(E12), 0, IF(E12>=0.2, 11.11, IF(E12>=0.1, 5, IF(E12>=0.01, 1, 0))))","v":0}]
[{"$f":"'Respondent Information'!C10","v":0},"Percent of in-network dentists who were in at least one LAN2A+ VBP Agreement",11.11,{"$f":"IF(ISBLANK(E14), 0, IF(E14>=0.2, 11.11, IF(E14>=0.1, 5, IF(E14>=0.01, 1, 0))))","v":0}]
[null,"Percent of dentists in LAN2A+ VBP Aagreements who were paid more than $10,000 in rewards for achieving or surpassing VBP Outcomes",11.11,{"$f":"IF(ISBLANK(E15), 0, IF(E15>=0.2, 11.11, IF(E15>=0.1, 5, IF(E15>=0.01, 1, 0))))","v":0}]
[null,"Percentage of total claim-based expenditures in LAN3A+ VBP Agreements",11.11,{"$f":"IF(ISBLANK(E16), 0, IF(E16>=0.2, 11.11, IF(E16>=0.1, 5, IF(E16>=0.01, 1, 0))))","v":0}]
[{"$f":"'Respondent Information'!C13","v":0},"Percent of in-network dentists who were in at least one LAN2A+ VBP Agreement",11.11,{"$f":"IF(ISBLANK(E18), 0, IF(E18>=0.2, 11.11, IF(E18>=0.1, 5, IF(E18>=0.01, 1, 0))))","v":0}]
[null,"Percent of dentists in LAN2A+ VBP Aagreements who were paid more than $10,000 in rewards for achieving or surpassing VBP Outcomes",11.11,{"$f":"IF(ISBLANK(E19), 0, IF(E19>=0.2, 11.11, IF(E19>=0.1, 5, IF(E19>=0.01, 1, 0))))","v":0}]
[null,"Percentage of total claim-based expenditures in LAN3A+ VBP Agreements",11.11,{"$f":"IF(ISBLANK(E20), 0, IF(E20>=0.2, 11.11, IF(E20>=0.1, 5, IF(E20>=0.01, 1, 0))))","v":0}]
["Total Points Earned:",null,null,{"$f":"SUM(D25:D33)","v":0}]

{"sheet":"Provider Network Enhancements","index":5,"n_rows":25,"n_cols":6,"rows_kept":25,"merged":[[7,0,7,1],[8,0,8,1],[9,0,9,1],[10,0,10,1],[11,0,11,1],[12,0,12,1],[13,0,13,1],[14,0,14,1],[24,0,24,1]]}
["SRC #24: Provider Network Enhancements",{"$nulls":4},"Back to Respondent Information"]
[]
["Item","Score"]
["Total Points Possible:",{"$f":"SUM(B20:B24)","v":100}]
["Points Earned:",{"$f":"C25","v":0}]
["Percent:",{"$f":"(IFERROR(B5/B4,0))","v":{"v":0,"d":"0%"}}]
[]
["State",null,"Florida"]
["Line of Business",null,"Medicaid"]
["Percent of dentists in proposed network…"]
["With special needs dentistry training"]
["Who are Black "]
["Who are Hispanic "]
["Who fluently speak English and Spanish"]
["Who practice in an accredited patient-centered medical home (PCMH) or\npatient-centered dental home (PCDH)"]
[]
["Scores:"]
[]
["Evaluation Criteria for Dentists","Points Possible","Points Earned"]
["Trained in special needs dentistry",29,{"$f":"IF(C11>=0.75,B20,IF(C11>=0.5,B20*0.75,IF(C11>=0.1,B20*0.5,IF(C11>=0.01,B20*0.25,0))))","v":0}]
["Black",14,{"$f":"IF(C12>=0.04, B21, 0)","v":0}]
["Hispanic ",14,{"$f":"IF(C13>=0.25,14,IF(C13>=0.1,8,IF(C13>=0.05,5,IF(C13>=0.01,3,0))))","v":0}]
["Fluently speak English and Spanish",14,{"$f":"IF(C14>=0.2,14,IF(C14>=0.1,9,IF(C14>=0.05,6,IF(C14>=0.01,3,0))))","v":0}]
["Practice in a PCMH or PCDH",29,{"$f":"IF(C15>=0.5,29,IF(C15>=0.25,18,IF(C15>=0.01,4.5,0)))","v":0}]
["Total Points Earned:",null,{"$f":"SUM(C20:C24)","v":0}]

{"sheet":"Compliance","index":6,"n_rows":151,"n_cols":62,"rows_kept":151,"merged":[[0,0,0,2],[0,4,0,5],[2,0,2,1],[2,4,2,5],[3,0,3,1],[4,0,4,1],[6,0,6,17],[6,18,6,35],[6,36,6,53],[7,0,7,17],[7,18,7,35],[7,36,7,53],[8,0,8,5],[8,6,8,11],[8,12,8,17],[8,18,8,23],[8,24,8,29],[8,30,8,35],[8,36,8,41],[8,42,8,47],[8,48,8,53],[9,0,9,5],[9,6,9,11],[9,12,9,17],[9,18,9,23],[9,24,9,29],[9,30,9,35],[9,36,9,41],[9,42,9,47],[9,48,9,53],[10,2,10,3],[10,8,10,9],[10,14,10,15],[10,20,10,21],[10,26,10,27],[10,32,10,33],[10,38,10,39],[10,44,10,45],[10,50,10,51],[11,2,11,3],[11,8,11,9],[11,14,11,15],[11,20,11,21],[11,26,11,27],[11,32,11,33],[11,38,11,39],[11,44,11,45],[11,50,11,51],[12,2,12,3],[12,8,12,9],[12,14,12,15],[12,20,12,21],[12,26,12,27],[12,32,12,33],[12,38,12,39],[12,44,12,45],[12,50,12,51],[13,2,13,3],[13,8,13,9],[13,14,13,15],[13,20,13,21],[13,26,13,27],[13,32,13,33],[13,38,13,39],[13,44,13,45],[13,50,13,51],[14,2,14,3],[14,8,14,9],[14,14,14,15],[14,20,14,21],[14,26,14,27],[14,32,14,33],[14,38,14,39],[14,44,14,45],[14,50,14,51],[15,2,15,3],[15,8,15,9],[15,14,15,15],[15,20,15,21],[15,26,15,27],[15,32,15,33],[15,38,15,39],[15,44,15,45],[15,50,15,51],[16,2,16,3],[16,8,16,9],[16,14,16,15],[16,20,16,21],[16,26,16,27],[16,32,16,33],[16,38,16,39],[16,44,16,45],[16,50,16,51],[17,2,17,3],[17,8,17,9],[17,14,17,15],[17,20,17,21],[17,26,17,27],[17,32,17,33],[17,38,17,39],[17,44,17,45],[17,50,17,51],[18,2,18,3],[18,8,18,9],[18,14,18,15],[18,20,18,21],[18,26,18,27],[18,32,18,33],[18,38,18,39],[18,44,18,45],[18,50,18,51],[19,2,19,3],[19,8,19,9],[19,14,19,15],[19,20,19,21],[19,26,19,27],[19,32,19,33],[19,38,19,39],[19,44,19,45],[19,50,19,51],[20,2,20,3],[20,8,20,9],[20,14,20,15],[20,20,20,21],[20,26,20,27],[20,32,20,33],[20,38,20,39],[20,44,20,45],[20,50,20,51],[21,2,21,3],[21,8,21,9],[21,14,21,15],[21,20,21,21],[21,26,21,27],[21,32,21,33],[21,38,21,39],[21,44,21,45],[21,50,21,51],[22,2,22,3],[22,8,22,9],[22,14,22,15],[22,20,22,21],[22,26,22,27],[22,32,22,33],[22,38,22,39],[22,44,22,45],[22,50,22,51],[23,2,23,3],[23,8,23,9],[23,14,23,15],[23,20,23,21],[23,26,23,27],[23,32,23,33],[23,38,23,39],[23,44,23,45],[23,50,23,51],[24,2,24,3],[24,8,24,9],[24,14,24,15],[24,20,24,21],[24,26,24,27],[24,32,24,33],[24,38,24,39],[24,44,24,45],[24,50,24,51],[25,2,25,3],[25,8,25,9],[25,14,25,15],[25,20,25,21],[25,26,25,27],[25,32,25,33],[25,38,25,39],[25,44,25,45],[25,50,25,51],[26,2,26,3],[26,8,26,9],[26,14,26,15],[26,20,26,21],[26,26,26,27],[26,32,26,33],[26,38,26,39],[26,44,26,45],[26,50,26,51],[27,2,27,3],[27,8,27,9],[27,14,27,15],[27,20,27,21],[27,26,27,27],[27,32,27,33],[27,38,27,39],[27,44,27,45],[27,50,27,51],[28,2,28,3],[28,8,28,9],[28,14,28,15],[28,20,28,21],[28,26,28,27],[28,32,28,33],[28,38,28,39],[28,44,28,45],[28,50,28,51],[29,2,29,3],[29,8,29,9],[29,14,29,15],[29,20,29,21],[29,26,29,27],[29,32,29,33],[29,38,29,39],[29,44,29,45],[29,50,29,51],[30,2,30,3],[30,8,30,9],[30,14,30,15],[30,20,30,21],[30,26,30,27],[30,32,30,33],[30,38,30,39],[30,44,30,45],[30,50,30,51],[31,2,31,3],[31,8,31,9],[31,14,31,15],[31,20,31,21],[31,26,31,27],[31,32,31,33],[31,38,31,39],[31,44,31,45],[31,50,31,51],[32,2,32,3],[32,8,32,9],[32,14,32,15],[32,20,32,21],[32,26,32,27],[32,32,32,33],[32,38,32,39],[32,44,32,45],[32,50,32,51],[33,2,33,3],[33,8,33,9],[33,14,33,15],[33,20,33,21],[33,26,33,27],[33,32,33,33],[33,38,33,39],[33,44,33,45],[33,50,33,51],[34,2,34,3],[34,8,34,9],[34,14,34,15],[34,20,34,21],[34,26,34,27],[34,32,34,33],[34,38,34,39],[34,44,34,45],[34,50,34,51],[35,2,35,3],[35,8,35,9],[35,14,35,15],[35,20,35,21],[35,26,35,27],[35,32,35,33],[35,38,35,39],[35,44,35,45],[35,50,35,51],[36,2,36,3],[36,8,36,9],[36,14,36,15],[36,20,36,21],[36,26,36,27],[36,32,36,33],[36,38,36,39],[36,44,36,45],[36,50,36,51],[37,2,37,3],[37,8,37,9],[37,14,37,15],[37,20,37,21],[37,26,37,27],[37,32,37,33],[37,38,37,39],[37,44,37,45],[37,50,37,51],[38,2,38,3],[38,8,38,9],[38,14,38,15],[38,20,38,21],[38,26,38,27],[38,32,38,33],[38,38,38,39],[38,44,38,45],[38,50,38,51],[39,2,39,3],[39,8,39,9],[39,14,39,15],[39,20,39,21],[39,26,39,27],[39,32,39,33],[39,38,39,39],[39,44,39,45],[39,50,39,51],[40,2,40,3],[40,8,40,9],[40,14,40,15],[40,20,40,21],[40,26,40,27],[40,32,40,33],[40,38,40,39],[40,44,40,45],[40,50,40,51],[41,2,41,3],[41,8,41,9],[41,14,41,15],[41,20,41,21],[41,26,41,27],[41,32,41,33],[41,38,41,39],[41,44,41,45],[41,50,41,51],[42,2,42,3],[42,8,42,9],[42,14,42,15],[42,20,42,21],[42,26,42,27],[42,32,42,33],[42,38,42,39],[42,44,42,45],[42,50,42,51],[43,2,43,3],[43,8,43,9],[43,14,43,15],[43,20,43,21],[43,26,43,27],[43,32,43,33],[43,38,43,39],[43,44,43,45],[43,50,43,51],[44,2,44,3],[44,8,44,9],[44,14,44,15],[44,20,44,21],[44,26,44,27],[44,32,44,33],[44,38,44,39],[44,44,44,45],[44,50,44,51],[45,2,45,3],[45,8,45,9],[45,14,45,15],[45,20,45,21],[45,26,45,27],[45,32,45,33],[45,38,45,39],[45,44,45,45],[45,50,45,51],[46,2,46,3],[46,8,46,9],[46,14,46,15],[46,20,46,21],[46,26,46,27],[46,32,46,33],[46,38,46,39],[46,44,46,45],[46,50,46,51],[47,2,47,3],[47,8,47,9],[47,14,47,15],[47,20,47,21],[47,26,47,27],[47,32,47,33],[47,38,47,39],[47,44,47,45],[47,50,47,51],[48,2,48,3],[48,8,48,9],[48,14,48,15],[48,20,48,21],[48,26,48,27],[48,32,48,33],[48,38,48,39],[48,44,48,45],[48,50,48,51],[49,2,49,3],[49,8,49,9],[49,14,49,15],[49,20,49,21],[49,26,49,27],[49,32,49,33],[49,38,49,39],[49,44,49,45],[49,50,49,51],[50,2,50,3],[50,8,50,9],[50,14,50,15],[50,20,50,21],[50,26,50,27],[50,32,50,33],[50,38,50,39],[50,44,50,45],[50,50,50,51],[51,2,51,3],[51,8,51,9],[51,14,51,15],[51,20,51,21],[51,26,51,27],[51,32,51,33],[51,38,51,39],[51,44,51,45],[51,50,51,51],[52,2,52,3],[52,8,52,9],[52,14,52,15],[52,20,52,21],[52,26,52,27],[52,32,52,33],[52,38,52,39],[52,44,52,45],[52,50,52,51],[53,2,53,3],[53,8,53,9],[53,14,53,15],[53,20,53,21],[53,26,53,27],[53,32,53,33],[53,38,53,39],[53,44,53,45],[53,50,53,51],[54,2,54,3],[54,8,54,9],[54,14,54,15],[54,20,54,21],[54,26,54,27],[54,32,54,33],[54,38,54,39],[54,44,54,45],[54,50,54,51],[55,2,55,3],[55,8,55,9],[55,14,55,15],[55,20,55,21],[55,26,55,27],[55,32,55,33],[55,38,55,39],[55,44,55,45],[55,50,55,51],[56,2,56,3],[56,8,56,9],[56,14,56,15],[56,20,56,21],[56,26,56,27],[56,32,56,33],[56,38,56,39],[56,44,56,45],[56,50,56,51],[57,2,57,3],[57,8,57,9],[57,14,57,15],[57,20,57,21],[57,26,57,27],[57,32,57,33],[57,38,57,39],[57,44,57,45],[57,50,57,51],[58,2,58,3],[58,8,58,9],[58,14,58,15],[58,20,58,21],[58,26,58,27],[58,32,58,33],[58,38,58,39],[58,44,58,45],[58,50,58,51],[59,2,59,3],[59,8,59,9],[59,14,59,15],[59,20,59,21],[59,26,59,27],[59,32,59,33],[59,38,59,39],[59,44,59,45],[59,50,59,51],[60,2,60,3],[60,8,60,9],[60,14,60,15],[60,20,60,21],[60,26,60,27],[60,32,60,33],[60,38,60,39],[60,44,60,45],[60,50,60,51],[61,2,61,3],[61,8,61,9],[61,14,61,15],[61,20,61,21],[61,26,61,27],[61,32,61,33],[61,38,61,39],[61,44,61,45],[61,50,61,51],[62,2,62,3],[62,8,62,9],[62,14,62,15],[62,20,62,21],[62,26,62,27],[62,32,62,33],[62,38,62,39],[62,44,62,45],[62,50,62,51],[63,2,63,3],[63,8,63,9],[63,14,63,15],[63,20,63,21],[63,26,63,27],[63,32,63,33],[63,38,63,39],[63,44,63,45],[63,50,63,51],[64,2,64,3],[64,8,64,9],[64,14,64,15],[64,20,64,21],[64,26,64,27],[64,32,64,33],[64,38,64,39],[64,44,64,45],[64,50,64,51],[65,2,65,3],[65,8,65,9],[65,14,65,15],[65,20,65,21],[65,26,65,27],[65,32,65,33],[65,38,65,39],[65,44,65,45],[65,50,65,51],[66,2,66,3],[66,8,66,9],[66,14,66,15],[66,20,66,21],[66,26,66,27],[66,32,66,33],[66,38,66,39],[66,44,66,45],[66,50,66,51],[67,2,67,3],[67,8,67,9],[67,14,67,15],[67,20,67,21],[67,26,67,27],[67,32,67,33],[67,38,67,39],[67,44,67,45],[67,50,67,51],[68,2,68,3],[68,8,68,9],[68,14,68,15],[68,20,68,21],[68,26,68,27],[68,32,68,33],[68,38,68,39],[68,44,68,45],[68,50,68,51],[69,2,69,3],[69,8,69,9],[69,14,69,15],[69,20,69,21],[69,26,69,27],[69,32,69,33],[69,38,69,39],[69,44,69,45],[69,50,69,51],[70,2,70,3],[70,8,70,9],[70,14,70,15],[70,20,70,21],[70,26,70,27],[70,32,70,33],[70,38,70,39],[70,44,70,45],[70,50,70,51],[71,0,71,4],[71,6,71,10],[71,12,71,16],[71,18,71,22],[71,24,71,28],[71,30,71,34],[71,36,71,40],[71,42,71,46],[71,48,71,52],[72,0,72,4],[72,6,72,10],[72,12,72,16],[72,18,72,22],[72,24,72,28],[72,30,72,34],[72,36,72,40],[72,42,72,46],[72,48,72,52],[73,0,73,5],[73,6,73,11],[73,12,73,17],[73,18,73,23],[73,24,73,29],[73,30,73,35],[73,36,73,41],[73,42,73,47],[73,48,73,53],[74,2,74,3],[74,8,74,9],[74,14,74,15],[74,20,74,21],[74,26,74,27],[74,32,74,33],[74,38,74,39],[74,44,74,45],[74,50,74,51],[75,2,75,3],[75,8,75,9],[75,14,75,15],[75,20,75,21],[75,26,75,27],[75,32,75,33],[75,38,75,39],[75,44,75,45],[75,50,75,51],[76,2,76,3],[76,8,76,9],[76,14,76,15],[76,20,76,21],[76,26,76,27],[76,32,76,33],[76,38,76,39],[76,44,76,45],[76,50,76,51],[77,2,77,3],[77,8,77,9],[77,14,77,15],[77,20,77,21],[77,26,77,27],[77,32,77,33],[77,38,77,39],[77,44,77,45],[77,50,77,51],[78,2,78,3],[78,8,78,9],[78,14,78,15],[78,20,78,21],[78,26,78,27],[78,32,78,33],[78,38,78,39],[78,44,78,45],[78,50,78,51],[79,2,79,3],[79,8,79,9],[79,14,79,15],[79,20,79,21],[79,26,79,27],[79,32,79,33],[79,38,79,39],[79,44,79,45],[79,50,79,51],[80,0,80,5],[80,6,80,11],[80,12,80,17],[80,18,80,23],[80,24,80,29],[80,30,80,35],[80,36,80,41],[80,42,80,47],[80,48,80,53],[81,2,81,3],[81,8,81,9],[81,14,81,15],[81,20,81,21],[81,26,81,27],[81,32,81,33],[81,38,81,39],[81,44,81,45],[81,50,81,51],[82,2,82,3],[82,8,82,9],[82,14,82,15],[82,20,82,21],[82,26,82,27],[82,32,82,33],[82,38,82,39],[82,44,82,45],[82,50,82,51],[83,2,83,3],[83,8,83,9],[83,14,83,15],[83,20,83,21],[83,26,83,27],[83,32,83,33],[83,38,83,39],[83,44,83,45],[83,50,83,51],[84,2,84,3],[84,8,84,9],[84,14,84,15],[84,20,84,21],[84,26,84,27],[84,32,84,33],[84,38,84,39],[84,44,84,45],[84,50,84,51],[85,2,85,3],[85,8,85,9],[85,14,85,15],[85,20,85,21],[85,26,85,27],[85,32,85,33],[85,38,85,39],[85,44,85,45],[85,50,85,51],[86,2,86,3],[86,8,86,9],[86,14,86,15],[86,20,86,21],[86,26,86,27],[86,32,86,33],[86,38,86,39],[86,44,86,45],[86,50,86,51],[87,2,87,3],[87,8,87,9],[87,14,87,15],[87,20,87,21],[87,26,87,27],[87,32,87,33],[87,38,87,39],[87,44,87,45],[87,50,87,51],[88,2,88,3],[88,8,88,9],[88,14,88,15],[88,20,88,21],[88,26,88,27],[88,32,88,33],[88,38,88,39],[88,44,88,45],[88,50,88,51],[89,2,89,3],[89,8,89,9],[89,14,89,15],[89,20,89,21],[89,26,89,27],[89,32,89,33],[89,38,89,39],[89,44,89,45],[89,50,89,51],[90,2,90,3],[90,8,90,9],[90,14,90,15],[90,20,90,21],[90,26,90,27],[90,32,90,33],[90,38,90,39],[90,44,90,45],[90,50,90,51],[91,2,91,3],[91,8,91,9],[91,14,91,15],[91,20,91,21],[91,26,91,27],[91,32,91,33],[91,38,91,39],[91,44,91,45],[91,50,91,51],[92,2,92,3],[92,8,92,9],[92,14,92,15],[92,20,92,21],[92,26,92,27],[92,32,92,33],[92,38,92,39],[92,44,92,45],[92,50,92,51],[93,2,93,3],[93,8,93,9],[93,14,93,15],[93,20,93,21],[93,26,93,27],[93,32,93,33],[93,38,93,39],[93,44,93,45],[93,50,93,51],[94,2,94,3],[94,8,94,9],[94,14,94,15],[94,20,94,21],[94,26,94,27],[94,32,94,33],[94,38,94,39],[94,44,94,45],[94,50,94,51],[95,2,95,3],[95,8,95,9],[95,14,95,15],[95,20,95,21],[95,26,95,27],[95,32,95,33],[95,38,95,39],[95,44,95,45],[95,50,95,51],[96,2,96,3],[96,8,96,9],[96,14,96,15],[96,20,96,21],[96,26,96,27],[96,32,96,33],[96,38,96,39],[96,44,96,45],[96,50,96,51],[97,2,97,3],[97,8,97,9],[97,14,97,15],[97,20,97,21],[97,26,97,27],[97,32,97,33],[97,38,97,39],[97,44,97,45],[97,50,97,51],[98,2,98,3],[98,8,98,9],[98,14,98,15],[98,20,98,21],[98,26,98,27],[98,32,98,33],[98,38,98,39],[98,44,98,45],[98,50,98,51],[99,2,99,3],[99,8,99,9],[99,14,99,15],[99,20,99,21],[99,26,99,27],[99,32,99,33],[99,38,99,39],[99,44,99,45],[99,50,99,51],[100,2,100,3],[100,8,100,9],[100,14,100,15],[100,20,100,21],[100,26,100,27],[100,32,100,33],[100,38,100,39],[100,44,100,45],[100,50,100,51],[101,2,101,3],[101,8,101,9],[101,14,101,15],[101,20,101,21],[101,26,101,27],[101,32,101,33],[101,38,101,39],[101,44,101,45],[101,50,101,51],[105,0,105,2],[107,0,107,1],[107,5,107,6],[108,0,111,1],[108,5,108,6],[109,5,109,6],[110,5,110,6],[111,2,111,6],[112,0,115,1],[112,5,112,6],[113,5,113,6],[114,5,114,6],[115,2,115,6],[116,0,119,1],[116,5,116,6],[117,5,117,6],[118,5,118,6],[119,2,119,6],[120,0,120,6]]}
["SRC #27: Compliance History - Part 1",{"$nulls":3},"Back to Respondent Information"]
[]
["Item",null,"Score",null,"Go to Scoring Table"]
["Total Points Possible Part 1:",null,75]
["Points Earned Part 1:",null,{"$f":"H121","v":0},null,"I attest that the information entered into this sheet is complete and accurate.",{"$nulls":56},"Yes"]
[{"$nulls":61},"No"]
[{"$f":"'Respondent Information'!C7","v":0},{"$nulls":17},{"$f":"'Respondent Information'!C10","v":0},{"$nulls":17},{"$f":"'Respondent Information'!C13","v":0}]
[{"$f":"'Respondent Information'!E7","v":0},{"$nulls":17},{"$f":"'Respondent Information'!E10","v":0},{"$nulls":17},{"$f":"'Respondent Information'!E13","v":0}]
[{"$f":"'Respondent Information'!G6","v":0},{"$nulls":5},{"$f":"'Respondent Information'!I6","v":0},{"$nulls":5},{"$f":"'Respondent Information'!K6","v":0},{"$nulls":5},{"$f":"'Respondent Information'!G10","v":0},{"$nulls":5},{"$f":"'Respondent Information'!I10","v":0},{"$nulls":5},{"$f":"'Respondent Information'!K10","v":0},{"$nulls":5},{"$f":"'Respondent Information'!G13","v":0},{"$nulls":5},{"$f":"'Respondent Information'!I13","v":0},{"$nulls":5},{"$f":"'Respondent Information'!K13","v":0}]
["Liquidated Damages",{"$nulls":5},"Liquidated Damages",{"$nulls":5},"Liquidated Damages",{"$nulls":5},"Liquidated Damages",{"$nulls":5},"Liquidated Damages",{"$nulls":5},"Liquidated Damages",{"$nulls":5},"Liquidated Damages",{"$nulls":5},"Liquidated Damages",{"$nulls":5},"Liquidated Damages"]
["#","Administrative or Access Issue","Adminstrative or Covered Service Type",null,"Date Imposed","Imposed Amount","#","Administrative or Access Issue","Adminstrative or Covered Service Type",null,"Date Imposed","Imposed Amount","#","Administrative or Access Issue","Adminstrative or Covered Service Type",null,"Date Imposed","Imposed Amount","#","Administrative or Access Issue","Adminstrative or Covered Service Type",null,"Date Imposed","Imposed Amount","#","Administrative or Access Issue","Adminstrative or Covered Service Type",null,"Date Imposed","Imposed Amount","#","Administrative or Access Issue","Adminstrative or Covered Service Type",null,"Date Imposed","Imposed Amount","#","Administrative or Access Issue","Adminstrative or Covered Service Type",null,"Date Imposed","Imposed Amount","#","Administrative or Access Issue","Adminstrative or Covered Service Type",null,"Date Imposed","Imposed Amount","#","Administrative or Access Issue","Adminstrative or Covered Service Type",null,"Date Imposed","Imposed Amount"]
[1,{"$nulls":5},1,{"$nulls":5},1,{"$nulls":5},1,{"$nulls":5},1,{"$nulls":5},1,{"$nulls":5},1,{"$nulls":5},1,{"$nulls":5},1]
[2,{"$nulls":5},2,{"$nulls":5},2,{"$nulls":5},2,{"$nulls":5},2,{"$nulls":5},2,{"$nulls":5},2,{"$nulls":5},2,{"$nulls":5},2]
[3,{"$nulls":5},3,{"$nulls":5},3,{"$nulls":5},3,{"$nulls":5},3,{"$nulls":5},3,{"$nulls":5},3,{"$nulls":5},3,{"$nulls":5},3]
[4,{"$nulls":5},4,{"$nulls":5},4,{"$nulls":5},4,{"$nulls":5},4,{"$nulls":5},4,{"$nulls":5},4,{"$nulls":5},4,{"$nulls":5},4]
[5,{"$nulls":5},5,{"$nulls":5},5,{"$nulls":5},5,{"$nulls":5},5,{"$nulls":5},5,{"$nulls":5},5,{"$nulls":5},5,{"$nulls":5},5]
[6,{"$nulls":5},6,{"$nulls":5},6,{"$nulls":5},6,{"$nulls":5},6,{"$nulls":5},6,{"$nulls":5},6,{"$nulls":5},6,{"$nulls":5},6]
[7,{"$nulls":5},7,{"$nulls":5},7,{"$nulls":5},7,{"$nulls":5},7,{"$nulls":5},7,{"$nulls":5},7,{"$nulls":5},7,{"$nulls":5},7]
[8,{"$nulls":5},8,{"$nulls":5},8,{"$nulls":5},8,{"$nulls":5},8,{"$nulls":5},8,{"$nulls":5},8,{"$nulls":5},8,{"$nulls":5},8]
[9,{"$nulls":5},9,{"$nulls":5},9,{"$nulls":5},9,{"$nulls":5},9,{"$nulls":5},9,{"$nulls":5},9,{"$nulls":5},9,{"$nulls":5},9]
[10,{"$nulls":5},10,{"$nulls":5},10,{"$nulls":5},10,{"$nulls":5},10,{"$nulls":5},10,{"$nulls":5},10,{"$nulls":5},10,{"$nulls":5},10]
[11,{"$nulls":5},11,{"$nulls":5},11,{"$nulls":5},11,{"$nulls":5},11,{"$nulls":5},11,{"$nulls":5},11,{"$nulls":5},11,{"$nulls":5},11]
[12,{"$nulls":5},12,{"$nulls":5},12,{"$nulls":5},12,{"$nulls":5},12,{"$nulls":5},12,{"$nulls":5},12,{"$nulls":5},12,{"$nulls":5},12]
[13,{"$nulls":5},13,{"$nulls":5},13,{"$nulls":5},13,{"$nulls":5},13,{"$nulls":5},13,{"$nulls":5},13,{"$nulls":5},13,{"$nulls":5},13]
[14,{"$nulls":5},14,{"$nulls":5},14,{"$nulls":5},14,{"$nulls":5},14,{"$nulls":5},14,{"$nulls":5},14,{"$nulls":5},14,{"$nulls":5},14]
[15,{"$nulls":5},15,{"$nulls":5},15,{"$nulls":5},15,{"$nulls":5},15,{"$nulls":5},15,{"$nulls":5},15,{"$nulls":5},15,{"$nulls":5},15]
[16,{"$nulls":5},16,{"$nulls":5},16,{"$nulls":5},16,{"$nulls":5},16,{"$nulls":5},16,{"$nulls":5},16,{"$nulls":5},16,{"$nulls":5},16]
[17,{"$nulls":5},17,{"$nulls":5},17,{"$nulls":5},17,{"$nulls":5},17,{"$nulls":5},17,{"$nulls":5},17,{"$nulls":5},17,{"$nulls":5},17]
[18,{"$nulls":5},18,{"$nulls":5},18,{"$nulls":5},18,{"$nulls":5},18,{"$nulls":5},18,{"$nulls":5},18,{"$nulls":5},18,{"$nulls":5},18]
[19,{"$nulls":5},19,{"$nulls":5},19,{"$nulls":5},19,{"$nulls":5},19,{"$nulls":5},19,{"$nulls":5},19,{"$nulls":5},19,{"$nulls":5},19]
[20,{"$nulls":5},20,{"$nulls":5},20,{"$nulls":5},20,{"$nulls":5},20,{"$nulls":5},20,{"$nulls":5},20,{"$nulls":5},20,{"$nulls":5},20]
[21,{"$nulls":5},21,{"$nulls":5},21,{"$nulls":5},21,{"$nulls":5},21,{"$nulls":5},21,{"$nulls":5},21,{"$nulls":5},21,{"$nulls":5},21]
[22,{"$nulls":5},22,{"$nulls":5},22,{"$nulls":5},22,{"$nulls":5},22,{"$nulls":5},22,{"$nulls":5},22,{"$nulls":5},22,{"$nulls":5},22]
[23,{"$nulls":5},23,{"$nulls":5},23,{"$nulls":5},23,{"$nulls":5},23,{"$nulls":5},23,{"$nulls":5},23,{"$nulls":5},23,{"$nulls":5},23]
[24,{"$nulls":5},24,{"$nulls":5},24,{"$nulls":5},24,{"$nulls":5},24,{"$nulls":5},24,{"$nulls":5},24,{"$nulls":5},24,{"$nulls":5},24]
[25,{"$nulls":5},25,{"$nulls":5},25,{"$nulls":5},25,{"$nulls":5},25,{"$nulls":5},25,{"$nulls":5},25,{"$nulls":5},25,{"$nulls":5},25]
[26,{"$nulls":5},26,{"$nulls":5},26,{"$nulls":5},26,{"$nulls":5},26,{"$nulls":5},26,{"$nulls":5},26,{"$nulls":5},26,{"$nulls":5},26]
[27,{"$nulls":5},27,{"$nulls":5},27,{"$nulls":5},27,{"$nulls":5},27,{"$nulls":5},27,{"$nulls":5},27,{"$nulls":5},27,{"$nulls":5},27]
[28,{"$nulls":5},28,{"$nulls":5},28,{"$nulls":5},28,{"$nulls":5},28,{"$nulls":5},28,{"$nulls":5},28,{"$nulls":5},28,{"$nulls":5},28]
[29,{"$nulls":5},29,{"$nulls":5},29,{"$nulls":5},29,{"$nulls":5},29,{"$nulls":5},29,{"$nulls":5},29,{"$nulls":5},29,{"$nulls":5},29]
[30,{"$nulls":5},30,{"$nulls":5},30,{"$nulls":5},30,{"$nulls":5},30,{"$nulls":5},30,{"$nulls":5},30,{"$nulls":5},30,{"$nulls":5},30]
[31,{"$nulls":5},31,{"$nulls":5},31,{"$nulls":5},31,{"$nulls":5},31,{"$nulls":5},31,{"$nulls":5},31,{"$nulls":5},31,{"$nulls":5},31]
[32,{"$nulls":5},32,{"$nulls":5},32,{"$nulls":5},32,{"$nulls":5},32,{"$nulls":5},32,{"$nulls":5},32,{"$nulls":5},32,{"$nulls":5},32]
[33,{"$nulls":5},33,{"$nulls":5},33,{"$nulls":5},33,{"$nulls":5},33,{"$nulls":5},33,{"$nulls":5},33,{"$nulls":5},33,{"$nulls":5},33]
[34,{"$nulls":5},34,{"$nulls":5},34,{"$nulls":5},34,{"$nulls":5},34,{"$nulls":5},34,{"$nulls":5},34,{"$nulls":5},34,{"$nulls":5},34]
[35,{"$nulls":5},35,{"$nulls":5},35,{"$nulls":5},35,{"$nulls":5},35,{"$nulls":5},35,{"$nulls":5},35,{"$nulls":5},35,{"$nulls":5},35]
[36,{"$nulls":5},36,{"$nulls":5},36,{"$nulls":5},36,{"$nulls":5},36,{"$nulls":5},36,{"$nulls":5},36,{"$nulls":5},36,{"$nulls":5},36]
[37,{"$nulls":5},37,{"$nulls":5},37,{"$nulls":5},37,{"$nulls":5},37,{"$nulls":5},37,{"$nulls":5},37,{"$nulls":5},37,{"$nulls":5},37]
[38,{"$nulls":5},38,{"$nulls":5},38,{"$nulls":5},38,{"$nulls":5},38,{"$nulls":5},38,{"$nulls":5},38,{"$nulls":5},38,{"$nulls":5},38]
[39,{"$nulls":5},39,{"$nulls":5},39,{"$nulls":5},39,{"$nulls":5},39,{"$nulls":5},39,{"$nulls":5},39,{"$nulls":5},39,{"$nulls":5},39]
[40,{"$nulls":5},40,{"$nulls":5},40,{"$nulls":5},40,{"$nulls":5},40,{"$nulls":5},40,{"$nulls":5},40,{"$nulls":5},40,{"$nulls":5},40]
[41,{"$nulls":5},41,{"$nulls":5},41,{"$nulls":5},41,{"$nulls":5},41,{"$nulls":5},41,{"$nulls":5},41,{"$nulls":5},41,{"$nulls":5},41]
[42,{"$nulls":5},42,{"$nulls":5},42,{"$nulls":5},42,{"$nulls":5},42,{"$nulls":5},42,{"$nulls":5},42,{"$nulls":5},42,{"$nulls":5},42]
[43,{"$nulls":5},43,{"$nulls":5},43,{"$nulls":5},43,{"$nulls":5},43,{"$nulls":5},43,{"$nulls":5},43,{"$nulls":5},43,{"$nulls":5},43]
[44,{"$nulls":5},44,{"$nulls":5},44,{"$nulls":5},44,{"$nulls":5},44,{"$nulls":5},44,{"$nulls":5},44,{"$nulls":5},44,{"$nulls":5},44]
[45,{"$nulls":5},45,{"$nulls":5},45,{"$nulls":5},45,{"$nulls":5},45,{"$nulls":5},45,{"$nulls":5},45,{"$nulls":5},45,{"$nulls":5},45]
[46,{"$nulls":5},46,{"$nulls":5},46,{"$nulls":5},46,{"$nulls":5},46,{"$nulls":5},46,{"$nulls":5},46,{"$nulls":5},46,{"$nulls":5},46]
[47,{"$nulls":5},47,{"$nulls":5},47,{"$nulls":5},47,{"$nulls":5},47,{"$nulls":5},47,{"$nulls":5},47,{"$nulls":5},47,{"$nulls":5},47]
[48,{"$nulls":5},48,{"$nulls":5},48,{"$nulls":5},48,{"$nulls":5},48,{"$nulls":5},48,{"$nulls":5},48,{"$nulls":5},48,{"$nulls":5},48]
[49,{"$nulls":5},49,{"$nulls":5},49,{"$nulls":5},49,{"$nulls":5},49,{"$nulls":5},49,{"$nulls":5},49,{"$nulls":5},49,{"$nulls":5},49]
[50,{"$nulls":5},50,{"$nulls":5},50,{"$nulls":5},50,{"$nulls":5},50,{"$nulls":5},50,{"$nulls":5},50,{"$nulls":5},50,{"$nulls":5},50]
[51,{"$nulls":5},51,{"$nulls":5},51,{"$nulls":5},51,{"$nulls":5},51,{"$nulls":5},51,{"$nulls":5},51,{"$nulls":5},51,{"$nulls":5},51]
[52,{"$nulls":5},52,{"$nulls":5},52,{"$nulls":5},52,{"$nulls":5},52,{"$nulls":5},52,{"$nulls":5},52,{"$nulls":5},52,{"$nulls":5},52]
[53,{"$nulls":5},53,{"$nulls":5},53,{"$nulls":5},53,{"$nulls":5},53,{"$nulls":5},53,{"$nulls":5},53,{"$nulls":5},53,{"$nulls":5},53]
[54,{"$nulls":5},54,{"$nulls":5},54,{"$nulls":5},54,{"$nulls":5},54,{"$nulls":5},54,{"$nulls":5},54,{"$nulls":5},54,{"$nulls":5},54]
[55,{"$nulls":5},55,{"$nulls":5},55,{"$nulls":5},55,{"$nulls":5},55,{"$nulls":5},55,{"$nulls":5},55,{"$nulls":5},55,{"$nulls":5},55]
[56,{"$nulls":5},56,{"$nulls":5},56,{"$nulls":5},56,{"$nulls":5},56,{"$nulls":5},56,{"$nulls":5},56,{"$nulls":5},56,{"$nulls":5},56]
[57,{"$nulls":5},57,{"$nulls":5},57,{"$nulls":5},57,{"$nulls":5},57,{"$nulls":5},57,{"$nulls":5},57,{"$nulls":5},57,{"$nulls":5},57]
[58,{"$nulls":5},58,{"$nulls":5},58,{"$nulls":5},58,{"$nulls":5},58,{"$nulls":5},58,{"$nulls":5},58,{"$nulls":5},58,{"$nulls":5},58]
[59,{"$nulls":5},59,{"$nulls":5},59,{"$nulls":5},59,{"$nulls":5},59,{"$nulls":5},59,{"$nulls":5},59,{"$nulls":5},59,{"$nulls":5},59]
[60,{"$nulls":5},60,{"$nulls":5},60,{"$nulls":5},60,{"$nulls":5},60,{"$nulls":5},60,{"$nulls":5},60,{"$nulls":5},60,{"$nulls":5},60]
["Annual Revenue:",{"$nulls":5},"Annual Revenue:",{"$nulls":5},"Annual Revenue:",{"$nulls":5},"Annual Revenue:",{"$nulls":5},"Annual Revenue:",{"$nulls":5},"Annual Revenue:",{"$nulls":5},"Annual Revenue:",{"$nulls":5},"Annual Revenue:",{"$nulls":5},"Annual Revenue:"]
["Percent of Total Revenue:",{"$nulls":4},{"$f":"IFERROR(SUM(F12:F71)/F72,\"--\")","v":"--"},"Percent of Total Revenue:",{"$nulls":4},{"$f":"IFERROR(SUM(L12:L71)/L72,\"--\")","v":"--"},"Percent of Total Revenue:",{"$nulls":4},{"$f":"IFERROR(SUM(R12:R71)/R72,\"--\")","v":"--"},"Percent of Total Revenue:",{"$nulls":4},{"$f":"IFERROR(SUM(X12:X71)/X72,\"--\")","v":"--"},"Percent of Total Revenue:",{"$nulls":4},{"$f":"IFERROR(SUM(AD12:AD71)/AD72,\"--\")","v":"--"},"Percent of Total Revenue:",{"$nulls":4},{"$f":"IFERROR(SUM(AJ12:AJ71)/AJ72,\"--\")","v":"--"},"Percent of Total Revenue:",{"$nulls":4},{"$f":"IFERROR(SUM(AP12:AP71)/AP72,\"--\")","v":"--"},"Percent of Total Revenue:",{"$nulls":4},{"$f":"IFERROR(SUM(AV12:AV71)/AV72,\"--\")","v":"--"},"Percent of Total Revenue:",{"$nulls":4},{"$f":"IFERROR(SUM(BB12:BB71)/BB72,\"--\")","v":"--"}]
["Sanctions",{"$nulls":5},"Sanctions",{"$nulls":5},"Sanctions",{"$nulls":5},"Sanctions",{"$nulls":5},"Sanctions",{"$nulls":5},"Sanctions",{"$nulls":5},"Sanctions",{"$nulls":5},"Sanctions",{"$nulls":5},"Sanctions"]
["#","Administrative or Access Issue","Adminstrative or Covered Service Type",null,"Date Imposed","Imposed Amount","#","Administrative or Access Issue","Adminstrative or Covered Service Type",null,"Date Imposed","Imposed Amount","#","Administrative or Access Issue","Adminstrative or Covered Service Type",null,"Date Imposed","Imposed Amount","#","Administrative or Access Issue","Adminstrative or Covered Service Type",null,"Date Imposed","Imposed Amount","#","Administrative or Access Issue","Adminstrative or Covered Service Type",null,"Date Imposed","Imposed Amount","#","Administrative or Access Issue","Adminstrative or Covered Service Type",null,"Date Imposed","Imposed Amount","#","Administrative or Access Issue","Adminstrative or Covered Service Type",null,"Date Imposed","Imposed Amount","#","Administrative or Access Issue","Adminstrative or Covered Service Type",null,"Date Imposed","Imposed Amount","#","Administrative or Access Issue","Adminstrative or Covered Service Type",null,"Date Imposed","Imposed Amount"]
[1,{"$nulls":5},1,{"$nulls":5},1,{"$nulls":5},1,{"$nulls":5},1,{"$nulls":5},1,{"$nulls":5},1,{"$nulls":5},1,{"$nulls":5},1]
[2,{"$nulls":5},2,{"$nulls":5},2,{"$nulls":5},2,{"$nulls":5},2,{"$nulls":5},2,{"$nulls":5},2,{"$nulls":5},2,{"$nulls":5},2]
[3,{"$nulls":5},3,{"$nulls":5},3,{"$nulls":5},3,{"$nulls":5},3,{"$nulls":5},3,{"$nulls":5},3,{"$nulls":5},3,{"$nulls":5},3]
[4,{"$nulls":5},4,{"$nulls":5},4,{"$nulls":5},4,{"$nulls":5},4,{"$nulls":5},4,{"$nulls":5},4,{"$nulls":5},4,{"$nulls":5},4]
[5,{"$nulls":5},5,{"$nulls":5},5,{"$nulls":5},5,{"$nulls":5},5,{"$nulls":5},5,{"$nulls":5},5,{"$nulls":5},5,{"$nulls":5},5]
["CAPS",{"$nulls":5},"CAPS",{"$nulls":5},"CAPS",{"$nulls":5},"CAPS",{"$nulls":5},"CAPS",{"$nulls":5},"CAPS",{"$nulls":5},"CAPS",{"$nulls":5},"CAPS",{"$nulls":5},"CAPS"]
["#","Administrative or Access Issue","Adminstrative or Covered Service Type",null,"Date Imposed","Imposed Amount","#","Administrative or Access Issue","Adminstrative or Covered Service Type",null,"Date Imposed","Imposed Amount","#","Administrative or Access Issue","Adminstrative or Covered Service Type",null,"Date Imposed","Imposed Amount","#","Administrative or Access Issue","Adminstrative or Covered Service Type",null,"Date Imposed","Imposed Amount","#","Administrative or Access Issue","Adminstrative or Covered Service Type",null,"Date Imposed","Imposed Amount","#","Administrative or Access Issue","Adminstrative or Covered Service Type",null,"Date Imposed","Imposed Amount","#","Administrative or Access Issue","Adminstrative or Covered Service Type",null,"Date Imposed","Imposed Amount","#","Administrative or Access Issue","Adminstrative or Covered Service Type",null,"Date Imposed","Imposed Amount","#","Administrative or Access Issue","Adminstrative or Covered Service Type",null,"Date Imposed","Imposed Amount"]
[1,{"$nulls":5},1,{"$nulls":5},1,{"$nulls":5},1,{"$nulls":5},1,{"$nulls":5},1,{"$nulls":5},1,{"$nulls":5},1,{"$nulls":5},1]
[2,{"$nulls":5},2,{"$nulls":5},2,{"$nulls":5},2,{"$nulls":5},2,{"$nulls":5},2,{"$nulls":5},2,{"$nulls":5},2,{"$nulls":5},2]
[3,{"$nulls":5},3,{"$nulls":5},3,{"$nulls":5},3,{"$nulls":5},3,{"$nulls":5},3,{"$nulls":5},3,{"$nulls":5},3,{"$nulls":5},3]
[4,{"$nulls":5},4,{"$nulls":5},4,{"$nulls":5},4,{"$nulls":5},4,{"$nulls":5},4,{"$nulls":5},4,{"$nulls":5},4,{"$nulls":5},4]
[5,{"$nulls":5},5,{"$nulls":5},5,{"$nulls":5},5,{"$nulls":5},5,{"$nulls":5},5,{"$nulls":5},5,{"$nulls":5},5,{"$nulls":5},5]
[6,{"$nulls":5},6,{"$nulls":5},6,{"$nulls":5},6,{"$nulls":5},6,{"$nulls":5},6,{"$nulls":5},6,{"$nulls":5},6,{"$nulls":5},6]
[7,{"$nulls":5},7,{"$nulls":5},7,{"$nulls":5},7,{"$nulls":5},7,{"$nulls":5},7,{"$nulls":5},7,{"$nulls":5},7,{"$nulls":5},7]
[8,{"$nulls":5},8,{"$nulls":5},8,{"$nulls":5},8,{"$nulls":5},8,{"$nulls":5},8,{"$nulls":5},8,{"$nulls":5},8,{"$nulls":5},8]
[9,{"$nulls":5},9,{"$nulls":5},9,{"$nulls":5},9,{"$nulls":5},9,{"$nulls":5},9,{"$nulls":5},9,{"$nulls":5},9,{"$nulls":5},9]
[10,{"$nulls":5},10,{"$nulls":5},10,{"$nulls":5},10,{"$nulls":5},10,{"$nulls":5},10,{"$nulls":5},10,{"$nulls":5},10,{"$nulls":5},10]
[11,{"$nulls":5},11,{"$nulls":5},11,{"$nulls":5},11,{"$nulls":5},11,{"$nulls":5},11,{"$nulls":5},11,{"$nulls":5},11,{"$nulls":5},11]
[12,{"$nulls":5},12,{"$nulls":5},12,{"$nulls":5},12,{"$nulls":5},12,{"$nulls":5},12,{"$nulls":5},12,{"$nulls":5},12,{"$nulls":5},12]
[13,{"$nulls":5},13,{"$nulls":5},13,{"$nulls":5},13,{"$nulls":5},13,{"$nulls":5},13,{"$nulls":5},13,{"$nulls":5},13,{"$nulls":5},13]
[14,{"$nulls":5},14,{"$nulls":5},14,{"$nulls":5},14,{"$nulls":5},14,{"$nulls":5},14,{"$nulls":5},14,{"$nulls":5},14,{"$nulls":5},14]
[15,{"$nulls":5},15,{"$nulls":5},15,{"$nulls":5},15,{"$nulls":5},15,{"$nulls":5},15,{"$nulls":5},15,{"$nulls":5},15,{"$nulls":5},15]
[16,{"$nulls":5},16,{"$nulls":5},16,{"$nulls":5},16,{"$nulls":5},16,{"$nulls":5},16,{"$nulls":5},16,{"$nulls":5},16,{"$nulls":5},16]
[17,{"$nulls":5},17,{"$nulls":5},17,{"$nulls":5},17,{"$nulls":5},17,{"$nulls":5},17,{"$nulls":5},17,{"$nulls":5},17,{"$nulls":5},17]
[18,{"$nulls":5},18,{"$nulls":5},18,{"$nulls":5},18,{"$nulls":5},18,{"$nulls":5},18,{"$nulls":5},18,{"$nulls":5},18,{"$nulls":5},18]
[19,{"$nulls":5},19,{"$nulls":5},19,{"$nulls":5},19,{"$nulls":5},19,{"$nulls":5},19,{"$nulls":5},19,{"$nulls":5},19,{"$nulls":5},19]
[20,{"$nulls":5},20,{"$nulls":5},20,{"$nulls":5},20,{"$nulls":5},20,{"$nulls":5},20,{"$nulls":5},20,{"$nulls":5},20,{"$nulls":5},20]
[]
[]
[]
["Scores: ",{"$nulls":4},"Back to Top"]
[]
["State",null,"Criteria","Points Available Per Year","Points Earned: Year 1","Points Earned: Year 2",null,"Points Earned: Year 3"]
[{"$f":"A7","v":0},null,"Total Liquidated Damages/ Contract Revenue",1,{"$f":"IF($F$5<>\"Yes\", 0, IF(F73=\"--\",1,IF(F73>=0.002,0,IF(F73>0.00099,0.5,1))))","v":{"v":0,"d":"0.0"}},{"$f":"IF($F$5<>\"Yes\", 0, IF(L73=\"--\",1,IF(L73>=0.002,0,IF(L73>0.00099,0.5,1))))","v":{"v":0,"d":"0.0"}},null,{"$f":"IF($F$5<>\"Yes\", 0, IF(R73=\"--\", 1, IF(R73>=0.002, 0, IF(R73>0.00099, 0.5, 1))))","v":{"v":0,"d":"0.0"}}]
[null,null,"Sanctions",5.3,{"$f":"IF($F$5<>\"Yes\",0,IF(K141>0,0,5.3))","v":{"v":0,"d":"0.0"}},{"$f":"IF($F$5<>\"Yes\", 0, IF(L141>0, 0, 5.3))","v":{"v":0,"d":"0.0"}},null,{"$f":"IF($F$5<>\"Yes\", 0, IF(M141>0, 0, 5.3))","v":{"v":0,"d":"0.0"}}]
[null,null,"CAPS",2,{"$f":"IF($F$5<>\"Yes\", 0, IF(K151>0, 0, 2))","v":{"v":0,"d":"0.0"}},{"$f":"IF($F$5<>\"Yes\", 0, IF(L151>0, 0, 2))","v":{"v":0,"d":"0.0"}},null,{"$f":"IF($F$5<>\"Yes\", 0, IF(M151>0, 0, 2))","v":{"v":0,"d":"0.0"}}]
[null,null,"State Points Earned:",{"$nulls":4},{"$f":"IF(A9=0, 0, SUM(E109:H111))","v":{"v":0,"d":"0.0"}}]
[{"$f":"S7","v":0},null,"Total Liquidated Damages/ Contract Revenue",1,{"$f":"IF($F$5<>\"Yes\", 0, IF(X73=\"--\", 1, IF(X73>=0.002, 0, IF(X73>0.00099, 0.5, 1))))","v":{"v":0,"d":"0.0"}},{"$f":"IF($F$5<>\"Yes\", 0, IF(AD73=\"--\", 1, IF(AD73>=0.002, 0, IF(AD73>0.00099, 0.5, 1))))","v":{"v":0,"d":"0.0"}},null,{"$f":"IF($F$5<>\"Yes\", 0, IF(AJ73=\"--\", 1, IF(AJ73>=0.002, 0, IF(AJ73>0.00099,0.5, 1))))","v":{"v":0,"d":"0.0"}}]
[null,null,"Sanctions",5.3,{"$f":"IF($F$5<>\"Yes\", 0, IF(N141>0, 0, 5.3))","v":{"v":0,"d":"0.0"}},{"$f":"IF($F$5<>\"Yes\", 0,IF(O141>0, 0, 5.3))","v":{"v":0,"d":"0.0"}},null,{"$f":"IF($F$5<>\"Yes\", 0, IF(P141>0, 0, 5.3))","v":{"v":0,"d":"0.0"}}]
[null,null,"CAPS",2,{"$f":"IF($F$5<>\"Yes\", 0, IF(N151>0, 0, 2))","v":{"v":0,"d":"0.0"}},{"$f":"IF($F$5<>\"Yes\", 0,IF(O151>0, 0, 2))","v":{"v":0,"d":"0.0"}},null,{"$f":"IF($F$5<>\"Yes\", 0,IF(P151>0, 0, 2))","v":{"v":0,"d":"0.0"}}]
[null,null,"State Points Earned:",{"$nulls":4},{"$f":"IF(S9=0, 0, SUM(E113:H115))","v":{"v":0,"d":"0.0"}}]
[{"$f":"AK7","v":0},null,"Total Liquidated Damages/ Contract Revenue",1,{"$f":"IF($F$5<>\"Yes\", 0,IF(AP73=\"--\", 1, IF(AP73>=0.002, 0, IF(AP73>0.00099, 0.5, 1))))","v":{"v":0,"d":"0.0"}},{"$f":"IF($F$5<>\"Yes\", 0,IF(AV73=\"--\", 1, IF(AV73>=0.002, 0, IF(AV73>0.00099, 0.5, 1))))","v":{"v":0,"d":"0.0"}},null,{"$f":"IF($F$5<>\"Yes\", 0,IF(BB73=\"--\", 1, IF(BB73>=0.002, 0, IF(BB73>0.00099, 0.5, 1))))","v":{"v":0,"d":"0.0"}}]
[null,null,"Sanctions",5.3,{"$f":"IF($F$5<>\"Yes\", 0,IF(Q141>0, 0, 5.3))","v":{"v":0,"d":"0.0"}},{"$f":"IF($F$5<>\"Yes\", 0, IF(R141>0, 0, 5.3))","v":{"v":0,"d":"0.0"}},null,{"$f":"IF($F$5<>\"Yes\", 0, IF(S141>0, 0,5.3))","v":{"v":0,"d":"0.0"}}]
[null,null,"CAPS",2,{"$f":"IF($F$5<>\"Yes\", 0, IF(Q151>0, 0, 2))","v":{"v":0,"d":"0.0"}},{"$f":"IF($F$5<>\"Yes\", 0, IF(R151>0, 0, 2))","v":{"v":0,"d":"0.0"}},null,{"$f":"IF($F$5<>\"Yes\", 0, IF(S151>0, 0, 2))","v":{"v":0,"d":"0.0"}}]
[null,null,"State Points Earned:",{"$nulls":4},{"$f":"IF(AK9=0, 0, SUM(E117:H119))","v":{"v":0,"d":"0.0"}}]
["Total Points Earned:",{"$nulls":6},{"$f":"IF(OR(F5=\"No\", ISBLANK(F5)), 0, SUM(H112,H116,H120))","v":0}]
{"$rows_empty":12}
[{"$nulls":10},"Sanctions"]
[{"$nulls":10},"State 1 Year 1","State 1 Year 2","State 1 Year 3","State 2 Year 1","State 2 Year 2","State 2 Year 3","State 3 Year 1","State 3 Year 2","State 3 Year 3"]
[null,"Administrative Issue","Access Issue",{"$nulls":7},{"$f":"IF(ISBLANK(F76), 0, 1)","v":0},{"$f":"IF(ISBLANK(L76), 0, 1)","v":0},{"$f":"IF(ISBLANK(R76), 0, 1)","v":0},{"$f":"IF(ISBLANK(X76), 0, 1)","v":0},{"$f":"IF(ISBLANK(AD76), 0, 1)","v":0},{"$f":"IF(ISBLANK(AJ76), 0, 1)","v":0},{"$f":"IF(ISBLANK(AP76), 0, 1)","v":0},{"$f":"IF(ISBLANK(AV76), 0, 1)","v":0},{"$f":"IF(ISBLANK(BB76), 0, 1)","v":0}]
[null,"Fraud and Abuse","Coverage and Authorization of Services",{"$nulls":7},{"$f":"IF(ISBLANK(F77), 0, 1)","v":0},{"$f":"IF(ISBLANK(L77), 0, 1)","v":0},{"$f":"IF(ISBLANK(R77), 0, 1)","v":0},{"$f":"IF(ISBLANK(X77), 0, 1)","v":0},{"$f":"IF(ISBLANK(AD77), 0, 1)","v":0},{"$f":"IF(ISBLANK(AJ77), 0, 1)","v":0},{"$f":"IF(ISBLANK(AP77), 0, 1)","v":0},{"$f":"IF(ISBLANK(AV77), 0, 1)","v":0},{"$f":"IF(ISBLANK(BB77), 0, 1)","v":0}]
[null,"IT/Systems Issue","Care Coordination and/or Case Management",{"$nulls":7},{"$f":"IF(ISBLANK(F78), 0, 1)","v":0},{"$f":"IF(ISBLANK(L78), 0, 1)","v":0},{"$f":"IF(ISBLANK(R78), 0, 1)","v":0},{"$f":"IF(ISBLANK(X78), 0, 1)","v":0},{"$f":"IF(ISBLANK(AD78), 0, 1)","v":0},{"$f":"IF(ISBLANK(AJ78), 0, 1)","v":0},{"$f":"IF(ISBLANK(AP78), 0, 1)","v":0},{"$f":"IF(ISBLANK(AV78), 0, 1)","v":0},{"$f":"IF(ISBLANK(BB78), 0, 1)","v":0}]
[null,"Untimely Reporting","Admissions and Discharge Issues",{"$nulls":7},{"$f":"IF(ISBLANK(F79), 0, 1)","v":0},{"$f":"IF(ISBLANK(L79), 0, 1)","v":0},{"$f":"IF(ISBLANK(R79), 0, 1)","v":0},{"$f":"IF(ISBLANK(X79), 0, 1)","v":0},{"$f":"IF(ISBLANK(AD79), 0, 1)","v":0},{"$f":"IF(ISBLANK(AJ79), 0, 1)","v":0},{"$f":"IF(ISBLANK(AP79), 0, 1)","v":0},{"$f":"IF(ISBLANK(AV79), 0, 1)","v":0},{"$f":"IF(ISBLANK(BB79), 0, 1)","v":0}]
[null,"Inaccurate Reporting","Claims Payment",{"$nulls":7},{"$f":"IF(ISBLANK(F80), 0, 1)","v":0},{"$f":"IF(ISBLANK(L80), 0, 1)","v":0},{"$f":"IF(ISBLANK(R80), 0, 1)","v":0},{"$f":"IF(ISBLANK(X80), 0, 1)","v":0},{"$f":"IF(ISBLANK(AD80), 0, 1)","v":0},{"$f":"IF(ISBLANK(AJ80), 0, 1)","v":0},{"$f":"IF(ISBLANK(AP80), 0, 1)","v":0},{"$f":"IF(ISBLANK(AV80), 0, 1)","v":0},{"$f":"IF(ISBLANK(BB80), 0, 1)","v":0}]
[null,"Subcontractor Related","Networks",{"$nulls":7},{"$f":"SUM(K136:K140)","v":0},0,0,0,0,0,0,0,0]
[]
[]
[{"$nulls":10},"CAPs"]
[{"$nulls":10},"State 1 Year 1","State 1 Year 2","State 1 Year 3","State 2 Year 1","State 2 Year 2","State 2 Year 3","State 3 Year 1","State 3 Year 2","State 3 Year 3"]
[{"$nulls":10},{"$f":"IF(ISBLANK(F83), 0, 1)","v":0},{"$f":"IF(ISBLANK(L83), 0, 1)","v":0},{"$f":"IF(ISBLANK(R83), 0, 1)","v":0},{"$f":"IF(ISBLANK(X83), 0, 1)","v":0},{"$f":"IF(ISBLANK(AD83), 0, 1)","v":0},{"$f":"IF(ISBLANK(AJ83), 0, 1)","v":0},{"$f":"IF(ISBLANK(AP83), 0, 1)","v":0},{"$f":"IF(ISBLANK(AV83), 0, 1)","v":0},{"$f":"IF(ISBLANK(BB83), 0, 1)","v":0}]
[{"$nulls":10},{"$f":"IF(ISBLANK(F84), 0, 1)","v":0},{"$f":"IF(ISBLANK(L84), 0, 1)","v":0},{"$f":"IF(ISBLANK(R84), 0, 1)","v":0},{"$f":"IF(ISBLANK(X84), 0, 1)","v":0},{"$f":"IF(ISBLANK(AD84), 0, 1)","v":0},{"$f":"IF(ISBLANK(AJ84), 0, 1)","v":0},{"$f":"IF(ISBLANK(AP84), 0, 1)","v":0},{"$f":"IF(ISBLANK(AV84), 0, 1)","v":0},{"$f":"IF(ISBLANK(BB84), 0, 1)","v":0}]
[{"$nulls":10},{"$f":"IF(ISBLANK(F85), 0, 1)","v":0},{"$f":"IF(ISBLANK(L85), 0, 1)","v":0},{"$f":"IF(ISBLANK(R85), 0, 1)","v":0},{"$f":"IF(ISBLANK(X85), 0, 1)","v":0},{"$f":"IF(ISBLANK(AD85), 0, 1)","v":0},{"$f":"IF(ISBLANK(AJ85), 0, 1)","v":0},{"$f":"IF(ISBLANK(AP85), 0, 1)","v":0},{"$f":"IF(ISBLANK(AV85), 0, 1)","v":0},{"$f":"IF(ISBLANK(BB85), 0, 1)","v":0}]
[{"$nulls":10},{"$f":"IF(ISBLANK(F86), 0, 1)","v":0},{"$f":"IF(ISBLANK(L86), 0, 1)","v":0},{"$f":"IF(ISBLANK(R86), 0, 1)","v":0},{"$f":"IF(ISBLANK(X86), 0, 1)","v":0},{"$f":"IF(ISBLANK(AD86), 0, 1)","v":0},{"$f":"IF(ISBLANK(AJ86), 0, 1)","v":0},{"$f":"IF(ISBLANK(AP86), 0, 1)","v":0},{"$f":"IF(ISBLANK(AV86), 0, 1)","v":0},{"$f":"IF(ISBLANK(BB86), 0, 1)","v":0}]
[{"$nulls":10},{"$f":"IF(ISBLANK(F102), 0, 1)","v":0},{"$f":"IF(ISBLANK(L102), 0, 1)","v":0},{"$f":"IF(ISBLANK(R102), 0, 1)","v":0},{"$f":"IF(ISBLANK(X102), 0, 1)","v":0},{"$f":"IF(ISBLANK(AD102), 0, 1)","v":0},{"$f":"IF(ISBLANK(AJ102), 0, 1)","v":0},{"$f":"IF(ISBLANK(AP102), 0, 1)","v":0},{"$f":"IF(ISBLANK(AV102), 0, 1)","v":0},{"$f":"IF(ISBLANK(BB102), 0, 1)","v":0}]
[{"$nulls":10},{"$f":"SUM(K146:K150)","v":0},0,0,0,0,0,0,0,0]

{"sheet":"Compliance-Terminations","index":7,"n_rows":142,"n_cols":13,"rows_kept":142,"merged":[[0,0,0,2],[2,0,2,1],[2,4,2,5],[3,0,3,1],[4,0,4,1],[5,0,5,1],[6,0,6,1],[111,0,111,2]]}
["SRC #27 (Continued): Compliance History - Part 2 (Terminations)",{"$nulls":3},"Back to Respondent Information"]
[]
["Item",null,"Score"]
["Total Points Possible Part 2:",null,25]
["Points Earned Part 2:",null,{"$f":"C115","v":0}]
["Total Compliance Points (Part 1 & Part 2):",null,{"$f":"Compliance!C5+'Compliance-Terminations'!C5","v":0}]
["Percent:",null,{"$f":"C6/(Compliance!C4+'Compliance-Terminations'!C4)","v":{"v":0,"d":"0%"}}]
[]
["Contract Name","Contract Type","Termination Type","Date of Action","Client/Other Party Name","Client/Other Party Address","Client/Other Party Phone Number","Reason for Termination","Respondent Affiliates","Respondent Subsidiaries","Parent Organization","Parent Organization's Affiliates","Parent Organization's Subsidiaries"]
{"$rows_empty":102}
["Scores: "]
[]
["Criteria","Points Available","Points Earned"]
["Number of Terminations",25,{"$f":"IF(OR(Compliance!F5=\"No\", ISBLANK(Compliance!F5)),0,IF(Compliance!A9=0,0,IF(E142=0,25,0)))","v":0}]
[]
[]
[]
[]
[]
[{"$nulls":4},{"$f":"IF(ISBLANK(C10), 0, 1)","v":0}]
[{"$nulls":4},0]
[{"$nulls":4},0]
[{"$nulls":4},0]
[{"$nulls":4},0]
[{"$nulls":4},0]
["Partial Termination",{"$nulls":3},0]
["Full Termination",{"$nulls":3},0]
["Withdrawn",{"$nulls":3},0]
["Enrollment Reduction Request",{"$nulls":3},0]
[{"$nulls":4},0]
[{"$nulls":4},0]
[{"$nulls":4},{"$f":"IF(ISBLANK(C99), 0, 1)","v":0}]
[{"$nulls":4},0]
[{"$nulls":4},0]
[{"$nulls":4},0]
[{"$nulls":4},0]
[{"$nulls":4},0]
[{"$nulls":4},0]
[{"$nulls":4},0]
[{"$nulls":4},0]
[{"$nulls":4},{"$f":"SUM(E121:E141)","v":0}]

{"sheet":"FL Presence","index":8,"n_rows":32,"n_cols":6,"rows_kept":32,"merged":[[28,0,28,1]]}
["SRC #28: Required Florida Presence",{"$nulls":4},"Back to Respondent Information"]
[]
["Item","Score"]
["Total Points Possible:",{"$f":"SUM(B21:B28)","v":100}]
["Points Earned:",{"$f":"C29","v":0}]
["Percent:",{"$f":"(IFERROR(B5/B4,0))","v":{"v":0,"d":"0%"}}]
[]
["Function","Presence in Florida"]
["Corporate Headquarters"]
["Claims Processing"]
["Member Services"]
["Provider Services"]
["Utilization Management"]
["Prior Authorization"]
["Case Management"]
["Quality"]
[]
["Scores:"]
[]
["Evaluation Criteria","Points Possible","Points Earned"]
["Corporate Headquarters",10,{"$f":"IF(B9=\"Yes\",B21,0)","v":0}]
["Claims Processing",16,0]
["Member Services",16,0]
["Provider Services",16,0]
["Utilization Management",5,0]
["Prior Authorization",5,0]
["Case Management",16,0]
["Quality",16,0]
["Total Points Earned:",null,{"$f":"SUM(C21:C28)","v":0}]
[]
[null,"Yes"]
[null,"No"]

{"sheet":"Managed Care Experience","index":9,"n_rows":34,"n_cols":14,"rows_kept":34,"merged":[[26,0,26,1]]}
["SRC #29: Managed Care Experience",{"$nulls":4},"Back to Respondent Information"]
[]
["Item","Score"]
["Total Points Possible:",{"$f":"SUM(B23:B26)","v":100}]
["Points Earned:",{"$f":"C27","v":0}]
["Percent:",{"$f":"(IFERROR(B5/B4,0))","v":{"v":0,"d":"0%"}}]
[]
["Contract Number","Line of Business","State","Statewide","Contract Implementation\nDate","Contract End Date","Length of Contract\nin Years","Total Unduplicated\nPopulation Under Contract","Premium Revenue,\nLatest Contract Year*",null,"Line of Business","Length of Contract","Statewide","Population"]
[{"$nulls":6},{"$f":"IFERROR(DATEDIF(E9,IF(F9>$G$32,$G$32,F9),\"Y\"),\"\")","v":0},{"$nulls":3},{"$f":"IF(B9=\"Medicaid\",1,(IF(B9=\"CHIP\",0.9, IF(B9=\"Commercial\", 0.4, 0))))","v":0},{"$f":"IF(G9>5,1,IF(G9>=3,0.75,IF(G9>=1,0.5,0)))","v":0},{"$f":"IF(C9<>\"\",(IF(D9=\"Yes\",1,IF(D9=\"No\",0.8,0))),0)","v":0},{"$f":"IF(H9>499999,1,IF(H9>249999,0.5,0))","v":0}]
[{"$nulls":6},0,{"$nulls":3},{"$f":"IF(B10=\"Medicaid\",1,(IF(B10=\"CHIP\",0.9, IF(B10=\"Commercial\", 0.4, 0))))","v":0},0,0,0]
[{"$nulls":6},0,{"$nulls":3},0,0,0,0]
[{"$nulls":6},0,{"$nulls":3},0,0,0,0]
[{"$nulls":6},0,{"$nulls":3},0,0,0,0]
[{"$nulls":6},0,{"$nulls":3},0,0,0,0]
[{"$nulls":6},0,{"$nulls":3},0,0,0,0]
[{"$nulls":6},0,{"$nulls":3},0,0,0,0]
[{"$nulls":6},0,{"$nulls":3},0,0,0,0]
[{"$nulls":6},0,{"$nulls":3},0,0,0,0]
[{"$nulls":8},"* Unscored",null,{"$f":"SUM(K9:K18)","v":0},{"$f":"SUM(L9:L18)","v":0},{"$f":"SUM(M9:M18)","v":0},{"$f":"SUM(N9:N18)","v":0}]
["Scores:",{"$nulls":9},{"$f":"K19/10","v":0},{"$f":"L19/10","v":0},0,0]
[{"$nulls":10},{"$f":"K20*B23","v":0},{"$f":"L20*25","v":0},0,0]
["Evaluation Criteria","Points Available","Points Earned"]
["Line of Business",25,{"$f":"K21","v":{"v":0,"d":"0.0"}}]
["Length of Contract",25,{"$f":"L21","v":{"v":0,"d":"0.0"}}]
["State Coverage",25,{"$f":"M21","v":{"v":0,"d":"0.0"}}]
["Population",25,{"$f":"N21","v":{"v":0,"d":"0.0"}}]
["Total Points Earned:",null,{"$f":"SUM(C23:C26)","v":0}]
[]
[]
[]
[]
[null,"Medicaid",null,"Yes",null,null,"2023-10-01"]
[null,"CHIP",null,"No"]
[null,"Commercial"]

{"sheet":"Accreditation","index":10,"n_rows":25,"n_cols":23,"rows_kept":25,"merged":[[7,0,7,4],[8,3,8,4],[9,3,9,4],[11,0,11,4],[12,1,12,2],[12,3,12,4],[13,1,13,2],[13,3,13,4],[20,0,20,1]]}
["SRC #30: Accreditation",{"$nulls":4},"Back to Respondent Information"]
[]
["Item","Score"]
["Total Points Possible:",{"$f":"SUM(B19:B20)","v":100}]
["Points Earned:",{"$f":"C21","v":0}]
["Percent:",{"$f":"(IFERROR(B5/B4,0))","v":{"v":0,"d":"0%"}}]
[{"$nulls":16},"Full 3-Year Accreditation"]
["Health Plan Accreditation",{"$nulls":15},"Partial/Conditional Accreditation",{"$nulls":5},"Fully Accredited"]
["Name of Accrediting Body","Type of Accreditation","Level of Accreditation","Date of Certification/Accreditation",{"$nulls":12},"No Accreditation/Denied Accreditation",{"$nulls":5},"Provisional"]
[{"$nulls":10},"Health Plan Accreditation",{"$nulls":11},"Conditional"]
[{"$nulls":10},"Medicaid Health Plan Accreditation",{"$nulls":11},"Declined"]
["Dental Plan Accreditation"]
["Accrediting Body","Level of Accreditation",null,"Date of Certification/Accreditation",{"$nulls":12},"National Committee for Quality Assurance (NCQA)"]
[{"$nulls":16},"Utilization Review Accreditation Commission (URAC)"]
[{"$nulls":16},"Accreditation Association for Ambulatory Health Care, Inc. (AAAHC)"]
["Scores:",{"$nulls":8},"National Committee for Quality Assurance (NCQA)","Utilization Review Accreditation Commission (URAC)","Accreditation Association for Ambulatory Health Care, Inc. (AAAHC)"]
[{"$nulls":9},"Health Plan Accreditation","Health Plan Accreditation","Health Plan Accreditation"]
["Item","Points Available","Points Earned",{"$nulls":7},"Medicaid Health Plan Accreditation"]
["Type of Health Plan Accreditation",50,{"$f":"IF(OR(ISBLANK(A10), ISBLANK(B10), ISBLANK(D10), ISBLANK(C10)), 0, IF(C10=\"Full 3-Year Accreditation\", B19, IF(C10=\"Partial/Conditional Accreditation\", B19*0.4, 0)))","v":0}]
["Dental Plan Accreditation",50,{"$f":"IF(OR(ISBLANK(A14), ISBLANK(D14), ISBLANK(B14)), 0, IF(B14=\"Full 3-Year Accreditation\", B20, IF(B14=\"Partial/conditional Accreditation\", B20*0.4, 0)))","v":0},{"$nulls":13},"Full 3-Year Accreditation"]
["Total Points Earned:",null,{"$f":"SUM(C19:C20)","v":0},{"$nulls":13},"Provisional"]
[{"$nulls":9},{"$f":"_xlfn.XLOOKUP(A10, J16:L16, J17:L18)","v":{"$error":"#N/A"}},{"$nulls":6},"Conditional"]
[{"$nulls":16},"1 Year"]
[{"$nulls":16},"6 Months"]
[{"$nulls":16},"None"]

{"sheet":"Claims Processing and Payment","index":11,"n_rows":49,"n_cols":6,"rows_kept":49,"merged":[[10,0,10,1],[25,0,25,1],[32,0,32,1],[40,0,41,0],[42,0,44,0],[48,0,48,2]]}
["SRC #32:  Claims Processing and Payment",{"$nulls":4},"Back to Respondent Information"]
[]
["Item","Score"]
["Total Points Possible:",{"$f":"SUM(C41:C48)","v":100}]
["Points Earned:",{"$f":"D49","v":0}]
["Percent:",{"$f":"(IFERROR(B5/B4,0))","v":{"v":0,"d":"0%"}}]
[]
["State:",{"$f":"'Respondent Information'!C7","v":0}]
["Line of Business:",{"$f":"'Respondent Information'!E7","v":0}]
["Year:",{"$f":"'Respondent Information'!K6","v":0}]
["Timeliness"]
[null,"Electronically Submitted Claims"]
["Total Number of Electronically Submitted Clean Claims"]
["Total Number Paid or Denied within 7 Calendar Days"]
["Percent Paid or Denied within 7 Calendar Days",{"$f":"IF(SUM(B14, B16)>B13, \"ERROR\", IF(ISERROR(B14/B13), 0, (B14/B13)))","v":{"v":0,"d":"0.00%"}}]
["Total Number Paid or Denied within 15 Calendar Days"]
["Percent Paid or Denied within 15 Calendar Days",{"$f":"IF(SUM(B14,B16)>B13,\"ERROR\",IF(ISERROR(B16/(B13-B14)),0,(B16/(B13-B14))))","v":{"v":0,"d":"0.00%"}}]
[null,"Non-Electronically Submitted Claims"]
["Total Number of Non-Electronically Submitted Clean Claims"]
["Total Non-Electronically Submitted Clean Claims Paid/Denied within 10 Calendar Days"]
["Percent of Claims Paid/Denied within 10 Calendar Days",{"$f":"IF(SUM(B20,B22,B24)>B19, \"ERROR\", IF(ISERROR(B20/B19), 0, B20/B19))","v":{"v":0,"d":"0.00%"}}]
["Total Non-Electronically Submitted Clean Claims Paid/Denied within 15 Calendar Days"]
["Percent of Claims Paid/Denied within 15 Calendar Days",{"$f":"IF(SUM(B20,B22,B24)>B19,\"ERROR\",IF(ISERROR(B22/(B19-B20)),0,B22/(B19-B20)))","v":{"v":0,"d":"0.00%"}}]
["Total Non-Electronically Submitted Clean Claims Paid/Denied within 20 Calendar Days"]
["Percent of Claims Paid/Denied within 20 Calendar Days",{"$f":"IF(ISBLANK(B19), 0, IF(SUM(B20,B22)=B19, 1, IF(SUM(B20,B22,B24)>B19, \"ERROR\", IF(ISERROR(B24/(B19-B20-B22)), 0, B24/(B19-B20-B22)))))","v":{"v":0,"d":"0.00%"}}]
["Accuracy"]
["Number of Electronically-Submitted Clean Claims Processed"]
["Total Electronically Submitted Claims Accurately Processed"]
["Percent of Electronically Submitted Claims Accurately Processed",{"$f":"IF(B28>B27, \"ERROR\", IF(ISERROR(B28/B27), 0, B28/B27))","v":{"v":0,"d":"0.00%"}}]
["Number of Non-Electronically-Submitted Clean Claims Processed"]
["Total Non-Electronically Submitted Claims Accurately Processed"]
["Percent of Non-Electronically Submitted Claims Accurately Processed",{"$f":"IF(B31>B30, \"ERROR\", IF(ISERROR(B31/B30), 0, B31/B30))","v":{"v":0,"d":"0.00%"}}]
["Claim Appeals/Grievances"]
["Number of Appeals/Grievances Filed Regarding Claim Disputes"]
["Total Number of Claim Disputes Overturned without the Need for Medical Review"]
["Percent Overturned",{"$f":"IF(B35>B34, \"ERROR\", IF(ISERROR(B35/B34), 0, B35/B34))","v":{"v":0,"d":"0.00%"}}]
[]
["Scores:"]
[]
["State","Question","Points Possible","Points Earned"]
["Electronic Submissions: Timeliness","Total % Paid or Denied within 7 Calendar Days",20,{"$f":"IF(B15=\"ERROR\", 0, IF(B15>0.8999, 20, IF(B15>0.7999, 10, 0)))","v":0}]
[null,"Total % Paid or Denied within 15 Calendar Days",10,{"$f":"IF(B17=\"ERROR\", 0, IF(B17>0.9499, 10, 0))","v":0}]
["Non-Electronic Submissions: Timeliness","Total % Paid/Denied within 10 Days",20,{"$f":"IF(B21=\"ERROR\", 0, IF(B21>0.8999, 20, IF(B21>0.7999, 10, 0)))","v":0}]
[null,"Total % Paid/Denied within 15 days",15,{"$f":"IF(B23=\"ERROR\", 0, IF(B23>0.9499, 15,0))","v":0}]
[null,"Total % Paid/Denied within 20 days",5,{"$f":"IF(B25=\"ERROR\", 0, IF(B25>0.9499, 5, 0))","v":0}]
["Electronically Submitted Claims: Accuracy","Total % Accurate",10,{"$f":"IF(B29=\"ERROR\", 0, IF(B29>=0.98, 10, IF(B29>=0.95, 5, IF(B29>=0.9, 1, 0))))","v":0}]
["Non-Electronically Submitted Claims: Accuracy","Total % Accurate",10,{"$f":"IF(B32=\"ERROR\",0,IF(B32>=0.98,10,IF(B32>=0.95,5,IF(B32>=0.9,1,0))))","v":0}]
["Claims Appeals/Grievances","Total % Overturned",10,{"$f":"IF(B36=\"ERROR\",0,IF(ISBLANK(B35),0,IF(B36>=0.21,0,IF(B36>0.1099,1,IF(B36>0.0599,5,10)))))","v":0}]
["Total Points Earned: ",null,null,{"$f":"SUM(D41:D48)","v":0}]

{"sheet":"Provider Engagement Model","index":12,"n_rows":62,"n_cols":6,"rows_kept":62,"merged":[[7,1,7,3],[8,1,8,3],[53,0,53,3]]}
["SRC #33: Provider Engagement Model",null,null,"Back to Respondent Information"]
[]
["Item","Score"]
["Total Points Possible:",{"$f":"SUM(B45:B53)*3","v":{"v":99.99,"d":"100"}}]
["Points Earned:",{"$f":"E54","v":0}]
["Percent:",{"$f":"(IFERROR(B5/B4,0))","v":{"v":0,"d":"0%"}}]
[]
[null,{"$f":"'Respondent Information'!C7","v":0}]
["Line of Business",{"$f":"'Respondent Information'!E7","v":0}]
["Year",{"$f":"'Respondent Information'!G6","v":0},{"$f":"'Respondent Information'!I6","v":0},{"$f":"'Respondent Information'!K6","v":0}]
["Responsiveness to Provider-Initiated Interactions"]
["Average Response time to provider-initiated interactions (in hours)"]
["Frequency of Reviews of Provider Complaint Reasons to Identify Training Needs"]
["Frequency of Claim Denial Code Reviews to Identify Training Needs"]
["Engagement with Provider Associations"]
["Regularity of Meetings with Provider Associations"]
["Number of Meetings with Provider Associations During Review Period"]
["Frequency of Provider Association Meetings"]
["Coverage of Provider Training Topics "]
["Service Coverage Guidelines"]
["Service Authorization Requirements"]
["Billing Procedures"]
["Claims Processing"]
["Payment Timeframes"]
["Dispute Resolution Process and Timeframes"]
["Agency Contract Requirements"]
["Other Topic 1: [REPORT TOPIC NAME HERE]"]
["Other Topic 2: [REPORT TOPIC NAME HERE]"]
["Other Topic 3: [REPORT TOPIC NAME HERE]"]
["Other Topic 4: [REPORT TOPIC NAME HERE]"]
["Other Topic 5: [REPORT TOPIC NAME HERE]"]
["Other Topic 6: [REPORT TOPIC NAME HERE]"]
["Other Topic 7: [REPORT TOPIC NAME HERE]"]
["Other Topic 8: [REPORT TOPIC NAME HERE]"]
["Other Topic 9: [REPORT TOPIC NAME HERE]"]
["Other Topic 10: [REPORT TOPIC NAME HERE]"]
["Training"]
["Method of Presentation "]
["Frequency of Training (Unscored)"]
[]
["Scores:"]
[]
[{"$f":"B8","v":0},null,{"$f":"B10","v":0},{"$f":"C10","v":0},{"$f":"D10","v":0}]
["Criteria","Points Possible","Points Earned","Points Earned","Points Earned"]
["Responsiveness to Provider-Initiated Interactions",8,{"$f":"IF(ISBLANK(B12),0,IF(B12<24,$B45,IF(B12<49,$B45*0.5,0)))","v":0},{"$f":"IF(ISBLANK(C12),0,IF(C12<24,$B45,IF(C12<49,$B45*0.5,0)))","v":0},{"$f":"IF(ISBLANK(D12),0,IF(D12<24,$B45,IF(D12<49,$B45*0.5,0)))","v":0}]
["Frequency of Reviews of Provider Complaint Reasons",4,{"$f":"IF(B13=\"At Least Daily\", $B46, IF(B13=\"At Least Weekly\", $B46*0.6, IF(B13=\"At Least Monthly\", $B46*0.2, 0)))","v":0},0,0]
["Frequency of Claim Denial Code Reviews to Identify Training Needs",4,0,0,0]
["Engagement with Provider Associations"]
["Regularity of Meetings with Provider Associations",3,{"$f":"IF(B16=\"Regularly\",$B49,0)","v":0},{"$f":"IF(C16=\"Regularly\",$B49,0)","v":0},{"$f":"IF(D16=\"Regularly\",$B49,0)","v":0}]
["Number of Meetings with Provider Associations During Review Period",3,{"$f":"IF(B17=\"Met with 5 or more Provider Associations \", $B50, IF(B17=\"Met with 1-4 Provider Associations\", $B50*0.6, 0))","v":0},{"$f":"IF(C17=\"Met with 5 or more Provider Associations \", $B50, IF(C17=\"Met with 1-4 Provider Associations\", $B50*0.6, 0))","v":0},{"$f":"IF(D17=\"Met with 5 or more Provider Associations \", $B50, IF(D17=\"Met with 1-4 Provider Associations\", $B50*0.6, 0))","v":0}]
["Frequency of Provider Association Meetings",3,{"$f":"IF(ISBLANK(B18), 0, IF(B18=\"At Least Monthly\", $B51, IF(B18=\"At Least Quarterly\", $B51*0.6, 1)))","v":0},{"$f":"IF(ISBLANK(C18), 0, IF(C18=\"At Least Monthly\", $B51, IF(C18=\"At Least Quarterly\", $B51*0.6, 1)))","v":0},{"$f":"IF(ISBLANK(D18), 0, IF(D18=\"At Least Monthly\", $B51, IF(D18=\"At Least Quarterly\", $B51*0.6, 1)))","v":0}]
["Coverage of Provider Training Topics",3,{"$f":"IF(COUNTIF(B20:B26,\"Yes\")=7, $B52, IF(COUNTIF(B20:B26,\"Yes\")>=5, $B52*0.2, 0))","v":0},{"$f":"IF(COUNTIF(C20:C26,\"Yes\")=7, $B52, IF(COUNTIF(C20:C26,\"Yes\")>=5, $B52*0.2, 0))","v":0},{"$f":"IF(COUNTIF(D20:D26,\"Yes\")=7, $B52, IF(COUNTIF(D20:D26,\"Yes\")>=5, $B52*0.2, 0))","v":0}]
["Training Method of Presentation",5.33,{"$f":"IF(B38=\"At least 75% Training Provided Live or In-Person\", $B53, IF(B38=\"50-74.99% OF Training Provided Live or In-Person\", $B53*0.6, 0))","v":0},{"$f":"IF(C38=\"At least 75% Training Provided Live or In-Person\", $B53, IF(C38=\"50-74.99% OF Training Provided Live or In-Person\", $B53*0.6, 0))","v":0},{"$f":"IF(D38=\"At least 75% Training Provided Live or In-Person\", $B53, IF(D38=\"50-74.99% OF Training Provided Live or In-Person\", $B53*0.6, 0))","v":0}]
["Total Points Earned:",{"$nulls":3},{"$f":"SUM(C45:E53)","v":0}]
[]
[]
[]
[]
["At Least Daily","Regularly","Number of meetings","At Least Monthly","Yes","At least 75% Training Provided Live or In-Person"]
["At Least Weekly","Irregularly","Met with 5 or more Provider Associations ","At Least Quarterly","No","50-74.99% of Training Provided Live or In-Person"]
["At Least Monthly","Not at All","Met with 1-4 Provider Associations","Less than Quarterly",null,"Less than 50% of Training Provided Live or In-Person"]
["Less than Monthly",null,"Did not Meet with Provider Associations"]

{"sheet":"Community Partnerships","index":13,"n_rows":190,"n_cols":198,"rows_kept":190,"merged":[[75,195,75,196],[89,195,89,196],[177,0,177,1],[178,0,178,1],[179,0,181,0],[182,0,185,0],[186,0,186,1],[187,0,187,1],[188,0,188,1],[189,0,189,2]]}
["SRC #34: Community Partnerships",{"$nulls":4},"Back to Respondent Information"]
[]
["Item","Score"]
["Total Points Possible:",{"$f":"SUM(C179:C189)","v":100}]
["Points Earned:",{"$f":"D190","v":0}]
["Percent:",{"$f":"(IFERROR(B5/B4,0))","v":{"v":0,"d":"0%"}}]
[]
["CBO Name","CBO FEIN","CBO FDOC Document Number","CBO Principal Address","CBO Mailing Address","Contract Identification Number","Contract Execution Date","Description of Enrollee Population(s) Being Served","Description of Oral Health-Related Services and Supports","Directly Improves Access to Dental Services","Directly Improves Utilization of Preventive Care","Directly Improves Provider Participation in Medicaid","Directly Improves Dental Care for Special Populations","Directly Improves Oral Health Education and Literacy","Regions","Number of Regions","Counties","Number of Counties","Offers Financial Assistance or Incentives to Recent Dental School Graduates","Partners with a Florida Dental School","Partners with a Dental Hygiene School","Provides Assistance with Educational Requirements for People Still in School","Closed Loop Referral and Verification","Financial Investment","In-Kind Investment","CBO Representative(s) in Respondent Committee(s) or Advisory Board(s)","Length (in Years) of Relationship with Respondent","y/n dropdown","Number of CBOs","Regions Dropdown","County Dropdown","Access to Dental Services","Improving Care for Spec Pop","Increased Prov pop, Prevent Care, Education","Financial assistance ","Partners with Dental School","Partners with Dental Hygiene School","Provides Assistance with Ed Reqs","Advisory Board","Length of Rel",{"$nulls":4},"Row 1","Row 2","Row 3","Row 4","Row 5","Row 6","Row 7","Row 8","Row 9","Row 10","Row 11","Row 12","Row 13","Row 14","Row 15","Row 16","Row 17","Row 18","Row 19","Row 20","Row 21","Row 22","Row 23","Row 24","Row 25","Row 26","Row 27","Row 28","Row 29","Row 30","Row 31","Row 32","Row 33","Row 34","Row 35","Row 36","Row 37","Row 38","Row 39","Row 40","Row 41","Row 42","Row 43","Row 44","Row 45","Row 46","Row 47","Row 48","Row 49","Row 50","Row 51","Row 52","Row 53","Row 54","Row 55","Row 56","Row 57","Row 58","Row 59","Row 60","Row 61","Row 62","Row 63","Row 64","Row 65","Row 66","Row 67","Row 68","Row 69","Row 70","Row 71","Row 72","Row 73","Row 74","Row 75","Row 76","Row 77","Row 78","Row 79","Row 80","Row 81","Row 82","Row 83","Row 84","Row 85","Row 86","Row 87","Row 88","Row 89","Row 90","Row 91","Row 92","Row 93","Row 94","Row 95","Row 96","Row 97","Row 98","Row 99","Row 100","Row 101","Row 102","Row 103","Row 104","Row 105","Row 106","Row 107","Row 108","Row 109","Row 110","Row 111","Row 112","Row 113","Row 114","Row 115","Row 116","Row 117","Row 118","Row 119","Row 120","Row 121","Row 122","Row 123","Row 124","Row 125","Row 126","Row 127","Row 128","Row 129","Row 130","Row 131","Row 132","Row 133","Row 134","Row 135","Row 136","Row 137","Row 138","Row 139","Row 140","Row 141","Row 142","Row 143","Row 144","Row 145","Row 146","Row 147","Row 148","Row 149","Row 150","Region","Sum of Counties","Multiplier for Rurality","Score"]
[{"$nulls":15},{"$f":"IF(ISBLANK(O9),\"\",LEN(TRIM(O9))-LEN(SUBSTITUTE(TRIM(O9),\",\",\"\"))+1)","v":""},null,{"$f":"IF(ISBLANK(Q9),\"\",LEN(TRIM(Q9))-LEN(SUBSTITUTE(TRIM(Q9),\",\",\"\"))+1)","v":""},{"$nulls":9},"Yes",{"$f":"IF(ISBLANK(A9), 0, 1)","v":0},1,"Alachua",{"$f":"IF(J9=\"Yes\", 3, 0)","v":0},{"$f":"IF(M9=\"Yes\", 2, 0)","v":0},{"$f":"IF(OR(L9=\"Yes\", N9=\"Yes\", K9=\"Yes\"), 1, 0)","v":0},{"$f":"IF(S9=\"Yes\", 5, 0)","v":0},{"$f":"IF(T9=\"Yes\", 4, 0)","v":0},{"$f":"IF(U9=\"Yes\", 3, 0)","v":0},{"$f":"IF(V9=\"Yes\", 2, 0)","v":0},{"$f":"IF(Z9=\"Yes, Support Core Goals\", 2, IF(Z9=\"Yes, Other\", 1, 0))","v":0},{"$f":"IF(AND(AA9>=3, Z9=\"Yes, Support Core Goals\"), 2, IF(ISBLANK(AA9), 0, 1))","v":0},null,"Alachua",null,null,{"$f":"IF(ISNUMBER(SEARCH($AP9,$Q$9)),1,0)","v":0},{"$f":"IF(ISNUMBER(SEARCH($AP9,$Q$10)),1,0)","v":0},{"$f":"IF(ISNUMBER(SEARCH($AP9,$Q$11)),1,0)","v":0},{"$f":"IF(ISNUMBER(SEARCH($AP9,$Q$12)),1,0)","v":0},{"$f":"IF(ISNUMBER(SEARCH($AP9,$Q$13)),1,0)","v":0},{"$f":"IF(ISNUMBER(SEARCH($AP9,$Q$14)),1,0)","v":0},{"$f":"IF(ISNUMBER(SEARCH($AP9,$Q$15)),1,0)","v":0},{"$f":"IF(ISNUMBER(SEARCH($AP9,$Q$16)),1,0)","v":0},{"$f":"IF(ISNUMBER(SEARCH($AP9,$Q$17)),1,0)","v":0},{"$f":"IF(ISNUMBER(SEARCH($AP9,$Q$18)),1,0)","v":0},{"$f":"IF(ISNUMBER(SEARCH($AP9,$Q$19)),1,0)","v":0},{"$f":"IF(ISNUMBER(SEARCH($AP9,$Q$20)),1,0)","v":0},{"$f":"IF(ISNUMBER(SEARCH($AP9,$Q$21)),1,0)","v":0},{"$f":"IF(ISNUMBER(SEARCH($AP9,$Q$22)),1,0)","v":0},{"$f":"IF(ISNUMBER(SEARCH($AP9,$Q$23)),1,0)","v":0},{"$f":"IF(ISNUMBER(SEARCH($AP9,$Q$24)),1,0)","v":0},{"$f":"IF(ISNUMBER(SEARCH($AP9,$Q$25)),1,0)","v":0},{"$f":"IF(ISNUMBER(SEARCH($AP9,$Q$26)),1,0)","v":0},{"$f":"IF(ISNUMBER(SEARCH($AP9,$Q$27)),1,0)","v":0},{"$f":"IF(ISNUMBER(SEARCH($AP9,$Q$28)),1,0)","v":0},{"$f":"IF(ISNUMBER(SEARCH($AP9,$Q$29)),1,0)","v":0},{"$f":"IF(ISNUMBER(SEARCH($AP9,$Q$30)),1,0)","v":0},{"$f":"IF(ISNUMBER(SEARCH($AP9,$Q$31)),1,0)","v":0},{"$f":"IF(ISNUMBER(SEARCH($AP9,$Q$32)),1,0)","v":0},{"$f":"IF(ISNUMBER(SEARCH($AP9,$Q$33)),1,0)","v":0},{"$f":"IF(ISNUMBER(SEARCH($AP9,$Q$34)),1,0)","v":0},{"$f":"IF(ISNUMBER(SEARCH($AP9,$Q$35)),1,0)","v":0},{"$f":"IF(ISNUMBER(SEARCH($AP9,$Q$36)),1,0)","v":0},{"$f":"IF(ISNUMBER(SEARCH($AP9,$Q$37)),1,0)","v":0},{"$f":"IF(ISNUMBER(SEARCH($AP9,$Q$38)),1,0)","v":0},{"$f":"IF(ISNUMBER(SEARCH($AP9,$Q$39)),1,0)","v":0},{"$f":"IF(ISNUMBER(SEARCH($AP9,$Q$40)),1,0)","v":0},{"$f":"IF(ISNUMBER(SEARCH($AP9,$Q$41)),1,0)","v":0},{"$f":"IF(ISNUMBER(SEARCH($AP9,$Q$42)),1,0)","v":0},{"$f":"IF(ISNUMBER(SEARCH($AP9,$Q$43)),1,0)","v":0},{"$f":"IF(ISNUMBER(SEARCH($AP9,$Q$44)),1,0)","v":0},{"$f":"IF(ISNUMBER(SEARCH($AP9,$Q$45)),1,0)","v":0},{"$f":"IF(ISNUMBER(SEARCH($AP9,$Q$46)),1,0)","v":0},{"$f":"IF(ISNUMBER(SEARCH($AP9,$Q$47)),1,0)","v":0},{"$f":"IF(ISNUMBER(SEARCH($AP9,$Q$48)),1,0)","v":0},{"$f":"IF(ISNUMBER(SEARCH($AP9,$Q$49)),1,0)","v":0},{"$f":"IF(ISNUMBER(SEARCH($AP9,$Q$50)),1,0)","v":0},{"$f":"IF(ISNUMBER(SEARCH($AP9,$Q$51)),1,0)","v":0},{"$f":"IF(ISNUMBER(SEARCH($AP9,$Q$52)),1,0)","v":0},{"$f":"IF(ISNUMBER(SEARCH($AP9,$Q$53)),1,0)","v":0},{"$f":"IF(ISNUMBER(SEARCH($AP9,$Q$54)),1,0)","v":0},{"$f":"IF(ISNUMBER(SEARCH($AP9,$Q$55)),1,0)","v":0},{"$f":"IF(ISNUMBER(SEARCH($AP9,$Q$56)),1,0)","v":0},{"$f":"IF(ISNUMBER(SEARCH($AP9,$Q$57)),1,0)","v":0},{"$f":"IF(ISNUMBER(SEARCH($AP9,$Q$58)),1,0)","v":0},{"$f":"IF(ISNUMBER(SEARCH($AP9,$Q$59)),1,0)","v":0},{"$f":"IF(ISNUMBER(SEARCH($AP9,$Q$60)),1,0)","v":0},{"$f":"IF(ISNUMBER(SEARCH($AP9,$Q$61)),1,0)","v":0},{"$f":"IF(ISNUMBER(SEARCH($AP9,$Q$62)),1,0)","v":0},{"$f":"IF(ISNUMBER(SEARCH($AP9,$Q$63)),1,0)","v":0},{"$f":"IF(ISNUMBER(SEARCH($AP9,$Q$64)),1,0)","v":0},{"$f":"IF(ISNUMBER(SEARCH($AP9,$Q$65)),1,0)","v":0},{"$f":"IF(ISNUMBER(SEARCH($AP9,$Q$66)),1,0)","v":0},{"$f":"IF(ISNUMBER(SEARCH($AP9,$Q$67)),1,0)","v":0},{"$f":"IF(ISNUMBER(SEARCH($AP9,$Q$68)),1,0)","v":0},{"$f":"IF(ISNUMBER(SEARCH($AP9,$Q$69)),1,0)","v":0},{"$f":"IF(ISNUMBER(SEARCH($AP9,$Q$70)),1,0)","v":0},{"$f":"IF(ISNUMBER(SEARCH($AP9,$Q$71)),1,0)","v":0},{"$f":"IF(ISNUMBER(SEARCH($AP9,$Q$72)),1,0)","v":0},{"$f":"IF(ISNUMBER(SEARCH($AP9,$Q$73)),1,0)","v":0},{"$f":"IF(ISNUMBER(SEARCH($AP9,$Q$74)),1,0)","v":0},{"$f":"IF(ISNUMBER(SEARCH($AP9,$Q$75)),1,0)","v":0},{"$f":"IF(ISNUMBER(SEARCH($AP9,$Q$76)),1,0)","v":0},{"$f":"IF(ISNUMBER(SEARCH($AP9,$Q$77)),1,0)","v":0},{"$f":"IF(ISNUMBER(SEARCH($AP9,$Q$78)),1,0)","v":0},{"$f":"IF(ISNUMBER(SEARCH($AP9,$Q$79)),1,0)","v":0},{"$f":"IF(ISNUMBER(SEARCH($AP9,$Q$80)),1,0)","v":0},{"$f":"IF(ISNUMBER(SEARCH($AP9,$Q$81)),1,0)","v":0},{"$f":"IF(ISNUMBER(SEARCH($AP9,$Q$82)),1,0)","v":0},{"$f":"IF(ISNUMBER(SEARCH($AP9,$Q$83)),1,0)","v":0},{"$f":"IF(ISNUMBER(SEARCH($AP9,$Q$84)),1,0)","v":0},{"$f":"IF(ISNUMBER(SEARCH($AP9,$Q$85)),1,0)","v":0},{"$f":"IF(ISNUMBER(SEARCH($AP9,$Q$86)),1,0)","v":0},{"$f":"IF(ISNUMBER(SEARCH($AP9,$Q$87)),1,0)","v":0},{"$f":"IF(ISNUMBER(SEARCH($AP9,$Q$88)),1,0)","v":0},{"$f":"IF(ISNUMBER(SEARCH($AP9,$Q$89)),1,0)","v":0},{"$f":"IF(ISNUMBER(SEARCH($AP9,$Q$90)),1,0)","v":0},{"$f":"IF(ISNUMBER(SEARCH($AP9,$Q$91)),1,0)","v":0},{"$f":"IF(ISNUMBER(SEARCH($AP9,$Q$92)),1,0)","v":0},{"$f":"IF(ISNUMBER(SEARCH($AP9,$Q$93)),1,0)","v":0},{"$f":"IF(ISNUMBER(SEARCH($AP9,$Q$94)),1,0)","v":0},{"$f":"IF(ISNUMBER(SEARCH($AP9,$Q$95)),1,0)","v":0},{"$f":"IF(ISNUMBER(SEARCH($AP9,$Q$96)),1,0)","v":0},{"$f":"IF(ISNUMBER(SEARCH($AP9,$Q$97)),1,0)","v":0},{"$f":"IF(ISNUMBER(SEARCH($AP9,$Q$98)),1,0)","v":0},{"$f":"IF(ISNUMBER(SEARCH($AP9,$Q$99)),1,0)","v":0},{"$f":"IF(ISNUMBER(SEARCH($AP9,$Q$100)),1,0)","v":0},{"$f":"IF(ISNUMBER(SEARCH($AP9,$Q$101)),1,0)","v":0},{"$f":"IF(ISNUMBER(SEARCH($AP9,$Q$102)),1,0)","v":0},{"$f":"IF(ISNUMBER(SEARCH($AP9,$Q$103)),1,0)","v":0},{"$f":"IF(ISNUMBER(SEARCH($AP9,$Q$104)),1,0)","v":0},{"$f":"IF(ISNUMBER(SEARCH($AP9,$Q$105)),1,0)","v":0},{"$f":"IF(ISNUMBER(SEARCH($AP9,$Q$106)),1,0)","v":0},{"$f":"IF(ISNUMBER(SEARCH($AP9,$Q$107)),1,0)","v":0},{"$f":"IF(ISNUMBER(SEARCH($AP9,$Q$108)),1,0)","v":0},{"$f":"IF(ISNUMBER(SEARCH($AP9,$Q$109)),1,0)","v":0},{"$f":"IF(ISNUMBER(SEARCH($AP9,$Q$110)),1,0)","v":0},{"$f":"IF(ISNUMBER(SEARCH($AP9,$Q$111)),1,0)","v":0},{"$f":"IF(ISNUMBER(SEARCH($AP9,$Q$112)),1,0)","v":0},{"$f":"IF(ISNUMBER(SEARCH($AP9,$Q$113)),1,0)","v":0},{"$f":"IF(ISNUMBER(SEARCH($AP9,$Q$114)),1,0)","v":0},{"$f":"IF(ISNUMBER(SEARCH($AP9,$Q$115)),1,0)","v":0},{"$f":"IF(ISNUMBER(SEARCH($AP9,$Q$116)),1,0)","v":0},{"$f":"IF(ISNUMBER(SEARCH($AP9,$Q$117)),1,0)","v":0},{"$f":"IF(ISNUMBER(SEARCH($AP9,$Q$118)),1,0)","v":0},{"$f":"IF(ISNUMBER(SEARCH($AP9,$Q$119)),1,0)","v":0},{"$f":"IF(ISNUMBER(SEARCH($AP9,$Q$120)),1,0)","v":0},{"$f":"IF(ISNUMBER(SEARCH($AP9,$Q$121)),1,0)","v":0},{"$f":"IF(ISNUMBER(SEARCH($AP9,$Q$122)),1,0)","v":0},{"$f":"IF(ISNUMBER(SEARCH($AP9,$Q$123)),1,0)","v":0},{"$f":"IF(ISNUMBER(SEARCH($AP9,$Q$124)),1,0)","v":0},{"$f":"IF(ISNUMBER(SEARCH($AP9,$Q$125)),1,0)","v":0},{"$f":"IF(ISNUMBER(SEARCH($AP9,$Q$126)),1,0)","v":0},{"$f":"IF(ISNUMBER(SEARCH($AP9,$Q$127)),1,0)","v":0},{"$f":"IF(ISNUMBER(SEARCH($AP9,$Q$128)),1,0)","v":0},{"$f":"IF(ISNUMBER(SEARCH($AP9,$Q$129)),1,0)","v":0},{"$f":"IF(ISNUMBER(SEARCH($AP9,$Q$130)),1,0)","v":0},{"$f":"IF(ISNUMBER(SEARCH($AP9,$Q$131)),1,0)","v":0},{"$f":"IF(ISNUMBER(SEARCH($AP9,$Q$132)),1,0)","v":0},{"$f":"IF(ISNUMBER(SEARCH($AP9,$Q$133)),1,0)","v":0},{"$f":"IF(ISNUMBER(SEARCH($AP9,$Q$134)),1,0)","v":0},{"$f":"IF(ISNUMBER(SEARCH($AP9,$Q$135)),1,0)","v":0},{"$f":"IF(ISNUMBER(SEARCH($AP9,$Q$136)),1,0)","v":0},{"$f":"IF(ISNUMBER(SEARCH($AP9,$Q$137)),1,0)","v":0},{"$f":"IF(ISNUMBER(SEARCH($AP9,$Q$138)),1,0)","v":0},{"$f":"IF(ISNUMBER(SEARCH($AP9,$Q$139)),1,0)","v":0},{"$f":"IF(ISNUMBER(SEARCH($AP9,$Q$140)),1,0)","v":0},{"$f":"IF(ISNUMBER(SEARCH($AP9,$Q$141)),1,0)","v":0},{"$f":"IF(ISNUMBER(SEARCH($AP9,$Q$142)),1,0)","v":0},{"$f":"IF(ISNUMBER(SEARCH($AP9,$Q$143)),1,0)","v":0},{"$f":"IF(ISNUMBER(SEARCH($AP9,$Q$144)),1,0)","v":0},{"$f":"IF(ISNUMBER(SEARCH($AP9,$Q$145)),1,0)","v":0},{"$f":"IF(ISNUMBER(SEARCH($AP9,$Q$146)),1,0)","v":0},{"$f":"IF(ISNUMBER(SEARCH($AP9,$Q$147)),1,0)","v":0},{"$f":"IF(ISNUMBER(SEARCH($AP9,$Q$148)),1,0)","v":0},{"$f":"IF(ISNUMBER(SEARCH($AP9,$Q$149)),1,0)","v":0},{"$f":"IF(ISNUMBER(SEARCH($AP9,$Q$150)),1,0)","v":0},{"$f":"IF(ISNUMBER(SEARCH($AP9,$Q$151)),1,0)","v":0},{"$f":"IF(ISNUMBER(SEARCH($AP9,$Q$152)),1,0)","v":0},{"$f":"IF(ISNUMBER(SEARCH($AP9,$Q$153)),1,0)","v":0},{"$f":"IF(ISNUMBER(SEARCH($AP9,$Q$154)),1,0)","v":0},{"$f":"IF(ISNUMBER(SEARCH($AP9,$Q$155)),1,0)","v":0},{"$f":"IF(ISNUMBER(SEARCH($AP9,$Q$156)),1,0)","v":0},{"$f":"IF(ISNUMBER(SEARCH($AP9,$Q$157)),1,0)","v":0},{"$f":"IF(ISNUMBER(SEARCH($AP9,$Q$158)),1,0)","v":0},3,{"$f":"SUM(AS9:GL9)","v":0},3,{"$f":"GN9*GO9","v":0}]
[{"$nulls":15},"",null,"",{"$nulls":9},"No",0,2,"Baker",0,0,0,{"$f":"IF(S10=\"Yes\", 5, 0)","v":0},{"$f":"IF(T10=\"Yes\", 4, 0)","v":0},{"$f":"IF(U10=\"Yes\", 3, 0)","v":0},{"$f":"IF(V10=\"Yes\", 2, 0)","v":0},{"$f":"IF(Z10=\"Yes, Support Core Goals\", 2, IF(Z10=\"Yes, Other\", 1, 0))","v":0},{"$f":"IF(AND(AA10>=3, Z10=\"Yes, Support Core Goals\"), 2, IF(ISBLANK(AA10), 0, 1))","v":0},null,"Baker",null,null,{"$f":"IF(ISNUMBER(SEARCH(AP10,$Q$9)),1,0)","v":0},{"$f":"IF(ISNUMBER(SEARCH($AP10,$Q$10)),1,0)","v":0},{"$f":"IF(ISNUMBER(SEARCH($AP10,$Q$11)),1,0)","v":0},{"$f":"IF(ISNUMBER(SEARCH($AP10,$Q$12)),1,0)","v":0},{"$f":"IF(ISNUMBER(SEARCH($AP10,$Q$13)),1,0)","v":0},{"$f":"IF(ISNUMBER(SEARCH($AP10,$Q$14)),1,0)","v":0},{"$f":"IF(ISNUMBER(SEARCH($AP10,$Q$15)),1,0)","v":0},{"$f":"IF(ISNUMBER(SEARCH($AP10,$Q$16)),1,0)","v":0},{"$f":"IF(ISNUMBER(SEARCH($AP10,$Q$17)),1,0)","v":0},{"$f":"IF(ISNUMBER(SEARCH($AP10,$Q$18)),1,0)","v":0},{"$f":"IF(ISNUMBER(SEARCH($AP10,$Q$19)),1,0)","v":0},{"$f":"IF(ISNUMBER(SEARCH($AP10,$Q$20)),1,0)","v":0},{"$f":"IF(ISNUMBER(SEARCH($AP10,$Q$21)),1,0)","v":0},{"$f":"IF(ISNUMBER(SEARCH($AP10,$Q$22)),1,0)","v":0},{"$f":"IF(ISNUMBER(SEARCH($AP10,$Q$23)),1,0)","v":0},{"$f":"IF(ISNUMBER(SEARCH($AP10,$Q$24)),1,0)","v":0},{"$f":"IF(ISNUMBER(SEARCH($AP10,$Q$25)),1,0)","v":0},{"$f":"IF(ISNUMBER(SEARCH($AP10,$Q$26)),1,0)","v":0},{"$f":"IF(ISNUMBER(SEARCH($AP10,$Q$27)),1,0)","v":0},{"$f":"IF(ISNUMBER(SEARCH($AP10,$Q$28)),1,0)","v":0},{"$f":"IF(ISNUMBER(SEARCH($AP10,$Q$29)),1,0)","v":0},{"$f":"IF(ISNUMBER(SEARCH($AP10,$Q$30)),1,0)","v":0},{"$f":"IF(ISNUMBER(SEARCH($AP10,$Q$31)),1,0)","v":0},{"$f":"IF(ISNUMBER(SEARCH($AP10,$Q$32)),1,0)","v":0},{"$f":"IF(ISNUMBER(SEARCH($AP10,$Q$33)),1,0)","v":0},{"$f":"IF(ISNUMBER(SEARCH($AP10,$Q$34)),1,0)","v":0},{"$f":"IF(ISNUMBER(SEARCH($AP10,$Q$35)),1,0)","v":0},{"$f":"IF(ISNUMBER(SEARCH($AP10,$Q$36)),1,0)","v":0},{"$f":"IF(ISNUMBER(SEARCH($AP10,$Q$37)),1,0)","v":0},{"$f":"IF(ISNUMBER(SEARCH($AP10,$Q$38)),1,0)","v":0},{"$f":"IF(ISNUMBER(SEARCH($AP10,$Q$39)),1,0)","v":0},{"$f":"IF(ISNUMBER(SEARCH($AP10,$Q$40)),1,0)","v":0},{"$f":"IF(ISNUMBER(SEARCH($AP10,$Q$41)),1,0)","v":0},{"$f":"IF(ISNUMBER(SEARCH($AP10,$Q$42)),1,0)","v":0},{"$f":"IF(ISNUMBER(SEARCH($AP10,$Q$43)),1,0)","v":0},{"$f":"IF(ISNUMBER(SEARCH($AP10,$Q$44)),1,0)","v":0},{"$f":"IF(ISNUMBER(SEARCH($AP10,$Q$45)),1,0)","v":0},{"$f":"IF(ISNUMBER(SEARCH($AP10,$Q$46)),1,0)","v":0},{"$f":"IF(ISNUMBER(SEARCH($AP10,$Q$47)),1,0)","v":0},{"$f":"IF(ISNUMBER(SEARCH($AP10,$Q$48)),1,0)","v":0},{"$f":"IF(ISNUMBER(SEARCH($AP10,$Q$49)),1,0)","v":0},{"$f":"IF(ISNUMBER(SEARCH($AP10,$Q$50)),1,0)","v":0},{"$f":"IF(ISNUMBER(SEARCH($AP10,$Q$51)),1,0)","v":0},{"$f":"IF(ISNUMBER(SEARCH($AP10,$Q$52)),1,0)","v":0},{"$f":"IF(ISNUMBER(SEARCH($AP10,$Q$53)),1,0)","v":0},{"$f":"IF(ISNUMBER(SEARCH($AP10,$Q$54)),1,0)","v":0},{"$f":"IF(ISNUMBER(SEARCH($AP10,$Q$55)),1,0)","v":0},{"$f":"IF(ISNUMBER(SEARCH($AP10,$Q$56)),1,0)","v":0},{"$f":"IF(ISNUMBER(SEARCH($AP10,$Q$57)),1,0)","v":0},{"$f":"IF(ISNUMBER(SEARCH($AP10,$Q$58)),1,0)","v":0},{"$f":"IF(ISNUMBER(SEARCH($AP10,$Q$59)),1,0)","v":0},{"$f":"IF(ISNUMBER(SEARCH($AP10,$Q$60)),1,0)","v":0},{"$f":"IF(ISNUMBER(SEARCH($AP10,$Q$61)),1,0)","v":0},{"$f":"IF(ISNUMBER(SEARCH($AP10,$Q$62)),1,0)","v":0},{"$f":"IF(ISNUMBER(SEARCH($AP10,$Q$63)),1,0)","v":0},{"$f":"IF(ISNUMBER(SEARCH($AP10,$Q$64)),1,0)","v":0},{"$f":"IF(ISNUMBER(SEARCH($AP10,$Q$65)),1,0)","v":0},{"$f":"IF(ISNUMBER(SEARCH($AP10,$Q$66)),1,0)","v":0},{"$f":"IF(ISNUMBER(SEARCH($AP10,$Q$67)),1,0)","v":0},{"$f":"IF(ISNUMBER(SEARCH($AP10,$Q$68)),1,0)","v":0},{"$f":"IF(ISNUMBER(SEARCH($AP10,$Q$69)),1,0)","v":0},{"$f":"IF(ISNUMBER(SEARCH($AP10,$Q$70)),1,0)","v":0},{"$f":"IF(ISNUMBER(SEARCH($AP10,$Q$71)),1,0)","v":0},{"$f":"IF(ISNUMBER(SEARCH($AP10,$Q$72)),1,0)","v":0},{"$f":"IF(ISNUMBER(SEARCH($AP10,$Q$73)),1,0)","v":0},{"$f":"IF(ISNUMBER(SEARCH($AP10,$Q$74)),1,0)","v":0},{"$f":"IF(ISNUMBER(SEARCH($AP10,$Q$75)),1,0)","v":0},{"$f":"IF(ISNUMBER(SEARCH($AP10,$Q$76)),1,0)","v":0},{"$f":"IF(ISNUMBER(SEARCH($AP10,$Q$77)),1,0)","v":0},{"$f":"IF(ISNUMBER(SEARCH($AP10,$Q$78)),1,0)","v":0},{"$f":"IF(ISNUMBER(SEARCH($AP10,$Q$79)),1,0)","v":0},{"$f":"IF(ISNUMBER(SEARCH($AP10,$Q$80)),1,0)","v":0},{"$f":"IF(ISNUMBER(SEARCH($AP10,$Q$81)),1,0)","v":0},{"$f":"IF(ISNUMBER(SEARCH($AP10,$Q$82)),1,0)","v":0},{"$f":"IF(ISNUMBER(SEARCH($AP10,$Q$83)),1,0)","v":0},{"$f":"IF(ISNUMBER(SEARCH($AP10,$Q$84)),1,0)","v":0},{"$f":"IF(ISNUMBER(SEARCH($AP10,$Q$85)),1,0)","v":0},{"$f":"IF(ISNUMBER(SEARCH($AP10,$Q$86)),1,0)","v":0},{"$f":"IF(ISNUMBER(SEARCH($AP10,$Q$87)),1,0)","v":0},{"$f":"IF(ISNUMBER(SEARCH($AP10,$Q$88)),1,0)","v":0},{"$f":"IF(ISNUMBER(SEARCH($AP10,$Q$89)),1,0)","v":0},{"$f":"IF(ISNUMBER(SEARCH($AP10,$Q$90)),1,0)","v":0},{"$f":"IF(ISNUMBER(SEARCH($AP10,$Q$91)),1,0)","v":0},{"$f":"IF(ISNUMBER(SEARCH($AP10,$Q$92)),1,0)","v":0},{"$f":"IF(ISNUMBER(SEARCH($AP10,$Q$93)),1,0)","v":0},{"$f":"IF(ISNUMBER(SEARCH($AP10,$Q$94)),1,0)","v":0},{"$f":"IF(ISNUMBER(SEARCH($AP10,$Q$95)),1,0)","v":0},{"$f":"IF(ISNUMBER(SEARCH($AP10,$Q$96)),1,0)","v":0},{"$f":"IF(ISNUMBER(SEARCH($AP10,$Q$97)),1,0)","v":0},{"$f":"IF(ISNUMBER(SEARCH($AP10,$Q$98)),1,0)","v":0},{"$f":"IF(ISNUMBER(SEARCH($AP10,$Q$99)),1,0)","v":0},{"$f":"IF(ISNUMBER(SEARCH($AP10,$Q$100)),1,0)","v":0},{"$f":"IF(ISNUMBER(SEARCH($AP10,$Q$101)),1,0)","v":0},{"$f":"IF(ISNUMBER(SEARCH($AP10,$Q$102)),1,0)","v":0},{"$f":"IF(ISNUMBER(SEARCH($AP10,$Q$103)),1,0)","v":0},{"$f":"IF(ISNUMBER(SEARCH($AP10,$Q$104)),1,0)","v":0},{"$f":"IF(ISNUMBER(SEARCH($AP10,$Q$105)),1,0)","v":0},{"$f":"IF(ISNUMBER(SEARCH($AP10,$Q$106)),1,0)","v":0},{"$f":"IF(ISNUMBER(SEARCH($AP10,$Q$107)),1,0)","v":0},{"$f":"IF(ISNUMBER(SEARCH($AP10,$Q$108)),1,0)","v":0},{"$f":"IF(ISNUMBER(SEARCH($AP10,$Q$109)),1,0)","v":0},{"$f":"IF(ISNUMBER(SEARCH($AP10,$Q$110)),1,0)","v":0},{"$f":"IF(ISNUMBER(SEARCH($AP10,$Q$111)),1,0)","v":0},{"$f":"IF(ISNUMBER(SEARCH($AP10,$Q$112)),1,0)","v":0},{"$f":"IF(ISNUMBER(SEARCH($AP10,$Q$113)),1,0)","v":0},{"$f":"IF(ISNUMBER(SEARCH($AP10,$Q$114)),1,0)","v":0},{"$f":"IF(ISNUMBER(SEARCH($AP10,$Q$115)),1,0)","v":0},{"$f":"IF(ISNUMBER(SEARCH($AP10,$Q$116)),1,0)","v":0},{"$f":"IF(ISNUMBER(SEARCH($AP10,$Q$117)),1,0)","v":0},{"$f":"IF(ISNUMBER(SEARCH($AP10,$Q$118)),1,0)","v":0},{"$f":"IF(ISNUMBER(SEARCH($AP10,$Q$119)),1,0)","v":0},{"$f":"IF(ISNUMBER(SEARCH($AP10,$Q$120)),1,0)","v":0},{"$f":"IF(ISNUMBER(SEARCH($AP10,$Q$121)),1,0)","v":0},{"$f":"IF(ISNUMBER(SEARCH($AP10,$Q$122)),1,0)","v":0},{"$f":"IF(ISNUMBER(SEARCH($AP10,$Q$123)),1,0)","v":0},{"$f":"IF(ISNUMBER(SEARCH($AP10,$Q$124)),1,0)","v":0},{"$f":"IF(ISNUMBER(SEARCH($AP10,$Q$125)),1,0)","v":0},{"$f":"IF(ISNUMBER(SEARCH($AP10,$Q$126)),1,0)","v":0},{"$f":"IF(ISNUMBER(SEARCH($AP10,$Q$127)),1,0)","v":0},{"$f":"IF(ISNUMBER(SEARCH($AP10,$Q$128)),1,0)","v":0},{"$f":"IF(ISNUMBER(SEARCH($AP10,$Q$129)),1,0)","v":0},{"$f":"IF(ISNUMBER(SEARCH($AP10,$Q$130)),1,0)","v":0},{"$f":"IF(ISNUMBER(SEARCH($AP10,$Q$131)),1,0)","v":0},{"$f":"IF(ISNUMBER(SEARCH($AP10,$Q$132)),1,0)","v":0},{"$f":"IF(ISNUMBER(SEARCH($AP10,$Q$133)),1,0)","v":0},{"$f":"IF(ISNUMBER(SEARCH($AP10,$Q$134)),1,0)","v":0},{"$f":"IF(ISNUMBER(SEARCH($AP10,$Q$135)),1,0)","v":0},{"$f":"IF(ISNUMBER(SEARCH($AP10,$Q$136)),1,0)","v":0},{"$f":"IF(ISNUMBER(SEARCH($AP10,$Q$137)),1,0)","v":0},{"$f":"IF(ISNUMBER(SEARCH($AP10,$Q$138)),1,0)","v":0},{"$f":"IF(ISNUMBER(SEARCH($AP10,$Q$139)),1,0)","v":0},{"$f":"IF(ISNUMBER(SEARCH($AP10,$Q$140)),1,0)","v":0},{"$f":"IF(ISNUMBER(SEARCH($AP10,$Q$141)),1,0)","v":0},{"$f":"IF(ISNUMBER(SEARCH($AP10,$Q$142)),1,0)","v":0},{"$f":"IF(ISNUMBER(SEARCH($AP10,$Q$143)),1,0)","v":0},{"$f":"IF(ISNUMBER(SEARCH($AP10,$Q$144)),1,0)","v":0},{"$f":"IF(ISNUMBER(SEARCH($AP10,$Q$145)),1,0)","v":0},{"$f":"IF(ISNUMBER(SEARCH($AP10,$Q$146)),1,0)","v":0},{"$f":"IF(ISNUMBER(SEARCH($AP10,$Q$147)),1,0)","v":0},{"$f":"IF(ISNUMBER(SEARCH($AP10,$Q$148)),1,0)","v":0},{"$f":"IF(ISNUMBER(SEARCH($AP10,$Q$149)),1,0)","v":0},{"$f":"IF(ISNUMBER(SEARCH($AP10,$Q$150)),1,0)","v":0},{"$f":"IF(ISNUMBER(SEARCH($AP10,$Q$151)),1,0)","v":0},{"$f":"IF(ISNUMBER(SEARCH($AP10,$Q$152)),1,0)","v":0},{"$f":"IF(ISNUMBER(SEARCH($AP10,$Q$153)),1,0)","v":0},{"$f":"IF(ISNUMBER(SEARCH($AP10,$Q$154)),1,0)","v":0},{"$f":"IF(ISNUMBER(SEARCH($AP10,$Q$155)),1,0)","v":0},{"$f":"IF(ISNUMBER(SEARCH($AP10,$Q$156)),1,0)","v":0},{"$f":"IF(ISNUMBER(SEARCH($AP10,$Q$157)),1,0)","v":0},{"$f":"IF(ISNUMBER(SEARCH($AP10,$Q$158)),1,0)","v":0},4,{"$f":"SUM(AS10:GL10)","v":0},2,{"$f":"GN10*GO10","v":0}]
[{"$nulls":15},"",null,"",{"$nulls":10},0,3,"Bay",0,0,0,0,0,0,0,0,0,null,"Bay",null,null,0,0,0,0,0,0,0,0,0,0,0,0,0,0,0,0,0,0,0,0,0,0,0,0,0,0,0,0,0,0,0,0,0,0,0,0,0,0,0,0,0,0,0,0,0,0,0,0,0,0,0,0,0,0,0,0,0,0,0,0,0,0,0,0,0,0,0,0,0,0,0,0,0,0,0,0,0,0,0,0,0,0,0,0,0,0,0,0,0,0,0,0,0,0,0,0,0,0,0,0,0,0,0,0,0,0,0,0,0,0,0,0,0,0,0,0,0,0,0,0,0,0,0,0,0,0,0,0,0,0,0,0,0,0,0,0,0,0,0,0,0,0,0,0,0,0,0,0,0,0,2,0,3,0]
[{"$nulls":15},"",null,"",{"$nulls":9},"Yes, Support Core Goals",0,4,"Bradford",0,0,0,0,0,0,0,0,0,null,"Bradford",null,null,0,0,0,0,0,0,0,0,0,0,0,0,0,0,0,0,0,0,0,0,0,0,0,0,0,0,0,0,0,0,0,0,0,0,0,0,0,0,0,0,0,0,0,0,0,0,0,0,0,0,0,0,0,0,0,0,0,0,0,0,0,0,0,0,0,0,0,0,0,0,0,0,0,0,0,0,0,0,0,0,0,0,0,0,0,0,0,0,0,0,0,0,0,0,0,0,0,0,0,0,0,0,0,0,0,0,0,0,0,0,0,0,0,0,0,0,0,0,0,0,0,0,0,0,0,0,0,0,0,0,0,0,0,0,0,0,0,0,0,0,0,0,0,0,0,0,0,0,0,0,3,0,3,0]
[{"$nulls":15},"",null,"",{"$nulls":9},"Yes, Other",0,5,"Brevard",0,0,0,0,0,0,0,0,0,null,"Brevard",null,null,0,0,0,0,0,0,0,0,0,0,0,0,0,0,0,0,0,0,0,0,0,0,0,0,0,0,0,0,0,0,0,0,0,0,0,0,0,0,0,0,0,0,0,0,0,0,0,0,0,0,0,0,0,0,0,0,0,0,0,0,0,0,0,0,0,0,0,0,0,0,0,0,0,0,0,0,0,0,0,0,0,0,0,0,0,0,0,0,0,0,0,0,0,0,0,0,0,0,0,0,0,0,0,0,0,0,0,0,0,0,0,0,0,0,0,0,0,0,0,0,0,0,0,0,0,0,0,0,0,0,0,0,0,0,0,0,0,0,0,0,0,0,0,0,0,0,0,0,0,0,7,0,1,0]
[{"$nulls":15},"",null,"",{"$nulls":9},"No",0,6,"Broward",0,0,0,0,0,0,0,0,0,null,"Broward",null,null,0,0,0,0,0,0,0,0,0,0,0,0,0,0,0,0,0,0,0,0,0,0,0,0,0,0,0,0,0,0,0,0,0,0,0,0,0,0,0,0,0,0,0,0,0,0,0,0,0,0,0,0,0,0,0,0,0,0,0,0,0,0,0,0,0,0,0,0,0,0,0,0,0,0,0,0,0,0,0,0,0,0,0,0,0,0,0,0,0,0,0,0,0,0,0,0,0,0,0,0,0,0,0,0,0,0,0,0,0,0,0,0,0,0,0,0,0,0,0,0,0,0,0,0,0,0,0,0,0,0,0,0,0,0,0,0,0,0,0,0,0,0,0,0,0,0,0,0,0,0,10,0,1,0]
[{"$nulls":15},"",null,"",{"$nulls":10},0,7,"Calhoun",0,0,0,0,0,0,0,0,0,null,"Calhoun",null,null,0,0,0,0,0,0,0,0,0,0,0,0,0,0,0,0,0,0,0,0,0,0,0,0,0,0,0,0,0,0,0,0,0,0,0,0,0,0,0,0,0,0,0,0,0,0,0,0,0,0,0,0,0,0,0,0,0,0,0,0,0,0,0,0,0,0,0,0,0,0,0,0,0,0,0,0,0,0,0,0,0,0,0,0,0,0,0,0,0,0,0,0,0,0,0,0,0,0,0,0,0,0,0,0,0,0,0,0,0,0,0,0,0,0,0,0,0,0,0,0,0,0,0,0,0,0,0,0,0,0,0,0,0,0,0,0,0,0,0,0,0,0,0,0,0,0,0,0,0,0,2,0,3,0]
[{"$nulls":15},"",null,"",{"$nulls":10},0,8,"Charlotte",0,0,0,0,0,0,0,0,0,null,"Charlotte",null,null,0,0,0,0,0,0,0,0,0,0,0,0,0,0,0,0,0,0,0,0,0,0,0,0,0,0,0,0,0,0,0,0,0,0,0,0,0,0,0,0,0,0,0,0,0,0,0,0,0,0,0,0,0,0,0,0,0,0,0,0,0,0,0,0,0,0,0,0,0,0,0,0,0,0,0,0,0,0,0,0,0,0,0,0,0,0,0,0,0,0,0,0,0,0,0,0,0,0,0,0,0,0,0,0,0,0,0,0,0,0,0,0,0,0,0,0,0,0,0,0,0,0,0,0,0,0,0,0,0,0,0,0,0,0,0,0,0,0,0,0,0,0,0,0,0,0,0,0,0,0,8,0,1,0]
[{"$nulls":15},"",null,"",{"$nulls":10},0,9,"Citrus",0,0,0,0,0,0,0,0,0,null,"Citrus",null,null,0,0,0,0,0,0,0,0,0,0,0,0,0,0,0,0,0,0,0,0,0,0,0,0,0,0,0,0,0,0,0,0,0,0,0,0,0,0,0,0,0,0,0,0,0,0,0,0,0,0,0,0,0,0,0,0,0,0,0,0,0,0,0,0,0,0,0,0,0,0,0,0,0,0,0,0,0,0,0,0,0,0,0,0,0,0,0,0,0,0,0,0,0,0,0,0,0,0,0,0,0,0,0,0,0,0,0,0,0,0,0,0,0,0,0,0,0,0,0,0,0,0,0,0,0,0,0,0,0,0,0,0,0,0,0,0,0,0,0,0,0,0,0,0,0,0,0,0,0,0,3,0,3,0]
[{"$nulls":15},"",null,"",{"$nulls":10},0,10,"Clay",0,0,0,0,0,0,0,0,0,null,"Clay",null,null,0,0,0,0,0,0,0,0,0,0,0,0,0,0,0,0,0,0,0,0,0,0,0,0,0,0,0,0,0,0,0,0,0,0,0,0,0,0,0,0,0,0,0,0,0,0,0,0,0,0,0,0,0,0,0,0,0,0,0,0,0,0,0,0,0,0,0,0,0,0,0,0,0,0,0,0,0,0,0,0,0,0,0,0,0,0,0,0,0,0,0,0,0,0,0,0,0,0,0,0,0,0,0,0,0,0,0,0,0,0,0,0,0,0,0,0,0,0,0,0,0,0,0,0,0,0,0,0,0,0,0,0,0,0,0,0,0,0,0,0,0,0,0,0,0,0,0,0,0,0,4,0,2,0]
[{"$nulls":15},"",null,"",{"$nulls":10},0,11,"Collier",0,0,0,0,0,0,0,0,0,null,"Collier",null,null,0,0,0,0,0,0,0,0,0,0,0,0,0,0,0,0,0,0,0,0,0,0,0,0,0,0,0,0,0,0,0,0,0,0,0,0,0,0,0,0,0,0,0,0,0,0,0,0,0,0,0,0,0,0,0,0,0,0,0,0,0,0,0,0,0,0,0,0,0,0,0,0,0,0,0,0,0,0,0,0,0,0,0,0,0,0,0,0,0,0,0,0,0,0,0,0,0,0,0,0,0,0,0,0,0,0,0,0,0,0,0,0,0,0,0,0,0,0,0,0,0,0,0,0,0,0,0,0,0,0,0,0,0,0,0,0,0,0,0,0,0,0,0,0,0,0,0,0,0,0,8,0,1,0]
[{"$nulls":15},"",null,"",{"$nulls":10},0,null,"Columbia",0,0,0,0,0,0,0,0,0,null,"Columbia",null,null,0,0,0,0,0,0,0,0,0,0,0,0,0,0,0,0,0,0,0,0,0,0,0,0,0,0,0,0,0,0,0,0,0,0,0,0,0,0,0,0,0,0,0,0,0,0,0,0,0,0,0,0,0,0,0,0,0,0,0,0,0,0,0,0,0,0,0,0,0,0,0,0,0,0,0,0,0,0,0,0,0,0,0,0,0,0,0,0,0,0,0,0,0,0,0,0,0,0,0,0,0,0,0,0,0,0,0,0,0,0,0,0,0,0,0,0,0,0,0,0,0,0,0,0,0,0,0,0,0,0,0,0,0,0,0,0,0,0,0,0,0,0,0,0,0,0,0,0,0,0,3,0,3,0]
[{"$nulls":15},"",null,"",{"$nulls":10},0,null,"DeSoto",0,0,0,0,0,0,0,0,0,null,"DeSoto",null,null,0,0,0,0,0,0,0,0,0,0,0,0,0,0,0,0,0,0,0,0,0,0,0,0,0,0,0,0,0,0,0,0,0,0,0,0,0,0,0,0,0,0,0,0,0,0,0,0,0,0,0,0,0,0,0,0,0,0,0,0,0,0,0,0,0,0,0,0,0,0,0,0,0,0,0,0,0,0,0,0,0,0,0,0,0,0,0,0,0,0,0,0,0,0,0,0,0,0,0,0,0,0,0,0,0,0,0,0,0,0,0,0,0,0,0,0,0,0,0,0,0,0,0,0,0,0,0,0,0,0,0,0,0,0,0,0,0,0,0,0,0,0,0,0,0,0,0,0,0,0,8,0,1,0]
[{"$nulls":15},"",null,"",{"$nulls":10},0,null,"Dixie",0,0,0,0,0,0,0,0,0,null,"Dixie",null,null,0,0,0,0,0,0,0,0,0,0,0,0,0,0,0,0,0,0,0,0,0,0,0,0,0,0,0,0,0,0,0,0,0,0,0,0,0,0,0,0,0,0,0,0,0,0,0,0,0,0,0,0,0,0,0,0,0,0,0,0,0,0,0,0,0,0,0,0,0,0,0,0,0,0,0,0,0,0,0,0,0,0,0,0,0,0,0,0,0,0,0,0,0,0,0,0,0,0,0,0,0,0,0,0,0,0,0,0,0,0,0,0,0,0,0,0,0,0,0,0,0,0,0,0,0,0,0,0,0,0,0,0,0,0,0,0,0,0,0,0,0,0,0,0,0,0,0,0,0,0,3,0,3,0]
[{"$nulls":15},"",null,"",{"$nulls":10},0,null,"Duval",0,0,0,0,0,0,0,0,0,null,"Duval",null,null,0,0,0,0,0,0,0,0,0,0,0,0,0,0,0,0,0,0,0,0,0,0,0,0,0,0,0,0,0,0,0,0,0,0,0,0,0,0,0,0,0,0,0,0,0,0,0,0,0,0,0,0,0,0,0,0,0,0,0,0,0,0,0,0,0,0,0,0,0,0,0,0,0,0,0,0,0,0,0,0,0,0,0,0,0,0,0,0,0,0,0,0,0,0,0,0,0,0,0,0,0,0,0,0,0,0,0,0,0,0,0,0,0,0,0,0,0,0,0,0,0,0,0,0,0,0,0,0,0,0,0,0,0,0,0,0,0,0,0,0,0,0,0,0,0,0,0,0,0,0,4,0,2,0]
[{"$nulls":15},"",null,"",{"$nulls":10},0,null,"Escambia",0,0,0,0,0,0,0,0,0,null,"Escambia",null,null,0,0,0,0,0,0,0,0,0,0,0,0,0,0,0,0,0,0,0,0,0,0,0,0,0,0,0,0,0,0,0,0,0,0,0,0,0,0,0,0,0,0,0,0,0,0,0,0,0,0,0,0,0,0,0,0,0,0,0,0,0,0,0,0,0,0,0,0,0,0,0,0,0,0,0,0,0,0,0,0,0,0,0,0,0,0,0,0,0,0,0,0,0,0,0,0,0,0,0,0,0,0,0,0,0,0,0,0,0,0,0,0,0,0,0,0,0,0,0,0,0,0,0,0,0,0,0,0,0,0,0,0,0,0,0,0,0,0,0,0,0,0,0,0,0,0,0,0,0,0,1,0,3,0]
[{"$nulls":15},"",null,"",{"$nulls":10},0,null,"Flagler",0,0,0,0,0,0,0,{"$f":"IF(Z25=\"Yes, Support Core Goals\", 2, IF(Z25=\"Yes, Other\", 1, 0))","v":0},0,null,"Flagler",null,null,0,0,0,0,0,0,0,0,0,0,0,0,0,0,0,0,0,0,0,0,0,0,0,0,0,0,0,0,0,0,0,0,0,0,0,0,0,0,0,0,0,0,0,0,0,0,0,0,0,0,0,0,0,0,0,0,0,0,0,0,0,0,0,0,0,0,0,0,0,0,0,0,0,0,0,0,0,0,0,0,0,0,0,0,0,0,0,0,0,0,0,0,0,0,0,0,0,0,0,0,0,0,0,0,0,0,0,0,0,0,0,0,0,0,0,0,0,0,0,0,0,0,0,0,0,0,0,0,0,0,0,0,0,0,0,0,0,0,0,0,0,0,0,0,0,0,0,0,0,0,4,0,2,0]
[{"$nulls":15},"",null,"",{"$nulls":10},0,null,"Franklin",0,0,0,0,0,0,0,0,0,null,"Franklin",null,null,0,0,0,0,0,0,0,0,0,0,0,0,0,0,0,0,0,0,0,0,0,0,0,0,0,0,0,0,0,0,0,0,0,0,0,0,0,0,0,0,0,0,0,0,0,0,0,0,0,0,0,0,0,0,0,0,0,0,0,0,0,0,0,0,0,0,0,0,0,0,0,0,0,0,0,0,0,0,0,0,0,0,0,0,0,0,0,0,0,0,0,0,0,0,0,0,0,0,0,0,0,0,0,0,0,0,0,0,0,0,0,0,0,0,0,0,0,0,0,0,0,0,0,0,0,0,0,0,0,0,0,0,0,0,0,0,0,0,0,0,0,0,0,0,0,0,0,0,0,0,2,0,3,0]
[{"$nulls":15},"",null,"",{"$nulls":10},0,null,"Gadsden",0,0,0,0,0,0,0,{"$f":"IF(Z27=\"Yes, Support Core Goals\", 2, IF(Z27=\"Yes, Other\", 1, 0))","v":0},0,null,"Gadsden",null,null,0,0,0,0,0,0,0,0,0,0,0,0,0,0,0,0,0,0,0,0,0,0,0,0,0,0,0,0,0,0,0,0,0,0,0,0,0,0,0,0,0,0,0,0,0,0,0,0,0,0,0,0,0,0,0,0,0,0,0,0,0,0,0,0,0,0,0,0,0,0,0,0,0,0,0,0,0,0,0,0,0,0,0,0,0,0,0,0,0,0,0,0,0,0,0,0,0,0,0,0,0,0,0,0,0,0,0,0,0,0,0,0,0,0,0,0,0,0,0,0,0,0,0,0,0,0,0,0,0,0,0,0,0,0,0,0,0,0,0,0,0,0,0,0,0,0,0,0,0,0,2,0,3,0]
[{"$nulls":15},"",null,"",{"$nulls":10},0,null,"Gilchrist",0,0,0,0,0,0,0,0,0,null,"Gilchrist",null,null,0,0,0,0,0,0,0,0,0,0,0,0,0,0,0,0,0,0,0,0,0,0,0,0,0,0,0,0,0,0,0,0,0,0,0,0,0,0,0,0,0,0,0,0,0,0,0,0,0,0,0,0,0,0,0,0,0,0,0,0,0,0,0,0,0,0,0,0,0,0,0,0,0,0,0,0,0,0,0,0,0,0,0,0,0,0,0,0,0,0,0,0,0,0,0,0,0,0,0,0,0,0,0,0,0,0,0,0,0,0,0,0,0,0,0,0,0,0,0,0,0,0,0,0,0,0,0,0,0,0,0,0,0,0,0,0,0,0,0,0,0,0,0,0,0,0,0,0,0,0,3,0,3,0]
[{"$nulls":15},"",null,"",{"$nulls":10},0,null,"Glades",0,0,0,0,0,0,0,0,0,null,"Glades",null,null,0,0,0,0,0,0,0,0,0,0,0,0,0,0,0,0,0,0,0,0,0,0,0,0,0,0,0,0,0,0,0,0,0,0,0,0,0,0,0,0,0,0,0,0,0,0,0,0,0,0,0,0,0,0,0,0,0,0,0,0,0,0,0,0,0,0,0,0,0,0,0,0,0,0,0,0,0,0,0,0,0,0,0,0,0,0,0,0,0,0,0,0,0,0,0,0,0,0,0,0,0,0,0,0,0,0,0,0,0,0,0,0,0,0,0,0,0,0,0,0,0,0,0,0,0,0,0,0,0,0,0,0,0,0,0,0,0,0,0,0,0,0,0,0,0,0,0,0,0,0,8,0,1,0]
[{"$nulls":15},"",null,"",{"$nulls":10},0,null,"Gulf",0,0,0,0,0,0,0,0,0,null,"Gulf",null,null,0,0,0,0,0,0,0,0,0,0,0,0,0,0,0,0,0,0,0,0,0,0,0,0,0,0,0,0,0,0,0,0,0,0,0,0,0,0,0,0,0,0,0,0,0,0,0,0,0,0,0,0,0,0,0,0,0,0,0,0,0,0,0,0,0,0,0,0,0,0,0,0,0,0,0,0,0,0,0,0,0,0,0,0,0,0,0,0,0,0,0,0,0,0,0,0,0,0,0,0,0,0,0,0,0,0,0,0,0,0,0,0,0,0,0,0,0,0,0,0,0,0,0,0,0,0,0,0,0,0,0,0,0,0,0,0,0,0,0,0,0,0,0,0,0,0,0,0,0,0,2,0,3,0]
[{"$nulls":15},"",null,"",{"$nulls":10},0,null,"Hamilton",0,0,0,0,0,0,0,0,0,null,"Hamilton",null,null,0,0,0,0,0,0,0,0,0,0,0,0,0,0,0,0,0,0,0,0,0,0,0,0,0,0,0,0,0,0,0,0,0,0,0,0,0,0,0,0,0,0,0,0,0,0,0,0,0,0,0,0,0,0,0,0,0,0,0,0,0,0,0,0,0,0,0,0,0,0,0,0,0,0,0,0,0,0,0,0,0,0,0,0,0,0,0,0,0,0,0,0,0,0,0,0,0,0,0,0,0,0,0,0,0,0,0,0,0,0,0,0,0,0,0,0,0,0,0,0,0,0,0,0,0,0,0,0,0,0,0,0,0,0,0,0,0,0,0,0,0,0,0,0,0,0,0,0,0,0,3,0,3,0]
[{"$nulls":15},"",null,"",{"$nulls":10},0,null,"Hardee",0,0,0,0,0,0,0,0,0,null,"Hardee",null,null,0,0,0,0,0,0,0,0,0,0,0,0,0,0,0,0,0,0,0,0,0,0,0,0,0,0,0,0,0,0,0,0,0,0,0,0,0,0,0,0,0,0,0,0,0,0,0,0,0,0,0,0,0,0,0,0,0,0,0,0,0,0,0,0,0,0,0,0,0,0,0,0,0,0,0,0,0,0,0,0,0,0,0,0,0,0,0,0,0,0,0,0,0,0,0,0,0,0,0,0,0,0,0,0,0,0,0,0,0,0,0,0,0,0,0,0,0,0,0,0,0,0,0,0,0,0,0,0,0,0,0,0,0,0,0,0,0,0,0,0,0,0,0,0,0,0,0,0,0,0,6,0,2,0]
[{"$nulls":15},"",null,"",{"$nulls":10},0,null,"Hendry",0,0,0,0,0,0,0,0,0,null,"Hendry",null,null,0,0,0,0,0,0,0,0,0,0,0,0,0,0,0,0,0,0,0,0,0,0,0,0,0,0,0,0,0,0,0,0,0,0,0,0,0,0,0,0,0,0,0,0,0,0,0,0,0,0,0,0,0,0,0,0,0,0,0,0,0,0,0,0,0,0,0,0,0,0,0,0,0,0,0,0,0,0,0,0,0,0,0,0,0,0,0,0,0,0,0,0,0,0,0,0,0,0,0,0,0,0,0,0,0,0,0,0,0,0,0,0,0,0,0,0,0,0,0,0,0,0,0,0,0,0,0,0,0,0,0,0,0,0,0,0,0,0,0,0,0,0,0,0,0,0,0,0,0,0,8,0,1,0]
[{"$nulls":15},"",null,"",{"$nulls":10},0,null,"Hernando",0,0,0,0,0,0,0,0,0,null,"Hernando",null,null,0,0,0,0,0,0,0,0,0,0,0,0,0,0,0,0,0,0,0,0,0,0,0,0,0,0,0,0,0,0,0,0,0,0,0,0,0,0,0,0,0,0,0,0,0,0,0,0,0,0,0,0,0,0,0,0,0,0,0,0,0,0,0,0,0,0,0,0,0,0,0,0,0,0,0,0,0,0,0,0,0,0,0,0,0,0,0,0,0,0,0,0,0,0,0,0,0,0,0,0,0,0,0,0,0,0,0,0,0,0,0,0,0,0,0,0,0,0,0,0,0,0,0,0,0,0,0,0,0,0,0,0,0,0,0,0,0,0,0,0,0,0,0,0,0,0,0,0,0,0,3,0,3,0]
[{"$nulls":15},"",null,"",{"$nulls":10},0,null,"Highlands",0,0,0,0,0,0,0,0,0,null,"Highlands",null,null,0,0,0,0,0,0,0,0,0,0,0,0,0,0,0,0,0,0,0,0,0,0,0,0,0,0,0,0,0,0,0,0,0,0,0,0,0,0,0,0,0,0,0,0,0,0,0,0,0,0,0,0,0,0,0,0,0,0,0,0,0,0,0,0,0,0,0,0,0,0,0,0,0,0,0,0,0,0,0,0,0,0,0,0,0,0,0,0,0,0,0,0,0,0,0,0,0,0,0,0,0,0,0,0,0,0,0,0,0,0,0,0,0,0,0,0,0,0,0,0,0,0,0,0,0,0,0,0,0,0,0,0,0,0,0,0,0,0,0,0,0,0,0,0,0,0,0,0,0,0,6,0,2,0]
[{"$nulls":15},"",null,"",{"$nulls":10},0,null,"Hillsborough",0,0,0,0,0,0,0,0,0,null,"Hillsborough",null,null,0,0,0,0,0,0,0,0,0,0,0,0,0,0,0,0,0,0,0,0,0,0,0,0,0,0,0,0,0,0,0,0,0,0,0,0,0,0,0,0,0,0,0,0,0,0,0,0,0,0,0,0,0,0,0,0,0,0,0,0,0,0,0,0,0,0,0,0,0,0,0,0,0,0,0,0,0,0,0,0,0,0,0,0,0,0,0,0,0,0,0,0,0,0,0,0,0,0,0,0,0,0,0,0,0,0,0,0,0,0,0,0,0,0,0,0,0,0,0,0,0,0,0,0,0,0,0,0,0,0,0,0,0,0,0,0,0,0,0,0,0,0,0,0,0,0,0,0,0,0,6,0,2,0]
[{"$nulls":15},"",null,"",{"$nulls":10},0,null,"Holmes",0,0,0,0,0,0,0,0,0,null,"Holmes",null,null,0,0,0,0,0,0,0,0,0,0,0,0,0,0,0,0,0,0,0,0,0,0,0,0,0,0,0,0,0,0,0,0,0,0,0,0,0,0,0,0,0,0,0,0,0,0,0,0,0,0,0,0,0,0,0,0,0,0,0,0,0,0,0,0,0,0,0,0,0,0,0,0,0,0,0,0,0,0,0,0,0,0,0,0,0,0,0,0,0,0,0,0,0,0,0,0,0,0,0,0,0,0,0,0,0,0,0,0,0,0,0,0,0,0,0,0,0,0,0,0,0,0,0,0,0,0,0,0,0,0,0,0,0,0,0,0,0,0,0,0,0,0,0,0,0,0,0,0,0,0,2,0,3,0]
[{"$nulls":15},"",null,"",{"$nulls":10},0,null,"Indian River",0,0,0,0,0,0,0,0,0,null,"Indian River",null,null,0,0,0,0,0,0,0,0,0,0,0,0,0,0,0,0,0,0,0,0,0,0,0,0,0,0,0,0,0,0,0,0,0,0,0,0,0,0,0,0,0,0,0,0,0,0,0,0,0,0,0,0,0,0,0,0,0,0,0,0,0,0,0,0,0,0,0,0,0,0,0,0,0,0,0,0,0,0,0,0,0,0,0,0,0,0,0,0,0,0,0,0,0,0,0,0,0,0,0,0,0,0,0,0,0,0,0,0,0,0,0,0,0,0,0,0,0,0,0,0,0,0,0,0,0,0,0,0,0,0,0,0,0,0,0,0,0,0,0,0,0,0,0,0,0,0,0,0,0,0,9,0,1,0]
[{"$nulls":15},"",null,"",{"$nulls":10},0,null,"Jackson",0,0,0,0,0,0,0,0,0,null,"Jackson",null,null,0,0,0,0,0,0,0,0,0,0,0,0,0,0,0,0,0,0,0,0,0,0,0,0,0,0,0,0,0,0,0,0,0,0,0,0,0,0,0,0,0,0,0,0,0,0,0,0,0,0,0,0,0,0,0,0,0,0,0,0,0,0,0,0,0,0,0,0,0,0,0,0,0,0,0,0,0,0,0,0,0,0,0,0,0,0,0,0,0,0,0,0,0,0,0,0,0,0,0,0,0,0,0,0,0,0,0,0,0,0,0,0,0,0,0,0,0,0,0,0,0,0,0,0,0,0,0,0,0,0,0,0,0,0,0,0,0,0,0,0,0,0,0,0,0,0,0,0,0,0,2,0,3,0]
[{"$nulls":15},"",null,"",{"$nulls":10},0,null,"Jefferson",0,0,0,0,0,0,0,0,0,null,"Jefferson",null,null,0,0,0,0,0,0,0,0,0,0,0,0,0,0,0,0,0,0,0,0,0,0,0,0,0,0,0,0,0,0,0,0,0,0,0,0,0,0,0,0,0,0,0,0,0,0,0,0,0,0,0,0,0,0,0,0,0,0,0,0,0,0,0,0,0,0,0,0,0,0,0,0,0,0,0,0,0,0,0,0,0,0,0,0,0,0,0,0,0,0,0,0,0,0,0,0,0,0,0,0,0,0,0,0,0,0,0,0,0,0,0,0,0,0,0,0,0,0,0,0,0,0,0,0,0,0,0,0,0,0,0,0,0,0,0,0,0,0,0,0,0,0,0,0,0,0,0,0,0,0,2,0,3,0]
[{"$nulls":15},{"$f":"IF(ISBLANK(O41),\"\",LEN(TRIM(O41))-LEN(SUBSTITUTE(TRIM(O41),\",\",\"\"))+1)","v":""},null,{"$f":"IF(ISBLANK(Q41),\"\",LEN(TRIM(Q41))-LEN(SUBSTITUTE(TRIM(Q41),\",\",\"\"))+1)","v":""},{"$nulls":10},{"$f":"IF(ISBLANK(A41), 0, 1)","v":0},null,"Lafayette",{"$f":"IF(J41=\"Yes\", 3, 0)","v":0},{"$f":"IF(M41=\"Yes\", 2, 0)","v":0},{"$f":"IF(OR(L41=\"Yes\", N41=\"Yes\", K41=\"Yes\"), 1, 0)","v":0},0,0,0,0,0,{"$f":"IF(AND(AA41>=3, Z41=\"Yes, Support Core Goals\"), 2, IF(ISBLANK(AA41), 0, 1))","v":0},null,"Lafayette",null,null,0,0,0,0,0,0,0,0,0,0,0,0,0,0,0,0,0,0,0,0,0,0,0,0,0,0,0,0,0,0,0,0,0,0,0,0,0,0,0,0,0,0,0,0,0,0,0,0,0,0,0,0,0,0,0,0,0,0,0,0,0,0,0,0,0,0,0,0,0,0,0,0,0,0,0,0,0,0,0,0,0,0,0,0,0,0,0,0,0,0,0,0,0,0,0,0,0,0,0,0,0,0,0,0,0,0,0,0,0,0,0,0,0,0,0,0,0,0,0,0,0,0,0,0,0,0,0,0,0,0,0,0,0,0,0,0,0,0,0,0,0,0,0,0,0,0,0,0,0,0,3,0,3,0]
[{"$nulls":15},"",null,"",{"$nulls":10},0,null,"Lake",0,0,0,0,0,0,0,0,0,null,"Lake",null,null,0,0,0,0,0,0,0,0,0,0,0,0,0,0,0,0,0,0,0,0,0,0,0,0,0,0,0,0,0,0,0,0,0,0,0,0,0,0,0,0,0,0,0,0,0,0,0,0,0,0,0,0,0,0,0,0,0,0,0,0,0,0,0,0,0,0,0,0,0,0,0,0,0,0,0,0,0,0,0,0,0,0,0,0,0,0,0,0,0,0,0,0,0,0,0,0,0,0,0,0,0,0,0,0,0,0,0,0,0,0,0,0,0,0,0,0,0,0,0,0,0,0,0,0,0,0,0,0,0,0,0,0,0,0,0,0,0,0,0,0,0,0,0,0,0,0,0,0,0,0,3,0,3,0]
[{"$nulls":15},"",null,"",{"$nulls":10},0,null,"Lee",0,0,0,0,0,0,0,0,0,null,"Lee",null,null,0,0,0,0,0,0,0,0,0,0,0,0,0,0,0,0,0,0,0,0,0,0,0,0,0,0,0,0,0,0,0,0,0,0,0,0,0,0,0,0,0,0,0,0,0,0,0,0,0,0,0,0,0,0,0,0,0,0,0,0,0,0,0,0,0,0,0,0,0,0,0,0,0,0,0,0,0,0,0,0,0,0,0,0,0,0,0,0,0,0,0,0,0,0,0,0,0,0,0,0,0,0,0,0,0,0,0,0,0,0,0,0,0,0,0,0,0,0,0,0,0,0,0,0,0,0,0,0,0,0,0,0,0,0,0,0,0,0,0,0,0,0,0,0,0,0,0,0,0,0,8,0,1,0]
[{"$nulls":15},"",null,"",{"$nulls":10},0,null,"Leon",0,0,0,0,0,0,0,0,0,null,"Leon",null,null,0,0,0,0,0,0,0,0,0,0,0,0,0,0,0,0,0,0,0,0,0,0,0,0,0,0,0,0,0,0,0,0,0,0,0,0,0,0,0,0,0,0,0,0,0,0,0,0,0,0,0,0,0,0,0,0,0,0,0,0,0,0,0,0,0,0,0,0,0,0,0,0,0,0,0,0,0,0,0,0,0,0,0,0,0,0,0,0,0,0,0,0,0,0,0,0,0,0,0,0,0,0,0,0,0,0,0,0,0,0,0,0,0,0,0,0,0,0,0,0,0,0,0,0,0,0,0,0,0,0,0,0,0,0,0,0,0,0,0,0,0,0,0,0,0,0,0,0,0,0,2,0,3,0]
[{"$nulls":15},"",null,"",{"$nulls":10},0,null,"Levy",0,0,0,0,0,0,0,0,0,null,"Levy",null,null,0,0,0,0,0,0,0,0,0,0,0,0,0,0,0,0,0,0,0,0,0,0,0,0,0,0,0,0,0,0,0,0,0,0,0,0,0,0,0,0,0,0,0,0,0,0,0,0,0,0,0,0,0,0,0,0,0,0,0,0,0,0,0,0,0,0,0,0,0,0,0,0,0,0,0,0,0,0,0,0,0,0,0,0,0,0,0,0,0,0,0,0,0,0,0,0,0,0,0,0,0,0,0,0,0,0,0,0,0,0,0,0,0,0,0,0,0,0,0,0,0,0,0,0,0,0,0,0,0,0,0,0,0,0,0,0,0,0,0,0,0,0,0,0,0,0,0,0,0,0,3,0,3,0]
[{"$nulls":15},"",null,"",{"$nulls":10},0,null,"Liberty",0,0,0,0,0,0,0,0,0,null,"Liberty",null,null,0,0,0,0,0,0,0,0,0,0,0,0,0,0,0,0,0,0,0,0,0,0,0,0,0,0,0,0,0,0,0,0,0,0,0,0,0,0,0,0,0,0,0,0,0,0,0,0,0,0,0,0,0,0,0,0,0,0,0,0,0,0,0,0,0,0,0,0,0,0,0,0,0,0,0,0,0,0,0,0,0,0,0,0,0,0,0,0,0,0,0,0,0,0,0,0,0,0,0,0,0,0,0,0,0,0,0,0,0,0,0,0,0,0,0,0,0,0,0,0,0,0,0,0,0,0,0,0,0,0,0,0,0,0,0,0,0,0,0,0,0,0,0,0,0,0,0,0,0,0,2,0,3,0]
[{"$nulls":15},"",null,"",{"$nulls":10},0,null,"Madison",0,0,0,0,0,0,0,0,0,null,"Madison",null,null,0,0,0,0,0,0,0,0,0,0,0,0,0,0,0,0,0,0,0,0,0,0,0,0,0,0,0,0,0,0,0,0,0,0,0,0,0,0,0,0,0,0,0,0,0,0,0,0,0,0,0,0,0,0,0,0,0,0,0,0,0,0,0,0,0,0,0,0,0,0,0,0,0,0,0,0,0,0,0,0,0,0,0,0,0,0,0,0,0,0,0,0,0,0,0,0,0,0,0,0,0,0,0,0,0,0,0,0,0,0,0,0,0,0,0,0,0,0,0,0,0,0,0,0,0,0,0,0,0,0,0,0,0,0,0,0,0,0,0,0,0,0,0,0,0,0,0,0,0,0,2,0,3,0]
[{"$nulls":15},"",null,"",{"$nulls":10},0,null,"Manatee",0,0,0,0,0,0,0,0,0,null,"Manatee",null,null,0,0,0,0,0,0,0,0,0,0,0,0,0,0,0,0,0,0,0,0,0,0,0,0,0,0,0,0,0,0,0,0,0,0,0,0,0,0,0,0,0,0,0,0,0,0,0,0,0,0,0,0,0,0,0,0,0,0,0,0,0,0,0,0,0,0,0,0,0,0,0,0,0,0,0,0,0,0,0,0,0,0,0,0,0,0,0,0,0,0,0,0,0,0,0,0,0,0,0,0,0,0,0,0,0,0,0,0,0,0,0,0,0,0,0,0,0,0,0,0,0,0,0,0,0,0,0,0,0,0,0,0,0,0,0,0,0,0,0,0,0,0,0,0,0,0,0,0,0,0,6,0,2,0]
[{"$nulls":15},"",null,"",{"$nulls":10},0,null,"Marion",0,0,0,0,0,0,0,0,0,null,"Marion",null,null,0,0,0,0,0,0,0,0,0,0,0,0,0,0,0,0,0,0,0,0,0,0,0,0,0,0,0,0,0,0,0,0,0,0,0,0,0,0,0,0,0,0,0,0,0,0,0,0,0,0,0,0,0,0,0,0,0,0,0,0,0,0,0,0,0,0,0,0,0,0,0,0,0,0,0,0,0,0,0,0,0,0,0,0,0,0,0,0,0,0,0,0,0,0,0,0,0,0,0,0,0,0,0,0,0,0,0,0,0,0,0,0,0,0,0,0,0,0,0,0,0,0,0,0,0,0,0,0,0,0,0,0,0,0,0,0,0,0,0,0,0,0,0,0,0,0,0,0,0,0,3,0,3,0]
[{"$nulls":15},"",null,"",{"$nulls":10},0,null,"Martin",0,0,0,0,0,0,0,0,0,null,"Martin",null,null,0,0,0,0,0,0,0,0,0,0,0,0,0,0,0,0,0,0,0,0,0,0,0,0,0,0,0,0,0,0,0,0,0,0,0,0,0,0,0,0,0,0,0,0,0,0,0,0,0,0,0,0,0,0,0,0,0,0,0,0,0,0,0,0,0,0,0,0,0,0,0,0,0,0,0,0,0,0,0,0,0,0,0,0,0,0,0,0,0,0,0,0,0,0,0,0,0,0,0,0,0,0,0,0,0,0,0,0,0,0,0,0,0,0,0,0,0,0,0,0,0,0,0,0,0,0,0,0,0,0,0,0,0,0,0,0,0,0,0,0,0,0,0,0,0,0,0,0,0,0,9,0,1,0]
[{"$nulls":15},"",null,"",{"$nulls":10},0,null,"Miami-Dade",0,0,0,0,0,0,0,0,0,null,"Miami-Dade",null,null,0,0,0,0,0,0,0,0,0,0,0,0,0,0,0,0,0,0,0,0,0,0,0,0,0,0,0,0,0,0,0,0,0,0,0,0,0,0,0,0,0,0,0,0,0,0,0,0,0,0,0,0,0,0,0,0,0,0,0,0,0,0,0,0,0,0,0,0,0,0,0,0,0,0,0,0,0,0,0,0,0,0,0,0,0,0,0,0,0,0,0,0,0,0,0,0,0,0,0,0,0,0,0,0,0,0,0,0,0,0,0,0,0,0,0,0,0,0,0,0,0,0,0,0,0,0,0,0,0,0,0,0,0,0,0,0,0,0,0,0,0,0,0,0,0,0,0,0,0,0,11,0,1,0]
[{"$nulls":15},"",null,"",{"$nulls":10},0,null,"Monroe",0,0,0,0,0,0,0,0,0,null,"Monroe",null,null,0,0,0,0,0,0,0,0,0,0,0,0,0,0,0,0,0,0,0,0,0,0,0,0,0,0,0,0,0,0,0,0,0,0,0,0,0,0,0,0,0,0,0,0,0,0,0,0,0,0,0,0,0,0,0,0,0,0,0,0,0,0,0,0,0,0,0,0,0,0,0,0,0,0,0,0,0,0,0,0,0,0,0,0,0,0,0,0,0,0,0,0,0,0,0,0,0,0,0,0,0,0,0,0,0,0,0,0,0,0,0,0,0,0,0,0,0,0,0,0,0,0,0,0,0,0,0,0,0,0,0,0,0,0,0,0,0,0,0,0,0,0,0,0,0,0,0,0,0,0,11,0,1,0]
[{"$nulls":15},"",null,"",{"$nulls":10},0,null,"Nassau",0,0,0,0,0,0,0,0,0,null,"Nassau",null,null,0,0,0,0,0,0,0,0,0,0,0,0,0,0,0,0,0,0,0,0,0,0,0,0,0,0,0,0,0,0,0,0,0,0,0,0,0,0,0,0,0,0,0,0,0,0,0,0,0,0,0,0,0,0,0,0,0,0,0,0,0,0,0,0,0,0,0,0,0,0,0,0,0,0,0,0,0,0,0,0,0,0,0,0,0,0,0,0,0,0,0,0,0,0,0,0,0,0,0,0,0,0,0,0,0,0,0,0,0,0,0,0,0,0,0,0,0,0,0,0,0,0,0,0,0,0,0,0,0,0,0,0,0,0,0,0,0,0,0,0,0,0,0,0,0,0,0,0,0,0,4,0,2,0]
[{"$nulls":15},"",null,"",{"$nulls":10},0,null,"Okaloosa",0,0,0,0,0,0,0,0,0,null,"Okaloosa",null,null,0,0,0,0,0,0,0,0,0,0,0,0,0,0,0,0,0,0,0,0,0,0,0,0,0,0,0,0,0,0,0,0,0,0,0,0,0,0,0,0,0,0,0,0,0,0,0,0,0,0,0,0,0,0,0,0,0,0,0,0,0,0,0,0,0,0,0,0,0,0,0,0,0,0,0,0,0,0,0,0,0,0,0,0,0,0,0,0,0,0,0,0,0,0,0,0,0,0,0,0,0,0,0,0,0,0,0,0,0,0,0,0,0,0,0,0,0,0,0,0,0,0,0,0,0,0,0,0,0,0,0,0,0,0,0,0,0,0,0,0,0,0,0,0,0,0,0,0,0,0,1,0,3,0]
[{"$nulls":15},"",null,"",{"$nulls":10},0,null,"Okeechobee",0,0,0,0,0,0,0,0,0,null,"Okeechobee",null,null,0,0,0,0,0,0,0,0,0,0,0,0,0,0,0,0,0,0,0,0,0,0,0,0,0,0,0,0,0,0,0,0,0,0,0,0,0,0,0,0,0,0,0,0,0,0,0,0,0,0,0,0,0,0,0,0,0,0,0,0,0,0,0,0,0,0,0,0,0,0,0,0,0,0,0,0,0,0,0,0,0,0,0,0,0,0,0,0,0,0,0,0,0,0,0,0,0,0,0,0,0,0,0,0,0,0,0,0,0,0,0,0,0,0,0,0,0,0,0,0,0,0,0,0,0,0,0,0,0,0,0,0,0,0,0,0,0,0,0,0,0,0,0,0,0,0,0,0,0,0,9,0,1,0]
[{"$nulls":15},"",null,"",{"$nulls":10},0,null,"Orange",0,0,0,0,0,0,0,0,0,null,"Orange",null,null,0,0,0,0,0,0,0,0,0,0,0,0,0,0,0,0,0,0,0,0,0,0,0,0,0,0,0,0,0,0,0,0,0,0,0,0,0,0,0,0,0,0,0,0,0,0,0,0,0,0,0,0,0,0,0,0,0,0,0,0,0,0,0,0,0,0,0,0,0,0,0,0,0,0,0,0,0,0,0,0,0,0,0,0,0,0,0,0,0,0,0,0,0,0,0,0,0,0,0,0,0,0,0,0,0,0,0,0,0,0,0,0,0,0,0,0,0,0,0,0,0,0,0,0,0,0,0,0,0,0,0,0,0,0,0,0,0,0,0,0,0,0,0,0,0,0,0,0,0,0,7,0,1,0]
[{"$nulls":15},"",null,"",{"$nulls":10},0,null,"Osceola",0,0,0,0,0,0,0,0,0,null,"Osceola",null,null,0,0,0,0,0,0,0,0,0,0,0,0,0,0,0,0,0,0,0,0,0,0,0,0,0,0,0,0,0,0,0,0,0,0,0,0,0,0,0,0,0,0,0,0,0,0,0,0,0,0,0,0,0,0,0,0,0,0,0,0,0,0,0,0,0,0,0,0,0,0,0,0,0,0,0,0,0,0,0,0,0,0,0,0,0,0,0,0,0,0,0,0,0,0,0,0,0,0,0,0,0,0,0,0,0,0,0,0,0,0,0,0,0,0,0,0,0,0,0,0,0,0,0,0,0,0,0,0,0,0,0,0,0,0,0,0,0,0,0,0,0,0,0,0,0,0,0,0,0,0,7,0,1,0]
[{"$nulls":15},"",null,"",{"$nulls":10},0,null,"Palm Beach",0,0,0,0,0,0,0,0,0,null,"Palm Beach",null,null,0,0,0,0,0,0,0,0,0,0,0,0,0,0,0,0,0,0,0,0,0,0,0,0,0,0,0,0,0,0,0,0,0,0,0,0,0,0,0,0,0,0,0,0,0,0,0,0,0,0,0,0,0,0,0,0,0,0,0,0,0,0,0,0,0,0,0,0,0,0,0,0,0,0,0,0,0,0,0,0,0,0,0,0,0,0,0,0,0,0,0,0,0,0,0,0,0,0,0,0,0,0,0,0,0,0,0,0,0,0,0,0,0,0,0,0,0,0,0,0,0,0,0,0,0,0,0,0,0,0,0,0,0,0,0,0,0,0,0,0,0,0,0,0,0,0,0,0,0,0,9,0,1,0]
[{"$nulls":15},"",null,"",{"$nulls":10},0,null,"Pasco",0,0,0,0,0,0,0,0,0,null,"Pasco",null,null,0,0,0,0,0,0,0,0,0,0,0,0,0,0,0,0,0,0,0,0,0,0,0,0,0,0,0,0,0,0,0,0,0,0,0,0,0,0,0,0,0,0,0,0,0,0,0,0,0,0,0,0,0,0,0,0,0,0,0,0,0,0,0,0,0,0,0,0,0,0,0,0,0,0,0,0,0,0,0,0,0,0,0,0,0,0,0,0,0,0,0,0,0,0,0,0,0,0,0,0,0,0,0,0,0,0,0,0,0,0,0,0,0,0,0,0,0,0,0,0,0,0,0,0,0,0,0,0,0,0,0,0,0,0,0,0,0,0,0,0,0,0,0,0,0,0,0,0,0,0,5,0,2,0]
[{"$nulls":15},"",null,"",{"$nulls":10},0,null,"Pinellas",0,0,0,0,0,0,0,0,0,null,"Pinellas",null,null,0,0,0,0,0,0,0,0,0,0,0,0,0,0,0,0,0,0,0,0,0,0,0,0,0,0,0,0,0,0,0,0,0,0,0,0,0,0,0,0,0,0,0,0,0,0,0,0,0,0,0,0,0,0,0,0,0,0,0,0,0,0,0,0,0,0,0,0,0,0,0,0,0,0,0,0,0,0,0,0,0,0,0,0,0,0,0,0,0,0,0,0,0,0,0,0,0,0,0,0,0,0,0,0,0,0,0,0,0,0,0,0,0,0,0,0,0,0,0,0,0,0,0,0,0,0,0,0,0,0,0,0,0,0,0,0,0,0,0,0,0,0,0,0,0,0,0,0,0,0,5,0,2,0]
[{"$nulls":15},"",null,"",{"$nulls":10},0,null,"Polk",0,0,0,0,0,0,0,0,0,null,"Polk",null,null,0,0,0,0,0,0,0,0,0,0,0,0,0,0,0,0,0,0,0,0,0,0,0,0,0,0,0,0,0,0,0,0,0,0,0,0,0,0,0,0,0,0,0,0,0,0,0,0,0,0,0,0,0,0,0,0,0,0,0,0,0,0,0,0,0,0,0,0,0,0,0,0,0,0,0,0,0,0,0,0,0,0,0,0,0,0,0,0,0,0,0,0,0,0,0,0,0,0,0,0,0,0,0,0,0,0,0,0,0,0,0,0,0,0,0,0,0,0,0,0,0,0,0,0,0,0,0,0,0,0,0,0,0,0,0,0,0,0,0,0,0,0,0,0,0,0,0,0,0,0,6,0,2,0]
[{"$nulls":15},"",null,"",{"$nulls":10},0,null,"Putnam",0,0,0,0,0,0,0,0,0,null,"Putnam",null,null,0,0,0,0,0,0,0,0,0,0,0,0,0,0,0,0,0,0,0,0,0,0,0,0,0,0,0,0,0,0,0,0,0,0,0,0,0,0,0,0,0,0,0,0,0,0,0,0,0,0,0,0,0,0,0,0,0,0,0,0,0,0,0,0,0,0,0,0,0,0,0,0,0,0,0,0,0,0,0,0,0,0,0,0,0,0,0,0,0,0,0,0,0,0,0,0,0,0,0,0,0,0,0,0,0,0,0,0,0,0,0,0,0,0,0,0,0,0,0,0,0,0,0,0,0,0,0,0,0,0,0,0,0,0,0,0,0,0,0,0,0,0,0,0,0,0,0,0,0,0,3,0,3,0]
[{"$nulls":15},"",null,"",{"$nulls":10},0,null,"St. Johns",0,0,0,0,0,0,0,0,0,null,"St. Johns",null,null,0,0,0,0,0,0,0,0,0,0,0,0,0,0,0,0,0,0,0,0,0,0,0,0,0,0,0,0,0,0,0,0,0,0,0,0,0,0,0,0,0,0,0,0,0,0,0,0,0,0,0,0,0,0,0,0,0,0,0,0,0,0,0,0,0,0,0,0,0,0,0,0,0,0,0,0,0,0,0,0,0,0,0,0,0,0,0,0,0,0,0,0,0,0,0,0,0,0,0,0,0,0,0,0,0,0,0,0,0,0,0,0,0,0,0,0,0,0,0,0,0,0,0,0,0,0,0,0,0,0,0,0,0,0,0,0,0,0,0,0,0,0,0,0,0,0,0,0,0,0,4,0,2,0]
[{"$nulls":15},"",null,"",{"$nulls":10},0,null,"St. Lucie",0,0,0,0,0,0,0,0,0,null,"St. Lucie",null,null,0,0,0,0,0,0,0,0,0,0,0,0,0,0,0,0,0,0,0,0,0,0,0,0,0,0,0,0,0,0,0,0,0,0,0,0,0,0,0,0,0,0,0,0,0,0,0,0,0,0,0,0,0,0,0,0,0,0,0,0,0,0,0,0,0,0,0,0,0,0,0,0,0,0,0,0,0,0,0,0,0,0,0,0,0,0,0,0,0,0,0,0,0,0,0,0,0,0,0,0,0,0,0,0,0,0,0,0,0,0,0,0,0,0,0,0,0,0,0,0,0,0,0,0,0,0,0,0,0,0,0,0,0,0,0,0,0,0,0,0,0,0,0,0,0,0,0,0,0,0,9,0,1,0]
[{"$nulls":15},"",null,"",{"$nulls":10},0,null,"Santa Rosa",0,0,0,0,0,0,0,0,0,null,"Santa Rosa",null,null,0,0,0,0,0,0,0,0,0,0,0,0,0,0,0,0,0,0,0,0,0,0,0,0,0,0,0,0,0,0,0,0,0,0,0,0,0,0,0,0,0,0,0,0,0,0,0,0,0,0,0,0,0,0,0,0,0,0,0,0,0,0,0,0,0,0,0,0,0,0,0,0,0,0,0,0,0,0,0,0,0,0,0,0,0,0,0,0,0,0,0,0,0,0,0,0,0,0,0,0,0,0,0,0,0,0,0,0,0,0,0,0,0,0,0,0,0,0,0,0,0,0,0,0,0,0,0,0,0,0,0,0,0,0,0,0,0,0,0,0,0,0,0,0,0,0,0,0,0,0,1,0,3,0]
[{"$nulls":15},"",null,"",{"$nulls":10},0,null,"Sarasota",0,0,0,0,0,0,0,0,0,null,"Sarasota",null,null,0,0,0,0,0,0,0,0,0,0,0,0,0,0,0,0,0,0,0,0,0,0,0,0,0,0,0,0,0,0,0,0,0,0,0,0,0,0,0,0,0,0,0,0,0,0,0,0,0,0,0,0,0,0,0,0,0,0,0,0,0,0,0,0,0,0,0,0,0,0,0,0,0,0,0,0,0,0,0,0,0,0,0,0,0,0,0,0,0,0,0,0,0,0,0,0,0,0,0,0,0,0,0,0,0,0,0,0,0,0,0,0,0,0,0,0,0,0,0,0,0,0,0,0,0,0,0,0,0,0,0,0,0,0,0,0,0,0,0,0,0,0,0,0,0,0,0,0,0,0,8,0,1,0]
[{"$nulls":15},"",null,"",{"$nulls":10},0,null,"Seminole",0,0,0,0,0,0,0,0,0,null,"Seminole",null,null,0,0,0,0,0,0,0,0,0,0,0,0,0,0,0,0,0,0,0,0,0,0,0,0,0,0,0,0,0,0,0,0,0,0,0,0,0,0,0,0,0,0,0,0,0,0,0,0,0,0,0,0,0,0,0,0,0,0,0,0,0,0,0,0,0,0,0,0,0,0,0,0,0,0,0,0,0,0,0,0,0,0,0,0,0,0,0,0,0,0,0,0,0,0,0,0,0,0,0,0,0,0,0,0,0,0,0,0,0,0,0,0,0,0,0,0,0,0,0,0,0,0,0,0,0,0,0,0,0,0,0,0,0,0,0,0,0,0,0,0,0,0,0,0,0,0,0,0,0,0,7,0,1,0]
[{"$nulls":15},"",null,"",{"$nulls":10},0,null,"Sumter",0,0,0,0,0,0,0,0,0,null,"Sumter",null,null,0,0,0,0,0,0,0,0,0,0,0,0,0,0,0,0,0,0,0,0,0,0,0,0,0,0,0,0,0,0,0,0,0,0,0,0,0,0,0,0,0,0,0,0,0,0,0,0,0,0,0,0,0,0,0,0,0,0,0,0,0,0,0,0,0,0,0,0,0,0,0,0,0,0,0,0,0,0,0,0,0,0,0,0,0,0,0,0,0,0,0,0,0,0,0,0,0,0,0,0,0,0,0,0,0,0,0,0,0,0,0,0,0,0,0,0,0,0,0,0,0,0,0,0,0,0,0,0,0,0,0,0,0,0,0,0,0,0,0,0,0,0,0,0,0,0,0,0,0,0,3,0,3,0]
[{"$nulls":15},"",null,"",{"$nulls":10},0,null,"Suwannee",0,0,0,0,0,0,0,0,0,null,"Suwannee",null,null,0,0,0,0,0,0,0,0,0,0,0,0,0,0,0,0,0,0,0,0,0,0,0,0,0,0,0,0,0,0,0,0,0,0,0,0,0,0,0,0,0,0,0,0,0,0,0,0,0,0,0,0,0,0,0,0,0,0,0,0,0,0,0,0,0,0,0,0,0,0,0,0,0,0,0,0,0,0,0,0,0,0,0,0,0,0,0,0,0,0,0,0,0,0,0,0,0,0,0,0,0,0,0,0,0,0,0,0,0,0,0,0,0,0,0,0,0,0,0,0,0,0,0,0,0,0,0,0,0,0,0,0,0,0,0,0,0,0,0,0,0,0,0,0,0,0,0,0,0,0,3,0,3,0]
[{"$nulls":15},"",null,"",{"$nulls":10},0,null,"Taylor",0,0,0,0,0,0,0,0,0,null,"Taylor",null,null,0,0,0,0,0,0,0,0,0,0,0,0,0,0,0,0,0,0,0,0,0,0,0,0,0,0,0,0,0,0,0,0,0,0,0,0,0,0,0,0,0,0,0,0,0,0,0,0,0,0,0,0,0,0,0,0,0,0,0,0,0,0,0,0,0,0,0,0,0,0,0,0,0,0,0,0,0,0,0,0,0,0,0,0,0,0,0,0,0,0,0,0,0,0,0,0,0,0,0,0,0,0,0,0,0,0,0,0,0,0,0,0,0,0,0,0,0,0,0,0,0,0,0,0,0,0,0,0,0,0,0,0,0,0,0,0,0,0,0,0,0,0,0,0,0,0,0,0,0,0,2,0,3,0]
[{"$nulls":15},"",null,"",{"$nulls":10},0,null,"Union",0,0,0,0,0,0,0,0,0,null,"Union",null,null,0,0,0,0,0,0,0,0,0,0,0,0,0,0,0,0,0,0,0,0,0,0,0,0,0,0,0,0,0,0,0,0,0,0,0,0,0,0,0,0,0,0,0,0,0,0,0,0,0,0,0,0,0,0,0,0,0,0,0,0,0,0,0,0,0,0,0,0,0,0,0,0,0,0,0,0,0,0,0,0,0,0,0,0,0,0,0,0,0,0,0,0,0,0,0,0,0,0,0,0,0,0,0,0,0,0,0,0,0,0,0,0,0,0,0,0,0,0,0,0,0,0,0,0,0,0,0,0,0,0,0,0,0,0,0,0,0,0,0,0,0,0,0,0,0,0,0,0,0,0,3,0,3,0]
[{"$nulls":15},"",null,"",{"$nulls":10},0,null,"Volusia",0,0,0,0,0,0,0,0,0,null,"Volusia",null,null,0,0,0,0,0,0,0,0,0,0,0,0,0,0,0,0,0,0,0,0,0,0,0,0,0,0,0,0,0,0,0,0,0,0,0,0,0,0,0,0,0,0,0,0,0,0,0,0,0,0,0,0,0,0,0,0,0,0,0,0,0,0,0,0,0,0,0,0,0,0,0,0,0,0,0,0,0,0,0,0,0,0,0,0,0,0,0,0,0,0,0,0,0,0,0,0,0,0,0,0,0,0,0,0,0,0,0,0,0,0,0,0,0,0,0,0,0,0,0,0,0,0,0,0,0,0,0,0,0,0,0,0,0,0,0,0,0,0,0,0,0,0,0,0,0,0,0,0,0,0,4,0,2,0]
[{"$nulls":15},{"$f":"IF(ISBLANK(O73),\"\",LEN(TRIM(O73))-LEN(SUBSTITUTE(TRIM(O73),\",\",\"\"))+1)","v":""},null,{"$f":"IF(ISBLANK(Q73),\"\",LEN(TRIM(Q73))-LEN(SUBSTITUTE(TRIM(Q73),\",\",\"\"))+1)","v":""},{"$nulls":10},{"$f":"IF(ISBLANK(A73), 0, 1)","v":0},null,"Wakulla",{"$f":"IF(J73=\"Yes\", 3, 0)","v":0},{"$f":"IF(M73=\"Yes\", 2, 0)","v":0},{"$f":"IF(OR(L73=\"Yes\", N73=\"Yes\", K73=\"Yes\"), 1, 0)","v":0},0,0,0,0,0,{"$f":"IF(AND(AA73>=3, Z73=\"Yes, Support Core Goals\"), 2, IF(ISBLANK(AA73), 0, 1))","v":0},null,"Wakulla",null,null,0,0,0,0,0,0,0,0,0,0,0,0,0,0,0,0,0,0,0,0,0,0,0,0,0,0,0,0,0,0,0,0,0,0,0,0,0,0,0,0,0,0,0,0,0,0,0,0,0,0,0,0,0,0,0,0,0,0,0,0,0,0,0,0,0,0,0,0,0,0,0,0,0,0,0,0,0,0,0,0,0,0,0,0,0,0,0,0,0,0,0,0,0,0,0,0,0,0,0,0,0,0,0,0,0,0,0,0,0,0,0,0,0,0,0,0,0,0,0,0,0,0,0,0,0,0,0,0,0,0,0,0,0,0,0,0,0,0,0,0,0,0,0,0,0,0,0,0,0,0,2,0,3,0]
[{"$nulls":15},"",null,"",{"$nulls":10},0,null,"Walton",0,0,0,{"$f":"IF(S74=\"Yes\", 5, 0)","v":0},{"$f":"IF(T74=\"Yes\", 4, 0)","v":0},{"$f":"IF(U74=\"Yes\", 3, 0)","v":0},{"$f":"IF(V74=\"Yes\", 2, 0)","v":0},{"$f":"IF(Z74=\"Yes, Support Core Goals\", 2, IF(Z74=\"Yes, Other\", 1, 0))","v":0},0,null,"Walton",null,null,{"$f":"IF(ISNUMBER(SEARCH(AP74,$Q$9)),1,0)","v":0},{"$f":"IF(ISNUMBER(SEARCH($AP74,$Q$10)),1,0)","v":0},{"$f":"IF(ISNUMBER(SEARCH($AP74,$Q$11)),1,0)","v":0},{"$f":"IF(ISNUMBER(SEARCH($AP74,$Q$12)),1,0)","v":0},{"$f":"IF(ISNUMBER(SEARCH($AP74,$Q$13)),1,0)","v":0},{"$f":"IF(ISNUMBER(SEARCH($AP74,$Q$14)),1,0)","v":0},{"$f":"IF(ISNUMBER(SEARCH($AP74,$Q$15)),1,0)","v":0},{"$f":"IF(ISNUMBER(SEARCH($AP74,$Q$16)),1,0)","v":0},{"$f":"IF(ISNUMBER(SEARCH($AP74,$Q$17)),1,0)","v":0},{"$f":"IF(ISNUMBER(SEARCH($AP74,$Q$18)),1,0)","v":0},{"$f":"IF(ISNUMBER(SEARCH($AP74,$Q$19)),1,0)","v":0},{"$f":"IF(ISNUMBER(SEARCH($AP74,$Q$20)),1,0)","v":0},{"$f":"IF(ISNUMBER(SEARCH($AP74,$Q$21)),1,0)","v":0},{"$f":"IF(ISNUMBER(SEARCH($AP74,$Q$22)),1,0)","v":0},{"$f":"IF(ISNUMBER(SEARCH($AP74,$Q$23)),1,0)","v":0},{"$f":"IF(ISNUMBER(SEARCH($AP74,$Q$24)),1,0)","v":0},{"$f":"IF(ISNUMBER(SEARCH($AP74,$Q$25)),1,0)","v":0},{"$f":"IF(ISNUMBER(SEARCH($AP74,$Q$26)),1,0)","v":0},{"$f":"IF(ISNUMBER(SEARCH($AP74,$Q$27)),1,0)","v":0},{"$f":"IF(ISNUMBER(SEARCH($AP74,$Q$28)),1,0)","v":0},{"$f":"IF(ISNUMBER(SEARCH($AP74,$Q$29)),1,0)","v":0},{"$f":"IF(ISNUMBER(SEARCH($AP74,$Q$30)),1,0)","v":0},{"$f":"IF(ISNUMBER(SEARCH($AP74,$Q$31)),1,0)","v":0},{"$f":"IF(ISNUMBER(SEARCH($AP74,$Q$32)),1,0)","v":0},{"$f":"IF(ISNUMBER(SEARCH($AP74,$Q$33)),1,0)","v":0},{"$f":"IF(ISNUMBER(SEARCH($AP74,$Q$34)),1,0)","v":0},{"$f":"IF(ISNUMBER(SEARCH($AP74,$Q$35)),1,0)","v":0},{"$f":"IF(ISNUMBER(SEARCH($AP74,$Q$36)),1,0)","v":0},{"$f":"IF(ISNUMBER(SEARCH($AP74,$Q$37)),1,0)","v":0},{"$f":"IF(ISNUMBER(SEARCH($AP74,$Q$38)),1,0)","v":0},{"$f":"IF(ISNUMBER(SEARCH($AP74,$Q$39)),1,0)","v":0},{"$f":"IF(ISNUMBER(SEARCH($AP74,$Q$40)),1,0)","v":0},{"$f":"IF(ISNUMBER(SEARCH($AP74,$Q$41)),1,0)","v":0},{"$f":"IF(ISNUMBER(SEARCH($AP74,$Q$42)),1,0)","v":0},{"$f":"IF(ISNUMBER(SEARCH($AP74,$Q$43)),1,0)","v":0},{"$f":"IF(ISNUMBER(SEARCH($AP74,$Q$44)),1,0)","v":0},{"$f":"IF(ISNUMBER(SEARCH($AP74,$Q$45)),1,0)","v":0},{"$f":"IF(ISNUMBER(SEARCH($AP74,$Q$46)),1,0)","v":0},{"$f":"IF(ISNUMBER(SEARCH($AP74,$Q$47)),1,0)","v":0},{"$f":"IF(ISNUMBER(SEARCH($AP74,$Q$48)),1,0)","v":0},{"$f":"IF(ISNUMBER(SEARCH($AP74,$Q$49)),1,0)","v":0},{"$f":"IF(ISNUMBER(SEARCH($AP74,$Q$50)),1,0)","v":0},{"$f":"IF(ISNUMBER(SEARCH($AP74,$Q$51)),1,0)","v":0},{"$f":"IF(ISNUMBER(SEARCH($AP74,$Q$52)),1,0)","v":0},{"$f":"IF(ISNUMBER(SEARCH($AP74,$Q$53)),1,0)","v":0},{"$f":"IF(ISNUMBER(SEARCH($AP74,$Q$54)),1,0)","v":0},{"$f":"IF(ISNUMBER(SEARCH($AP74,$Q$55)),1,0)","v":0},{"$f":"IF(ISNUMBER(SEARCH($AP74,$Q$56)),1,0)","v":0},{"$f":"IF(ISNUMBER(SEARCH($AP74,$Q$57)),1,0)","v":0},{"$f":"IF(ISNUMBER(SEARCH($AP74,$Q$58)),1,0)","v":0},{"$f":"IF(ISNUMBER(SEARCH($AP74,$Q$59)),1,0)","v":0},{"$f":"IF(ISNUMBER(SEARCH($AP74,$Q$60)),1,0)","v":0},{"$f":"IF(ISNUMBER(SEARCH($AP74,$Q$61)),1,0)","v":0},{"$f":"IF(ISNUMBER(SEARCH($AP74,$Q$62)),1,0)","v":0},{"$f":"IF(ISNUMBER(SEARCH($AP74,$Q$63)),1,0)","v":0},{"$f":"IF(ISNUMBER(SEARCH($AP74,$Q$64)),1,0)","v":0},{"$f":"IF(ISNUMBER(SEARCH($AP74,$Q$65)),1,0)","v":0},{"$f":"IF(ISNUMBER(SEARCH($AP74,$Q$66)),1,0)","v":0},{"$f":"IF(ISNUMBER(SEARCH($AP74,$Q$67)),1,0)","v":0},{"$f":"IF(ISNUMBER(SEARCH($AP74,$Q$68)),1,0)","v":0},{"$f":"IF(ISNUMBER(SEARCH($AP74,$Q$69)),1,0)","v":0},{"$f":"IF(ISNUMBER(SEARCH($AP74,$Q$70)),1,0)","v":0},{"$f":"IF(ISNUMBER(SEARCH($AP74,$Q$71)),1,0)","v":0},{"$f":"IF(ISNUMBER(SEARCH($AP74,$Q$72)),1,0)","v":0},{"$f":"IF(ISNUMBER(SEARCH($AP74,$Q$73)),1,0)","v":0},{"$f":"IF(ISNUMBER(SEARCH($AP74,$Q$74)),1,0)","v":0},{"$f":"IF(ISNUMBER(SEARCH($AP74,$Q$75)),1,0)","v":0},{"$f":"IF(ISNUMBER(SEARCH($AP74,$Q$76)),1,0)","v":0},{"$f":"IF(ISNUMBER(SEARCH($AP74,$Q$77)),1,0)","v":0},{"$f":"IF(ISNUMBER(SEARCH($AP74,$Q$78)),1,0)","v":0},{"$f":"IF(ISNUMBER(SEARCH($AP74,$Q$79)),1,0)","v":0},{"$f":"IF(ISNUMBER(SEARCH($AP74,$Q$80)),1,0)","v":0},{"$f":"IF(ISNUMBER(SEARCH($AP74,$Q$81)),1,0)","v":0},{"$f":"IF(ISNUMBER(SEARCH($AP74,$Q$82)),1,0)","v":0},{"$f":"IF(ISNUMBER(SEARCH($AP74,$Q$83)),1,0)","v":0},{"$f":"IF(ISNUMBER(SEARCH($AP74,$Q$84)),1,0)","v":0},{"$f":"IF(ISNUMBER(SEARCH($AP74,$Q$85)),1,0)","v":0},{"$f":"IF(ISNUMBER(SEARCH($AP74,$Q$86)),1,0)","v":0},{"$f":"IF(ISNUMBER(SEARCH($AP74,$Q$87)),1,0)","v":0},{"$f":"IF(ISNUMBER(SEARCH($AP74,$Q$88)),1,0)","v":0},{"$f":"IF(ISNUMBER(SEARCH($AP74,$Q$89)),1,0)","v":0},{"$f":"IF(ISNUMBER(SEARCH($AP74,$Q$90)),1,0)","v":0},{"$f":"IF(ISNUMBER(SEARCH($AP74,$Q$91)),1,0)","v":0},{"$f":"IF(ISNUMBER(SEARCH($AP74,$Q$92)),1,0)","v":0},{"$f":"IF(ISNUMBER(SEARCH($AP74,$Q$93)),1,0)","v":0},{"$f":"IF(ISNUMBER(SEARCH($AP74,$Q$94)),1,0)","v":0},{"$f":"IF(ISNUMBER(SEARCH($AP74,$Q$95)),1,0)","v":0},{"$f":"IF(ISNUMBER(SEARCH($AP74,$Q$96)),1,0)","v":0},{"$f":"IF(ISNUMBER(SEARCH($AP74,$Q$97)),1,0)","v":0},{"$f":"IF(ISNUMBER(SEARCH($AP74,$Q$98)),1,0)","v":0},{"$f":"IF(ISNUMBER(SEARCH($AP74,$Q$99)),1,0)","v":0},{"$f":"IF(ISNUMBER(SEARCH($AP74,$Q$100)),1,0)","v":0},{"$f":"IF(ISNUMBER(SEARCH($AP74,$Q$101)),1,0)","v":0},{"$f":"IF(ISNUMBER(SEARCH($AP74,$Q$102)),1,0)","v":0},{"$f":"IF(ISNUMBER(SEARCH($AP74,$Q$103)),1,0)","v":0},{"$f":"IF(ISNUMBER(SEARCH($AP74,$Q$104)),1,0)","v":0},{"$f":"IF(ISNUMBER(SEARCH($AP74,$Q$105)),1,0)","v":0},{"$f":"IF(ISNUMBER(SEARCH($AP74,$Q$106)),1,0)","v":0},{"$f":"IF(ISNUMBER(SEARCH($AP74,$Q$107)),1,0)","v":0},{"$f":"IF(ISNUMBER(SEARCH($AP74,$Q$108)),1,0)","v":0},{"$f":"IF(ISNUMBER(SEARCH($AP74,$Q$109)),1,0)","v":0},{"$f":"IF(ISNUMBER(SEARCH($AP74,$Q$110)),1,0)","v":0},{"$f":"IF(ISNUMBER(SEARCH($AP74,$Q$111)),1,0)","v":0},{"$f":"IF(ISNUMBER(SEARCH($AP74,$Q$112)),1,0)","v":0},{"$f":"IF(ISNUMBER(SEARCH($AP74,$Q$113)),1,0)","v":0},{"$f":"IF(ISNUMBER(SEARCH($AP74,$Q$114)),1,0)","v":0},{"$f":"IF(ISNUMBER(SEARCH($AP74,$Q$115)),1,0)","v":0},{"$f":"IF(ISNUMBER(SEARCH($AP74,$Q$116)),1,0)","v":0},{"$f":"IF(ISNUMBER(SEARCH($AP74,$Q$117)),1,0)","v":0},{"$f":"IF(ISNUMBER(SEARCH($AP74,$Q$118)),1,0)","v":0},{"$f":"IF(ISNUMBER(SEARCH($AP74,$Q$119)),1,0)","v":0},{"$f":"IF(ISNUMBER(SEARCH($AP74,$Q$120)),1,0)","v":0},{"$f":"IF(ISNUMBER(SEARCH($AP74,$Q$121)),1,0)","v":0},{"$f":"IF(ISNUMBER(SEARCH($AP74,$Q$122)),1,0)","v":0},{"$f":"IF(ISNUMBER(SEARCH($AP74,$Q$123)),1,0)","v":0},{"$f":"IF(ISNUMBER(SEARCH($AP74,$Q$124)),1,0)","v":0},{"$f":"IF(ISNUMBER(SEARCH($AP74,$Q$125)),1,0)","v":0},{"$f":"IF(ISNUMBER(SEARCH($AP74,$Q$126)),1,0)","v":0},{"$f":"IF(ISNUMBER(SEARCH($AP74,$Q$127)),1,0)","v":0},{"$f":"IF(ISNUMBER(SEARCH($AP74,$Q$128)),1,0)","v":0},{"$f":"IF(ISNUMBER(SEARCH($AP74,$Q$129)),1,0)","v":0},{"$f":"IF(ISNUMBER(SEARCH($AP74,$Q$130)),1,0)","v":0},{"$f":"IF(ISNUMBER(SEARCH($AP74,$Q$131)),1,0)","v":0},{"$f":"IF(ISNUMBER(SEARCH($AP74,$Q$132)),1,0)","v":0},{"$f":"IF(ISNUMBER(SEARCH($AP74,$Q$133)),1,0)","v":0},{"$f":"IF(ISNUMBER(SEARCH($AP74,$Q$134)),1,0)","v":0},{"$f":"IF(ISNUMBER(SEARCH($AP74,$Q$135)),1,0)","v":0},{"$f":"IF(ISNUMBER(SEARCH($AP74,$Q$136)),1,0)","v":0},{"$f":"IF(ISNUMBER(SEARCH($AP74,$Q$137)),1,0)","v":0},{"$f":"IF(ISNUMBER(SEARCH($AP74,$Q$138)),1,0)","v":0},{"$f":"IF(ISNUMBER(SEARCH($AP74,$Q$139)),1,0)","v":0},{"$f":"IF(ISNUMBER(SEARCH($AP74,$Q$140)),1,0)","v":0},{"$f":"IF(ISNUMBER(SEARCH($AP74,$Q$141)),1,0)","v":0},{"$f":"IF(ISNUMBER(SEARCH($AP74,$Q$142)),1,0)","v":0},{"$f":"IF(ISNUMBER(SEARCH($AP74,$Q$143)),1,0)","v":0},{"$f":"IF(ISNUMBER(SEARCH($AP74,$Q$144)),1,0)","v":0},{"$f":"IF(ISNUMBER(SEARCH($AP74,$Q$145)),1,0)","v":0},{"$f":"IF(ISNUMBER(SEARCH($AP74,$Q$146)),1,0)","v":0},{"$f":"IF(ISNUMBER(SEARCH($AP74,$Q$147)),1,0)","v":0},{"$f":"IF(ISNUMBER(SEARCH($AP74,$Q$148)),1,0)","v":0},{"$f":"IF(ISNUMBER(SEARCH($AP74,$Q$149)),1,0)","v":0},{"$f":"IF(ISNUMBER(SEARCH($AP74,$Q$150)),1,0)","v":0},{"$f":"IF(ISNUMBER(SEARCH($AP74,$Q$151)),1,0)","v":0},{"$f":"IF(ISNUMBER(SEARCH($AP74,$Q$152)),1,0)","v":0},{"$f":"IF(ISNUMBER(SEARCH($AP74,$Q$153)),1,0)","v":0},{"$f":"IF(ISNUMBER(SEARCH($AP74,$Q$154)),1,0)","v":0},{"$f":"IF(ISNUMBER(SEARCH($AP74,$Q$155)),1,0)","v":0},{"$f":"IF(ISNUMBER(SEARCH($AP74,$Q$156)),1,0)","v":0},{"$f":"IF(ISNUMBER(SEARCH($AP74,$Q$157)),1,0)","v":0},{"$f":"IF(ISNUMBER(SEARCH($AP74,$Q$158)),1,0)","v":0},1,{"$f":"SUM(AS74:GL74)","v":0},3,{"$f":"GN74*GO74","v":0}]
[{"$nulls":15},"",null,"",{"$nulls":10},0,null,"Washington",0,0,0,0,0,0,0,0,0,null,"Washington",null,null,0,0,0,0,0,0,0,0,0,0,0,0,0,0,0,0,0,0,0,0,0,0,0,0,0,0,0,0,0,0,0,0,0,0,0,0,0,0,0,0,0,0,0,0,0,0,0,0,0,0,0,0,0,0,0,0,0,0,0,0,0,0,0,0,0,0,0,0,0,0,0,0,0,0,0,0,0,0,0,0,0,0,0,0,0,0,0,0,0,0,0,0,0,0,0,0,0,0,0,0,0,0,0,0,0,0,0,0,0,0,0,0,0,0,0,0,0,0,0,0,0,0,0,0,0,0,0,0,0,0,0,0,0,0,0,0,0,0,0,0,0,0,0,0,0,0,0,0,0,0,2,{"$f":"SUM(AS75:GL75)","v":0},3,0]
[{"$nulls":15},"",null,"",{"$nulls":10},0,null,null,0,0,0,0,0,0,0,0,0,{"$nulls":155},"FINAL SCORE:",null,{"$f":"SUM(GP9:GP75)","v":0}]
[{"$nulls":15},"",null,"",{"$nulls":10},0,null,null,0,0,0,0,0,0,0,0,0]
[{"$nulls":15},"",null,"",{"$nulls":10},0,null,null,0,0,0,0,0,0,0,0,0,{"$nulls":4},"Row 1","Row 2","Row 3","Row 4","Row 5","Row 6","Row 7","Row 8","Row 9","Row 10","Row 11","Row 12","Row 13","Row 14","Row 15","Row 16","Row 17","Row 18","Row 19","Row 20","Row 21","Row 22","Row 23","Row 24","Row 25","Row 26","Row 27","Row 28","Row 29","Row 30","Row 31","Row 32","Row 33","Row 34","Row 35","Row 36","Row 37","Row 38","Row 39","Row 40","Row 41","Row 42","Row 43","Row 44","Row 45","Row 46","Row 47","Row 48","Row 49","Row 50","Row 51","Row 52","Row 53","Row 54","Row 55","Row 56","Row 57","Row 58","Row 59","Row 60","Row 61","Row 62","Row 63","Row 64","Row 65","Row 66","Row 67","Row 68","Row 69","Row 70","Row 71","Row 72","Row 73","Row 74","Row 75","Row 76","Row 77","Row 78","Row 79","Row 80","Row 81","Row 82","Row 83","Row 84","Row 85","Row 86","Row 87","Row 88","Row 89","Row 90","Row 91","Row 92","Row 93","Row 94","Row 95","Row 96","Row 97","Row 98","Row 99","Row 100","Row 101","Row 102","Row 103","Row 104","Row 105","Row 106","Row 107","Row 108","Row 109","Row 110","Row 111","Row 112","Row 113","Row 114","Row 115","Row 116","Row 117","Row 118","Row 119","Row 120","Row 121","Row 122","Row 123","Row 124","Row 125","Row 126","Row 127","Row 128","Row 129","Row 130","Row 131","Row 132","Row 133","Row 134","Row 135","Row 136","Row 137","Row 138","Row 139","Row 140","Row 141","Row 142","Row 143","Row 144","Row 145","Row 146","Row 147","Row 148","Row 149","Row 150",null,"Sum of Regions","Region Multiplier","Score"]
[{"$nulls":15},"",null,"",{"$nulls":10},0,null,null,0,0,0,0,0,0,0,0,0,null,1,null,null,{"$f":"IF(ISNUMBER(SEARCH($AP79,$O$9)),1,0)","v":0},{"$f":"IF(ISNUMBER(SEARCH($AP79,$O$10)),1,0)","v":0},{"$f":"IF(ISNUMBER(SEARCH($AP79,$O$11)),1,0)","v":0},{"$f":"IF(ISNUMBER(SEARCH($AP79,$O$12)),1,0)","v":0},{"$f":"IF(ISNUMBER(SEARCH($AP79,$O$13)),1,0)","v":0},{"$f":"IF(ISNUMBER(SEARCH($AP79,$O$14)),1,0)","v":0},{"$f":"IF(ISNUMBER(SEARCH($AP79,$O$15)),1,0)","v":0},{"$f":"IF(ISNUMBER(SEARCH($AP79,$O$16)),1,0)","v":0},{"$f":"IF(ISNUMBER(SEARCH($AP79,$O$17)),1,0)","v":0},{"$f":"IF(ISNUMBER(SEARCH($AP79,$O$18)),1,0)","v":0},{"$f":"IF(ISNUMBER(SEARCH($AP79,$O$19)),1,0)","v":0},{"$f":"IF(ISNUMBER(SEARCH($AP79,$O$20)),1,0)","v":0},{"$f":"IF(ISNUMBER(SEARCH($AP79,$O$21)),1,0)","v":0},{"$f":"IF(ISNUMBER(SEARCH($AP79,$O$22)),1,0)","v":0},{"$f":"IF(ISNUMBER(SEARCH($AP79,$O$23)),1,0)","v":0},{"$f":"IF(ISNUMBER(SEARCH($AP79,$O$24)),1,0)","v":0},{"$f":"IF(ISNUMBER(SEARCH($AP79,$O$25)),1,0)","v":0},{"$f":"IF(ISNUMBER(SEARCH($AP79,$O$26)),1,0)","v":0},{"$f":"IF(ISNUMBER(SEARCH($AP79,$O$27)),1,0)","v":0},{"$f":"IF(ISNUMBER(SEARCH($AP79,$O$28)),1,0)","v":0},{"$f":"IF(ISNUMBER(SEARCH($AP79,$O$29)),1,0)","v":0},{"$f":"IF(ISNUMBER(SEARCH($AP79,$O$30)),1,0)","v":0},{"$f":"IF(ISNUMBER(SEARCH($AP79,$O$31)),1,0)","v":0},{"$f":"IF(ISNUMBER(SEARCH($AP79,$O$32)),1,0)","v":0},{"$f":"IF(ISNUMBER(SEARCH($AP79,$O$33)),1,0)","v":0},{"$f":"IF(ISNUMBER(SEARCH($AP79,$O$34)),1,0)","v":0},{"$f":"IF(ISNUMBER(SEARCH($AP79,$O$35)),1,0)","v":0},{"$f":"IF(ISNUMBER(SEARCH($AP79,$O$36)),1,0)","v":0},{"$f":"IF(ISNUMBER(SEARCH($AP79,$O$37)),1,0)","v":0},{"$f":"IF(ISNUMBER(SEARCH($AP79,$O$38)),1,0)","v":0},{"$f":"IF(ISNUMBER(SEARCH($AP79,$O$39)),1,0)","v":0},{"$f":"IF(ISNUMBER(SEARCH($AP79,$O$40)),1,0)","v":0},{"$f":"IF(ISNUMBER(SEARCH($AP79,$O$41)),1,0)","v":0},{"$f":"IF(ISNUMBER(SEARCH($AP79,$O$42)),1,0)","v":0},{"$f":"IF(ISNUMBER(SEARCH($AP79,$O$43)),1,0)","v":0},{"$f":"IF(ISNUMBER(SEARCH($AP79,$O$44)),1,0)","v":0},{"$f":"IF(ISNUMBER(SEARCH($AP79,$O$45)),1,0)","v":0},{"$f":"IF(ISNUMBER(SEARCH($AP79,$O$46)),1,0)","v":0},{"$f":"IF(ISNUMBER(SEARCH($AP79,$O$47)),1,0)","v":0},{"$f":"IF(ISNUMBER(SEARCH($AP79,$O$48)),1,0)","v":0},{"$f":"IF(ISNUMBER(SEARCH($AP79,$O$49)),1,0)","v":0},{"$f":"IF(ISNUMBER(SEARCH($AP79,$O$50)),1,0)","v":0},{"$f":"IF(ISNUMBER(SEARCH($AP79,$O$51)),1,0)","v":0},{"$f":"IF(ISNUMBER(SEARCH($AP79,$O$52)),1,0)","v":0},{"$f":"IF(ISNUMBER(SEARCH($AP79,$O$53)),1,0)","v":0},{"$f":"IF(ISNUMBER(SEARCH($AP79,$O$54)),1,0)","v":0},{"$f":"IF(ISNUMBER(SEARCH($AP79,$O$55)),1,0)","v":0},{"$f":"IF(ISNUMBER(SEARCH($AP79,$O$56)),1,0)","v":0},{"$f":"IF(ISNUMBER(SEARCH($AP79,$O$57)),1,0)","v":0},{"$f":"IF(ISNUMBER(SEARCH($AP79,$O$58)),1,0)","v":0},{"$f":"IF(ISNUMBER(SEARCH($AP79,$O$59)),1,0)","v":0},{"$f":"IF(ISNUMBER(SEARCH($AP79,$O$60)),1,0)","v":0},{"$f":"IF(ISNUMBER(SEARCH($AP79,$O$61)),1,0)","v":0},{"$f":"IF(ISNUMBER(SEARCH($AP79,$O$62)),1,0)","v":0},{"$f":"IF(ISNUMBER(SEARCH($AP79,$O$63)),1,0)","v":0},{"$f":"IF(ISNUMBER(SEARCH($AP79,$O$64)),1,0)","v":0},{"$f":"IF(ISNUMBER(SEARCH($AP79,$O$65)),1,0)","v":0},{"$f":"IF(ISNUMBER(SEARCH($AP79,$O$66)),1,0)","v":0},{"$f":"IF(ISNUMBER(SEARCH($AP79,$O$67)),1,0)","v":0},{"$f":"IF(ISNUMBER(SEARCH($AP79,$O$68)),1,0)","v":0},{"$f":"IF(ISNUMBER(SEARCH($AP79,$O$69)),1,0)","v":0},{"$f":"IF(ISNUMBER(SEARCH($AP79,$O$70)),1,0)","v":0},{"$f":"IF(ISNUMBER(SEARCH($AP79,$O$71)),1,0)","v":0},{"$f":"IF(ISNUMBER(SEARCH($AP79,$O$72)),1,0)","v":0},{"$f":"IF(ISNUMBER(SEARCH($AP79,$O$73)),1,0)","v":0},{"$f":"IF(ISNUMBER(SEARCH($AP79,$O$74)),1,0)","v":0},{"$f":"IF(ISNUMBER(SEARCH($AP79,$O$75)),1,0)","v":0},{"$f":"IF(ISNUMBER(SEARCH($AP79,$O$76)),1,0)","v":0},{"$f":"IF(ISNUMBER(SEARCH($AP79,$O$77)),1,0)","v":0},{"$f":"IF(ISNUMBER(SEARCH($AP79,$O$78)),1,0)","v":0},{"$f":"IF(ISNUMBER(SEARCH($AP79,$O$79)),1,0)","v":0},{"$f":"IF(ISNUMBER(SEARCH($AP79,$O$80)),1,0)","v":0},{"$f":"IF(ISNUMBER(SEARCH($AP79,$O$81)),1,0)","v":0},{"$f":"IF(ISNUMBER(SEARCH($AP79,$O$82)),1,0)","v":0},{"$f":"IF(ISNUMBER(SEARCH($AP79,$O$83)),1,0)","v":0},{"$f":"IF(ISNUMBER(SEARCH($AP79,$O$84)),1,0)","v":0},{"$f":"IF(ISNUMBER(SEARCH($AP79,$O$85)),1,0)","v":0},{"$f":"IF(ISNUMBER(SEARCH($AP79,$O$86)),1,0)","v":0},{"$f":"IF(ISNUMBER(SEARCH($AP79,$O$87)),1,0)","v":0},{"$f":"IF(ISNUMBER(SEARCH($AP79,$O$88)),1,0)","v":0},{"$f":"IF(ISNUMBER(SEARCH($AP79,$O$89)),1,0)","v":0},{"$f":"IF(ISNUMBER(SEARCH($AP79,$O$90)),1,0)","v":0},{"$f":"IF(ISNUMBER(SEARCH($AP79,$O$91)),1,0)","v":0},{"$f":"IF(ISNUMBER(SEARCH($AP79,$O$92)),1,0)","v":0},{"$f":"IF(ISNUMBER(SEARCH($AP79,$O$93)),1,0)","v":0},{"$f":"IF(ISNUMBER(SEARCH($AP79,$O$94)),1,0)","v":0},{"$f":"IF(ISNUMBER(SEARCH($AP79,$O$95)),1,0)","v":0},{"$f":"IF(ISNUMBER(SEARCH($AP79,$O$96)),1,0)","v":0},{"$f":"IF(ISNUMBER(SEARCH($AP79,$O$97)),1,0)","v":0},{"$f":"IF(ISNUMBER(SEARCH($AP79,$O$98)),1,0)","v":0},{"$f":"IF(ISNUMBER(SEARCH($AP79,$O$99)),1,0)","v":0},{"$f":"IF(ISNUMBER(SEARCH($AP79,$O$100)),1,0)","v":0},{"$f":"IF(ISNUMBER(SEARCH($AP79,$O$101)),1,0)","v":0},{"$f":"IF(ISNUMBER(SEARCH($AP79,$O$102)),1,0)","v":0},{"$f":"IF(ISNUMBER(SEARCH($AP79,$O$103)),1,0)","v":0},{"$f":"IF(ISNUMBER(SEARCH($AP79,$O$104)),1,0)","v":0},{"$f":"IF(ISNUMBER(SEARCH($AP79,$O$105)),1,0)","v":0},{"$f":"IF(ISNUMBER(SEARCH($AP79,$O$106)),1,0)","v":0},{"$f":"IF(ISNUMBER(SEARCH($AP79,$O$107)),1,0)","v":0},{"$f":"IF(ISNUMBER(SEARCH($AP79,$O$108)),1,0)","v":0},{"$f":"IF(ISNUMBER(SEARCH($AP79,$O$109)),1,0)","v":0},{"$f":"IF(ISNUMBER(SEARCH($AP79,$O$110)),1,0)","v":0},{"$f":"IF(ISNUMBER(SEARCH($AP79,$O$111)),1,0)","v":0},{"$f":"IF(ISNUMBER(SEARCH($AP79,$O$112)),1,0)","v":0},{"$f":"IF(ISNUMBER(SEARCH($AP79,$O$113)),1,0)","v":0},{"$f":"IF(ISNUMBER(SEARCH($AP79,$O$114)),1,0)","v":0},{"$f":"IF(ISNUMBER(SEARCH($AP79,$O$115)),1,0)","v":0},{"$f":"IF(ISNUMBER(SEARCH($AP79,$O$116)),1,0)","v":0},{"$f":"IF(ISNUMBER(SEARCH($AP79,$O$117)),1,0)","v":0},{"$f":"IF(ISNUMBER(SEARCH($AP79,$O$118)),1,0)","v":0},{"$f":"IF(ISNUMBER(SEARCH($AP79,$O$119)),1,0)","v":0},{"$f":"IF(ISNUMBER(SEARCH($AP79,$O$120)),1,0)","v":0},{"$f":"IF(ISNUMBER(SEARCH($AP79,$O$121)),1,0)","v":0},{"$f":"IF(ISNUMBER(SEARCH($AP79,$O$122)),1,0)","v":0},{"$f":"IF(ISNUMBER(SEARCH($AP79,$O$123)),1,0)","v":0},{"$f":"IF(ISNUMBER(SEARCH($AP79,$O$124)),1,0)","v":0},{"$f":"IF(ISNUMBER(SEARCH($AP79,$O$125)),1,0)","v":0},{"$f":"IF(ISNUMBER(SEARCH($AP79,$O$126)),1,0)","v":0},{"$f":"IF(ISNUMBER(SEARCH($AP79,$O$127)),1,0)","v":0},{"$f":"IF(ISNUMBER(SEARCH($AP79,$O$128)),1,0)","v":0},{"$f":"IF(ISNUMBER(SEARCH($AP79,$O$129)),1,0)","v":0},{"$f":"IF(ISNUMBER(SEARCH($AP79,$O$130)),1,0)","v":0},{"$f":"IF(ISNUMBER(SEARCH($AP79,$O$131)),1,0)","v":0},{"$f":"IF(ISNUMBER(SEARCH($AP79,$O$132)),1,0)","v":0},{"$f":"IF(ISNUMBER(SEARCH($AP79,$O$133)),1,0)","v":0},{"$f":"IF(ISNUMBER(SEARCH($AP79,$O$134)),1,0)","v":0},{"$f":"IF(ISNUMBER(SEARCH($AP79,$O$135)),1,0)","v":0},{"$f":"IF(ISNUMBER(SEARCH($AP79,$O$136)),1,0)","v":0},{"$f":"IF(ISNUMBER(SEARCH($AP79,$O$137)),1,0)","v":0},{"$f":"IF(ISNUMBER(SEARCH($AP79,$O$138)),1,0)","v":0},{"$f":"IF(ISNUMBER(SEARCH($AP79,$O$139)),1,0)","v":0},{"$f":"IF(ISNUMBER(SEARCH($AP79,$O$140)),1,0)","v":0},{"$f":"IF(ISNUMBER(SEARCH($AP79,$O$141)),1,0)","v":0},{"$f":"IF(ISNUMBER(SEARCH($AP79,$O$142)),1,0)","v":0},{"$f":"IF(ISNUMBER(SEARCH($AP79,$O$143)),1,0)","v":0},{"$f":"IF(ISNUMBER(SEARCH($AP79,$O$144)),1,0)","v":0},{"$f":"IF(ISNUMBER(SEARCH($AP79,$O$145)),1,0)","v":0},{"$f":"IF(ISNUMBER(SEARCH($AP79,$O$146)),1,0)","v":0},{"$f":"IF(ISNUMBER(SEARCH($AP79,$O$147)),1,0)","v":0},{"$f":"IF(ISNUMBER(SEARCH($AP79,$O$148)),1,0)","v":0},{"$f":"IF(ISNUMBER(SEARCH($AP79,$O$149)),1,0)","v":0},{"$f":"IF(ISNUMBER(SEARCH($AP79,$O$150)),1,0)","v":0},{"$f":"IF(ISNUMBER(SEARCH($AP79,$O$151)),1,0)","v":0},{"$f":"IF(ISNUMBER(SEARCH($AP79,$O$152)),1,0)","v":0},{"$f":"IF(ISNUMBER(SEARCH($AP79,$O$153)),1,0)","v":0},{"$f":"IF(ISNUMBER(SEARCH($AP79,$O$154)),1,0)","v":0},{"$f":"IF(ISNUMBER(SEARCH($AP79,$O$155)),1,0)","v":0},{"$f":"IF(ISNUMBER(SEARCH($AP79,$O$156)),1,0)","v":0},{"$f":"IF(ISNUMBER(SEARCH($AP79,$O$157)),1,0)","v":0},{"$f":"IF(ISNUMBER(SEARCH($AP79,$O$158)),1,0)","v":0},null,{"$f":"SUM(AS79:GL79)","v":0},3,{"$f":"GN79*GO79","v":0}]
[{"$nulls":15},"",null,"",{"$nulls":10},0,null,null,0,0,0,0,0,0,0,0,0,null,2,null,null,0,0,0,0,0,0,0,0,0,0,0,0,0,0,0,0,0,0,0,0,0,0,0,0,0,0,0,0,0,0,0,0,0,0,0,0,0,0,0,0,0,0,0,0,0,0,0,0,0,0,0,0,0,0,0,0,0,0,0,0,0,0,0,0,0,0,0,0,0,0,0,0,0,0,0,0,0,0,0,0,0,0,0,0,0,0,0,0,0,0,0,0,0,0,0,0,0,0,0,0,0,0,0,0,0,0,0,0,0,0,0,0,0,0,0,0,0,0,0,0,0,0,0,0,0,0,0,0,0,0,0,0,0,0,0,0,0,0,0,0,0,0,0,0,0,0,0,0,0,0,null,{"$f":"SUM(AS80:GL80)","v":0},3,{"$f":"GN80*GO80","v":0}]
[{"$nulls":15},"",null,"",{"$nulls":10},0,null,null,0,0,0,0,0,0,0,0,0,null,3,null,null,0,0,0,0,0,0,0,0,0,0,0,0,0,0,0,0,0,0,0,0,0,0,0,0,0,0,0,0,0,0,0,0,0,0,0,0,0,0,0,0,0,0,0,0,0,0,0,0,0,0,0,0,0,0,0,0,0,0,0,0,0,0,0,0,0,0,0,0,0,0,0,0,0,0,0,0,0,0,0,0,0,0,0,0,0,0,0,0,0,0,0,0,0,0,0,0,0,0,0,0,0,0,0,0,0,0,0,0,0,0,0,0,0,0,0,0,0,0,0,0,0,0,0,0,0,0,0,0,0,0,0,0,0,0,0,0,0,0,0,0,0,0,0,0,0,0,0,0,0,0,null,0,3,0]
[{"$nulls":15},"",null,"",{"$nulls":10},0,null,null,0,0,0,0,0,0,0,0,0,null,4,null,null,0,0,0,0,0,0,0,0,0,0,0,0,0,0,0,0,0,0,0,0,0,0,0,0,0,0,0,0,0,0,0,0,0,0,0,0,0,0,0,0,0,0,0,0,0,0,0,0,0,0,0,0,0,0,0,0,0,0,0,0,0,0,0,0,0,0,0,0,0,0,0,0,0,0,0,0,0,0,0,0,0,0,0,0,0,0,0,0,0,0,0,0,0,0,0,0,0,0,0,0,0,0,0,0,0,0,0,0,0,0,0,0,0,0,0,0,0,0,0,0,0,0,0,0,0,0,0,0,0,0,0,0,0,0,0,0,0,0,0,0,0,0,0,0,0,0,0,0,0,0,null,0,2,0]
[{"$nulls":15},"",null,"",{"$nulls":10},0,null,null,0,0,0,0,0,0,0,0,0,null,5,null,null,0,0,0,0,0,0,0,0,0,0,0,0,0,0,0,0,0,0,0,0,0,0,0,0,0,0,0,0,0,0,0,0,0,0,0,0,0,0,0,0,0,0,0,0,0,0,0,0,0,0,0,0,0,0,0,0,0,0,0,0,0,0,0,0,0,0,0,0,0,0,0,0,0,0,0,0,0,0,0,0,0,0,0,0,0,0,0,0,0,0,0,0,0,0,0,0,0,0,0,0,0,0,0,0,0,0,0,0,0,0,0,0,0,0,0,0,0,0,0,0,0,0,0,0,0,0,0,0,0,0,0,0,0,0,0,0,0,0,0,0,0,0,0,0,0,0,0,0,0,0,null,0,2,0]
[{"$nulls":15},"",null,"",{"$nulls":10},0,null,null,0,0,0,0,0,0,0,0,0,null,6,null,null,0,0,0,0,0,0,0,0,0,0,0,0,0,0,0,0,0,0,0,0,0,0,0,0,0,0,0,0,0,0,0,0,0,0,0,0,0,0,0,0,0,0,0,0,0,0,0,0,0,0,0,0,0,0,0,0,0,0,0,0,0,0,0,0,0,0,0,0,0,0,0,0,0,0,0,0,0,0,0,0,0,0,0,0,0,0,0,0,0,0,0,0,0,0,0,0,0,0,0,0,0,0,0,0,0,0,0,0,0,0,0,0,0,0,0,0,0,0,0,0,0,0,0,0,0,0,0,0,0,0,0,0,0,0,0,0,0,0,0,0,0,0,0,0,0,0,0,0,0,0,null,0,2,0]
[{"$nulls":15},"",null,"",{"$nulls":10},0,null,null,0,0,0,0,0,0,0,0,0,null,7,null,null,0,0,0,0,0,0,0,0,0,0,0,0,0,0,0,0,0,0,0,0,0,0,0,0,0,0,0,0,0,0,0,0,0,0,0,0,0,0,0,0,0,0,0,0,0,0,0,0,0,0,0,0,0,0,0,0,0,0,0,0,0,0,0,0,0,0,0,0,0,0,0,0,0,0,0,0,0,0,0,0,0,0,0,0,0,0,0,0,0,0,0,0,0,0,0,0,0,0,0,0,0,0,0,0,0,0,0,0,0,0,0,0,0,0,0,0,0,0,0,0,0,0,0,0,0,0,0,0,0,0,0,0,0,0,0,0,0,0,0,0,0,0,0,0,0,0,0,0,0,0,null,0,1,0]
[{"$nulls":15},"",null,"",{"$nulls":10},0,null,null,0,0,0,0,0,0,0,0,0,null,8,null,null,0,0,0,0,0,0,0,0,0,0,0,0,0,0,0,0,0,0,0,0,0,0,0,0,0,0,0,0,0,0,0,0,0,0,0,0,0,0,0,0,0,0,0,0,0,0,0,0,0,0,0,0,0,0,0,0,0,0,0,0,0,0,0,0,0,0,0,0,0,0,0,0,0,0,0,0,0,0,0,0,0,0,0,0,0,0,0,0,0,0,0,0,0,0,0,0,0,0,0,0,0,0,0,0,0,0,0,0,0,0,0,0,0,0,0,0,0,0,0,0,0,0,0,0,0,0,0,0,0,0,0,0,0,0,0,0,0,0,0,0,0,0,0,0,0,0,0,0,0,0,null,0,1,0]
[{"$nulls":15},"",null,"",{"$nulls":10},0,null,null,0,0,0,0,0,0,0,0,0,null,9,null,null,0,0,0,0,0,0,0,0,0,0,0,0,0,0,0,0,0,0,0,0,0,0,0,0,0,0,0,0,0,0,0,0,0,0,0,0,0,0,0,0,0,0,0,0,0,0,0,0,0,0,0,0,0,0,0,0,0,0,0,0,0,0,0,0,0,0,0,0,0,0,0,0,0,0,0,0,0,0,0,0,0,0,0,0,0,0,0,0,0,0,0,0,0,0,0,0,0,0,0,0,0,0,0,0,0,0,0,0,0,0,0,0,0,0,0,0,0,0,0,0,0,0,0,0,0,0,0,0,0,0,0,0,0,0,0,0,0,0,0,0,0,0,0,0,0,0,0,0,0,0,null,0,1,0]
[{"$nulls":15},"",null,"",{"$nulls":10},0,null,null,0,0,0,0,0,0,0,0,0,null,10,null,null,0,0,0,0,0,0,0,0,0,0,0,0,0,0,0,0,0,0,0,0,0,0,0,0,0,0,0,0,0,0,0,0,0,0,0,0,0,0,0,0,0,0,0,0,0,0,0,0,0,0,0,0,0,0,0,0,0,0,0,0,0,0,0,0,0,0,0,0,0,0,0,0,0,0,0,0,0,0,0,0,0,0,0,0,0,0,0,0,0,0,0,0,0,0,0,0,0,0,0,0,0,0,0,0,0,0,0,0,0,0,0,0,0,0,0,0,0,0,0,0,0,0,0,0,0,0,0,0,0,0,0,0,0,0,0,0,0,0,0,0,0,0,0,0,0,0,0,0,0,0,null,0,1,0]
[{"$nulls":15},"",null,"",{"$nulls":10},0,null,null,0,0,0,0,0,0,0,0,0,null,11,null,null,0,0,0,0,0,0,0,0,0,0,0,0,0,0,0,0,0,0,0,0,0,0,0,0,0,0,0,0,0,0,0,0,0,0,0,0,0,0,0,0,0,0,0,0,0,0,0,0,0,0,0,0,0,0,0,0,0,0,0,0,0,0,0,0,0,0,0,0,0,0,0,0,0,0,0,0,0,0,0,0,0,0,0,0,0,0,0,0,0,0,0,0,0,0,0,0,0,0,0,0,0,0,0,0,0,0,0,0,0,0,0,0,0,0,0,0,0,0,0,0,0,0,0,0,0,0,0,0,0,0,0,0,0,0,0,0,0,0,0,0,0,0,0,0,0,0,0,0,0,0,null,{"$f":"SUM(AS89:GL89)","v":0},1,0]
[{"$nulls":15},"",null,"",{"$nulls":10},0,null,null,0,0,0,0,0,0,0,0,0,{"$nulls":155},"FINAL SCORE:",null,{"$f":"SUM(GP79:GP89)","v":0}]
[{"$nulls":15},"",null,"",{"$nulls":10},0,null,null,0,0,0,0,0,0,0,0,0]
[{"$nulls":15},"",null,"",{"$nulls":10},0,null,null,0,0,0,0,0,0,0,0,0]
[{"$nulls":15},"",null,"",{"$nulls":10},0,null,null,0,0,0,0,0,0,0,0,0]
[{"$nulls":15},"",null,"",{"$nulls":10},0,null,null,0,0,0,0,0,0,0,0,0]
[{"$nulls":15},"",null,"",{"$nulls":10},0,null,null,0,0,0,0,0,0,0,0,0]
[{"$nulls":15},"",null,"",{"$nulls":10},0,null,null,0,0,0,0,0,0,0,0,0]
[{"$nulls":15},"",null,"",{"$nulls":10},0,null,null,0,0,0,0,0,0,0,0,0]
[{"$nulls":15},"",null,"",{"$nulls":10},0,null,null,0,0,0,0,0,0,0,0,0]
[{"$nulls":15},"",null,"",{"$nulls":10},0,null,null,0,0,0,0,0,0,0,0,0]
[{"$nulls":15},"",null,"",{"$nulls":10},0,null,null,0,0,0,0,0,0,0,0,0]
[{"$nulls":15},"",null,"",{"$nulls":10},0,null,null,0,0,0,0,0,0,0,0,0]
[{"$nulls":15},"",null,"",{"$nulls":10},0,null,null,0,0,0,0,0,0,0,0,0]
[{"$nulls":15},"",null,"",{"$nulls":10},0,null,null,0,0,0,0,0,0,0,0,0]
[{"$nulls":15},"",null,"",{"$nulls":10},0,null,null,0,0,0,0,0,0,0,0,0]
[{"$nulls":15},{"$f":"IF(ISBLANK(O105),\"\",LEN(TRIM(O105))-LEN(SUBSTITUTE(TRIM(O105),\",\",\"\"))+1)","v":""},null,{"$f":"IF(ISBLANK(Q105),\"\",LEN(TRIM(Q105))-LEN(SUBSTITUTE(TRIM(Q105),\",\",\"\"))+1)","v":""},{"$nulls":10},{"$f":"IF(ISBLANK(A105), 0, 1)","v":0},null,null,{"$f":"IF(J105=\"Yes\", 3, 0)","v":0},{"$f":"IF(M105=\"Yes\", 2, 0)","v":0},{"$f":"IF(OR(L105=\"Yes\", N105=\"Yes\", K105=\"Yes\"), 1, 0)","v":0},0,0,0,0,0,{"$f":"IF(AND(AA105>=3, Z105=\"Yes, Support Core Goals\"), 2, IF(ISBLANK(AA105), 0, 1))","v":0}]
[{"$nulls":15},"",null,"",{"$nulls":10},0,null,null,0,0,0,0,0,0,0,0,0]
[{"$nulls":15},"",null,"",{"$nulls":10},0,null,null,0,0,0,0,0,0,0,0,0]
[{"$nulls":15},"",null,"",{"$nulls":10},0,null,null,0,0,0,0,0,0,0,0,0]
[{"$nulls":15},"",null,"",{"$nulls":10},0,null,null,0,0,0,0,0,0,0,0,0]
[{"$nulls":15},"",null,"",{"$nulls":10},0,null,null,0,0,0,0,0,0,0,0,0]
[{"$nulls":15},"",null,"",{"$nulls":10},0,null,null,0,0,0,0,0,0,0,0,0]
[{"$nulls":15},"",null,"",{"$nulls":10},0,null,null,0,0,0,0,0,0,0,0,0]
[{"$nulls":15},"",null,"",{"$nulls":10},0,null,null,0,0,0,0,0,0,0,0,0]
[{"$nulls":15},"",null,"",{"$nulls":10},0,null,null,0,0,0,0,0,0,0,0,0]
[{"$nulls":15},"",null,"",{"$nulls":10},0,null,null,0,0,0,0,0,0,0,0,0]
[{"$nulls":15},"",null,"",{"$nulls":10},0,null,null,0,0,0,0,0,0,0,0,0]
[{"$nulls":15},"",null,"",{"$nulls":10},0,null,null,0,0,0,0,0,0,0,0,0]
[{"$nulls":15},"",null,"",{"$nulls":10},0,null,null,0,0,0,0,0,0,0,0,0]
[{"$nulls":15},"",null,"",{"$nulls":10},0,null,null,0,0,0,0,0,0,0,0,0]
[{"$nulls":15},"",null,"",{"$nulls":10},0,null,null,0,0,0,0,0,0,0,0,0]
[{"$nulls":15},"",null,"",{"$nulls":10},0,null,null,0,0,0,0,0,0,0,0,0]
[{"$nulls":15},"",null,"",{"$nulls":10},0,null,null,0,0,0,0,0,0,0,0,0]
[{"$nulls":15},"",null,"",{"$nulls":10},0,null,null,0,0,0,0,0,0,0,0,0]
[{"$nulls":15},{"$f":"IF(ISBLANK(O124),\"\",LEN(TRIM(O124))-LEN(SUBSTITUTE(TRIM(O124),\",\",\"\"))+1)","v":""},null,"",{"$nulls":10},{"$f":"IF(ISBLANK(A124), 0, 1)","v":0},null,null,{"$f":"IF(J124=\"Yes\", 3, 0)","v":0},{"$f":"IF(M124=\"Yes\", 2, 0)","v":0},{"$f":"IF(OR(L124=\"Yes\", N124=\"Yes\", K124=\"Yes\"), 1, 0)","v":0},0,0,0,0,0,0]
[{"$nulls":15},"",null,"",{"$nulls":10},0,null,null,0,0,0,0,0,0,0,0,0]
[{"$nulls":15},"",null,"",{"$nulls":10},0,null,null,0,0,0,0,0,0,0,0,0]
[{"$nulls":15},"",null,"",{"$nulls":10},0,null,null,0,0,0,0,0,0,0,0,0]
[{"$nulls":15},"",null,"",{"$nulls":10},0,null,null,0,0,0,0,0,0,0,0,0]
[{"$nulls":15},"",null,"",{"$nulls":10},0,null,null,0,0,0,0,0,0,0,0,0]
[{"$nulls":15},"",null,"",{"$nulls":10},0,null,null,0,0,0,0,0,0,0,0,0]
[{"$nulls":15},"",null,"",{"$nulls":10},0,null,null,0,0,0,0,0,0,0,0,0]
[{"$nulls":15},"",null,"",{"$nulls":10},0,null,null,0,0,0,0,0,0,0,0,0]
[{"$nulls":15},"",null,"",{"$nulls":10},0,null,null,0,0,0,0,0,0,0,0,0]
[{"$nulls":15},"",null,"",{"$nulls":10},0,null,null,0,0,0,0,0,0,0,0,0]
[{"$nulls":15},"",null,"",{"$nulls":10},0,null,null,0,0,0,0,0,0,0,0,0]
[{"$nulls":15},"",null,"",{"$nulls":10},0,null,null,0,0,0,0,0,0,0,0,0]
[{"$nulls":15},{"$f":"IF(ISBLANK(O137),\"\",LEN(TRIM(O137))-LEN(SUBSTITUTE(TRIM(O137),\",\",\"\"))+1)","v":""},null,{"$f":"IF(ISBLANK(Q137),\"\",LEN(TRIM(Q137))-LEN(SUBSTITUTE(TRIM(Q137),\",\",\"\"))+1)","v":""},{"$nulls":10},0,null,null,0,0,0,0,0,0,0,0,{"$f":"IF(AND(AA137>=3, Z137=\"Yes, Support Core Goals\"), 2, IF(ISBLANK(AA137), 0, 1))","v":0}]
[{"$nulls":15},"",null,"",{"$nulls":10},{"$f":"IF(ISBLANK(A138), 0, 1)","v":0},null,null,{"$f":"IF(J138=\"Yes\", 3, 0)","v":0},{"$f":"IF(M138=\"Yes\", 2, 0)","v":0},{"$f":"IF(OR(L138=\"Yes\", N138=\"Yes\", K138=\"Yes\"), 1, 0)","v":0},{"$f":"IF(S138=\"Yes\", 5, 0)","v":0},{"$f":"IF(T138=\"Yes\", 4, 0)","v":0},{"$f":"IF(U138=\"Yes\", 3, 0)","v":0},{"$f":"IF(V138=\"Yes\", 2, 0)","v":0},{"$f":"IF(Z138=\"Yes, Support Core Goals\", 2, IF(Z138=\"Yes, Other\", 1, 0))","v":0},0]
[{"$nulls":15},"",null,"",{"$nulls":10},0,null,null,0,0,0,0,0,0,0,0,0]
[{"$nulls":15},"",null,"",{"$nulls":10},0,null,null,0,0,0,0,0,0,0,0,0]
[{"$nulls":15},"",null,"",{"$nulls":10},0,null,null,0,0,0,0,0,0,0,0,0]
[{"$nulls":15},"",null,"",{"$nulls":10},0,null,null,0,0,0,0,0,0,0,0,0]
[{"$nulls":15},"",null,"",{"$nulls":10},0,null,null,0,0,0,0,0,0,0,0,0]
[{"$nulls":15},"",null,"",{"$nulls":10},0,null,null,0,0,0,0,0,0,0,0,0]
[{"$nulls":15},"",null,"",{"$nulls":10},0,null,null,0,0,0,0,0,0,0,0,0]
[{"$nulls":15},"",null,"",{"$nulls":10},0,null,null,0,0,0,0,0,0,0,0,0]
[{"$nulls":15},"",null,"",{"$nulls":10},0,null,null,0,0,0,0,0,0,0,0,0]
[{"$nulls":15},"",null,"",{"$nulls":10},0,null,null,0,0,0,0,0,0,0,0,0]
[{"$nulls":15},"",null,"",{"$nulls":10},0,null,null,0,0,0,0,0,0,0,0,0]
[{"$nulls":15},"",null,"",{"$nulls":10},0,null,null,0,0,0,0,0,0,0,0,0]
[{"$nulls":15},"",null,"",{"$nulls":10},0,null,null,0,0,0,0,0,0,0,0,0]
[{"$nulls":15},"",null,"",{"$nulls":10},0,null,null,0,0,0,0,0,0,0,0,0]
[{"$nulls":15},"",null,"",{"$nulls":10},0,null,null,0,0,0,0,0,0,0,0,0]
[{"$nulls":15},"",null,"",{"$nulls":10},0,null,null,0,0,0,0,0,0,0,0,0]
[{"$nulls":15},"",null,"",{"$nulls":10},0,null,null,0,0,0,0,0,0,0,0,0]
[{"$nulls":15},"",null,"",{"$nulls":10},0,null,null,0,0,0,0,0,0,0,0,0]
[{"$nulls":15},"",null,"",{"$nulls":10},0,null,null,0,0,0,0,0,0,0,0,0]
[{"$nulls":15},"",null,"",{"$nulls":10},0,null,null,0,0,0,0,0,0,0,0,0]
[{"$nulls":15},"",null,"",{"$nulls":10},0,null,null,0,0,0,0,0,0,0,0,0]
[{"$nulls":28},{"$f":"SUM(AC9:AC159)","v":0},null,null,{"$f":"SUM(AF9:AF159)","v":0},{"$f":"SUM(AG9:AG159)","v":0},0,0,0,0,0,0,0]
{"$rows_empty":15}
["Scores:",{"$nulls":27},{"$f":"AC160/20","v":0},null,null,{"$f":"AF160/60","v":0},{"$f":"AG160/40","v":0},{"$f":"AH160/20","v":0},{"$f":"AI160/100","v":0},{"$f":"AJ160/80","v":0},{"$f":"AK160/60","v":0},{"$f":"AL160/40","v":0},{"$f":"AM160/40","v":0},{"$f":"AN160/40","v":0}]
[{"$nulls":28},{"$f":"IF(AC176>=1, 6, AC176*6)","v":0},null,null,{"$f":"IF(AF176>=1, 10, AF176*10)","v":0},{"$f":"IF(AG176>=1, 7, AG176*7)","v":0},{"$f":"IF(AH176>=1, 6, AH176*6)","v":0},{"$f":"IF(AI176>=1, 20, AI176*20)","v":0},{"$f":"IF(AJ176>=1, 11, AJ176*11)","v":0},{"$f":"IF(AK176>=1, 10, AK176*10)","v":0},{"$f":"IF(AL176>=1, 7, AL176*7)","v":0},{"$f":"IF(AM176>=1, 7, AM176*7)","v":0},{"$f":"IF(AN176>=1, 7, AN176*7)","v":0}]
["Evaluation Criteria",null,"Points Available","Points Earned"]
["Number of unique, contracted CBOs with a principal address in Florida. ",null,6,{"$f":"AC177","v":0}]
["Provides Services or Supports","Improving Access to Dental Services",10,{"$f":"AF177","v":0}]
[null,"Improving Care for Special Populations",7,{"$f":"AG177","v":0}]
[null,"Increased Provider Participation, Utilization of Preventive Care, or Oral Health Education",6,{"$f":"AH177","v":0}]
["Provides Support for General Dentistry/Dental Hygiene Student Training, Certification, and Education. ","Offering Financial Assistance or Incentives to Recent Dental School Graduates",20,{"$f":"AI177","v":0}]
[null,"Partnered with a Florida Dental School",11,{"$f":"AJ177","v":0}]
[null,"Partnered with a Dental Hygiene School",10,{"$f":"AK177","v":0}]
[null,"Providing Assistance with Educational Requirements for People Still in School",7,{"$f":"AL177","v":0}]
["Provides Services or Supports in AHCA Regions",null,9,{"$f":"IF(GP90>=60, 9, ((GP90/60)*9))","v":0}]
["Length of Relationship with Respondent",null,7,{"$f":"AN177","v":0}]
["CBO has a Representative who Serves on a Respondent Committee or Advisory Board",null,7,{"$f":"AM177","v":0}]
["Total Points Earned:",null,null,{"$f":"SUM(D179:D189)","v":0}]

{"sheet":"Grievances","index":14,"n_rows":62,"n_cols":4,"rows_kept":62,"merged":[[36,0,36,2],[37,2,40,2],[41,0,41,2],[42,2,45,2],[46,0,46,2],[47,2,50,2],[51,0,51,2],[52,2,55,2],[56,0,56,2],[57,2,60,2],[61,0,61,1]]}
["SRC #40: Grievances and Appeals",null,null,"Back to Respondent Information"]
[]
["Item","Score"]
["Total Points Possible:",{"$f":"SUM(B38,B43,B48,B53,B58)","v":100}]
["Points Earned:",{"$f":"C62","v":0}]
["Percent:",{"$f":"(IFERROR(B5/B4,0))","v":{"v":0,"d":"0%"}}]
[]
[null,{"$f":"'Respondent Information'!C7","v":0}]
["Line of Business",{"$f":"'Respondent Information'!E7","v":0}]
["Total Number of Enrollees",{"$f":"'Respondent Information'!K8","v":0}]
["Grievances"]
["Total # of Grievances Received"]
["Total # of Grievances Resolved within 90 days"]
["Total # of Grievances Not Resolved within 90 days",{"$f":"IF(B13>B12, \"ERROR\", B12-B13)","v":0}]
["Percentage of Grievance Not Resolved w/in 90 days",{"$f":"IF(B13>B12, \"ERROR\", IF(ISERROR(B14/B12), 0, B14/B12))","v":{"v":0,"d":"0.00%"}}]
["Percentage of Grievances to Population",{"$f":"IF(ISERROR(B12/B10), 0, B12/B10)","v":{"v":0,"d":"0.00%"}}]
["Total # of Staff Dedicated to Grievance Processing"]
["Ratio of Staff Dedicated to Population",{"$f":"IF(ISERROR(B17/B10), 0, B17/B10)","v":{"v":0,"d":"0.00%"}}]
["Standard Appeals"]
["Total # of Standard Appeals Received"]
["Total # of Standard Appeals Resolved within 30 days"]
["Total # of Standard Appeals Not Resolved within 30 days",{"$f":"IF(B21>B20, \"ERROR\", B20-B21)","v":0}]
["Percentage of Standard Appeals Not Resolved within 30 days",{"$f":"IF(B21>B20,\"ERROR\",IF(ISERROR(B22/B20),0,(B22/B20)))","v":{"v":0,"d":"0.00%"}}]
["Percentage of Standard Appeals to Population",{"$f":"IF(ISERROR(B20/B10), 0, B20/B10)","v":{"v":0,"d":"0.00%"}}]
["Total # of Staff Dedicated to Standard Appeal Processing"]
["Ratio of Staff Dedicated to Population",{"$f":"IF(ISERROR(B25/B10), 0, B25/B10)","v":{"v":0,"d":"0.00%"}}]
["Medicaid Fair Hearings"]
["Total # of Medicaid Fair Hearings Received"]
["Total # Hearings Upheld"]
["Percentage of Upheld to # of Fair Hearings Received",{"$f":"IF(ISERROR(B29/B28), 0, B29/B28)","v":{"v":0,"d":"0.00%"}}]
["Total # Hearings Overturned"]
["Percentage of Overturned to # of Fair Hearings Received",{"$f":"IF(SUM(B29,B31)>B28, \"ERROR\", IF(ISERROR(B31/B28), 0, (B31/B28)))","v":{"v":0,"d":"0.00%"}}]
[]
["Scores:"]
[]
["Criteria","Points Possible","Points Earned"]
["Score #1 - Percent of Grievances Not Resolved Within 90 Days"]
["0%-5.99%",20,{"$f":"IF(B15=\"ERROR\", 0, IF(ISBLANK(B12), 0, IF(B15<=0.0599, 20, IF(B15<=0.1099, 15, IF(B15<0.26, 10, 0)))))","v":0}]
["6%-10.99%",15]
["11%-25.99%",10]
["26% or higher",0]
["Score #2 - Percent of Grievances Per Total Population"]
["0%-5.99%",20,{"$f":"IF(ISBLANK(B12), 0, IF(B16<=0.0599, 20, IF(B16<=0.1099, 15, IF(B16<0.26, 10, 0))))","v":0}]
["6%-10.99%",15]
["11%-25.99%",10]
["26% or higher",0]
["Score #3 - Percent of Appeals Not Resolved Within 30 Days"]
["0%-5.99%",20,{"$f":"IF(ISBLANK(B20), 0, IF(B23<=0.0599, 20, IF(B23<=0.1099, 15, IF(B23<0.26, 10, 0))))","v":0}]
["6%-10.99%",15]
["11%-25.99%",10]
["26% or higher",0]
["Score #4 - Percent of Appeals Per Total Population"]
["0%-5.99%",20,{"$f":"IF(ISBLANK(B20), 0, IF(B24<=0.0599, 20, IF(B24<=0.1099, 15, IF(B24<0.26, 10, 0))))","v":0}]
["6%-10.99%",15]
["11%-25.99%",10]
["26% or higher",0]
["Score #5 - Percent of Medicaid Fair Hearings Overturned"]
["0%-5.99%",20,{"$f":"IF(B32=\"ERROR\",0, IF(ISBLANK(B28),0,IF(B32<=0.0599,20,IF(B32<=0.1099,15,IF(B32<0.26,10,0)))))","v":0}]
["6%-10.99%",15]
["11%-25.99%",10]
["26% or higher",0]
["Total Points Earned:",null,{"$f":"SUM(C58,C53,C48,C43,C38)","v":0}]