{"text_format":"3","workbook":"xlsx","n_sheets":53,"sheets":["General Instructions","Plan Selection1","Respondent Information","Scoring-Value Based Purchasing","Value Based Purchasing","Scoring-Expanded Benefits","Expanded Benefits","Scoring-Birth Outcomes","Birth Outcomes","Scoring-Chr Disease Management","Chr Disease Management","Scoring-HEDIS","HEDIS","Scoring-Commitment to Quality","Commitment to Quality","Scoring-PersonCentered Care","Person-Centered Care","Scoring-Behav Health-Prim Care","Behav Health-Prim Care Integ","Scoring-Telemedicine","Telemedicine","Scoring-EBP Child Intense Behav","EBP Child Intense Behav","Scoring-Essential Providers","Essential Providers","Scoring-Community Partnerships","Community Partnerships","Scoring-Exp. Benefits-Pathways","Exp. Benefits-Pathways","Scoring-Managed Care Exp","Managed Care Experience","Scoring-Compliance","Compliance","Compliance-Terminations","Scoring-Florida Presence","Florida Presence","Scoring-Accreditation","Accreditation","Scoring-Grievances","Grievances","Scoring-Processing and Payment","Processing and Payment","Scoring-Provider Engagement","Provider Engagement","Scoring-NET","Non-Emergency Transportation","Scoring-CAHPS","CAHPS","Scoring-Mgmt Exp & Retention ","Mgmt Exp & Retention","subcontractors dropdown","Instruct-Template","SRC Template"],"not_rendered":{"images":1,"macros":1,"external_links":1,"defined_names":7},"read":"whole","date_system":"1900"}

{"sheet":"General Instructions","index":0,"n_rows":3,"n_cols":1,"rows_kept":3}
[]
["Exhibit A-5-a Submission Requirements and Evaluation Response"]
["Template Instructions"]

{"sheet":"Plan Selection1","index":1,"n_rows":26,"n_cols":22,"rows_kept":26,"hidden":true,"merged":[[0,1,1,7],[0,13,1,16],[1,17,1,22],[2,21,2,22],[3,21,3,22],[4,21,4,22],[5,21,5,22]]}
[null,"SRC Plan Selection",{"$nulls":11},"Plan/Vendor Name:"]
[{"$nulls":17},"Sunshine Health Network d/b/a Sunshine LLC"]
[{"$nulls":19},"Calendar Years",null,"Population"]
[{"$nulls":15},"Plan State: ",null,"Florida",2019,2020,2021,{"v":20000000,"d":"20,000,000"}]
[{"$nulls":15},"Comparison State 1: ",null,"Tennessee",2018,2019,2020,{"v":13000000,"d":"13,000,000"}]
[{"$nulls":15},"Comparison State 2: ",null,"Montana",2019,2020,2021,{"v":11000000,"d":"11,000,000"}]
[]
[null,"Comprehensive Plans"]
[]
[]
[]
[]
[]
[null,"Specialty Plans"]
[]
[]
[]
[]
[]
[null,"MMA Only Plans"]
[]
[]
[]
[]
[]
[null,"LTC Plus Plans"]

{"sheet":"Respondent Information","index":2,"n_rows":100,"n_cols":19,"rows_kept":100,"merged":[[1,0,2,3],[1,4,2,9],[3,7,3,9],[4,0,4,1],[4,5,4,6],[4,7,5,7],[4,8,5,8],[4,9,5,9],[4,10,5,10],[4,11,5,11],[4,12,5,12],[5,0,7,1],[5,2,7,2],[5,3,7,3],[5,4,7,4],[8,0,10,1],[8,2,10,2],[8,3,10,3],[8,4,10,4],[11,0,13,1],[11,2,13,2],[11,3,13,3],[11,4,13,4],[16,1,16,3],[16,4,16,6],[16,7,16,8],[16,9,16,10],[16,11,16,12],[16,13,16,14],[17,1,17,3],[17,4,17,6],[17,7,17,8],[17,9,17,10],[17,11,17,12],[17,13,17,14],[18,1,18,3],[18,4,18,6],[18,7,18,8],[18,9,18,10],[18,11,18,12],[18,13,18,14],[19,1,19,3],[19,4,19,6],[19,7,19,8],[19,9,19,10],[19,11,19,12],[19,13,19,14],[20,1,20,3],[20,4,20,6],[20,7,20,8],[20,9,20,10],[20,11,20,12],[20,13,20,14],[21,1,21,3],[21,4,21,6],[21,7,21,8],[21,9,21,10],[21,11,21,12],[21,13,21,14],[22,1,22,3],[22,4,22,6],[22,7,22,8],[22,9,22,10],[22,11,22,12],[22,13,22,14],[23,1,23,3],[23,4,23,6],[23,7,23,8],[23,9,23,10],[23,11,23,12],[23,13,23,14],[24,1,24,3],[24,4,24,6],[24,7,24,8],[24,9,24,10],[24,11,24,12],[24,13,24,14],[25,1,25,3],[25,4,25,6],[25,7,25,8],[25,9,25,10],[25,11,25,12],[25,13,25,14],[26,1,26,3],[26,4,26,6],[26,7,26,8],[26,9,26,10],[26,11,26,12],[26,13,26,14],[27,1,27,3],[27,4,27,6],[27,7,27,8],[27,9,27,10],[27,11,27,12],[27,13,27,14],[28,1,28,3],[28,4,28,6],[28,7,28,8],[28,9,28,10],[28,11,28,12],[28,13,28,14],[29,1,29,3],[29,4,29,6],[29,7,29,8],[29,9,29,10],[29,11,29,12],[29,13,29,14],[30,1,30,3],[30,4,30,6],[30,7,30,8],[30,9,30,10],[30,11,30,12],[30,13,30,14],[31,1,31,3],[31,4,31,6],[31,7,31,8],[31,9,33,10],[31,11,33,12],[31,13,33,14],[32,4,32,6],[32,7,32,8],[33,4,33,6],[33,7,33,8],[34,1,34,3],[34,4,34,6],[34,7,34,8],[34,9,34,10],[34,11,34,12],[34,13,34,14],[35,1,35,3],[35,4,35,6],[35,7,35,8],[35,9,35,10],[35,11,35,12],[35,13,35,14],[36,1,36,3],[36,4,36,6],[36,7,36,8],[36,9,36,10],[36,11,36,12],[36,13,36,14],[37,1,37,3],[37,4,37,6],[37,7,37,8],[37,9,37,10],[37,11,37,12],[37,13,37,14],[38,1,38,3],[38,4,38,6],[38,7,38,8],[38,9,38,10],[38,11,38,12],[38,13,38,14],[39,1,39,3],[39,4,39,6],[39,7,39,8],[39,9,39,10],[39,11,39,12],[39,13,39,14],[40,1,40,3],[40,4,40,6],[40,7,40,8],[40,9,40,10],[40,11,40,12],[40,13,40,14],[41,1,41,3],[41,4,41,6],[41,7,41,8],[41,9,41,10],[41,11,41,12],[41,13,41,14],[42,4,42,6],[42,7,42,8],[42,9,42,10],[42,11,42,12],[42,13,42,14]]}
[]
["Plan/Respondent Name:"]
[]
[]
[null,null,"Full State Name","Contract Number","Line of Business","Target Populations Included",null,"Calendar Year 1: ",null,"Calendar Year 2: ",null,"Calendar Year 3: "]
["Contract 1: ",{"$nulls":17},"Yes"]
[{"$nulls":7},"Number of Enrollees: ",null,"Number of Enrollees: ",null,"Number of Enrollees: ",{"$nulls":6},"No"]
[{"$nulls":7},"Total Claim-Based Expenditures:",null,"Total Claim-Based Expenditures:",null,"Total Claim-Based Expenditures:"]
["Contract 2: ",{"$nulls":6},"Calendar Year 1: ",null,"Calendar Year 2: ",null,"Calendar Year 3: "]
[{"$nulls":7},"Number of Enrollees: ",null,"Number of Enrollees: ",null,"Number of Enrollees: "]
[{"$nulls":7},"Total Claim-Based Expenditures:",null,"Total Claim-Based Expenditures:",null,"Total Claim-Based Expenditures:"]
[" Contract 3: ",{"$nulls":6},"Calendar Year 1: ",null,"Calendar Year 2: ",null,"Calendar Year 3: "]
[{"$nulls":7},"Number of Enrollees: ",null,"Number of Enrollees: ",null,"Number of Enrollees: "]
[{"$nulls":7},"Total Claim-Based Expenditures:",null,"Total Claim-Based Expenditures:",null,"Total Claim-Based Expenditures:"]
[]
[]
["SRC#","Scores**",null,null,"Points Earned",null,null,"Total Points Available",null,"Percent",null,"Final Score Possible",null,"Final Score"]
[13,"Value Based Purchasing:",null,null,{"$f":"'Value Based Purchasing'!B5","v":0},null,null,{"$f":"'Value Based Purchasing'!B4","v":120},null,{"$f":"E18/H18","v":{"v":0,"d":"0%"}},null,370,null,{"$f":"J18*L18","v":0}]
[14,"Expanded Benefits - Medical and Long-Term Care:",null,null,{"$f":"'Expanded Benefits'!B5","v":0},null,null,{"$f":"'Expanded Benefits'!B4","v":195},null,{"v":0,"d":"0%"},null,370,null,{"$f":"J19*L19","v":0}]
[15,"Birth Outcomes:",null,null,{"$f":"'Birth Outcomes'!B5","v":0},null,null,{"$f":"'Birth Outcomes'!B4","v":300},null,{"v":0,"d":"0%"},null,300,null,0]
[16,"Chronic Disease Management Program:",null,null,{"$f":"'Chr Disease Management'!B5","v":0},null,null,{"$f":"'Chr Disease Management'!B4","v":96},null,{"v":0,"d":"0%"},null,250,null,0]
[17,"HEDIS Measures:",null,null,{"$f":"HEDIS!B5","v":0},null,null,{"$f":"HEDIS!B4","v":120},null,{"v":0,"d":"0%"},null,120,null,0]
[18,"Organizational Commitment to Quality:",null,null,{"$f":"'Commitment to Quality'!B5","v":0},null,null,{"$f":"'Commitment to Quality'!B4","v":63},null,{"v":0,"d":"0%"},null,90,null,0]
[19,"Person-Centered Care and Patient Centered Medical Homes:",null,null,{"$f":"'Person-Centered Care'!B5","v":0},null,null,{"$f":"'Person-Centered Care'!B4","v":200},null,{"v":0,"d":"0%"},null,300,null,0]
[20,"Behavioral Health/Primary Care Integration:",null,null,{"$f":"'Behav Health-Prim Care Integ'!B5","v":0},null,null,{"$f":"'Behav Health-Prim Care Integ'!B4","v":730},null,{"v":0,"d":"0%"},null,250,null,0]
[23,"Telemedicine:",null,null,{"$f":"Telemedicine!B5","v":0},null,null,{"$f":"Telemedicine!B4","v":270},null,{"v":0,"d":"0%"},null,120,null,0]
[24,"Evidence-Based Programs for Children with Intense Behaviors:",null,null,{"$f":"'EBP Child Intense Behav'!B5","v":0},null,null,{"$f":"'EBP Child Intense Behav'!B4","v":50},null,{"$f":"E27/H27","v":{"v":0,"d":"0%"}},null,50,null,{"$f":"J27*L27","v":0}]
[25," Essential Provider Networks:",null,null,{"$f":"'Essential Providers'!B5","v":0},null,null,{"$f":"'Essential Providers'!B4","v":40},null,{"v":0,"d":"0%"},null,80,null,0]
[26,"Community Partnerships:",null,null,{"$f":"'Community Partnerships'!B5","v":0},null,null,{"$f":"'Community Partnerships'!B4","v":148},null,{"v":0,"d":"0%"},null,300,null,0]
[27,"Expanded Benefits - Pathways to Prosperity:",null,null,{"$f":"'Exp. Benefits-Pathways'!B5","v":0},null,null,{"$f":"'Exp. Benefits-Pathways'!B4","v":20},null,{"$f":"E30/H30","v":{"v":0,"d":"0%"}},null,300,null,0]
[31,"Managed Care Experience:",null,null,{"$f":"'Managed Care Experience'!B5","v":0},null,null,{"$f":"'Managed Care Experience'!B4","v":5},null,{"$f":"E31/H31","v":{"v":0,"d":"0%"}},null,350,null,{"$f":"J31*L31","v":0}]
[null,"Compliance History:",null,null,{"$f":"Compliance!C5","v":0},null,null,{"$f":"Compliance!C4","v":297},null,{"$f":"E34/H34","v":{"v":0,"d":"0%"}},null,250,null,{"$f":"J32*L32","v":0}]
[32,null,null,"Compliance-Terminations:",{"$f":"'Compliance-Terminations'!C5","v":0},null,null,{"$f":"'Compliance-Terminations'!C4","v":50}]
[{"$nulls":3},"Total Compliance Points",{"$f":"E32+E33","v":0},null,null,{"$f":"H32+H33","v":347}]
[33,"Florida Presence:",null,null,{"$f":"'Florida Presence'!B5","v":0},null,null,{"$f":"'Florida Presence'!B4","v":100},null,{"$f":"E35/H35","v":{"v":0,"d":"0%"}},null,100,null,{"$f":"J35*L35","v":0}]
[34,"Managed Care Plan Accreditation:",null,null,{"$f":"Accreditation!B5","v":0},null,null,{"$f":"Accreditation!B4","v":11},null,{"$f":"E36/H36","v":{"v":0,"d":"0%"}},null,100,null,{"$f":"J36*L36","v":0}]
[35,"Grievances:",null,null,{"$f":"Grievances!B5","v":0},null,null,{"$f":"Grievances!B4","v":15},null,{"$f":"E37/H37","v":{"v":0,"d":"0%"}},null,200,null,{"$f":"J37*L37","v":0}]
[36,"Claims Processing and Payment:",null,null,{"$f":"'Processing and Payment'!B5","v":0},null,null,{"$f":"'Processing and Payment'!B4","v":375},null,{"$f":"E38/H38","v":{"v":0,"d":"0%"}},null,200,null,{"$f":"J38*L38","v":0}]
[37,"Provider Engagement Model:",null,null,{"$f":"'Provider Engagement'!B5","v":0},null,null,{"$f":"'Provider Engagement'!B4","v":141},null,{"$f":"E39/H39","v":{"v":0,"d":"0%"}},null,150,null,{"$f":"J39*L39","v":0}]
[38,"Non-Emergency Transportation Performance:",null,null,{"$f":"'Non-Emergency Transportation'!B5","v":0},null,null,{"$f":"'Non-Emergency Transportation'!B4","v":210},null,{"$f":"E40/H40","v":{"v":0,"d":"0%"}},null,100,null,{"$f":"J40*L40","v":0}]
[39,"Consumer Assessment of Healthcare Providers and Systems Results:",null,null,{"$f":"CAHPS!B5","v":0},null,null,{"$f":"CAHPS!B4","v":100},null,{"$f":"E41/H41","v":{"v":0,"d":"0%"}},null,100,null,{"$f":"J41*L41","v":0}]
[41,"Management Experience and Retention:",null,null,{"$f":"'Mgmt Exp & Retention'!B5","v":0},null,null,{"$f":"'Mgmt Exp & Retention'!B4","v":15},null,{"$f":"E42/H42","v":{"v":0,"d":"0%"}},null,75,null,{"$f":"J42*L42","v":0}]
[]
["**The quality of a respondent’s ITN is evaluated based on the sum of the weighted *scores.* The scores of individual SRCs are calculated from raw *total points.**"]
["**Final score is calculated by multiplying the percent of total points earned by the final score possible for each SRC. "]
{"$rows_empty":49}
[{"$nulls":3},"Medicaid","TANF Child - No","TANF Child - Yes"]
[{"$nulls":3},"CHIP","TANF Adult - No","TANF Adult - Yes"]
[{"$nulls":3},"Medicare","Disabled Child - No","Disabled Child - Yes"]
[{"$nulls":4},"Disabled Adult - No","Disabled Adult - Yes"]
[{"$nulls":4},"LTSS Child - No","LTSS Child - Yes"]
[{"$nulls":4},"LTSS Adult - No","LTSS Adult - Yes"]

{"sheet":"Scoring-Value Based Purchasing","index":3,"n_rows":3,"n_cols":1,"rows_kept":3,"merged":[[2,0,2,3]]}
["SRC #13: Value Based Purchasing Scoring Information"]
[]
["Back to Respondent Information"]

{"sheet":"Value Based Purchasing","index":4,"n_rows":571,"n_cols":24,"rows_kept":571,"merged":[[0,2,0,4],[2,2,2,4],[511,0,511,1],[511,2,511,4],[514,0,521,0],[514,5,516,5],[514,6,516,6],[514,7,516,7],[517,5,519,5],[517,6,519,6],[517,7,519,7],[520,1,520,6],[521,1,521,6],[522,0,529,0],[522,5,524,5],[522,6,524,6],[522,7,524,7],[525,5,527,5],[525,6,527,6],[525,7,527,7],[528,1,528,6],[529,1,529,6],[530,0,537,0],[530,5,532,5],[530,6,532,6],[530,7,532,7],[533,5,535,5],[533,6,535,6],[533,7,535,7],[536,1,536,6],[537,1,537,6],[538,0,538,6]]}
["SRC #13: Value Based Purchasing",null,"Back to Respondent Information"]
[]
["Item","Score","Click Here to Go to the Scoring Table",null,null,"Back to Top (Entry #1)"]
["Total Points Possible:",120,{"$nulls":3},"Skip to Entry #100"]
["Points Earned:",{"$f":"H539","v":0},{"$nulls":3},"Skip to Entry #200"]
["Percent:",{"$f":"B5/B4","v":{"v":0,"d":"0%"}},{"$nulls":3},"Skip to Entry #300"]
["Final Score Possible: ",370,{"$nulls":3},"Skip to Entry #400"]
["Value-Based Purchasing SRC Final Score: ",{"$f":"B6*B7","v":0}]
[]
["Official Contract Number (Select One)","State","Line of Business","Calendar Year (Select One)","Total Enrollee Count in Contract (member-months/12)","Total Claim-Based Expenditures for all Enrollees","VBP Contract Title","VBP Model Type","VBP Contract Number","LAN-Category","Region(s)","Description","Number of Providers in the VBP Contract","Attributed Enrollee Count (include overlap, LAN 2A+)","Attributed Enrollee Count (exclude overlap, LAN 2A+)","Total VBP Rewards","Total VBP Penalties","Total VBP Capitation","Measured Claim-Based Expenditures for Attributed Enrollees (include overlap, LAN 3A+ only)","Measured Claim-Based Expenditures for Attributed Enrollees (exclude overlap, LAN 3A+ only)","Total Claim-Based Expenditures for Attributed Enrollees (include overlap, LAN 3A+ only)","Total Claim-Based Expenditures Billed by Providers in VBP Agreement"]
[null,{"$f":"IF(ISBLANK(A11), \" \", _xlfn.XLOOKUP(A11,$A$552:$C$552,$A$553:$C$553))","v":" "},{"$f":"IF(ISBLANK(A11), \" \", _xlfn.XLOOKUP(A11,$A$552:$C$552,$A$554:$C$554))","v":" "},null,{"$f":"_xlfn.XLOOKUP(A11&D11, $A$562:$J$562&$A$563:$J$563, $A$564:$J$564, \" \")","v":0},{"$f":"_xlfn.XLOOKUP(A11&D11, $A$562:$J$562&$A$563:$J$563, $A$565:$J$565, \"\")","v":{"v":0,"d":"$0.00"}}]
[null," "," ",null,{"$f":"_xlfn.XLOOKUP(A12&D12, $A$562:$J$562&$A$563:$J$563, $A$564:$J$564, \" \")","v":0},{"$f":"_xlfn.XLOOKUP(A12&D12, $A$562:$J$562&$A$563:$J$563, $A$565:$J$565, \"\")","v":{"v":0,"d":"$0.00"}},{"$nulls":17},"Population-Based"]
[null," "," ",null,{"$f":"_xlfn.XLOOKUP(A13&D13, $A$562:$J$562&$A$563:$J$563, $A$564:$J$564, \" \")","v":0},{"$f":"_xlfn.XLOOKUP(A13&D13, $A$562:$J$562&$A$563:$J$563, $A$565:$J$565, \" \")","v":{"v":0,"d":"$0.00"}},{"$nulls":17},"Targeted Population-Based"]
[null," "," ",null,{"$f":"_xlfn.XLOOKUP(A14&D14, $A$562:$J$562&$A$563:$J$563, $A$564:$J$564, \" \")","v":0},{"$f":"_xlfn.XLOOKUP(A14&D14, $A$562:$J$562&$A$563:$J$563, $A$565:$J$565, \" \")","v":{"v":0,"d":"$0.00"}},{"$nulls":17},"Enhanced Primary Care"]
[null," "," ",null,{"$f":"_xlfn.XLOOKUP(A15&D15, $A$562:$J$562&$A$563:$J$563, $A$564:$J$564, \" \")","v":0},{"$f":"_xlfn.XLOOKUP(A15&D15, $A$562:$J$562&$A$563:$J$563, $A$565:$J$565, \" \")","v":{"v":0,"d":"$0.00"}},{"$nulls":17},"Targeted Enhanced Primary Care"]
[null," "," ",null,{"$f":"_xlfn.XLOOKUP(A16&D16, $A$562:$J$562&$A$563:$J$563, $A$564:$J$564, \" \")","v":0},{"$f":"_xlfn.XLOOKUP(A16&D16, $A$562:$J$562&$A$563:$J$563, $A$565:$J$565, \" \")","v":{"v":0,"d":"$0.00"}},{"$nulls":17},"Episode-Based"]
[null," "," ",null,{"$f":"_xlfn.XLOOKUP(A17&D17, $A$562:$J$562&$A$563:$J$563, $A$564:$J$564, \" \")","v":0},{"$f":"_xlfn.XLOOKUP(A17&D17, $A$562:$J$562&$A$563:$J$563, $A$565:$J$565, \" \")","v":{"v":0,"d":"$0.00"}},{"$nulls":17},"Quality"]
[null," "," ",null,{"$f":"_xlfn.XLOOKUP(A18&D18, $A$562:$J$562&$A$563:$J$563, $A$564:$J$564, \" \")","v":0},{"$f":"_xlfn.XLOOKUP(A18&D18, $A$562:$J$562&$A$563:$J$563, $A$565:$J$565, \" \")","v":{"v":0,"d":"$0.00"}},{"$nulls":17},"Foundational Payments for Infrastructure & Operations"]
[null," "," ",null,{"$f":"_xlfn.XLOOKUP(A19&D19, $A$562:$J$562&$A$563:$J$563, $A$564:$J$564, \" \")","v":0},{"$f":"_xlfn.XLOOKUP(A19&D19, $A$562:$J$562&$A$563:$J$563, $A$565:$J$565, \" \")","v":{"v":0,"d":"$0.00"}},{"$nulls":17},"Other"]
[null," "," ",null,{"$f":"_xlfn.XLOOKUP(A20&D20, $A$562:$J$562&$A$563:$J$563, $A$564:$J$564, \" \")","v":0},{"$f":"_xlfn.XLOOKUP(A20&D20, $A$562:$J$562&$A$563:$J$563, $A$565:$J$565, \" \")","v":{"v":0,"d":"$0.00"}}]
[null," "," ",null,{"$f":"_xlfn.XLOOKUP(A21&D21, $A$562:$J$562&$A$563:$J$563, $A$564:$J$564, \" \")","v":0},{"$f":"_xlfn.XLOOKUP(A21&D21, $A$562:$J$562&$A$563:$J$563, $A$565:$J$565, \" \")","v":{"v":0,"d":"$0.00"}}]
[null," "," ",null,{"$f":"_xlfn.XLOOKUP(A22&D22, $A$562:$J$562&$A$563:$J$563, $A$564:$J$564, \" \")","v":0},{"$f":"_xlfn.XLOOKUP(A22&D22, $A$562:$J$562&$A$563:$J$563, $A$565:$J$565, \" \")","v":{"v":0,"d":"$0.00"}},{"$nulls":17},"LAN 2A"]
[null," "," ",null,{"$f":"_xlfn.XLOOKUP(A23&D23, $A$562:$J$562&$A$563:$J$563, $A$564:$J$564, \" \")","v":0},{"$f":"_xlfn.XLOOKUP(A23&D23, $A$562:$J$562&$A$563:$J$563, $A$565:$J$565, \" \")","v":{"v":0,"d":"$0.00"}},{"$nulls":17},"LAN 2B"]
[null," "," ",null,{"$f":"_xlfn.XLOOKUP(A24&D24, $A$562:$J$562&$A$563:$J$563, $A$564:$J$564, \" \")","v":0},{"$f":"_xlfn.XLOOKUP(A24&D24, $A$562:$J$562&$A$563:$J$563, $A$565:$J$565, \" \")","v":{"v":0,"d":"$0.00"}},{"$nulls":17},"LAN 2C"]
[null," "," ",null,{"$f":"_xlfn.XLOOKUP(A25&D25, $A$562:$J$562&$A$563:$J$563, $A$564:$J$564, \" \")","v":0},{"$f":"_xlfn.XLOOKUP(A25&D25, $A$562:$J$562&$A$563:$J$563, $A$565:$J$565, \" \")","v":{"v":0,"d":"$0.00"}},{"$nulls":17},"LAN 3A"]
[null," "," ",null,{"$f":"_xlfn.XLOOKUP(A26&D26, $A$562:$J$562&$A$563:$J$563, $A$564:$J$564, \" \")","v":0},{"$f":"_xlfn.XLOOKUP(A26&D26, $A$562:$J$562&$A$563:$J$563, $A$565:$J$565, \" \")","v":{"v":0,"d":"$0.00"}},{"$nulls":17},"LAN 3B"]
[null," "," ",null,{"$f":"_xlfn.XLOOKUP(A27&D27, $A$562:$J$562&$A$563:$J$563, $A$564:$J$564, \" \")","v":0},{"$f":"_xlfn.XLOOKUP(A27&D27, $A$562:$J$562&$A$563:$J$563, $A$565:$J$565, \" \")","v":{"v":0,"d":"$0.00"}},{"$nulls":17},"LAN 4A"]
[null," "," ",null,{"$f":"_xlfn.XLOOKUP(A28&D28, $A$562:$J$562&$A$563:$J$563, $A$564:$J$564, \" \")","v":0},{"$f":"_xlfn.XLOOKUP(A28&D28, $A$562:$J$562&$A$563:$J$563, $A$565:$J$565, \" \")","v":{"v":0,"d":"$0.00"}},{"$nulls":17},"LAN 4B"]
[null," "," ",null,{"$f":"_xlfn.XLOOKUP(A29&D29, $A$562:$J$562&$A$563:$J$563, $A$564:$J$564, \" \")","v":0},{"$f":"_xlfn.XLOOKUP(A29&D29, $A$562:$J$562&$A$563:$J$563, $A$565:$J$565, \" \")","v":{"v":0,"d":"$0.00"}},{"$nulls":17},"LAN 4C"]
[null," "," ",null,{"$f":"_xlfn.XLOOKUP(A30&D30, $A$562:$J$562&$A$563:$J$563, $A$564:$J$564, \" \")","v":0},{"$f":"_xlfn.XLOOKUP(A30&D30, $A$562:$J$562&$A$563:$J$563, $A$565:$J$565, \" \")","v":{"v":0,"d":"$0.00"}}]
[null," "," ",null,{"$f":"_xlfn.XLOOKUP(A31&D31, $A$562:$J$562&$A$563:$J$563, $A$564:$J$564, \" \")","v":0},{"$f":"_xlfn.XLOOKUP(A31&D31, $A$562:$J$562&$A$563:$J$563, $A$565:$J$565, \" \")","v":{"v":0,"d":"$0.00"}}]
[null," "," ",null,{"$f":"_xlfn.XLOOKUP(A32&D32, $A$562:$J$562&$A$563:$J$563, $A$564:$J$564, \" \")","v":0},{"$f":"_xlfn.XLOOKUP(A32&D32, $A$562:$J$562&$A$563:$J$563, $A$565:$J$565, \" \")","v":{"v":0,"d":"$0.00"}}]
[null," "," ",null,{"$f":"_xlfn.XLOOKUP(A33&D33, $A$562:$J$562&$A$563:$J$563, $A$564:$J$564, \" \")","v":0},{"$f":"_xlfn.XLOOKUP(A33&D33, $A$562:$J$562&$A$563:$J$563, $A$565:$J$565, \" \")","v":{"v":0,"d":"$0.00"}}]
[null," "," ",null,{"$f":"_xlfn.XLOOKUP(A34&D34, $A$562:$J$562&$A$563:$J$563, $A$564:$J$564, \" \")","v":0},{"$f":"_xlfn.XLOOKUP(A34&D34, $A$562:$J$562&$A$563:$J$563, $A$565:$J$565, \" \")","v":{"v":0,"d":"$0.00"}}]
[null," "," ",null,{"$f":"_xlfn.XLOOKUP(A35&D35, $A$562:$J$562&$A$563:$J$563, $A$564:$J$564, \" \")","v":0},{"$f":"_xlfn.XLOOKUP(A35&D35, $A$562:$J$562&$A$563:$J$563, $A$565:$J$565, \" \")","v":{"v":0,"d":"$0.00"}}]
[null," "," ",null,{"$f":"_xlfn.XLOOKUP(A36&D36, $A$562:$J$562&$A$563:$J$563, $A$564:$J$564, \" \")","v":0},{"$f":"_xlfn.XLOOKUP(A36&D36, $A$562:$J$562&$A$563:$J$563, $A$565:$J$565, \" \")","v":{"v":0,"d":"$0.00"}}]
[null," "," ",null,{"$f":"_xlfn.XLOOKUP(A37&D37, $A$562:$J$562&$A$563:$J$563, $A$564:$J$564, \" \")","v":0},{"$f":"_xlfn.XLOOKUP(A37&D37, $A$562:$J$562&$A$563:$J$563, $A$565:$J$565, \" \")","v":{"v":0,"d":"$0.00"}}]
[null," "," ",null,{"$f":"_xlfn.XLOOKUP(A38&D38, $A$562:$J$562&$A$563:$J$563, $A$564:$J$564, \" \")","v":0},{"$f":"_xlfn.XLOOKUP(A38&D38, $A$562:$J$562&$A$563:$J$563, $A$565:$J$565, \" \")","v":{"v":0,"d":"$0.00"}}]
[null," "," ",null,{"$f":"_xlfn.XLOOKUP(A39&D39, $A$562:$J$562&$A$563:$J$563, $A$564:$J$564, \" \")","v":0},{"$f":"_xlfn.XLOOKUP(A39&D39, $A$562:$J$562&$A$563:$J$563, $A$565:$J$565, \" \")","v":{"v":0,"d":"$0.00"}}]
[null," "," ",null,{"$f":"_xlfn.XLOOKUP(A40&D40, $A$562:$J$562&$A$563:$J$563, $A$564:$J$564, \" \")","v":0},{"$f":"_xlfn.XLOOKUP(A40&D40, $A$562:$J$562&$A$563:$J$563, $A$565:$J$565, \" \")","v":{"v":0,"d":"$0.00"}}]
[null," "," ",null,{"$f":"_xlfn.XLOOKUP(A41&D41, $A$562:$J$562&$A$563:$J$563, $A$564:$J$564, \" \")","v":0},{"$f":"_xlfn.XLOOKUP(A41&D41, $A$562:$J$562&$A$563:$J$563, $A$565:$J$565, \" \")","v":{"v":0,"d":"$0.00"}}]
[null," "," ",null,{"$f":"_xlfn.XLOOKUP(A42&D42, $A$562:$J$562&$A$563:$J$563, $A$564:$J$564, \" \")","v":0},{"$f":"_xlfn.XLOOKUP(A42&D42, $A$562:$J$562&$A$563:$J$563, $A$565:$J$565, \" \")","v":{"v":0,"d":"$0.00"}}]
[null," "," ",null,{"$f":"_xlfn.XLOOKUP(A43&D43, $A$562:$J$562&$A$563:$J$563, $A$564:$J$564, \" \")","v":0},{"$f":"_xlfn.XLOOKUP(A43&D43, $A$562:$J$562&$A$563:$J$563, $A$565:$J$565, \" \")","v":{"v":0,"d":"$0.00"}}]
[null," "," ",null,{"$f":"_xlfn.XLOOKUP(A44&D44, $A$562:$J$562&$A$563:$J$563, $A$564:$J$564, \" \")","v":0},{"$f":"_xlfn.XLOOKUP(A44&D44, $A$562:$J$562&$A$563:$J$563, $A$565:$J$565, \" \")","v":{"v":0,"d":"$0.00"}}]
[null," "," ",null,{"$f":"_xlfn.XLOOKUP(A45&D45, $A$562:$J$562&$A$563:$J$563, $A$564:$J$564, \" \")","v":0},{"$f":"_xlfn.XLOOKUP(A45&D45, $A$562:$J$562&$A$563:$J$563, $A$565:$J$565, \" \")","v":{"v":0,"d":"$0.00"}}]
[null," "," ",null,{"$f":"_xlfn.XLOOKUP(A46&D46, $A$562:$J$562&$A$563:$J$563, $A$564:$J$564, \" \")","v":0},{"$f":"_xlfn.XLOOKUP(A46&D46, $A$562:$J$562&$A$563:$J$563, $A$565:$J$565, \" \")","v":{"v":0,"d":"$0.00"}}]
[null," "," ",null,{"$f":"_xlfn.XLOOKUP(A47&D47, $A$562:$J$562&$A$563:$J$563, $A$564:$J$564, \" \")","v":0},{"$f":"_xlfn.XLOOKUP(A47&D47, $A$562:$J$562&$A$563:$J$563, $A$565:$J$565, \" \")","v":{"v":0,"d":"$0.00"}}]
[null," "," ",null,{"$f":"_xlfn.XLOOKUP(A48&D48, $A$562:$J$562&$A$563:$J$563, $A$564:$J$564, \" \")","v":0},{"$f":"_xlfn.XLOOKUP(A48&D48, $A$562:$J$562&$A$563:$J$563, $A$565:$J$565, \" \")","v":{"v":0,"d":"$0.00"}}]
[null," "," ",null,{"$f":"_xlfn.XLOOKUP(A49&D49, $A$562:$J$562&$A$563:$J$563, $A$564:$J$564, \" \")","v":0},{"$f":"_xlfn.XLOOKUP(A49&D49, $A$562:$J$562&$A$563:$J$563, $A$565:$J$565, \" \")","v":{"v":0,"d":"$0.00"}}]
[null," "," ",null,{"$f":"_xlfn.XLOOKUP(A50&D50, $A$562:$J$562&$A$563:$J$563, $A$564:$J$564, \" \")","v":0},{"$f":"_xlfn.XLOOKUP(A50&D50, $A$562:$J$562&$A$563:$J$563, $A$565:$J$565, \" \")","v":{"v":0,"d":"$0.00"}}]
[null," "," ",null,{"$f":"_xlfn.XLOOKUP(A51&D51, $A$562:$J$562&$A$563:$J$563, $A$564:$J$564, \" \")","v":0},{"$f":"_xlfn.XLOOKUP(A51&D51, $A$562:$J$562&$A$563:$J$563, $A$565:$J$565, \" \")","v":{"v":0,"d":"$0.00"}}]
[null," "," ",null,{"$f":"_xlfn.XLOOKUP(A52&D52, $A$562:$J$562&$A$563:$J$563, $A$564:$J$564, \" \")","v":0},{"$f":"_xlfn.XLOOKUP(A52&D52, $A$562:$J$562&$A$563:$J$563, $A$565:$J$565, \" \")","v":{"v":0,"d":"$0.00"}}]
[null," "," ",null,{"$f":"_xlfn.XLOOKUP(A53&D53, $A$562:$J$562&$A$563:$J$563, $A$564:$J$564, \" \")","v":0},{"$f":"_xlfn.XLOOKUP(A53&D53, $A$562:$J$562&$A$563:$J$563, $A$565:$J$565, \" \")","v":{"v":0,"d":"$0.00"}}]
[null," "," ",null,{"$f":"_xlfn.XLOOKUP(A54&D54, $A$562:$J$562&$A$563:$J$563, $A$564:$J$564, \" \")","v":0},{"$f":"_xlfn.XLOOKUP(A54&D54, $A$562:$J$562&$A$563:$J$563, $A$565:$J$565, \" \")","v":{"v":0,"d":"$0.00"}}]
[null," "," ",null,{"$f":"_xlfn.XLOOKUP(A55&D55, $A$562:$J$562&$A$563:$J$563, $A$564:$J$564, \" \")","v":0},{"$f":"_xlfn.XLOOKUP(A55&D55, $A$562:$J$562&$A$563:$J$563, $A$565:$J$565, \" \")","v":{"v":0,"d":"$0.00"}}]
[null," "," ",null,{"$f":"_xlfn.XLOOKUP(A56&D56, $A$562:$J$562&$A$563:$J$563, $A$564:$J$564, \" \")","v":0},{"$f":"_xlfn.XLOOKUP(A56&D56, $A$562:$J$562&$A$563:$J$563, $A$565:$J$565, \" \")","v":{"v":0,"d":"$0.00"}}]
[null," "," ",null,{"$f":"_xlfn.XLOOKUP(A57&D57, $A$562:$J$562&$A$563:$J$563, $A$564:$J$564, \" \")","v":0},{"$f":"_xlfn.XLOOKUP(A57&D57, $A$562:$J$562&$A$563:$J$563, $A$565:$J$565, \" \")","v":{"v":0,"d":"$0.00"}}]
[null," "," ",null,{"$f":"_xlfn.XLOOKUP(A58&D58, $A$562:$J$562&$A$563:$J$563, $A$564:$J$564, \" \")","v":0},{"$f":"_xlfn.XLOOKUP(A58&D58, $A$562:$J$562&$A$563:$J$563, $A$565:$J$565, \" \")","v":{"v":0,"d":"$0.00"}}]
[null," "," ",null,{"$f":"_xlfn.XLOOKUP(A59&D59, $A$562:$J$562&$A$563:$J$563, $A$564:$J$564, \" \")","v":0},{"$f":"_xlfn.XLOOKUP(A59&D59, $A$562:$J$562&$A$563:$J$563, $A$565:$J$565, \" \")","v":{"v":0,"d":"$0.00"}}]
[null," "," ",null,{"$f":"_xlfn.XLOOKUP(A60&D60, $A$562:$J$562&$A$563:$J$563, $A$564:$J$564, \" \")","v":0},{"$f":"_xlfn.XLOOKUP(A60&D60, $A$562:$J$562&$A$563:$J$563, $A$565:$J$565, \" \")","v":{"v":0,"d":"$0.00"}}]
[null," "," ",null,{"$f":"_xlfn.XLOOKUP(A61&D61, $A$562:$J$562&$A$563:$J$563, $A$564:$J$564, \" \")","v":0},{"$f":"_xlfn.XLOOKUP(A61&D61, $A$562:$J$562&$A$563:$J$563, $A$565:$J$565, \" \")","v":{"v":0,"d":"$0.00"}}]
[null," "," ",null,{"$f":"_xlfn.XLOOKUP(A62&D62, $A$562:$J$562&$A$563:$J$563, $A$564:$J$564, \" \")","v":0},{"$f":"_xlfn.XLOOKUP(A62&D62, $A$562:$J$562&$A$563:$J$563, $A$565:$J$565, \" \")","v":{"v":0,"d":"$0.00"}}]
[null," "," ",null,{"$f":"_xlfn.XLOOKUP(A63&D63, $A$562:$J$562&$A$563:$J$563, $A$564:$J$564, \" \")","v":0},{"$f":"_xlfn.XLOOKUP(A63&D63, $A$562:$J$562&$A$563:$J$563, $A$565:$J$565, \" \")","v":{"v":0,"d":"$0.00"}}]
[null," "," ",null,{"$f":"_xlfn.XLOOKUP(A64&D64, $A$562:$J$562&$A$563:$J$563, $A$564:$J$564, \" \")","v":0},{"$f":"_xlfn.XLOOKUP(A64&D64, $A$562:$J$562&$A$563:$J$563, $A$565:$J$565, \" \")","v":{"v":0,"d":"$0.00"}}]
[null," "," ",null,{"$f":"_xlfn.XLOOKUP(A65&D65, $A$562:$J$562&$A$563:$J$563, $A$564:$J$564, \" \")","v":0},{"$f":"_xlfn.XLOOKUP(A65&D65, $A$562:$J$562&$A$563:$J$563, $A$565:$J$565, \" \")","v":{"v":0,"d":"$0.00"}}]
[null," "," ",null,{"$f":"_xlfn.XLOOKUP(A66&D66, $A$562:$J$562&$A$563:$J$563, $A$564:$J$564, \" \")","v":0},{"$f":"_xlfn.XLOOKUP(A66&D66, $A$562:$J$562&$A$563:$J$563, $A$565:$J$565, \" \")","v":{"v":0,"d":"$0.00"}}]
[null," "," ",null,{"$f":"_xlfn.XLOOKUP(A67&D67, $A$562:$J$562&$A$563:$J$563, $A$564:$J$564, \" \")","v":0},{"$f":"_xlfn.XLOOKUP(A67&D67, $A$562:$J$562&$A$563:$J$563, $A$565:$J$565, \" \")","v":{"v":0,"d":"$0.00"}}]
[null," "," ",null,{"$f":"_xlfn.XLOOKUP(A68&D68, $A$562:$J$562&$A$563:$J$563, $A$564:$J$564, \" \")","v":0},{"$f":"_xlfn.XLOOKUP(A68&D68, $A$562:$J$562&$A$563:$J$563, $A$565:$J$565, \" \")","v":{"v":0,"d":"$0.00"}}]
[null," "," ",null,{"$f":"_xlfn.XLOOKUP(A69&D69, $A$562:$J$562&$A$563:$J$563, $A$564:$J$564, \" \")","v":0},{"$f":"_xlfn.XLOOKUP(A69&D69, $A$562:$J$562&$A$563:$J$563, $A$565:$J$565, \" \")","v":{"v":0,"d":"$0.00"}}]
[null," "," ",null,{"$f":"_xlfn.XLOOKUP(A70&D70, $A$562:$J$562&$A$563:$J$563, $A$564:$J$564, \" \")","v":0},{"$f":"_xlfn.XLOOKUP(A70&D70, $A$562:$J$562&$A$563:$J$563, $A$565:$J$565, \" \")","v":{"v":0,"d":"$0.00"}}]
[null," "," ",null,{"$f":"_xlfn.XLOOKUP(A71&D71, $A$562:$J$562&$A$563:$J$563, $A$564:$J$564, \" \")","v":0},{"$f":"_xlfn.XLOOKUP(A71&D71, $A$562:$J$562&$A$563:$J$563, $A$565:$J$565, \" \")","v":{"v":0,"d":"$0.00"}}]
[null," "," ",null,{"$f":"_xlfn.XLOOKUP(A72&D72, $A$562:$J$562&$A$563:$J$563, $A$564:$J$564, \" \")","v":0},{"$f":"_xlfn.XLOOKUP(A72&D72, $A$562:$J$562&$A$563:$J$563, $A$565:$J$565, \" \")","v":{"v":0,"d":"$0.00"}}]
[null," "," ",null,{"$f":"_xlfn.XLOOKUP(A73&D73, $A$562:$J$562&$A$563:$J$563, $A$564:$J$564, \" \")","v":0},{"$f":"_xlfn.XLOOKUP(A73&D73, $A$562:$J$562&$A$563:$J$563, $A$565:$J$565, \" \")","v":{"v":0,"d":"$0.00"}}]
[null," "," ",null,{"$f":"_xlfn.XLOOKUP(A74&D74, $A$562:$J$562&$A$563:$J$563, $A$564:$J$564, \" \")","v":0},{"$f":"_xlfn.XLOOKUP(A74&D74, $A$562:$J$562&$A$563:$J$563, $A$565:$J$565, \" \")","v":{"v":0,"d":"$0.00"}}]
[null,{"$f":"IF(ISBLANK(A75), \" \", _xlfn.XLOOKUP(A75,$A$552:$C$552,$A$553:$C$553))","v":" "},{"$f":"IF(ISBLANK(A75), \" \", _xlfn.XLOOKUP(A75,$A$552:$C$552,$A$554:$C$554))","v":" "},null,{"$f":"_xlfn.XLOOKUP(A75&D75, $A$562:$J$562&$A$563:$J$563, $A$564:$J$564, \" \")","v":0},{"$f":"_xlfn.XLOOKUP(A75&D75, $A$562:$J$562&$A$563:$J$563, $A$565:$J$565, \" \")","v":{"v":0,"d":"$0.00"}}]
[null," "," ",null,{"$f":"_xlfn.XLOOKUP(A76&D76, $A$562:$J$562&$A$563:$J$563, $A$564:$J$564, \" \")","v":0},{"$f":"_xlfn.XLOOKUP(A76&D76, $A$562:$J$562&$A$563:$J$563, $A$565:$J$565, \" \")","v":{"v":0,"d":"$0.00"}}]
[null," "," ",null,{"$f":"_xlfn.XLOOKUP(A77&D77, $A$562:$J$562&$A$563:$J$563, $A$564:$J$564, \" \")","v":0},{"$f":"_xlfn.XLOOKUP(A77&D77, $A$562:$J$562&$A$563:$J$563, $A$565:$J$565, \" \")","v":{"v":0,"d":"$0.00"}}]
[null," "," ",null,{"$f":"_xlfn.XLOOKUP(A78&D78, $A$562:$J$562&$A$563:$J$563, $A$564:$J$564, \" \")","v":0},{"$f":"_xlfn.XLOOKUP(A78&D78, $A$562:$J$562&$A$563:$J$563, $A$565:$J$565, \" \")","v":{"v":0,"d":"$0.00"}}]
[null," "," ",null,{"$f":"_xlfn.XLOOKUP(A79&D79, $A$562:$J$562&$A$563:$J$563, $A$564:$J$564, \" \")","v":0},{"$f":"_xlfn.XLOOKUP(A79&D79, $A$562:$J$562&$A$563:$J$563, $A$565:$J$565, \" \")","v":{"v":0,"d":"$0.00"}}]
[null," "," ",null,{"$f":"_xlfn.XLOOKUP(A80&D80, $A$562:$J$562&$A$563:$J$563, $A$564:$J$564, \" \")","v":0},{"$f":"_xlfn.XLOOKUP(A80&D80, $A$562:$J$562&$A$563:$J$563, $A$565:$J$565, \" \")","v":{"v":0,"d":"$0.00"}}]
[null," "," ",null,{"$f":"_xlfn.XLOOKUP(A81&D81, $A$562:$J$562&$A$563:$J$563, $A$564:$J$564, \" \")","v":0},{"$f":"_xlfn.XLOOKUP(A81&D81, $A$562:$J$562&$A$563:$J$563, $A$565:$J$565, \" \")","v":{"v":0,"d":"$0.00"}}]
[null," "," ",null,{"$f":"_xlfn.XLOOKUP(A82&D82, $A$562:$J$562&$A$563:$J$563, $A$564:$J$564, \" \")","v":0},{"$f":"_xlfn.XLOOKUP(A82&D82, $A$562:$J$562&$A$563:$J$563, $A$565:$J$565, \" \")","v":{"v":0,"d":"$0.00"}}]
[null," "," ",null,{"$f":"_xlfn.XLOOKUP(A83&D83, $A$562:$J$562&$A$563:$J$563, $A$564:$J$564, \" \")","v":0},{"$f":"_xlfn.XLOOKUP(A83&D83, $A$562:$J$562&$A$563:$J$563, $A$565:$J$565, \" \")","v":{"v":0,"d":"$0.00"}}]
[null," "," ",null,{"$f":"_xlfn.XLOOKUP(A84&D84, $A$562:$J$562&$A$563:$J$563, $A$564:$J$564, \" \")","v":0},{"$f":"_xlfn.XLOOKUP(A84&D84, $A$562:$J$562&$A$563:$J$563, $A$565:$J$565, \" \")","v":{"v":0,"d":"$0.00"}}]
[null," "," ",null,{"$f":"_xlfn.XLOOKUP(A85&D85, $A$562:$J$562&$A$563:$J$563, $A$564:$J$564, \" \")","v":0},{"$f":"_xlfn.XLOOKUP(A85&D85, $A$562:$J$562&$A$563:$J$563, $A$565:$J$565, \" \")","v":{"v":0,"d":"$0.00"}}]
[null," "," ",null,{"$f":"_xlfn.XLOOKUP(A86&D86, $A$562:$J$562&$A$563:$J$563, $A$564:$J$564, \" \")","v":0},{"$f":"_xlfn.XLOOKUP(A86&D86, $A$562:$J$562&$A$563:$J$563, $A$565:$J$565, \" \")","v":{"v":0,"d":"$0.00"}}]
[null," "," ",null,{"$f":"_xlfn.XLOOKUP(A87&D87, $A$562:$J$562&$A$563:$J$563, $A$564:$J$564, \" \")","v":0},{"$f":"_xlfn.XLOOKUP(A87&D87, $A$562:$J$562&$A$563:$J$563, $A$565:$J$565, \" \")","v":{"v":0,"d":"$0.00"}}]
[null," "," ",null,{"$f":"_xlfn.XLOOKUP(A88&D88, $A$562:$J$562&$A$563:$J$563, $A$564:$J$564, \" \")","v":0},{"$f":"_xlfn.XLOOKUP(A88&D88, $A$562:$J$562&$A$563:$J$563, $A$565:$J$565, \" \")","v":{"v":0,"d":"$0.00"}}]
[null," "," ",null,{"$f":"_xlfn.XLOOKUP(A89&D89, $A$562:$J$562&$A$563:$J$563, $A$564:$J$564, \" \")","v":0},{"$f":"_xlfn.XLOOKUP(A89&D89, $A$562:$J$562&$A$563:$J$563, $A$565:$J$565, \" \")","v":{"v":0,"d":"$0.00"}}]
[null," "," ",null,{"$f":"_xlfn.XLOOKUP(A90&D90, $A$562:$J$562&$A$563:$J$563, $A$564:$J$564, \" \")","v":0},{"$f":"_xlfn.XLOOKUP(A90&D90, $A$562:$J$562&$A$563:$J$563, $A$565:$J$565, \" \")","v":{"v":0,"d":"$0.00"}}]
[null," "," ",null,{"$f":"_xlfn.XLOOKUP(A91&D91, $A$562:$J$562&$A$563:$J$563, $A$564:$J$564, \" \")","v":0},{"$f":"_xlfn.XLOOKUP(A91&D91, $A$562:$J$562&$A$563:$J$563, $A$565:$J$565, \" \")","v":{"v":0,"d":"$0.00"}}]
[null," "," ",null,{"$f":"_xlfn.XLOOKUP(A92&D92, $A$562:$J$562&$A$563:$J$563, $A$564:$J$564, \" \")","v":0},{"$f":"_xlfn.XLOOKUP(A92&D92, $A$562:$J$562&$A$563:$J$563, $A$565:$J$565, \" \")","v":{"v":0,"d":"$0.00"}}]
[null," "," ",null,{"$f":"_xlfn.XLOOKUP(A93&D93, $A$562:$J$562&$A$563:$J$563, $A$564:$J$564, \" \")","v":0},{"$f":"_xlfn.XLOOKUP(A93&D93, $A$562:$J$562&$A$563:$J$563, $A$565:$J$565, \" \")","v":{"v":0,"d":"$0.00"}}]
[null," "," ",null,{"$f":"_xlfn.XLOOKUP(A94&D94, $A$562:$J$562&$A$563:$J$563, $A$564:$J$564, \" \")","v":0},{"$f":"_xlfn.XLOOKUP(A94&D94, $A$562:$J$562&$A$563:$J$563, $A$565:$J$565, \" \")","v":{"v":0,"d":"$0.00"}}]
[null," "," ",null,{"$f":"_xlfn.XLOOKUP(A95&D95, $A$562:$J$562&$A$563:$J$563, $A$564:$J$564, \" \")","v":0},{"$f":"_xlfn.XLOOKUP(A95&D95, $A$562:$J$562&$A$563:$J$563, $A$565:$J$565, \" \")","v":{"v":0,"d":"$0.00"}}]
[null," "," ",null,{"$f":"_xlfn.XLOOKUP(A96&D96, $A$562:$J$562&$A$563:$J$563, $A$564:$J$564, \" \")","v":0},{"$f":"_xlfn.XLOOKUP(A96&D96, $A$562:$J$562&$A$563:$J$563, $A$565:$J$565, \" \")","v":{"v":0,"d":"$0.00"}}]
[null," "," ",null,{"$f":"_xlfn.XLOOKUP(A97&D97, $A$562:$J$562&$A$563:$J$563, $A$564:$J$564, \" \")","v":0},{"$f":"_xlfn.XLOOKUP(A97&D97, $A$562:$J$562&$A$563:$J$563, $A$565:$J$565, \" \")","v":{"v":0,"d":"$0.00"}}]
[null," "," ",null,{"$f":"_xlfn.XLOOKUP(A98&D98, $A$562:$J$562&$A$563:$J$563, $A$564:$J$564, \" \")","v":0},{"$f":"_xlfn.XLOOKUP(A98&D98, $A$562:$J$562&$A$563:$J$563, $A$565:$J$565, \" \")","v":{"v":0,"d":"$0.00"}}]
[null," "," ",null,{"$f":"_xlfn.XLOOKUP(A99&D99, $A$562:$J$562&$A$563:$J$563, $A$564:$J$564, \" \")","v":0},{"$f":"_xlfn.XLOOKUP(A99&D99, $A$562:$J$562&$A$563:$J$563, $A$565:$J$565, \" \")","v":{"v":0,"d":"$0.00"}}]
[null," "," ",null,{"$f":"_xlfn.XLOOKUP(A100&D100, $A$562:$J$562&$A$563:$J$563, $A$564:$J$564, \" \")","v":0},{"$f":"_xlfn.XLOOKUP(A100&D100, $A$562:$J$562&$A$563:$J$563, $A$565:$J$565, \" \")","v":{"v":0,"d":"$0.00"}}]
[null," "," ",null,{"$f":"_xlfn.XLOOKUP(A101&D101, $A$562:$J$562&$A$563:$J$563, $A$564:$J$564, \" \")","v":0},{"$f":"_xlfn.XLOOKUP(A101&D101, $A$562:$J$562&$A$563:$J$563, $A$565:$J$565, \" \")","v":{"v":0,"d":"$0.00"}}]
[null," "," ",null,{"$f":"_xlfn.XLOOKUP(A102&D102, $A$562:$J$562&$A$563:$J$563, $A$564:$J$564, \" \")","v":0},{"$f":"_xlfn.XLOOKUP(A102&D102, $A$562:$J$562&$A$563:$J$563, $A$565:$J$565, \" \")","v":{"v":0,"d":"$0.00"}}]
[null," "," ",null,{"$f":"_xlfn.XLOOKUP(A103&D103, $A$562:$J$562&$A$563:$J$563, $A$564:$J$564, \" \")","v":0},{"$f":"_xlfn.XLOOKUP(A103&D103, $A$562:$J$562&$A$563:$J$563, $A$565:$J$565, \" \")","v":{"v":0,"d":"$0.00"}}]
[null," "," ",null,{"$f":"_xlfn.XLOOKUP(A104&D104, $A$562:$J$562&$A$563:$J$563, $A$564:$J$564, \" \")","v":0},{"$f":"_xlfn.XLOOKUP(A104&D104, $A$562:$J$562&$A$563:$J$563, $A$565:$J$565, \" \")","v":{"v":0,"d":"$0.00"}}]
[null," "," ",null,{"$f":"_xlfn.XLOOKUP(A105&D105, $A$562:$J$562&$A$563:$J$563, $A$564:$J$564, \" \")","v":0},{"$f":"_xlfn.XLOOKUP(A105&D105, $A$562:$J$562&$A$563:$J$563, $A$565:$J$565, \" \")","v":{"v":0,"d":"$0.00"}}]
[null," "," ",null,{"$f":"_xlfn.XLOOKUP(A106&D106, $A$562:$J$562&$A$563:$J$563, $A$564:$J$564, \" \")","v":0},{"$f":"_xlfn.XLOOKUP(A106&D106, $A$562:$J$562&$A$563:$J$563, $A$565:$J$565, \" \")","v":{"v":0,"d":"$0.00"}}]
[null," "," ",null,{"$f":"_xlfn.XLOOKUP(A107&D107, $A$562:$J$562&$A$563:$J$563, $A$564:$J$564, \" \")","v":0},{"$f":"_xlfn.XLOOKUP(A107&D107, $A$562:$J$562&$A$563:$J$563, $A$565:$J$565, \" \")","v":{"v":0,"d":"$0.00"}}]
[null," "," ",null,{"$f":"_xlfn.XLOOKUP(A108&D108, $A$562:$J$562&$A$563:$J$563, $A$564:$J$564, \" \")","v":0},{"$f":"_xlfn.XLOOKUP(A108&D108, $A$562:$J$562&$A$563:$J$563, $A$565:$J$565, \" \")","v":{"v":0,"d":"$0.00"}}]
[null," "," ",null,{"$f":"_xlfn.XLOOKUP(A109&D109, $A$562:$J$562&$A$563:$J$563, $A$564:$J$564, \" \")","v":0},{"$f":"_xlfn.XLOOKUP(A109&D109, $A$562:$J$562&$A$563:$J$563, $A$565:$J$565, \" \")","v":{"v":0,"d":"$0.00"}}]
[null," "," ",null,{"$f":"_xlfn.XLOOKUP(A110&D110, $A$562:$J$562&$A$563:$J$563, $A$564:$J$564, \" \")","v":0},{"$f":"_xlfn.XLOOKUP(A110&D110, $A$562:$J$562&$A$563:$J$563, $A$565:$J$565, \" \")","v":{"v":0,"d":"$0.00"}}]
[null," "," ",null,{"$f":"_xlfn.XLOOKUP(A111&D111, $A$562:$J$562&$A$563:$J$563, $A$564:$J$564, \" \")","v":0},{"$f":"_xlfn.XLOOKUP(A111&D111, $A$562:$J$562&$A$563:$J$563, $A$565:$J$565, \" \")","v":{"v":0,"d":"$0.00"}}]
[null," "," ",null,{"$f":"_xlfn.XLOOKUP(A112&D112, $A$562:$J$562&$A$563:$J$563, $A$564:$J$564, \" \")","v":0},{"$f":"_xlfn.XLOOKUP(A112&D112, $A$562:$J$562&$A$563:$J$563, $A$565:$J$565, \" \")","v":{"v":0,"d":"$0.00"}}]
[null," "," ",null,{"$f":"_xlfn.XLOOKUP(A113&D113, $A$562:$J$562&$A$563:$J$563, $A$564:$J$564, \" \")","v":0},{"$f":"_xlfn.XLOOKUP(A113&D113, $A$562:$J$562&$A$563:$J$563, $A$565:$J$565, \" \")","v":{"v":0,"d":"$0.00"}}]
[null," "," ",null,{"$f":"_xlfn.XLOOKUP(A114&D114, $A$562:$J$562&$A$563:$J$563, $A$564:$J$564, \" \")","v":0},{"$f":"_xlfn.XLOOKUP(A114&D114, $A$562:$J$562&$A$563:$J$563, $A$565:$J$565, \" \")","v":{"v":0,"d":"$0.00"}}]
[null," "," ",null,{"$f":"_xlfn.XLOOKUP(A115&D115, $A$562:$J$562&$A$563:$J$563, $A$564:$J$564, \" \")","v":0},{"$f":"_xlfn.XLOOKUP(A115&D115, $A$562:$J$562&$A$563:$J$563, $A$565:$J$565, \" \")","v":{"v":0,"d":"$0.00"}}]
[null," "," ",null,{"$f":"_xlfn.XLOOKUP(A116&D116, $A$562:$J$562&$A$563:$J$563, $A$564:$J$564, \" \")","v":0},{"$f":"_xlfn.XLOOKUP(A116&D116, $A$562:$J$562&$A$563:$J$563, $A$565:$J$565, \" \")","v":{"v":0,"d":"$0.00"}}]
[null," "," ",null,{"$f":"_xlfn.XLOOKUP(A117&D117, $A$562:$J$562&$A$563:$J$563, $A$564:$J$564, \" \")","v":0},{"$f":"_xlfn.XLOOKUP(A117&D117, $A$562:$J$562&$A$563:$J$563, $A$565:$J$565, \" \")","v":{"v":0,"d":"$0.00"}}]
[null," "," ",null,{"$f":"_xlfn.XLOOKUP(A118&D118, $A$562:$J$562&$A$563:$J$563, $A$564:$J$564, \" \")","v":0},{"$f":"_xlfn.XLOOKUP(A118&D118, $A$562:$J$562&$A$563:$J$563, $A$565:$J$565, \" \")","v":{"v":0,"d":"$0.00"}}]
[null," "," ",null,{"$f":"_xlfn.XLOOKUP(A119&D119, $A$562:$J$562&$A$563:$J$563, $A$564:$J$564, \" \")","v":0},{"$f":"_xlfn.XLOOKUP(A119&D119, $A$562:$J$562&$A$563:$J$563, $A$565:$J$565, \" \")","v":{"v":0,"d":"$0.00"}}]
[null," "," ",null,{"$f":"_xlfn.XLOOKUP(A120&D120, $A$562:$J$562&$A$563:$J$563, $A$564:$J$564, \" \")","v":0},{"$f":"_xlfn.XLOOKUP(A120&D120, $A$562:$J$562&$A$563:$J$563, $A$565:$J$565, \" \")","v":{"v":0,"d":"$0.00"}}]
[null," "," ",null,{"$f":"_xlfn.XLOOKUP(A121&D121, $A$562:$J$562&$A$563:$J$563, $A$564:$J$564, \" \")","v":0},{"$f":"_xlfn.XLOOKUP(A121&D121, $A$562:$J$562&$A$563:$J$563, $A$565:$J$565, \" \")","v":{"v":0,"d":"$0.00"}}]
[null," "," ",null,{"$f":"_xlfn.XLOOKUP(A122&D122, $A$562:$J$562&$A$563:$J$563, $A$564:$J$564, \" \")","v":0},{"$f":"_xlfn.XLOOKUP(A122&D122, $A$562:$J$562&$A$563:$J$563, $A$565:$J$565, \" \")","v":{"v":0,"d":"$0.00"}}]
[null," "," ",null,{"$f":"_xlfn.XLOOKUP(A123&D123, $A$562:$J$562&$A$563:$J$563, $A$564:$J$564, \" \")","v":0},{"$f":"_xlfn.XLOOKUP(A123&D123, $A$562:$J$562&$A$563:$J$563, $A$565:$J$565, \" \")","v":{"v":0,"d":"$0.00"}}]
[null," "," ",null,{"$f":"_xlfn.XLOOKUP(A124&D124, $A$562:$J$562&$A$563:$J$563, $A$564:$J$564, \" \")","v":0},{"$f":"_xlfn.XLOOKUP(A124&D124, $A$562:$J$562&$A$563:$J$563, $A$565:$J$565, \" \")","v":{"v":0,"d":"$0.00"}}]
[null," "," ",null,{"$f":"_xlfn.XLOOKUP(A125&D125, $A$562:$J$562&$A$563:$J$563, $A$564:$J$564, \" \")","v":0},{"$f":"_xlfn.XLOOKUP(A125&D125, $A$562:$J$562&$A$563:$J$563, $A$565:$J$565, \" \")","v":{"v":0,"d":"$0.00"}}]
[null," "," ",null,{"$f":"_xlfn.XLOOKUP(A126&D126, $A$562:$J$562&$A$563:$J$563, $A$564:$J$564, \" \")","v":0},{"$f":"_xlfn.XLOOKUP(A126&D126, $A$562:$J$562&$A$563:$J$563, $A$565:$J$565, \" \")","v":{"v":0,"d":"$0.00"}}]
[null," "," ",null,{"$f":"_xlfn.XLOOKUP(A127&D127, $A$562:$J$562&$A$563:$J$563, $A$564:$J$564, \" \")","v":0},{"$f":"_xlfn.XLOOKUP(A127&D127, $A$562:$J$562&$A$563:$J$563, $A$565:$J$565, \" \")","v":{"v":0,"d":"$0.00"}}]
[null," "," ",null,{"$f":"_xlfn.XLOOKUP(A128&D128, $A$562:$J$562&$A$563:$J$563, $A$564:$J$564, \" \")","v":0},{"$f":"_xlfn.XLOOKUP(A128&D128, $A$562:$J$562&$A$563:$J$563, $A$565:$J$565, \" \")","v":{"v":0,"d":"$0.00"}}]
[null," "," ",null,{"$f":"_xlfn.XLOOKUP(A129&D129, $A$562:$J$562&$A$563:$J$563, $A$564:$J$564, \" \")","v":0},{"$f":"_xlfn.XLOOKUP(A129&D129, $A$562:$J$562&$A$563:$J$563, $A$565:$J$565, \" \")","v":{"v":0,"d":"$0.00"}}]
[null," "," ",null,{"$f":"_xlfn.XLOOKUP(A130&D130, $A$562:$J$562&$A$563:$J$563, $A$564:$J$564, \" \")","v":0},{"$f":"_xlfn.XLOOKUP(A130&D130, $A$562:$J$562&$A$563:$J$563, $A$565:$J$565, \" \")","v":{"v":0,"d":"$0.00"}}]
[null," "," ",null,{"$f":"_xlfn.XLOOKUP(A131&D131, $A$562:$J$562&$A$563:$J$563, $A$564:$J$564, \" \")","v":0},{"$f":"_xlfn.XLOOKUP(A131&D131, $A$562:$J$562&$A$563:$J$563, $A$565:$J$565, \" \")","v":{"v":0,"d":"$0.00"}}]
[null," "," ",null,{"$f":"_xlfn.XLOOKUP(A132&D132, $A$562:$J$562&$A$563:$J$563, $A$564:$J$564, \" \")","v":0},{"$f":"_xlfn.XLOOKUP(A132&D132, $A$562:$J$562&$A$563:$J$563, $A$565:$J$565, \" \")","v":{"v":0,"d":"$0.00"}}]
[null," "," ",null,{"$f":"_xlfn.XLOOKUP(A133&D133, $A$562:$J$562&$A$563:$J$563, $A$564:$J$564, \" \")","v":0},{"$f":"_xlfn.XLOOKUP(A133&D133, $A$562:$J$562&$A$563:$J$563, $A$565:$J$565, \" \")","v":{"v":0,"d":"$0.00"}}]
[null," "," ",null,{"$f":"_xlfn.XLOOKUP(A134&D134, $A$562:$J$562&$A$563:$J$563, $A$564:$J$564, \" \")","v":0},{"$f":"_xlfn.XLOOKUP(A134&D134, $A$562:$J$562&$A$563:$J$563, $A$565:$J$565, \" \")","v":{"v":0,"d":"$0.00"}}]
[null," "," ",null,{"$f":"_xlfn.XLOOKUP(A135&D135, $A$562:$J$562&$A$563:$J$563, $A$564:$J$564, \" \")","v":0},{"$f":"_xlfn.XLOOKUP(A135&D135, $A$562:$J$562&$A$563:$J$563, $A$565:$J$565, \" \")","v":{"v":0,"d":"$0.00"}}]
[null," "," ",null,{"$f":"_xlfn.XLOOKUP(A136&D136, $A$562:$J$562&$A$563:$J$563, $A$564:$J$564, \" \")","v":0},{"$f":"_xlfn.XLOOKUP(A136&D136, $A$562:$J$562&$A$563:$J$563, $A$565:$J$565, \" \")","v":{"v":0,"d":"$0.00"}}]
[null," "," ",null,{"$f":"_xlfn.XLOOKUP(A137&D137, $A$562:$J$562&$A$563:$J$563, $A$564:$J$564, \" \")","v":0},{"$f":"_xlfn.XLOOKUP(A137&D137, $A$562:$J$562&$A$563:$J$563, $A$565:$J$565, \" \")","v":{"v":0,"d":"$0.00"}}]
[null," "," ",null,{"$f":"_xlfn.XLOOKUP(A138&D138, $A$562:$J$562&$A$563:$J$563, $A$564:$J$564, \" \")","v":0},{"$f":"_xlfn.XLOOKUP(A138&D138, $A$562:$J$562&$A$563:$J$563, $A$565:$J$565, \" \")","v":{"v":0,"d":"$0.00"}}]
[null,{"$f":"IF(ISBLANK(A139), \" \", _xlfn.XLOOKUP(A139,$A$552:$C$552,$A$553:$C$553))","v":" "},{"$f":"IF(ISBLANK(A139), \" \", _xlfn.XLOOKUP(A139,$A$552:$C$552,$A$554:$C$554))","v":" "},null,{"$f":"_xlfn.XLOOKUP(A139&D139, $A$562:$J$562&$A$563:$J$563, $A$564:$J$564, \" \")","v":0},{"$f":"_xlfn.XLOOKUP(A139&D139, $A$562:$J$562&$A$563:$J$563, $A$565:$J$565, \" \")","v":{"v":0,"d":"$0.00"}}]
[null," "," ",null,{"$f":"_xlfn.XLOOKUP(A140&D140, $A$562:$J$562&$A$563:$J$563, $A$564:$J$564, \" \")","v":0},{"$f":"_xlfn.XLOOKUP(A140&D140, $A$562:$J$562&$A$563:$J$563, $A$565:$J$565, \" \")","v":{"v":0,"d":"$0.00"}}]
[null," "," ",null,{"$f":"_xlfn.XLOOKUP(A141&D141, $A$562:$J$562&$A$563:$J$563, $A$564:$J$564, \" \")","v":0},{"$f":"_xlfn.XLOOKUP(A141&D141, $A$562:$J$562&$A$563:$J$563, $A$565:$J$565, \" \")","v":{"v":0,"d":"$0.00"}}]
[null," "," ",null,{"$f":"_xlfn.XLOOKUP(A142&D142, $A$562:$J$562&$A$563:$J$563, $A$564:$J$564, \" \")","v":0},{"$f":"_xlfn.XLOOKUP(A142&D142, $A$562:$J$562&$A$563:$J$563, $A$565:$J$565, \" \")","v":{"v":0,"d":"$0.00"}}]
[null," "," ",null,{"$f":"_xlfn.XLOOKUP(A143&D143, $A$562:$J$562&$A$563:$J$563, $A$564:$J$564, \" \")","v":0},{"$f":"_xlfn.XLOOKUP(A143&D143, $A$562:$J$562&$A$563:$J$563, $A$565:$J$565, \" \")","v":{"v":0,"d":"$0.00"}}]
[null," "," ",null,{"$f":"_xlfn.XLOOKUP(A144&D144, $A$562:$J$562&$A$563:$J$563, $A$564:$J$564, \" \")","v":0},{"$f":"_xlfn.XLOOKUP(A144&D144, $A$562:$J$562&$A$563:$J$563, $A$565:$J$565, \" \")","v":{"v":0,"d":"$0.00"}}]
[null," "," ",null,{"$f":"_xlfn.XLOOKUP(A145&D145, $A$562:$J$562&$A$563:$J$563, $A$564:$J$564, \" \")","v":0},{"$f":"_xlfn.XLOOKUP(A145&D145, $A$562:$J$562&$A$563:$J$563, $A$565:$J$565, \" \")","v":{"v":0,"d":"$0.00"}}]
[null," "," ",null,{"$f":"_xlfn.XLOOKUP(A146&D146, $A$562:$J$562&$A$563:$J$563, $A$564:$J$564, \" \")","v":0},{"$f":"_xlfn.XLOOKUP(A146&D146, $A$562:$J$562&$A$563:$J$563, $A$565:$J$565, \" \")","v":{"v":0,"d":"$0.00"}}]
[null," "," ",null,{"$f":"_xlfn.XLOOKUP(A147&D147, $A$562:$J$562&$A$563:$J$563, $A$564:$J$564, \" \")","v":0},{"$f":"_xlfn.XLOOKUP(A147&D147, $A$562:$J$562&$A$563:$J$563, $A$565:$J$565, \" \")","v":{"v":0,"d":"$0.00"}}]
[null," "," ",null,{"$f":"_xlfn.XLOOKUP(A148&D148, $A$562:$J$562&$A$563:$J$563, $A$564:$J$564, \" \")","v":0},{"$f":"_xlfn.XLOOKUP(A148&D148, $A$562:$J$562&$A$563:$J$563, $A$565:$J$565, \" \")","v":{"v":0,"d":"$0.00"}}]
[null," "," ",null,{"$f":"_xlfn.XLOOKUP(A149&D149, $A$562:$J$562&$A$563:$J$563, $A$564:$J$564, \" \")","v":0},{"$f":"_xlfn.XLOOKUP(A149&D149, $A$562:$J$562&$A$563:$J$563, $A$565:$J$565, \" \")","v":{"v":0,"d":"$0.00"}}]
[null," "," ",null,{"$f":"_xlfn.XLOOKUP(A150&D150, $A$562:$J$562&$A$563:$J$563, $A$564:$J$564, \" \")","v":0},{"$f":"_xlfn.XLOOKUP(A150&D150, $A$562:$J$562&$A$563:$J$563, $A$565:$J$565, \" \")","v":{"v":0,"d":"$0.00"}}]
[null," "," ",null,{"$f":"_xlfn.XLOOKUP(A151&D151, $A$562:$J$562&$A$563:$J$563, $A$564:$J$564, \" \")","v":0},{"$f":"_xlfn.XLOOKUP(A151&D151, $A$562:$J$562&$A$563:$J$563, $A$565:$J$565, \" \")","v":{"v":0,"d":"$0.00"}}]
[null," "," ",null,{"$f":"_xlfn.XLOOKUP(A152&D152, $A$562:$J$562&$A$563:$J$563, $A$564:$J$564, \" \")","v":0},{"$f":"_xlfn.XLOOKUP(A152&D152, $A$562:$J$562&$A$563:$J$563, $A$565:$J$565, \" \")","v":{"v":0,"d":"$0.00"}}]
[null," "," ",null,{"$f":"_xlfn.XLOOKUP(A153&D153, $A$562:$J$562&$A$563:$J$563, $A$564:$J$564, \" \")","v":0},{"$f":"_xlfn.XLOOKUP(A153&D153, $A$562:$J$562&$A$563:$J$563, $A$565:$J$565, \" \")","v":{"v":0,"d":"$0.00"}}]
[null," "," ",null,{"$f":"_xlfn.XLOOKUP(A154&D154, $A$562:$J$562&$A$563:$J$563, $A$564:$J$564, \" \")","v":0},{"$f":"_xlfn.XLOOKUP(A154&D154, $A$562:$J$562&$A$563:$J$563, $A$565:$J$565, \" \")","v":{"v":0,"d":"$0.00"}}]
[null," "," ",null,{"$f":"_xlfn.XLOOKUP(A155&D155, $A$562:$J$562&$A$563:$J$563, $A$564:$J$564, \" \")","v":0},{"$f":"_xlfn.XLOOKUP(A155&D155, $A$562:$J$562&$A$563:$J$563, $A$565:$J$565, \" \")","v":{"v":0,"d":"$0.00"}}]
[null," "," ",null,{"$f":"_xlfn.XLOOKUP(A156&D156, $A$562:$J$562&$A$563:$J$563, $A$564:$J$564, \" \")","v":0},{"$f":"_xlfn.XLOOKUP(A156&D156, $A$562:$J$562&$A$563:$J$563, $A$565:$J$565, \" \")","v":{"v":0,"d":"$0.00"}}]
[null," "," ",null,{"$f":"_xlfn.XLOOKUP(A157&D157, $A$562:$J$562&$A$563:$J$563, $A$564:$J$564, \" \")","v":0},{"$f":"_xlfn.XLOOKUP(A157&D157, $A$562:$J$562&$A$563:$J$563, $A$565:$J$565, \" \")","v":{"v":0,"d":"$0.00"}}]
[null," "," ",null,{"$f":"_xlfn.XLOOKUP(A158&D158, $A$562:$J$562&$A$563:$J$563, $A$564:$J$564, \" \")","v":0},{"$f":"_xlfn.XLOOKUP(A158&D158, $A$562:$J$562&$A$563:$J$563, $A$565:$J$565, \" \")","v":{"v":0,"d":"$0.00"}}]
[null," "," ",null,{"$f":"_xlfn.XLOOKUP(A159&D159, $A$562:$J$562&$A$563:$J$563, $A$564:$J$564, \" \")","v":0},{"$f":"_xlfn.XLOOKUP(A159&D159, $A$562:$J$562&$A$563:$J$563, $A$565:$J$565, \" \")","v":{"v":0,"d":"$0.00"}}]
[null," "," ",null,{"$f":"_xlfn.XLOOKUP(A160&D160, $A$562:$J$562&$A$563:$J$563, $A$564:$J$564, \" \")","v":0},{"$f":"_xlfn.XLOOKUP(A160&D160, $A$562:$J$562&$A$563:$J$563, $A$565:$J$565, \" \")","v":{"v":0,"d":"$0.00"}}]
[null," "," ",null,{"$f":"_xlfn.XLOOKUP(A161&D161, $A$562:$J$562&$A$563:$J$563, $A$564:$J$564, \" \")","v":0},{"$f":"_xlfn.XLOOKUP(A161&D161, $A$562:$J$562&$A$563:$J$563, $A$565:$J$565, \" \")","v":{"v":0,"d":"$0.00"}}]
[null," "," ",null,{"$f":"_xlfn.XLOOKUP(A162&D162, $A$562:$J$562&$A$563:$J$563, $A$564:$J$564, \" \")","v":0},{"$f":"_xlfn.XLOOKUP(A162&D162, $A$562:$J$562&$A$563:$J$563, $A$565:$J$565, \" \")","v":{"v":0,"d":"$0.00"}}]
[null," "," ",null,{"$f":"_xlfn.XLOOKUP(A163&D163, $A$562:$J$562&$A$563:$J$563, $A$564:$J$564, \" \")","v":0},{"$f":"_xlfn.XLOOKUP(A163&D163, $A$562:$J$562&$A$563:$J$563, $A$565:$J$565, \" \")","v":{"v":0,"d":"$0.00"}}]
[null," "," ",null,{"$f":"_xlfn.XLOOKUP(A164&D164, $A$562:$J$562&$A$563:$J$563, $A$564:$J$564, \" \")","v":0},{"$f":"_xlfn.XLOOKUP(A164&D164, $A$562:$J$562&$A$563:$J$563, $A$565:$J$565, \" \")","v":{"v":0,"d":"$0.00"}}]
[null," "," ",null,{"$f":"_xlfn.XLOOKUP(A165&D165, $A$562:$J$562&$A$563:$J$563, $A$564:$J$564, \" \")","v":0},{"$f":"_xlfn.XLOOKUP(A165&D165, $A$562:$J$562&$A$563:$J$563, $A$565:$J$565, \" \")","v":{"v":0,"d":"$0.00"}}]
[null," "," ",null,{"$f":"_xlfn.XLOOKUP(A166&D166, $A$562:$J$562&$A$563:$J$563, $A$564:$J$564, \" \")","v":0},{"$f":"_xlfn.XLOOKUP(A166&D166, $A$562:$J$562&$A$563:$J$563, $A$565:$J$565, \" \")","v":{"v":0,"d":"$0.00"}}]
[null," "," ",null,{"$f":"_xlfn.XLOOKUP(A167&D167, $A$562:$J$562&$A$563:$J$563, $A$564:$J$564, \" \")","v":0},{"$f":"_xlfn.XLOOKUP(A167&D167, $A$562:$J$562&$A$563:$J$563, $A$565:$J$565, \" \")","v":{"v":0,"d":"$0.00"}}]
[null," "," ",null,{"$f":"_xlfn.XLOOKUP(A168&D168, $A$562:$J$562&$A$563:$J$563, $A$564:$J$564, \" \")","v":0},{"$f":"_xlfn.XLOOKUP(A168&D168, $A$562:$J$562&$A$563:$J$563, $A$565:$J$565, \" \")","v":{"v":0,"d":"$0.00"}}]
[null," "," ",null,{"$f":"_xlfn.XLOOKUP(A169&D169, $A$562:$J$562&$A$563:$J$563, $A$564:$J$564, \" \")","v":0},{"$f":"_xlfn.XLOOKUP(A169&D169, $A$562:$J$562&$A$563:$J$563, $A$565:$J$565, \" \")","v":{"v":0,"d":"$0.00"}}]
[null," "," ",null,{"$f":"_xlfn.XLOOKUP(A170&D170, $A$562:$J$562&$A$563:$J$563, $A$564:$J$564, \" \")","v":0},{"$f":"_xlfn.XLOOKUP(A170&D170, $A$562:$J$562&$A$563:$J$563, $A$565:$J$565, \" \")","v":{"v":0,"d":"$0.00"}}]
[null," "," ",null,{"$f":"_xlfn.XLOOKUP(A171&D171, $A$562:$J$562&$A$563:$J$563, $A$564:$J$564, \" \")","v":0},{"$f":"_xlfn.XLOOKUP(A171&D171, $A$562:$J$562&$A$563:$J$563, $A$565:$J$565, \" \")","v":{"v":0,"d":"$0.00"}}]
[null," "," ",null,{"$f":"_xlfn.XLOOKUP(A172&D172, $A$562:$J$562&$A$563:$J$563, $A$564:$J$564, \" \")","v":0},{"$f":"_xlfn.XLOOKUP(A172&D172, $A$562:$J$562&$A$563:$J$563, $A$565:$J$565, \" \")","v":{"v":0,"d":"$0.00"}}]
[null," "," ",null,{"$f":"_xlfn.XLOOKUP(A173&D173, $A$562:$J$562&$A$563:$J$563, $A$564:$J$564, \" \")","v":0},{"$f":"_xlfn.XLOOKUP(A173&D173, $A$562:$J$562&$A$563:$J$563, $A$565:$J$565, \" \")","v":{"v":0,"d":"$0.00"}}]
[null," "," ",null,{"$f":"_xlfn.XLOOKUP(A174&D174, $A$562:$J$562&$A$563:$J$563, $A$564:$J$564, \" \")","v":0},{"$f":"_xlfn.XLOOKUP(A174&D174, $A$562:$J$562&$A$563:$J$563, $A$565:$J$565, \" \")","v":{"v":0,"d":"$0.00"}}]
[null," "," ",null,{"$f":"_xlfn.XLOOKUP(A175&D175, $A$562:$J$562&$A$563:$J$563, $A$564:$J$564, \" \")","v":0},{"$f":"_xlfn.XLOOKUP(A175&D175, $A$562:$J$562&$A$563:$J$563, $A$565:$J$565, \" \")","v":{"v":0,"d":"$0.00"}}]
[null," "," ",null,{"$f":"_xlfn.XLOOKUP(A176&D176, $A$562:$J$562&$A$563:$J$563, $A$564:$J$564, \" \")","v":0},{"$f":"_xlfn.XLOOKUP(A176&D176, $A$562:$J$562&$A$563:$J$563, $A$565:$J$565, \" \")","v":{"v":0,"d":"$0.00"}}]
[null," "," ",null,{"$f":"_xlfn.XLOOKUP(A177&D177, $A$562:$J$562&$A$563:$J$563, $A$564:$J$564, \" \")","v":0},{"$f":"_xlfn.XLOOKUP(A177&D177, $A$562:$J$562&$A$563:$J$563, $A$565:$J$565, \" \")","v":{"v":0,"d":"$0.00"}}]
[null," "," ",null,{"$f":"_xlfn.XLOOKUP(A178&D178, $A$562:$J$562&$A$563:$J$563, $A$564:$J$564, \" \")","v":0},{"$f":"_xlfn.XLOOKUP(A178&D178, $A$562:$J$562&$A$563:$J$563, $A$565:$J$565, \" \")","v":{"v":0,"d":"$0.00"}}]
[null," "," ",null,{"$f":"_xlfn.XLOOKUP(A179&D179, $A$562:$J$562&$A$563:$J$563, $A$564:$J$564, \" \")","v":0},{"$f":"_xlfn.XLOOKUP(A179&D179, $A$562:$J$562&$A$563:$J$563, $A$565:$J$565, \" \")","v":{"v":0,"d":"$0.00"}}]
[null," "," ",null,{"$f":"_xlfn.XLOOKUP(A180&D180, $A$562:$J$562&$A$563:$J$563, $A$564:$J$564, \" \")","v":0},{"$f":"_xlfn.XLOOKUP(A180&D180, $A$562:$J$562&$A$563:$J$563, $A$565:$J$565, \" \")","v":{"v":0,"d":"$0.00"}}]
[null," "," ",null,{"$f":"_xlfn.XLOOKUP(A181&D181, $A$562:$J$562&$A$563:$J$563, $A$564:$J$564, \" \")","v":0},{"$f":"_xlfn.XLOOKUP(A181&D181, $A$562:$J$562&$A$563:$J$563, $A$565:$J$565, \" \")","v":{"v":0,"d":"$0.00"}}]
[null," "," ",null,{"$f":"_xlfn.XLOOKUP(A182&D182, $A$562:$J$562&$A$563:$J$563, $A$564:$J$564, \" \")","v":0},{"$f":"_xlfn.XLOOKUP(A182&D182, $A$562:$J$562&$A$563:$J$563, $A$565:$J$565, \" \")","v":{"v":0,"d":"$0.00"}}]
[null," "," ",null,{"$f":"_xlfn.XLOOKUP(A183&D183, $A$562:$J$562&$A$563:$J$563, $A$564:$J$564, \" \")","v":0},{"$f":"_xlfn.XLOOKUP(A183&D183, $A$562:$J$562&$A$563:$J$563, $A$565:$J$565, \" \")","v":{"v":0,"d":"$0.00"}}]
[null," "," ",null,{"$f":"_xlfn.XLOOKUP(A184&D184, $A$562:$J$562&$A$563:$J$563, $A$564:$J$564, \" \")","v":0},{"$f":"_xlfn.XLOOKUP(A184&D184, $A$562:$J$562&$A$563:$J$563, $A$565:$J$565, \" \")","v":{"v":0,"d":"$0.00"}}]
[null," "," ",null,{"$f":"_xlfn.XLOOKUP(A185&D185, $A$562:$J$562&$A$563:$J$563, $A$564:$J$564, \" \")","v":0},{"$f":"_xlfn.XLOOKUP(A185&D185, $A$562:$J$562&$A$563:$J$563, $A$565:$J$565, \" \")","v":{"v":0,"d":"$0.00"}}]
[null," "," ",null,{"$f":"_xlfn.XLOOKUP(A186&D186, $A$562:$J$562&$A$563:$J$563, $A$564:$J$564, \" \")","v":0},{"$f":"_xlfn.XLOOKUP(A186&D186, $A$562:$J$562&$A$563:$J$563, $A$565:$J$565, \" \")","v":{"v":0,"d":"$0.00"}}]
[null," "," ",null,{"$f":"_xlfn.XLOOKUP(A187&D187, $A$562:$J$562&$A$563:$J$563, $A$564:$J$564, \" \")","v":0},{"$f":"_xlfn.XLOOKUP(A187&D187, $A$562:$J$562&$A$563:$J$563, $A$565:$J$565, \" \")","v":{"v":0,"d":"$0.00"}}]
[null," "," ",null,{"$f":"_xlfn.XLOOKUP(A188&D188, $A$562:$J$562&$A$563:$J$563, $A$564:$J$564, \" \")","v":0},{"$f":"_xlfn.XLOOKUP(A188&D188, $A$562:$J$562&$A$563:$J$563, $A$565:$J$565, \" \")","v":{"v":0,"d":"$0.00"}}]
[null," "," ",null,{"$f":"_xlfn.XLOOKUP(A189&D189, $A$562:$J$562&$A$563:$J$563, $A$564:$J$564, \" \")","v":0},{"$f":"_xlfn.XLOOKUP(A189&D189, $A$562:$J$562&$A$563:$J$563, $A$565:$J$565, \" \")","v":{"v":0,"d":"$0.00"}}]
[null," "," ",null,{"$f":"_xlfn.XLOOKUP(A190&D190, $A$562:$J$562&$A$563:$J$563, $A$564:$J$564, \" \")","v":0},{"$f":"_xlfn.XLOOKUP(A190&D190, $A$562:$J$562&$A$563:$J$563, $A$565:$J$565, \" \")","v":{"v":0,"d":"$0.00"}}]
[null," "," ",null,{"$f":"_xlfn.XLOOKUP(A191&D191, $A$562:$J$562&$A$563:$J$563, $A$564:$J$564, \" \")","v":0},{"$f":"_xlfn.XLOOKUP(A191&D191, $A$562:$J$562&$A$563:$J$563, $A$565:$J$565, \" \")","v":{"v":0,"d":"$0.00"}}]
[null," "," ",null,{"$f":"_xlfn.XLOOKUP(A192&D192, $A$562:$J$562&$A$563:$J$563, $A$564:$J$564, \" \")","v":0},{"$f":"_xlfn.XLOOKUP(A192&D192, $A$562:$J$562&$A$563:$J$563, $A$565:$J$565, \" \")","v":{"v":0,"d":"$0.00"}}]
[null," "," ",null,{"$f":"_xlfn.XLOOKUP(A193&D193, $A$562:$J$562&$A$563:$J$563, $A$564:$J$564, \" \")","v":0},{"$f":"_xlfn.XLOOKUP(A193&D193, $A$562:$J$562&$A$563:$J$563, $A$565:$J$565, \" \")","v":{"v":0,"d":"$0.00"}}]
[null," "," ",null,{"$f":"_xlfn.XLOOKUP(A194&D194, $A$562:$J$562&$A$563:$J$563, $A$564:$J$564, \" \")","v":0},{"$f":"_xlfn.XLOOKUP(A194&D194, $A$562:$J$562&$A$563:$J$563, $A$565:$J$565, \" \")","v":{"v":0,"d":"$0.00"}}]
[null," "," ",null,{"$f":"_xlfn.XLOOKUP(A195&D195, $A$562:$J$562&$A$563:$J$563, $A$564:$J$564, \" \")","v":0},{"$f":"_xlfn.XLOOKUP(A195&D195, $A$562:$J$562&$A$563:$J$563, $A$565:$J$565, \" \")","v":{"v":0,"d":"$0.00"}}]
[null," "," ",null,{"$f":"_xlfn.XLOOKUP(A196&D196, $A$562:$J$562&$A$563:$J$563, $A$564:$J$564, \" \")","v":0},{"$f":"_xlfn.XLOOKUP(A196&D196, $A$562:$J$562&$A$563:$J$563, $A$565:$J$565, \" \")","v":{"v":0,"d":"$0.00"}}]
[null," "," ",null,{"$f":"_xlfn.XLOOKUP(A197&D197, $A$562:$J$562&$A$563:$J$563, $A$564:$J$564, \" \")","v":0},{"$f":"_xlfn.XLOOKUP(A197&D197, $A$562:$J$562&$A$563:$J$563, $A$565:$J$565, \" \")","v":{"v":0,"d":"$0.00"}}]
[null," "," ",null,{"$f":"_xlfn.XLOOKUP(A198&D198, $A$562:$J$562&$A$563:$J$563, $A$564:$J$564, \" \")","v":0},{"$f":"_xlfn.XLOOKUP(A198&D198, $A$562:$J$562&$A$563:$J$563, $A$565:$J$565, \" \")","v":{"v":0,"d":"$0.00"}}]
[null," "," ",null,{"$f":"_xlfn.XLOOKUP(A199&D199, $A$562:$J$562&$A$563:$J$563, $A$564:$J$564, \" \")","v":0},{"$f":"_xlfn.XLOOKUP(A199&D199, $A$562:$J$562&$A$563:$J$563, $A$565:$J$565, \" \")","v":{"v":0,"d":"$0.00"}}]
[null," "," ",null,{"$f":"_xlfn.XLOOKUP(A200&D200, $A$562:$J$562&$A$563:$J$563, $A$564:$J$564, \" \")","v":0},{"$f":"_xlfn.XLOOKUP(A200&D200, $A$562:$J$562&$A$563:$J$563, $A$565:$J$565, \" \")","v":{"v":0,"d":"$0.00"}}]
[null," "," ",null,{"$f":"_xlfn.XLOOKUP(A201&D201, $A$562:$J$562&$A$563:$J$563, $A$564:$J$564, \" \")","v":0},{"$f":"_xlfn.XLOOKUP(A201&D201, $A$562:$J$562&$A$563:$J$563, $A$565:$J$565, \" \")","v":{"v":0,"d":"$0.00"}}]
[null," "," ",null,{"$f":"_xlfn.XLOOKUP(A202&D202, $A$562:$J$562&$A$563:$J$563, $A$564:$J$564, \" \")","v":0},{"$f":"_xlfn.XLOOKUP(A202&D202, $A$562:$J$562&$A$563:$J$563, $A$565:$J$565, \" \")","v":{"v":0,"d":"$0.00"}}]
[null,{"$f":"IF(ISBLANK(A203), \" \", _xlfn.XLOOKUP(A203,$A$552:$C$552,$A$553:$C$553))","v":" "},{"$f":"IF(ISBLANK(A203), \" \", _xlfn.XLOOKUP(A203,$A$552:$C$552,$A$554:$C$554))","v":" "},null,{"$f":"_xlfn.XLOOKUP(A203&D203, $A$562:$J$562&$A$563:$J$563, $A$564:$J$564, \" \")","v":0},{"$f":"_xlfn.XLOOKUP(A203&D203, $A$562:$J$562&$A$563:$J$563, $A$565:$J$565, \" \")","v":{"v":0,"d":"$0.00"}}]
[null," "," ",null,{"$f":"_xlfn.XLOOKUP(A204&D204, $A$562:$J$562&$A$563:$J$563, $A$564:$J$564, \" \")","v":0},{"$f":"_xlfn.XLOOKUP(A204&D204, $A$562:$J$562&$A$563:$J$563, $A$565:$J$565, \" \")","v":{"v":0,"d":"$0.00"}}]
[null," "," ",null,{"$f":"_xlfn.XLOOKUP(A205&D205, $A$562:$J$562&$A$563:$J$563, $A$564:$J$564, \" \")","v":0},{"$f":"_xlfn.XLOOKUP(A205&D205, $A$562:$J$562&$A$563:$J$563, $A$565:$J$565, \" \")","v":{"v":0,"d":"$0.00"}}]
[null," "," ",null,{"$f":"_xlfn.XLOOKUP(A206&D206, $A$562:$J$562&$A$563:$J$563, $A$564:$J$564, \" \")","v":0},{"$f":"_xlfn.XLOOKUP(A206&D206, $A$562:$J$562&$A$563:$J$563, $A$565:$J$565, \" \")","v":{"v":0,"d":"$0.00"}}]
[null," "," ",null,{"$f":"_xlfn.XLOOKUP(A207&D207, $A$562:$J$562&$A$563:$J$563, $A$564:$J$564, \" \")","v":0},{"$f":"_xlfn.XLOOKUP(A207&D207, $A$562:$J$562&$A$563:$J$563, $A$565:$J$565, \" \")","v":{"v":0,"d":"$0.00"}}]
[null," "," ",null,{"$f":"_xlfn.XLOOKUP(A208&D208, $A$562:$J$562&$A$563:$J$563, $A$564:$J$564, \" \")","v":0},{"$f":"_xlfn.XLOOKUP(A208&D208, $A$562:$J$562&$A$563:$J$563, $A$565:$J$565, \" \")","v":{"v":0,"d":"$0.00"}}]
[null," "," ",null,{"$f":"_xlfn.XLOOKUP(A209&D209, $A$562:$J$562&$A$563:$J$563, $A$564:$J$564, \" \")","v":0},{"$f":"_xlfn.XLOOKUP(A209&D209, $A$562:$J$562&$A$563:$J$563, $A$565:$J$565, \" \")","v":{"v":0,"d":"$0.00"}}]
[null," "," ",null,{"$f":"_xlfn.XLOOKUP(A210&D210, $A$562:$J$562&$A$563:$J$563, $A$564:$J$564, \" \")","v":0},{"$f":"_xlfn.XLOOKUP(A210&D210, $A$562:$J$562&$A$563:$J$563, $A$565:$J$565, \" \")","v":{"v":0,"d":"$0.00"}}]
[null," "," ",null,{"$f":"_xlfn.XLOOKUP(A211&D211, $A$562:$J$562&$A$563:$J$563, $A$564:$J$564, \" \")","v":0},{"$f":"_xlfn.XLOOKUP(A211&D211, $A$562:$J$562&$A$563:$J$563, $A$565:$J$565, \" \")","v":{"v":0,"d":"$0.00"}}]
[null," "," ",null,{"$f":"_xlfn.XLOOKUP(A212&D212, $A$562:$J$562&$A$563:$J$563, $A$564:$J$564, \" \")","v":0},{"$f":"_xlfn.XLOOKUP(A212&D212, $A$562:$J$562&$A$563:$J$563, $A$565:$J$565, \" \")","v":{"v":0,"d":"$0.00"}}]
[null," "," ",null,{"$f":"_xlfn.XLOOKUP(A213&D213, $A$562:$J$562&$A$563:$J$563, $A$564:$J$564, \" \")","v":0},{"$f":"_xlfn.XLOOKUP(A213&D213, $A$562:$J$562&$A$563:$J$563, $A$565:$J$565, \" \")","v":{"v":0,"d":"$0.00"}}]
[null," "," ",null,{"$f":"_xlfn.XLOOKUP(A214&D214, $A$562:$J$562&$A$563:$J$563, $A$564:$J$564, \" \")","v":0},{"$f":"_xlfn.XLOOKUP(A214&D214, $A$562:$J$562&$A$563:$J$563, $A$565:$J$565, \" \")","v":{"v":0,"d":"$0.00"}}]
[null," "," ",null,{"$f":"_xlfn.XLOOKUP(A215&D215, $A$562:$J$562&$A$563:$J$563, $A$564:$J$564, \" \")","v":0},{"$f":"_xlfn.XLOOKUP(A215&D215, $A$562:$J$562&$A$563:$J$563, $A$565:$J$565, \" \")","v":{"v":0,"d":"$0.00"}}]
[null," "," ",null,{"$f":"_xlfn.XLOOKUP(A216&D216, $A$562:$J$562&$A$563:$J$563, $A$564:$J$564, \" \")","v":0},{"$f":"_xlfn.XLOOKUP(A216&D216, $A$562:$J$562&$A$563:$J$563, $A$565:$J$565, \" \")","v":{"v":0,"d":"$0.00"}}]
[null," "," ",null,{"$f":"_xlfn.XLOOKUP(A217&D217, $A$562:$J$562&$A$563:$J$563, $A$564:$J$564, \" \")","v":0},{"$f":"_xlfn.XLOOKUP(A217&D217, $A$562:$J$562&$A$563:$J$563, $A$565:$J$565, \" \")","v":{"v":0,"d":"$0.00"}}]
[null," "," ",null,{"$f":"_xlfn.XLOOKUP(A218&D218, $A$562:$J$562&$A$563:$J$563, $A$564:$J$564, \" \")","v":0},{"$f":"_xlfn.XLOOKUP(A218&D218, $A$562:$J$562&$A$563:$J$563, $A$565:$J$565, \" \")","v":{"v":0,"d":"$0.00"}}]
[null," "," ",null,{"$f":"_xlfn.XLOOKUP(A219&D219, $A$562:$J$562&$A$563:$J$563, $A$564:$J$564, \" \")","v":0},{"$f":"_xlfn.XLOOKUP(A219&D219, $A$562:$J$562&$A$563:$J$563, $A$565:$J$565, \" \")","v":{"v":0,"d":"$0.00"}}]
[null," "," ",null,{"$f":"_xlfn.XLOOKUP(A220&D220, $A$562:$J$562&$A$563:$J$563, $A$564:$J$564, \" \")","v":0},{"$f":"_xlfn.XLOOKUP(A220&D220, $A$562:$J$562&$A$563:$J$563, $A$565:$J$565, \" \")","v":{"v":0,"d":"$0.00"}}]
[null," "," ",null,{"$f":"_xlfn.XLOOKUP(A221&D221, $A$562:$J$562&$A$563:$J$563, $A$564:$J$564, \" \")","v":0},{"$f":"_xlfn.XLOOKUP(A221&D221, $A$562:$J$562&$A$563:$J$563, $A$565:$J$565, \" \")","v":{"v":0,"d":"$0.00"}}]
[null," "," ",null,{"$f":"_xlfn.XLOOKUP(A222&D222, $A$562:$J$562&$A$563:$J$563, $A$564:$J$564, \" \")","v":0},{"$f":"_xlfn.XLOOKUP(A222&D222, $A$562:$J$562&$A$563:$J$563, $A$565:$J$565, \" \")","v":{"v":0,"d":"$0.00"}}]
[null," "," ",null,{"$f":"_xlfn.XLOOKUP(A223&D223, $A$562:$J$562&$A$563:$J$563, $A$564:$J$564, \" \")","v":0},{"$f":"_xlfn.XLOOKUP(A223&D223, $A$562:$J$562&$A$563:$J$563, $A$565:$J$565, \" \")","v":{"v":0,"d":"$0.00"}}]
[null," "," ",null,{"$f":"_xlfn.XLOOKUP(A224&D224, $A$562:$J$562&$A$563:$J$563, $A$564:$J$564, \" \")","v":0},{"$f":"_xlfn.XLOOKUP(A224&D224, $A$562:$J$562&$A$563:$J$563, $A$565:$J$565, \" \")","v":{"v":0,"d":"$0.00"}}]
[null," "," ",null,{"$f":"_xlfn.XLOOKUP(A225&D225, $A$562:$J$562&$A$563:$J$563, $A$564:$J$564, \" \")","v":0},{"$f":"_xlfn.XLOOKUP(A225&D225, $A$562:$J$562&$A$563:$J$563, $A$565:$J$565, \" \")","v":{"v":0,"d":"$0.00"}}]
[null," "," ",null,{"$f":"_xlfn.XLOOKUP(A226&D226, $A$562:$J$562&$A$563:$J$563, $A$564:$J$564, \" \")","v":0},{"$f":"_xlfn.XLOOKUP(A226&D226, $A$562:$J$562&$A$563:$J$563, $A$565:$J$565, \" \")","v":{"v":0,"d":"$0.00"}}]
[null," "," ",null,{"$f":"_xlfn.XLOOKUP(A227&D227, $A$562:$J$562&$A$563:$J$563, $A$564:$J$564, \" \")","v":0},{"$f":"_xlfn.XLOOKUP(A227&D227, $A$562:$J$562&$A$563:$J$563, $A$565:$J$565, \" \")","v":{"v":0,"d":"$0.00"}}]
[null," "," ",null,{"$f":"_xlfn.XLOOKUP(A228&D228, $A$562:$J$562&$A$563:$J$563, $A$564:$J$564, \" \")","v":0},{"$f":"_xlfn.XLOOKUP(A228&D228, $A$562:$J$562&$A$563:$J$563, $A$565:$J$565, \" \")","v":{"v":0,"d":"$0.00"}}]
[null," "," ",null,{"$f":"_xlfn.XLOOKUP(A229&D229, $A$562:$J$562&$A$563:$J$563, $A$564:$J$564, \" \")","v":0},{"$f":"_xlfn.XLOOKUP(A229&D229, $A$562:$J$562&$A$563:$J$563, $A$565:$J$565, \" \")","v":{"v":0,"d":"$0.00"}}]
[null," "," ",null,{"$f":"_xlfn.XLOOKUP(A230&D230, $A$562:$J$562&$A$563:$J$563, $A$564:$J$564, \" \")","v":0},{"$f":"_xlfn.XLOOKUP(A230&D230, $A$562:$J$562&$A$563:$J$563, $A$565:$J$565, \" \")","v":{"v":0,"d":"$0.00"}}]
[null," "," ",null,{"$f":"_xlfn.XLOOKUP(A231&D231, $A$562:$J$562&$A$563:$J$563, $A$564:$J$564, \" \")","v":0},{"$f":"_xlfn.XLOOKUP(A231&D231, $A$562:$J$562&$A$563:$J$563, $A$565:$J$565, \" \")","v":{"v":0,"d":"$0.00"}}]
[null," "," ",null,{"$f":"_xlfn.XLOOKUP(A232&D232, $A$562:$J$562&$A$563:$J$563, $A$564:$J$564, \" \")","v":0},{"$f":"_xlfn.XLOOKUP(A232&D232, $A$562:$J$562&$A$563:$J$563, $A$565:$J$565, \" \")","v":{"v":0,"d":"$0.00"}}]
[null," "," ",null,{"$f":"_xlfn.XLOOKUP(A233&D233, $A$562:$J$562&$A$563:$J$563, $A$564:$J$564, \" \")","v":0},{"$f":"_xlfn.XLOOKUP(A233&D233, $A$562:$J$562&$A$563:$J$563, $A$565:$J$565, \" \")","v":{"v":0,"d":"$0.00"}}]
[null," "," ",null,{"$f":"_xlfn.XLOOKUP(A234&D234, $A$562:$J$562&$A$563:$J$563, $A$564:$J$564, \" \")","v":0},{"$f":"_xlfn.XLOOKUP(A234&D234, $A$562:$J$562&$A$563:$J$563, $A$565:$J$565, \" \")","v":{"v":0,"d":"$0.00"}}]
[null," "," ",null,{"$f":"_xlfn.XLOOKUP(A235&D235, $A$562:$J$562&$A$563:$J$563, $A$564:$J$564, \" \")","v":0},{"$f":"_xlfn.XLOOKUP(A235&D235, $A$562:$J$562&$A$563:$J$563, $A$565:$J$565, \" \")","v":{"v":0,"d":"$0.00"}}]
[null," "," ",null,{"$f":"_xlfn.XLOOKUP(A236&D236, $A$562:$J$562&$A$563:$J$563, $A$564:$J$564, \" \")","v":0},{"$f":"_xlfn.XLOOKUP(A236&D236, $A$562:$J$562&$A$563:$J$563, $A$565:$J$565, \" \")","v":{"v":0,"d":"$0.00"}}]
[null," "," ",null,{"$f":"_xlfn.XLOOKUP(A237&D237, $A$562:$J$562&$A$563:$J$563, $A$564:$J$564, \" \")","v":0},{"$f":"_xlfn.XLOOKUP(A237&D237, $A$562:$J$562&$A$563:$J$563, $A$565:$J$565, \" \")","v":{"v":0,"d":"$0.00"}}]
[null," "," ",null,{"$f":"_xlfn.XLOOKUP(A238&D238, $A$562:$J$562&$A$563:$J$563, $A$564:$J$564, \" \")","v":0},{"$f":"_xlfn.XLOOKUP(A238&D238, $A$562:$J$562&$A$563:$J$563, $A$565:$J$565, \" \")","v":{"v":0,"d":"$0.00"}}]
[null," "," ",null,{"$f":"_xlfn.XLOOKUP(A239&D239, $A$562:$J$562&$A$563:$J$563, $A$564:$J$564, \" \")","v":0},{"$f":"_xlfn.XLOOKUP(A239&D239, $A$562:$J$562&$A$563:$J$563, $A$565:$J$565, \" \")","v":{"v":0,"d":"$0.00"}}]
[null," "," ",null,{"$f":"_xlfn.XLOOKUP(A240&D240, $A$562:$J$562&$A$563:$J$563, $A$564:$J$564, \" \")","v":0},{"$f":"_xlfn.XLOOKUP(A240&D240, $A$562:$J$562&$A$563:$J$563, $A$565:$J$565, \" \")","v":{"v":0,"d":"$0.00"}}]
[null," "," ",null,{"$f":"_xlfn.XLOOKUP(A241&D241, $A$562:$J$562&$A$563:$J$563, $A$564:$J$564, \" \")","v":0},{"$f":"_xlfn.XLOOKUP(A241&D241, $A$562:$J$562&$A$563:$J$563, $A$565:$J$565, \" \")","v":{"v":0,"d":"$0.00"}}]
[null," "," ",null,{"$f":"_xlfn.XLOOKUP(A242&D242, $A$562:$J$562&$A$563:$J$563, $A$564:$J$564, \" \")","v":0},{"$f":"_xlfn.XLOOKUP(A242&D242, $A$562:$J$562&$A$563:$J$563, $A$565:$J$565, \" \")","v":{"v":0,"d":"$0.00"}}]
[null," "," ",null,{"$f":"_xlfn.XLOOKUP(A243&D243, $A$562:$J$562&$A$563:$J$563, $A$564:$J$564, \" \")","v":0},{"$f":"_xlfn.XLOOKUP(A243&D243, $A$562:$J$562&$A$563:$J$563, $A$565:$J$565, \" \")","v":{"v":0,"d":"$0.00"}}]
[null," "," ",null,{"$f":"_xlfn.XLOOKUP(A244&D244, $A$562:$J$562&$A$563:$J$563, $A$564:$J$564, \" \")","v":0},{"$f":"_xlfn.XLOOKUP(A244&D244, $A$562:$J$562&$A$563:$J$563, $A$565:$J$565, \" \")","v":{"v":0,"d":"$0.00"}}]
[null," "," ",null,{"$f":"_xlfn.XLOOKUP(A245&D245, $A$562:$J$562&$A$563:$J$563, $A$564:$J$564, \" \")","v":0},{"$f":"_xlfn.XLOOKUP(A245&D245, $A$562:$J$562&$A$563:$J$563, $A$565:$J$565, \" \")","v":{"v":0,"d":"$0.00"}}]
[null," "," ",null,{"$f":"_xlfn.XLOOKUP(A246&D246, $A$562:$J$562&$A$563:$J$563, $A$564:$J$564, \" \")","v":0},{"$f":"_xlfn.XLOOKUP(A246&D246, $A$562:$J$562&$A$563:$J$563, $A$565:$J$565, \" \")","v":{"v":0,"d":"$0.00"}}]
[null," "," ",null,{"$f":"_xlfn.XLOOKUP(A247&D247, $A$562:$J$562&$A$563:$J$563, $A$564:$J$564, \" \")","v":0},{"$f":"_xlfn.XLOOKUP(A247&D247, $A$562:$J$562&$A$563:$J$563, $A$565:$J$565, \" \")","v":{"v":0,"d":"$0.00"}}]
[null," "," ",null,{"$f":"_xlfn.XLOOKUP(A248&D248, $A$562:$J$562&$A$563:$J$563, $A$564:$J$564, \" \")","v":0},{"$f":"_xlfn.XLOOKUP(A248&D248, $A$562:$J$562&$A$563:$J$563, $A$565:$J$565, \" \")","v":{"v":0,"d":"$0.00"}}]
[null," "," ",null,{"$f":"_xlfn.XLOOKUP(A249&D249, $A$562:$J$562&$A$563:$J$563, $A$564:$J$564, \" \")","v":0},{"$f":"_xlfn.XLOOKUP(A249&D249, $A$562:$J$562&$A$563:$J$563, $A$565:$J$565, \" \")","v":{"v":0,"d":"$0.00"}}]
[null," "," ",null,{"$f":"_xlfn.XLOOKUP(A250&D250, $A$562:$J$562&$A$563:$J$563, $A$564:$J$564, \" \")","v":0},{"$f":"_xlfn.XLOOKUP(A250&D250, $A$562:$J$562&$A$563:$J$563, $A$565:$J$565, \" \")","v":{"v":0,"d":"$0.00"}}]
[null," "," ",null,{"$f":"_xlfn.XLOOKUP(A251&D251, $A$562:$J$562&$A$563:$J$563, $A$564:$J$564, \" \")","v":0},{"$f":"_xlfn.XLOOKUP(A251&D251, $A$562:$J$562&$A$563:$J$563, $A$565:$J$565, \" \")","v":{"v":0,"d":"$0.00"}}]
[null," "," ",null,{"$f":"_xlfn.XLOOKUP(A252&D252, $A$562:$J$562&$A$563:$J$563, $A$564:$J$564, \" \")","v":0},{"$f":"_xlfn.XLOOKUP(A252&D252, $A$562:$J$562&$A$563:$J$563, $A$565:$J$565, \" \")","v":{"v":0,"d":"$0.00"}}]
[null," "," ",null,{"$f":"_xlfn.XLOOKUP(A253&D253, $A$562:$J$562&$A$563:$J$563, $A$564:$J$564, \" \")","v":0},{"$f":"_xlfn.XLOOKUP(A253&D253, $A$562:$J$562&$A$563:$J$563, $A$565:$J$565, \" \")","v":{"v":0,"d":"$0.00"}}]
[null," "," ",null,{"$f":"_xlfn.XLOOKUP(A254&D254, $A$562:$J$562&$A$563:$J$563, $A$564:$J$564, \" \")","v":0},{"$f":"_xlfn.XLOOKUP(A254&D254, $A$562:$J$562&$A$563:$J$563, $A$565:$J$565, \" \")","v":{"v":0,"d":"$0.00"}}]
[null," "," ",null,{"$f":"_xlfn.XLOOKUP(A255&D255, $A$562:$J$562&$A$563:$J$563, $A$564:$J$564, \" \")","v":0},{"$f":"_xlfn.XLOOKUP(A255&D255, $A$562:$J$562&$A$563:$J$563, $A$565:$J$565, \" \")","v":{"v":0,"d":"$0.00"}}]
[null," "," ",null,{"$f":"_xlfn.XLOOKUP(A256&D256, $A$562:$J$562&$A$563:$J$563, $A$564:$J$564, \" \")","v":0},{"$f":"_xlfn.XLOOKUP(A256&D256, $A$562:$J$562&$A$563:$J$563, $A$565:$J$565, \" \")","v":{"v":0,"d":"$0.00"}}]
[null," "," ",null,{"$f":"_xlfn.XLOOKUP(A257&D257, $A$562:$J$562&$A$563:$J$563, $A$564:$J$564, \" \")","v":0},{"$f":"_xlfn.XLOOKUP(A257&D257, $A$562:$J$562&$A$563:$J$563, $A$565:$J$565, \" \")","v":{"v":0,"d":"$0.00"}}]
[null," "," ",null,{"$f":"_xlfn.XLOOKUP(A258&D258, $A$562:$J$562&$A$563:$J$563, $A$564:$J$564, \" \")","v":0},{"$f":"_xlfn.XLOOKUP(A258&D258, $A$562:$J$562&$A$563:$J$563, $A$565:$J$565, \" \")","v":{"v":0,"d":"$0.00"}}]
[null," "," ",null,{"$f":"_xlfn.XLOOKUP(A259&D259, $A$562:$J$562&$A$563:$J$563, $A$564:$J$564, \" \")","v":0},{"$f":"_xlfn.XLOOKUP(A259&D259, $A$562:$J$562&$A$563:$J$563, $A$565:$J$565, \" \")","v":{"v":0,"d":"$0.00"}}]
[null," "," ",null,{"$f":"_xlfn.XLOOKUP(A260&D260, $A$562:$J$562&$A$563:$J$563, $A$564:$J$564, \" \")","v":0},{"$f":"_xlfn.XLOOKUP(A260&D260, $A$562:$J$562&$A$563:$J$563, $A$565:$J$565, \" \")","v":{"v":0,"d":"$0.00"}}]
[null," "," ",null,{"$f":"_xlfn.XLOOKUP(A261&D261, $A$562:$J$562&$A$563:$J$563, $A$564:$J$564, \" \")","v":0},{"$f":"_xlfn.XLOOKUP(A261&D261, $A$562:$J$562&$A$563:$J$563, $A$565:$J$565, \" \")","v":{"v":0,"d":"$0.00"}}]
[null," "," ",null,{"$f":"_xlfn.XLOOKUP(A262&D262, $A$562:$J$562&$A$563:$J$563, $A$564:$J$564, \" \")","v":0},{"$f":"_xlfn.XLOOKUP(A262&D262, $A$562:$J$562&$A$563:$J$563, $A$565:$J$565, \" \")","v":{"v":0,"d":"$0.00"}}]
[null," "," ",null,{"$f":"_xlfn.XLOOKUP(A263&D263, $A$562:$J$562&$A$563:$J$563, $A$564:$J$564, \" \")","v":0},{"$f":"_xlfn.XLOOKUP(A263&D263, $A$562:$J$562&$A$563:$J$563, $A$565:$J$565, \" \")","v":{"v":0,"d":"$0.00"}}]
[null," "," ",null,{"$f":"_xlfn.XLOOKUP(A264&D264, $A$562:$J$562&$A$563:$J$563, $A$564:$J$564, \" \")","v":0},{"$f":"_xlfn.XLOOKUP(A264&D264, $A$562:$J$562&$A$563:$J$563, $A$565:$J$565, \" \")","v":{"v":0,"d":"$0.00"}}]
[null," "," ",null,{"$f":"_xlfn.XLOOKUP(A265&D265, $A$562:$J$562&$A$563:$J$563, $A$564:$J$564, \" \")","v":0},{"$f":"_xlfn.XLOOKUP(A265&D265, $A$562:$J$562&$A$563:$J$563, $A$565:$J$565, \" \")","v":{"v":0,"d":"$0.00"}}]
[null," "," ",null,{"$f":"_xlfn.XLOOKUP(A266&D266, $A$562:$J$562&$A$563:$J$563, $A$564:$J$564, \" \")","v":0},{"$f":"_xlfn.XLOOKUP(A266&D266, $A$562:$J$562&$A$563:$J$563, $A$565:$J$565, \" \")","v":{"v":0,"d":"$0.00"}}]
[null,{"$f":"IF(ISBLANK(A267), \" \", _xlfn.XLOOKUP(A267,$A$552:$C$552,$A$553:$C$553))","v":" "},{"$f":"IF(ISBLANK(A267), \" \", _xlfn.XLOOKUP(A267,$A$552:$C$552,$A$554:$C$554))","v":" "},null,{"$f":"_xlfn.XLOOKUP(A267&D267, $A$562:$J$562&$A$563:$J$563, $A$564:$J$564, \" \")","v":0},{"$f":"_xlfn.XLOOKUP(A267&D267, $A$562:$J$562&$A$563:$J$563, $A$565:$J$565, \" \")","v":{"v":0,"d":"$0.00"}}]
[null," "," ",null,{"$f":"_xlfn.XLOOKUP(A268&D268, $A$562:$J$562&$A$563:$J$563, $A$564:$J$564, \" \")","v":0},{"$f":"_xlfn.XLOOKUP(A268&D268, $A$562:$J$562&$A$563:$J$563, $A$565:$J$565, \" \")","v":{"v":0,"d":"$0.00"}}]
[null," "," ",null,{"$f":"_xlfn.XLOOKUP(A269&D269, $A$562:$J$562&$A$563:$J$563, $A$564:$J$564, \" \")","v":0},{"$f":"_xlfn.XLOOKUP(A269&D269, $A$562:$J$562&$A$563:$J$563, $A$565:$J$565, \" \")","v":{"v":0,"d":"$0.00"}}]
[null," "," ",null,{"$f":"_xlfn.XLOOKUP(A270&D270, $A$562:$J$562&$A$563:$J$563, $A$564:$J$564, \" \")","v":0},{"$f":"_xlfn.XLOOKUP(A270&D270, $A$562:$J$562&$A$563:$J$563, $A$565:$J$565, \" \")","v":{"v":0,"d":"$0.00"}}]
[null," "," ",null,{"$f":"_xlfn.XLOOKUP(A271&D271, $A$562:$J$562&$A$563:$J$563, $A$564:$J$564, \" \")","v":0},{"$f":"_xlfn.XLOOKUP(A271&D271, $A$562:$J$562&$A$563:$J$563, $A$565:$J$565, \" \")","v":{"v":0,"d":"$0.00"}}]
[null," "," ",null,{"$f":"_xlfn.XLOOKUP(A272&D272, $A$562:$J$562&$A$563:$J$563, $A$564:$J$564, \" \")","v":0},{"$f":"_xlfn.XLOOKUP(A272&D272, $A$562:$J$562&$A$563:$J$563, $A$565:$J$565, \" \")","v":{"v":0,"d":"$0.00"}}]
[null," "," ",null,{"$f":"_xlfn.XLOOKUP(A273&D273, $A$562:$J$562&$A$563:$J$563, $A$564:$J$564, \" \")","v":0},{"$f":"_xlfn.XLOOKUP(A273&D273, $A$562:$J$562&$A$563:$J$563, $A$565:$J$565, \" \")","v":{"v":0,"d":"$0.00"}}]
[null," "," ",null,{"$f":"_xlfn.XLOOKUP(A274&D274, $A$562:$J$562&$A$563:$J$563, $A$564:$J$564, \" \")","v":0},{"$f":"_xlfn.XLOOKUP(A274&D274, $A$562:$J$562&$A$563:$J$563, $A$565:$J$565, \" \")","v":{"v":0,"d":"$0.00"}}]
[null," "," ",null,{"$f":"_xlfn.XLOOKUP(A275&D275, $A$562:$J$562&$A$563:$J$563, $A$564:$J$564, \" \")","v":0},{"$f":"_xlfn.XLOOKUP(A275&D275, $A$562:$J$562&$A$563:$J$563, $A$565:$J$565, \" \")","v":{"v":0,"d":"$0.00"}}]
[null," "," ",null,{"$f":"_xlfn.XLOOKUP(A276&D276, $A$562:$J$562&$A$563:$J$563, $A$564:$J$564, \" \")","v":0},{"$f":"_xlfn.XLOOKUP(A276&D276, $A$562:$J$562&$A$563:$J$563, $A$565:$J$565, \" \")","v":{"v":0,"d":"$0.00"}}]
[null," "," ",null,{"$f":"_xlfn.XLOOKUP(A277&D277, $A$562:$J$562&$A$563:$J$563, $A$564:$J$564, \" \")","v":0},{"$f":"_xlfn.XLOOKUP(A277&D277, $A$562:$J$562&$A$563:$J$563, $A$565:$J$565, \" \")","v":{"v":0,"d":"$0.00"}}]
[null," "," ",null,{"$f":"_xlfn.XLOOKUP(A278&D278, $A$562:$J$562&$A$563:$J$563, $A$564:$J$564, \" \")","v":0},{"$f":"_xlfn.XLOOKUP(A278&D278, $A$562:$J$562&$A$563:$J$563, $A$565:$J$565, \" \")","v":{"v":0,"d":"$0.00"}}]
[null," "," ",null,{"$f":"_xlfn.XLOOKUP(A279&D279, $A$562:$J$562&$A$563:$J$563, $A$564:$J$564, \" \")","v":0},{"$f":"_xlfn.XLOOKUP(A279&D279, $A$562:$J$562&$A$563:$J$563, $A$565:$J$565, \" \")","v":{"v":0,"d":"$0.00"}}]
[null," "," ",null,{"$f":"_xlfn.XLOOKUP(A280&D280, $A$562:$J$562&$A$563:$J$563, $A$564:$J$564, \" \")","v":0},{"$f":"_xlfn.XLOOKUP(A280&D280, $A$562:$J$562&$A$563:$J$563, $A$565:$J$565, \" \")","v":{"v":0,"d":"$0.00"}}]
[null," "," ",null,{"$f":"_xlfn.XLOOKUP(A281&D281, $A$562:$J$562&$A$563:$J$563, $A$564:$J$564, \" \")","v":0},{"$f":"_xlfn.XLOOKUP(A281&D281, $A$562:$J$562&$A$563:$J$563, $A$565:$J$565, \" \")","v":{"v":0,"d":"$0.00"}}]
[null," "," ",null,{"$f":"_xlfn.XLOOKUP(A282&D282, $A$562:$J$562&$A$563:$J$563, $A$564:$J$564, \" \")","v":0},{"$f":"_xlfn.XLOOKUP(A282&D282, $A$562:$J$562&$A$563:$J$563, $A$565:$J$565, \" \")","v":{"v":0,"d":"$0.00"}}]
[null," "," ",null,{"$f":"_xlfn.XLOOKUP(A283&D283, $A$562:$J$562&$A$563:$J$563, $A$564:$J$564, \" \")","v":0},{"$f":"_xlfn.XLOOKUP(A283&D283, $A$562:$J$562&$A$563:$J$563, $A$565:$J$565, \" \")","v":{"v":0,"d":"$0.00"}}]
[null," "," ",null,{"$f":"_xlfn.XLOOKUP(A284&D284, $A$562:$J$562&$A$563:$J$563, $A$564:$J$564, \" \")","v":0},{"$f":"_xlfn.XLOOKUP(A284&D284, $A$562:$J$562&$A$563:$J$563, $A$565:$J$565, \" \")","v":{"v":0,"d":"$0.00"}}]
[null," "," ",null,{"$f":"_xlfn.XLOOKUP(A285&D285, $A$562:$J$562&$A$563:$J$563, $A$564:$J$564, \" \")","v":0},{"$f":"_xlfn.XLOOKUP(A285&D285, $A$562:$J$562&$A$563:$J$563, $A$565:$J$565, \" \")","v":{"v":0,"d":"$0.00"}}]
[null," "," ",null,{"$f":"_xlfn.XLOOKUP(A286&D286, $A$562:$J$562&$A$563:$J$563, $A$564:$J$564, \" \")","v":0},{"$f":"_xlfn.XLOOKUP(A286&D286, $A$562:$J$562&$A$563:$J$563, $A$565:$J$565, \" \")","v":{"v":0,"d":"$0.00"}}]
[null," "," ",null,{"$f":"_xlfn.XLOOKUP(A287&D287, $A$562:$J$562&$A$563:$J$563, $A$564:$J$564, \" \")","v":0},{"$f":"_xlfn.XLOOKUP(A287&D287, $A$562:$J$562&$A$563:$J$563, $A$565:$J$565, \" \")","v":{"v":0,"d":"$0.00"}}]
[null," "," ",null,{"$f":"_xlfn.XLOOKUP(A288&D288, $A$562:$J$562&$A$563:$J$563, $A$564:$J$564, \" \")","v":0},{"$f":"_xlfn.XLOOKUP(A288&D288, $A$562:$J$562&$A$563:$J$563, $A$565:$J$565, \" \")","v":{"v":0,"d":"$0.00"}}]
[null," "," ",null,{"$f":"_xlfn.XLOOKUP(A289&D289, $A$562:$J$562&$A$563:$J$563, $A$564:$J$564, \" \")","v":0},{"$f":"_xlfn.XLOOKUP(A289&D289, $A$562:$J$562&$A$563:$J$563, $A$565:$J$565, \" \")","v":{"v":0,"d":"$0.00"}}]
[null," "," ",null,{"$f":"_xlfn.XLOOKUP(A290&D290, $A$562:$J$562&$A$563:$J$563, $A$564:$J$564, \" \")","v":0},{"$f":"_xlfn.XLOOKUP(A290&D290, $A$562:$J$562&$A$563:$J$563, $A$565:$J$565, \" \")","v":{"v":0,"d":"$0.00"}}]
[null," "," ",null,{"$f":"_xlfn.XLOOKUP(A291&D291, $A$562:$J$562&$A$563:$J$563, $A$564:$J$564, \" \")","v":0},{"$f":"_xlfn.XLOOKUP(A291&D291, $A$562:$J$562&$A$563:$J$563, $A$565:$J$565, \" \")","v":{"v":0,"d":"$0.00"}}]
[null," "," ",null,{"$f":"_xlfn.XLOOKUP(A292&D292, $A$562:$J$562&$A$563:$J$563, $A$564:$J$564, \" \")","v":0},{"$f":"_xlfn.XLOOKUP(A292&D292, $A$562:$J$562&$A$563:$J$563, $A$565:$J$565, \" \")","v":{"v":0,"d":"$0.00"}}]
[null," "," ",null,{"$f":"_xlfn.XLOOKUP(A293&D293, $A$562:$J$562&$A$563:$J$563, $A$564:$J$564, \" \")","v":0},{"$f":"_xlfn.XLOOKUP(A293&D293, $A$562:$J$562&$A$563:$J$563, $A$565:$J$565, \" \")","v":{"v":0,"d":"$0.00"}}]
[null," "," ",null,{"$f":"_xlfn.XLOOKUP(A294&D294, $A$562:$J$562&$A$563:$J$563, $A$564:$J$564, \" \")","v":0},{"$f":"_xlfn.XLOOKUP(A294&D294, $A$562:$J$562&$A$563:$J$563, $A$565:$J$565, \" \")","v":{"v":0,"d":"$0.00"}}]
[null," "," ",null,{"$f":"_xlfn.XLOOKUP(A295&D295, $A$562:$J$562&$A$563:$J$563, $A$564:$J$564, \" \")","v":0},{"$f":"_xlfn.XLOOKUP(A295&D295, $A$562:$J$562&$A$563:$J$563, $A$565:$J$565, \" \")","v":{"v":0,"d":"$0.00"}}]
[null," "," ",null,{"$f":"_xlfn.XLOOKUP(A296&D296, $A$562:$J$562&$A$563:$J$563, $A$564:$J$564, \" \")","v":0},{"$f":"_xlfn.XLOOKUP(A296&D296, $A$562:$J$562&$A$563:$J$563, $A$565:$J$565, \" \")","v":{"v":0,"d":"$0.00"}}]
[null," "," ",null,{"$f":"_xlfn.XLOOKUP(A297&D297, $A$562:$J$562&$A$563:$J$563, $A$564:$J$564, \" \")","v":0},{"$f":"_xlfn.XLOOKUP(A297&D297, $A$562:$J$562&$A$563:$J$563, $A$565:$J$565, \" \")","v":{"v":0,"d":"$0.00"}}]
[null," "," ",null,{"$f":"_xlfn.XLOOKUP(A298&D298, $A$562:$J$562&$A$563:$J$563, $A$564:$J$564, \" \")","v":0},{"$f":"_xlfn.XLOOKUP(A298&D298, $A$562:$J$562&$A$563:$J$563, $A$565:$J$565, \" \")","v":{"v":0,"d":"$0.00"}}]
[null," "," ",null,{"$f":"_xlfn.XLOOKUP(A299&D299, $A$562:$J$562&$A$563:$J$563, $A$564:$J$564, \" \")","v":0},{"$f":"_xlfn.XLOOKUP(A299&D299, $A$562:$J$562&$A$563:$J$563, $A$565:$J$565, \" \")","v":{"v":0,"d":"$0.00"}}]
[null," "," ",null,{"$f":"_xlfn.XLOOKUP(A300&D300, $A$562:$J$562&$A$563:$J$563, $A$564:$J$564, \" \")","v":0},{"$f":"_xlfn.XLOOKUP(A300&D300, $A$562:$J$562&$A$563:$J$563, $A$565:$J$565, \" \")","v":{"v":0,"d":"$0.00"}}]
[null," "," ",null,{"$f":"_xlfn.XLOOKUP(A301&D301, $A$562:$J$562&$A$563:$J$563, $A$564:$J$564, \" \")","v":0},{"$f":"_xlfn.XLOOKUP(A301&D301, $A$562:$J$562&$A$563:$J$563, $A$565:$J$565, \" \")","v":{"v":0,"d":"$0.00"}}]
[null," "," ",null,{"$f":"_xlfn.XLOOKUP(A302&D302, $A$562:$J$562&$A$563:$J$563, $A$564:$J$564, \" \")","v":0},{"$f":"_xlfn.XLOOKUP(A302&D302, $A$562:$J$562&$A$563:$J$563, $A$565:$J$565, \" \")","v":{"v":0,"d":"$0.00"}}]
[null," "," ",null,{"$f":"_xlfn.XLOOKUP(A303&D303, $A$562:$J$562&$A$563:$J$563, $A$564:$J$564, \" \")","v":0},{"$f":"_xlfn.XLOOKUP(A303&D303, $A$562:$J$562&$A$563:$J$563, $A$565:$J$565, \" \")","v":{"v":0,"d":"$0.00"}}]
[null," "," ",null,{"$f":"_xlfn.XLOOKUP(A304&D304, $A$562:$J$562&$A$563:$J$563, $A$564:$J$564, \" \")","v":0},{"$f":"_xlfn.XLOOKUP(A304&D304, $A$562:$J$562&$A$563:$J$563, $A$565:$J$565, \" \")","v":{"v":0,"d":"$0.00"}}]
[null," "," ",null,{"$f":"_xlfn.XLOOKUP(A305&D305, $A$562:$J$562&$A$563:$J$563, $A$564:$J$564, \" \")","v":0},{"$f":"_xlfn.XLOOKUP(A305&D305, $A$562:$J$562&$A$563:$J$563, $A$565:$J$565, \" \")","v":{"v":0,"d":"$0.00"}}]
[null," "," ",null,{"$f":"_xlfn.XLOOKUP(A306&D306, $A$562:$J$562&$A$563:$J$563, $A$564:$J$564, \" \")","v":0},{"$f":"_xlfn.XLOOKUP(A306&D306, $A$562:$J$562&$A$563:$J$563, $A$565:$J$565, \" \")","v":{"v":0,"d":"$0.00"}}]
[null," "," ",null,{"$f":"_xlfn.XLOOKUP(A307&D307, $A$562:$J$562&$A$563:$J$563, $A$564:$J$564, \" \")","v":0},{"$f":"_xlfn.XLOOKUP(A307&D307, $A$562:$J$562&$A$563:$J$563, $A$565:$J$565, \" \")","v":{"v":0,"d":"$0.00"}}]
[null," "," ",null,{"$f":"_xlfn.XLOOKUP(A308&D308, $A$562:$J$562&$A$563:$J$563, $A$564:$J$564, \" \")","v":0},{"$f":"_xlfn.XLOOKUP(A308&D308, $A$562:$J$562&$A$563:$J$563, $A$565:$J$565, \" \")","v":{"v":0,"d":"$0.00"}}]
[null," "," ",null,{"$f":"_xlfn.XLOOKUP(A309&D309, $A$562:$J$562&$A$563:$J$563, $A$564:$J$564, \" \")","v":0},{"$f":"_xlfn.XLOOKUP(A309&D309, $A$562:$J$562&$A$563:$J$563, $A$565:$J$565, \" \")","v":{"v":0,"d":"$0.00"}}]
[null," "," ",null,{"$f":"_xlfn.XLOOKUP(A310&D310, $A$562:$J$562&$A$563:$J$563, $A$564:$J$564, \" \")","v":0},{"$f":"_xlfn.XLOOKUP(A310&D310, $A$562:$J$562&$A$563:$J$563, $A$565:$J$565, \" \")","v":{"v":0,"d":"$0.00"}}]
[null," "," ",null,{"$f":"_xlfn.XLOOKUP(A311&D311, $A$562:$J$562&$A$563:$J$563, $A$564:$J$564, \" \")","v":0},{"$f":"_xlfn.XLOOKUP(A311&D311, $A$562:$J$562&$A$563:$J$563, $A$565:$J$565, \" \")","v":{"v":0,"d":"$0.00"}}]
[null," "," ",null,{"$f":"_xlfn.XLOOKUP(A312&D312, $A$562:$J$562&$A$563:$J$563, $A$564:$J$564, \" \")","v":0},{"$f":"_xlfn.XLOOKUP(A312&D312, $A$562:$J$562&$A$563:$J$563, $A$565:$J$565, \" \")","v":{"v":0,"d":"$0.00"}}]
[null," "," ",null,{"$f":"_xlfn.XLOOKUP(A313&D313, $A$562:$J$562&$A$563:$J$563, $A$564:$J$564, \" \")","v":0},{"$f":"_xlfn.XLOOKUP(A313&D313, $A$562:$J$562&$A$563:$J$563, $A$565:$J$565, \" \")","v":{"v":0,"d":"$0.00"}}]
[null," "," ",null,{"$f":"_xlfn.XLOOKUP(A314&D314, $A$562:$J$562&$A$563:$J$563, $A$564:$J$564, \" \")","v":0},{"$f":"_xlfn.XLOOKUP(A314&D314, $A$562:$J$562&$A$563:$J$563, $A$565:$J$565, \" \")","v":{"v":0,"d":"$0.00"}}]
[null," "," ",null,{"$f":"_xlfn.XLOOKUP(A315&D315, $A$562:$J$562&$A$563:$J$563, $A$564:$J$564, \" \")","v":0},{"$f":"_xlfn.XLOOKUP(A315&D315, $A$562:$J$562&$A$563:$J$563, $A$565:$J$565, \" \")","v":{"v":0,"d":"$0.00"}}]
[null," "," ",null,{"$f":"_xlfn.XLOOKUP(A316&D316, $A$562:$J$562&$A$563:$J$563, $A$564:$J$564, \" \")","v":0},{"$f":"_xlfn.XLOOKUP(A316&D316, $A$562:$J$562&$A$563:$J$563, $A$565:$J$565, \" \")","v":{"v":0,"d":"$0.00"}}]
[null," "," ",null,{"$f":"_xlfn.XLOOKUP(A317&D317, $A$562:$J$562&$A$563:$J$563, $A$564:$J$564, \" \")","v":0},{"$f":"_xlfn.XLOOKUP(A317&D317, $A$562:$J$562&$A$563:$J$563, $A$565:$J$565, \" \")","v":{"v":0,"d":"$0.00"}}]
[null," "," ",null,{"$f":"_xlfn.XLOOKUP(A318&D318, $A$562:$J$562&$A$563:$J$563, $A$564:$J$564, \" \")","v":0},{"$f":"_xlfn.XLOOKUP(A318&D318, $A$562:$J$562&$A$563:$J$563, $A$565:$J$565, \" \")","v":{"v":0,"d":"$0.00"}}]
[null," "," ",null,{"$f":"_xlfn.XLOOKUP(A319&D319, $A$562:$J$562&$A$563:$J$563, $A$564:$J$564, \" \")","v":0},{"$f":"_xlfn.XLOOKUP(A319&D319, $A$562:$J$562&$A$563:$J$563, $A$565:$J$565, \" \")","v":{"v":0,"d":"$0.00"}}]
[null," "," ",null,{"$f":"_xlfn.XLOOKUP(A320&D320, $A$562:$J$562&$A$563:$J$563, $A$564:$J$564, \" \")","v":0},{"$f":"_xlfn.XLOOKUP(A320&D320, $A$562:$J$562&$A$563:$J$563, $A$565:$J$565, \" \")","v":{"v":0,"d":"$0.00"}}]
[null," "," ",null,{"$f":"_xlfn.XLOOKUP(A321&D321, $A$562:$J$562&$A$563:$J$563, $A$564:$J$564, \" \")","v":0},{"$f":"_xlfn.XLOOKUP(A321&D321, $A$562:$J$562&$A$563:$J$563, $A$565:$J$565, \" \")","v":{"v":0,"d":"$0.00"}}]
[null," "," ",null,{"$f":"_xlfn.XLOOKUP(A322&D322, $A$562:$J$562&$A$563:$J$563, $A$564:$J$564, \" \")","v":0},{"$f":"_xlfn.XLOOKUP(A322&D322, $A$562:$J$562&$A$563:$J$563, $A$565:$J$565, \" \")","v":{"v":0,"d":"$0.00"}}]
[null," "," ",null,{"$f":"_xlfn.XLOOKUP(A323&D323, $A$562:$J$562&$A$563:$J$563, $A$564:$J$564, \" \")","v":0},{"$f":"_xlfn.XLOOKUP(A323&D323, $A$562:$J$562&$A$563:$J$563, $A$565:$J$565, \" \")","v":{"v":0,"d":"$0.00"}}]
[null," "," ",null,{"$f":"_xlfn.XLOOKUP(A324&D324, $A$562:$J$562&$A$563:$J$563, $A$564:$J$564, \" \")","v":0},{"$f":"_xlfn.XLOOKUP(A324&D324, $A$562:$J$562&$A$563:$J$563, $A$565:$J$565, \" \")","v":{"v":0,"d":"$0.00"}}]
[null," "," ",null,{"$f":"_xlfn.XLOOKUP(A325&D325, $A$562:$J$562&$A$563:$J$563, $A$564:$J$564, \" \")","v":0},{"$f":"_xlfn.XLOOKUP(A325&D325, $A$562:$J$562&$A$563:$J$563, $A$565:$J$565, \" \")","v":{"v":0,"d":"$0.00"}}]
[null," "," ",null,{"$f":"_xlfn.XLOOKUP(A326&D326, $A$562:$J$562&$A$563:$J$563, $A$564:$J$564, \" \")","v":0},{"$f":"_xlfn.XLOOKUP(A326&D326, $A$562:$J$562&$A$563:$J$563, $A$565:$J$565, \" \")","v":{"v":0,"d":"$0.00"}}]
[null," "," ",null,{"$f":"_xlfn.XLOOKUP(A327&D327, $A$562:$J$562&$A$563:$J$563, $A$564:$J$564, \" \")","v":0},{"$f":"_xlfn.XLOOKUP(A327&D327, $A$562:$J$562&$A$563:$J$563, $A$565:$J$565, \" \")","v":{"v":0,"d":"$0.00"}}]
[null," "," ",null,{"$f":"_xlfn.XLOOKUP(A328&D328, $A$562:$J$562&$A$563:$J$563, $A$564:$J$564, \" \")","v":0},{"$f":"_xlfn.XLOOKUP(A328&D328, $A$562:$J$562&$A$563:$J$563, $A$565:$J$565, \" \")","v":{"v":0,"d":"$0.00"}}]
[null," "," ",null,{"$f":"_xlfn.XLOOKUP(A329&D329, $A$562:$J$562&$A$563:$J$563, $A$564:$J$564, \" \")","v":0},{"$f":"_xlfn.XLOOKUP(A329&D329, $A$562:$J$562&$A$563:$J$563, $A$565:$J$565, \" \")","v":{"v":0,"d":"$0.00"}}]
[null," "," ",null,{"$f":"_xlfn.XLOOKUP(A330&D330, $A$562:$J$562&$A$563:$J$563, $A$564:$J$564, \" \")","v":0},{"$f":"_xlfn.XLOOKUP(A330&D330, $A$562:$J$562&$A$563:$J$563, $A$565:$J$565, \" \")","v":{"v":0,"d":"$0.00"}}]
[null,{"$f":"IF(ISBLANK(A331), \" \", _xlfn.XLOOKUP(A331,$A$552:$C$552,$A$553:$C$553))","v":" "},{"$f":"IF(ISBLANK(A331), \" \", _xlfn.XLOOKUP(A331,$A$552:$C$552,$A$554:$C$554))","v":" "},null,{"$f":"_xlfn.XLOOKUP(A331&D331, $A$562:$J$562&$A$563:$J$563, $A$564:$J$564, \" \")","v":0},{"$f":"_xlfn.XLOOKUP(A331&D331, $A$562:$J$562&$A$563:$J$563, $A$565:$J$565, \" \")","v":{"v":0,"d":"$0.00"}}]
[null," "," ",null,{"$f":"_xlfn.XLOOKUP(A332&D332, $A$562:$J$562&$A$563:$J$563, $A$564:$J$564, \" \")","v":0},{"$f":"_xlfn.XLOOKUP(A332&D332, $A$562:$J$562&$A$563:$J$563, $A$565:$J$565, \" \")","v":{"v":0,"d":"$0.00"}}]
[null," "," ",null,{"$f":"_xlfn.XLOOKUP(A333&D333, $A$562:$J$562&$A$563:$J$563, $A$564:$J$564, \" \")","v":0},{"$f":"_xlfn.XLOOKUP(A333&D333, $A$562:$J$562&$A$563:$J$563, $A$565:$J$565, \" \")","v":{"v":0,"d":"$0.00"}}]
[null," "," ",null,{"$f":"_xlfn.XLOOKUP(A334&D334, $A$562:$J$562&$A$563:$J$563, $A$564:$J$564, \" \")","v":0},{"$f":"_xlfn.XLOOKUP(A334&D334, $A$562:$J$562&$A$563:$J$563, $A$565:$J$565, \" \")","v":{"v":0,"d":"$0.00"}}]
[null," "," ",null,{"$f":"_xlfn.XLOOKUP(A335&D335, $A$562:$J$562&$A$563:$J$563, $A$564:$J$564, \" \")","v":0},{"$f":"_xlfn.XLOOKUP(A335&D335, $A$562:$J$562&$A$563:$J$563, $A$565:$J$565, \" \")","v":{"v":0,"d":"$0.00"}}]
[null," "," ",null,{"$f":"_xlfn.XLOOKUP(A336&D336, $A$562:$J$562&$A$563:$J$563, $A$564:$J$564, \" \")","v":0},{"$f":"_xlfn.XLOOKUP(A336&D336, $A$562:$J$562&$A$563:$J$563, $A$565:$J$565, \" \")","v":{"v":0,"d":"$0.00"}}]
[null," "," ",null,{"$f":"_xlfn.XLOOKUP(A337&D337, $A$562:$J$562&$A$563:$J$563, $A$564:$J$564, \" \")","v":0},{"$f":"_xlfn.XLOOKUP(A337&D337, $A$562:$J$562&$A$563:$J$563, $A$565:$J$565, \" \")","v":{"v":0,"d":"$0.00"}}]
[null," "," ",null,{"$f":"_xlfn.XLOOKUP(A338&D338, $A$562:$J$562&$A$563:$J$563, $A$564:$J$564, \" \")","v":0},{"$f":"_xlfn.XLOOKUP(A338&D338, $A$562:$J$562&$A$563:$J$563, $A$565:$J$565, \" \")","v":{"v":0,"d":"$0.00"}}]
[null," "," ",null,{"$f":"_xlfn.XLOOKUP(A339&D339, $A$562:$J$562&$A$563:$J$563, $A$564:$J$564, \" \")","v":0},{"$f":"_xlfn.XLOOKUP(A339&D339, $A$562:$J$562&$A$563:$J$563, $A$565:$J$565, \" \")","v":{"v":0,"d":"$0.00"}}]
[null," "," ",null,{"$f":"_xlfn.XLOOKUP(A340&D340, $A$562:$J$562&$A$563:$J$563, $A$564:$J$564, \" \")","v":0},{"$f":"_xlfn.XLOOKUP(A340&D340, $A$562:$J$562&$A$563:$J$563, $A$565:$J$565, \" \")","v":{"v":0,"d":"$0.00"}}]
[null," "," ",null,{"$f":"_xlfn.XLOOKUP(A341&D341, $A$562:$J$562&$A$563:$J$563, $A$564:$J$564, \" \")","v":0},{"$f":"_xlfn.XLOOKUP(A341&D341, $A$562:$J$562&$A$563:$J$563, $A$565:$J$565, \" \")","v":{"v":0,"d":"$0.00"}}]
[null," "," ",null,{"$f":"_xlfn.XLOOKUP(A342&D342, $A$562:$J$562&$A$563:$J$563, $A$564:$J$564, \" \")","v":0},{"$f":"_xlfn.XLOOKUP(A342&D342, $A$562:$J$562&$A$563:$J$563, $A$565:$J$565, \" \")","v":{"v":0,"d":"$0.00"}}]
[null," "," ",null,{"$f":"_xlfn.XLOOKUP(A343&D343, $A$562:$J$562&$A$563:$J$563, $A$564:$J$564, \" \")","v":0},{"$f":"_xlfn.XLOOKUP(A343&D343, $A$562:$J$562&$A$563:$J$563, $A$565:$J$565, \" \")","v":{"v":0,"d":"$0.00"}}]
[null," "," ",null,{"$f":"_xlfn.XLOOKUP(A344&D344, $A$562:$J$562&$A$563:$J$563, $A$564:$J$564, \" \")","v":0},{"$f":"_xlfn.XLOOKUP(A344&D344, $A$562:$J$562&$A$563:$J$563, $A$565:$J$565, \" \")","v":{"v":0,"d":"$0.00"}}]
[null," "," ",null,{"$f":"_xlfn.XLOOKUP(A345&D345, $A$562:$J$562&$A$563:$J$563, $A$564:$J$564, \" \")","v":0},{"$f":"_xlfn.XLOOKUP(A345&D345, $A$562:$J$562&$A$563:$J$563, $A$565:$J$565, \" \")","v":{"v":0,"d":"$0.00"}}]
[null," "," ",null,{"$f":"_xlfn.XLOOKUP(A346&D346, $A$562:$J$562&$A$563:$J$563, $A$564:$J$564, \" \")","v":0},{"$f":"_xlfn.XLOOKUP(A346&D346, $A$562:$J$562&$A$563:$J$563, $A$565:$J$565, \" \")","v":{"v":0,"d":"$0.00"}}]
[null," "," ",null,{"$f":"_xlfn.XLOOKUP(A347&D347, $A$562:$J$562&$A$563:$J$563, $A$564:$J$564, \" \")","v":0},{"$f":"_xlfn.XLOOKUP(A347&D347, $A$562:$J$562&$A$563:$J$563, $A$565:$J$565, \" \")","v":{"v":0,"d":"$0.00"}}]
[null," "," ",null,{"$f":"_xlfn.XLOOKUP(A348&D348, $A$562:$J$562&$A$563:$J$563, $A$564:$J$564, \" \")","v":0},{"$f":"_xlfn.XLOOKUP(A348&D348, $A$562:$J$562&$A$563:$J$563, $A$565:$J$565, \" \")","v":{"v":0,"d":"$0.00"}}]
[null," "," ",null,{"$f":"_xlfn.XLOOKUP(A349&D349, $A$562:$J$562&$A$563:$J$563, $A$564:$J$564, \" \")","v":0},{"$f":"_xlfn.XLOOKUP(A349&D349, $A$562:$J$562&$A$563:$J$563, $A$565:$J$565, \" \")","v":{"v":0,"d":"$0.00"}}]
[null," "," ",null,{"$f":"_xlfn.XLOOKUP(A350&D350, $A$562:$J$562&$A$563:$J$563, $A$564:$J$564, \" \")","v":0},{"$f":"_xlfn.XLOOKUP(A350&D350, $A$562:$J$562&$A$563:$J$563, $A$565:$J$565, \" \")","v":{"v":0,"d":"$0.00"}}]
[null," "," ",null,{"$f":"_xlfn.XLOOKUP(A351&D351, $A$562:$J$562&$A$563:$J$563, $A$564:$J$564, \" \")","v":0},{"$f":"_xlfn.XLOOKUP(A351&D351, $A$562:$J$562&$A$563:$J$563, $A$565:$J$565, \" \")","v":{"v":0,"d":"$0.00"}}]
[null," "," ",null,{"$f":"_xlfn.XLOOKUP(A352&D352, $A$562:$J$562&$A$563:$J$563, $A$564:$J$564, \" \")","v":0},{"$f":"_xlfn.XLOOKUP(A352&D352, $A$562:$J$562&$A$563:$J$563, $A$565:$J$565, \" \")","v":{"v":0,"d":"$0.00"}}]
[null," "," ",null,{"$f":"_xlfn.XLOOKUP(A353&D353, $A$562:$J$562&$A$563:$J$563, $A$564:$J$564, \" \")","v":0},{"$f":"_xlfn.XLOOKUP(A353&D353, $A$562:$J$562&$A$563:$J$563, $A$565:$J$565, \" \")","v":{"v":0,"d":"$0.00"}}]
[null," "," ",null,{"$f":"_xlfn.XLOOKUP(A354&D354, $A$562:$J$562&$A$563:$J$563, $A$564:$J$564, \" \")","v":0},{"$f":"_xlfn.XLOOKUP(A354&D354, $A$562:$J$562&$A$563:$J$563, $A$565:$J$565, \" \")","v":{"v":0,"d":"$0.00"}}]
[null," "," ",null,{"$f":"_xlfn.XLOOKUP(A355&D355, $A$562:$J$562&$A$563:$J$563, $A$564:$J$564, \" \")","v":0},{"$f":"_xlfn.XLOOKUP(A355&D355, $A$562:$J$562&$A$563:$J$563, $A$565:$J$565, \" \")","v":{"v":0,"d":"$0.00"}}]
[null," "," ",null,{"$f":"_xlfn.XLOOKUP(A356&D356, $A$562:$J$562&$A$563:$J$563, $A$564:$J$564, \" \")","v":0},{"$f":"_xlfn.XLOOKUP(A356&D356, $A$562:$J$562&$A$563:$J$563, $A$565:$J$565, \" \")","v":{"v":0,"d":"$0.00"}}]
[null," "," ",null,{"$f":"_xlfn.XLOOKUP(A357&D357, $A$562:$J$562&$A$563:$J$563, $A$564:$J$564, \" \")","v":0},{"$f":"_xlfn.XLOOKUP(A357&D357, $A$562:$J$562&$A$563:$J$563, $A$565:$J$565, \" \")","v":{"v":0,"d":"$0.00"}}]
[null," "," ",null,{"$f":"_xlfn.XLOOKUP(A358&D358, $A$562:$J$562&$A$563:$J$563, $A$564:$J$564, \" \")","v":0},{"$f":"_xlfn.XLOOKUP(A358&D358, $A$562:$J$562&$A$563:$J$563, $A$565:$J$565, \" \")","v":{"v":0,"d":"$0.00"}}]
[null," "," ",null,{"$f":"_xlfn.XLOOKUP(A359&D359, $A$562:$J$562&$A$563:$J$563, $A$564:$J$564, \" \")","v":0},{"$f":"_xlfn.XLOOKUP(A359&D359, $A$562:$J$562&$A$563:$J$563, $A$565:$J$565, \" \")","v":{"v":0,"d":"$0.00"}}]
[null," "," ",null,{"$f":"_xlfn.XLOOKUP(A360&D360, $A$562:$J$562&$A$563:$J$563, $A$564:$J$564, \" \")","v":0},{"$f":"_xlfn.XLOOKUP(A360&D360, $A$562:$J$562&$A$563:$J$563, $A$565:$J$565, \" \")","v":{"v":0,"d":"$0.00"}}]
[null," "," ",null,{"$f":"_xlfn.XLOOKUP(A361&D361, $A$562:$J$562&$A$563:$J$563, $A$564:$J$564, \" \")","v":0},{"$f":"_xlfn.XLOOKUP(A361&D361, $A$562:$J$562&$A$563:$J$563, $A$565:$J$565, \" \")","v":{"v":0,"d":"$0.00"}}]
[null," "," ",null,{"$f":"_xlfn.XLOOKUP(A362&D362, $A$562:$J$562&$A$563:$J$563, $A$564:$J$564, \" \")","v":0},{"$f":"_xlfn.XLOOKUP(A362&D362, $A$562:$J$562&$A$563:$J$563, $A$565:$J$565, \" \")","v":{"v":0,"d":"$0.00"}}]
[null," "," ",null,{"$f":"_xlfn.XLOOKUP(A363&D363, $A$562:$J$562&$A$563:$J$563, $A$564:$J$564, \" \")","v":0},{"$f":"_xlfn.XLOOKUP(A363&D363, $A$562:$J$562&$A$563:$J$563, $A$565:$J$565, \" \")","v":{"v":0,"d":"$0.00"}}]
[null," "," ",null,{"$f":"_xlfn.XLOOKUP(A364&D364, $A$562:$J$562&$A$563:$J$563, $A$564:$J$564, \" \")","v":0},{"$f":"_xlfn.XLOOKUP(A364&D364, $A$562:$J$562&$A$563:$J$563, $A$565:$J$565, \" \")","v":{"v":0,"d":"$0.00"}}]
[null," "," ",null,{"$f":"_xlfn.XLOOKUP(A365&D365, $A$562:$J$562&$A$563:$J$563, $A$564:$J$564, \" \")","v":0},{"$f":"_xlfn.XLOOKUP(A365&D365, $A$562:$J$562&$A$563:$J$563, $A$565:$J$565, \" \")","v":{"v":0,"d":"$0.00"}}]
[null," "," ",null,{"$f":"_xlfn.XLOOKUP(A366&D366, $A$562:$J$562&$A$563:$J$563, $A$564:$J$564, \" \")","v":0},{"$f":"_xlfn.XLOOKUP(A366&D366, $A$562:$J$562&$A$563:$J$563, $A$565:$J$565, \" \")","v":{"v":0,"d":"$0.00"}}]
[null," "," ",null,{"$f":"_xlfn.XLOOKUP(A367&D367, $A$562:$J$562&$A$563:$J$563, $A$564:$J$564, \" \")","v":0},{"$f":"_xlfn.XLOOKUP(A367&D367, $A$562:$J$562&$A$563:$J$563, $A$565:$J$565, \" \")","v":{"v":0,"d":"$0.00"}}]
[null," "," ",null,{"$f":"_xlfn.XLOOKUP(A368&D368, $A$562:$J$562&$A$563:$J$563, $A$564:$J$564, \" \")","v":0},{"$f":"_xlfn.XLOOKUP(A368&D368, $A$562:$J$562&$A$563:$J$563, $A$565:$J$565, \" \")","v":{"v":0,"d":"$0.00"}}]
[null," "," ",null,{"$f":"_xlfn.XLOOKUP(A369&D369, $A$562:$J$562&$A$563:$J$563, $A$564:$J$564, \" \")","v":0},{"$f":"_xlfn.XLOOKUP(A369&D369, $A$562:$J$562&$A$563:$J$563, $A$565:$J$565, \" \")","v":{"v":0,"d":"$0.00"}}]
[null," "," ",null,{"$f":"_xlfn.XLOOKUP(A370&D370, $A$562:$J$562&$A$563:$J$563, $A$564:$J$564, \" \")","v":0},{"$f":"_xlfn.XLOOKUP(A370&D370, $A$562:$J$562&$A$563:$J$563, $A$565:$J$565, \" \")","v":{"v":0,"d":"$0.00"}}]
[null," "," ",null,{"$f":"_xlfn.XLOOKUP(A371&D371, $A$562:$J$562&$A$563:$J$563, $A$564:$J$564, \" \")","v":0},{"$f":"_xlfn.XLOOKUP(A371&D371, $A$562:$J$562&$A$563:$J$563, $A$565:$J$565, \" \")","v":{"v":0,"d":"$0.00"}}]
[null," "," ",null,{"$f":"_xlfn.XLOOKUP(A372&D372, $A$562:$J$562&$A$563:$J$563, $A$564:$J$564, \" \")","v":0},{"$f":"_xlfn.XLOOKUP(A372&D372, $A$562:$J$562&$A$563:$J$563, $A$565:$J$565, \" \")","v":{"v":0,"d":"$0.00"}}]
[null," "," ",null,{"$f":"_xlfn.XLOOKUP(A373&D373, $A$562:$J$562&$A$563:$J$563, $A$564:$J$564, \" \")","v":0},{"$f":"_xlfn.XLOOKUP(A373&D373, $A$562:$J$562&$A$563:$J$563, $A$565:$J$565, \" \")","v":{"v":0,"d":"$0.00"}}]
[null," "," ",null,{"$f":"_xlfn.XLOOKUP(A374&D374, $A$562:$J$562&$A$563:$J$563, $A$564:$J$564, \" \")","v":0},{"$f":"_xlfn.XLOOKUP(A374&D374, $A$562:$J$562&$A$563:$J$563, $A$565:$J$565, \" \")","v":{"v":0,"d":"$0.00"}}]
[null," "," ",null,{"$f":"_xlfn.XLOOKUP(A375&D375, $A$562:$J$562&$A$563:$J$563, $A$564:$J$564, \" \")","v":0},{"$f":"_xlfn.XLOOKUP(A375&D375, $A$562:$J$562&$A$563:$J$563, $A$565:$J$565, \" \")","v":{"v":0,"d":"$0.00"}}]
[null," "," ",null,{"$f":"_xlfn.XLOOKUP(A376&D376, $A$562:$J$562&$A$563:$J$563, $A$564:$J$564, \" \")","v":0},{"$f":"_xlfn.XLOOKUP(A376&D376, $A$562:$J$562&$A$563:$J$563, $A$565:$J$565, \" \")","v":{"v":0,"d":"$0.00"}}]
[null," "," ",null,{"$f":"_xlfn.XLOOKUP(A377&D377, $A$562:$J$562&$A$563:$J$563, $A$564:$J$564, \" \")","v":0},{"$f":"_xlfn.XLOOKUP(A377&D377, $A$562:$J$562&$A$563:$J$563, $A$565:$J$565, \" \")","v":{"v":0,"d":"$0.00"}}]
[null," "," ",null,{"$f":"_xlfn.XLOOKUP(A378&D378, $A$562:$J$562&$A$563:$J$563, $A$564:$J$564, \" \")","v":0},{"$f":"_xlfn.XLOOKUP(A378&D378, $A$562:$J$562&$A$563:$J$563, $A$565:$J$565, \" \")","v":{"v":0,"d":"$0.00"}}]
[null," "," ",null,{"$f":"_xlfn.XLOOKUP(A379&D379, $A$562:$J$562&$A$563:$J$563, $A$564:$J$564, \" \")","v":0},{"$f":"_xlfn.XLOOKUP(A379&D379, $A$562:$J$562&$A$563:$J$563, $A$565:$J$565, \" \")","v":{"v":0,"d":"$0.00"}}]
[null," "," ",null,{"$f":"_xlfn.XLOOKUP(A380&D380, $A$562:$J$562&$A$563:$J$563, $A$564:$J$564, \" \")","v":0},{"$f":"_xlfn.XLOOKUP(A380&D380, $A$562:$J$562&$A$563:$J$563, $A$565:$J$565, \" \")","v":{"v":0,"d":"$0.00"}}]
[null," "," ",null,{"$f":"_xlfn.XLOOKUP(A381&D381, $A$562:$J$562&$A$563:$J$563, $A$564:$J$564, \" \")","v":0},{"$f":"_xlfn.XLOOKUP(A381&D381, $A$562:$J$562&$A$563:$J$563, $A$565:$J$565, \" \")","v":{"v":0,"d":"$0.00"}}]
[null," "," ",null,{"$f":"_xlfn.XLOOKUP(A382&D382, $A$562:$J$562&$A$563:$J$563, $A$564:$J$564, \" \")","v":0},{"$f":"_xlfn.XLOOKUP(A382&D382, $A$562:$J$562&$A$563:$J$563, $A$565:$J$565, \" \")","v":{"v":0,"d":"$0.00"}}]
[null," "," ",null,{"$f":"_xlfn.XLOOKUP(A383&D383, $A$562:$J$562&$A$563:$J$563, $A$564:$J$564, \" \")","v":0},{"$f":"_xlfn.XLOOKUP(A383&D383, $A$562:$J$562&$A$563:$J$563, $A$565:$J$565, \" \")","v":{"v":0,"d":"$0.00"}}]
[null," "," ",null,{"$f":"_xlfn.XLOOKUP(A384&D384, $A$562:$J$562&$A$563:$J$563, $A$564:$J$564, \" \")","v":0},{"$f":"_xlfn.XLOOKUP(A384&D384, $A$562:$J$562&$A$563:$J$563, $A$565:$J$565, \" \")","v":{"v":0,"d":"$0.00"}}]
[null," "," ",null,{"$f":"_xlfn.XLOOKUP(A385&D385, $A$562:$J$562&$A$563:$J$563, $A$564:$J$564, \" \")","v":0},{"$f":"_xlfn.XLOOKUP(A385&D385, $A$562:$J$562&$A$563:$J$563, $A$565:$J$565, \" \")","v":{"v":0,"d":"$0.00"}}]
[null," "," ",null,{"$f":"_xlfn.XLOOKUP(A386&D386, $A$562:$J$562&$A$563:$J$563, $A$564:$J$564, \" \")","v":0},{"$f":"_xlfn.XLOOKUP(A386&D386, $A$562:$J$562&$A$563:$J$563, $A$565:$J$565, \" \")","v":{"v":0,"d":"$0.00"}}]
[null," "," ",null,{"$f":"_xlfn.XLOOKUP(A387&D387, $A$562:$J$562&$A$563:$J$563, $A$564:$J$564, \" \")","v":0},{"$f":"_xlfn.XLOOKUP(A387&D387, $A$562:$J$562&$A$563:$J$563, $A$565:$J$565, \" \")","v":{"v":0,"d":"$0.00"}}]
[null," "," ",null,{"$f":"_xlfn.XLOOKUP(A388&D388, $A$562:$J$562&$A$563:$J$563, $A$564:$J$564, \" \")","v":0},{"$f":"_xlfn.XLOOKUP(A388&D388, $A$562:$J$562&$A$563:$J$563, $A$565:$J$565, \" \")","v":{"v":0,"d":"$0.00"}}]
[null," "," ",null,{"$f":"_xlfn.XLOOKUP(A389&D389, $A$562:$J$562&$A$563:$J$563, $A$564:$J$564, \" \")","v":0},{"$f":"_xlfn.XLOOKUP(A389&D389, $A$562:$J$562&$A$563:$J$563, $A$565:$J$565, \" \")","v":{"v":0,"d":"$0.00"}}]
[null," "," ",null,{"$f":"_xlfn.XLOOKUP(A390&D390, $A$562:$J$562&$A$563:$J$563, $A$564:$J$564, \" \")","v":0},{"$f":"_xlfn.XLOOKUP(A390&D390, $A$562:$J$562&$A$563:$J$563, $A$565:$J$565, \" \")","v":{"v":0,"d":"$0.00"}}]
[null," "," ",null,{"$f":"_xlfn.XLOOKUP(A391&D391, $A$562:$J$562&$A$563:$J$563, $A$564:$J$564, \" \")","v":0},{"$f":"_xlfn.XLOOKUP(A391&D391, $A$562:$J$562&$A$563:$J$563, $A$565:$J$565, \" \")","v":{"v":0,"d":"$0.00"}}]
[null," "," ",null,{"$f":"_xlfn.XLOOKUP(A392&D392, $A$562:$J$562&$A$563:$J$563, $A$564:$J$564, \" \")","v":0},{"$f":"_xlfn.XLOOKUP(A392&D392, $A$562:$J$562&$A$563:$J$563, $A$565:$J$565, \" \")","v":{"v":0,"d":"$0.00"}}]
[null," "," ",null,{"$f":"_xlfn.XLOOKUP(A393&D393, $A$562:$J$562&$A$563:$J$563, $A$564:$J$564, \" \")","v":0},{"$f":"_xlfn.XLOOKUP(A393&D393, $A$562:$J$562&$A$563:$J$563, $A$565:$J$565, \" \")","v":{"v":0,"d":"$0.00"}}]
[null," "," ",null,{"$f":"_xlfn.XLOOKUP(A394&D394, $A$562:$J$562&$A$563:$J$563, $A$564:$J$564, \" \")","v":0},{"$f":"_xlfn.XLOOKUP(A394&D394, $A$562:$J$562&$A$563:$J$563, $A$565:$J$565, \" \")","v":{"v":0,"d":"$0.00"}}]
[null,{"$f":"IF(ISBLANK(A395), \" \", _xlfn.XLOOKUP(A395,$A$552:$C$552,$A$553:$C$553))","v":" "},{"$f":"IF(ISBLANK(A395), \" \", _xlfn.XLOOKUP(A395,$A$552:$C$552,$A$554:$C$554))","v":" "},null,{"$f":"_xlfn.XLOOKUP(A395&D395, $A$562:$J$562&$A$563:$J$563, $A$564:$J$564, \" \")","v":0},{"$f":"_xlfn.XLOOKUP(A395&D395, $A$562:$J$562&$A$563:$J$563, $A$565:$J$565, \" \")","v":{"v":0,"d":"$0.00"}}]
[null," "," ",null,{"$f":"_xlfn.XLOOKUP(A396&D396, $A$562:$J$562&$A$563:$J$563, $A$564:$J$564, \" \")","v":0},{"$f":"_xlfn.XLOOKUP(A396&D396, $A$562:$J$562&$A$563:$J$563, $A$565:$J$565, \" \")","v":{"v":0,"d":"$0.00"}}]
[null," "," ",null,{"$f":"_xlfn.XLOOKUP(A397&D397, $A$562:$J$562&$A$563:$J$563, $A$564:$J$564, \" \")","v":0},{"$f":"_xlfn.XLOOKUP(A397&D397, $A$562:$J$562&$A$563:$J$563, $A$565:$J$565, \" \")","v":{"v":0,"d":"$0.00"}}]
[null," "," ",null,{"$f":"_xlfn.XLOOKUP(A398&D398, $A$562:$J$562&$A$563:$J$563, $A$564:$J$564, \" \")","v":0},{"$f":"_xlfn.XLOOKUP(A398&D398, $A$562:$J$562&$A$563:$J$563, $A$565:$J$565, \" \")","v":{"v":0,"d":"$0.00"}}]
[null," "," ",null,{"$f":"_xlfn.XLOOKUP(A399&D399, $A$562:$J$562&$A$563:$J$563, $A$564:$J$564, \" \")","v":0},{"$f":"_xlfn.XLOOKUP(A399&D399, $A$562:$J$562&$A$563:$J$563, $A$565:$J$565, \" \")","v":{"v":0,"d":"$0.00"}}]
[null," "," ",null,{"$f":"_xlfn.XLOOKUP(A400&D400, $A$562:$J$562&$A$563:$J$563, $A$564:$J$564, \" \")","v":0},{"$f":"_xlfn.XLOOKUP(A400&D400, $A$562:$J$562&$A$563:$J$563, $A$565:$J$565, \" \")","v":{"v":0,"d":"$0.00"}}]
[null," "," ",null,{"$f":"_xlfn.XLOOKUP(A401&D401, $A$562:$J$562&$A$563:$J$563, $A$564:$J$564, \" \")","v":0},{"$f":"_xlfn.XLOOKUP(A401&D401, $A$562:$J$562&$A$563:$J$563, $A$565:$J$565, \" \")","v":{"v":0,"d":"$0.00"}}]
[null," "," ",null,{"$f":"_xlfn.XLOOKUP(A402&D402, $A$562:$J$562&$A$563:$J$563, $A$564:$J$564, \" \")","v":0},{"$f":"_xlfn.XLOOKUP(A402&D402, $A$562:$J$562&$A$563:$J$563, $A$565:$J$565, \" \")","v":{"v":0,"d":"$0.00"}}]
[null," "," ",null,{"$f":"_xlfn.XLOOKUP(A403&D403, $A$562:$J$562&$A$563:$J$563, $A$564:$J$564, \" \")","v":0},{"$f":"_xlfn.XLOOKUP(A403&D403, $A$562:$J$562&$A$563:$J$563, $A$565:$J$565, \" \")","v":{"v":0,"d":"$0.00"}}]
[null," "," ",null,{"$f":"_xlfn.XLOOKUP(A404&D404, $A$562:$J$562&$A$563:$J$563, $A$564:$J$564, \" \")","v":0},{"$f":"_xlfn.XLOOKUP(A404&D404, $A$562:$J$562&$A$563:$J$563, $A$565:$J$565, \" \")","v":{"v":0,"d":"$0.00"}}]
[null," "," ",null,{"$f":"_xlfn.XLOOKUP(A405&D405, $A$562:$J$562&$A$563:$J$563, $A$564:$J$564, \" \")","v":0},{"$f":"_xlfn.XLOOKUP(A405&D405, $A$562:$J$562&$A$563:$J$563, $A$565:$J$565, \" \")","v":{"v":0,"d":"$0.00"}}]
[null," "," ",null,{"$f":"_xlfn.XLOOKUP(A406&D406, $A$562:$J$562&$A$563:$J$563, $A$564:$J$564, \" \")","v":0},{"$f":"_xlfn.XLOOKUP(A406&D406, $A$562:$J$562&$A$563:$J$563, $A$565:$J$565, \" \")","v":{"v":0,"d":"$0.00"}}]
[null," "," ",null,{"$f":"_xlfn.XLOOKUP(A407&D407, $A$562:$J$562&$A$563:$J$563, $A$564:$J$564, \" \")","v":0},{"$f":"_xlfn.XLOOKUP(A407&D407, $A$562:$J$562&$A$563:$J$563, $A$565:$J$565, \" \")","v":{"v":0,"d":"$0.00"}}]
[null," "," ",null,{"$f":"_xlfn.XLOOKUP(A408&D408, $A$562:$J$562&$A$563:$J$563, $A$564:$J$564, \" \")","v":0},{"$f":"_xlfn.XLOOKUP(A408&D408, $A$562:$J$562&$A$563:$J$563, $A$565:$J$565, \" \")","v":{"v":0,"d":"$0.00"}}]
[null," "," ",null,{"$f":"_xlfn.XLOOKUP(A409&D409, $A$562:$J$562&$A$563:$J$563, $A$564:$J$564, \" \")","v":0},{"$f":"_xlfn.XLOOKUP(A409&D409, $A$562:$J$562&$A$563:$J$563, $A$565:$J$565, \" \")","v":{"v":0,"d":"$0.00"}}]
[null," "," ",null,{"$f":"_xlfn.XLOOKUP(A410&D410, $A$562:$J$562&$A$563:$J$563, $A$564:$J$564, \" \")","v":0},{"$f":"_xlfn.XLOOKUP(A410&D410, $A$562:$J$562&$A$563:$J$563, $A$565:$J$565, \" \")","v":{"v":0,"d":"$0.00"}}]
[null," "," ",null,{"$f":"_xlfn.XLOOKUP(A411&D411, $A$562:$J$562&$A$563:$J$563, $A$564:$J$564, \" \")","v":0},{"$f":"_xlfn.XLOOKUP(A411&D411, $A$562:$J$562&$A$563:$J$563, $A$565:$J$565, \" \")","v":{"v":0,"d":"$0.00"}}]
[null," "," ",null,{"$f":"_xlfn.XLOOKUP(A412&D412, $A$562:$J$562&$A$563:$J$563, $A$564:$J$564, \" \")","v":0},{"$f":"_xlfn.XLOOKUP(A412&D412, $A$562:$J$562&$A$563:$J$563, $A$565:$J$565, \" \")","v":{"v":0,"d":"$0.00"}}]
[null," "," ",null,{"$f":"_xlfn.XLOOKUP(A413&D413, $A$562:$J$562&$A$563:$J$563, $A$564:$J$564, \" \")","v":0},{"$f":"_xlfn.XLOOKUP(A413&D413, $A$562:$J$562&$A$563:$J$563, $A$565:$J$565, \" \")","v":{"v":0,"d":"$0.00"}}]
[null," "," ",null,{"$f":"_xlfn.XLOOKUP(A414&D414, $A$562:$J$562&$A$563:$J$563, $A$564:$J$564, \" \")","v":0},{"$f":"_xlfn.XLOOKUP(A414&D414, $A$562:$J$562&$A$563:$J$563, $A$565:$J$565, \" \")","v":{"v":0,"d":"$0.00"}}]
[null," "," ",null,{"$f":"_xlfn.XLOOKUP(A415&D415, $A$562:$J$562&$A$563:$J$563, $A$564:$J$564, \" \")","v":0},{"$f":"_xlfn.XLOOKUP(A415&D415, $A$562:$J$562&$A$563:$J$563, $A$565:$J$565, \" \")","v":{"v":0,"d":"$0.00"}}]
[null," "," ",null,{"$f":"_xlfn.XLOOKUP(A416&D416, $A$562:$J$562&$A$563:$J$563, $A$564:$J$564, \" \")","v":0},{"$f":"_xlfn.XLOOKUP(A416&D416, $A$562:$J$562&$A$563:$J$563, $A$565:$J$565, \" \")","v":{"v":0,"d":"$0.00"}}]
[null," "," ",null,{"$f":"_xlfn.XLOOKUP(A417&D417, $A$562:$J$562&$A$563:$J$563, $A$564:$J$564, \" \")","v":0},{"$f":"_xlfn.XLOOKUP(A417&D417, $A$562:$J$562&$A$563:$J$563, $A$565:$J$565, \" \")","v":{"v":0,"d":"$0.00"}}]
[null," "," ",null,{"$f":"_xlfn.XLOOKUP(A418&D418, $A$562:$J$562&$A$563:$J$563, $A$564:$J$564, \" \")","v":0},{"$f":"_xlfn.XLOOKUP(A418&D418, $A$562:$J$562&$A$563:$J$563, $A$565:$J$565, \" \")","v":{"v":0,"d":"$0.00"}}]
[null," "," ",null,{"$f":"_xlfn.XLOOKUP(A419&D419, $A$562:$J$562&$A$563:$J$563, $A$564:$J$564, \" \")","v":0},{"$f":"_xlfn.XLOOKUP(A419&D419, $A$562:$J$562&$A$563:$J$563, $A$565:$J$565, \" \")","v":{"v":0,"d":"$0.00"}}]
[null," "," ",null,{"$f":"_xlfn.XLOOKUP(A420&D420, $A$562:$J$562&$A$563:$J$563, $A$564:$J$564, \" \")","v":0},{"$f":"_xlfn.XLOOKUP(A420&D420, $A$562:$J$562&$A$563:$J$563, $A$565:$J$565, \" \")","v":{"v":0,"d":"$0.00"}}]
[null," "," ",null,{"$f":"_xlfn.XLOOKUP(A421&D421, $A$562:$J$562&$A$563:$J$563, $A$564:$J$564, \" \")","v":0},{"$f":"_xlfn.XLOOKUP(A421&D421, $A$562:$J$562&$A$563:$J$563, $A$565:$J$565, \" \")","v":{"v":0,"d":"$0.00"}}]
[null," "," ",null,{"$f":"_xlfn.XLOOKUP(A422&D422, $A$562:$J$562&$A$563:$J$563, $A$564:$J$564, \" \")","v":0},{"$f":"_xlfn.XLOOKUP(A422&D422, $A$562:$J$562&$A$563:$J$563, $A$565:$J$565, \" \")","v":{"v":0,"d":"$0.00"}}]
[null," "," ",null,{"$f":"_xlfn.XLOOKUP(A423&D423, $A$562:$J$562&$A$563:$J$563, $A$564:$J$564, \" \")","v":0},{"$f":"_xlfn.XLOOKUP(A423&D423, $A$562:$J$562&$A$563:$J$563, $A$565:$J$565, \" \")","v":{"v":0,"d":"$0.00"}}]
[null," "," ",null,{"$f":"_xlfn.XLOOKUP(A424&D424, $A$562:$J$562&$A$563:$J$563, $A$564:$J$564, \" \")","v":0},{"$f":"_xlfn.XLOOKUP(A424&D424, $A$562:$J$562&$A$563:$J$563, $A$565:$J$565, \" \")","v":{"v":0,"d":"$0.00"}}]
[null," "," ",null,{"$f":"_xlfn.XLOOKUP(A425&D425, $A$562:$J$562&$A$563:$J$563, $A$564:$J$564, \" \")","v":0},{"$f":"_xlfn.XLOOKUP(A425&D425, $A$562:$J$562&$A$563:$J$563, $A$565:$J$565, \" \")","v":{"v":0,"d":"$0.00"}}]
[null," "," ",null,{"$f":"_xlfn.XLOOKUP(A426&D426, $A$562:$J$562&$A$563:$J$563, $A$564:$J$564, \" \")","v":0},{"$f":"_xlfn.XLOOKUP(A426&D426, $A$562:$J$562&$A$563:$J$563, $A$565:$J$565, \" \")","v":{"v":0,"d":"$0.00"}}]
[null," "," ",null,{"$f":"_xlfn.XLOOKUP(A427&D427, $A$562:$J$562&$A$563:$J$563, $A$564:$J$564, \" \")","v":0},{"$f":"_xlfn.XLOOKUP(A427&D427, $A$562:$J$562&$A$563:$J$563, $A$565:$J$565, \" \")","v":{"v":0,"d":"$0.00"}}]
[null," "," ",null,{"$f":"_xlfn.XLOOKUP(A428&D428, $A$562:$J$562&$A$563:$J$563, $A$564:$J$564, \" \")","v":0},{"$f":"_xlfn.XLOOKUP(A428&D428, $A$562:$J$562&$A$563:$J$563, $A$565:$J$565, \" \")","v":{"v":0,"d":"$0.00"}}]
[null," "," ",null,{"$f":"_xlfn.XLOOKUP(A429&D429, $A$562:$J$562&$A$563:$J$563, $A$564:$J$564, \" \")","v":0},{"$f":"_xlfn.XLOOKUP(A429&D429, $A$562:$J$562&$A$563:$J$563, $A$565:$J$565, \" \")","v":{"v":0,"d":"$0.00"}}]
[null," "," ",null,{"$f":"_xlfn.XLOOKUP(A430&D430, $A$562:$J$562&$A$563:$J$563, $A$564:$J$564, \" \")","v":0},{"$f":"_xlfn.XLOOKUP(A430&D430, $A$562:$J$562&$A$563:$J$563, $A$565:$J$565, \" \")","v":{"v":0,"d":"$0.00"}}]
[null," "," ",null,{"$f":"_xlfn.XLOOKUP(A431&D431, $A$562:$J$562&$A$563:$J$563, $A$564:$J$564, \" \")","v":0},{"$f":"_xlfn.XLOOKUP(A431&D431, $A$562:$J$562&$A$563:$J$563, $A$565:$J$565, \" \")","v":{"v":0,"d":"$0.00"}}]
[null," "," ",null,{"$f":"_xlfn.XLOOKUP(A432&D432, $A$562:$J$562&$A$563:$J$563, $A$564:$J$564, \" \")","v":0},{"$f":"_xlfn.XLOOKUP(A432&D432, $A$562:$J$562&$A$563:$J$563, $A$565:$J$565, \" \")","v":{"v":0,"d":"$0.00"}}]
[null," "," ",null,{"$f":"_xlfn.XLOOKUP(A433&D433, $A$562:$J$562&$A$563:$J$563, $A$564:$J$564, \" \")","v":0},{"$f":"_xlfn.XLOOKUP(A433&D433, $A$562:$J$562&$A$563:$J$563, $A$565:$J$565, \" \")","v":{"v":0,"d":"$0.00"}}]
[null," "," ",null,{"$f":"_xlfn.XLOOKUP(A434&D434, $A$562:$J$562&$A$563:$J$563, $A$564:$J$564, \" \")","v":0},{"$f":"_xlfn.XLOOKUP(A434&D434, $A$562:$J$562&$A$563:$J$563, $A$565:$J$565, \" \")","v":{"v":0,"d":"$0.00"}}]
[null," "," ",null,{"$f":"_xlfn.XLOOKUP(A435&D435, $A$562:$J$562&$A$563:$J$563, $A$564:$J$564, \" \")","v":0},{"$f":"_xlfn.XLOOKUP(A435&D435, $A$562:$J$562&$A$563:$J$563, $A$565:$J$565, \" \")","v":{"v":0,"d":"$0.00"}}]
[null," "," ",null,{"$f":"_xlfn.XLOOKUP(A436&D436, $A$562:$J$562&$A$563:$J$563, $A$564:$J$564, \" \")","v":0},{"$f":"_xlfn.XLOOKUP(A436&D436, $A$562:$J$562&$A$563:$J$563, $A$565:$J$565, \" \")","v":{"v":0,"d":"$0.00"}}]
[null," "," ",null,{"$f":"_xlfn.XLOOKUP(A437&D437, $A$562:$J$562&$A$563:$J$563, $A$564:$J$564, \" \")","v":0},{"$f":"_xlfn.XLOOKUP(A437&D437, $A$562:$J$562&$A$563:$J$563, $A$565:$J$565, \" \")","v":{"v":0,"d":"$0.00"}}]
[null," "," ",null,{"$f":"_xlfn.XLOOKUP(A438&D438, $A$562:$J$562&$A$563:$J$563, $A$564:$J$564, \" \")","v":0},{"$f":"_xlfn.XLOOKUP(A438&D438, $A$562:$J$562&$A$563:$J$563, $A$565:$J$565, \" \")","v":{"v":0,"d":"$0.00"}}]
[null," "," ",null,{"$f":"_xlfn.XLOOKUP(A439&D439, $A$562:$J$562&$A$563:$J$563, $A$564:$J$564, \" \")","v":0},{"$f":"_xlfn.XLOOKUP(A439&D439, $A$562:$J$562&$A$563:$J$563, $A$565:$J$565, \" \")","v":{"v":0,"d":"$0.00"}}]
[null," "," ",null,{"$f":"_xlfn.XLOOKUP(A440&D440, $A$562:$J$562&$A$563:$J$563, $A$564:$J$564, \" \")","v":0},{"$f":"_xlfn.XLOOKUP(A440&D440, $A$562:$J$562&$A$563:$J$563, $A$565:$J$565, \" \")","v":{"v":0,"d":"$0.00"}}]
[null," "," ",null,{"$f":"_xlfn.XLOOKUP(A441&D441, $A$562:$J$562&$A$563:$J$563, $A$564:$J$564, \" \")","v":0},{"$f":"_xlfn.XLOOKUP(A441&D441, $A$562:$J$562&$A$563:$J$563, $A$565:$J$565, \" \")","v":{"v":0,"d":"$0.00"}}]
[null," "," ",null,{"$f":"_xlfn.XLOOKUP(A442&D442, $A$562:$J$562&$A$563:$J$563, $A$564:$J$564, \" \")","v":0},{"$f":"_xlfn.XLOOKUP(A442&D442, $A$562:$J$562&$A$563:$J$563, $A$565:$J$565, \" \")","v":{"v":0,"d":"$0.00"}}]
[null," "," ",null,{"$f":"_xlfn.XLOOKUP(A443&D443, $A$562:$J$562&$A$563:$J$563, $A$564:$J$564, \" \")","v":0},{"$f":"_xlfn.XLOOKUP(A443&D443, $A$562:$J$562&$A$563:$J$563, $A$565:$J$565, \" \")","v":{"v":0,"d":"$0.00"}}]
[null," "," ",null,{"$f":"_xlfn.XLOOKUP(A444&D444, $A$562:$J$562&$A$563:$J$563, $A$564:$J$564, \" \")","v":0},{"$f":"_xlfn.XLOOKUP(A444&D444, $A$562:$J$562&$A$563:$J$563, $A$565:$J$565, \" \")","v":{"v":0,"d":"$0.00"}}]
[null," "," ",null,{"$f":"_xlfn.XLOOKUP(A445&D445, $A$562:$J$562&$A$563:$J$563, $A$564:$J$564, \" \")","v":0},{"$f":"_xlfn.XLOOKUP(A445&D445, $A$562:$J$562&$A$563:$J$563, $A$565:$J$565, \" \")","v":{"v":0,"d":"$0.00"}}]
[null," "," ",null,{"$f":"_xlfn.XLOOKUP(A446&D446, $A$562:$J$562&$A$563:$J$563, $A$564:$J$564, \" \")","v":0},{"$f":"_xlfn.XLOOKUP(A446&D446, $A$562:$J$562&$A$563:$J$563, $A$565:$J$565, \" \")","v":{"v":0,"d":"$0.00"}}]
[null," "," ",null,{"$f":"_xlfn.XLOOKUP(A447&D447, $A$562:$J$562&$A$563:$J$563, $A$564:$J$564, \" \")","v":0},{"$f":"_xlfn.XLOOKUP(A447&D447, $A$562:$J$562&$A$563:$J$563, $A$565:$J$565, \" \")","v":{"v":0,"d":"$0.00"}}]
[null," "," ",null,{"$f":"_xlfn.XLOOKUP(A448&D448, $A$562:$J$562&$A$563:$J$563, $A$564:$J$564, \" \")","v":0},{"$f":"_xlfn.XLOOKUP(A448&D448, $A$562:$J$562&$A$563:$J$563, $A$565:$J$565, \" \")","v":{"v":0,"d":"$0.00"}}]
[null," "," ",null,{"$f":"_xlfn.XLOOKUP(A449&D449, $A$562:$J$562&$A$563:$J$563, $A$564:$J$564, \" \")","v":0},{"$f":"_xlfn.XLOOKUP(A449&D449, $A$562:$J$562&$A$563:$J$563, $A$565:$J$565, \" \")","v":{"v":0,"d":"$0.00"}}]
[null," "," ",null,{"$f":"_xlfn.XLOOKUP(A450&D450, $A$562:$J$562&$A$563:$J$563, $A$564:$J$564, \" \")","v":0},{"$f":"_xlfn.XLOOKUP(A450&D450, $A$562:$J$562&$A$563:$J$563, $A$565:$J$565, \" \")","v":{"v":0,"d":"$0.00"}}]
[null," "," ",null,{"$f":"_xlfn.XLOOKUP(A451&D451, $A$562:$J$562&$A$563:$J$563, $A$564:$J$564, \" \")","v":0},{"$f":"_xlfn.XLOOKUP(A451&D451, $A$562:$J$562&$A$563:$J$563, $A$565:$J$565, \" \")","v":{"v":0,"d":"$0.00"}}]
[null," "," ",null,{"$f":"_xlfn.XLOOKUP(A452&D452, $A$562:$J$562&$A$563:$J$563, $A$564:$J$564, \" \")","v":0},{"$f":"_xlfn.XLOOKUP(A452&D452, $A$562:$J$562&$A$563:$J$563, $A$565:$J$565, \" \")","v":{"v":0,"d":"$0.00"}}]
[null," "," ",null,{"$f":"_xlfn.XLOOKUP(A453&D453, $A$562:$J$562&$A$563:$J$563, $A$564:$J$564, \" \")","v":0},{"$f":"_xlfn.XLOOKUP(A453&D453, $A$562:$J$562&$A$563:$J$563, $A$565:$J$565, \" \")","v":{"v":0,"d":"$0.00"}}]
[null," "," ",null,{"$f":"_xlfn.XLOOKUP(A454&D454, $A$562:$J$562&$A$563:$J$563, $A$564:$J$564, \" \")","v":0},{"$f":"_xlfn.XLOOKUP(A454&D454, $A$562:$J$562&$A$563:$J$563, $A$565:$J$565, \" \")","v":{"v":0,"d":"$0.00"}}]
[null," "," ",null,{"$f":"_xlfn.XLOOKUP(A455&D455, $A$562:$J$562&$A$563:$J$563, $A$564:$J$564, \" \")","v":0},{"$f":"_xlfn.XLOOKUP(A455&D455, $A$562:$J$562&$A$563:$J$563, $A$565:$J$565, \" \")","v":{"v":0,"d":"$0.00"}}]
[null," "," ",null,{"$f":"_xlfn.XLOOKUP(A456&D456, $A$562:$J$562&$A$563:$J$563, $A$564:$J$564, \" \")","v":0},{"$f":"_xlfn.XLOOKUP(A456&D456, $A$562:$J$562&$A$563:$J$563, $A$565:$J$565, \" \")","v":{"v":0,"d":"$0.00"}}]
[null," "," ",null,{"$f":"_xlfn.XLOOKUP(A457&D457, $A$562:$J$562&$A$563:$J$563, $A$564:$J$564, \" \")","v":0},{"$f":"_xlfn.XLOOKUP(A457&D457, $A$562:$J$562&$A$563:$J$563, $A$565:$J$565, \" \")","v":{"v":0,"d":"$0.00"}}]
[null," "," ",null,{"$f":"_xlfn.XLOOKUP(A458&D458, $A$562:$J$562&$A$563:$J$563, $A$564:$J$564, \" \")","v":0},{"$f":"_xlfn.XLOOKUP(A458&D458, $A$562:$J$562&$A$563:$J$563, $A$565:$J$565, \" \")","v":{"v":0,"d":"$0.00"}}]
[null,{"$f":"IF(ISBLANK(A459), \" \", _xlfn.XLOOKUP(A459,$A$552:$C$552,$A$553:$C$553))","v":" "},{"$f":"IF(ISBLANK(A459), \" \", _xlfn.XLOOKUP(A459,$A$552:$C$552,$A$554:$C$554))","v":" "},null,{"$f":"_xlfn.XLOOKUP(A459&D459, $A$562:$J$562&$A$563:$J$563, $A$564:$J$564, \" \")","v":0},{"$f":"_xlfn.XLOOKUP(A459&D459, $A$562:$J$562&$A$563:$J$563, $A$565:$J$565, \" \")","v":{"v":0,"d":"$0.00"}}]
[null," "," ",null,{"$f":"_xlfn.XLOOKUP(A460&D460, $A$562:$J$562&$A$563:$J$563, $A$564:$J$564, \" \")","v":0},{"$f":"_xlfn.XLOOKUP(A460&D460, $A$562:$J$562&$A$563:$J$563, $A$565:$J$565, \" \")","v":{"v":0,"d":"$0.00"}}]
[null," "," ",null,{"$f":"_xlfn.XLOOKUP(A461&D461, $A$562:$J$562&$A$563:$J$563, $A$564:$J$564, \" \")","v":0},{"$f":"_xlfn.XLOOKUP(A461&D461, $A$562:$J$562&$A$563:$J$563, $A$565:$J$565, \" \")","v":{"v":0,"d":"$0.00"}}]
[null," "," ",null,{"$f":"_xlfn.XLOOKUP(A462&D462, $A$562:$J$562&$A$563:$J$563, $A$564:$J$564, \" \")","v":0},{"$f":"_xlfn.XLOOKUP(A462&D462, $A$562:$J$562&$A$563:$J$563, $A$565:$J$565, \" \")","v":{"v":0,"d":"$0.00"}}]
[null," "," ",null,{"$f":"_xlfn.XLOOKUP(A463&D463, $A$562:$J$562&$A$563:$J$563, $A$564:$J$564, \" \")","v":0},{"$f":"_xlfn.XLOOKUP(A463&D463, $A$562:$J$562&$A$563:$J$563, $A$565:$J$565, \" \")","v":{"v":0,"d":"$0.00"}}]
[null," "," ",null,{"$f":"_xlfn.XLOOKUP(A464&D464, $A$562:$J$562&$A$563:$J$563, $A$564:$J$564, \" \")","v":0},{"$f":"_xlfn.XLOOKUP(A464&D464, $A$562:$J$562&$A$563:$J$563, $A$565:$J$565, \" \")","v":{"v":0,"d":"$0.00"}}]
[null," "," ",null,{"$f":"_xlfn.XLOOKUP(A465&D465, $A$562:$J$562&$A$563:$J$563, $A$564:$J$564, \" \")","v":0},{"$f":"_xlfn.XLOOKUP(A465&D465, $A$562:$J$562&$A$563:$J$563, $A$565:$J$565, \" \")","v":{"v":0,"d":"$0.00"}}]
[null," "," ",null,{"$f":"_xlfn.XLOOKUP(A466&D466, $A$562:$J$562&$A$563:$J$563, $A$564:$J$564, \" \")","v":0},{"$f":"_xlfn.XLOOKUP(A466&D466, $A$562:$J$562&$A$563:$J$563, $A$565:$J$565, \" \")","v":{"v":0,"d":"$0.00"}}]
[null," "," ",null,{"$f":"_xlfn.XLOOKUP(A467&D467, $A$562:$J$562&$A$563:$J$563, $A$564:$J$564, \" \")","v":0},{"$f":"_xlfn.XLOOKUP(A467&D467, $A$562:$J$562&$A$563:$J$563, $A$565:$J$565, \" \")","v":{"v":0,"d":"$0.00"}}]
[null," "," ",null,{"$f":"_xlfn.XLOOKUP(A468&D468, $A$562:$J$562&$A$563:$J$563, $A$564:$J$564, \" \")","v":0},{"$f":"_xlfn.XLOOKUP(A468&D468, $A$562:$J$562&$A$563:$J$563, $A$565:$J$565, \" \")","v":{"v":0,"d":"$0.00"}}]
[null," "," ",null,{"$f":"_xlfn.XLOOKUP(A469&D469, $A$562:$J$562&$A$563:$J$563, $A$564:$J$564, \" \")","v":0},{"$f":"_xlfn.XLOOKUP(A469&D469, $A$562:$J$562&$A$563:$J$563, $A$565:$J$565, \" \")","v":{"v":0,"d":"$0.00"}}]
[null," "," ",null,{"$f":"_xlfn.XLOOKUP(A470&D470, $A$562:$J$562&$A$563:$J$563, $A$564:$J$564, \" \")","v":0},{"$f":"_xlfn.XLOOKUP(A470&D470, $A$562:$J$562&$A$563:$J$563, $A$565:$J$565, \" \")","v":{"v":0,"d":"$0.00"}}]
[null," "," ",null,{"$f":"_xlfn.XLOOKUP(A471&D471, $A$562:$J$562&$A$563:$J$563, $A$564:$J$564, \" \")","v":0},{"$f":"_xlfn.XLOOKUP(A471&D471, $A$562:$J$562&$A$563:$J$563, $A$565:$J$565, \" \")","v":{"v":0,"d":"$0.00"}}]
[null," "," ",null,{"$f":"_xlfn.XLOOKUP(A472&D472, $A$562:$J$562&$A$563:$J$563, $A$564:$J$564, \" \")","v":0},{"$f":"_xlfn.XLOOKUP(A472&D472, $A$562:$J$562&$A$563:$J$563, $A$565:$J$565, \" \")","v":{"v":0,"d":"$0.00"}}]
[null," "," ",null,{"$f":"_xlfn.XLOOKUP(A473&D473, $A$562:$J$562&$A$563:$J$563, $A$564:$J$564, \" \")","v":0},{"$f":"_xlfn.XLOOKUP(A473&D473, $A$562:$J$562&$A$563:$J$563, $A$565:$J$565, \" \")","v":{"v":0,"d":"$0.00"}}]
[null," "," ",null,{"$f":"_xlfn.XLOOKUP(A474&D474, $A$562:$J$562&$A$563:$J$563, $A$564:$J$564, \" \")","v":0},{"$f":"_xlfn.XLOOKUP(A474&D474, $A$562:$J$562&$A$563:$J$563, $A$565:$J$565, \" \")","v":{"v":0,"d":"$0.00"}}]
[null," "," ",null,{"$f":"_xlfn.XLOOKUP(A475&D475, $A$562:$J$562&$A$563:$J$563, $A$564:$J$564, \" \")","v":0},{"$f":"_xlfn.XLOOKUP(A475&D475, $A$562:$J$562&$A$563:$J$563, $A$565:$J$565, \" \")","v":{"v":0,"d":"$0.00"}}]
[null," "," ",null,{"$f":"_xlfn.XLOOKUP(A476&D476, $A$562:$J$562&$A$563:$J$563, $A$564:$J$564, \" \")","v":0},{"$f":"_xlfn.XLOOKUP(A476&D476, $A$562:$J$562&$A$563:$J$563, $A$565:$J$565, \" \")","v":{"v":0,"d":"$0.00"}}]
[null," "," ",null,{"$f":"_xlfn.XLOOKUP(A477&D477, $A$562:$J$562&$A$563:$J$563, $A$564:$J$564, \" \")","v":0},{"$f":"_xlfn.XLOOKUP(A477&D477, $A$562:$J$562&$A$563:$J$563, $A$565:$J$565, \" \")","v":{"v":0,"d":"$0.00"}}]
[null," "," ",null,{"$f":"_xlfn.XLOOKUP(A478&D478, $A$562:$J$562&$A$563:$J$563, $A$564:$J$564, \" \")","v":0},{"$f":"_xlfn.XLOOKUP(A478&D478, $A$562:$J$562&$A$563:$J$563, $A$565:$J$565, \" \")","v":{"v":0,"d":"$0.00"}}]
[null," "," ",null,{"$f":"_xlfn.XLOOKUP(A479&D479, $A$562:$J$562&$A$563:$J$563, $A$564:$J$564, \" \")","v":0},{"$f":"_xlfn.XLOOKUP(A479&D479, $A$562:$J$562&$A$563:$J$563, $A$565:$J$565, \" \")","v":{"v":0,"d":"$0.00"}}]
[null," "," ",null,{"$f":"_xlfn.XLOOKUP(A480&D480, $A$562:$J$562&$A$563:$J$563, $A$564:$J$564, \" \")","v":0},{"$f":"_xlfn.XLOOKUP(A480&D480, $A$562:$J$562&$A$563:$J$563, $A$565:$J$565, \" \")","v":{"v":0,"d":"$0.00"}}]
[null," "," ",null,{"$f":"_xlfn.XLOOKUP(A481&D481, $A$562:$J$562&$A$563:$J$563, $A$564:$J$564, \" \")","v":0},{"$f":"_xlfn.XLOOKUP(A481&D481, $A$562:$J$562&$A$563:$J$563, $A$565:$J$565, \" \")","v":{"v":0,"d":"$0.00"}}]
[null," "," ",null,{"$f":"_xlfn.XLOOKUP(A482&D482, $A$562:$J$562&$A$563:$J$563, $A$564:$J$564, \" \")","v":0},{"$f":"_xlfn.XLOOKUP(A482&D482, $A$562:$J$562&$A$563:$J$563, $A$565:$J$565, \" \")","v":{"v":0,"d":"$0.00"}}]
[null," "," ",null,{"$f":"_xlfn.XLOOKUP(A483&D483, $A$562:$J$562&$A$563:$J$563, $A$564:$J$564, \" \")","v":0},{"$f":"_xlfn.XLOOKUP(A483&D483, $A$562:$J$562&$A$563:$J$563, $A$565:$J$565, \" \")","v":{"v":0,"d":"$0.00"}}]
[null," "," ",null,{"$f":"_xlfn.XLOOKUP(A484&D484, $A$562:$J$562&$A$563:$J$563, $A$564:$J$564, \" \")","v":0},{"$f":"_xlfn.XLOOKUP(A484&D484, $A$562:$J$562&$A$563:$J$563, $A$565:$J$565, \" \")","v":{"v":0,"d":"$0.00"}}]
[null," "," ",null,{"$f":"_xlfn.XLOOKUP(A485&D485, $A$562:$J$562&$A$563:$J$563, $A$564:$J$564, \" \")","v":0},{"$f":"_xlfn.XLOOKUP(A485&D485, $A$562:$J$562&$A$563:$J$563, $A$565:$J$565, \" \")","v":{"v":0,"d":"$0.00"}}]
[null," "," ",null,{"$f":"_xlfn.XLOOKUP(A486&D486, $A$562:$J$562&$A$563:$J$563, $A$564:$J$564, \" \")","v":0},{"$f":"_xlfn.XLOOKUP(A486&D486, $A$562:$J$562&$A$563:$J$563, $A$565:$J$565, \" \")","v":{"v":0,"d":"$0.00"}}]
[null," "," ",null,{"$f":"_xlfn.XLOOKUP(A487&D487, $A$562:$J$562&$A$563:$J$563, $A$564:$J$564, \" \")","v":0},{"$f":"_xlfn.XLOOKUP(A487&D487, $A$562:$J$562&$A$563:$J$563, $A$565:$J$565, \" \")","v":{"v":0,"d":"$0.00"}}]
[null," "," ",null,{"$f":"_xlfn.XLOOKUP(A488&D488, $A$562:$J$562&$A$563:$J$563, $A$564:$J$564, \" \")","v":0},{"$f":"_xlfn.XLOOKUP(A488&D488, $A$562:$J$562&$A$563:$J$563, $A$565:$J$565, \" \")","v":{"v":0,"d":"$0.00"}}]
[null," "," ",null,{"$f":"_xlfn.XLOOKUP(A489&D489, $A$562:$J$562&$A$563:$J$563, $A$564:$J$564, \" \")","v":0},{"$f":"_xlfn.XLOOKUP(A489&D489, $A$562:$J$562&$A$563:$J$563, $A$565:$J$565, \" \")","v":{"v":0,"d":"$0.00"}}]
[null,{"$f":"IF(ISBLANK(A490), \" \", _xlfn.XLOOKUP(A490,$A$552:$C$552,$A$553:$C$553))","v":" "}," ",null,{"$f":"_xlfn.XLOOKUP(A490&D490, $A$562:$J$562&$A$563:$J$563, $A$564:$J$564, \" \")","v":0},{"$f":"_xlfn.XLOOKUP(A490&D490, $A$562:$J$562&$A$563:$J$563, $A$565:$J$565, \" \")","v":{"v":0,"d":"$0.00"}}]
[null," "," ",null,{"$f":"_xlfn.XLOOKUP(A491&D491, $A$562:$J$562&$A$563:$J$563, $A$564:$J$564, \" \")","v":0},{"$f":"_xlfn.XLOOKUP(A491&D491, $A$562:$J$562&$A$563:$J$563, $A$565:$J$565, \" \")","v":{"v":0,"d":"$0.00"}}]
[null," "," ",null,{"$f":"_xlfn.XLOOKUP(A492&D492, $A$562:$J$562&$A$563:$J$563, $A$564:$J$564, \" \")","v":0},{"$f":"_xlfn.XLOOKUP(A492&D492, $A$562:$J$562&$A$563:$J$563, $A$565:$J$565, \" \")","v":{"v":0,"d":"$0.00"}}]
[null," "," ",null,{"$f":"_xlfn.XLOOKUP(A493&D493, $A$562:$J$562&$A$563:$J$563, $A$564:$J$564, \" \")","v":0},{"$f":"_xlfn.XLOOKUP(A493&D493, $A$562:$J$562&$A$563:$J$563, $A$565:$J$565, \" \")","v":{"v":0,"d":"$0.00"}}]
[null," "," ",null,{"$f":"_xlfn.XLOOKUP(A494&D494, $A$562:$J$562&$A$563:$J$563, $A$564:$J$564, \" \")","v":0},{"$f":"_xlfn.XLOOKUP(A494&D494, $A$562:$J$562&$A$563:$J$563, $A$565:$J$565, \" \")","v":{"v":0,"d":"$0.00"}}]
[null," "," ",null,{"$f":"_xlfn.XLOOKUP(A495&D495, $A$562:$J$562&$A$563:$J$563, $A$564:$J$564, \" \")","v":0},{"$f":"_xlfn.XLOOKUP(A495&D495, $A$562:$J$562&$A$563:$J$563, $A$565:$J$565, \" \")","v":{"v":0,"d":"$0.00"}}]
[null," "," ",null,{"$f":"_xlfn.XLOOKUP(A496&D496, $A$562:$J$562&$A$563:$J$563, $A$564:$J$564, \" \")","v":0},{"$f":"_xlfn.XLOOKUP(A496&D496, $A$562:$J$562&$A$563:$J$563, $A$565:$J$565, \" \")","v":{"v":0,"d":"$0.00"}}]
[null," "," ",null,{"$f":"_xlfn.XLOOKUP(A497&D497, $A$562:$J$562&$A$563:$J$563, $A$564:$J$564, \" \")","v":0},{"$f":"_xlfn.XLOOKUP(A497&D497, $A$562:$J$562&$A$563:$J$563, $A$565:$J$565, \" \")","v":{"v":0,"d":"$0.00"}}]
[null," "," ",null,{"$f":"_xlfn.XLOOKUP(A498&D498, $A$562:$J$562&$A$563:$J$563, $A$564:$J$564, \" \")","v":0},{"$f":"_xlfn.XLOOKUP(A498&D498, $A$562:$J$562&$A$563:$J$563, $A$565:$J$565, \" \")","v":{"v":0,"d":"$0.00"}}]
[null," "," ",null,{"$f":"_xlfn.XLOOKUP(A499&D499, $A$562:$J$562&$A$563:$J$563, $A$564:$J$564, \" \")","v":0},{"$f":"_xlfn.XLOOKUP(A499&D499, $A$562:$J$562&$A$563:$J$563, $A$565:$J$565, \" \")","v":{"v":0,"d":"$0.00"}}]
[null," "," ",null,{"$f":"_xlfn.XLOOKUP(A500&D500, $A$562:$J$562&$A$563:$J$563, $A$564:$J$564, \" \")","v":0},{"$f":"_xlfn.XLOOKUP(A500&D500, $A$562:$J$562&$A$563:$J$563, $A$565:$J$565, \" \")","v":{"v":0,"d":"$0.00"}}]
[null," "," ",null,{"$f":"_xlfn.XLOOKUP(A501&D501, $A$562:$J$562&$A$563:$J$563, $A$564:$J$564, \" \")","v":0},{"$f":"_xlfn.XLOOKUP(A501&D501, $A$562:$J$562&$A$563:$J$563, $A$565:$J$565, \" \")","v":{"v":0,"d":"$0.00"}}]
[null," "," ",null,{"$f":"_xlfn.XLOOKUP(A502&D502, $A$562:$J$562&$A$563:$J$563, $A$564:$J$564, \" \")","v":0},{"$f":"_xlfn.XLOOKUP(A502&D502, $A$562:$J$562&$A$563:$J$563, $A$565:$J$565, \" \")","v":{"v":0,"d":"$0.00"}}]
[null," "," ",null,{"$f":"_xlfn.XLOOKUP(A503&D503, $A$562:$J$562&$A$563:$J$563, $A$564:$J$564, \" \")","v":0},{"$f":"_xlfn.XLOOKUP(A503&D503, $A$562:$J$562&$A$563:$J$563, $A$565:$J$565, \" \")","v":{"v":0,"d":"$0.00"}}]
[null," "," ",null,{"$f":"_xlfn.XLOOKUP(A504&D504, $A$562:$J$562&$A$563:$J$563, $A$564:$J$564, \" \")","v":0},{"$f":"_xlfn.XLOOKUP(A504&D504, $A$562:$J$562&$A$563:$J$563, $A$565:$J$565, \" \")","v":{"v":0,"d":"$0.00"}}]
[null," "," ",null,{"$f":"_xlfn.XLOOKUP(A505&D505, $A$562:$J$562&$A$563:$J$563, $A$564:$J$564, \" \")","v":0},{"$f":"_xlfn.XLOOKUP(A505&D505, $A$562:$J$562&$A$563:$J$563, $A$565:$J$565, \" \")","v":{"v":0,"d":"$0.00"}}]
[null," "," ",null,{"$f":"_xlfn.XLOOKUP(A506&D506, $A$562:$J$562&$A$563:$J$563, $A$564:$J$564, \" \")","v":0},{"$f":"_xlfn.XLOOKUP(A506&D506, $A$562:$J$562&$A$563:$J$563, $A$565:$J$565, \" \")","v":{"v":0,"d":"$0.00"}}]
[null," "," ",null,{"$f":"_xlfn.XLOOKUP(A507&D507, $A$562:$J$562&$A$563:$J$563, $A$564:$J$564, \" \")","v":0},{"$f":"_xlfn.XLOOKUP(A507&D507, $A$562:$J$562&$A$563:$J$563, $A$565:$J$565, \" \")","v":{"v":0,"d":"$0.00"}}]
[null," "," ",null,{"$f":"_xlfn.XLOOKUP(A508&D508, $A$562:$J$562&$A$563:$J$563, $A$564:$J$564, \" \")","v":0},{"$f":"_xlfn.XLOOKUP(A508&D508, $A$562:$J$562&$A$563:$J$563, $A$565:$J$565, \" \")","v":{"v":0,"d":"$0.00"}}]
[null," "," ",null,{"$f":"_xlfn.XLOOKUP(A509&D509, $A$562:$J$562&$A$563:$J$563, $A$564:$J$564, \" \")","v":0},{"$f":"_xlfn.XLOOKUP(A509&D509, $A$562:$J$562&$A$563:$J$563, $A$565:$J$565, \" \")","v":{"v":0,"d":"$0.00"}}]
[null," "," ",null,{"$f":"_xlfn.XLOOKUP(A510&D510, $A$562:$J$562&$A$563:$J$563, $A$564:$J$564, \" \")","v":0},{"$f":"_xlfn.XLOOKUP(A510&D510, $A$562:$J$562&$A$563:$J$563, $A$565:$J$565, \" \")","v":{"v":0,"d":"$0.00"}}]
[]
["Scores: ",null,"Back to Top"]
[]
["Contract Number","Measurement/Calendar Year","Year 1","Year 2","Year 3","Three Year Average","Total Points Available","Points Earned"]
[{"$f":"'Respondent Information'!D6","v":0},"Attributed Enrollee Count (exclude overlap, LAN 2A+).",{"$f":"SUMIFS(O11:O510,A11:A510, A515, D11:D510, K553)","v":0},{"$f":"SUMIFS(O11:O510,A11:A510, A515, D11:D510, K554)","v":0},{"$f":"SUMIFS(O11:O510,A11:A510, A515, D11:D510, K555)","v":0},{"$f":"AVERAGE(C517:E517)","v":{"v":0,"d":"0.00%"}},20,{"$f":"IF(F515>=0.2, 20, IF(F515>=0.1, 10, IF(F515>=0.05, 5, IF(F515>=0.01, 1, 0))))","v":0}]
[null,"Total Enrollee Count in Contract. All Enrollees covered by Managed Care Plan (Member Months/12).",{"$f":"A564","v":0},{"$f":"B564","v":0},{"$f":"C564","v":0}]
[null,"Average percentage of attributed enrollees in VBP agreement",{"$f":"IF(ISERROR(C515/C516),0, IF((C515/C516>1), \"ERROR\", C515/C516))","v":{"v":0,"d":"0.00%"}},{"$f":"IF(ISERROR(D515/D516),0, IF((D515/D516>1), \"ERROR\", D515/D516))","v":{"v":0,"d":"0.00%"}},{"$f":"IF(ISERROR(E515/E516),0, IF((E515/E516>1), \"ERROR\", E515/E516))","v":{"v":0,"d":"0.00%"}}]
[null,"Measured Claim-Based Expenditures for Attributed Enrollees (exclude overlap; LAN 3A+).",{"$f":"SUMIFS(T11:T510,A11:A510, A515, D11:D510, K553)","v":{"v":0,"d":"$0"}},{"$f":"SUMIFS(T11:T510,A11:A510, A515, D11:D510, K554)","v":{"v":0,"d":"$0"}},{"$f":"SUMIFS(T11:T510,A11:A510, A515, D11:D510, K555)","v":{"v":0,"d":"$0"}},{"$f":"AVERAGE(C520:E520)","v":{"v":0,"d":"0.00%"}},20,{"$f":"IF(F518>=0.2, 20, IF(F518>=0.1, 10, IF(F518>=0.05, 5, IF(F518>=0.01, 1, 0))))","v":0}]
[null,"Total Claim-Based Expenditures for all Medicaid beneficiaries.",{"$f":"A565","v":{"v":0,"d":"$0"}},{"$f":"B565","v":{"v":0,"d":"$0"}},{"$f":"C565","v":{"v":0,"d":"$0"}}]
[null,"Average percentage of claim-based expenditures",{"$f":"IF(ISERROR(C518/C519),0, IF((C518/C519>1), \"ERROR\", C518/C519))","v":{"v":0,"d":"0.00%"}},{"$f":"IF(ISERROR(D518/D519),0, IF((D518/D519>1), \"ERROR\", D518/D519))","v":{"v":0,"d":"0.00%"}},{"$f":"IF(ISERROR(E518/E519),0, IF((E518/E519>1), \"ERROR\", E518/E519))","v":{"v":0,"d":"0.00%"}}]
[null,"State Points Earned:",{"$nulls":5},{"$f":"SUM(H515:H519)","v":0}]
[null,"Weighted State Points Earned:",{"$nulls":5},{"$f":"IF('Respondent Information'!C6=\"Florida\", H521*1, H521*0.9)","v":0}]
[{"$f":"'Respondent Information'!D9","v":0},"Attributed Enrollee Count (exclude overlap, LAN 2A+).",{"$f":"SUMIFS(O11:O510,A11:A510, A523, D11:D510, L553)","v":0},{"$f":"SUMIFS(O11:O510,A11:A510, A523, D11:D510, L554)","v":0},{"$f":"SUMIFS(O11:O510,A11:A510, A523, D11:D510, L555)","v":0},{"$f":"AVERAGE(C525:E525)","v":{"v":0,"d":"0.00%"}},20,{"$f":"IF(F523>=0.2, 20, IF(F523>=0.1, 10, IF(F523>=0.05, 5, IF(F523>=0.01, 1, 0))))","v":0}]
[null,"Total Enrollee Count in Contract. All Enrollees covered by Managed Care Plan (Member Months/12).",{"$f":"D564","v":0},{"$f":"E564","v":0},{"$f":"F564","v":0}]
[null,"Average percentage of attributed enrollees in VBP agreement",{"$f":"IF(ISERROR(C523/C524),0, IF((C523/C524>1), \"ERROR\", C523/C524))","v":{"v":0,"d":"0.00%"}},{"$f":"IF(ISERROR(D523/D524),0, IF((D523/D524>1), \"ERROR\", D523/D524))","v":{"v":0,"d":"0.00%"}},{"$f":"IF(ISERROR(E523/E524),0, IF((E523/E524>1), \"ERROR\", E523/E524))","v":{"v":0,"d":"0.00%"}}]
[null,"Measured Claim-Based Expenditures for Attributed Enrollees (exclude overlap; LAN 3A+).",{"$f":"SUMIFS(T11:T510,A11:A510, A523, D11:D510, L553)","v":{"v":0,"d":"$0"}},{"$f":"SUMIFS(T11:T510,A11:A510, A523, D11:D510, L554)","v":{"v":0,"d":"$0"}},{"$f":"SUMIFS(T11:T510,A11:A510, A523, D11:D510, L555)","v":{"v":0,"d":"$0"}},{"$f":"AVERAGE(C528:E528)","v":{"v":0,"d":"0.00%"}},20,{"$f":"IF(F526>=0.2, 20, IF(F526>=0.1, 10, IF(F526>=0.05, 5, IF(F526>=0.01, 1, 0))))","v":0}]
[null,"Total Claim-Based Expenditures for all Medicaid beneficiaries.",{"$f":"D565","v":{"v":0,"d":"$0"}},{"$f":"E565","v":{"v":0,"d":"$0"}},{"$f":"F565","v":{"v":0,"d":"$0"}}]
[null,"Average percentage of claim-based expenditures",{"$f":"IF(ISERROR(C526/C527),0, IF((C526/C527>1), \"ERROR\", C526/C527))","v":{"v":0,"d":"0.00%"}},{"$f":"IF(ISERROR(D526/D527),0, IF((D526/D527>1), \"ERROR\", D526/D527))","v":{"v":0,"d":"0.00%"}},{"$f":"IF(ISERROR(E526/E527),0, IF((E526/E527>1), \"ERROR\", E526/E527))","v":{"v":0,"d":"0.00%"}}]
[null,"State Points Earned:",{"$nulls":5},{"$f":"SUM(H523:H527)","v":0}]
[null,"Weighted State Points Earned:",{"$nulls":5},{"$f":"IF('Respondent Information'!C9=\"Florida\", H529*1, H529*0.9)","v":0}]
[{"$f":"'Respondent Information'!D12","v":0},"Attributed Enrollee Count (exclude overlap, LAN 2A+).",{"$f":"SUMIFS(O11:O510,A11:A510, A531, D11:D510, M553)","v":0},{"$f":"SUMIFS(O11:O510,A11:A510, A531, D11:D510, M554)","v":0},{"$f":"SUMIFS(O11:O510,A11:A510, A531, D11:D510, M555)","v":0},{"$f":"AVERAGE(C533:E533)","v":{"v":0,"d":"0.00%"}},20,{"$f":"IF(F531>=0.2, 20, IF(F531>=0.1, 10, IF(F531>=0.05, 5, IF(F531>=0.01, 1, 0))))","v":0}]
[null,"Total Enrollee Count in Contract. All Enrollees covered by Managed Care Plan (Member Months/12).",{"$f":"G564","v":0},{"$f":"H564","v":0},{"$f":"J564","v":0}]
[null,"Average percentage of attributed enrollees in VBP agreement",{"$f":"IF(ISERROR(C531/C532),0, IF((C531/C532>1), \"ERROR\", C531/C532))","v":{"v":0,"d":"0.00%"}},{"$f":"IF(ISERROR(D531/D532),0, IF((D531/D532>1), \"ERROR\", D531/D532))","v":{"v":0,"d":"0.00%"}},{"$f":"IF(ISERROR(E531/E532),0, IF((E531/E532>1), \"ERROR\", E531/E532))","v":{"v":0,"d":"0.00%"}}]
[null,"Measured Claim-Based Expenditures for Attributed Enrollees (exclude overlap; LAN 3A+).",{"$f":"SUMIFS(T11:T510,A11:A510, A531, D11:D510, M553)","v":{"v":0,"d":"$0"}},{"$f":"SUMIFS(T11:T510,A11:A510, A531, D11:D510, M554)","v":{"v":0,"d":"$0"}},{"$f":"SUMIFS(T11:T510,A11:A510, A531, D11:D510, M555)","v":{"v":0,"d":"$0"}},{"$f":"AVERAGE(C536:E536)","v":{"v":0,"d":"0.00%"}},20,{"$f":"IF(F534>=0.2, 20, IF(F534>=0.1, 10, IF(F534>=0.05, 5, IF(F534>=0.01, 1, 0))))","v":0}]
[null,"Total Claim-Based Expenditures for all Medicaid beneficiaries.",{"$f":"G565","v":{"v":0,"d":"$0"}},{"$f":"H565","v":{"v":0,"d":"$0"}},{"$f":"J565","v":{"v":0,"d":"$0"}}]
[null,"Average percentage of claim-based expenditures",{"$f":"IF(ISERROR(C534/C535),0, IF((C534/C535>1), \"ERROR\", C534/C535))","v":{"v":0,"d":"0.00%"}},{"$f":"IF(ISERROR(D534/D535),0, IF((D534/D535>1), \"ERROR\", D534/D535))","v":{"v":0,"d":"0.00%"}},{"$f":"IF(ISERROR(E534/E535),0, IF((E534/E535>1), \"ERROR\", E534/E535))","v":{"v":0,"d":"0.00%"}}]
[null,"State Points Earned:",{"$nulls":5},{"$f":"SUM(H531:H536)","v":0}]
[null,"Weighted State Points Earned:",{"$nulls":5},{"$f":"IF('Respondent Information'!C12=\"Florida\", H537*1, H537*0.9)","v":0}]
["Total Points Earned:",{"$nulls":6},{"$f":"H522+H530+H538","v":0}]
[]
[]
[]
[]
[]
[{"$nulls":18},{"$f":"_xlfn.XLOOKUP($L545&S544, $A$562:$J$562&$A$563:$J$563, $A$564:$J$564, \" \")","v":0},{"$f":"_xlfn.XLOOKUP($L545&T544, $A$562:$J$562&$A$563:$J$563, $A$564:$J$564, \" \")","v":0}]
[{"$nulls":18},{"$f":"_xlfn.XLOOKUP($L546&S544, $A$562:$J$562&$A$563:$J$563, $A$564:$J$564, \" \")","v":0},{"$f":"_xlfn.XLOOKUP($L546&T544, $A$562:$J$562&$A$563:$J$563, $A$564:$J$564, \" \")","v":0}]
[{"$nulls":18},{"$f":"_xlfn.XLOOKUP($L547&S544, $A$562:$J$562&$A$563:$J$563, $A$564:$J$564, \" \")","v":0},{"$f":"_xlfn.XLOOKUP($L547&T544, $A$562:$J$562&$A$563:$J$563, $A$564:$J$564, \" \")","v":0}]
[]
[]
[]
[]
[{"$f":"'Respondent Information'!D6","v":0},{"$f":"'Respondent Information'!D9","v":0},{"$f":"'Respondent Information'!D12","v":0},"<- Contract #s",{"$f":"A553","v":0},{"$f":"B553","v":0},{"$f":"C553","v":0},"Old Formulas, for reference",null,null,"Min State 1","Min State 2","Min State 3"]
[{"$f":"'Respondent Information'!C6","v":0},{"$f":"'Respondent Information'!C9","v":0},{"$f":"'Respondent Information'!C12","v":0},{"$nulls":4},"=MINIFS(B11:B510,A11:A510,A552:C552)",null,"Year 1",{"$f":"'Respondent Information'!I5","v":0},{"$f":"'Respondent Information'!I9","v":0},{"$f":"'Respondent Information'!I12","v":0}]
[{"$f":"'Respondent Information'!E6","v":0},{"$f":"'Respondent Information'!E9","v":0},{"$f":"'Respondent Information'!E12","v":0},{"$nulls":4},"=MAXIFS(B11:B510,A11:A510,A552:C552)-1",null,"Year 2",{"$f":"'Respondent Information'!K5","v":0},{"$f":"'Respondent Information'!K9","v":0},{"$f":"'Respondent Information'!K12","v":0}]
[{"$f":"'Respondent Information'!I5","v":0},{"$f":"'Respondent Information'!I9","v":0},{"$f":"'Respondent Information'!I12","v":0},{"$nulls":4},"=MAXIFS(B11:B510,A11:A510,A552:C552)",null,"Year 3",{"$f":"'Respondent Information'!M5","v":0},{"$f":"'Respondent Information'!M9","v":0},{"$f":"'Respondent Information'!M12","v":0}]
[{"$f":"'Respondent Information'!K5","v":0},{"$f":"'Respondent Information'!K9","v":0},{"$f":"'Respondent Information'!K12","v":0}]
[{"$f":"'Respondent Information'!M5","v":0},{"$f":"'Respondent Information'!M9","v":0},{"$f":"'Respondent Information'!M12","v":0}]
[{"$nulls":4},{"$f":"E552","v":0},{"$f":"F552","v":0},{"$f":"G552","v":0}]
[]
[]
[{"$nulls":11},1]
[{"$f":"$A$552","v":0},{"$f":"$A$552","v":0},{"$f":"$A$552","v":0},{"$f":"$B$552","v":0},{"$f":"$B$552","v":0},{"$f":"$B$552","v":0},{"$f":"$C$552","v":0},{"$f":"$C$552","v":0},null,{"$f":"$C$552","v":0},null,2]
[{"$f":"A555","v":0},{"$f":"A556","v":0},{"$f":"A557","v":0},{"$f":"B555","v":0},{"$f":"B556","v":0},{"$f":"B557","v":0},{"$f":"C555","v":0},{"$f":"C556","v":0},null,{"$f":"C557","v":0},null,3]
[{"$f":"'Respondent Information'!I7","v":0},{"$f":"'Respondent Information'!K7","v":0},{"$f":"'Respondent Information'!M7","v":0},{"$f":"'Respondent Information'!I10","v":0},{"$f":"'Respondent Information'!K10","v":0},{"$f":"'Respondent Information'!M10","v":0},{"$f":"'Respondent Information'!I13","v":0},{"$f":"'Respondent Information'!K13","v":0},null,{"$f":"'Respondent Information'!M13","v":0},null,4]
[{"$f":"'Respondent Information'!I8","v":{"v":0,"d":"$0"}},{"$f":"'Respondent Information'!K8","v":{"v":0,"d":"$0"}},{"$f":"'Respondent Information'!M8","v":{"v":0,"d":"$0"}},{"$f":"'Respondent Information'!I11","v":{"v":0,"d":"$0"}},{"$f":"'Respondent Information'!K11","v":{"v":0,"d":"$0"}},{"$f":"'Respondent Information'!M11","v":{"v":0,"d":"$0"}},{"$f":"'Respondent Information'!I14","v":{"v":0,"d":"$0"}},{"$f":"'Respondent Information'!K14","v":{"v":0,"d":"$0"}},null,{"$f":"'Respondent Information'!M14","v":{"v":0,"d":"$0"}},null,5]
[{"$nulls":11},6]
[{"$nulls":11},7]
[{"$nulls":11},8]
[{"$nulls":11},9]
[{"$nulls":11},10]
[{"$nulls":11},11]

{"sheet":"Scoring-Expanded Benefits","index":5,"n_rows":4,"n_cols":1,"rows_kept":4,"merged":[[3,0,3,3]]}
["SRC #14: Expanded Benefits - Medical and Long-Term Care "]
["Scoring Information"]
[]
["Back to Respondent Information"]

{"sheet":"Expanded Benefits","index":6,"n_rows":149,"n_cols":18,"rows_kept":149,"merged":[[11,0,11,1],[22,0,22,9],[23,0,23,1],[24,0,24,1],[25,0,25,1],[26,0,26,1],[27,0,27,1],[28,0,28,1],[29,0,29,1],[30,0,30,1],[31,0,31,1],[32,0,32,1],[33,0,33,1],[34,0,34,1],[35,0,35,1],[36,0,36,1],[37,0,37,1],[38,0,38,1],[39,0,39,1],[40,0,40,1],[41,0,41,1],[42,0,42,1],[43,0,43,1],[44,0,44,1],[45,0,45,1],[46,0,46,1],[47,0,47,1],[48,0,48,1],[49,0,49,9],[50,0,50,1],[51,0,51,1],[52,0,52,1],[53,0,53,1],[54,0,54,1],[55,0,55,1],[56,0,56,1],[57,0,57,1],[58,0,58,1],[59,0,59,1],[60,0,60,1],[61,0,61,1],[62,0,62,1],[63,0,63,1],[64,0,64,1],[65,0,65,1],[66,0,66,1],[67,0,67,1],[68,0,68,1],[69,0,69,1],[70,0,70,1],[71,0,71,1],[72,0,72,1],[73,0,73,1],[74,0,74,1],[75,0,75,1],[76,0,76,9],[77,0,77,1],[78,0,78,1],[79,0,79,1],[80,0,80,1],[81,0,81,1],[82,0,82,1],[83,0,83,1],[84,0,84,1],[85,0,85,1],[86,0,86,1],[87,0,87,1],[88,0,88,1],[89,0,89,1],[90,0,90,1],[91,0,91,1],[92,0,92,1],[93,0,93,1],[94,0,94,1],[95,0,95,1],[96,0,96,1],[97,0,97,1],[98,0,98,1],[99,0,99,1],[100,0,100,1],[101,0,101,1],[102,0,102,1],[103,0,103,9],[104,0,104,1],[105,0,105,1],[106,0,106,1],[107,0,107,1],[108,0,108,1],[109,0,109,1],[110,0,110,1],[111,0,111,1],[112,0,112,1],[113,0,113,1],[114,0,114,1],[115,0,115,1],[116,0,116,1],[117,0,117,1],[118,0,118,1],[119,0,119,1],[120,0,120,1],[121,0,121,1],[122,0,122,1],[123,0,123,1],[124,0,124,1],[125,0,125,1],[126,0,126,1],[127,0,127,1],[128,0,128,1],[129,0,129,1],[131,0,131,1],[143,0,143,2],[148,0,148,1]]}
["SRC #14: Expanded Benefits - Medical and Long-Term Care",null,null,"Back to Respondent Information"]
[]
["Item","Score"]
["Total Points Possible:",195]
["Points Earned:",{"$f":"C149","v":0}]
["Percent:",{"$f":"B5/B4","v":{"v":0,"d":"0%"}}]
["Final Score Possible:",370]
["Expanded Benefits SRC Final Score:",{"$f":"B6*B7","v":0}]
[{"$nulls":17},"Yes"]
[null,"Florida",{"$nulls":15},"No"]
["Line of Business:","Medicaid"]
["The respondent must Indicate “yes” or “no” for each of the following categories of Expanded Benefits it proposes to offer to its enrollees. Complete the highlighted cells in Column H and Column I of Exhibit A-5-a-1 for all service rows in each category selected. "]
[null,"Offered"]
["Over-the-Counter (OTC) medications and supplies"]
["Adult visual aid services"]
["Adult additional primary care services"]
["Prenatal Services"]
["Durable medical Equipment (DME) services and supplies"]
["Physical therapy for adults"]
["Newborn circumcision"]
["Hearing services for adults"]
["Occupational therapy for adults"]
["EXPANDED BENEFITS: PREGNANT WOMEN\nNote: By completing this category, the Respondent is agreeing to offer all procedures within the category."]
["Category",null,"Sub-Category","Procedure Code Description","Procedure Code","Min Age","Max Age","Current Florida Medicaid Coverage (Adult)","Expanded Benefit Coverage (Units)","PMPM Cost",null,"FORMULA COLUMN"]
[{"$nulls":11},{"$f":"IF(AND(NOT(ISBLANK(A25)),NOT(ISBLANK(C25)), NOT(ISBLANK(D25)), NOT(ISBLANK(E25)), NOT(ISBLANK(F25)), NOT(ISBLANK(G25)), NOT(ISBLANK(H25)), NOT(ISBLANK(I25)), NOT(ISBLANK(J25))), 1, 0)","v":0}]
{"$rows_empty":24}
["EXPANDED BENEFITS: CHILDREN AND ADOLESCENTS WITH A SERIOUS MENTAL ILLNESS AND/OR SUBSTANCE USE DISORDER\nNote: By completing this category, the Respondent is agreeing to offer all procedures within the category."]
["Category",null,"Sub-Category","Procedure Code Description","Procedure Code","Min Age","Max Age","Current Florida Medicaid Coverage (Adult)","Expanded Benefit Coverage (Units)","PMPM Cost"]
[{"$nulls":11},{"$f":"IF(AND(NOT(ISBLANK(A52)),NOT(ISBLANK(C52)), NOT(ISBLANK(D52)), NOT(ISBLANK(E52)), NOT(ISBLANK(F52)), NOT(ISBLANK(G52)), NOT(ISBLANK(H52)), NOT(ISBLANK(I52)), NOT(ISBLANK(J52))), 1, 0)","v":0}]
{"$rows_empty":24}
["EXPANDED BENEFITS: ENROLLEES IN A HOME AND COMMUNITY-BASED SETTING, SUCH AS PEOPLE WITH DEVELOPMENTAL DISABILITIES, \nFAMILIAL DYSAUTONOMIA, OR PEOPLE IN  LONG TERM CARE SETTINGS\nNote: By completing this category, the Respondent is agreeing to offer all procedures within the category."]
["Category",null,"Sub-Category","Procedure Code Description","Procedure Code","Min Age","Max Age","Current Florida Medicaid Coverage (Adult)","Expanded Benefit Coverage (Units)","PMPM Cost"]
[{"$nulls":11},{"$f":"IF(AND(NOT(ISBLANK(A79)),NOT(ISBLANK(C79)), NOT(ISBLANK(D79)), NOT(ISBLANK(E79)), NOT(ISBLANK(F79)), NOT(ISBLANK(G79)), NOT(ISBLANK(H79)), NOT(ISBLANK(I79)), NOT(ISBLANK(J79))), 1, 0)","v":0}]
{"$rows_empty":24}
["EXPANDED BENEFITS: ENROLLEES LIVING WITH HIV\nNote: By completing this category, the Respondent is agreeing to offer all procedures within the category."]
["Category",null,"Sub-Category","Procedure Code Description","Procedure Code","Min Age","Max Age","Current Florida Medicaid Coverage (Adult)","Expanded Benefit Coverage (Units)","PMPM Cost"]
[{"$nulls":11},{"$f":"IF(AND(NOT(ISBLANK(A106)),NOT(ISBLANK(C106)), NOT(ISBLANK(D106)), NOT(ISBLANK(E106)), NOT(ISBLANK(F106)), NOT(ISBLANK(G106)), NOT(ISBLANK(H106)), NOT(ISBLANK(I106)), NOT(ISBLANK(J106))), 1, 0)","v":0}]
{"$rows_empty":25}
["Scores: "]
[]
["Criteria","Points Available","Points Earned"]
["Over-the-Counter (OTC) medications and supplies",25,{"$f":"IF(B14=\"Yes\", 25, 0)","v":0}]
["Adult visual aid services",25,{"$f":"IF(B15=\"Yes\", 25, 0)","v":0}]
["Adult additional primary care services",25,{"$f":"IF(B16=\"Yes\", 25, 0)","v":0}]
["Prenatal Services",20,{"$f":"IF(B17=\"Yes\", 20, 0)","v":0}]
["Durable medical Equipment (DME) services and supplies",20,{"$f":"IF(B18=\"Yes\", 20, 0)","v":0}]
["Physical therapy for adults",20,{"$f":"IF(B19=\"Yes\", 20, 0)","v":0}]
["Newborn circumcision",20,{"$f":"IF(B20=\"Yes\", 20, 0)","v":0}]
["Hearing services for adults",10,{"$f":"IF(B21=\"Yes\", 10, 0)","v":0}]
["Occupational therapy for adults",10,{"$f":"IF(B22=\"Yes\", 10, 0)","v":0}]
["Additional Proposed Expanded Benefits"]
["For Pregnant Women",5,{"$f":"IF(L25>0, 5, 0)","v":0}]
["For Children with SMI and/or SUD",5,{"$f":"IF(L52>0, 5, 0)","v":0}]
["Enrollees in HCBS",5,{"$f":"IF(L79>0, 5,0)","v":0}]
["People Living with HIV",5,{"$f":"IF(L106>0, 5, 0)","v":0}]
["State Points Earned:",null,{"$f":"SUM(C135:C148)","v":0}]

{"sheet":"Scoring-Birth Outcomes","index":7,"n_rows":3,"n_cols":10,"rows_kept":3,"merged":[[2,0,2,3]]}
["SRC #15: Birth Outcomes Scoring Information",{"$nulls":8},"SRC #15: Birth Outcomes Scoring Information (continued)"]
[]
["Back to Respondent Information"]

{"sheet":"Birth Outcomes","index":8,"n_rows":97,"n_cols":9,"rows_kept":97,"merged":[[2,3,2,4],[9,0,9,1],[10,0,10,1],[11,0,11,1],[12,0,12,1],[13,0,13,1],[14,0,14,1],[15,0,15,1],[16,0,16,1],[17,0,17,1],[18,0,18,1],[19,0,19,1],[20,0,20,1],[21,0,21,1],[22,0,22,1],[23,0,23,1],[24,0,24,1],[25,0,25,1],[26,0,26,1],[27,0,27,1],[28,0,28,1],[29,0,29,1],[30,0,30,1],[31,0,31,1],[32,0,32,1],[33,0,33,1],[34,0,34,1],[35,0,35,1],[36,0,36,1],[37,0,37,1],[38,0,38,1],[39,0,39,1],[40,0,40,1],[41,0,41,1],[42,0,42,1],[43,0,43,1],[44,0,44,1],[45,0,45,1],[46,0,46,1],[47,0,47,1],[48,0,48,1],[49,0,49,1],[50,0,50,1],[51,0,51,1],[52,0,52,1],[53,0,53,1],[54,0,54,1],[55,0,55,1],[56,0,56,1],[57,0,57,1],[58,0,58,1],[59,0,59,1],[60,0,60,1],[61,0,61,1],[62,0,62,1],[63,0,63,1],[64,0,64,1],[65,0,65,1],[66,0,66,1],[67,0,67,1],[68,0,68,1],[69,0,69,1],[70,0,70,1],[71,0,71,1],[72,0,72,1],[74,0,74,1],[96,0,96,1]]}
["SRC #15: Birth Outcomes",null,"Back to Respondent Information"]
[]
["Item","Score",null,"Click Here to Go to Scoring Table"]
["Total Points Possible:",300]
["Points Earned:",{"$f":"C97","v":0}]
["Percent:",{"$f":"B5/B4","v":{"v":0,"d":"0%"}}]
["Final Score Possible:",300]
["Birth Outcomes SRC Final Score:",{"$f":"B6*B7","v":0}]
[]
[null,null,"Florida"]
["Line of Business",null,"Medicaid"]
["Number of obstetrician (OB) physicians in network that have specialty certification in Maternal Fetal Medicine (MFM) at the time of application submission."]
["Average rate of Nulliparous, Term, Singleton, Vertex (NTSV) Cesarean Births, as a percentage of all deliveries in CY2022 for all OB physicians in proposed network."]
["Number of OB physicians or other OB prescribing health care providers in network who prescribed MAT drugs/therapies during CY2022."]
["Percent of OB physicians in network that are Black women"]
["Percent of OB physicians in network that are Hispanic women"]
["Percent of OB physicians who fluently speak English and Spanish"]
["Indicate which Healthy Start Coalitions you have a signed agreement with for services at the time of application submission: ",{"$nulls":4},"Yes"]
["Bay, Franklin, Gulf Healthy Start Coalition, Inc.",{"$nulls":4},"No",{"$f":"IF(C19=\"Yes\",5, 0)","v":0},{"$f":"IF(#REF!=\"Yes\", 0.5, 0)","v":{"$error":"#REF!"}},{"$f":"IF(#REF!=\"Yes\", 0.5, 0)","v":{"$error":"#REF!"}}]
["Healthy Start Coalition of Brevard County",{"$nulls":5},0,{"$f":"IF(#REF!=\"Yes\", 0.5, 0)","v":{"$error":"#REF!"}},{"$f":"IF(#REF!=\"Yes\", 0.5, 0)","v":{"$error":"#REF!"}}]
["Broward Health Start Coalition, Inc.",{"$nulls":5},0,{"$f":"IF(#REF!=\"Yes\", 0.5, 0)","v":{"$error":"#REF!"}},{"$f":"IF(#REF!=\"Yes\", 0.5, 0)","v":{"$error":"#REF!"}}]
["Capital Area Healthy Start Coalition, Inc.",{"$nulls":5},0,{"$f":"IF(#REF!=\"Yes\", 0.5, 0)","v":{"$error":"#REF!"}},{"$f":"IF(#REF!=\"Yes\", 0.5, 0)","v":{"$error":"#REF!"}}]
["Central Healthy Start, Inc. ",{"$nulls":5},0,{"$f":"IF(#REF!=\"Yes\", 0.5, 0)","v":{"$error":"#REF!"}},{"$f":"IF(#REF!=\"Yes\", 0.5, 0)","v":{"$error":"#REF!"}}]
["Charlotte County Healthy Start Coalition, Inc.",{"$nulls":5},0,{"$f":"IF(#REF!=\"Yes\", 0.5, 0)","v":{"$error":"#REF!"}},{"$f":"IF(#REF!=\"Yes\", 0.5, 0)","v":{"$error":"#REF!"}}]
["Chipola Healthy Start",{"$nulls":5},0,{"$f":"IF(#REF!=\"Yes\", 0.5, 0)","v":{"$error":"#REF!"}},{"$f":"IF(#REF!=\"Yes\", 0.5, 0)","v":{"$error":"#REF!"}}]
["Healthy Start Coalition of Miami-Dade, Inc.",{"$nulls":5},0,{"$f":"IF(#REF!=\"Yes\", 0.5, 0)","v":{"$error":"#REF!"}},{"$f":"IF(#REF!=\"Yes\", 0.5, 0)","v":{"$error":"#REF!"}}]
["Escambia County Healthy Start Coalition, Inc.",{"$nulls":5},0,{"$f":"IF(#REF!=\"Yes\", 0.5, 0)","v":{"$error":"#REF!"}},{"$f":"IF(#REF!=\"Yes\", 0.5, 0)","v":{"$error":"#REF!"}}]
["The Healthy Start Coalition of Flagler & Volusia Counties, Inc.",{"$nulls":5},0,{"$f":"IF(#REF!=\"Yes\", 0.5, 0)","v":{"$error":"#REF!"}},{"$f":"IF(#REF!=\"Yes\", 0.5, 0)","v":{"$error":"#REF!"}}]
["Gadsden County Healthy Start Coalition",{"$nulls":5},0,{"$f":"IF(#REF!=\"Yes\", 0.5, 0)","v":{"$error":"#REF!"}},{"$f":"IF(#REF!=\"Yes\", 0.5, 0)","v":{"$error":"#REF!"}}]
["Healthy Start Coalition of Hillsborough County, Inc.",{"$nulls":5},0,{"$f":"IF(#REF!=\"Yes\", 0.5, 0)","v":{"$error":"#REF!"}},{"$f":"IF(#REF!=\"Yes\", 0.5, 0)","v":{"$error":"#REF!"}}]
["Healthy Start Coalition of Hardee, Highlands, & Polk Counties, Inc.",{"$nulls":5},0,{"$f":"IF(#REF!=\"Yes\", 0.5, 0)","v":{"$error":"#REF!"}},{"$f":"IF(#REF!=\"Yes\", 0.5, 0)","v":{"$error":"#REF!"}}]
["Indian River County Healthy Start Coalition, Inc.",{"$nulls":5},0,{"$f":"IF(#REF!=\"Yes\", 0.5, 0)","v":{"$error":"#REF!"}},{"$f":"IF(#REF!=\"Yes\", 0.5, 0)","v":{"$error":"#REF!"}}]
["Healthy Start Coalition of Jefferson, Madison, and Taylor Counties, Inc. ",{"$nulls":5},0,{"$f":"IF(#REF!=\"Yes\", 0.5, 0)","v":{"$error":"#REF!"}},{"$f":"IF(#REF!=\"Yes\", 0.5, 0)","v":{"$error":"#REF!"}}]
["Florida Keys Healthy Start Coalition, Inc.",{"$nulls":5},0,{"$f":"IF(#REF!=\"Yes\", 0.5, 0)","v":{"$error":"#REF!"}},{"$f":"IF(#REF!=\"Yes\", 0.5, 0)","v":{"$error":"#REF!"}}]
["Healthy start Coalition of St. Lucie County, Inc.",{"$nulls":5},0,{"$f":"IF(#REF!=\"Yes\", 0.5, 0)","v":{"$error":"#REF!"}},{"$f":"IF(#REF!=\"Yes\", 0.5, 0)","v":{"$error":"#REF!"}}]
["Healthy Start Coalition of Manatee County, Inc.",{"$nulls":5},0,{"$f":"IF(#REF!=\"Yes\", 0.5, 0)","v":{"$error":"#REF!"}},{"$f":"IF(#REF!=\"Yes\", 0.5, 0)","v":{"$error":"#REF!"}}]
["Martin County Health Start Coalition, Inc.",{"$nulls":5},0,{"$f":"IF(#REF!=\"Yes\", 0.5, 0)","v":{"$error":"#REF!"}},{"$f":"IF(#REF!=\"Yes\", 0.5, 0)","v":{"$error":"#REF!"}}]
["Healthy Start of North Central Florida, Inc.",{"$nulls":5},0,{"$f":"IF(#REF!=\"Yes\", 0.5, 0)","v":{"$error":"#REF!"}},{"$f":"IF(#REF!=\"Yes\", 0.5, 0)","v":{"$error":"#REF!"}}]
["Northeast Florida Healthy Start Coalition, Inc.",{"$nulls":5},0,{"$f":"IF(#REF!=\"Yes\", 0.5, 0)","v":{"$error":"#REF!"}},{"$f":"IF(#REF!=\"Yes\", 0.5, 0)","v":{"$error":"#REF!"}}]
["Okeechobee County Family Health/Healthy Start Coalition, Inc.",{"$nulls":5},0,{"$f":"IF(#REF!=\"Yes\", 0.5, 0)","v":{"$error":"#REF!"}},{"$f":"IF(#REF!=\"Yes\", 0.5, 0)","v":{"$error":"#REF!"}}]
["Healthy Start Coalition of Orange County, Inc.",{"$nulls":5},0,{"$f":"IF(#REF!=\"Yes\", 0.5, 0)","v":{"$error":"#REF!"}},{"$f":"IF(#REF!=\"Yes\", 0.5, 0)","v":{"$error":"#REF!"}}]
["The Healthy Start Coalition of Osceola County, Inc.",{"$nulls":5},0,{"$f":"IF(#REF!=\"Yes\", 0.5, 0)","v":{"$error":"#REF!"}},{"$f":"IF(#REF!=\"Yes\", 0.5, 0)","v":{"$error":"#REF!"}}]
["Healthy Start Community Coalition of Okaloosa and Walton Counties, Inc.",{"$nulls":5},0,{"$f":"IF(#REF!=\"Yes\", 0.5, 0)","v":{"$error":"#REF!"}},{"$f":"IF(#REF!=\"Yes\", 0.5, 0)","v":{"$error":"#REF!"}}]
["Healthy Start Coalition of Pasco County, Inc.",{"$nulls":5},0,{"$f":"IF(#REF!=\"Yes\", 0.5, 0)","v":{"$error":"#REF!"}},{"$f":"IF(#REF!=\"Yes\", 0.5, 0)","v":{"$error":"#REF!"}}]
["Healthy Start Coalition of Palm Beach County, Inc.",{"$nulls":5},0,{"$f":"IF(#REF!=\"Yes\", 0.5, 0)","v":{"$error":"#REF!"}},{"$f":"IF(#REF!=\"Yes\", 0.5, 0)","v":{"$error":"#REF!"}}]
["Healthy Start Coalition of Pinellas County, Inc.",{"$nulls":5},0,{"$f":"IF(#REF!=\"Yes\", 0.5, 0)","v":{"$error":"#REF!"}},{"$f":"IF(#REF!=\"Yes\", 0.5, 0)","v":{"$error":"#REF!"}}]
["Healthy Start Coalition of Sarasota County, Inc.",{"$nulls":5},0,{"$f":"IF(#REF!=\"Yes\", 0.5, 0)","v":{"$error":"#REF!"}},{"$f":"IF(#REF!=\"Yes\", 0.5, 0)","v":{"$error":"#REF!"}}]
["Healthy Start Coalition of Santa Rosa County",{"$nulls":5},0,{"$f":"IF(#REF!=\"Yes\", 0.5, 0)","v":{"$error":"#REF!"}},{"$f":"IF(#REF!=\"Yes\", 0.5, 0)","v":{"$error":"#REF!"}}]
["Seminole County Healthy Start Coalition, Inc.",{"$nulls":5},0,{"$f":"IF(#REF!=\"Yes\", 0.5, 0)","v":{"$error":"#REF!"}},{"$f":"IF(#REF!=\"Yes\", 0.5, 0)","v":{"$error":"#REF!"}}]
["Healthy Start Coalition of Southwest Florida, Inc.",{"$nulls":5},0,{"$f":"IF(#REF!=\"Yes\", 0.5, 0)","v":{"$error":"#REF!"}},{"$f":"IF(#REF!=\"Yes\", 0.5, 0)","v":{"$error":"#REF!"}}]
["Number of Local Early Step Offices with which the respondent has a signed agreement for services at the time of application submission",{"$nulls":5},{"$f":"SUM(G19:G50)","v":0},{"$f":"SUM(H19:H50)","v":{"$error":"#REF!"}},{"$f":"SUM(I19:I50)","v":{"$error":"#REF!"}}]
["Western Panhandle Early Steps",{"$nulls":5},{"$f":"IF(C52=\"Yes\", 3, 0)","v":0},{"$f":"IF(#REF!=\"Yes\", 0.5, 0)","v":{"$error":"#REF!"}},{"$f":"IF(#REF!=\"Yes\", 0.5, 0)","v":{"$error":"#REF!"}}]
["Big Bend Early Steps",{"$nulls":5},0,{"$f":"IF(#REF!=\"Yes\", 0.5, 0)","v":{"$error":"#REF!"}},{"$f":"IF(#REF!=\"Yes\", 0.5, 0)","v":{"$error":"#REF!"}}]
["North Central Early Steps",{"$nulls":5},0,{"$f":"IF(#REF!=\"Yes\", 0.5, 0)","v":{"$error":"#REF!"}},{"$f":"IF(#REF!=\"Yes\", 0.5, 0)","v":{"$error":"#REF!"}}]
["Northeaster Early Steps",{"$nulls":5},0,{"$f":"IF(#REF!=\"Yes\", 0.5, 0)","v":{"$error":"#REF!"}},{"$f":"IF(#REF!=\"Yes\", 0.5, 0)","v":{"$error":"#REF!"}}]
["North Beaches Early Steps",{"$nulls":5},0,{"$f":"IF(#REF!=\"Yes\", 0.5, 0)","v":{"$error":"#REF!"}},{"$f":"IF(#REF!=\"Yes\", 0.5, 0)","v":{"$error":"#REF!"}}]
["West Central Early Steps",{"$nulls":5},0,{"$f":"IF(#REF!=\"Yes\", 0.5, 0)","v":{"$error":"#REF!"}},{"$f":"IF(#REF!=\"Yes\", 0.5, 0)","v":{"$error":"#REF!"}}]
["Bay Area Early Steps",{"$nulls":5},0,{"$f":"IF(#REF!=\"Yes\", 0.5, 0)","v":{"$error":"#REF!"}},{"$f":"IF(#REF!=\"Yes\", 0.5, 0)","v":{"$error":"#REF!"}}]
["Central Florida Early Steps",{"$nulls":5},0,{"$f":"IF(#REF!=\"Yes\", 0.5, 0)","v":{"$error":"#REF!"}},{"$f":"IF(#REF!=\"Yes\", 0.5, 0)","v":{"$error":"#REF!"}}]
["Space Coast Early Steps",{"$nulls":5},0,{"$f":"IF(#REF!=\"Yes\", 0.5, 0)","v":{"$error":"#REF!"}},{"$f":"IF(#REF!=\"Yes\", 0.5, 0)","v":{"$error":"#REF!"}}]
["Gulf Central Early Steps",{"$nulls":5},0,{"$f":"IF(#REF!=\"Yes\", 0.5, 0)","v":{"$error":"#REF!"}},{"$f":"IF(#REF!=\"Yes\", 0.5, 0)","v":{"$error":"#REF!"}}]
["Treasure Coast Early Steps",{"$nulls":5},0,{"$f":"IF(#REF!=\"Yes\", 0.5, 0)","v":{"$error":"#REF!"}},{"$f":"IF(#REF!=\"Yes\", 0.5, 0)","v":{"$error":"#REF!"}}]
["Southwest Florida Early Steps",{"$nulls":5},0,{"$f":"IF(#REF!=\"Yes\", 0.5, 0)","v":{"$error":"#REF!"}},{"$f":"IF(#REF!=\"Yes\", 0.5, 0)","v":{"$error":"#REF!"}}]
["Gold Coast Early Steps",{"$nulls":5},0,{"$f":"IF(#REF!=\"Yes\", 0.5, 0)","v":{"$error":"#REF!"}},{"$f":"IF(#REF!=\"Yes\", 0.5, 0)","v":{"$error":"#REF!"}}]
["North Dade Early Steps",{"$nulls":5},0,{"$f":"IF(#REF!=\"Yes\", 0.5, 0)","v":{"$error":"#REF!"}},{"$f":"IF(#REF!=\"Yes\", 0.5, 0)","v":{"$error":"#REF!"}}]
["Southernmost Coast Early Steps",{"$nulls":5},0,{"$f":"IF(#REF!=\"Yes\", 0.5, 0)","v":{"$error":"#REF!"}},{"$f":"IF(#REF!=\"Yes\", 0.5, 0)","v":{"$error":"#REF!"}}]
["Percent of in-network hospitals that are participating in two or more of Florida Perinatal Quality Collaborative’s (FPQC) Quality Initiatives, at the time of application submission, including but not limited to Postpartum Access & Continuity of Care (PACC) Initiative, Perinatal Quality Indicators (PQI), Social Determinants of Health (SDOH) Initiative, or PAIRED Initiative – Family Centered Care in the NICU",{"$nulls":5},{"$f":"SUM(G52:G66)","v":0},{"$f":"SUM(H52:H66)","v":{"$error":"#REF!"}},{"$f":"SUM(I52:I66)","v":{"$error":"#REF!"}}]
["Percent of OB physicians in network who submitted at least one Medicaid claim for SBIRT (H0049, H0050, 99408, 99409, G0396, or G0397) in CY2022"]
["Percent of OB physicians in network who had a value-based purchasing agreement with any Medicaid managed care plan in CY2022"]
[null,null,{"$f":"'Respondent Information'!C6","v":0},{"$f":"'Respondent Information'!C9","v":0},{"$f":"'Respondent Information'!C12","v":0}]
[null,null,{"$f":"'Respondent Information'!E6","v":0},{"$f":"'Respondent Information'!E9","v":0},{"$f":"'Respondent Information'!E12","v":0}]
["Average percent of pregnant women in CY2022 receiving at least two in-person visits by a doula"]
["Average percent of pregnant women in CY2022 receiving at least one in-person visit by a midwife"]
[]
["Scores: ",null,null,"Back to Top"]
[]
["Evaluation Criteria","Points Available","Points Earned"]
[{"$f":"A12","v":"Number of obstetrician (OB) physicians in network that have specialty certification in Maternal Fetal Medicine (MFM) at the time of application submission."},7,{"$f":"IF(C12>9, 7, IF(C12>4, 5, IF(C12>0, 2, 0)))","v":0}]
["Average rate of Nulliparous, Term, Singleton, Vertex (NTSV) Cesarean Births, as a percentage of all deliveries in CY2022 for all OB physicians in proposed network.",9,{"$f":"IF(ISBLANK(C13), 0, IF(C13>0.286, 0, IF(C13>0.256, 1, IF(C13>0.236, 5, 9))))","v":0}]
["Number of OB physicians or other OB prescribing health care providers in network who prescribed MAT drugs/therapies during CY2022.",9,{"$f":"IF(C14>9,9, IF(C14>4, 5, IF(C14>0, 1, 0)))","v":0}]
["Percent of OB physicians in network that are Black women",9,{"$f":"IF(C15>0.085, 9, IF(C15>0.0099,4, 0))","v":0}]
["Percent of OB physicians in network that are Hispanic women",9,{"$f":"IF(C16>0.134,9, IF(C16>0.0099, 4, 0))","v":0}]
["Percent of OB physicians who fluently speak English and Spanish",9,{"$f":"IF(C17>0.268, 9, IF(C17>0.133, 7, IF(C17>0.0099, 4, 0)))","v":0}]
["Number of Healthy Start Coalitions with which the respondent has a signed agreement for services ",160,{"$f":"G51","v":0}]
["Number of Local Early Step Offices with which the respondent has a signed agreement for services ",45,{"$f":"G67","v":0}]
[{"$f":"A67","v":"Percent of in-network hospitals that are participating in two or more of Florida Perinatal Quality Collaborative’s (FPQC) Quality Initiatives, at the time of application submission, including but not limited to Postpartum Access & Continuity of Care (PACC) Initiative, Perinatal Quality Indicators (PQI), Social Determinants of Health (SDOH) Initiative, or PAIRED Initiative – Family Centered Care in the NICU"},9,{"$f":"IF(C67>0.75, 9, IF(C67>0.4999, 6, IF(C67>0.2499, 3, 0)))","v":0}]
[{"$f":"A68","v":"Percent of OB physicians in network who submitted at least one Medicaid claim for SBIRT (H0049, H0050, 99408, 99409, G0396, or G0397) in CY2022"},7,{"$f":"IF(C68>0.05, 7, IF(C68>0.0099, 4, 0))","v":0}]
[{"$f":"A69","v":"Percent of OB physicians in network who had a value-based purchasing agreement with any Medicaid managed care plan in CY2022"},9,{"$f":"IF(C69>0.5, 9, IF(C69>0.2499, 6, IF(C69>0.0099, 3, 0)))","v":0}]
[{"$f":"A72","v":"Average percent of pregnant women in CY2022 receiving at least two in-person visits by a doula"},9,{"$f":"SUM(C90:C92)","v":0}]
[{"$f":"C70","v":0},3,{"$f":"IF(C72>0.5, 3, IF(C72>0.2499, 2, IF(C72>0.0499,1, 0)))","v":0}]
[{"$f":"D70","v":0},3,{"$f":"IF(D72>0.5, 3, IF(D72>0.2499, 2, IF(D72>0.0499,1, 0)))","v":0}]
[{"$f":"E70","v":0},3,{"$f":"IF(E72>0.5, 3, IF(E72>0.2499, 2, IF(E72>0.0499,1,  0)))","v":0}]
[{"$f":"A73","v":"Average percent of pregnant women in CY2022 receiving at least one in-person visit by a midwife"},9,{"$f":"SUM(C94:C96)","v":0}]
[{"$f":"C70","v":0},3,{"$f":"IF(C73>0.25, 3, IF(C73>0.0999, 2, IF(C73>0.0499, 1, 0)))","v":0}]
[{"$f":"D70","v":0},3,{"$f":"IF(D73>0.25, 3, IF(D73>0.0999, 2, IF(D73>0.0499, 1, 0)))","v":0}]
[{"$f":"E70","v":0},3,{"$f":"IF(E73>0.25, 3, IF(E73>0.0999, 2, IF(E73>0.0499, 1, 0)))","v":0}]
["Total Points Earned:",null,{"$f":"SUM(C78:C89,C93)","v":0}]

{"sheet":"Scoring-Chr Disease Management","index":9,"n_rows":3,"n_cols":1,"rows_kept":3,"merged":[[2,0,2,3]]}
["SRC #16: Chronic Disease Management Program "]
["Scoring Information"]
["Back to Respondent Information"]

{"sheet":"Chr Disease Management","index":10,"n_rows":56,"n_cols":9,"rows_kept":56,"merged":[[0,2,0,3],[37,0,37,1],[40,0,44,0],[43,1,43,2],[44,1,44,2],[45,0,49,0],[48,1,48,2],[49,1,49,2],[50,0,54,0],[53,1,53,2],[54,1,54,2],[55,0,55,2]]}
["SRC #16: Chronic Disease Management Program",null,"Back to Respondent Information"]
[]
["Item","Score"]
["Total Points Possible:",96]
["Points Earned:",{"$f":"D56","v":0}]
["Percent:",{"$f":"B5/B4","v":{"v":0,"d":"0%"}}]
["Final Score Possible:",250]
["Disease Management SRC Final Score:",{"$f":"B6*B7","v":0}]
[]
[null,{"$f":"'Respondent Information'!C6","v":0},{"$f":"'Respondent Information'!C9","v":0},{"$f":"'Respondent Information'!C12","v":0}]
["Line of Business:",{"$f":"'Respondent Information'!E6","v":0},{"$f":"'Respondent Information'!E9","v":0},{"$f":"'Respondent Information'!E12","v":0}]
["Indicate the diseases for which management programs have been implemented under each contract: "]
["Cancer",{"$nulls":4},{"$f":"IF(B13=\"Yes\", 2, 0)","v":0},{"$f":"IF(C13=\"Yes\", 2, 0)","v":0},0]
["Total Number of Enrollees with Cancer",{"$nulls":7},"Yes"]
["Total number of enrollees with cancer who participated in chronic disease management program",{"$nulls":7},"No"]
["Percent of enrollees with cancer who participated in chronic disease management program",{"$f":"IFERROR(B15/B14, 0)","v":{"v":0,"d":"0.00%"}},{"$f":"IFERROR(C15/C14, 0)","v":{"v":0,"d":"0.00%"}},{"$f":"IFERROR(D15/D14, 0)","v":{"v":0,"d":"0.00%"}}]
["Depression",{"$nulls":4},{"$f":"IF(B17=\"Yes\", 2, 0)","v":0},{"$f":"IF(C17=\"Yes\", 2, 0)","v":0},0]
["Diabetes (Type 1 or Type 2)",{"$nulls":4},{"$f":"IF(B18=\"Yes\", 2, 0)","v":0},0,0]
["Total Number of Enrollees with Diabetes (type 1 and type 2)"]
["Total number of enrollees who participated in a chronic disease management program for diabetes"]
["Percent of enrollees with diabetes who participated in a chronic disease management program for diabetes",{"$f":"IFERROR(B20/B19, 0)","v":{"v":0,"d":"0.00%"}},{"$f":"IFERROR(C20/C19, 0)","v":{"v":0,"d":"0.00%"}},{"$f":"IFERROR(D20/D19, 0)","v":{"v":0,"d":"0.00%"}}]
["HIV/AIDS",{"$nulls":4},{"$f":"IF(B22=\"Yes\", 2, 0)","v":0},{"$f":"IF(C22=\"Yes\", 2, 0)","v":0},0]
["Anxiety Disorders",{"$nulls":4},{"$f":"IF(B23=\"Yes\", 1, 0)","v":0},{"$f":"IF(C23=\"Yes\", 1, 0)","v":0},0]
["Asthma",{"$nulls":4},0,0,0]
["Attention deficit hyperactivity disorder",{"$nulls":4},0,0,0]
["Bipolar disorder",{"$nulls":4},0,0,0]
["Cardiovascular disease",{"$nulls":4},0,0,0]
["Chronic kidney disease",{"$nulls":4},0,0,0]
["Chronic obstructive pulmonary disease",{"$nulls":4},0,{"$f":"IF(C29=\"Yes\", 1, 0)","v":0},{"$f":"IF(D29=\"Yes\", 1, 0)","v":0}]
["Dementia",{"$nulls":4},0,0,0]
["End-stage kidney disease",{"$nulls":4},0,0,0]
["Hypertension",{"$nulls":4},0,0,0]
["Osteoporosis",{"$nulls":4},0,0,0]
["Parkinson's disease",{"$nulls":4},0,0,0]
["Sickle cell disease",{"$nulls":4},0,0,0]
["Substance use disorders",{"$nulls":4},0,0,0]
[{"$nulls":5},{"$f":"SUM(F13:F36)","v":0},{"$f":"SUM(G13:G36)","v":0},0]
["Scores: "]
[]
["State","Criteria","Points Available","Points Earned"]
[{"$f":"B10","v":0},"Chronic Disease Programs",22,{"$f":"F37","v":0}]
[null,"Percent of enrollees with cancer who participated in a chronic disease management program for cancer",5,{"$f":"IF(B16>1, \"ERROR\", IF(B16>0.5, 5, IF(B16>0.24, 3, IF(B16>0, 1, 0))))","v":0}]
[null,"Percent of enrollees with diabetes (type 1 and type 2) who participated in a chronic disease management program for diabetes ",5,{"$f":"IF(B21>1, \"ERROR\", IF(B21>0.5, 5, IF(B21>0.24, 3, IF(B21>0, 1, 0))))","v":0}]
[null,"State Points Earned:",null,{"$f":"SUM(D41:D43)","v":0}]
[null,"Points Weighted by Line of Business: ",null,{"$f":"IF(B11=\"Medicaid\", D44*1, IF(B11=\"CHIP\", D44*0.9, IF(B11=\"Medicare\", D44*0.8,\"Incomplete Data\")))","v":"Incomplete Data"}]
[{"$f":"C10","v":0},"Chronic Disease Programs",22,{"$f":"G37","v":0}]
[null,"Percent of enrollees with cancer who participated in a chronic disease management program for cancer",5,{"$f":"IF(C16>1, \"ERROR\", IF(C16>0.5, 5, IF(C16>0.24, 3, IF(C16>0, 1, 0))))","v":0}]
[null,"Percent of enrollees with diabetes (type 1 and type 2) who participated in a chronic disease management program for diabetes ",5,{"$f":"IF(C21>1, \"ERROR\", IF(C21>0.5, 5, IF(C21>0.24, 3, IF(C21>0, 1, 0))))","v":0}]
[null,"State Points Earned:",null,{"$f":"SUM(D46:D48)","v":0}]
[null,"Points Weighted by Line of Business: ",null,{"$f":"IF(C11=\"Medicaid\", D49*1, IF(C11=\"CHIP\", D49*0.9, IF(C11=\"Medicare\", D49*0.8,\"Incomplete Data\")))","v":"Incomplete Data"}]
[{"$f":"D10","v":0},"Chronic Disease Programs",22,{"$f":"H37","v":0}]
[null,"Percent of enrollees with cancer who participated in a chronic disease management program for cancer",5,{"$f":"IF(D16>1, \"ERROR\", IF(D16>0.5, 5, IF(D16>0.24, 3, IF(D16>0, 1, 0))))","v":0}]
[null,"Percent of enrollees with diabetes (type 1 and type 2) who participated in a chronic disease management program for diabetes ",5,{"$f":"IF(D21>1, \"ERROR\", IF(D21>0.5, 5, IF(D21>0.24, 3, IF(D21>0, 1, 0))))","v":0}]
[null,"State Points Earned:",null,{"$f":"SUM(D51:D53)","v":0}]
[null,"Points Weighted by Line of Business: ",null,{"$f":"IF(D11=\"Medicaid\", D54*1, IF(D11=\"CHIP\", D54*0.9, IF(D11=\"Medicare\", D54*0.8,\"Incomplete Data\")))","v":"Incomplete Data"}]
["Total Points Earned:",null,null,{"$f":"SUM(D45,D50,D55)","v":0}]

{"sheet":"Scoring-HEDIS","index":11,"n_rows":31,"n_cols":14,"rows_kept":31}
["SRC #17: HEDIS Measures Scoring Information",{"$nulls":3},"SRC #17: HEDIS Measures Scoring Information (continued)",{"$nulls":8},"SRC #17: HEDIS Measures Scoring Information (continued)"]
[]
["Back to Respondent Information"]
{"$rows_empty":23}
["LTSS HEDIS Measures- Florida Medicaid Statewide Weighted Means",2019,2020,2021]
["Comprehensive Assessment and Update - Core Elements",0.8144,0.877,0.878]
["Comprehensive Care Plan and Update - Core Elements",0.7854,0.8806,0.9098]
["Shared Care Plan with Primary Care Practitioner",0.8377,0.8968,0.8653]
["Reassessment/Care Plan Update after Inpatient Discharge - Reassessment",0.2481,0.3444,0.4477]

{"sheet":"HEDIS","index":12,"n_rows":83,"n_cols":26,"rows_kept":83,"merged":[[0,2,0,4],[9,1,9,3],[9,4,9,6],[9,7,9,9],[10,0,11,0],[10,1,11,3],[10,4,11,6],[10,7,11,9],[10,20,10,22],[11,20,11,22],[12,20,12,22],[32,1,32,3],[32,4,32,6],[32,7,32,9],[32,10,32,12],[33,0,34,0],[33,1,34,1],[33,2,34,2],[33,3,34,3],[33,4,34,4],[33,5,34,5],[33,6,34,6],[33,7,34,7],[33,8,34,8],[33,9,34,9],[33,10,33,12],[43,0,43,1],[45,0,47,0],[45,1,45,5],[45,6,45,10],[45,11,45,15],[46,1,46,3],[46,4,46,5],[46,6,46,8],[46,9,46,10],[46,11,46,13],[46,14,46,15],[64,1,64,5],[64,6,64,10],[64,11,64,15],[65,1,65,5],[65,6,65,10],[65,11,65,15],[66,1,66,5],[66,6,66,10],[66,11,66,15],[67,1,67,15],[68,1,68,15],[69,1,69,15],[71,0,73,0],[71,1,71,5],[71,6,71,10],[71,11,71,15],[72,1,72,3],[72,4,72,5],[72,6,72,8],[72,9,72,10],[72,11,72,13],[72,14,72,15],[78,1,78,5],[78,6,78,10],[78,11,78,15],[79,1,79,5],[79,6,79,10],[79,11,79,15],[80,1,80,15],[81,1,81,15],[82,1,82,15]]}
["SRC #17: HEDIS Measures",null,"Back to Respondent Information"]
[]
["Item","Score"]
["Total Points Possible:",120]
["Points Earned:",{"$f":"B70+B83","v":0}]
["Percent:",{"$f":"B5/B4","v":{"v":0,"d":"0%"}}]
["Final Score Possible:",120]
["HEDIS SRC Final Score:",{"$f":"B6*B7","v":0}]
[]
["State",{"$f":"'Respondent Information'!C6","v":0},null,null,{"$f":"'Respondent Information'!C9","v":0},null,null,{"$f":"'Respondent Information'!C12","v":0}]
["Line of Business",{"$f":"'Respondent Information'!E6","v":0},null,null,{"$f":"'Respondent Information'!E9","v":0},null,null,{"$f":"'Respondent Information'!E12","v":0},{"$nulls":12},"National Means"]
[{"$nulls":20},{"$f":"'Respondent Information'!I12","v":0}]
["Geographic Area of Contract (Statewide vs. Not Statewide)",{"$nulls":24},"Statewide"]
["Number of Florida Medicaid Regions Covered (if applicable)",{"$nulls":19},"\\","\\","\\",null,null,"Not Statewide"]
["Measurement/Calendar Year",2019,2020,2021,2019,2020,2021,2019,2020,2021]
["HEDIS Measure",{"$nulls":19},2019,2020,2021]
["Adults' Access to Preventive/Ambulatory Health Services - Total",{"$nulls":19},"CY 2019","CY 2020","CY 2021"]
["Adherence to Antipsychotic Medications for Individuals with Schizophrenia",{"$nulls":18},"Adults' Access to Preventive/Ambulatory Health Services - Total",{"v":0.8,"d":"80%"},{"v":0.77,"d":"77%"},{"v":0.76,"d":"76%"},null,null,1]
["Antidepressant Medication Management - Acute Phase",{"$nulls":18},"Adherence to Antipsychotic Medications for Individuals with Schizophrenia",{"v":0.61,"d":"61%"},{"v":0.62,"d":"62%"},{"v":0.6,"d":"60%"},null,null,2]
["Asthma Medication Ratio - Total",{"$nulls":18},"Antidepressant Medication Management - Acute Phase",{"v":0.55,"d":"55%"},{"v":0.57,"d":"57%"},{"v":0.61,"d":"61%"},null,null,3]
["Child and Adolescent Well-Care Visits - Ages 3-11",{"$nulls":18},"Asthma Medication Ratio - Total",{"v":0.63,"d":"63%"},{"v":0.66,"d":"66%"},{"v":0.65,"d":"65%"},null,null,4]
["Child and Adolescent Well-Care Visits - Ages 12-17",{"$nulls":18},"Child and Adolescent Well-Care Visits - Ages 3-11",null,{"v":0.53,"d":"53%"},{"v":0.57,"d":"57%"},null,null,5]
["Child and Adolescent Well-Care Visits - Ages 18-21",{"$nulls":18},"Child and Adolescent Well-Care Visits - Ages 12-17",null,{"v":0.47,"d":"47%"},{"v":0.52,"d":"52%"},null,null,6]
["Childhood Immunization Status - Combo 3",{"$nulls":18},"Child and Adolescent Well-Care Visits - Ages 18-21",null,{"v":0.27,"d":"27%"},{"v":0.27,"d":"27%"},null,null,7]
["Comprehensive Diabetes Care - HbA1c Control (<8%)",{"$nulls":18},"Childhood Immunization Status - Combo 3",{"v":0.7,"d":"70%"},{"v":0.68,"d":"68%"},{"v":0.63,"d":"63%"},null,null,8]
["Controlling High Blood Pressure",{"$nulls":18},"Comprehensive Diabetes Care - HbA1c Control (<8%)",{"v":0.49,"d":"49%"},{"v":0.45,"d":"45%"},{"v":0.48,"d":"48%"},null,null,9]
["Follow-up after Hospitalization for Mental Illness - Total - 7-day Follow-up",{"$nulls":18},"Controlling High Blood Pressure",{"v":0.61,"d":"61%"},{"v":0.56,"d":"56%"},{"v":0.59,"d":"59%"},null,null,10]
["Immunizations for Adolescents - Combo 1",{"$nulls":18},"Follow-up after Hospitalization for Mental Illness - Total - 7-day Follow-up",{"v":0.36,"d":"36%"},{"v":0.4,"d":"40%"},{"v":0.39,"d":"39%"},null,null,11]
["Postpartum Care",{"$nulls":18},"Immunizations for Adolescents - Combo 1",{"v":0.8,"d":"80%"},{"v":0.8,"d":"80%"},{"v":0.78,"d":"78%"}]
["Timeliness of Prenatal Care",{"$nulls":18},"Postpartum Care",{"v":0.75,"d":"75%"},{"v":0.75,"d":"75%"},{"v":0.76,"d":"76%"}]
["Well-Child Visits in the First 30 Months - Ages 0-15 Mos",{"$nulls":18},"Timeliness of Prenatal Care",{"v":0.87,"d":"87%"},{"v":0.84,"d":"84%"},{"v":0.84,"d":"84%"}]
["Well-Child Visits in the First 30 Months - Ages 15-30 Mos",{"$nulls":18},"Well-Child Visits in the First 30 Months - Ages 0-15 Mos",null,{"v":0.53,"d":"53%"},{"v":0.54,"d":"54%"}]
["State",{"$f":"'Respondent Information'!C6","v":0},null,null,{"$f":"'Respondent Information'!C9","v":0},null,null,{"$f":"'Respondent Information'!C12","v":0},null,null,"Florida Medicaid Statewide Weighted Means",{"$nulls":8},"Well-Child Visits in the First 30 Months - Ages 15-30 Mos",null,{"v":0.71,"d":"71%"},{"v":0.66,"d":"66%"}]
["Geographic Area of Contract (Statewide vs. Not Statewide)"]
[{"$nulls":10},"Statewide","Statewide","Statewide"]
["Number of Florida Medicaid Regions Covered (if applicable)"]
["Measurement/Calendar Year",2019,2020,2021,2019,2020,2021,2019,2020,2021,2019,2020,2021]
["LTSS HEDIS Measures"]
["Comprehensive Assessment and Update - Core Elements",{"$nulls":9},{"v":0.8144,"d":"81.44%"},{"v":0.877,"d":"87.70%"},{"v":0.878,"d":"87.80%"}]
["Comprehensive Care Plan and Update - Core Elements",{"$nulls":9},{"v":0.7854,"d":"78.54%"},{"v":0.8806,"d":"88.06%"},{"v":0.9098,"d":"90.98%"}]
["Shared Care Plan with Primary Care Practitioner",{"$nulls":9},{"v":0.8377,"d":"83.77%"},{"v":0.8968,"d":"89.68%"},{"v":0.8653,"d":"86.53%"}]
["Reassessment/Care Plan Update after Inpatient Discharge - Reassessment",{"$nulls":9},{"v":0.2481,"d":"24.81%"},{"v":0.3444,"d":"34.44%"},{"v":0.4477,"d":"44.77%"}]
[]
["Scores: "]
[]
["SCORING MATRIX: HEDIS Measures",{"$f":"B10","v":0},{"$nulls":4},{"$f":"E10","v":0},{"$nulls":4},{"$f":"H10","v":0}]
[null,"Exceeds National Mean",null,null,"Increased from Previous Year",null,"Exceeds National Mean",null,null,"Increased from Previous Year",null,"Exceeds National Mean",null,null,"Increased from Previous Year"]
[null,2019,2020,2021,2020,2021,2019,2020,2021,2020,2021,2019,2020,2021,2020,2021]
["Adults' Access to Preventive/Ambulatory Health Services - Total",{"$f":"IF(B17>U18, 2, 0)","v":0},{"$f":"IF(C17>V18, 2, 0)","v":0},{"$f":"IF(D17>W18, 2, 0)","v":0},{"$f":"IF(OR(ISBLANK(B17),B17=0),0,IF(C17>B17, 2,0))","v":0},{"$f":"IF(   OR(ISBLANK(C17),C17=0),  IF(OR(ISBLANK(B17),B17=0), 0, IF(D17>B17, 2,0)),   IF(D17>C17, 2,0)   )","v":0},{"$f":"IF(E17>U18, 2, 0)","v":0},{"$f":"IF(F17>V18, 2, 0)","v":0},{"$f":"IF(G17>W18, 2, 0)","v":0},{"$f":"IF(OR(ISBLANK(E17),E17=0),0,IF(F17>E17, 2,0))","v":0},{"$f":"IF(   OR(ISBLANK(F17),F17=0),  IF(OR(ISBLANK(E17),E17=0), 0, IF(G17>E17, 2,0)),   IF(G17>F17, 2,0)   )","v":0},{"$f":"IF(H17>U18, 2, 0)","v":0},{"$f":"IF(I17>V18, 2, 0)","v":0},{"$f":"IF(J17>W18, 2, 0)","v":0},{"$f":"IF(OR(ISBLANK(H17),H17=0),0,IF(I17>H17, 2,0))","v":0},{"$f":"IF(   OR(ISBLANK(I17),I17=0),  IF(OR(ISBLANK(H17),H17=0), 0, IF(J17>H17, 2,0)),   IF(J17>I17, 2,0)   )","v":0}]
["Adherence to Antipsychotic Medications for Individuals with Schizophrenia",{"$f":"IF(B18>U19, 2, 0)","v":0},0,0,{"$f":"IF(OR(ISBLANK(B18),B18=0),0,IF(C18>B18, 2,0))","v":0},{"$f":"IF(   OR(ISBLANK(C18),C18=0),  IF(OR(ISBLANK(B18),B18=0), 0, IF(D18>B18, 2,0)),   IF(D18>C18, 2,0)   )","v":0},0,0,0,0,{"$f":"IF(   OR(ISBLANK(F18),F18=0),  IF(OR(ISBLANK(E18),E18=0), 0, IF(G18>E18, 2,0)),   IF(G18>F18, 2,0)   )","v":0},{"$f":"IF(H18>U19, 2, 0)","v":0},0,{"$f":"IF(J18>W19, 2, 0)","v":0},{"$f":"IF(OR(ISBLANK(H18),H18=0),0,IF(I18>H18, 2,0))","v":0},{"$f":"IF(   OR(ISBLANK(I18),I18=0),  IF(OR(ISBLANK(H18),H18=0), 0, IF(J18>H18, 2,0)),   IF(J18>I18, 2,0)   )","v":0}]
["Antidepressant Medication Management - Acute Phase",0,0,0,{"$f":"IF(OR(ISBLANK(B19),B19=0),0,IF(C19>B19, 2,0))","v":0},0,0,0,0,0,0,{"$f":"IF(H19>U20, 2, 0)","v":0},0,{"$f":"IF(J19>W20, 2, 0)","v":0},{"$f":"IF(OR(ISBLANK(H19),H19=0),0,IF(I19>H19, 2,0))","v":0},{"$f":"IF(   OR(ISBLANK(I19),I19=0),  IF(OR(ISBLANK(H19),H19=0), 0, IF(J19>H19, 2,0)),   IF(J19>I19, 2,0)   )","v":0}]
["Asthma Medication Ratio - Total",0,{"$f":"IF(C20>V21, 2, 0)","v":0},0,{"$f":"IF(OR(ISBLANK(B20),B20=0),0,IF(C20>B20, 2,0))","v":0},0,0,0,0,0,0,{"$f":"IF(H20>U21, 2, 0)","v":0},0,{"$f":"IF(J20>W21, 2, 0)","v":0},{"$f":"IF(OR(ISBLANK(H20),H20=0),0,IF(I20>H20, 2,0))","v":0},{"$f":"IF(   OR(ISBLANK(I20),I20=0),  IF(OR(ISBLANK(H20),H20=0), 0, IF(J20>H20, 2,0)),   IF(J20>I20, 2,0)   )","v":0}]
["Child and Adolescent Well-Care Visits - Ages 3-11",null,0,0,null,0,null,0,0,null,0,null,0,{"$f":"IF(J21>W22, 2, 0)","v":0},null,{"$f":"IF(   OR(ISBLANK(I21),I21=0),  IF(OR(ISBLANK(H21),H21=0), 0, IF(J21>H21, 2,0)),   IF(J21>I21, 2,0)   )","v":0}]
["Child and Adolescent Well-Care Visits - Ages 12-17",null,0,0,null,0,null,0,0,null,0,null,0,0,null,0]
["Child and Adolescent Well-Care Visits - Ages 18-21",null,0,0,null,0,null,0,0,null,0,null,0,0,null,0]
["Childhood Immunization Status - Combo 3",0,0,0,{"$f":"IF(OR(ISBLANK(B24),B24=0),0,IF(C24>B24, 2,0))","v":0},0,0,0,0,{"$f":"IF(OR(ISBLANK(E24),E24=0),0,IF(F24>E24, 2,0))","v":0},0,{"$f":"IF(H24>U25, 2, 0)","v":0},0,0,{"$f":"IF(OR(ISBLANK(H24),H24=0),0,IF(I24>H24, 2,0))","v":0},0]
["Comprehensive Diabetes Care - HbA1c Control (<8%)",0,0,0,0,0,0,0,0,0,0,0,0,0,0,0]
["Controlling High Blood Pressure",0,0,0,0,0,0,0,0,0,0,0,0,0,0,0]
["Follow-up after Hospitalization for Mental Illness - Total - 7-day Follow-up",0,0,0,0,0,0,0,0,0,0,0,0,0,0,0]
["Immunizations for Adolescents - Combo 1",0,0,0,0,0,0,0,0,0,0,0,0,0,0,0]
["Postpartum Care",0,0,0,0,0,{"$f":"IF(E29>U30, 2, 0)","v":0},0,0,0,0,0,0,0,0,0]
["Timeliness of Prenatal Care",0,0,0,0,0,0,0,0,0,0,0,0,0,0,0]
["Well-Child Visits in the First 30 Months - Ages 0-15 Mos",null,0,0,null,0,null,0,0,null,0,null,0,0,null,0]
["Well-Child Visits in the First 30 Months - Ages 15-30 Mos",null,0,0,null,0,null,0,0,null,0,null,0,0,null,0]
["Total Unweighted Points: ",{"$f":"SUM(B49:F64)","v":0},{"$nulls":4},{"$f":"SUM(G49:K64)","v":0},{"$nulls":4},{"$f":"SUM(L49:P64)","v":0}]
["Weighted by Line of Business: ",{"$f":"IF(B11=0,0, IF(B11=\"CHIP\", B65*0.9, IF(B11=\"Medicare\", B65*0.8, IF(B11=\"Medicaid\", B65))))","v":0},{"$nulls":4},{"$f":"IF(E11=0, 0, IF(E11=\"CHIP\", G65*0.9, IF(E11=\"Medicare\", G65*0.8, IF(E11=\"Medicaid\", G65))))","v":0},{"$nulls":4},{"$f":"IF(H11=0, 0, IF(H11=\"CHIP\", L65*0.9, IF(H11=\"Medicare\", L65*0.8, IF(H11=\"Medicaid\", L65))))","v":0}]
["Weighted by Geography:",{"$f":"IF(AND(B10=\"Florida\", D14>8), B66, IF(AND(B10=\"Florida\", D14>4), B66*0.9, IF(AND(B10=\"Florida\", D14>0), B66*0.8, IF(AND(B10<>\"Florida\", D13=\"Statewide\"), B66, B66*0.8))))","v":0},{"$nulls":4},{"$f":"IF(AND(E10=\"Florida\", G14>8), G66, IF(AND(E10=\"Florida\", G14>4), G66*0.9, IF(AND(E10=\"Florida\", G14>0), G66*0.8, IF(AND(E10<>\"Florida\", G13=\"Statewide\"), G66, G66*0.8))))","v":0},{"$nulls":4},{"$f":"IF(AND(H10=\"Florida\", J14>8), L66, IF(AND(H10=\"Florida\", J14>4), L66*0.9, IF(AND(H10=\"Florida\", J14>0), L66*0.8, IF(AND(H10<>\"Florida\", J13=\"Statewide\"), L66, L66*0.8))))","v":0}]
["Total Weighted Points:",{"$f":"SUM(B67:P67)","v":0}]
["Divided by Total Possible Points:",{"$f":"B68/420","v":{"v":0,"d":"0.00%"}}]
["Aggregate Score:",{"$f":"ROUNDDOWN(100*B69, 0)","v":0}]
[]
["Scoring Matrix: LTSS HEDIS Measures",{"$f":"B10","v":0},{"$nulls":4},{"$f":"E10","v":0},{"$nulls":4},{"$f":"H10","v":0}]
[null,"Exceeds State Mean",null,null,"Increased from Previous Year",null,"Exceeds State Mean",null,null,"Increased from Previous Year",null,"Exceeds State Mean",null,null,"Increased from Previous Year"]
[null,2019,2020,2021,2020,2021,2019,2020,2021,2020,2021,2019,2020,2021,2020,2021]
["Comprehensive Assessment and Update - Core Elements",{"$f":"IF(B39>K39, 2, 0)","v":0},0,{"$f":"IF(D39>M39, 2, 0)","v":0},{"$f":"IF(OR(ISBLANK(B39),B39=0),0,IF(C39>B39, 2,0))","v":0},{"$f":"IF(   OR(ISBLANK(C39),C39=0),  IF(OR(ISBLANK(B39),B39=0), 0, IF(D39>B39, 2,0)),   IF(D39>C39, 2,0)   )","v":0},{"$f":"IF(E39>K39, 2, 0)","v":0},0,0,{"$f":"IF(OR(ISBLANK(E39),E39=0),0,IF(F39>E39, 2,0))","v":0},{"$f":"IF(   OR(ISBLANK(F39),F39=0),  IF(OR(ISBLANK(E39),E39=0), 0, IF(G39>E39, 2,0)),   IF(G39>F39, 2,0)   )","v":0},{"$f":"IF(H39>K39, 2, 0)","v":0},0,0,{"$f":"IF(OR(ISBLANK(H39),H39=0),0,IF(I39>H39, 2,0))","v":0},{"$f":"IF(   OR(ISBLANK(I39),I39=0),  IF(OR(ISBLANK(H39),H39=0), 0, IF(J39>H39, 2,0)),   IF(J39>I39, 2,0)   )","v":0}]
["Comprehensive Care Plan and Update - Core Elements",0,0,0,{"$f":"IF(OR(ISBLANK(B40),B40=0),0,IF(C40>B40, 2,0))","v":0},{"$f":"IF(   OR(ISBLANK(C40),C40=0),  IF(OR(ISBLANK(B40),B40=0), 0, IF(D40>B40, 2,0)),   IF(D40>C40, 2,0)   )","v":0},0,0,0,{"$f":"IF(OR(ISBLANK(E40),E40=0),0,IF(F40>E40, 2,0))","v":0},{"$f":"IF(   OR(ISBLANK(F40),F40=0),  IF(OR(ISBLANK(E40),E40=0), 0, IF(G40>E40, 2,0)),   IF(G40>F40, 2,0)   )","v":0},0,0,0,{"$f":"IF(OR(ISBLANK(H40),H40=0),0,IF(I40>H40, 2,0))","v":0},{"$f":"IF(   OR(ISBLANK(I40),I40=0),  IF(OR(ISBLANK(H40),H40=0), 0, IF(J40>H40, 2,0)),   IF(J40>I40, 2,0)   )","v":0}]
["Shared Care Plan with Primary Care Practitioner",0,0,0,{"$f":"IF(OR(ISBLANK(B41),B41=0),0,IF(C41>B41, 2,0))","v":0},{"$f":"IF(   OR(ISBLANK(C41),C41=0),  IF(OR(ISBLANK(B41),B41=0), 0, IF(D41>B41, 2,0)),   IF(D41>C41, 2,0)   )","v":0},0,0,0,{"$f":"IF(OR(ISBLANK(E41),E41=0),0,IF(F41>E41, 2,0))","v":0},{"$f":"IF(   OR(ISBLANK(F41),F41=0),  IF(OR(ISBLANK(E41),E41=0), 0, IF(G41>E41, 2,0)),   IF(G41>F41, 2,0)   )","v":0},0,0,0,{"$f":"IF(OR(ISBLANK(H41),H41=0),0,IF(I41>H41, 2,0))","v":0},{"$f":"IF(   OR(ISBLANK(I41),I41=0),  IF(OR(ISBLANK(H41),H41=0), 0, IF(J41>H41, 2,0)),   IF(J41>I41, 2,0)   )","v":0}]
["Reassessment/Care Plan Update after Inpatient Discharge - Reassessment",0,0,0,{"$f":"IF(OR(ISBLANK(B42),B42=0),0,IF(C42>B42, 2,0))","v":0},{"$f":"IF(   OR(ISBLANK(C42),C42=0),  IF(OR(ISBLANK(B42),B42=0), 0, IF(D42>B42, 2,0)),   IF(D42>C42, 2,0)   )","v":0},0,0,0,{"$f":"IF(OR(ISBLANK(E42),E42=0),0,IF(F42>E42, 2,0))","v":0},{"$f":"IF(   OR(ISBLANK(F42),F42=0),  IF(OR(ISBLANK(E42),E42=0), 0, IF(G42>E42, 2,0)),   IF(G42>F42, 2,0)   )","v":0},0,0,0,{"$f":"IF(OR(ISBLANK(H42),H42=0),0,IF(I42>H42, 2,0))","v":0},{"$f":"IF(   OR(ISBLANK(I42),I42=0),  IF(OR(ISBLANK(H42),H42=0), 0, IF(J42>H42, 2,0)),   IF(J42>I42, 2,0)   )","v":0}]
["Total Unweighted Points: ",{"$f":"SUM(B75:F78)","v":0},{"$nulls":4},{"$f":"SUM(G75:K78)","v":0},{"$nulls":4},{"$f":"SUM(L75:P78)","v":0}]
["Weighted by Geography:",{"$f":"IF(AND(B33=\"Florida\", D36>8), B79, IF(AND(B33=\"Florida\", D36>4), B79*0.9, IF(AND(B33=\"Florida\", D36>0), B79*0.8, IF(AND(B33<>\"Florida\", D34=\"Statewide\"), B79, B79*0.8))))","v":0},{"$nulls":4},{"$f":"IF(AND(E33=\"Florida\", G36>8), G79, IF(AND(E33=\"Florida\", G36>4), G79*0.9, IF(AND(E33=\"Florida\", G36>0), G79*0.8, IF(AND(E33<>\"Florida\", G34=\"Statewide\"), G79, G79*0.8))))","v":0},{"$nulls":4},{"$f":"IF(AND(H33=\"Florida\", J36>8), L79, IF(AND(H33=\"Florida\", J36>4), L79*0.9, IF(AND(H33=\"Florida\", J36>0), L79*0.8, IF(AND(H33<>\"Florida\", J34=\"Statewide\"), L79, L79*0.8))))","v":0}]
["Total Weighted Points:",{"$f":"SUM(B80:P80)","v":0}]
["Percent of Total Points: ",{"$f":"B81/120","v":{"v":0,"d":"0.00%"}}]
["Aggregate Score: ",{"$f":"ROUNDDOWN(20*B82, 0)","v":0}]

{"sheet":"Scoring-Commitment to Quality","index":13,"n_rows":4,"n_cols":1,"rows_kept":4,"merged":[[3,0,3,2]]}
["SRC #18: Organizational Commitment to Quality"]
["Scoring Information"]
[]
["Back to Respondent Information"]

{"sheet":"Commitment to Quality","index":14,"n_rows":37,"n_cols":8,"rows_kept":37,"merged":[[9,0,9,1],[9,2,9,3],[9,4,9,5],[18,0,18,1],[21,0,25,0],[24,1,24,2],[25,1,25,2],[26,0,30,0],[29,1,29,2],[30,1,30,2],[31,0,35,0],[34,1,34,2],[35,1,35,2],[36,0,36,2]]}
["SRC #18: Organizational Commitment to Quality",null,null,"Back to Respondent Information"]
[]
["Item","Score"]
["Total Points Possible:",63]
["Points Earned:",{"$f":"D37","v":0}]
["Percent:",{"$f":"B5/B4","v":{"v":0,"d":"0%"}}]
["Final Score Possible:",90]
["Organizational Commitment to Quality SRC Final Score:",{"$f":"B7*B6","v":0}]
[]
[{"$f":"'Respondent Information'!C6","v":0},null,{"$f":"'Respondent Information'!C9","v":0},null,{"$f":"'Respondent Information'!C12","v":0}]
["Line of Business:",{"$f":"'Respondent Information'!E6","v":0},"Line of Business:",{"$f":"'Respondent Information'!E9","v":0},"Line of Business:",{"$f":"'Respondent Information'!E12","v":0}]
["Project Focus",null,"Project Focus",null,"Project Focus",null,null,"Birth Outcomes"]
["Key Metric",null,"Key Metric",null,"Key Metric",null,null,"Home and Community-Based Services"]
["Baseline Key Metric Rate",null,"Baseline Key Metric Rate",null,"Baseline Key Metric Rate",null,null,"Mental Health"]
["Key Metric Rate after Project",null,"Key Metric Rate after Project",null,"Key Metric Rate after Project",null,null,"Other Focus"]
["Change in Key Metric Rate in %",{"$f":"IF(ISERROR(((B15-B14)/B14)), 0, ((B15-B14)/B14))","v":{"v":0,"d":"0.00%"}},"Change in Key Metric Rate in %",{"$f":"IF(ISERROR(((D15-D14)/D14)), 0, ((D15-D14)/D14))","v":{"v":0,"d":"0.00%"}},"Change in Key Metric Rate in %",{"$f":"IF(ISERROR(((F15-F14)/F14)), 0, ((F15-F14)/F14))","v":{"v":0,"d":"0.00%"}}]
["% of Enrollees Targeted",null,"% of Enrollees Targeted",null,"% of Enrollees Targeted"]
[]
["Scores: "]
[]
["State","Criteria","Points Available","Points Earned"]
[{"$f":"'Respondent Information'!C6","v":0},"Change in Key Metric Rate",10,{"$f":"IF(ABS(B16)>0.1999, 10, IF(ABS(B16)>0.1499, 8, IF(ABS(B16)>0.0999, 6, IF(ABS(B16)>0.0599, 4, IF(ABS(B16)>=0.01, 2, 0)))))","v":0}]
[null,"% of Enrollees Targeted by QI Project",10,{"$f":"IF(B17>0.1999,10,IF(B17>0.1599,8,IF(B17>0.1099,6,IF(B17>0.0599,4,IF(B17>0.0099,2,0)))))","v":0}]
[null,"Project Focus",1,{"$f":"IF(ISBLANK(B12), 0, IF(B12<>\"Other Focus\", 1, 0))","v":0}]
[null,"State Points Earned:",null,{"$f":"SUM(D22:D24)","v":0}]
[null,"Points Weighted by Line of Business:",null,{"$f":"IF(B11=\"Medicaid\", D25*1, IF(B11=\"CHIP\", D25*0.9, IF(B11=\"Medicare\", D25*0.8, 0)))","v":0}]
[{"$f":"'Respondent Information'!C9","v":0},"Change in Key Metric Rate",10,{"$f":"IF(ABS(D16)>0.1999, 10, IF(ABS(D16)>0.1499, 8, IF(ABS(D16)>0.0999, 6, IF(ABS(D16)>0.0599, 4, IF(ABS(D16)>0.01, 2, 0)))))","v":0}]
[null,"% of Enrollees Targeted by QI Project",10,{"$f":"IF(D17>0.1999,10,IF(D17>0.1599,8,IF(D17>0.1099,6,IF(D17>0.0599,4,IF(D17>0.0099,2,0)))))","v":0}]
[null,"Project Focus",1,{"$f":"IF(ISBLANK(D12),0,(IF(D12<>\"Other Focus\",1,0)))","v":0}]
[null,"State Points Earned:",null,{"$f":"SUM(D27:D29)","v":0}]
[null,"Points Weighted by Line of Business:",null,{"$f":"IF(D11=\"Medicaid\", D30, IF(D11=\"CHIP\", D30*0.9, IF(D11=\"Medicare\", D30*0.8,0)))","v":0}]
[{"$f":"'Respondent Information'!C12","v":0},"Change in Key Metric Rate",10,{"$f":"IF(ABS(F16)>0.1999, 10, IF(ABS(F16)>0.1499, 8, IF(ABS(F16)>0.0999, 6, IF(ABS(F16)>0.0599, 4, IF(ABS(F16)>0.01, 2, 0)))))","v":0}]
[null,"% of Enrollees Targeted by QI Project",10,{"$f":"IF(F17>0.1999,10,IF(F17>0.1599,8,IF(F17>0.1099,6,IF(F17>0.0599,4,IF(F17>0.0099,2,0)))))","v":0}]
[null,"Project Focus",1,{"$f":"IF(ISBLANK(F12), 0, IF(F12<>\"Other Focus\", 1, 0))","v":0}]
[null,"State Points Earned:",null,{"$f":" SUM(D32:D34)","v":0}]
[null,"Points Weighted by Line of Business:",null,{"$f":"IF(F11=\"Medicaid\", D35*1, IF(F11=\"CHIP\", D35*0.9, IF(F11=\"Medicare\", D35*0.8, 0)))","v":0}]
["Total Points Earned: ",null,null,{"$f":"SUM(D36,D31,D26)","v":0}]

{"sheet":"Scoring-PersonCentered Care","index":15,"n_rows":3,"n_cols":28,"rows_kept":3,"merged":[[2,0,2,3]]}
["SRC #19: Person-Centered Care and Patient Centered",{"$nulls":8},"SRC #19: Person-Centered Care and Patient Centered",{"$nulls":8},"SRC #19: Person-Centered Care and Patient Centered",{"$nulls":8},"SRC #19: Person-Centered Care and Patient Centered"]
["Medical Homes Scoring Information",{"$nulls":8},"Medical Homes Scoring Information (continued)",{"$nulls":8},"Medical Homes Scoring Information (continued)",{"$nulls":8},"Medical Homes Scoring Information (continued)"]
["Back to Respondent Information"]

{"sheet":"Person-Centered Care","index":16,"n_rows":108,"n_cols":10,"rows_kept":108,"merged":[[20,0,20,3],[26,0,26,2],[27,0,27,2],[28,0,28,1],[29,0,29,1],[30,0,30,1],[31,0,31,1],[32,0,32,1],[33,0,33,1],[34,0,34,1],[35,0,35,2],[35,5,35,6],[36,0,36,1],[36,5,36,6],[37,0,37,1],[37,5,37,6],[38,0,38,1],[38,5,38,6],[39,0,39,1],[39,5,39,6],[40,0,40,1],[40,5,40,6],[41,0,41,1],[41,5,41,6],[42,0,42,1],[42,5,42,6],[43,0,43,1],[43,5,43,6],[44,0,44,1],[44,5,44,6],[45,0,45,1],[45,5,45,6],[46,0,46,1],[46,5,46,6],[47,0,47,1],[47,5,47,6],[48,0,48,1],[48,5,48,6],[49,0,49,1],[49,5,49,6],[50,0,50,1],[50,5,50,6],[52,0,52,1],[55,0,68,0],[55,1,55,3],[63,1,63,3],[66,1,66,3],[68,1,68,2],[69,0,82,0],[69,1,69,3],[77,1,77,3],[80,1,80,3],[82,1,82,2],[83,0,96,0],[83,1,83,3],[91,1,91,3],[94,1,94,3],[96,1,96,2],[97,0,106,0],[97,1,97,3],[105,1,105,3],[107,0,107,2]]}
["SRC #19: Person-Centered Care and Patient Centered Medical Homes",null,null,"Back to Respondent Information"]
[]
["Item","Score"]
["Total Points Possible: ",{"$f":"SUM(C57:C63)+SUM(C65:C66)+C68+SUM(C71:C77)+SUM(C79:C80)+C82+SUM(C85:C91)+SUM(C93:C94)+C96+SUM(C99:C105)+C107","v":200}]
["Points Earned:",{"$f":"D108","v":0}]
["Percent:",{"$f":"B5/B4","v":{"v":0,"d":"0%"}}]
["Final Score Possible:",300]
["Person-Centered Care SRC Final Score:",{"$f":"B6*B7","v":0}]
[]
[null,{"$f":"'Respondent Information'!C6","v":0},{"$f":"'Respondent Information'!C9","v":0},{"$f":"'Respondent Information'!C12","v":0}]
["Line of Business",{"$f":"'Respondent Information'!E6","v":0},{"$f":"'Respondent Information'!E9","v":0},{"$f":"'Respondent Information'!E12","v":0}]
[null,"Percentage who practiced in a certified patient centered medical home (PCMH) in the most recent complete contract year","Percentage who practiced in a certified patient centered medical home (PCMH) in the most recent complete contract year","Percentage who practiced in a certified patient centered medical home (PCMH) in the most recent complete contract year",{"$nulls":5},"Yes"]
["Physician Specialties",{"$nulls":8},"No"]
["Family Practice"]
["Internal Medicine"]
["Pediatrics"]
["Obstetrics/Gynecology"]
["Infectious Diseases"]
["Adult Psychiatrists"]
["Child Psychiatrists"]
["Report the percentage of enrollees, separated by age groups, who had a signed agreement for participant direction option (PDO) services in their enrollee record"]
["21-44 years of age"]
["45 years of age or older"]
["Percentage of enrollees that have had outpatient encounters with the same Primary Care Provider at least two times in the last three years, with at least one outpatient visit in CY2019 and one outpatient visit in CY2021"]
[]
["For Prospective Contract with Florida Medicaid"]
["Percentage who practiced in a certified patient centered medical home (PCMH) at the time of application submission"]
["Physician Specialties"]
["Family Practice"]
["Internal Medicine"]
["Pediatrics"]
["Obstetrics/Gynecology"]
["Infectious Diseases"]
["Adult Psychiatrists"]
["Child Psychiatrists"]
["Indicate which of the following Florida children's hospitals you have a written contract with at the time of application submission that includes coordination of care in a multidisciplinary clinic for medically complex children "]
["John's Hopkins All Children's Hospital in St. Petersburg",{"$nulls":7},"Contracts"]
["Nemours Children's Hospital in Orlando",{"$nulls":7},{"$f":"IF(C37=\"Yes\", 1, 0)","v":0}]
["Nicklaus Children's Hospital in Miami",{"$nulls":7},{"$f":"IF(C38=\"Yes\", 1, 0)","v":0}]
["Wolfson Children's Hospital in Jacksonville",{"$nulls":7},0]
["Arnold Palmer Hospital for Children in Orlando",{"$nulls":7},0]
["Florida Hospital for Children in Orlando",{"$nulls":7},0]
["Joe DiMaggio Children's Hospital in Hollywood",{"$nulls":7},0]
["St. Joseph's Children's Hospital in Tampa",{"$nulls":7},0]
["UF Health Shands Children's Hospital",{"$nulls":7},0]
["University of Miami Holtz Children's Hospital of Miami",{"$nulls":7},0]
["Children's Medical Center at Tampa General Hospital",{"$nulls":7},0]
["Golisano Children's Hospital of Southwest Florida",{"$nulls":7},0]
["Palm Beach Children's Hospital at St. Mary's Medical Center",{"$nulls":7},0]
["Salah Foundation Children's Hospital",{"$nulls":7},0]
["Studer Family Children's Hospital",{"$nulls":7},0]
[{"$nulls":8},0]
["Scores: ",{"$nulls":7},{"$f":"SUM(I38:I52)","v":0}]
[]
["State","Criteria","Points Available","Points Earned"]
[{"$f":"B10","v":0},"1. Percentage who practiced in a certified patient centered medical home (PCMH) in the most recent complete contract year"]
[null,"Family Practice",5,{"$f":"IF(B14>0.5, 5, IF(B14>0.2499, 3, IF(B14>=0.01, 1, 0)))","v":0}]
[null,"Internal Medicine",5,0]
[null,"Pediatrics",5,0]
[null,"Obstetrics/Gynecology",5,0]
[null,"Infectious Diseases",5,0]
[null,"Adult Psychiatrists",5,0]
[null,"Child Psychiatrists",5,0]
[null,"2. Percentage of enrollees, separated by age groups, who had a signed agreement for participant direction option (PDO) services in their enrollee record"]
[null,"Age 21-44",5,{"$f":"IF(B22>=0.1, 5, IF(B22>0.0499, 3, IF(B22>=0.01, 1, 0)))","v":0}]
[null,"Age 45+",5,{"$f":"IF(B23>=0.1, 5, IF(B23>0.0499, 3, IF(B23>=0.01, 1, 0)))","v":0}]
[null,"3. Percentage of enrollees that have had outpatient encounters with the same Primary Care Provider at least two times in the last three years, with at least one outpatient visit in CY2019 and one outpatient visit in CY2021"]
[null,"% of Enrollees with Outpatient Encounters with the Same PCP",5,{"$f":"IF(B24>0.5, 5, IF(B24>0.2499, 3, IF(B24>=0.01, 1, 0)))","v":0}]
[null,"State Points Earned:",null,{"$f":"SUM(D57:D63,D65:D66,D68)","v":0}]
[{"$f":"C10","v":0},"1. Percentage who practiced in a certified patient centered medical home (PCMH) in the most recent complete contract year"]
[null,"Family Practice",5,{"$f":"IF(C14>0.5, 5, IF(C14>0.2499, 3, IF(C14>=0.01, 1, 0)))","v":0}]
[null,"Internal Medicine",5,0]
[null,"Pediatrics",5,0]
[null,"Obstetrics/Gynecology",5,0]
[null,"Infectious Diseases",5,0]
[null,"Adult Psychiatrists",5,0]
[null,"Child Psychiatrists",5,0]
[null,"2. Percentage of enrollees, separated by age groups, who had a signed agreement for participant direction option (PDO) services in their enrollee record"]
[null,"Age 21-44",5,{"$f":"IF(C22>=0.1, 5, IF(C22>0.0499, 3, IF(C22>=0.01, 1, 0)))","v":0}]
[null,"Age 45+",5,{"$f":"IF(C23>=0.1, 5, IF(C23>0.0499, 3, IF(C23>=0.01, 1, 0)))","v":0}]
[null,"3. Percentage of enrollees that have had outpatient encounters with the same Primary Care Provider at least two times in the last three years, with at least one outpatient visit in CY2019 and one outpatient visit in CY2021"]
[null,"% of Enrollees with Outpatient Encounters with the Same PCP",5,{"$f":"IF(C24>0.5, 5, IF(C24>0.2499, 3, IF(C24>=0.01, 1, 0)))","v":0}]
[null,"State Points Earned:",null,{"$f":"SUM(D71:D77,D79:D80,D82:D82)","v":0}]
[{"$f":"D10","v":0},"1. Percentage who practiced in a certified patient centered medical home (PCMH) in the most recent complete contract year"]
[null,"Family Practice",5,{"$f":"IF(D14>0.5, 5, IF(D14>0.2499, 3, IF(D14>=0.01, 1, 0)))","v":0}]
[null,"Internal Medicine",5,0]
[null,"Pediatrics",5,0]
[null,"Obstetrics/Gynecology",5,0]
[null,"Infectious Diseases",5,0]
[null,"Adult Psychiatrists",5,0]
[null,"Child Psychiatrists",5,0]
[null,"2. Percentage of enrollees, separated by age groups, who had a signed agreement for participant direction option (PDO) services in their enrollee record"]
[null,"Age 21-44",5,{"$f":"IF(D22>=0.1, 5, IF(D22>0.0499, 3, IF(D22>=0.01, 1, 0)))","v":0}]
[null,"Age 45+",5,{"$f":"IF(D23>=0.1, 5, IF(D23>0.0499, 3, IF(D23>=0.01, 1, 0)))","v":0}]
[null,"3. Percentage of enrollees that have had outpatient encounters with the same Primary Care Provider at least two times in the last three years, with at least one outpatient visit in CY2019 and one outpatient visit in CY2021"]
[null,"% of Enrollees with Outpatient Encounters with the Same PCP",5,{"$f":"IF(D24>0.5, 5, IF(D24>0.2499, 3, IF(D24>=0.01, 1, 0)))","v":0}]
[null,"State Points Earned:",null,{"$f":"SUM(D85:D91,D93:D94,D96:D96)","v":0}]
["Prospective Florida Medicaid","4. Percentage who practiced in a certified patient centered medical home (PCMH) at the time of application submission"]
[null,"Family Practice",5,{"$f":"IF(C29>0.75, 5, IF(C29>0.4999, 3, IF(C29>0.1999, 1, 0)))","v":0}]
[null,"Internal Medicine",5,{"$f":"IF(C30>0.75, 5, IF(C30>0.4999, 3, IF(C30>0.1999, 1, 0)))","v":0}]
[null,"Pediatrics",5,0]
[null,"Obstetrics/Gynecology",5,0]
[null,"Infectious Diseases",5,0]
[null,"Adult Psychiatrists",5,0]
[null,"Child Psychiatrists",5,0]
[null,"5. Contracted Children's Hospitals"]
[null,"Number of Contracted Children's Hospitals",15,{"$f":"I53","v":0}]
["Total Points Earned: ",null,null,{"$f":"SUM(D97,D83,D69,D99:D105,D107)","v":0}]

{"sheet":"Scoring-Behav Health-Prim Care","index":17,"n_rows":3,"n_cols":37,"rows_kept":3,"merged":[[2,0,2,3]]}
["SRC #20: Behavioral Health/Primary Care Integration Scoring Information",{"$nulls":8},"SRC #20: Behavioral Health/Primary Care Integration Scoring Information",{"$nulls":8},"SRC #20: Behavioral Health/Primary Care Integration Scoring Information",{"$nulls":8},"SRC #20: Behavioral Health/Primary Care Integration Scoring Information",{"$nulls":8},"SRC #20: Behavioral Health/Primary Care Integration Scoring Information"]
[{"$nulls":9},"(Continued)",{"$nulls":8},"(Continued)",{"$nulls":8},"(Continued)",{"$nulls":8},"(Continued)"]
["Back to Respondent Information"]

{"sheet":"Behav Health-Prim Care Integ","index":18,"n_rows":173,"n_cols":19,"rows_kept":173,"merged":[[0,2,0,3],[9,1,9,3],[9,4,9,6],[9,7,9,9],[9,10,9,12],[9,13,9,15],[9,16,9,18],[10,1,10,3],[10,4,10,6],[10,7,10,9],[10,10,10,12],[10,13,10,15],[10,16,10,18],[11,1,11,3],[11,4,11,6],[11,7,11,9],[11,10,11,12],[11,13,11,15],[11,16,11,18],[12,1,12,3],[12,4,12,6],[12,7,12,9],[12,10,12,12],[12,13,12,15],[12,16,12,18],[13,1,13,3],[13,4,13,6],[13,7,13,9],[13,10,13,12],[13,13,13,15],[13,16,13,18],[14,1,14,3],[14,4,14,6],[14,7,14,9],[14,10,14,12],[14,13,14,15],[14,16,14,18],[15,1,15,3],[15,4,15,6],[16,1,16,3],[16,4,16,6],[16,7,16,9],[16,10,16,12],[16,13,16,15],[16,16,16,18],[17,1,17,3],[17,4,17,6],[17,7,17,9],[17,10,17,12],[17,13,17,15],[17,16,17,18],[18,1,18,3],[18,4,18,6],[18,7,18,9],[18,10,18,12],[18,13,18,15],[18,16,18,18],[19,1,19,3],[19,4,19,6],[19,7,19,9],[19,10,19,12],[19,13,19,15],[19,16,19,18],[20,1,20,3],[20,4,20,6],[20,7,20,9],[20,10,20,12],[20,13,20,15],[20,16,20,18],[21,1,21,3],[21,4,21,6],[21,7,21,9],[21,10,21,12],[21,13,21,15],[21,16,21,18],[22,1,22,3],[22,4,22,6],[23,1,23,3],[23,4,23,6],[23,7,23,9],[23,10,23,12],[23,13,23,15],[23,16,23,18],[24,1,24,3],[24,4,24,6],[24,7,24,9],[24,10,24,12],[24,13,24,15],[24,16,24,18],[25,1,25,3],[25,4,25,6],[25,7,25,9],[25,10,25,12],[25,13,25,15],[25,16,25,18],[26,1,26,6],[26,7,26,12],[26,13,26,18],[27,1,27,3],[27,4,27,6],[27,7,27,9],[27,10,27,12],[27,13,27,15],[27,16,27,18],[28,1,28,3],[28,4,28,6],[28,7,28,9],[28,10,28,12],[28,13,28,15],[28,16,28,18],[29,1,29,3],[29,4,29,6],[29,7,29,9],[29,10,29,12],[29,13,29,15],[29,16,29,18],[30,1,30,3],[30,4,30,6],[30,7,30,9],[30,10,30,12],[30,13,30,15],[30,16,30,18],[31,0,32,0],[31,1,31,2],[31,3,31,4],[31,5,31,6],[31,7,31,8],[31,9,31,10],[31,11,31,12],[31,13,31,14],[31,15,31,16],[31,17,31,18],[36,0,37,0],[36,1,36,2],[36,3,36,4],[36,5,36,6],[36,7,36,8],[36,9,36,10],[36,11,36,12],[36,13,36,14],[36,15,36,16],[36,17,36,18],[68,0,68,1],[76,0,76,1],[95,0,95,3],[97,0,99,0],[100,0,102,0],[103,0,105,0],[106,0,106,5],[108,0,111,0],[111,1,111,4],[112,0,115,0],[115,1,115,4],[116,0,119,0],[119,1,119,4],[120,0,120,5],[122,0,128,0],[128,1,128,4],[129,0,135,0],[135,1,135,4],[136,0,142,0],[142,1,142,4],[143,0,143,2]]}
["SRC #20: Behavioral Health/Primary Care Integration",null,"Back to Respondent Information"]
[]
["Item","Score"]
["Total Points Possible:",730]
["Points Earned:",{"$f":"B153","v":0}]
["Percent:",{"$f":"B5/B4","v":{"v":0,"d":"0%"}}]
["Final Score Possible:",250]
["Behavioral Health/Primary Care Integration SRC Final Score:",{"$f":"B6*B7","v":0}]
[]
["Item 1a: All PCPs who have a Medicaid-provider-enrolled as a:","Total Number",null,null,"Percent"]
["Psychiatrist"]
["Psychologist"]
["Licensed Clinical Social Worker"]
["Licensed Professional Counselor"]
["Licensed Mental Health Counselor"]
["Licensed Marriage and Family Therapist"]
["Item 1b:  All Pediatricians (including Adolescence Medicine) who have a Medicaid-provider-enrolled as a:","Total Number",null,null,"Percent"]
["Psychiatrist"]
["Psychologist"]
["Licensed Clinical Social Worker"]
["Licensed Professional Counselor"]
["Licensed Mental Health Counselor"]
["Licensed Marriage and Family Therapist"]
["Item 2: Providers whose Practice has Earned national Committee for Quality Assurance (NCQA) Distinction in Behavioral Health Integration:","Total Number",null,null,"Percent"]
["All PCPs in-network"]
["Pediatricians (including Adolescent Medicine) in-network"]
[null,{"$f":"'Respondent Information'!C6","v":0},{"$nulls":5},{"$f":"'Respondent Information'!C9","v":0},{"$nulls":5},{"$f":"'Respondent Information'!C12","v":0}]
["Item 3: Providers who Submitted At Least One Claim for Screening, Brief Intervention, Referral for Treatment (SBIRT) in Calendar Year 2022:","Total Number",null,null,"Percent",null,null,"Total Number",null,null,"Percent",null,null,"Total Number",null,null,"Percent"]
["All PCPs in-network"]
["Pediatricians (including Adolescent Medicine) in-network"]
["Obstetricians/Gynecologists in-network"]
["Item 4: Providers who Submitted At Least One Claim for Behavioral Health Integration (BHI):",2020,null,2021,null,2022,null,2020,null,2021,null,2022,null,2020,null,2021,null,2022]
[null,"Total Number","Percent","Total Number","Percent","Total Number","Percent","Total Number","Percent","Total Number","Percent","Total Number","Percent","Total Number","Percent","Total Number","Percent","Total Number","Percent"]
["All PCPs in-network"]
["Pediatricians (including Adolescent Medicine) in-network"]
["Psychiatrists in-network"]
["Item 5: Unutilized, Peripheral, Standard, and Core Physicians within-network for the Following Physician Specialties:",2020,null,2021,null,2022,null,2020,null,2021,null,2022,null,2020,null,2021,null,2022]
[null,"Total Number","Percent","Total Number","Percent","Total Number","Percent","Total Number","Percent","Total Number","Percent","Total Number","Percent","Total Number","Percent","Total Number","Percent","Total Number","Percent"]
["All Providers in Network",{"$f":"SUM(B40:B43)","v":0},null,{"$f":"SUM(D40:D43)","v":0},null,{"$f":"SUM(F40:F43)","v":0},null,{"$f":"SUM(H40:H43)","v":0},null,{"$f":"SUM(J40:J43)","v":0},null,{"$f":"SUM(L40:L43)","v":0},null,{"$f":"SUM(N40:N43)","v":0},null,{"$f":"SUM(P40:P43)","v":0},null,{"$f":"SUM(R40:R43)","v":0}]
["Unutilized Physicians",null,{"$f":"IF(B39=0, 0, B40/$B$39)","v":{"v":0,"d":"0.00%"}},null,{"$f":"IF(ISBLANK(D40), 0, D40/D$39)","v":{"v":0,"d":"0.00%"}},null,{"$f":"IF($F$39=0, 0, F40/F$39)","v":{"v":0,"d":"0.00%"}},null,{"$f":"IF(ISBLANK(H40), 0, H40/H$39)","v":{"v":0,"d":"0.00%"}},null,{"$f":"IF(ISBLANK(J40), 0, J40/J$39)","v":{"v":0,"d":"0.00%"}},null,{"$f":"IF(ISBLANK(L40), 0, L40/L$39)","v":{"v":0,"d":"0.00%"}},null,{"$f":"IF(ISBLANK(N40), 0, N40/N$39)","v":{"v":0,"d":"0.00%"}},null,{"$f":"IF(ISBLANK(P40), 0, P40/P$39)","v":{"v":0,"d":"0.00%"}},null,{"$f":"IF(ISBLANK(R40), 0, R40/$R$39)","v":{"v":0,"d":"0.00%"}}]
["Peripheral Physicians",null,{"$f":"IF(ISBLANK(B40), 0, B41/$B$39)","v":{"v":0,"d":"0.00%"}},null,{"$f":"IF(ISBLANK(D41), 0, D41/D$39)","v":{"v":0,"d":"0.00%"}},null,{"$f":"IF(ISBLANK(F41), 0, F41/F$39)","v":{"v":0,"d":"0.00%"}},null,{"$f":"IF(ISBLANK(H41), 0, H41/H$39)","v":{"v":0,"d":"0.00%"}},null,{"$f":"IF(ISBLANK(J41), 0, J41/J$39)","v":{"v":0,"d":"0.00%"}},null,{"$f":"IF(ISBLANK(L41), 0, L41/L$39)","v":{"v":0,"d":"0.00%"}},null,{"$f":"IF(ISBLANK(N41), 0, N41/N$39)","v":{"v":0,"d":"0.00%"}},null,{"$f":"IF(ISBLANK(P41), 0, P41/P$39)","v":{"v":0,"d":"0.00%"}},null,{"$f":"IF(ISBLANK(R41), 0, R41/$R$39)","v":{"v":0,"d":"0.00%"}}]
["Standard Physicians",null,{"$f":"IF(ISBLANK(B41), 0, B42/$B$39)","v":{"v":0,"d":"0.00%"}},null,{"$f":"IF(ISBLANK(D42), 0, D42/D$39)","v":{"v":0,"d":"0.00%"}},null,{"$f":"IF(ISBLANK(F42), 0, F42/F$39)","v":{"v":0,"d":"0.00%"}},null,{"$f":"IF(ISBLANK(H42), 0, H42/H$39)","v":{"v":0,"d":"0.00%"}},null,{"$f":"IF(ISBLANK(J42), 0, J42/J$39)","v":{"v":0,"d":"0.00%"}},null,{"$f":"IF(ISBLANK(L42), 0, L42/L$39)","v":{"v":0,"d":"0.00%"}},null,{"$f":"IF(ISBLANK(N42), 0, N42/N$39)","v":{"v":0,"d":"0.00%"}},null,{"$f":"IF(ISBLANK(P42), 0, P42/P$39)","v":{"v":0,"d":"0.00%"}},null,{"$f":"IF(ISBLANK(R42), 0, R42/$R$39)","v":{"v":0,"d":"0.00%"}}]
["Core Physicians",null,{"$f":"IF(ISBLANK(B42), 0, B43/$B$39)","v":{"v":0,"d":"0.00%"}},null,{"$f":"IF(ISBLANK(D43), 0, D43/D$39)","v":{"v":0,"d":"0.00%"}},null,{"$f":"IF(ISBLANK(F43), 0, F43/F$39)","v":{"v":0,"d":"0.00%"}},null,{"$f":"IF(ISBLANK(H43), 0, H43/H$39)","v":{"v":0,"d":"0.00%"}},null,{"$f":"IF(ISBLANK(J43), 0, J43/J$39)","v":{"v":0,"d":"0.00%"}},null,{"$f":"IF(ISBLANK(L43), 0, L43/L$39)","v":{"v":0,"d":"0.00%"}},null,{"$f":"IF(ISBLANK(N43), 0, N43/N$39)","v":{"v":0,"d":"0.00%"}},null,{"$f":"IF(ISBLANK(P43), 0, P43/P$39)","v":{"v":0,"d":"0.00%"}},null,{"$f":"IF(ISBLANK(R43), 0, R43/$R$39)","v":{"v":0,"d":"0.00%"}}]
["All Adult PCPs in-network",{"$f":"SUM(B45:B48)","v":0},{"$f":"IF(ISBLANK(B43), 0, B44/$B$39)","v":{"v":0,"d":"0.00%"}},{"$f":"SUM(D45:D48)","v":0},{"$f":"IF(D44=0, 0, D44/D$39)","v":{"v":0,"d":"0.00%"}},{"$f":"SUM(F45:F48)","v":0},{"$f":"IF(F44=0, 0, F44/F$39)","v":{"v":0,"d":"0.00%"}},{"$f":"SUM(H45:H48)","v":0},{"$f":"IF(H44=0, 0, H44/H$39)","v":{"v":0,"d":"0.00%"}},{"$f":"SUM(J45:J48)","v":0},{"$f":"IF(J44=0, 0, J44/J$39)","v":{"v":0,"d":"0.00%"}},{"$f":"SUM(L45:L48)","v":0},{"$f":"IF(L44=0, 0, L44/L$39)","v":{"v":0,"d":"0.00%"}},{"$f":"SUM(N45:N48)","v":0},{"$f":"IF(N44=0, 0, N44/N$39)","v":{"v":0,"d":"0.00%"}},{"$f":"SUM(P45:P48)","v":0},{"$f":"IF(P44=0, 0, P44/P$39)","v":{"v":0,"d":"0.00%"}},{"$f":"SUM(R45:R48)","v":0},{"$f":"IF(R44=0, 0, R44/$R$39)","v":{"v":0,"d":"0.00%"}}]
["Unutilized Physicians",null,{"$f":"IF(ISBLANK(B45), 0, B45/$B$44)","v":{"v":0,"d":"0.00%"}},null,{"$f":"IF(ISBLANK(D45), 0, D45/D$44)","v":{"v":0,"d":"0.00%"}},null,{"$f":"IF(ISBLANK(F45), 0, F45/F$44)","v":{"v":0,"d":"0.00%"}},null,{"$f":"IF(ISBLANK(H45), 0, H45/H$44)","v":{"v":0,"d":"0.00%"}},null,{"$f":"IF(ISBLANK(J45), 0, J45/J$44)","v":{"v":0,"d":"0.00%"}},null,{"$f":"IF(ISBLANK(L45), 0, L45/L$44)","v":{"v":0,"d":"0.00%"}},null,{"$f":"IF(ISBLANK(N45), 0, N45/N$44)","v":{"v":0,"d":"0.00%"}},null,{"$f":"IF(ISBLANK(P45), 0, P45/P$44)","v":{"v":0,"d":"0.00%"}},null,{"$f":"IF(ISBLANK(R45), 0, R45/$R$44)","v":{"v":0,"d":"0.00%"}}]
["Peripheral Physicians",null,{"$f":"IF(ISBLANK(B46), 0, B46/$B$44)","v":{"v":0,"d":"0.00%"}},null,{"$f":"IF(ISBLANK(D46), 0, D46/D$44)","v":{"v":0,"d":"0.00%"}},null,{"$f":"IF(ISBLANK(F46), 0, F46/F$44)","v":{"v":0,"d":"0.00%"}},null,{"$f":"IF(ISBLANK(H46), 0, H46/H$44)","v":{"v":0,"d":"0.00%"}},null,{"$f":"IF(ISBLANK(J46), 0, J46/J$44)","v":{"v":0,"d":"0.00%"}},null,{"$f":"IF(ISBLANK(L46), 0, L46/L$44)","v":{"v":0,"d":"0.00%"}},null,{"$f":"IF(ISBLANK(N46), 0, N46/N$44)","v":{"v":0,"d":"0.00%"}},null,{"$f":"IF(ISBLANK(P46), 0, P46/P$44)","v":{"v":0,"d":"0.00%"}},null,{"$f":"IF(ISBLANK(R46), 0, R46/$R$44)","v":{"v":0,"d":"0.00%"}}]
["Standard Physicians",null,{"$f":"IF(ISBLANK(B47), 0, B47/$B$44)","v":{"v":0,"d":"0.00%"}},null,{"$f":"IF(ISBLANK(D47), 0, D47/D$44)","v":{"v":0,"d":"0.00%"}},null,{"$f":"IF(ISBLANK(F47), 0, F47/F$44)","v":{"v":0,"d":"0.00%"}},null,{"$f":"IF(ISBLANK(H47), 0, H47/H$44)","v":{"v":0,"d":"0.00%"}},null,{"$f":"IF(ISBLANK(J47), 0, J47/J$44)","v":{"v":0,"d":"0.00%"}},null,{"$f":"IF(ISBLANK(L47), 0, L47/L$44)","v":{"v":0,"d":"0.00%"}},null,{"$f":"IF(ISBLANK(N47), 0, N47/N$44)","v":{"v":0,"d":"0.00%"}},null,{"$f":"IF(ISBLANK(P47), 0, P47/P$44)","v":{"v":0,"d":"0.00%"}},null,{"$f":"IF(ISBLANK(R47), 0, R47/$R$44)","v":{"v":0,"d":"0.00%"}}]
["Core Physicians",null,{"$f":"IF(ISBLANK(B48), 0, B48/$B$44)","v":{"v":0,"d":"0.00%"}},null,{"$f":"IF(ISBLANK(D48), 0, D48/D$44)","v":{"v":0,"d":"0.00%"}},null,{"$f":"IF(ISBLANK(F48), 0, F48/F$44)","v":{"v":0,"d":"0.00%"}},null,{"$f":"IF(ISBLANK(H48), 0, H48/H$44)","v":{"v":0,"d":"0.00%"}},null,{"$f":"IF(ISBLANK(J48), 0, J48/J$44)","v":{"v":0,"d":"0.00%"}},null,{"$f":"IF(ISBLANK(L48), 0, L48/L$44)","v":{"v":0,"d":"0.00%"}},null,{"$f":"IF(ISBLANK(N48), 0, N48/N$44)","v":{"v":0,"d":"0.00%"}},null,{"$f":"IF(ISBLANK(P48), 0, P48/P$44)","v":{"v":0,"d":"0.00%"}},null,{"$f":"IF(ISBLANK(R48), 0, R48/$R$44)","v":{"v":0,"d":"0.00%"}}]
["All Pediatric PCPs in-network",{"$f":"SUM(B50:B53)","v":0},{"$f":"IF(B39=0, 0, B49/$B$39)","v":{"v":0,"d":"0.00%"}},{"$f":"SUM(D50:D53)","v":0},{"$f":"IF(D49=0, 0, D49/D$39)","v":{"v":0,"d":"0.00%"}},{"$f":"SUM(F50:F53)","v":0},{"$f":"IF(F49=0, 0, F49/F$39)","v":{"v":0,"d":"0.00%"}},{"$f":"SUM(H50:H53)","v":0},{"$f":"IF(H49=0, 0, H49/H$39)","v":{"v":0,"d":"0.00%"}},{"$f":"SUM(J50:J53)","v":0},{"$f":"IF(J49=0, 0, J49/J$39)","v":{"v":0,"d":"0.00%"}},{"$f":"SUM(L50:L53)","v":0},{"$f":"IF(L49=0, 0, L49/L$39)","v":{"v":0,"d":"0.00%"}},{"$f":"SUM(N50:N53)","v":0},{"$f":"IF(N49=0, 0, N49/N$39)","v":{"v":0,"d":"0.00%"}},{"$f":"SUM(P50:P53)","v":0},{"$f":"IF(P49=0, 0, P49/P$39)","v":{"v":0,"d":"0.00%"}},{"$f":"SUM(R50:R53)","v":0},{"$f":"IF(R49=0, 0, R49/$R$39)","v":{"v":0,"d":"0.00%"}}]
["Unutilized Physicians",null,{"$f":"IF(ISBLANK(B50), 0, B50/$B$49)","v":{"v":0,"d":"0.00%"}},null,{"$f":"IF(ISBLANK(D50), 0, D50/D$49)","v":{"v":0,"d":"0.00%"}},null,{"$f":"IF(ISBLANK(F50), 0, F50/F$49)","v":{"v":0,"d":"0.00%"}},null,{"$f":"IF(ISBLANK(H50), 0, H50/H$49)","v":{"v":0,"d":"0.00%"}},null,{"$f":"IF(ISBLANK(J50), 0, J50/J$49)","v":{"v":0,"d":"0.00%"}},null,{"$f":"IF(ISBLANK(L50), 0, L50/L$49)","v":{"v":0,"d":"0.00%"}},null,{"$f":"IF(ISBLANK(N50), 0, N50/N$49)","v":{"v":0,"d":"0.00%"}},null,{"$f":"IF(ISBLANK(P50), 0, P50/P$49)","v":{"v":0,"d":"0.00%"}},null,{"$f":"IF(ISBLANK(R50), 0, R50/$R$49)","v":{"v":0,"d":"0.00%"}}]
["Peripheral Physicians",null,{"$f":"IF(ISBLANK(B51), 0, B51/$B$49)","v":{"v":0,"d":"0.00%"}},null,{"$f":"IF(ISBLANK(D51), 0, D51/D$49)","v":{"v":0,"d":"0.00%"}},null,{"$f":"IF(ISBLANK(F51), 0, F51/F$49)","v":{"v":0,"d":"0.00%"}},null,{"$f":"IF(ISBLANK(H51), 0, H51/H$49)","v":{"v":0,"d":"0.00%"}},null,{"$f":"IF(ISBLANK(J51), 0, J51/J$49)","v":{"v":0,"d":"0.00%"}},null,{"$f":"IF(ISBLANK(L51), 0, L51/L$49)","v":{"v":0,"d":"0.00%"}},null,{"$f":"IF(ISBLANK(N51), 0, N51/N$49)","v":{"v":0,"d":"0.00%"}},null,{"$f":"IF(ISBLANK(P51), 0, P51/P$49)","v":{"v":0,"d":"0.00%"}},null,{"$f":"IF(ISBLANK(R51), 0, R51/$R$49)","v":{"v":0,"d":"0.00%"}}]
["Standard Physicians",null,{"$f":"IF(ISBLANK(B52), 0, B52/$B$49)","v":{"v":0,"d":"0.00%"}},null,{"$f":"IF(ISBLANK(D52), 0, D52/D$49)","v":{"v":0,"d":"0.00%"}},null,{"$f":"IF(ISBLANK(F52), 0, F52/F$49)","v":{"v":0,"d":"0.00%"}},null,{"$f":"IF(ISBLANK(H52), 0, H52/H$49)","v":{"v":0,"d":"0.00%"}},null,{"$f":"IF(ISBLANK(J52), 0, J52/J$49)","v":{"v":0,"d":"0.00%"}},null,{"$f":"IF(ISBLANK(L52), 0, L52/L$49)","v":{"v":0,"d":"0.00%"}},null,{"$f":"IF(ISBLANK(N52), 0, N52/N$49)","v":{"v":0,"d":"0.00%"}},null,{"$f":"IF(ISBLANK(P52), 0, P52/P$49)","v":{"v":0,"d":"0.00%"}},null,{"$f":"IF(ISBLANK(R52), 0, R52/$R$49)","v":{"v":0,"d":"0.00%"}}]
["Core Physicians",null,{"$f":"IF(ISBLANK(B53), 0, B53/$B$49)","v":{"v":0,"d":"0.00%"}},null,{"$f":"IF(ISBLANK(D53), 0, D53/D$49)","v":{"v":0,"d":"0.00%"}},null,{"$f":"IF(ISBLANK(F53), 0, F53/F$49)","v":{"v":0,"d":"0.00%"}},null,{"$f":"IF(ISBLANK(H53), 0, H53/H$49)","v":{"v":0,"d":"0.00%"}},null,{"$f":"IF(ISBLANK(J53), 0, J53/J$49)","v":{"v":0,"d":"0.00%"}},null,{"$f":"IF(ISBLANK(L53), 0, L53/L$49)","v":{"v":0,"d":"0.00%"}},null,{"$f":"IF(ISBLANK(N53), 0, N53/N$49)","v":{"v":0,"d":"0.00%"}},null,{"$f":"IF(ISBLANK(P53), 0, P53/P$49)","v":{"v":0,"d":"0.00%"}},null,{"$f":"IF(ISBLANK(R53), 0, R53/$R$49)","v":{"v":0,"d":"0.00%"}}]
["All Obstetricians in-network",{"$f":"SUM(B55:B58)","v":0},{"$f":"IF(B54=0, 0, B54/$B$39)","v":{"v":0,"d":"0.00%"}},{"$f":"SUM(D55:D58)","v":0},{"$f":"IF(D54=0, 0, D54/D$39)","v":{"v":0,"d":"0.00%"}},{"$f":"SUM(F55:F58)","v":0},{"$f":"IF(F54=0, 0, F54/F$39)","v":{"v":0,"d":"0.00%"}},{"$f":"SUM(H55:H58)","v":0},{"$f":"IF(H54=0, 0, H54/H$39)","v":{"v":0,"d":"0.00%"}},{"$f":"SUM(J55:J58)","v":0},{"$f":"IF(J54=0, 0, J54/J$39)","v":{"v":0,"d":"0.00%"}},{"$f":"SUM(L55:L58)","v":0},{"$f":"IF(L54=0, 0, L54/L$39)","v":{"v":0,"d":"0.00%"}},{"$f":"SUM(N55:N58)","v":0},{"$f":"IF(N54=0, 0, N54/N$39)","v":{"v":0,"d":"0.00%"}},{"$f":"SUM(P55:P58)","v":0},{"$f":"IF(P54=0, 0, P54/P$39)","v":{"v":0,"d":"0.00%"}},{"$f":"SUM(R55:R58)","v":0},{"$f":"IF(R54=0, 0, R54/$R$39)","v":{"v":0,"d":"0.00%"}}]
["Unutilized Physicians",null,{"$f":"IF(ISBLANK(B55), 0, B55/$B$54)","v":{"v":0,"d":"0.00%"}},null,{"$f":"IF(ISBLANK(D55), 0, D55/D$54)","v":{"v":0,"d":"0.00%"}},null,{"$f":"IF(ISBLANK(F55), 0, F55/F$54)","v":{"v":0,"d":"0.00%"}},null,{"$f":"IF(ISBLANK(H55), 0, H55/H$54)","v":{"v":0,"d":"0.00%"}},null,{"$f":"IF(ISBLANK(J55), 0, J55/J$54)","v":{"v":0,"d":"0.00%"}},null,{"$f":"IF(ISBLANK(L55), 0, L55/L$54)","v":{"v":0,"d":"0.00%"}},null,{"$f":"IF(ISBLANK(N55), 0, N55/N$54)","v":{"v":0,"d":"0.00%"}},null,{"$f":"IF(ISBLANK(P55), 0, P55/P$54)","v":{"v":0,"d":"0.00%"}},null,{"$f":"IF(ISBLANK(R55), 0, R55/$R$54)","v":{"v":0,"d":"0.00%"}}]
["Peripheral Physicians",null,{"$f":"IF(ISBLANK(B56), 0, B56/$B$54)","v":{"v":0,"d":"0.00%"}},null,{"$f":"IF(ISBLANK(D56), 0, D56/D$54)","v":{"v":0,"d":"0.00%"}},null,{"$f":"IF(ISBLANK(F56), 0, F56/F$54)","v":{"v":0,"d":"0.00%"}},null,{"$f":"IF(ISBLANK(H56), 0, H56/H$54)","v":{"v":0,"d":"0.00%"}},null,{"$f":"IF(ISBLANK(J56), 0, J56/J$54)","v":{"v":0,"d":"0.00%"}},null,{"$f":"IF(ISBLANK(L56), 0, L56/L$54)","v":{"v":0,"d":"0.00%"}},null,{"$f":"IF(ISBLANK(N56), 0, N56/N$54)","v":{"v":0,"d":"0.00%"}},null,{"$f":"IF(ISBLANK(P56), 0, P56/P$54)","v":{"v":0,"d":"0.00%"}},null,{"$f":"IF(ISBLANK(R56), 0, R56/$R$54)","v":{"v":0,"d":"0.00%"}}]
["Standard Physicians",null,{"$f":"IF(ISBLANK(B57), 0, B57/$B$54)","v":{"v":0,"d":"0.00%"}},null,{"$f":"IF(ISBLANK(D57), 0, D57/D$54)","v":{"v":0,"d":"0.00%"}},null,{"$f":"IF(ISBLANK(F57), 0, F57/F$54)","v":{"v":0,"d":"0.00%"}},null,{"$f":"IF(ISBLANK(H57), 0, H57/H$54)","v":{"v":0,"d":"0.00%"}},null,{"$f":"IF(ISBLANK(J57), 0, J57/J$54)","v":{"v":0,"d":"0.00%"}},null,{"$f":"IF(ISBLANK(L57), 0, L57/L$54)","v":{"v":0,"d":"0.00%"}},null,{"$f":"IF(ISBLANK(N57), 0, N57/N$54)","v":{"v":0,"d":"0.00%"}},null,{"$f":"IF(ISBLANK(P57), 0, P57/P$54)","v":{"v":0,"d":"0.00%"}},null,{"$f":"IF(ISBLANK(R57), 0, R57/$R$54)","v":{"v":0,"d":"0.00%"}}]
["Core Physicians",null,{"$f":"IF(ISBLANK(B58), 0, B58/$B$54)","v":{"v":0,"d":"0.00%"}},null,{"$f":"IF(ISBLANK(D58), 0, D58/D$54)","v":{"v":0,"d":"0.00%"}},null,{"$f":"IF(ISBLANK(F58), 0, F58/F$54)","v":{"v":0,"d":"0.00%"}},null,{"$f":"IF(ISBLANK(H58), 0, H58/H$54)","v":{"v":0,"d":"0.00%"}},null,{"$f":"IF(ISBLANK(J58), 0, J58/J$54)","v":{"v":0,"d":"0.00%"}},null,{"$f":"IF(ISBLANK(L58), 0, L58/L$54)","v":{"v":0,"d":"0.00%"}},null,{"$f":"IF(ISBLANK(N58), 0, N58/N$54)","v":{"v":0,"d":"0.00%"}},null,{"$f":"IF(ISBLANK(P58), 0, P58/P$54)","v":{"v":0,"d":"0.00%"}},null,{"$f":"IF(ISBLANK(R58), 0, R58/$R$54)","v":{"v":0,"d":"0.00%"}}]
["All Cardiologists in-network",{"$f":"SUM(B60:B63)","v":0},{"$f":"IF(B59=0, 0, B59/$B$39)","v":{"v":0,"d":"0.00%"}},{"$f":"SUM(D60:D63)","v":0},{"$f":"IF(D59=0, 0, D59/D$39)","v":{"v":0,"d":"0.00%"}},{"$f":"SUM(F60:F63)","v":0},{"$f":"IF(F59=0, 0, F59/F$39)","v":{"v":0,"d":"0.00%"}},{"$f":"SUM(H60:H63)","v":0},{"$f":"IF(H59=0, 0, H59/H$39)","v":{"v":0,"d":"0.00%"}},{"$f":"SUM(J60:J63)","v":0},{"$f":"IF(J59=0, 0, J59/J$39)","v":{"v":0,"d":"0.00%"}},{"$f":"SUM(L60:L63)","v":0},{"$f":"IF(L59=0, 0, L59/L$39)","v":{"v":0,"d":"0.00%"}},{"$f":"SUM(N60:N63)","v":0},{"$f":"IF(N59=0, 0, N59/N$39)","v":{"v":0,"d":"0.00%"}},{"$f":"SUM(P60:P63)","v":0},{"$f":"IF(P59=0, 0, P59/P$39)","v":{"v":0,"d":"0.00%"}},{"$f":"SUM(R60:R63)","v":0},{"$f":"IF(R59=0, 0, R59/$R$39)","v":{"v":0,"d":"0.00%"}}]
["Unutilized Physicians",null,{"$f":"IF(ISBLANK(B60), 0, B60/$B$59)","v":{"v":0,"d":"0.00%"}},null,{"$f":"IF(ISBLANK(D60), 0, D60/D$59)","v":{"v":0,"d":"0.00%"}},null,{"$f":"IF(ISBLANK(F60), 0, F60/F$59)","v":{"v":0,"d":"0.00%"}},null,{"$f":"IF(ISBLANK(H60), 0, H60/H$59)","v":{"v":0,"d":"0.00%"}},null,{"$f":"IF(ISBLANK(J60), 0, J60/J$59)","v":{"v":0,"d":"0.00%"}},null,{"$f":"IF(ISBLANK(L60), 0, L60/L$59)","v":{"v":0,"d":"0.00%"}},null,{"$f":"IF(ISBLANK(N60), 0, N60/N$59)","v":{"v":0,"d":"0.00%"}},null,{"$f":"IF(ISBLANK(P60), 0, P60/P$59)","v":{"v":0,"d":"0.00%"}},null,{"$f":"IF(ISBLANK(R60), 0, R60/$R$59)","v":{"v":0,"d":"0.00%"}}]
["Peripheral Physicians",null,{"$f":"IF(ISBLANK(B61), 0, B61/$B$59)","v":{"v":0,"d":"0.00%"}},null,{"$f":"IF(ISBLANK(D61), 0, D61/D$59)","v":{"v":0,"d":"0.00%"}},null,{"$f":"IF(ISBLANK(F61), 0, F61/F$59)","v":{"v":0,"d":"0.00%"}},null,{"$f":"IF(ISBLANK(H61), 0, H61/H$59)","v":{"v":0,"d":"0.00%"}},null,{"$f":"IF(ISBLANK(J61), 0, J61/J$59)","v":{"v":0,"d":"0.00%"}},null,{"$f":"IF(ISBLANK(L61), 0, L61/L$59)","v":{"v":0,"d":"0.00%"}},null,{"$f":"IF(ISBLANK(N61), 0, N61/N$59)","v":{"v":0,"d":"0.00%"}},null,{"$f":"IF(ISBLANK(P61), 0, P61/P$59)","v":{"v":0,"d":"0.00%"}},null,{"$f":"IF(ISBLANK(R61), 0, R61/$R$59)","v":{"v":0,"d":"0.00%"}}]
["Standard Physicians",null,{"$f":"IF(ISBLANK(B62), 0, B62/$B$59)","v":{"v":0,"d":"0.00%"}},null,{"$f":"IF(ISBLANK(D62), 0, D62/D$59)","v":{"v":0,"d":"0.00%"}},null,{"$f":"IF(ISBLANK(F62), 0, F62/F$59)","v":{"v":0,"d":"0.00%"}},null,{"$f":"IF(ISBLANK(H62), 0, H62/H$59)","v":{"v":0,"d":"0.00%"}},null,{"$f":"IF(ISBLANK(J62), 0, J62/J$59)","v":{"v":0,"d":"0.00%"}},null,{"$f":"IF(ISBLANK(L62), 0, L62/L$59)","v":{"v":0,"d":"0.00%"}},null,{"$f":"IF(ISBLANK(N62), 0, N62/N$59)","v":{"v":0,"d":"0.00%"}},null,{"$f":"IF(ISBLANK(P62), 0, P62/P$59)","v":{"v":0,"d":"0.00%"}},null,{"$f":"IF(ISBLANK(R62), 0, R62/$R$59)","v":{"v":0,"d":"0.00%"}}]
["Core Physicians",null,{"$f":"IF(ISBLANK(B63), 0, B63/$B$59)","v":{"v":0,"d":"0.00%"}},null,{"$f":"IF(ISBLANK(D63), 0, D63/D$59)","v":{"v":0,"d":"0.00%"}},null,{"$f":"IF(ISBLANK(F63), 0, F63/F$59)","v":{"v":0,"d":"0.00%"}},null,{"$f":"IF(ISBLANK(H63), 0, H63/H$59)","v":{"v":0,"d":"0.00%"}},null,{"$f":"IF(ISBLANK(J63), 0, J63/J$59)","v":{"v":0,"d":"0.00%"}},null,{"$f":"IF(ISBLANK(L63), 0, L63/L$59)","v":{"v":0,"d":"0.00%"}},null,{"$f":"IF(ISBLANK(N63), 0, N63/N$59)","v":{"v":0,"d":"0.00%"}},null,{"$f":"IF(ISBLANK(P63), 0, P63/P$59)","v":{"v":0,"d":"0.00%"}},null,{"$f":"IF(ISBLANK(R63), 0, R63/$R$59)","v":{"v":0,"d":"0.00%"}}]
["All Psychiatrists in-network",{"$f":"SUM(B65:B68)","v":0},{"$f":"IF(B64=0, 0, B64/$B$39)","v":{"v":0,"d":"0.00%"}},{"$f":"SUM(D65:D68)","v":0},{"$f":"IF(D64=0, 0, D64/D39)","v":{"v":0,"d":"0.00%"}},{"$f":"SUM(F65:F68)","v":0},{"$f":"IF(F64=0, 0, F64/F39)","v":{"v":0,"d":"0.00%"}},{"$f":"SUM(H65:H68)","v":0},{"$f":"IF(H64=0, 0, H64/H$39)","v":{"v":0,"d":"0.00%"}},{"$f":"SUM(J65:J68)","v":0},{"$f":"IF(J64=0, 0, J64/J39)","v":{"v":0,"d":"0.00%"}},{"$f":"SUM(L65:L68)","v":0},{"$f":"IF(L64=0, 0, L64/L39)","v":{"v":0,"d":"0.00%"}},{"$f":"SUM(N65:N68)","v":0},{"$f":"IF(N64=0, 0, N64/N39)","v":{"v":0,"d":"0.00%"}},{"$f":"SUM(P65:P68)","v":0},{"$f":"IF(P64=0, 0, P64/P39)","v":{"v":0,"d":"0.00%"}},{"$f":"SUM(R65:R68)","v":0},{"$f":"IF(R64=0, 0, R64/R39)","v":{"v":0,"d":"0.00%"}}]
["Unutilized Physicians",null,{"$f":"IF(ISBLANK(B65), 0, B65/$B$64)","v":{"v":0,"d":"0.00%"}},null,{"$f":"IF(ISBLANK(D65), 0, D65/$D$64)","v":{"v":0,"d":"0.00%"}},null,{"$f":"IF(ISBLANK(F65), 0, F65/$F$64)","v":{"v":0,"d":"0.00%"}},null,{"$f":"IF(ISBLANK(H65), 0, H65/$H$64)","v":{"v":0,"d":"0.00%"}},null,{"$f":"IF(ISBLANK(J65), 0, J65/$J$64)","v":{"v":0,"d":"0.00%"}},null,{"$f":"IF(ISBLANK(L65), 0, L65/$L$64)","v":{"v":0,"d":"0.00%"}},null,{"$f":"IF(ISBLANK(N65), 0, N65/$N$64)","v":{"v":0,"d":"0.00%"}},null,{"$f":"IF(ISBLANK(P65), 0, P65/P64)","v":{"v":0,"d":"0.00%"}},null,{"$f":"IF(ISBLANK(R65), 0, R65/$R$64)","v":{"v":0,"d":"0.00%"}}]
["Peripheral Physicians",null,{"$f":"IF(ISBLANK(B66), 0, B66/$B$64)","v":{"v":0,"d":"0.00%"}},null,{"$f":"IF(ISBLANK(D66), 0, D66/$D$64)","v":{"v":0,"d":"0.00%"}},null,{"$f":"IF(ISBLANK(F66), 0, F66/$F$64)","v":{"v":0,"d":"0.00%"}},null,{"$f":"IF(ISBLANK(H66), 0, H66/$H$64)","v":{"v":0,"d":"0.00%"}},null,{"$f":"IF(ISBLANK(J66), 0, J66/$J$64)","v":{"v":0,"d":"0.00%"}},null,{"$f":"IF(ISBLANK(L66), 0, L66/$L$64)","v":{"v":0,"d":"0.00%"}},null,{"$f":"IF(ISBLANK(N66), 0, N66/$N$64)","v":{"v":0,"d":"0.00%"}},null,{"$f":"IF(ISBLANK(P66), 0, P66/$P$64)","v":{"v":0,"d":"0.00%"}},null,{"$f":"IF(ISBLANK(R66), 0, R66/$R$64)","v":{"v":0,"d":"0.00%"}}]
["Standard Physicians",null,{"$f":"IF(ISBLANK(B67), 0, B67/$B$64)","v":{"v":0,"d":"0.00%"}},null,{"$f":"IF(ISBLANK(D67), 0, D67/$D$64)","v":{"v":0,"d":"0.00%"}},null,{"$f":"IF(ISBLANK(F67), 0, F67/$F$64)","v":{"v":0,"d":"0.00%"}},null,{"$f":"IF(ISBLANK(H67), 0, H67/$H$64)","v":{"v":0,"d":"0.00%"}},null,{"$f":"IF(ISBLANK(J67), 0, J67/$J$64)","v":{"v":0,"d":"0.00%"}},null,{"$f":"IF(ISBLANK(L67), 0, L67/$L$64)","v":{"v":0,"d":"0.00%"}},null,{"$f":"IF(ISBLANK(N67), 0, N67/$N$64)","v":{"v":0,"d":"0.00%"}},null,{"$f":"IF(ISBLANK(P67), 0, P67/$P$64)","v":{"v":0,"d":"0.00%"}},null,{"$f":"IF(ISBLANK(R67), 0, R67/$R$64)","v":{"v":0,"d":"0.00%"}}]
["Core Physicians",null,{"$f":"IF(ISBLANK(B68), 0, B68/$B$64)","v":{"v":0,"d":"0.00%"}},null,{"$f":"IF(ISBLANK(D68), 0, D68/$D$64)","v":{"v":0,"d":"0.00%"}},null,{"$f":"IF(ISBLANK(F68), 0, F68/$F$64)","v":{"v":0,"d":"0.00%"}},null,{"$f":"IF(ISBLANK(H68), 0, H68/$H$64)","v":{"v":0,"d":"0.00%"}},null,{"$f":"IF(ISBLANK(J68), 0, J68/$J$64)","v":{"v":0,"d":"0.00%"}},null,{"$f":"IF(ISBLANK(L68), 0, L68/$L$64)","v":{"v":0,"d":"0.00%"}},null,{"$f":"IF(ISBLANK(N68), 0, N68/$N$64)","v":{"v":0,"d":"0.00%"}},null,{"$f":"IF(ISBLANK(P68), 0, P68/$P$64)","v":{"v":0,"d":"0.00%"}},null,{"$f":"IF(ISBLANK(R68), 0, R68/$R$64)","v":{"v":0,"d":"0.00%"}}]
["Item 6: Contracts with the Following Florida Pediatric Mental Health Collaborative (FPMHC) Behavioral Health Hubs at the time of submission:"]
["University of South Florida’s Florida Center for Behavioral Health Improvements and Solutions"]
["Florida State University’s College of Medicine Center for Behavioral Health Integration and their partner the Tallahassee Pediatric Behavioral Health Center"]
["University of Florida’s Department of Psychiatry, Division of Child & Adolescent Psychiatry"]
["University of Miami’s Miller School of Medicine Department of Psychiatry and Behavioral Sciences"]
["Florida International University’s Herbert Wertheim College of Medicine Department of Psychiatry and Behavioral Health"]
["Nemours Children’s Hospital, Division of Developmental and Behavioral Pediatrics, Orlando Florida"]
[]
["Scores: "]
[]
["Item 1a:  All PCPs who have a Medicaid-provider-enrolled as a:","Points Available","Points Earned"]
["Psychiatrist",5,{"$f":"IF(E11>=0.5, 5, IF(E11>=0.33, 3, IF(E11>0.1499, 1, 0)))","v":0}]
["Psychologist",5,0]
["Licensed Clinical Social Worker",5,0]
["Licensed Professional Counselor",5,0]
["Licensed Mental Health Counselor",5,0]
["Licensed Marriage and Family Therapist",5,0]
["Item 1b:  All Pediatricians who have a Medicaid-provider-enrolled as a:","Points Available","Points Earned"]
["Psychiatrist",5,{"$f":"IF(E18>=0.5, 5, IF(E18>=0.33, 3, IF(E18>0.1499, 1, 0)))","v":0}]
["Psychologist",5,0]
["Licensed Clinical Social Worker",5,0]
["Licensed Professional Counselor",5,0]
["Licensed Mental Health Counselor",5,0]
["Licensed Marriage and Family Therapist",5,0]
["Item 2: Providers whose Practice has Earned national Committee for Quality Assurance (NCQA) Distinction in Behavioral Health Integration:","Points Available","Points Earned"]
["All PCPs in-network",5,{"$f":"IF(E25>=0.5, 5, IF(E25>=0.33, 3, IF(E25>14.99, 1, 0)))","v":0}]
["Pediatricians (including Adolescent Medicine) in-network",5,{"$f":"IF(E26>=0.5, 5, IF(E26>=0.33, 3, IF(E26>14.99, 1, 0)))","v":0}]
["Item 3: All Providers who Submitted At Least One Claim for Screening, Brief Intervention, Referral for Treatment (SBIRT) in Calendar Year 2022:"]
["State","Provider Type","Points Available","Points Earned"]
[{"$f":"B27","v":0},"All Primary Care Providers (PCPs) in Network",5,{"$f":"IF(E29>=0.3, 5, IF(E29>0.1499, 3, IF(E29>0.0499, 1, 0)))","v":0}]
[null,"Pediatricians (including Adolescent Medicine) in-network",5,{"$f":"IF(E30>=0.3, 5, IF(E30>0.1499, 3, IF(E30>0.0499, 1, 0)))","v":0}]
[null,"Obstetricians/Gynecologists in-network",5,{"$f":"IF(E31>=0.3, 5, IF(E31>0.1499, 3, IF(E31>0.0499, 1, 0)))","v":0}]
[{"$f":"H27","v":0},"All Primary Care Providers (PCPs) in Network",5,{"$f":"IF(K29>=0.3, 5, IF(K29>0.1499, 3, IF(K29>0.0499, 1, 0)))","v":0}]
[null,"Pediatricians (including Adolescent Medicine) in-network",5,{"$f":"IF(K30>=0.3, 5, IF(K30>0.1499, 3, IF(K30>0.0499, 1, 0)))","v":0}]
[null,"Obstetricians/Gynecologists in-network",5,{"$f":"IF(K31>=0.3, 5, IF(K31>0.1499, 3, IF(K31>0.0499, 1, 0)))","v":0}]
[{"$f":"N27","v":0},"All Primary Care Providers (PCPs) in Network",5,{"$f":"IF(Q29>=0.3, 5, IF(Q29>0.1499, 3, IF(Q29>0.0499, 1, 0)))","v":0}]
[null,"Pediatricians (including Adolescent Medicine) in-network",5,{"$f":"IF(Q30>=0.3, 5, IF(Q30>0.1499, 3, IF(Q30>0.0499, 1, 0)))","v":0}]
[null,"Obstetricians/Gynecologists in-network",5,{"$f":"IF(Q31>=0.3, 5, IF(Q31>0.1499, 3, IF(Q31>0.0499, 1, 0)))","v":0}]
["Item 4: All Providers who Submitted At Least One Claim for Behavioral Health Integration (BHI):"]
["State","Provider Type","Points Available Per Year","Points Earned - Year 1","Points Earned - Year 2","Points Earned - Year 3"]
[{"$f":"A98","v":0},"All Primary Care Providers (PCPs) in Network",5,{"$f":"IF(C34>=0.3, 5, IF(C34>0.1499, 3, IF(C34>0.0499, 1, 0)))","v":0},{"$f":"IF(E34>=0.3, 5, IF(E34>0.1499, 3, IF(E34>0.0499, 1, 0)))","v":0},{"$f":"IF(G34>=0.3, 5, IF(G34>0.1499, 3, IF(G34>0.0499, 1, 0)))","v":0}]
[null,"Pediatricians (including Adolescent Medicine) in-network",5,{"$f":"IF(C35>=0.3, 5, IF(C35>0.1499, 3, IF(C35>0.0499, 1, 0)))","v":0},{"$f":"IF(E35>=0.3, 5, IF(E35>0.1499, 3, IF(E35>0.0499, 1, 0)))","v":0},{"$f":"IF(G35>=0.3, 5, IF(G35>0.1499, 3, IF(G35>0.0499, 1, 0)))","v":0}]
[null,"Psychiatrists in-network",5,{"$f":"IF(C36>=0.3, 5, IF(C36>0.1499, 3, IF(C36>0.0499, 1, 0)))","v":0},{"$f":"IF(E36>=0.3, 5, IF(E36>0.1499, 3, IF(E36>0.0499, 1, 0)))","v":0},{"$f":"IF(G36>=0.3, 5, IF(G36>0.1499, 3, IF(G36>0.0499, 1, 0)))","v":0}]
[null,"State Points Earned: ",{"$nulls":3},{"$f":"SUM(D109:F111)","v":0}]
[{"$f":"A101","v":0},"All Primary Care Providers (PCPs) in Network",5,{"$f":"IF(I34>=0.3, 5, IF(I34>0.1499, 3, IF(I34>0.0499, 1, 0)))","v":0},{"$f":"IF(K34>=0.3, 5, IF(K34>0.1499, 3, IF(K34>0.0499, 1, 0)))","v":0},{"$f":"IF(M34>=0.3, 5, IF(M34>0.1499, 3, IF(M34>0.0499, 1, 0)))","v":0}]
[null,"Pediatricians (including Adolescent Medicine) in-network",5,{"$f":"IF(I35>=0.3, 5, IF(I35>0.1499, 3, IF(I35>0.0499, 1, 0)))","v":0},{"$f":"IF(K35>=0.3, 5, IF(K35>0.1499, 3, IF(K35>0.0499, 1, 0)))","v":0},{"$f":"IF(M35>=0.3, 5, IF(M35>0.1499, 3, IF(M35>0.0499, 1, 0)))","v":0}]
[null,"Psychiatrists in-network",5,{"$f":"IF(I36>=0.3, 5, IF(I36>0.1499, 3, IF(I36>0.0499, 1, 0)))","v":0},{"$f":"IF(K36>=0.3, 5, IF(K36>0.1499, 3, IF(K36>0.0499, 1, 0)))","v":0},{"$f":"IF(M36>=0.3, 5, IF(M36>0.1499, 3, IF(M36>0.0499, 1, 0)))","v":0}]
[null,"State Points Earned: ",{"$nulls":3},{"$f":"SUM(D113:F115)","v":0}]
[{"$f":"A104","v":0},"All Primary Care Providers (PCPs) in Network",5,{"$f":"IF(O34>=0.3, 5, IF(O34>0.1499, 3, IF(O34>0.0499, 1, 0)))","v":0},{"$f":"IF(Q34>=0.3, 5, IF(Q34>0.1499, 3, IF(Q34>0.0499, 1, 0)))","v":0},{"$f":"IF(S34>=0.3, 5, IF(S34>0.1499, 3, IF(S34>0.0499, 1, 0)))","v":0}]
[null,"Pediatricians (including Adolescent Medicine) in-network",5,{"$f":"IF(O35>=0.3, 5, IF(O35>0.1499, 3, IF(O35>0.0499, 1, 0)))","v":0},{"$f":"IF(Q35>=0.3, 5, IF(Q35>0.1499, 3, IF(Q35>0.0499, 1, 0)))","v":0},{"$f":"IF(S35>=0.3, 5, IF(S35>0.1499, 3, IF(S35>0.0499, 1, 0)))","v":0}]
[null,"Psychiatrists in-network",5,{"$f":"IF(O36>=0.3, 5, IF(O36>0.1499, 3, IF(O36>0.0499, 1, 0)))","v":0},{"$f":"IF(Q36>=0.3, 5, IF(Q36>0.1499, 3, IF(Q36>0.0499, 1, 0)))","v":0},{"$f":"IF(S36>=0.3, 5, IF(S36>0.1499, 3, IF(S36>0.0499, 1, 0)))","v":0}]
[null,"State Points Earned: ",{"$nulls":3},{"$f":"SUM(D117:F119)","v":0}]
["Item 5: Core, Standard, Peripheral, Unutilized"]
["State","Provider Type","Points Available Per Year","Points Earned - Year 1","Points Earned - Year 2","Points Earned - Year 3"]
[{"$f":"B27","v":0},"All Providers in Network",10,{"$f":"IF(SUM(C42:C43)>=0.6999, 10, IF(SUM(C42:C43)>0.3999, 6, IF(SUM(C42:C43)>0.1999, 1, 0)))","v":0},{"$f":"IF(SUM(E42:E43)>=0.6999, 10, IF(SUM(E42:E43)>0.3999, 6, IF(SUM(E42:E43)>0.1999, 1, 0)))","v":0},{"$f":"IF(SUM(G42:G43)>=0.6999, 10, IF(SUM(G42:G43)>0.3999, 6, IF(SUM(G42:G43)>0.1999, 1, 0)))","v":0}]
[null,"All Primary Care Providers in network  ",10,{"$f":"IF(SUM(C47:C48)>=0.6999, 10, IF(SUM(C47:C48)>0.3999, 6, IF(SUM(C47:C48)>0.1999, 1, 0)))","v":0},{"$f":"IF(SUM(E47:E48)>=0.6999, 10, IF(SUM(E47:E48)>0.3999, 6, IF(SUM(E47:E48)>0.1999, 1, 0)))","v":0},{"$f":"IF(SUM(G47:G48)>=0.6999, 10, IF(SUM(G47:G48)>0.3999, 6, IF(SUM(G47:G48)>0.1999, 1, 0)))","v":0}]
[null,"Pediatricians (including Adolescent Medicine) in network",10,{"$f":"IF(SUM(C52:C53)>=0.5, 10, IF(SUM(C52:C53)>0.2999, 6, IF(SUM(C52:C53)>0.0999, 1, 0)))","v":0},{"$f":"IF(SUM(E52:E53)>=0.5, 10, IF(SUM(E52:E53)>0.2999, 6, IF(SUM(E52:E53)>0.0999, 1, 0)))","v":0},{"$f":"IF(SUM(G52:G53)>=0.5, 10, IF(SUM(G52:G53)>0.2999, 6, IF(SUM(G52:G53)>0.0999, 1, 0)))","v":0}]
[null,"Obstetricians/Gynecologists in network ",10,{"$f":"IF(SUM(C57:C58)>=0.6999, 10, IF(SUM(C57:C58)>0.3999, 6, IF(SUM(C57:C58)>0.1999, 1, 0)))","v":0},{"$f":"IF(SUM(E57:E58)>=0.6999, 10, IF(SUM(E57:E58)>0.3999, 6, IF(SUM(E57:E58)>0.1999, 1, 0)))","v":0},{"$f":"IF(SUM(G57:G58)>=0.6999, 10, IF(SUM(G57:G58)>0.3999, 6, IF(SUM(G57:G58)>0.1999, 1, 0)))","v":0}]
[null,"Cardiologists in network",5,{"$f":"IF(SUM(C62:C63)>0.7999, 5, IF(SUM(C62:C63)>0.4999, 3, IF(SUM(C62:C63)>0.2999, 1, 0)))","v":0},{"$f":"IF(SUM(E62:E63)>0.7999, 5, IF(SUM(E62:E63)>0.4999, 3, IF(SUM(E62:E63)>0.2999, 1, 0)))","v":0},{"$f":"IF(SUM(G62:G63)>0.7999, 5, IF(SUM(G62:G63)>0.4999, 3, IF(SUM(G62:G63)>0.2999, 1, 0)))","v":0}]
[null,"Psychiatrists in network ",5,{"$f":"IF(SUM(C67:C68)>0.7999, 5, IF(SUM(C67:C68)>0.4999, 3, IF(SUM(C67:C68)>0.2999, 1, 0)))","v":0},{"$f":"IF(SUM(E67:E68)>0.7999, 5, IF(SUM(E67:E68)>0.4999, 3, IF(SUM(E67:E68)>0.2999, 1, 0)))","v":0},{"$f":"IF(SUM(G67:G68)>0.7999, 5, IF(SUM(G67:G68)>0.4999, 3, IF(SUM(G67:G68)>0.2999, 1, 0)))","v":0}]
[null,"State Points Earned: ",{"$nulls":3},{"$f":"SUM(D123:F128)","v":0}]
[{"$f":"H27","v":0},"All Providers in Network",10,{"$f":"IF(SUM(I42:I43)>=0.6999, 10, IF(SUM(I42:I43)>0.3999, 6, IF(SUM(I42:I43)>0.1999, 1, 0)))","v":0},{"$f":"IF(SUM(K42:K43)>=0.6999, 10, IF(SUM(K42:K43)>0.3999, 6, IF(SUM(K42:K43)>0.1999, 1, 0)))","v":0},{"$f":"IF(SUM(M42:M43)>=0.6999, 10, IF(SUM(M42:M43)>0.3999, 6, IF(SUM(M42:M43)>0.1999, 1, 0)))","v":0}]
[null,"All Primary Care Providers in network  ",10,{"$f":"IF(SUM(I47:I48)>=0.6999, 10, IF(SUM(I47:I48)>0.3999, 6, IF(SUM(I47:I48)>0.1999, 1, 0)))","v":0},{"$f":"IF(SUM(K47:K48)>=0.6999, 10, IF(SUM(K47:K48)>0.3999, 6, IF(SUM(K47:K48)>0.1999, 1, 0)))","v":0},{"$f":"IF(SUM(M47:M48)>=0.6999, 10, IF(SUM(M47:M48)>0.3999, 6, IF(SUM(M47:M48)>0.1999, 1, 0)))","v":0}]
[null,"Pediatricians (including Adolescent Medicine) in network",10,{"$f":"IF(SUM(I52:I53)>=0.5, 10, IF(SUM(I52:I53)>0.2999, 6, IF(SUM(I52:I53)>0.0999, 1, 0)))","v":0},{"$f":"IF(SUM(K52:K53)>=0.5, 10, IF(SUM(K52:K53)>0.2999, 6, IF(SUM(K52:K53)>0.0999, 1, 0)))","v":0},{"$f":"IF(SUM(M52:M53)>=0.5, 10, IF(SUM(M52:M53)>0.2999, 6, IF(SUM(M52:M53)>0.0999, 1, 0)))","v":0}]
[null,"Obstetricians/Gynecologists in network ",10,{"$f":"IF(SUM(I57:I58)>=0.6999, 10, IF(SUM(I57:I58)>0.3999, 6, IF(SUM(I57:I58)>0.1999, 1, 0)))","v":0},{"$f":"IF(SUM(K57:K58)>=0.6999, 10, IF(SUM(K57:K58)>0.3999, 6, IF(SUM(K57:K58)>0.1999, 1, 0)))","v":0},{"$f":"IF(SUM(M57:M58)>=0.6999, 10, IF(SUM(M57:M58)>0.3999, 6, IF(SUM(M57:M58)>0.1999, 1, 0)))","v":0}]
[null,"Cardiologists in network",5,{"$f":"IF(SUM(I62:I63)>0.7999, 5, IF(SUM(I62:I63)>0.4999, 3, IF(SUM(I62:I63)>0.2999, 1, 0)))","v":0},{"$f":"IF(SUM(K62:K63)>0.7999, 5, IF(SUM(K62:K63)>0.4999, 3, IF(SUM(K62:K63)>0.2999, 1, 0)))","v":0},{"$f":"IF(SUM(M62:M63)>0.7999, 5, IF(SUM(M62:M63)>0.4999, 3, IF(SUM(M62:M63)>0.2999, 1, 0)))","v":0}]
[null,"Psychiatrists in network ",5,{"$f":"IF(SUM(I67:I68)>0.7999, 5, IF(SUM(I67:I68)>0.4999, 3, IF(SUM(I67:I68)>0.2999, 1, 0)))","v":0},{"$f":"IF(SUM(K67:K68)>0.7999, 5, IF(SUM(K67:K68)>0.4999, 3, IF(SUM(K67:K68)>0.2999, 1, 0)))","v":0},{"$f":"IF(SUM(M67:M68)>0.7999, 5, IF(SUM(M67:M68)>0.4999, 3, IF(SUM(M67:M68)>0.2999, 1, 0)))","v":0}]
[null,"State Points Earned: ",{"$nulls":3},{"$f":"SUM(D130:F135)","v":0}]
[{"$f":"N27","v":0},"All Providers in Network",10,{"$f":"IF(SUM(O42:O43)>=0.6999, 10, IF(SUM(O42:O43)>0.3999, 6, IF(SUM(O42:O43)>0.1999, 1, 0)))","v":0},{"$f":"IF(SUM(Q42:Q43)>=0.6999, 10, IF(SUM(Q42:Q43)>0.3999, 6, IF(SUM(Q42:Q43)>0.1999, 1, 0)))","v":0},{"$f":"IF(SUM(S42:S43)>=0.6999, 10, IF(SUM(S42:S43)>0.3999, 6, IF(SUM(S42:S43)>0.1999, 1, 0)))","v":0}]
[null,"All Primary Care Providers in network  ",10,{"$f":"IF(SUM(O47:O48)>=0.6999, 10, IF(SUM(O47:O48)>0.3999, 6, IF(SUM(O47:O48)>0.1999, 1, 0)))","v":0},{"$f":"IF(SUM(Q47:Q48)>=0.6999, 10, IF(SUM(Q47:Q48)>0.3999, 6, IF(SUM(Q47:Q48)>0.1999, 1, 0)))","v":0},{"$f":"IF(SUM(S47:S48)>=0.6999, 10, IF(SUM(S47:S48)>0.3999, 6, IF(SUM(S47:S48)>0.1999, 1, 0)))","v":0}]
[null,"Pediatricians (including Adolescent Medicine) in network",10,{"$f":"IF(SUM(O52:O53)>=0.5, 10, IF(SUM(O52:O53)>0.2999, 6, IF(SUM(O52:O53)>0.0999, 1, 0)))","v":0},{"$f":"IF(SUM(Q52:Q53)>=0.5, 10, IF(SUM(Q52:Q53)>0.2999, 6, IF(SUM(Q52:Q53)>0.0999, 1, 0)))","v":0},{"$f":"IF(SUM(S52:S53)>=0.5, 10, IF(SUM(S52:S53)>0.2999, 6, IF(SUM(S52:S53)>0.0999, 1, 0)))","v":0}]
[null,"Obstetricians/Gynecologists in network ",10,{"$f":"IF(SUM(O57:O58)>=0.6999, 10, IF(SUM(O57:O58)>0.3999, 6, IF(SUM(O57:O58)>0.1999, 1, 0)))","v":0},{"$f":"IF(SUM(Q57:Q58)>=0.6999, 10, IF(SUM(Q57:Q58)>0.3999, 6, IF(SUM(Q57:Q58)>0.1999, 1, 0)))","v":0},{"$f":"IF(SUM(S57:S58)>=0.6999, 10, IF(SUM(S57:S58)>0.3999, 6, IF(SUM(S57:S58)>0.1999, 1, 0)))","v":0}]
[null,"Cardiologists in network",5,{"$f":"IF(SUM(O62:O63)>0.7999, 5, IF(SUM(O62:O63)>0.4999, 3, IF(SUM(O62:O63)>0.2999, 1, 0)))","v":0},{"$f":"IF(SUM(Q62:Q63)>0.7999, 5, IF(SUM(Q62:Q63)>0.4999, 3, IF(SUM(Q62:Q63)>0.2999, 1, 0)))","v":0},{"$f":"IF(SUM(S62:S63)>0.7999, 5, IF(SUM(S62:S63)>0.4999, 3, IF(SUM(S62:S63)>0.2999, 1, 0)))","v":0}]
[null,"Psychiatrists in network ",5,{"$f":"IF(SUM(O67:O68)>0.7999, 5, IF(SUM(O67:O68)>0.4999, 3, IF(SUM(O67:O68)>0.2999, 1, 0)))","v":0},{"$f":"IF(SUM(Q67:Q68)>0.7999, 5, IF(SUM(Q67:Q68)>0.4999, 3, IF(SUM(Q67:Q68)>0.2999, 1, 0)))","v":0},{"$f":"IF(SUM(S67:S68)>0.7999, 5, IF(SUM(S67:S68)>0.4999, 3, IF(SUM(S67:S68)>0.2999, 1, 0)))","v":0}]
[null,"State Points Earned: ",{"$nulls":3},{"$f":"SUM(D137:F142)","v":0}]
["Item 6: FPMHC Hubs"]
["Contract Hub","Points Available ","Points Earned"]
["University of South Florida’s Florida Center for Behavioral Health Improvements and Solutions",5,{"$f":"IF(B70=\"Yes\", 5, 0)","v":0}]
["Florida State University’s College of Medicine Center for Behavioral Health Integration and their partner the Tallahassee Pediatric Behavioral Health Center",5,0]
["University of Florida’s Department of Psychiatry, Division of Child & Adolescent Psychiatry",5,0]
["University of Miami’s Miller School of Medicine Department of Psychiatry and Behavioral Sciences",5,0]
["Florida International University’s Herbert Wertheim College of Medicine Department of Psychiatry and Behavioral Health",5,0]
["Nemours Children’s Hospital, Division of Developmental and Behavioral Pediatrics, Orlando Florida",5,0]
[]
["Total Points Earned: ",{"$f":"SUM(C80:C85,C94:C95,D98:D106,F112,F116,F120,F129,F136,F143,C146:C151, C87:C92)","v":0}]
{"$rows_empty":18}
[{"$nulls":6},"Yes"]
[{"$nulls":6},"No"]

{"sheet":"Scoring-Telemedicine","index":19,"n_rows":3,"n_cols":19,"rows_kept":3,"merged":[[2,0,2,3]]}
["SRC #23: Telemedicine Scoring Information",{"$nulls":8},"SRC #23: Telemedicine Scoring Information (continued)",{"$nulls":8},"SRC #23: Telemedicine Scoring Information (continued)"]
[]
["Back to Respondent Information"]

{"sheet":"Telemedicine","index":20,"n_rows":83,"n_cols":6,"rows_kept":83,"merged":[[9,0,9,1],[9,2,9,3],[9,4,9,5],[12,0,12,1],[12,2,12,3],[12,4,12,5],[23,0,23,1],[35,0,35,1],[38,0,48,0],[38,1,38,3],[48,1,48,2],[49,0,59,0],[49,1,49,3],[59,1,59,2],[60,0,70,0],[60,1,60,3],[70,1,70,2],[71,0,81,0],[71,1,71,3],[81,1,81,2],[82,0,82,2]]}
["SRC #23: Telemedicine",null,null,"Back to Respondent Information"]
[]
["Item","Score"]
["Total Points Possible:",270]
["Points Earned:",{"$f":"D83","v":0}]
["Percent:",{"$f":"B5/B4","v":{"v":0,"d":"0%"}}]
["Final Score Possible:",120]
["Telemedicine SRC Final Score:",{"$f":"B6*B7","v":0}]
[]
[{"$f":"'Respondent Information'!C6","v":0},null,{"$f":"'Respondent Information'!C9","v":0},null,{"$f":"'Respondent Information'!C12","v":0}]
["Line of Business:",{"$f":"'Respondent Information'!E6","v":0},"Line of Business:",{"$f":"'Respondent Information'!E9","v":0},"Line of Business:",{"$f":"'Respondent Information'!E12","v":0}]
["Year:",{"$f":"IF(ISBLANK('Respondent Information'!M5), IF(ISBLANK('Respondent Information'!K5), 'Respondent Information'!I5, 'Respondent Information'!K5),  'Respondent Information'!M5)","v":0},"Year:",{"$f":"IF(ISBLANK('Respondent Information'!M9), IF(ISBLANK('Respondent Information'!K9), 'Respondent Information'!I9, 'Respondent Information'!K9),  'Respondent Information'!M9)","v":0},"Year:",{"$f":"IF(ISBLANK('Respondent Information'!M12), IF(ISBLANK('Respondent Information'!K12), 'Respondent Information'!I12, 'Respondent Information'!K12),  'Respondent Information'!M12)","v":0}]
["Physician Specialties",null,"Physician Specialties",null,"Physician Specialties"]
["Provider Type","% Who Made a Claim for at Least One Telemedicine Encounter","Provider Type","% Who Made a Claim for at Least One Telemedicine Encounter","Provider Type","% Who Made a Claim for at Least One Telemedicine Encounter"]
["Family Practice",null,"Family Practice",null,"Family Practice"]
["Internal Medicine",null,"Internal Medicine",null,"Internal Medicine"]
["Pediatrics",null,"Pediatrics",null,"Pediatrics"]
["Obstetrics/Gynecology",null,"Obstetrics/Gynecology",null,"Obstetrics/Gynecology"]
["Infectious Diseases",null,"Infectious Diseases",null,"Infectious Diseases"]
["Adult Psychiatrists",null,"Adult Psychiatrists",null,"Adult Psychiatrists"]
["Child Psychiatrists",null,"Child Psychiatrists",null,"Child Psychiatrists"]
["Emergency Medical Physicians",null,"Emergency Medical Physicians",null,"Emergency Medical Physicians"]
["Mental Health Therapists",null,"Mental Health Therapists",null,"Mental Health Therapists"]
["PROPOSED PROVIDER NETWORK: Physician Specialties"]
["Provider Type","% Who Will Offer Telemedicine Visits"]
["Family Practice"]
["Internal Medicine"]
["Pediatrics"]
["Obstetrics/Gynecology"]
["Infectious Diseases"]
["Adult Psychiatrists"]
["Child Psychiatrists"]
["Emergency Medical Physicians"]
["Mental Health Therapists"]
[]
["Scores: "]
[]
["State","Provider Type","% with At Least One Telemedicine Encounter-- Points Available","% with At Least One Telemedicine Encounter-- Points Earned"]
[{"$f":"A10","v":0},"Physician Specialties",{"$nulls":3}," "]
[null,"Family Practice",5,{"$f":"IF(B15>0.0999, 5, IF(B15>0.0299, 3, IF(B15>0.0099, 1, 0)))","v":0}]
[null,"Internal Medicine",5,{"$f":"IF(B16>0.0999, 5, IF(B16>0.0299, 3, IF(B16>0.0099, 1, 0)))","v":0}]
[null,"Pediatrics",5,0]
[null,"Obstetrics/Gynecology",5,0]
[null,"Infectious Diseases",5,0]
[null,"Adult Psychiatrists",5,0]
[null,"Child Psychiatrists",5,0]
[null,"Emergency Medical Physicians",5,{"$f":"IF(B22>0.0999, 5, IF(B22>0.0299, 3, IF(B22>0.0099, 1, 0)))","v":0}]
[null,"Mental Health Therapists",5,{"$f":"IF(B23>0.0999, 5, IF(B23>0.0299, 3, IF(B23>0.0099, 1, 0)))","v":0}]
[null,"State Points Earned:",null,{"$f":"SUM($D$40:$D$48)","v":0}]
[{"$f":"C10","v":0},"Physician Specialties"]
[null,"Family Practice",5,{"$f":"IF(D15>0.0999, 5, IF(D15>0.0299, 3, IF(D15>0.0099, 1, 0)))","v":0}]
[null,"Internal Medicine",5,{"$f":"IF(D16>0.0999, 5, IF(D16>0.0299, 3, IF(D16>0.0099, 1, 0)))","v":0}]
[null,"Pediatrics",5,0]
[null,"Obstetrics/Gynecology",5,0]
[null,"Infectious Diseases",5,0]
[null,"Adult Psychiatrists",5,0]
[null,"Child Psychiatrists",5,0]
[null,"Emergency Medical Physicians",5,0]
[null,"Mental Health Therapists",5,0]
[null,"State Points Earned:",null,{"$f":"SUM($D$51:$D$59)","v":0}]
[{"$f":"E10","v":0},"Physician Specialties"]
[null,"Family Practice",5,{"$f":"IF(F15>0.0999, 5, IF(F15>0.0299, 3, IF(F15>0.0099, 1, 0)))","v":0}]
[null,"Internal Medicine",5,{"$f":"IF(F16>0.0999, 5, IF(F16>0.0299, 3, IF(F16>0.0099, 1, 0)))","v":0}]
[null,"Pediatrics",5,0]
[null,"Obstetrics/Gynecology",5,0]
[null,"Infectious Diseases",5,0]
[null,"Adult Psychiatrists",5,0]
[null,"Child Psychiatrists",5,0]
[null,"Emergency Medical Physicians",5,0]
[null,"Mental Health Therapists",5,{"$f":"IF(F23>0.0999, 5, IF(F23>0.0299, 3, IF(F23>0.0099, 1, 0)))","v":0}]
[null,"State Points Earned:",null,{"$f":"SUM(D62:D70)","v":0}]
["Proposed Florida Contract","Proposed Provider Network: Physician Specialties"]
[null,"Family Practice",15,{"$f":"IF(B26>=0.1, 15, IF(B26>=0.03, 10, IF(B26>=0.01, 5, 0)))","v":0}]
[null,"Internal Medicine",15,{"$f":"IF(B27>=0.1, 15, IF(B27>=0.03, 10, IF(B27>=0.01, 5, 0)))","v":0}]
[null,"Pediatrics",15,0]
[null,"Obstetrics/Gynecology",15,0]
[null,"Infectious Diseases",15,0]
[null,"Adult Psychiatrists",15,0]
[null,"Child Psychiatrists",15,0]
[null,"Emergency Medical Physicians",15,0]
[null,"Mental Health Therapists",15,{"$f":"IF(B34>=0.1, 15, IF(B34>=0.03, 10, IF(B34>=0.01, 5, 0)))","v":0}]
[null,"State Points Earned:",null,{"$f":"SUM(D73:D81)","v":0}]
["Total Points Earned:",null,null,{"$f":"SUM(D49,D60,D71,D82)","v":0}]

{"sheet":"Scoring-EBP Child Intense Behav","index":21,"n_rows":4,"n_cols":9,"rows_kept":4,"merged":[[3,0,3,3]]}
["SRC #24: Evidence-Based Programs for Children with",{"$nulls":7},"SRC #24: Evidence-Based Programs for Children with"]
["Intense Behaviors Scoring Information",{"$nulls":7},"Intense Behaviors Scoring Information (continued)"]
[]
["Back to Respondent Information"]

{"sheet":"EBP Child Intense Behav","index":22,"n_rows":37,"n_cols":6,"rows_kept":37,"merged":[[0,3,0,4],[9,1,9,2],[10,1,10,2],[11,0,11,2],[36,0,36,1]]}
["SRC #24: Evidence-Based Programs for Children with Intense Behaviors",null,null,"Back to Respondent Information"]
[]
["Item","Score",{"$nulls":3},"Yes"]
["Total Points Possible:",50,{"$nulls":3},"No"]
["Points Earned:",{"$f":"C37","v":0}]
["Percent:",{"$f":"B5/B4","v":{"v":0,"d":"0%"}}]
["Final Score Possible:",50]
["Evidence-Based Programs for Children with Intense Behaviors SRC Final Score:",{"$f":"B6*B7","v":0}]
[]
[null,"Florida"]
["Line of Business:","Medicaid"]
["Indicate which of the following Evidence-Based Programs for Children with Intense Behaviors will be offered to Enrollees and the proposed billing code for each service:"]
[null,"Offered","CPT or HCPCS Code"]
["Homebuilders"]
["Motivational Interviewing"]
["Multisystemic Therapy"]
["Parent-Child Interaction Therapy"]
["Functional Family Therapy"]
["Parents as Teachers"]
["Brief Strategic Family Therapy"]
["Healthy Families"]
["Nurse Family Partnership"]
[]
["Scores:"]
[]
["Criteria","Points Available","Points Earned"]
["Homebuilders",5,{"$f":"IF(B14=\"Yes\", 5, 0)","v":0}]
["Motivational Interviewing",5,0]
["Multisystemic Therapy",5,0]
["Parent-Child Interaction Therapy",5,0]
["Functional Family Therapy",5,0]
["Parents as Teachers",5,0]
["Brief Strategic Family Therapy",5,0]
["Healthy Families",5,0]
["Nurse Family Partnership",5,0]
["Recipient Selected All Services",5,{"$f":"IF(SUM(C27:C35)=(B4-5), 5, 0)","v":0}]
["Points Earned:",null,{"$f":"SUM(C27:C36)","v":0}]

{"sheet":"Scoring-Essential Providers","index":23,"n_rows":3,"n_cols":1,"rows_kept":3,"merged":[[2,0,2,3]]}
["SRC #25: Essential Provider Networks Scoring Information"]
[]
["Back to Respondent Information"]

{"sheet":"Essential Providers","index":24,"n_rows":47,"n_cols":18,"rows_kept":47,"merged":[[0,2,0,3],[9,2,9,3],[10,2,10,3],[11,0,11,5],[12,0,12,1],[12,2,12,5],[13,0,13,1],[13,2,13,5],[14,0,14,1],[14,2,14,5],[15,0,15,1],[15,2,15,5],[16,0,16,1],[16,2,16,5],[17,0,17,1],[17,2,17,5],[18,0,18,1],[18,2,18,5],[19,0,19,1],[19,2,19,5],[20,0,20,1],[20,2,20,5],[21,0,21,1],[21,2,21,5],[22,0,22,1],[22,2,22,5],[23,0,23,1],[23,2,23,5],[24,0,24,1],[24,2,24,5],[25,0,25,1],[25,2,25,5],[26,0,26,1],[26,2,26,5],[27,0,27,1],[27,2,27,5],[28,0,28,1],[28,2,28,5],[29,0,29,1],[29,2,29,5],[30,0,30,1],[30,2,30,5],[31,0,31,1],[31,2,31,5],[32,0,32,1],[32,2,32,5],[33,0,33,1],[33,2,33,5],[34,0,34,1],[34,2,34,5],[35,0,35,1],[35,2,35,5],[36,0,36,1],[36,2,36,5],[41,2,46,2]]}
["SRC #25: Essential Provider Networks",null,"Back to Respondent Information"]
[]
["Item","Score"]
["Total Points Possible:",40]
["Points Earned:",{"$f":"C42","v":0}]
["Percent:",{"$f":"B5/B4","v":{"v":0,"d":"0%"}}]
["Final Score Possible:",80]
["Essential Provider Networks SRC Final Score:",{"$f":"B6*B7","v":0}]
[]
["Service Provider Type","Agreements/Contracts","Statewide Essential Count",null,"%","Score"]
["Statewide Essential ",null,24,null,{"$f":"SUM(B11/C11)","v":{"v":0,"d":"0.0%"}},{"$f":"IF(E11>0.9999, 40, IF(E11>0.8999, 30, IF(E11>0.7499, 20, IF(E11>0.5999, 10, IF(E11>0.3999, 5, 0)))))","v":0}]
["Please indicate which of the following Statewide Essential Providers have a fully executed agreement/contract in place: "]
["Hospital Name",null,"Agreement/Contract In Place"]
["Tampa General Hospital",{"$nulls":15},{"$f":"IF(C14=\"Yes\", 1, 0)","v":0}]
["Shands Teaching Hospital",{"$nulls":15},{"$f":"IF(C15=\"Yes\", 1, 0)","v":0},"Yes"]
["Shands-Jacksonville",{"$nulls":15},0,"No"]
["Jackson Memorial Hospital, Jackson Health System",{"$nulls":15},0]
["Sacred Heart Hospital",{"$nulls":15},0]
["Winnie Palmer Hospital at Arnold Palmer Medical Center, Orlando Health",{"$nulls":15},0]
["NEO: All Children's Hospital",{"$nulls":15},0]
["OB: Bayfront Medical Center",{"$nulls":15},0]
["St. Mary's Medical Center",{"$nulls":15},0]
["Broward General Medical Center",{"$nulls":15},0]
["Memorial Regional Medical Center-Lee Memorial Health System",{"$nulls":15},0]
["University of Florida-Gainesville",{"$nulls":15},0]
["University of Florida-Jacksonville",{"$nulls":15},0]
["University of Miami",{"$nulls":15},0]
["University of South Florida",{"$nulls":15},0]
["University of Central Florida",{"$nulls":15},0]
["Florical Medical Practice Plan Inc. (FSU)",{"$nulls":15},0]
["Florida International University",{"$nulls":15},0]
["John Hopkins All Children's Hospital",{"$nulls":15},0]
["Wolfson's Children's Hospital",{"$nulls":15},0]
["Nemours Children's Hospital",{"$nulls":15},0]
["Nicklaus Children's Hospital",{"$nulls":15},0]
["H. Lee Moffitt Cancer and Research Institute",{"$nulls":15},0]
["University of Miami Hospital and Clinics-Sylvester Comprehensive",{"$nulls":15},0]
[{"$nulls":16},{"$f":"SUM(Q14:Q37)","v":0}]
["Scores:"]
[]
["Percentage of Agreements/Contracts","Points Available","Points Earned"]
["0-39%",0,{"$f":"F11","v":0}]
["40-59%",5]
["60-74%",10]
["75-89%",20]
["90-99%",30]
[{"v":1,"d":"100.0%"},40]

{"sheet":"Scoring-Community Partnerships","index":25,"n_rows":3,"n_cols":10,"rows_kept":3,"merged":[[2,0,2,3]]}
["SRC #26: Community Partnerships Scoring Information",{"$nulls":8},"SRC #26: Community Partnerships Scoring Information"]
[{"$nulls":9},"(continued)"]
["Back to Respondent Information"]

{"sheet":"Community Partnerships","index":26,"n_rows":234,"n_cols":189,"rows_kept":234,"merged":[[0,31,0,36],[134,32,134,36],[135,32,135,36],[136,32,136,36],[137,32,137,36],[138,31,142,36],[143,32,145,36],[146,32,147,36],[148,31,148,36],[149,32,149,36],[150,32,150,36],[151,32,151,36],[152,32,152,36],[153,32,153,36],[154,31,156,36],[157,31,158,36],[159,31,159,36],[160,31,160,36],[162,0,162,1],[165,0,169,0],[165,2,169,2],[170,0,171,0],[172,0,176,0],[172,2,176,2],[181,0,181,1]]}
["SRC #26: Community Partnerships",null,null,"Back to Respondent Information"]
[]
["Item","Score",null,"Click Here to Go to Scoring Table"]
["Total Points Possible:",148]
["Points Earned:",{"$f":"C182","v":0}]
["Percent:",{"$f":"B5/B4","v":{"v":0,"d":"0%"}}]
["Final Score Possible:",300]
["Community Partnerships SRC Final Score:",{"$f":"B6*B7","v":0}]
[{"$nulls":34},"Row 1","Row 2","Row 3","Row 4","Row 5","Row 6","Row 7","Row 8","Row 9","Row 10","Row 11","Row 12","Row 13","Row 14","Row 15","Row 16","Row 17","Row 18","Row 19","Row 20","Row 21","Row 22","Row 23","Row 24","Row 25","Row 26","Row 27","Row 28","Row 29","Row 30","Row 31","Row 32","Row 33","Row 34","Row 35","Row 36","Row 37","Row 38","Row 39","Row 40","Row 41","Row 42","Row 43","Row 44","Row 45","Row 46","Row 47","Row 48","Row 49","Row 50","Row 51","Row 52","Row 53","Row 54","Row 55","Row 56","Row 57","Row 58","Row 59","Row 60","Row 61","Row 62","Row 63","Row 64","Row 65","Row 66","Row 67","Row 68","Row 69","Row 70","Row 71","Row 72","Row 73","Row 74","Row 75","Row 76","Row 77","Row 78","Row 79","Row 80","Row 81","Row 82","Row 83","Row 84","Row 85","Row 86","Row 87","Row 88","Row 89","Row 90","Row 91","Row 92","Row 93","Row 94","Row 95","Row 96","Row 97","Row 98","Row 99","Row 100","Row 101","Row 102","Row 103","Row 104","Row 105","Row 106","Row 107","Row 108","Row 109","Row 110","Row 111","Row 112","Row 113","Row 114","Row 115","Row 116","Row 117","Row 118","Row 119","Row 120","Row 121","Row 122","Row 123","Row 124","Row 125","Row 126","Row 127","Row 128","Row 129","Row 130","Row 131","Row 132","Row 133","Row 134","Row 135","Row 136","Row 137","Row 138","Row 139","Row 140","Row 141","Row 142","Row 143","Row 144","Row 145","Row 146","Row 147","Row 148","Row 149","Row 150","Row 151",{"$nulls":3},"COUNTY Present"]
["CBO Name","CBO FEIN","CBO FDOC Document Number","CBO Principal Address","CBO Mailing Address","Contract Identification Number","Contract Execution Date","Description of Enrollee Population(s) Being Served","Description of Services and Supports","Directly Improves Birth Outcomes","Directly Improves Mental Health of Children or Adolescents","Directly Increases Home and Community Based Services for Seniors","Regions","Number of Regions","Counties","Number of Counties","Closed Loop Referral and Verification","Financial Investment","In-Kind Investment","CBO Representative(s) in Respondent Committee(s) or Advisory Board(s)","Total Cbo","Services1",null,"FinInvest","In-Kind","CBO Rep","Loop Ref",{"$nulls":3},"A","Alachua",null,null,{"$f":"IF(ISNUMBER(SEARCH(AF10,$O$11)),1,0)","v":0},{"$f":"IF(ISNUMBER(SEARCH(AF10,$O$12)),1,0)","v":0},{"$f":"IF(ISNUMBER(SEARCH($AF10,$O$13)),1,0)","v":0},{"$f":"IF(ISNUMBER(SEARCH($AF10,$O$14)),1,0)","v":0},{"$f":"IF(ISNUMBER(SEARCH($AF10,$O$15)),1,0)","v":0},{"$f":"IF(ISNUMBER(SEARCH($AF10,$O$16)),1,0)","v":0},{"$f":"IF(ISNUMBER(SEARCH($AF10,$O$17)),1,0)","v":0},{"$f":"IF(ISNUMBER(SEARCH($AF10,$O$18)),1,0)","v":0},{"$f":"IF(ISNUMBER(SEARCH($AF10,$O$19)),1,0)","v":0},{"$f":"IF(ISNUMBER(SEARCH($AF10,$O$20)),1,0)","v":0},{"$f":"IF(ISNUMBER(SEARCH($AF10,$O$21)),1,0)","v":0},{"$f":"IF(ISNUMBER(SEARCH($AF10,$O$22)),1,0)","v":0},{"$f":"IF(ISNUMBER(SEARCH($AF10,$O$23)),1,0)","v":0},{"$f":"IF(ISNUMBER(SEARCH($AF10,$O$24)),1,0)","v":0},{"$f":"IF(ISNUMBER(SEARCH($AF10,$O$25)),1,0)","v":0},{"$f":"IF(ISNUMBER(SEARCH($AF10,$O$26)),1,0)","v":0},{"$f":"IF(ISNUMBER(SEARCH($AF10,$O$27)),1,0)","v":0},{"$f":"IF(ISNUMBER(SEARCH($AF10,$O$28)),1,0)","v":0},{"$f":"IF(ISNUMBER(SEARCH($AF10,$O$29)),1,0)","v":0},{"$f":"IF(ISNUMBER(SEARCH($AF10,$O$30)),1,0)","v":0},{"$f":"IF(ISNUMBER(SEARCH($AF10,$O$31)),1,0)","v":0},{"$f":"IF(ISNUMBER(SEARCH($AF10,$O$32)),1,0)","v":0},{"$f":"IF(ISNUMBER(SEARCH($AF10,$O$33)),1,0)","v":0},{"$f":"IF(ISNUMBER(SEARCH($AF10,$O$34)),1,0)","v":0},{"$f":"IF(ISNUMBER(SEARCH($AF10,$O$35)),1,0)","v":0},{"$f":"IF(ISNUMBER(SEARCH($AF10,$O$36)),1,0)","v":0},{"$f":"IF(ISNUMBER(SEARCH($AF10,$O$37)),1,0)","v":0},{"$f":"IF(ISNUMBER(SEARCH($AF10,$O$38)),1,0)","v":0},{"$f":"IF(ISNUMBER(SEARCH($AF10,$O$39)),1,0)","v":0},{"$f":"IF(ISNUMBER(SEARCH($AF10,$O$40)),1,0)","v":0},{"$f":"IF(ISNUMBER(SEARCH($AF10,$O$41)),1,0)","v":0},{"$f":"IF(ISNUMBER(SEARCH($AF10,$O$42)),1,0)","v":0},{"$f":"IF(ISNUMBER(SEARCH($AF10,$O$43)),1,0)","v":0},{"$f":"IF(ISNUMBER(SEARCH($AF10,$O$44)),1,0)","v":0},{"$f":"IF(ISNUMBER(SEARCH($AF10,$O$45)),1,0)","v":0},{"$f":"IF(ISNUMBER(SEARCH($AF10,$O$46)),1,0)","v":0},{"$f":"IF(ISNUMBER(SEARCH($AF10,$O$47)),1,0)","v":0},{"$f":"IF(ISNUMBER(SEARCH($AF10,$O$48)),1,0)","v":0},{"$f":"IF(ISNUMBER(SEARCH($AF10,$O$49)),1,0)","v":0},{"$f":"IF(ISNUMBER(SEARCH($AF10,$O$50)),1,0)","v":0},{"$f":"IF(ISNUMBER(SEARCH($AF10,$O$51)),1,0)","v":0},{"$f":"IF(ISNUMBER(SEARCH($AF10,$O$52)),1,0)","v":0},{"$f":"IF(ISNUMBER(SEARCH($AF10,$O$53)),1,0)","v":0},{"$f":"IF(ISNUMBER(SEARCH($AF10,$O$54)),1,0)","v":0},{"$f":"IF(ISNUMBER(SEARCH($AF10,$O$55)),1,0)","v":0},{"$f":"IF(ISNUMBER(SEARCH($AF10,$O$56)),1,0)","v":0},{"$f":"IF(ISNUMBER(SEARCH($AF10,$O$57)),1,0)","v":0},{"$f":"IF(ISNUMBER(SEARCH($AF10,$O$58)),1,0)","v":0},{"$f":"IF(ISNUMBER(SEARCH($AF10,$O$59)),1,0)","v":0},{"$f":"IF(ISNUMBER(SEARCH($AF10,$O$60)),1,0)","v":0},{"$f":"IF(ISNUMBER(SEARCH($AF10,$O$61)),1,0)","v":0},{"$f":"IF(ISNUMBER(SEARCH($AF10,$O$62)),1,0)","v":0},{"$f":"IF(ISNUMBER(SEARCH($AF10,$O$63)),1,0)","v":0},{"$f":"IF(ISNUMBER(SEARCH($AF10,$O$64)),1,0)","v":0},{"$f":"IF(ISNUMBER(SEARCH($AF10,$O$65)),1,0)","v":0},{"$f":"IF(ISNUMBER(SEARCH($AF10,$O$66)),1,0)","v":0},{"$f":"IF(ISNUMBER(SEARCH($AF10,$O$67)),1,0)","v":0},{"$f":"IF(ISNUMBER(SEARCH($AF10,$O$68)),1,0)","v":0},{"$f":"IF(ISNUMBER(SEARCH($AF10,$O$69)),1,0)","v":0},{"$f":"IF(ISNUMBER(SEARCH($AF10,$O$70)),1,0)","v":0},{"$f":"IF(ISNUMBER(SEARCH($AF10,$O$71)),1,0)","v":0},{"$f":"IF(ISNUMBER(SEARCH($AF10,$O$72)),1,0)","v":0},{"$f":"IF(ISNUMBER(SEARCH($AF10,$O$73)),1,0)","v":0},{"$f":"IF(ISNUMBER(SEARCH($AF10,$O$74)),1,0)","v":0},{"$f":"IF(ISNUMBER(SEARCH($AF10,$O$75)),1,0)","v":0},{"$f":"IF(ISNUMBER(SEARCH($AF10,$O$76)),1,0)","v":0},{"$f":"IF(ISNUMBER(SEARCH($AF10,$O$77)),1,0)","v":0},{"$f":"IF(ISNUMBER(SEARCH($AF10,$O$78)),1,0)","v":0},{"$f":"IF(ISNUMBER(SEARCH($AF10,$O$79)),1,0)","v":0},{"$f":"IF(ISNUMBER(SEARCH($AF10,$O$80)),1,0)","v":0},{"$f":"IF(ISNUMBER(SEARCH($AF10,$O$81)),1,0)","v":0},{"$f":"IF(ISNUMBER(SEARCH($AF10,$O$82)),1,0)","v":0},{"$f":"IF(ISNUMBER(SEARCH($AF10,$O$83)),1,0)","v":0},{"$f":"IF(ISNUMBER(SEARCH($AF10,$O$84)),1,0)","v":0},{"$f":"IF(ISNUMBER(SEARCH($AF10,$O$85)),1,0)","v":0},{"$f":"IF(ISNUMBER(SEARCH($AF10,$O$86)),1,0)","v":0},{"$f":"IF(ISNUMBER(SEARCH($AF10,$O$87)),1,0)","v":0},{"$f":"IF(ISNUMBER(SEARCH($AF10,$O$88)),1,0)","v":0},{"$f":"IF(ISNUMBER(SEARCH($AF10,$O$89)),1,0)","v":0},{"$f":"IF(ISNUMBER(SEARCH($AF10,$O$90)),1,0)","v":0},{"$f":"IF(ISNUMBER(SEARCH($AF10,$O$91)),1,0)","v":0},{"$f":"IF(ISNUMBER(SEARCH($AF10,$O$92)),1,0)","v":0},{"$f":"IF(ISNUMBER(SEARCH($AF10,$O$93)),1,0)","v":0},{"$f":"IF(ISNUMBER(SEARCH($AF10,$O$94)),1,0)","v":0},{"$f":"IF(ISNUMBER(SEARCH($AF10,$O$95)),1,0)","v":0},{"$f":"IF(ISNUMBER(SEARCH($AF10,$O$96)),1,0)","v":0},{"$f":"IF(ISNUMBER(SEARCH($AF10,$O$97)),1,0)","v":0},{"$f":"IF(ISNUMBER(SEARCH($AF10,$O$98)),1,0)","v":0},{"$f":"IF(ISNUMBER(SEARCH($AF10,$O$99)),1,0)","v":0},{"$f":"IF(ISNUMBER(SEARCH($AF10,$O$100)),1,0)","v":0},{"$f":"IF(ISNUMBER(SEARCH($AF10,$O$101)),1,0)","v":0},{"$f":"IF(ISNUMBER(SEARCH($AF10,$O$102)),1,0)","v":0},{"$f":"IF(ISNUMBER(SEARCH($AF10,$O$103)),1,0)","v":0},{"$f":"IF(ISNUMBER(SEARCH($AF10,$O$104)),1,0)","v":0},{"$f":"IF(ISNUMBER(SEARCH($AF10,$O$105)),1,0)","v":0},{"$f":"IF(ISNUMBER(SEARCH($AF10,$O$106)),1,0)","v":0},{"$f":"IF(ISNUMBER(SEARCH($AF10,$O$107)),1,0)","v":0},{"$f":"IF(ISNUMBER(SEARCH($AF10,$O$108)),1,0)","v":0},{"$f":"IF(ISNUMBER(SEARCH($AF10,$O$109)),1,0)","v":0},{"$f":"IF(ISNUMBER(SEARCH($AF10,$O$110)),1,0)","v":0},{"$f":"IF(ISNUMBER(SEARCH($AF10,$O$111)),1,0)","v":0},{"$f":"IF(ISNUMBER(SEARCH($AF10,$O$112)),1,0)","v":0},{"$f":"IF(ISNUMBER(SEARCH($AF10,$O$113)),1,0)","v":0},{"$f":"IF(ISNUMBER(SEARCH($AF10,$O$114)),1,0)","v":0},{"$f":"IF(ISNUMBER(SEARCH($AF10,$O$115)),1,0)","v":0},{"$f":"IF(ISNUMBER(SEARCH($AF10,$O$116)),1,0)","v":0},{"$f":"IF(ISNUMBER(SEARCH($AF10,$O$117)),1,0)","v":0},{"$f":"IF(ISNUMBER(SEARCH($AF10,$O$118)),1,0)","v":0},{"$f":"IF(ISNUMBER(SEARCH($AF10,$O$119)),1,0)","v":0},{"$f":"IF(ISNUMBER(SEARCH($AF10,$O$120)),1,0)","v":0},{"$f":"IF(ISNUMBER(SEARCH($AF10,$O$121)),1,0)","v":0},{"$f":"IF(ISNUMBER(SEARCH($AF10,$O$122)),1,0)","v":0},{"$f":"IF(ISNUMBER(SEARCH($AF10,$O$123)),1,0)","v":0},{"$f":"IF(ISNUMBER(SEARCH($AF10,$O$124)),1,0)","v":0},{"$f":"IF(ISNUMBER(SEARCH($AF10,$O$125)),1,0)","v":0},{"$f":"IF(ISNUMBER(SEARCH($AF10,$O$126)),1,0)","v":0},{"$f":"IF(ISNUMBER(SEARCH($AF10,$O$127)),1,0)","v":0},{"$f":"IF(ISNUMBER(SEARCH($AF10,$O$128)),1,0)","v":0},{"$f":"IF(ISNUMBER(SEARCH($AF10,$O$129)),1,0)","v":0},{"$f":"IF(ISNUMBER(SEARCH($AF10,$O$130)),1,0)","v":0},{"$f":"IF(ISNUMBER(SEARCH($AF10,$O$131)),1,0)","v":0},{"$f":"IF(ISNUMBER(SEARCH($AF10,$O$132)),1,0)","v":0},{"$f":"IF(ISNUMBER(SEARCH($AF10,$O$133)),1,0)","v":0},{"$f":"IF(ISNUMBER(SEARCH($AF10,$O$134)),1,0)","v":0},{"$f":"IF(ISNUMBER(SEARCH($AF10,$O$135)),1,0)","v":0},{"$f":"IF(ISNUMBER(SEARCH($AF10,$O$136)),1,0)","v":0},{"$f":"IF(ISNUMBER(SEARCH($AF10,$O$137)),1,0)","v":0},{"$f":"IF(ISNUMBER(SEARCH($AF10,$O$138)),1,0)","v":0},{"$f":"IF(ISNUMBER(SEARCH($AF10,$O$139)),1,0)","v":0},{"$f":"IF(ISNUMBER(SEARCH($AF10,$O$140)),1,0)","v":0},{"$f":"IF(ISNUMBER(SEARCH($AF10,$O$141)),1,0)","v":0},{"$f":"IF(ISNUMBER(SEARCH($AF10,$O$142)),1,0)","v":0},{"$f":"IF(ISNUMBER(SEARCH($AF10,$O$143)),1,0)","v":0},{"$f":"IF(ISNUMBER(SEARCH($AF10,$O$144)),1,0)","v":0},{"$f":"IF(ISNUMBER(SEARCH($AF10,$O$145)),1,0)","v":0},{"$f":"IF(ISNUMBER(SEARCH($AF10,$O$146)),1,0)","v":0},{"$f":"IF(ISNUMBER(SEARCH($AF10,$O$147)),1,0)","v":0},{"$f":"IF(ISNUMBER(SEARCH($AF10,$O$148)),1,0)","v":0},{"$f":"IF(ISNUMBER(SEARCH($AF10,$O$149)),1,0)","v":0},{"$f":"IF(ISNUMBER(SEARCH($AF10,$O$150)),1,0)","v":0},{"$f":"IF(ISNUMBER(SEARCH($AF10,$O$151)),1,0)","v":0},{"$f":"IF(ISNUMBER(SEARCH($AF10,$O$152)),1,0)","v":0},{"$f":"IF(ISNUMBER(SEARCH($AF10,$O$153)),1,0)","v":0},{"$f":"IF(ISNUMBER(SEARCH($AF10,$O$154)),1,0)","v":0},{"$f":"IF(ISNUMBER(SEARCH($AF10,$O$155)),1,0)","v":0},{"$f":"IF(ISNUMBER(SEARCH($AF10,$O$156)),1,0)","v":0},{"$f":"IF(ISNUMBER(SEARCH($AF10,$O$157)),1,0)","v":0},{"$f":"IF(ISNUMBER(SEARCH($AF10,$O$158)),1,0)","v":0},{"$f":"IF(ISNUMBER(SEARCH($AF10,$O$159)),1,0)","v":0},{"$f":"IF(ISNUMBER(SEARCH($AF10,$O$160)),1,0)","v":0},{"$f":"IF(ISNUMBER(SEARCH($AF10,$O$161)),1,0)","v":0},{"$nulls":3},{"$f":"IF(SUM(AI10:GC10)>=1,1,0)","v":0}]
[{"$nulls":13},{"$f":"IF(ISBLANK(M11),\"\",LEN(TRIM(M11))-LEN(SUBSTITUTE(TRIM(M11),\",\",\"\"))+1)","v":""},null,{"$f":"IF(ISBLANK(O11),\"\",LEN(TRIM(O11))-LEN(SUBSTITUTE(TRIM(O11),\",\",\"\"))+1)","v":""},{"$nulls":4},{"$f":"IF(A11<>\"\",1,0)","v":0},{"$f":"IF(OR(J11=\"Yes\",K11=\"Yes\",L11=\"Yes\"), 1, 0)","v":0},null,{"$f":"IF(R11=\"Yes\", 1, 0)","v":0},{"$f":"IF(S11=\"Yes\", 1, 0)","v":0},{"$f":"IF(T11=\"Yes\", 1, 0)","v":0},{"$f":"IF(Q11=\"Yes\", 1,0)","v":0},{"$nulls":3},"B","Baker",null,null,0,0,0,0,0,0,0,0,0,0,0,0,0,0,0,0,0,0,0,0,0,0,0,0,0,0,0,0,0,0,0,0,0,0,0,0,0,0,0,0,0,0,0,0,0,0,0,0,0,0,0,0,0,0,0,0,0,0,0,0,0,0,0,0,0,0,0,0,0,0,0,0,0,0,0,0,0,0,0,0,0,0,0,0,0,0,0,0,0,0,0,0,0,0,0,0,0,0,0,0,0,0,0,0,0,0,0,0,0,0,0,0,0,0,0,0,0,0,0,0,0,0,0,0,0,0,0,0,0,0,0,0,0,0,0,0,0,0,0,0,0,0,0,0,0,0,0,0,0,0,0,{"$nulls":3},0]
[{"$nulls":13},{"$f":"IF(ISBLANK(M12),\"\",LEN(TRIM(M12))-LEN(SUBSTITUTE(TRIM(M12),\",\",\"\"))+1)","v":""},null,{"$f":"IF(ISBLANK(O12),\"\",LEN(TRIM(O12))-LEN(SUBSTITUTE(TRIM(O12),\",\",\"\"))+1)","v":""},{"$nulls":4},0,0,null,0,0,0,0,{"$nulls":3},"C","Bay",null,null,0,0,0,0,0,0,0,0,0,0,0,0,0,0,0,0,0,0,0,0,0,0,0,0,0,0,0,0,0,0,0,0,0,0,0,0,0,0,0,0,0,0,0,0,0,0,0,0,0,0,0,0,0,0,0,0,0,0,0,0,0,0,0,0,0,0,0,0,0,0,0,0,0,0,0,0,0,0,0,0,0,0,0,0,0,0,0,0,0,0,0,0,0,0,0,0,0,0,0,0,0,0,0,0,0,0,0,0,0,0,0,0,0,0,0,0,0,0,0,0,0,0,0,0,0,0,0,0,0,0,0,0,0,0,0,0,0,0,0,0,0,0,0,0,0,0,0,0,0,0,0,{"$nulls":3},0]
[{"$nulls":13},{"$f":"IF(ISBLANK(M13),\"\",LEN(TRIM(M13))-LEN(SUBSTITUTE(TRIM(M13),\",\",\"\"))+1)","v":""},null,"",{"$nulls":4},0,0,null,0,0,0,0,{"$nulls":3},"D","Bradford",null,null,0,0,0,0,0,0,0,0,0,0,0,0,0,0,0,0,0,0,0,0,0,0,0,0,0,0,0,0,0,0,0,0,0,0,0,0,0,0,0,0,0,0,0,0,0,0,0,0,0,0,0,0,0,0,0,0,0,0,0,0,0,0,0,0,0,0,0,0,0,0,0,0,0,0,0,0,0,0,0,0,0,0,0,0,0,0,0,0,0,0,0,0,0,0,0,0,0,0,0,0,0,0,0,0,0,0,0,0,0,0,0,0,0,0,0,0,0,0,0,0,0,0,0,0,0,0,0,0,0,0,0,0,0,0,0,0,0,0,0,0,0,0,0,0,0,0,0,0,0,0,0,{"$nulls":3},0]
[{"$nulls":13},"",null,"",{"$nulls":4},0,0,null,0,0,0,0,{"$nulls":3},"E","Brevard",null,null,0,0,0,0,0,0,0,0,0,0,0,0,0,0,0,0,0,0,0,0,0,0,0,0,0,0,0,0,0,0,0,0,0,0,0,0,0,0,0,0,0,0,0,0,0,0,0,0,0,0,0,0,0,0,0,0,0,0,0,0,0,0,0,0,0,0,0,0,0,0,0,0,0,0,0,0,0,0,0,0,0,0,0,0,0,0,0,0,0,0,0,0,0,0,0,0,0,0,0,0,0,0,0,0,0,0,0,0,0,0,0,0,0,0,0,0,0,0,0,0,0,0,0,0,0,0,0,0,0,0,0,0,0,0,0,0,0,0,0,0,0,0,0,0,0,0,0,0,0,0,0,{"$nulls":3},0]
[{"$nulls":13},"",null,"",{"$nulls":4},0,0,null,0,0,0,0,{"$nulls":3},"F","Broward",null,null,0,0,0,0,0,0,0,0,0,0,0,0,0,0,0,0,0,0,0,0,0,0,0,0,0,0,0,0,0,0,0,0,0,0,0,0,0,0,0,0,0,0,0,0,0,0,0,0,0,0,0,0,0,0,0,0,0,0,0,0,0,0,0,0,0,0,0,0,0,0,0,0,0,0,0,0,0,0,0,0,0,0,0,0,0,0,0,0,0,0,0,0,0,0,0,0,0,0,0,0,0,0,0,0,0,0,0,0,0,0,0,0,0,0,0,0,0,0,0,0,0,0,0,0,0,0,0,0,0,0,0,0,0,0,0,0,0,0,0,0,0,0,0,0,0,0,0,0,0,0,0,{"$nulls":3},0]
[{"$nulls":13},"",null,"",{"$nulls":4},0,0,null,0,0,0,0,{"$nulls":3},"G","Calhoun",null,null,0,0,0,0,0,0,0,0,0,0,0,0,0,0,0,0,0,0,0,0,0,0,0,0,0,0,0,0,0,0,0,0,0,0,0,0,0,0,0,0,0,0,0,0,0,0,0,0,0,0,0,0,0,0,0,0,0,0,0,0,0,0,0,0,0,0,0,0,0,0,0,0,0,0,0,0,0,0,0,0,0,0,0,0,0,0,0,0,0,0,0,0,0,0,0,0,0,0,0,0,0,0,0,0,0,0,0,0,0,0,0,0,0,0,0,0,0,0,0,0,0,0,0,0,0,0,0,0,0,0,0,0,0,0,0,0,0,0,0,0,0,0,0,0,0,0,0,0,0,0,0,{"$nulls":3},0]
[{"$nulls":13},"",null,"",{"$nulls":4},0,0,null,0,0,0,0,{"$nulls":3},"H","Charlotte",null,null,0,0,0,0,0,0,0,0,0,0,0,0,0,0,0,0,0,0,0,0,0,0,0,0,0,0,0,0,0,0,0,0,0,0,0,0,0,0,0,0,0,0,0,0,0,0,0,0,0,0,0,0,0,0,0,0,0,0,0,0,0,0,0,0,0,0,0,0,0,0,0,0,0,0,0,0,0,0,0,0,0,0,0,0,0,0,0,0,0,0,0,0,0,0,0,0,0,0,0,0,0,0,0,0,0,0,0,0,0,0,0,0,0,0,0,0,0,0,0,0,0,0,0,0,0,0,0,0,0,0,0,0,0,0,0,0,0,0,0,0,0,0,0,0,0,0,0,0,0,0,0,{"$nulls":3},0]
[{"$nulls":13},"",null,"",{"$nulls":4},0,0,null,0,0,0,0,{"$nulls":3},"I","Citrus",null,null,0,0,0,0,0,0,0,0,0,0,0,0,0,0,0,0,0,0,0,0,0,0,0,0,0,0,0,0,0,0,0,0,0,0,0,0,0,0,0,0,0,0,0,0,0,0,0,0,0,0,0,0,0,0,0,0,0,0,0,0,0,0,0,0,0,0,0,0,0,0,0,0,0,0,0,0,0,0,0,0,0,0,0,0,0,0,0,0,0,0,0,0,0,0,0,0,0,0,0,0,0,0,0,0,0,0,0,0,0,0,0,0,0,0,0,0,0,0,0,0,0,0,0,0,0,0,0,0,0,0,0,0,0,0,0,0,0,0,0,0,0,0,0,0,0,0,0,0,0,0,0,{"$nulls":3},0]
[{"$nulls":13},"",null,"",{"$nulls":4},0,0,null,0,0,0,0,{"$nulls":4},"Clay",null,null,0,0,0,0,0,0,0,0,0,0,0,0,0,0,0,0,0,0,0,0,0,0,0,0,0,0,0,0,0,0,0,0,0,0,0,0,0,0,0,0,0,0,0,0,0,0,0,0,0,0,0,0,0,0,0,0,0,0,0,0,0,0,0,0,0,0,0,0,0,0,0,0,0,0,0,0,0,0,0,0,0,0,0,0,0,0,0,0,0,0,0,0,0,0,0,0,0,0,0,0,0,0,0,0,0,0,0,0,0,0,0,0,0,0,0,0,0,0,0,0,0,0,0,0,0,0,0,0,0,0,0,0,0,0,0,0,0,0,0,0,0,0,0,0,0,0,0,0,0,0,0,{"$nulls":3},0]
[{"$nulls":13},"",null,"",{"$nulls":4},0,0,null,0,0,0,0,{"$nulls":4},"Collier",null,null,0,0,0,0,0,0,0,0,0,0,0,0,0,0,0,0,0,0,0,0,0,0,0,0,0,0,0,0,0,0,0,0,0,0,0,0,0,0,0,0,0,0,0,0,0,0,0,0,0,0,0,0,0,0,0,0,0,0,0,0,0,0,0,0,0,0,0,0,0,0,0,0,0,0,0,0,0,0,0,0,0,0,0,0,0,0,0,0,0,0,0,0,0,0,0,0,0,0,0,0,0,0,0,0,0,0,0,0,0,0,0,0,0,0,0,0,0,0,0,0,0,0,0,0,0,0,0,0,0,0,0,0,0,0,0,0,0,0,0,0,0,0,0,0,0,0,0,0,0,0,0,{"$nulls":3},0]
[{"$nulls":13},"",null,"",{"$nulls":4},0,0,null,0,0,0,0,{"$nulls":4},"Columbia",null,null,0,0,0,0,0,0,0,0,0,0,0,0,0,0,0,0,0,0,0,0,0,0,0,0,0,0,0,0,0,0,0,0,0,0,0,0,0,0,0,0,0,0,0,0,0,0,0,0,0,0,0,0,0,0,0,0,0,0,0,0,0,0,0,0,0,0,0,0,0,0,0,0,0,0,0,0,0,0,0,0,0,0,0,0,0,0,0,0,0,0,0,0,0,0,0,0,0,0,0,0,0,0,0,0,0,0,0,0,0,0,0,0,0,0,0,0,0,0,0,0,0,0,0,0,0,0,0,0,0,0,0,0,0,0,0,0,0,0,0,0,0,0,0,0,0,0,0,0,0,0,0,{"$nulls":3},0]
[{"$nulls":13},"",null,"",{"$nulls":4},0,0,null,0,0,0,0,{"$nulls":4},"DeSoto",null,null,0,0,0,0,0,0,0,0,0,0,0,0,0,0,0,0,0,0,0,0,0,0,0,0,0,0,0,0,0,0,0,0,0,0,0,0,0,0,0,0,0,0,0,0,0,0,0,0,0,0,0,0,0,0,0,0,0,0,0,0,0,0,0,0,0,0,0,0,0,0,0,0,0,0,0,0,0,0,0,0,0,0,0,0,0,0,0,0,0,0,0,0,0,0,0,0,0,0,0,0,0,0,0,0,0,0,0,0,0,0,0,0,0,0,0,0,0,0,0,0,0,0,0,0,0,0,0,0,0,0,0,0,0,0,0,0,0,0,0,0,0,0,0,0,0,0,0,0,0,0,0,{"$nulls":3},0]
[{"$nulls":13},"",null,"",{"$nulls":4},0,0,null,0,0,0,0,{"$nulls":4},"Dixie",null,null,0,0,0,0,0,0,0,0,0,0,0,0,0,0,0,0,0,0,0,0,0,0,0,0,0,0,0,0,0,0,0,0,0,0,0,0,0,0,0,0,0,0,0,0,0,0,0,0,0,0,0,0,0,0,0,0,0,0,0,0,0,0,0,0,0,0,0,0,0,0,0,0,0,0,0,0,0,0,0,0,0,0,0,0,0,0,0,0,0,0,0,0,0,0,0,0,0,0,0,0,0,0,0,0,0,0,0,0,0,0,0,0,0,0,0,0,0,0,0,0,0,0,0,0,0,0,0,0,0,0,0,0,0,0,0,0,0,0,0,0,0,0,0,0,0,0,0,0,0,0,0,{"$nulls":3},0]
[{"$nulls":13},"",null,"",{"$nulls":4},0,0,null,0,0,0,0,{"$nulls":4},"Duval",null,null,0,0,0,0,0,0,0,0,0,0,0,0,0,0,0,0,0,0,0,0,0,0,0,0,0,0,0,0,0,0,0,0,0,0,0,0,0,0,0,0,0,0,0,0,0,0,0,0,0,0,0,0,0,0,0,0,0,0,0,0,0,0,0,0,0,0,0,0,0,0,0,0,0,0,0,0,0,0,0,0,0,0,0,0,0,0,0,0,0,0,0,0,0,0,0,0,0,0,0,0,0,0,0,0,0,0,0,0,0,0,0,0,0,0,0,0,0,0,0,0,0,0,0,0,0,0,0,0,0,0,0,0,0,0,0,0,0,0,0,0,0,0,0,0,0,0,0,0,0,0,0,{"$nulls":3},0]
[{"$nulls":13},"",null,"",{"$nulls":4},0,0,null,0,0,0,0,{"$nulls":4},"Escambia",null,null,0,0,0,0,0,0,0,0,0,0,0,0,0,0,0,0,0,0,0,0,0,0,0,0,0,0,0,0,0,0,0,0,0,0,0,0,0,0,0,0,0,0,0,0,0,0,0,0,0,0,0,0,0,0,0,0,0,0,0,0,0,0,0,0,0,0,0,0,0,0,0,0,0,0,0,0,0,0,0,0,0,0,0,0,0,0,0,0,0,0,0,0,0,0,0,0,0,0,0,0,0,0,0,0,0,0,0,0,0,0,0,0,0,0,0,0,0,0,0,0,0,0,0,0,0,0,0,0,0,0,0,0,0,0,0,0,0,0,0,0,0,0,0,0,0,0,0,0,0,0,0,{"$nulls":3},0]
[{"$nulls":13},"",null,"",{"$nulls":4},0,0,null,0,0,0,0,{"$nulls":4},"Flagler",null,null,0,0,0,0,0,0,0,0,0,0,0,0,0,0,0,0,0,0,0,0,0,0,0,0,0,0,0,0,0,0,0,0,0,0,0,0,0,0,0,0,0,0,0,0,0,0,0,0,0,0,0,0,0,0,0,0,0,0,0,0,0,0,0,0,0,0,0,0,0,0,0,0,0,0,0,0,0,0,0,0,0,0,0,0,0,0,0,0,0,0,0,0,0,0,0,0,0,0,0,0,0,0,0,0,0,0,0,0,0,0,0,0,0,0,0,0,0,0,0,0,0,0,0,0,0,0,0,0,0,0,0,0,0,0,0,0,0,0,0,0,0,0,0,0,0,0,0,0,0,0,0,{"$nulls":3},0]
[{"$nulls":13},"",null,"",{"$nulls":4},0,0,null,0,0,0,0,{"$nulls":4},"Franklin",null,null,0,0,0,0,0,0,0,0,0,0,0,0,0,0,0,0,0,0,0,0,0,0,0,0,0,0,0,0,0,0,0,0,0,0,0,0,0,0,0,0,0,0,0,0,0,0,0,0,0,0,0,0,0,0,0,0,0,0,0,0,0,0,0,0,0,0,0,0,0,0,0,0,0,0,0,0,0,0,0,0,0,0,0,0,0,0,0,0,0,0,0,0,0,0,0,0,0,0,0,0,0,0,0,0,0,0,0,0,0,0,0,0,0,0,0,0,0,0,0,0,0,0,0,0,0,0,0,0,0,0,0,0,0,0,0,0,0,0,0,0,0,0,0,0,0,0,0,0,0,0,0,{"$nulls":3},0]
[{"$nulls":13},"",null,"",{"$nulls":4},0,0,null,0,0,0,0,{"$nulls":4},"Gadsden",null,null,0,0,0,0,0,0,0,0,0,0,0,0,0,0,0,0,0,0,0,0,0,0,0,0,0,0,0,0,0,0,0,0,0,0,0,0,0,0,0,0,0,0,0,0,0,0,0,0,0,0,0,0,0,0,0,0,0,0,0,0,0,0,0,0,0,0,0,0,0,0,0,0,0,0,0,0,0,0,0,0,0,0,0,0,0,0,0,0,0,0,0,0,0,0,0,0,0,0,0,0,0,0,0,0,0,0,0,0,0,0,0,0,0,0,0,0,0,0,0,0,0,0,0,0,0,0,0,0,0,0,0,0,0,0,0,0,0,0,0,0,0,0,0,0,0,0,0,0,0,0,0,{"$nulls":3},0]
[{"$nulls":13},"",null,"",{"$nulls":4},0,0,null,0,0,0,0,{"$nulls":4},"Gilchrist",null,null,0,0,0,0,0,0,0,0,0,0,0,0,0,0,0,0,0,0,0,0,0,0,0,0,0,0,0,0,0,0,0,0,0,0,0,0,0,0,0,0,0,0,0,0,0,0,0,0,0,0,0,0,0,0,0,0,0,0,0,0,0,0,0,0,0,0,0,0,0,0,0,0,0,0,0,0,0,0,0,0,0,0,0,0,0,0,0,0,0,0,0,0,0,0,0,0,0,0,0,0,0,0,0,0,0,0,0,0,0,0,0,0,0,0,0,0,0,0,0,0,0,0,0,0,0,0,0,0,0,0,0,0,0,0,0,0,0,0,0,0,0,0,0,0,0,0,0,0,0,0,0,{"$nulls":3},0]
[{"$nulls":13},"",null,"",{"$nulls":4},0,0,null,0,0,0,0,{"$nulls":4},"Glades",null,null,0,0,0,0,0,0,0,0,0,0,0,0,0,0,0,0,0,0,0,0,0,0,0,0,0,0,0,0,0,0,0,0,0,0,0,0,0,0,0,0,0,0,0,0,0,0,0,0,0,0,0,0,0,0,0,0,0,0,0,0,0,0,0,0,0,0,0,0,0,0,0,0,0,0,0,0,0,0,0,0,0,0,0,0,0,0,0,0,0,0,0,0,0,0,0,0,0,0,0,0,0,0,0,0,0,0,0,0,0,0,0,0,0,0,0,0,0,0,0,0,0,0,0,0,0,0,0,0,0,0,0,0,0,0,0,0,0,0,0,0,0,0,0,0,0,0,0,0,0,0,0,{"$nulls":3},0]
[{"$nulls":13},"",null,"",{"$nulls":4},0,0,null,0,0,0,0,{"$nulls":4},"Gulf",null,null,0,0,0,0,0,0,0,0,0,0,0,0,0,0,0,0,0,0,0,0,0,0,0,0,0,0,0,0,0,0,0,0,0,0,0,0,0,0,0,0,0,0,0,0,0,0,0,0,0,0,0,0,0,0,0,0,0,0,0,0,0,0,0,0,0,0,0,0,0,0,0,0,0,0,0,0,0,0,0,0,0,0,0,0,0,0,0,0,0,0,0,0,0,0,0,0,0,0,0,0,0,0,0,0,0,0,0,0,0,0,0,0,0,0,0,0,0,0,0,0,0,0,0,0,0,0,0,0,0,0,0,0,0,0,0,0,0,0,0,0,0,0,0,0,0,0,0,0,0,0,0,{"$nulls":3},0]
[{"$nulls":13},"",null,"",{"$nulls":4},0,0,null,0,0,0,0,{"$nulls":4},"Hamilton",null,null,0,0,0,0,0,0,0,0,0,0,0,0,0,0,0,0,0,0,0,0,0,0,0,0,0,0,0,0,0,0,0,0,0,0,0,0,0,0,0,0,0,0,0,0,0,0,0,0,0,0,0,0,0,0,0,0,0,0,0,0,0,0,0,0,0,0,0,0,0,0,0,0,0,0,0,0,0,0,0,0,0,0,0,0,0,0,0,0,0,0,0,0,0,0,0,0,0,0,0,0,0,0,0,0,0,0,0,0,0,0,0,0,0,0,0,0,0,0,0,0,0,0,0,0,0,0,0,0,0,0,0,0,0,0,0,0,0,0,0,0,0,0,0,0,0,0,0,0,0,0,0,{"$nulls":3},0]
[{"$nulls":13},"",null,"",{"$nulls":4},0,0,null,0,0,0,0,{"$nulls":4},"Hardee",null,null,0,0,0,0,0,0,0,0,0,0,0,0,0,0,0,0,0,0,0,0,0,0,0,0,0,0,0,0,0,0,0,0,0,0,0,0,0,0,0,0,0,0,0,0,0,0,0,0,0,0,0,0,0,0,0,0,0,0,0,0,0,0,0,0,0,0,0,0,0,0,0,0,0,0,0,0,0,0,0,0,0,0,0,0,0,0,0,0,0,0,0,0,0,0,0,0,0,0,0,0,0,0,0,0,0,0,0,0,0,0,0,0,0,0,0,0,0,0,0,0,0,0,0,0,0,0,0,0,0,0,0,0,0,0,0,0,0,0,0,0,0,0,0,0,0,0,0,0,0,0,0,{"$nulls":3},0]
[{"$nulls":13},"",null,"",{"$nulls":4},0,0,null,0,0,0,0,{"$nulls":4},"Hendry",null,null,0,0,0,0,0,0,0,0,0,0,0,0,0,0,0,0,0,0,0,0,0,0,0,0,0,0,0,0,0,0,0,0,0,0,0,0,0,0,0,0,0,0,0,0,0,0,0,0,0,0,0,0,0,0,0,0,0,0,0,0,0,0,0,0,0,0,0,0,0,0,0,0,0,0,0,0,0,0,0,0,0,0,0,0,0,0,0,0,0,0,0,0,0,0,0,0,0,0,0,0,0,0,0,0,0,0,0,0,0,0,0,0,0,0,0,0,0,0,0,0,0,0,0,0,0,0,0,0,0,0,0,0,0,0,0,0,0,0,0,0,0,0,0,0,0,0,0,0,0,0,0,{"$nulls":3},0]
[{"$nulls":13},"",null,"",{"$nulls":4},0,0,null,0,0,0,0,{"$nulls":4},"Hernando",null,null,0,0,0,0,0,0,0,0,0,0,0,0,0,0,0,0,0,0,0,0,0,0,0,0,0,0,0,0,0,0,0,0,0,0,0,0,0,0,0,0,0,0,0,0,0,0,0,0,0,0,0,0,0,0,0,0,0,0,0,0,0,0,0,0,0,0,0,0,0,0,0,0,0,0,0,0,0,0,0,0,0,0,0,0,0,0,0,0,0,0,0,0,0,0,0,0,0,0,0,0,0,0,0,0,0,0,0,0,0,0,0,0,0,0,0,0,0,0,0,0,0,0,0,0,0,0,0,0,0,0,0,0,0,0,0,0,0,0,0,0,0,0,0,0,0,0,0,0,0,0,0,{"$nulls":3},0]
[{"$nulls":13},"",null,"",{"$nulls":4},0,0,null,0,0,0,0,{"$nulls":4},"Highlands",null,null,0,0,0,0,0,0,0,0,0,0,0,0,0,0,0,0,0,0,0,0,0,0,0,0,0,0,0,0,0,0,0,0,0,0,0,0,0,0,0,0,0,0,0,0,0,0,0,0,0,0,0,0,0,0,0,0,0,0,0,0,0,0,0,0,0,0,0,0,0,0,0,0,0,0,0,0,0,0,0,0,0,0,0,0,0,0,0,0,0,0,0,0,0,0,0,0,0,0,0,0,0,0,0,0,0,0,0,0,0,0,0,0,0,0,0,0,0,0,0,0,0,0,0,0,0,0,0,0,0,0,0,0,0,0,0,0,0,0,0,0,0,0,0,0,0,0,0,0,0,0,0,{"$nulls":3},0]
[{"$nulls":13},"",null,"",{"$nulls":4},0,0,null,0,0,0,0,{"$nulls":4},"Hillsborough",null,null,0,0,0,0,0,0,0,0,0,0,0,0,0,0,0,0,0,0,0,0,0,0,0,0,0,0,0,0,0,0,0,0,0,0,0,0,0,0,0,0,0,0,0,0,0,0,0,0,0,0,0,0,0,0,0,0,0,0,0,0,0,0,0,0,0,0,0,0,0,0,0,0,0,0,0,0,0,0,0,0,0,0,0,0,0,0,0,0,0,0,0,0,0,0,0,0,0,0,0,0,0,0,0,0,0,0,0,0,0,0,0,0,0,0,0,0,0,0,0,0,0,0,0,0,0,0,0,0,0,0,0,0,0,0,0,0,0,0,0,0,0,0,0,0,0,0,0,0,0,0,0,{"$nulls":3},0]
[{"$nulls":13},"",null,"",{"$nulls":4},0,0,null,0,0,0,0,{"$nulls":4},"Holmes",null,null,0,0,0,0,0,0,0,0,0,0,0,0,0,0,0,0,0,0,0,0,0,0,0,0,0,0,0,0,0,0,0,0,0,0,0,0,0,0,0,0,0,0,0,0,0,0,0,0,0,0,0,0,0,0,0,0,0,0,0,0,0,0,0,0,0,0,0,0,0,0,0,0,0,0,0,0,0,0,0,0,0,0,0,0,0,0,0,0,0,0,0,0,0,0,0,0,0,0,0,0,0,0,0,0,0,0,0,0,0,0,0,0,0,0,0,0,0,0,0,0,0,0,0,0,0,0,0,0,0,0,0,0,0,0,0,0,0,0,0,0,0,0,0,0,0,0,0,0,0,0,0,{"$nulls":3},0]
[{"$nulls":13},"",null,"",{"$nulls":4},0,0,null,0,0,0,0,{"$nulls":4},"Indian River",null,null,0,0,0,0,0,0,0,0,0,0,0,0,0,0,0,0,0,0,0,0,0,0,0,0,0,0,0,0,0,0,0,0,0,0,0,0,0,0,0,0,0,0,0,0,0,0,0,0,0,0,0,0,0,0,0,0,0,0,0,0,0,0,0,0,0,0,0,0,0,0,0,0,0,0,0,0,0,0,0,0,0,0,0,0,0,0,0,0,0,0,0,0,0,0,0,0,0,0,0,0,0,0,0,0,0,0,0,0,0,0,0,0,0,0,0,0,0,0,0,0,0,0,0,0,0,0,0,0,0,0,0,0,0,0,0,0,0,0,0,0,0,0,0,0,0,0,0,0,0,0,0,{"$nulls":3},0]
[{"$nulls":13},"",null,"",{"$nulls":4},0,0,null,0,0,0,0,{"$nulls":4},"Jackson",null,null,0,0,0,0,0,0,0,0,0,0,0,0,0,0,0,0,0,0,0,0,0,0,0,0,0,0,0,0,0,0,0,0,0,0,0,0,0,0,0,0,0,0,0,0,0,0,0,0,0,0,0,0,0,0,0,0,0,0,0,0,0,0,0,0,0,0,0,0,0,0,0,0,0,0,0,0,0,0,0,0,0,0,0,0,0,0,0,0,0,0,0,0,0,0,0,0,0,0,0,0,0,0,0,0,0,0,0,0,0,0,0,0,0,0,0,0,0,0,0,0,0,0,0,0,0,0,0,0,0,0,0,0,0,0,0,0,0,0,0,0,0,0,0,0,0,0,0,0,0,0,0,{"$nulls":3},0]
[{"$nulls":13},"",null,"",{"$nulls":4},0,0,null,0,0,0,0,{"$nulls":4},"Jefferson",null,null,0,0,0,0,0,0,0,0,0,0,0,0,0,0,0,0,0,0,0,0,0,0,0,0,0,0,0,0,0,0,0,0,0,0,0,0,0,0,0,0,0,0,0,0,0,0,0,0,0,0,0,0,0,0,0,0,0,0,0,0,0,0,0,0,0,0,0,0,0,0,0,0,0,0,0,0,0,0,0,0,0,0,0,0,0,0,0,0,0,0,0,0,0,0,0,0,0,0,0,0,0,0,0,0,0,0,0,0,0,0,0,0,0,0,0,0,0,0,0,0,0,0,0,0,0,0,0,0,0,0,0,0,0,0,0,0,0,0,0,0,0,0,0,0,0,0,0,0,0,0,0,{"$nulls":3},0]
[{"$nulls":13},"",null,"",{"$nulls":4},0,0,null,0,0,0,0,{"$nulls":4},"Lafayette",null,null,{"$f":"IF(ISNUMBER(SEARCH(AF42,$O$11)),1,0)","v":0},{"$f":"IF(ISNUMBER(SEARCH(AF42,$O$12)),1,0)","v":0},{"$f":"IF(ISNUMBER(SEARCH($AF42,$O$13)),1,0)","v":0},{"$f":"IF(ISNUMBER(SEARCH($AF42,$O$14)),1,0)","v":0},{"$f":"IF(ISNUMBER(SEARCH($AF42,$O$15)),1,0)","v":0},{"$f":"IF(ISNUMBER(SEARCH($AF42,$O$16)),1,0)","v":0},{"$f":"IF(ISNUMBER(SEARCH($AF42,$O$17)),1,0)","v":0},{"$f":"IF(ISNUMBER(SEARCH($AF42,$O$18)),1,0)","v":0},{"$f":"IF(ISNUMBER(SEARCH($AF42,$O$19)),1,0)","v":0},{"$f":"IF(ISNUMBER(SEARCH($AF42,$O$20)),1,0)","v":0},{"$f":"IF(ISNUMBER(SEARCH($AF42,$O$21)),1,0)","v":0},{"$f":"IF(ISNUMBER(SEARCH($AF42,$O$22)),1,0)","v":0},{"$f":"IF(ISNUMBER(SEARCH($AF42,$O$23)),1,0)","v":0},{"$f":"IF(ISNUMBER(SEARCH($AF42,$O$24)),1,0)","v":0},{"$f":"IF(ISNUMBER(SEARCH($AF42,$O$25)),1,0)","v":0},{"$f":"IF(ISNUMBER(SEARCH($AF42,$O$26)),1,0)","v":0},{"$f":"IF(ISNUMBER(SEARCH($AF42,$O$27)),1,0)","v":0},{"$f":"IF(ISNUMBER(SEARCH($AF42,$O$28)),1,0)","v":0},{"$f":"IF(ISNUMBER(SEARCH($AF42,$O$29)),1,0)","v":0},{"$f":"IF(ISNUMBER(SEARCH($AF42,$O$30)),1,0)","v":0},{"$f":"IF(ISNUMBER(SEARCH($AF42,$O$31)),1,0)","v":0},{"$f":"IF(ISNUMBER(SEARCH($AF42,$O$32)),1,0)","v":0},{"$f":"IF(ISNUMBER(SEARCH($AF42,$O$33)),1,0)","v":0},{"$f":"IF(ISNUMBER(SEARCH($AF42,$O$34)),1,0)","v":0},{"$f":"IF(ISNUMBER(SEARCH($AF42,$O$35)),1,0)","v":0},{"$f":"IF(ISNUMBER(SEARCH($AF42,$O$36)),1,0)","v":0},{"$f":"IF(ISNUMBER(SEARCH($AF42,$O$37)),1,0)","v":0},{"$f":"IF(ISNUMBER(SEARCH($AF42,$O$38)),1,0)","v":0},{"$f":"IF(ISNUMBER(SEARCH($AF42,$O$39)),1,0)","v":0},{"$f":"IF(ISNUMBER(SEARCH($AF42,$O$40)),1,0)","v":0},{"$f":"IF(ISNUMBER(SEARCH($AF42,$O$41)),1,0)","v":0},{"$f":"IF(ISNUMBER(SEARCH($AF42,$O$42)),1,0)","v":0},{"$f":"IF(ISNUMBER(SEARCH($AF42,$O$43)),1,0)","v":0},{"$f":"IF(ISNUMBER(SEARCH($AF42,$O$44)),1,0)","v":0},{"$f":"IF(ISNUMBER(SEARCH($AF42,$O$45)),1,0)","v":0},{"$f":"IF(ISNUMBER(SEARCH($AF42,$O$46)),1,0)","v":0},{"$f":"IF(ISNUMBER(SEARCH($AF42,$O$47)),1,0)","v":0},{"$f":"IF(ISNUMBER(SEARCH($AF42,$O$48)),1,0)","v":0},{"$f":"IF(ISNUMBER(SEARCH($AF42,$O$49)),1,0)","v":0},{"$f":"IF(ISNUMBER(SEARCH($AF42,$O$50)),1,0)","v":0},{"$f":"IF(ISNUMBER(SEARCH($AF42,$O$51)),1,0)","v":0},{"$f":"IF(ISNUMBER(SEARCH($AF42,$O$52)),1,0)","v":0},{"$f":"IF(ISNUMBER(SEARCH($AF42,$O$53)),1,0)","v":0},{"$f":"IF(ISNUMBER(SEARCH($AF42,$O$54)),1,0)","v":0},{"$f":"IF(ISNUMBER(SEARCH($AF42,$O$55)),1,0)","v":0},{"$f":"IF(ISNUMBER(SEARCH($AF42,$O$56)),1,0)","v":0},{"$f":"IF(ISNUMBER(SEARCH($AF42,$O$57)),1,0)","v":0},{"$f":"IF(ISNUMBER(SEARCH($AF42,$O$58)),1,0)","v":0},{"$f":"IF(ISNUMBER(SEARCH($AF42,$O$59)),1,0)","v":0},{"$f":"IF(ISNUMBER(SEARCH($AF42,$O$60)),1,0)","v":0},{"$f":"IF(ISNUMBER(SEARCH($AF42,$O$61)),1,0)","v":0},{"$f":"IF(ISNUMBER(SEARCH($AF42,$O$62)),1,0)","v":0},{"$f":"IF(ISNUMBER(SEARCH($AF42,$O$63)),1,0)","v":0},{"$f":"IF(ISNUMBER(SEARCH($AF42,$O$64)),1,0)","v":0},{"$f":"IF(ISNUMBER(SEARCH($AF42,$O$65)),1,0)","v":0},{"$f":"IF(ISNUMBER(SEARCH($AF42,$O$66)),1,0)","v":0},{"$f":"IF(ISNUMBER(SEARCH($AF42,$O$67)),1,0)","v":0},{"$f":"IF(ISNUMBER(SEARCH($AF42,$O$68)),1,0)","v":0},{"$f":"IF(ISNUMBER(SEARCH($AF42,$O$69)),1,0)","v":0},{"$f":"IF(ISNUMBER(SEARCH($AF42,$O$70)),1,0)","v":0},{"$f":"IF(ISNUMBER(SEARCH($AF42,$O$71)),1,0)","v":0},{"$f":"IF(ISNUMBER(SEARCH($AF42,$O$72)),1,0)","v":0},{"$f":"IF(ISNUMBER(SEARCH($AF42,$O$73)),1,0)","v":0},{"$f":"IF(ISNUMBER(SEARCH($AF42,$O$74)),1,0)","v":0},{"$f":"IF(ISNUMBER(SEARCH($AF42,$O$75)),1,0)","v":0},{"$f":"IF(ISNUMBER(SEARCH($AF42,$O$76)),1,0)","v":0},{"$f":"IF(ISNUMBER(SEARCH($AF42,$O$77)),1,0)","v":0},{"$f":"IF(ISNUMBER(SEARCH($AF42,$O$78)),1,0)","v":0},{"$f":"IF(ISNUMBER(SEARCH($AF42,$O$79)),1,0)","v":0},{"$f":"IF(ISNUMBER(SEARCH($AF42,$O$80)),1,0)","v":0},{"$f":"IF(ISNUMBER(SEARCH($AF42,$O$81)),1,0)","v":0},{"$f":"IF(ISNUMBER(SEARCH($AF42,$O$82)),1,0)","v":0},{"$f":"IF(ISNUMBER(SEARCH($AF42,$O$83)),1,0)","v":0},{"$f":"IF(ISNUMBER(SEARCH($AF42,$O$84)),1,0)","v":0},{"$f":"IF(ISNUMBER(SEARCH($AF42,$O$85)),1,0)","v":0},{"$f":"IF(ISNUMBER(SEARCH($AF42,$O$86)),1,0)","v":0},{"$f":"IF(ISNUMBER(SEARCH($AF42,$O$87)),1,0)","v":0},{"$f":"IF(ISNUMBER(SEARCH($AF42,$O$88)),1,0)","v":0},{"$f":"IF(ISNUMBER(SEARCH($AF42,$O$89)),1,0)","v":0},{"$f":"IF(ISNUMBER(SEARCH($AF42,$O$90)),1,0)","v":0},{"$f":"IF(ISNUMBER(SEARCH($AF42,$O$91)),1,0)","v":0},{"$f":"IF(ISNUMBER(SEARCH($AF42,$O$92)),1,0)","v":0},{"$f":"IF(ISNUMBER(SEARCH($AF42,$O$93)),1,0)","v":0},{"$f":"IF(ISNUMBER(SEARCH($AF42,$O$94)),1,0)","v":0},{"$f":"IF(ISNUMBER(SEARCH($AF42,$O$95)),1,0)","v":0},{"$f":"IF(ISNUMBER(SEARCH($AF42,$O$96)),1,0)","v":0},{"$f":"IF(ISNUMBER(SEARCH($AF42,$O$97)),1,0)","v":0},{"$f":"IF(ISNUMBER(SEARCH($AF42,$O$98)),1,0)","v":0},{"$f":"IF(ISNUMBER(SEARCH($AF42,$O$99)),1,0)","v":0},{"$f":"IF(ISNUMBER(SEARCH($AF42,$O$100)),1,0)","v":0},{"$f":"IF(ISNUMBER(SEARCH($AF42,$O$101)),1,0)","v":0},{"$f":"IF(ISNUMBER(SEARCH($AF42,$O$102)),1,0)","v":0},{"$f":"IF(ISNUMBER(SEARCH($AF42,$O$103)),1,0)","v":0},{"$f":"IF(ISNUMBER(SEARCH($AF42,$O$104)),1,0)","v":0},{"$f":"IF(ISNUMBER(SEARCH($AF42,$O$105)),1,0)","v":0},{"$f":"IF(ISNUMBER(SEARCH($AF42,$O$106)),1,0)","v":0},{"$f":"IF(ISNUMBER(SEARCH($AF42,$O$107)),1,0)","v":0},{"$f":"IF(ISNUMBER(SEARCH($AF42,$O$108)),1,0)","v":0},{"$f":"IF(ISNUMBER(SEARCH($AF42,$O$109)),1,0)","v":0},{"$f":"IF(ISNUMBER(SEARCH($AF42,$O$110)),1,0)","v":0},{"$f":"IF(ISNUMBER(SEARCH($AF42,$O$111)),1,0)","v":0},{"$f":"IF(ISNUMBER(SEARCH($AF42,$O$112)),1,0)","v":0},{"$f":"IF(ISNUMBER(SEARCH($AF42,$O$113)),1,0)","v":0},{"$f":"IF(ISNUMBER(SEARCH($AF42,$O$114)),1,0)","v":0},{"$f":"IF(ISNUMBER(SEARCH($AF42,$O$115)),1,0)","v":0},{"$f":"IF(ISNUMBER(SEARCH($AF42,$O$116)),1,0)","v":0},{"$f":"IF(ISNUMBER(SEARCH($AF42,$O$117)),1,0)","v":0},{"$f":"IF(ISNUMBER(SEARCH($AF42,$O$118)),1,0)","v":0},{"$f":"IF(ISNUMBER(SEARCH($AF42,$O$119)),1,0)","v":0},{"$f":"IF(ISNUMBER(SEARCH($AF42,$O$120)),1,0)","v":0},{"$f":"IF(ISNUMBER(SEARCH($AF42,$O$121)),1,0)","v":0},{"$f":"IF(ISNUMBER(SEARCH($AF42,$O$122)),1,0)","v":0},{"$f":"IF(ISNUMBER(SEARCH($AF42,$O$123)),1,0)","v":0},{"$f":"IF(ISNUMBER(SEARCH($AF42,$O$124)),1,0)","v":0},{"$f":"IF(ISNUMBER(SEARCH($AF42,$O$125)),1,0)","v":0},{"$f":"IF(ISNUMBER(SEARCH($AF42,$O$126)),1,0)","v":0},{"$f":"IF(ISNUMBER(SEARCH($AF42,$O$127)),1,0)","v":0},{"$f":"IF(ISNUMBER(SEARCH($AF42,$O$128)),1,0)","v":0},{"$f":"IF(ISNUMBER(SEARCH($AF42,$O$129)),1,0)","v":0},{"$f":"IF(ISNUMBER(SEARCH($AF42,$O$130)),1,0)","v":0},{"$f":"IF(ISNUMBER(SEARCH($AF42,$O$131)),1,0)","v":0},{"$f":"IF(ISNUMBER(SEARCH($AF42,$O$132)),1,0)","v":0},{"$f":"IF(ISNUMBER(SEARCH($AF42,$O$133)),1,0)","v":0},{"$f":"IF(ISNUMBER(SEARCH($AF42,$O$134)),1,0)","v":0},{"$f":"IF(ISNUMBER(SEARCH($AF42,$O$135)),1,0)","v":0},{"$f":"IF(ISNUMBER(SEARCH($AF42,$O$136)),1,0)","v":0},{"$f":"IF(ISNUMBER(SEARCH($AF42,$O$137)),1,0)","v":0},{"$f":"IF(ISNUMBER(SEARCH($AF42,$O$138)),1,0)","v":0},{"$f":"IF(ISNUMBER(SEARCH($AF42,$O$139)),1,0)","v":0},{"$f":"IF(ISNUMBER(SEARCH($AF42,$O$140)),1,0)","v":0},{"$f":"IF(ISNUMBER(SEARCH($AF42,$O$141)),1,0)","v":0},{"$f":"IF(ISNUMBER(SEARCH($AF42,$O$142)),1,0)","v":0},{"$f":"IF(ISNUMBER(SEARCH($AF42,$O$143)),1,0)","v":0},{"$f":"IF(ISNUMBER(SEARCH($AF42,$O$144)),1,0)","v":0},{"$f":"IF(ISNUMBER(SEARCH($AF42,$O$145)),1,0)","v":0},{"$f":"IF(ISNUMBER(SEARCH($AF42,$O$146)),1,0)","v":0},{"$f":"IF(ISNUMBER(SEARCH($AF42,$O$147)),1,0)","v":0},{"$f":"IF(ISNUMBER(SEARCH($AF42,$O$148)),1,0)","v":0},{"$f":"IF(ISNUMBER(SEARCH($AF42,$O$149)),1,0)","v":0},{"$f":"IF(ISNUMBER(SEARCH($AF42,$O$150)),1,0)","v":0},{"$f":"IF(ISNUMBER(SEARCH($AF42,$O$151)),1,0)","v":0},{"$f":"IF(ISNUMBER(SEARCH($AF42,$O$152)),1,0)","v":0},{"$f":"IF(ISNUMBER(SEARCH($AF42,$O$153)),1,0)","v":0},{"$f":"IF(ISNUMBER(SEARCH($AF42,$O$154)),1,0)","v":0},{"$f":"IF(ISNUMBER(SEARCH($AF42,$O$155)),1,0)","v":0},{"$f":"IF(ISNUMBER(SEARCH($AF42,$O$156)),1,0)","v":0},{"$f":"IF(ISNUMBER(SEARCH($AF42,$O$157)),1,0)","v":0},{"$f":"IF(ISNUMBER(SEARCH($AF42,$O$158)),1,0)","v":0},{"$f":"IF(ISNUMBER(SEARCH($AF42,$O$159)),1,0)","v":0},{"$f":"IF(ISNUMBER(SEARCH($AF42,$O$160)),1,0)","v":0},{"$f":"IF(ISNUMBER(SEARCH($AF42,$O$161)),1,0)","v":0},{"$nulls":3},{"$f":"IF(SUM(AI42:GC42)>=1,1,0)","v":0}]
[{"$nulls":13},"",null,"",{"$nulls":4},{"$f":"IF(A43<>\"\",1,0)","v":0},{"$f":"IF(OR(J43=\"Yes\",K43=\"Yes\",L43=\"Yes\"), 1, 0)","v":0},null,{"$f":"IF(R43=\"Yes\", 1, 0)","v":0},{"$f":"IF(S43=\"Yes\", 1, 0)","v":0},{"$f":"IF(T43=\"Yes\", 1, 0)","v":0},{"$f":"IF(Q43=\"Yes\", 1,0)","v":0},{"$nulls":4},"Lake",null,null,0,0,0,0,0,0,0,0,0,0,0,0,0,0,0,0,0,0,0,0,0,0,0,0,0,0,0,0,0,0,0,0,0,0,0,0,0,0,0,0,0,0,0,0,0,0,0,0,0,0,0,0,0,0,0,0,0,0,0,0,0,0,0,0,0,0,0,0,0,0,0,0,0,0,0,0,0,0,0,0,0,0,0,0,0,0,0,0,0,0,0,0,0,0,0,0,0,0,0,0,0,0,0,0,0,0,0,0,0,0,0,0,0,0,0,0,0,0,0,0,0,0,0,0,0,0,0,0,0,0,0,0,0,0,0,0,0,0,0,0,0,0,0,0,0,0,0,0,0,0,0,{"$nulls":3},0]
[{"$nulls":13},"",null,"",{"$nulls":4},0,0,null,0,0,0,0,{"$nulls":4},"Lee",null,null,0,0,0,0,0,0,0,0,0,0,0,0,0,0,0,0,0,0,0,0,0,0,0,0,0,0,0,0,0,0,0,0,0,0,0,0,0,0,0,0,0,0,0,0,0,0,0,0,0,0,0,0,0,0,0,0,0,0,0,0,0,0,0,0,0,0,0,0,0,0,0,0,0,0,0,0,0,0,0,0,0,0,0,0,0,0,0,0,0,0,0,0,0,0,0,0,0,0,0,0,0,0,0,0,0,0,0,0,0,0,0,0,0,0,0,0,0,0,0,0,0,0,0,0,0,0,0,0,0,0,0,0,0,0,0,0,0,0,0,0,0,0,0,0,0,0,0,0,0,0,0,{"$nulls":3},0]
[{"$nulls":13},"",null,"",{"$nulls":4},0,0,null,0,0,0,0,{"$nulls":4},"Leon",null,null,0,0,0,0,0,0,0,0,0,0,0,0,0,0,0,0,0,0,0,0,0,0,0,0,0,0,0,0,0,0,0,0,0,0,0,0,0,0,0,0,0,0,0,0,0,0,0,0,0,0,0,0,0,0,0,0,0,0,0,0,0,0,0,0,0,0,0,0,0,0,0,0,0,0,0,0,0,0,0,0,0,0,0,0,0,0,0,0,0,0,0,0,0,0,0,0,0,0,0,0,0,0,0,0,0,0,0,0,0,0,0,0,0,0,0,0,0,0,0,0,0,0,0,0,0,0,0,0,0,0,0,0,0,0,0,0,0,0,0,0,0,0,0,0,0,0,0,0,0,0,0,{"$nulls":3},0]
[{"$nulls":13},"",null,"",{"$nulls":4},0,0,null,0,0,0,0,{"$nulls":4},"Levy",null,null,0,0,0,0,0,0,0,0,0,0,0,0,0,0,0,0,0,0,0,0,0,0,0,0,0,0,0,0,0,0,0,0,0,0,0,0,0,0,0,0,0,0,0,0,0,0,0,0,0,0,0,0,0,0,0,0,0,0,0,0,0,0,0,0,0,0,0,0,0,0,0,0,0,0,0,0,0,0,0,0,0,0,0,0,0,0,0,0,0,0,0,0,0,0,0,0,0,0,0,0,0,0,0,0,0,0,0,0,0,0,0,0,0,0,0,0,0,0,0,0,0,0,0,0,0,0,0,0,0,0,0,0,0,0,0,0,0,0,0,0,0,0,0,0,0,0,0,0,0,0,0,{"$nulls":3},0]
[{"$nulls":13},"",null,"",{"$nulls":4},0,0,null,0,0,0,0,{"$nulls":4},"Liberty",null,null,0,0,0,0,0,0,0,0,0,0,0,0,0,0,0,0,0,0,0,0,0,0,0,0,0,0,0,0,0,0,0,0,0,0,0,0,0,0,0,0,0,0,0,0,0,0,0,0,0,0,0,0,0,0,0,0,0,0,0,0,0,0,0,0,0,0,0,0,0,0,0,0,0,0,0,0,0,0,0,0,0,0,0,0,0,0,0,0,0,0,0,0,0,0,0,0,0,0,0,0,0,0,0,0,0,0,0,0,0,0,0,0,0,0,0,0,0,0,0,0,0,0,0,0,0,0,0,0,0,0,0,0,0,0,0,0,0,0,0,0,0,0,0,0,0,0,0,0,0,0,0,{"$nulls":3},0]
[{"$nulls":13},"",null,"",{"$nulls":4},0,0,null,0,0,0,0,{"$nulls":4},"Madison",null,null,0,0,0,0,0,0,0,0,0,0,0,0,0,0,0,0,0,0,0,0,0,0,0,0,0,0,0,0,0,0,0,0,0,0,0,0,0,0,0,0,0,0,0,0,0,0,0,0,0,0,0,0,0,0,0,0,0,0,0,0,0,0,0,0,0,0,0,0,0,0,0,0,0,0,0,0,0,0,0,0,0,0,0,0,0,0,0,0,0,0,0,0,0,0,0,0,0,0,0,0,0,0,0,0,0,0,0,0,0,0,0,0,0,0,0,0,0,0,0,0,0,0,0,0,0,0,0,0,0,0,0,0,0,0,0,0,0,0,0,0,0,0,0,0,0,0,0,0,0,0,0,{"$nulls":3},0]
[{"$nulls":13},"",null,"",{"$nulls":4},0,0,null,0,0,0,0,{"$nulls":4},"Manatee",null,null,0,0,0,0,0,0,0,0,0,0,0,0,0,0,0,0,0,0,0,0,0,0,0,0,0,0,0,0,0,0,0,0,0,0,0,0,0,0,0,0,0,0,0,0,0,0,0,0,0,0,0,0,0,0,0,0,0,0,0,0,0,0,0,0,0,0,0,0,0,0,0,0,0,0,0,0,0,0,0,0,0,0,0,0,0,0,0,0,0,0,0,0,0,0,0,0,0,0,0,0,0,0,0,0,0,0,0,0,0,0,0,0,0,0,0,0,0,0,0,0,0,0,0,0,0,0,0,0,0,0,0,0,0,0,0,0,0,0,0,0,0,0,0,0,0,0,0,0,0,0,0,{"$nulls":3},0]
[{"$nulls":13},"",null,"",{"$nulls":4},0,0,null,0,0,0,0,{"$nulls":4},"Marion",null,null,0,0,0,0,0,0,0,0,0,0,0,0,0,0,0,0,0,0,0,0,0,0,0,0,0,0,0,0,0,0,0,0,0,0,0,0,0,0,0,0,0,0,0,0,0,0,0,0,0,0,0,0,0,0,0,0,0,0,0,0,0,0,0,0,0,0,0,0,0,0,0,0,0,0,0,0,0,0,0,0,0,0,0,0,0,0,0,0,0,0,0,0,0,0,0,0,0,0,0,0,0,0,0,0,0,0,0,0,0,0,0,0,0,0,0,0,0,0,0,0,0,0,0,0,0,0,0,0,0,0,0,0,0,0,0,0,0,0,0,0,0,0,0,0,0,0,0,0,0,0,0,{"$nulls":3},0]
[{"$nulls":13},"",null,"",{"$nulls":4},0,0,null,0,0,0,0,{"$nulls":4},"Martin",null,null,0,0,0,0,0,0,0,0,0,0,0,0,0,0,0,0,0,0,0,0,0,0,0,0,0,0,0,0,0,0,0,0,0,0,0,0,0,0,0,0,0,0,0,0,0,0,0,0,0,0,0,0,0,0,0,0,0,0,0,0,0,0,0,0,0,0,0,0,0,0,0,0,0,0,0,0,0,0,0,0,0,0,0,0,0,0,0,0,0,0,0,0,0,0,0,0,0,0,0,0,0,0,0,0,0,0,0,0,0,0,0,0,0,0,0,0,0,0,0,0,0,0,0,0,0,0,0,0,0,0,0,0,0,0,0,0,0,0,0,0,0,0,0,0,0,0,0,0,0,0,0,{"$nulls":3},0]
[{"$nulls":13},"",null,"",{"$nulls":4},0,0,null,0,0,0,0,{"$nulls":4},"Miami-Dade",null,null,0,0,0,0,0,0,0,0,0,0,0,0,0,0,0,0,0,0,0,0,0,0,0,0,0,0,0,0,0,0,0,0,0,0,0,0,0,0,0,0,0,0,0,0,0,0,0,0,0,0,0,0,0,0,0,0,0,0,0,0,0,0,0,0,0,0,0,0,0,0,0,0,0,0,0,0,0,0,0,0,0,0,0,0,0,0,0,0,0,0,0,0,0,0,0,0,0,0,0,0,0,0,0,0,0,0,0,0,0,0,0,0,0,0,0,0,0,0,0,0,0,0,0,0,0,0,0,0,0,0,0,0,0,0,0,0,0,0,0,0,0,0,0,0,0,0,0,0,0,0,0,{"$nulls":3},0]
[{"$nulls":13},"",null,"",{"$nulls":4},0,0,null,0,0,0,0,{"$nulls":4},"Monroe",null,null,0,0,0,0,0,0,0,0,0,0,0,0,0,0,0,0,0,0,0,0,0,0,0,0,0,0,0,0,0,0,0,0,0,0,0,0,0,0,0,0,0,0,0,0,0,0,0,0,0,0,0,0,0,0,0,0,0,0,0,0,0,0,0,0,0,0,0,0,0,0,0,0,0,0,0,0,0,0,0,0,0,0,0,0,0,0,0,0,0,0,0,0,0,0,0,0,0,0,0,0,0,0,0,0,0,0,0,0,0,0,0,0,0,0,0,0,0,0,0,0,0,0,0,0,0,0,0,0,0,0,0,0,0,0,0,0,0,0,0,0,0,0,0,0,0,0,0,0,0,0,0,{"$nulls":3},0]
[{"$nulls":13},"",null,"",{"$nulls":4},0,0,null,0,0,0,0,{"$nulls":4},"Nassau",null,null,0,0,0,0,0,0,0,0,0,0,0,0,0,0,0,0,0,0,0,0,0,0,0,0,0,0,0,0,0,0,0,0,0,0,0,0,0,0,0,0,0,0,0,0,0,0,0,0,0,0,0,0,0,0,0,0,0,0,0,0,0,0,0,0,0,0,0,0,0,0,0,0,0,0,0,0,0,0,0,0,0,0,0,0,0,0,0,0,0,0,0,0,0,0,0,0,0,0,0,0,0,0,0,0,0,0,0,0,0,0,0,0,0,0,0,0,0,0,0,0,0,0,0,0,0,0,0,0,0,0,0,0,0,0,0,0,0,0,0,0,0,0,0,0,0,0,0,0,0,0,0,{"$nulls":3},0]
[{"$nulls":13},"",null,"",{"$nulls":4},0,0,null,0,0,0,0,{"$nulls":4},"Okaloosa",null,null,0,0,0,0,0,0,0,0,0,0,0,0,0,0,0,0,0,0,0,0,0,0,0,0,0,0,0,0,0,0,0,0,0,0,0,0,0,0,0,0,0,0,0,0,0,0,0,0,0,0,0,0,0,0,0,0,0,0,0,0,0,0,0,0,0,0,0,0,0,0,0,0,0,0,0,0,0,0,0,0,0,0,0,0,0,0,0,0,0,0,0,0,0,0,0,0,0,0,0,0,0,0,0,0,0,0,0,0,0,0,0,0,0,0,0,0,0,0,0,0,0,0,0,0,0,0,0,0,0,0,0,0,0,0,0,0,0,0,0,0,0,0,0,0,0,0,0,0,0,0,0,{"$nulls":3},0]
[{"$nulls":13},"",null,"",{"$nulls":4},0,0,null,0,0,0,0,{"$nulls":4},"Okeechobee",null,null,0,0,0,0,0,0,0,0,0,0,0,0,0,0,0,0,0,0,0,0,0,0,0,0,0,0,0,0,0,0,0,0,0,0,0,0,0,0,0,0,0,0,0,0,0,0,0,0,0,0,0,0,0,0,0,0,0,0,0,0,0,0,0,0,0,0,0,0,0,0,0,0,0,0,0,0,0,0,0,0,0,0,0,0,0,0,0,0,0,0,0,0,0,0,0,0,0,0,0,0,0,0,0,0,0,0,0,0,0,0,0,0,0,0,0,0,0,0,0,0,0,0,0,0,0,0,0,0,0,0,0,0,0,0,0,0,0,0,0,0,0,0,0,0,0,0,0,0,0,0,0,{"$nulls":3},0]
[{"$nulls":13},"",null,"",{"$nulls":4},0,0,null,0,0,0,0,{"$nulls":4},"Orange",null,null,0,0,0,0,0,0,0,0,0,0,0,0,0,0,0,0,0,0,0,0,0,0,0,0,0,0,0,0,0,0,0,0,0,0,0,0,0,0,0,0,0,0,0,0,0,0,0,0,0,0,0,0,0,0,0,0,0,0,0,0,0,0,0,0,0,0,0,0,0,0,0,0,0,0,0,0,0,0,0,0,0,0,0,0,0,0,0,0,0,0,0,0,0,0,0,0,0,0,0,0,0,0,0,0,0,0,0,0,0,0,0,0,0,0,0,0,0,0,0,0,0,0,0,0,0,0,0,0,0,0,0,0,0,0,0,0,0,0,0,0,0,0,0,0,0,0,0,0,0,0,0,{"$nulls":3},0]
[{"$nulls":13},"",null,"",{"$nulls":4},0,0,null,0,0,0,0,{"$nulls":4},"Osceola",null,null,0,0,0,0,0,0,0,0,0,0,0,0,0,0,0,0,0,0,0,0,0,0,0,0,0,0,0,0,0,0,0,0,0,0,0,0,0,0,0,0,0,0,0,0,0,0,0,0,0,0,0,0,0,0,0,0,0,0,0,0,0,0,0,0,0,0,0,0,0,0,0,0,0,0,0,0,0,0,0,0,0,0,0,0,0,0,0,0,0,0,0,0,0,0,0,0,0,0,0,0,0,0,0,0,0,0,0,0,0,0,0,0,0,0,0,0,0,0,0,0,0,0,0,0,0,0,0,0,0,0,0,0,0,0,0,0,0,0,0,0,0,0,0,0,0,0,0,0,0,0,0,{"$nulls":3},0]
[{"$nulls":13},"",null,"",{"$nulls":4},0,0,null,0,0,0,0,{"$nulls":4},"Palm Beach",null,null,0,0,0,0,0,0,0,0,0,0,0,0,0,0,0,0,0,0,0,0,0,0,0,0,0,0,0,0,0,0,0,0,0,0,0,0,0,0,0,0,0,0,0,0,0,0,0,0,0,0,0,0,0,0,0,0,0,0,0,0,0,0,0,0,0,0,0,0,0,0,0,0,0,0,0,0,0,0,0,0,0,0,0,0,0,0,0,0,0,0,0,0,0,0,0,0,0,0,0,0,0,0,0,0,0,0,0,0,0,0,0,0,0,0,0,0,0,0,0,0,0,0,0,0,0,0,0,0,0,0,0,0,0,0,0,0,0,0,0,0,0,0,0,0,0,0,0,0,0,0,0,{"$nulls":3},0]
[{"$nulls":13},"",null,"",{"$nulls":4},0,0,null,0,0,0,0,{"$nulls":4},"Pasco",null,null,0,0,0,0,0,0,0,0,0,0,0,0,0,0,0,0,0,0,0,0,0,0,0,0,0,0,0,0,0,0,0,0,0,0,0,0,0,0,0,0,0,0,0,0,0,0,0,0,0,0,0,0,0,0,0,0,0,0,0,0,0,0,0,0,0,0,0,0,0,0,0,0,0,0,0,0,0,0,0,0,0,0,0,0,0,0,0,0,0,0,0,0,0,0,0,0,0,0,0,0,0,0,0,0,0,0,0,0,0,0,0,0,0,0,0,0,0,0,0,0,0,0,0,0,0,0,0,0,0,0,0,0,0,0,0,0,0,0,0,0,0,0,0,0,0,0,0,0,0,0,0,{"$nulls":3},0]
[{"$nulls":13},"",null,"",{"$nulls":4},0,0,null,0,0,0,0,{"$nulls":4},"Pinellas",null,null,0,0,0,0,0,0,0,0,0,0,0,0,0,0,0,0,0,0,0,0,0,0,0,0,0,0,0,0,0,0,0,0,0,0,0,0,0,0,0,0,0,0,0,0,0,0,0,0,0,0,0,0,0,0,0,0,0,0,0,0,0,0,0,0,0,0,0,0,0,0,0,0,0,0,0,0,0,0,0,0,0,0,0,0,0,0,0,0,0,0,0,0,0,0,0,0,0,0,0,0,0,0,0,0,0,0,0,0,0,0,0,0,0,0,0,0,0,0,0,0,0,0,0,0,0,0,0,0,0,0,0,0,0,0,0,0,0,0,0,0,0,0,0,0,0,0,0,0,0,0,0,{"$nulls":3},0]
[{"$nulls":13},"",null,"",{"$nulls":4},0,0,null,0,0,0,0,{"$nulls":4},"Polk",null,null,0,0,0,0,0,0,0,0,0,0,0,0,0,0,0,0,0,0,0,0,0,0,0,0,0,0,0,0,0,0,0,0,0,0,0,0,0,0,0,0,0,0,0,0,0,0,0,0,0,0,0,0,0,0,0,0,0,0,0,0,0,0,0,0,0,0,0,0,0,0,0,0,0,0,0,0,0,0,0,0,0,0,0,0,0,0,0,0,0,0,0,0,0,0,0,0,0,0,0,0,0,0,0,0,0,0,0,0,0,0,0,0,0,0,0,0,0,0,0,0,0,0,0,0,0,0,0,0,0,0,0,0,0,0,0,0,0,0,0,0,0,0,0,0,0,0,0,0,0,0,0,{"$nulls":3},0]
[{"$nulls":13},"",null,"",{"$nulls":4},0,0,null,0,0,0,0,{"$nulls":4},"Putnam",null,null,0,0,0,0,0,0,0,0,0,0,0,0,0,0,0,0,0,0,0,0,0,0,0,0,0,0,0,0,0,0,0,0,0,0,0,0,0,0,0,0,0,0,0,0,0,0,0,0,0,0,0,0,0,0,0,0,0,0,0,0,0,0,0,0,0,0,0,0,0,0,0,0,0,0,0,0,0,0,0,0,0,0,0,0,0,0,0,0,0,0,0,0,0,0,0,0,0,0,0,0,0,0,0,0,0,0,0,0,0,0,0,0,0,0,0,0,0,0,0,0,0,0,0,0,0,0,0,0,0,0,0,0,0,0,0,0,0,0,0,0,0,0,0,0,0,0,0,0,0,0,0,{"$nulls":3},0]
[{"$nulls":13},"",null,"",{"$nulls":4},0,0,null,0,0,0,0,{"$nulls":4},"St. Johns",null,null,0,0,0,0,0,0,0,0,0,0,0,0,0,0,0,0,0,0,0,0,0,0,0,0,0,0,0,0,0,0,0,0,0,0,0,0,0,0,0,0,0,0,0,0,0,0,0,0,0,0,0,0,0,0,0,0,0,0,0,0,0,0,0,0,0,0,0,0,0,0,0,0,0,0,0,0,0,0,0,0,0,0,0,0,0,0,0,0,0,0,0,0,0,0,0,0,0,0,0,0,0,0,0,0,0,0,0,0,0,0,0,0,0,0,0,0,0,0,0,0,0,0,0,0,0,0,0,0,0,0,0,0,0,0,0,0,0,0,0,0,0,0,0,0,0,0,0,0,0,0,0,{"$nulls":3},0]
[{"$nulls":13},"",null,"",{"$nulls":4},0,0,null,0,0,0,0,{"$nulls":4},"St. Lucie",null,null,0,0,0,0,0,0,0,0,0,0,0,0,0,0,0,0,0,0,0,0,0,0,0,0,0,0,0,0,0,0,0,0,0,0,0,0,0,0,0,0,0,0,0,0,0,0,0,0,0,0,0,0,0,0,0,0,0,0,0,0,0,0,0,0,0,0,0,0,0,0,0,0,0,0,0,0,0,0,0,0,0,0,0,0,0,0,0,0,0,0,0,0,0,0,0,0,0,0,0,0,0,0,0,0,0,0,0,0,0,0,0,0,0,0,0,0,0,0,0,0,0,0,0,0,0,0,0,0,0,0,0,0,0,0,0,0,0,0,0,0,0,0,0,0,0,0,0,0,0,0,0,{"$nulls":3},0]
[{"$nulls":13},"",null,"",{"$nulls":4},0,0,null,0,0,0,0,{"$nulls":4},"Santa Rosa",null,null,0,0,0,0,0,0,0,0,0,0,0,0,0,0,0,0,0,0,0,0,0,0,0,0,0,0,0,0,0,0,0,0,0,0,0,0,0,0,0,0,0,0,0,0,0,0,0,0,0,0,0,0,0,0,0,0,0,0,0,0,0,0,0,0,0,0,0,0,0,0,0,0,0,0,0,0,0,0,0,0,0,0,0,0,0,0,0,0,0,0,0,0,0,0,0,0,0,0,0,0,0,0,0,0,0,0,0,0,0,0,0,0,0,0,0,0,0,0,0,0,0,0,0,0,0,0,0,0,0,0,0,0,0,0,0,0,0,0,0,0,0,0,0,0,0,0,0,0,0,0,0,{"$nulls":3},0]
[{"$nulls":13},"",null,"",{"$nulls":4},0,0,null,0,0,0,0,{"$nulls":4},"Sarasota",null,null,0,0,0,0,0,0,0,0,0,0,0,0,0,0,0,0,0,0,0,0,0,0,0,0,0,0,0,0,0,0,0,0,0,0,0,0,0,0,0,0,0,0,0,0,0,0,0,0,0,0,0,0,0,0,0,0,0,0,0,0,0,0,0,0,0,0,0,0,0,0,0,0,0,0,0,0,0,0,0,0,0,0,0,0,0,0,0,0,0,0,0,0,0,0,0,0,0,0,0,0,0,0,0,0,0,0,0,0,0,0,0,0,0,0,0,0,0,0,0,0,0,0,0,0,0,0,0,0,0,0,0,0,0,0,0,0,0,0,0,0,0,0,0,0,0,0,0,0,0,0,0,{"$nulls":3},0]
[{"$nulls":13},"",null,"",{"$nulls":4},0,0,null,0,0,0,0,{"$nulls":4},"Seminole",null,null,0,0,0,0,0,0,0,0,0,0,0,0,0,0,0,0,0,0,0,0,0,0,0,0,0,0,0,0,0,0,0,0,0,0,0,0,0,0,0,0,0,0,0,0,0,0,0,0,0,0,0,0,0,0,0,0,0,0,0,0,0,0,0,0,0,0,0,0,0,0,0,0,0,0,0,0,0,0,0,0,0,0,0,0,0,0,0,0,0,0,0,0,0,0,0,0,0,0,0,0,0,0,0,0,0,0,0,0,0,0,0,0,0,0,0,0,0,0,0,0,0,0,0,0,0,0,0,0,0,0,0,0,0,0,0,0,0,0,0,0,0,0,0,0,0,0,0,0,0,0,0,{"$nulls":3},0]
[{"$nulls":13},"",null,"",{"$nulls":4},0,0,null,0,0,0,0,{"$nulls":4},"Sumter",null,null,0,0,0,0,0,0,0,0,0,0,0,0,0,0,0,0,0,0,0,0,0,0,0,0,0,0,0,0,0,0,0,0,0,0,0,0,0,0,0,0,0,0,0,0,0,0,0,0,0,0,0,0,0,0,0,0,0,0,0,0,0,0,0,0,0,0,0,0,0,0,0,0,0,0,0,0,0,0,0,0,0,0,0,0,0,0,0,0,0,0,0,0,0,0,0,0,0,0,0,0,0,0,0,0,0,0,0,0,0,0,0,0,0,0,0,0,0,0,0,0,0,0,0,0,0,0,0,0,0,0,0,0,0,0,0,0,0,0,0,0,0,0,0,0,0,0,0,0,0,0,0,{"$nulls":3},0]
[{"$nulls":13},"",null,"",{"$nulls":4},0,0,null,0,0,0,0,{"$nulls":4},"Suwannee",null,null,0,0,0,0,0,0,0,0,0,0,0,0,0,0,0,0,0,0,0,0,0,0,0,0,0,0,0,0,0,0,0,0,0,0,0,0,0,0,0,0,0,0,0,0,0,0,0,0,0,0,0,0,0,0,0,0,0,0,0,0,0,0,0,0,0,0,0,0,0,0,0,0,0,0,0,0,0,0,0,0,0,0,0,0,0,0,0,0,0,0,0,0,0,0,0,0,0,0,0,0,0,0,0,0,0,0,0,0,0,0,0,0,0,0,0,0,0,0,0,0,0,0,0,0,0,0,0,0,0,0,0,0,0,0,0,0,0,0,0,0,0,0,0,0,0,0,0,0,0,0,0,{"$nulls":3},0]
[{"$nulls":13},"",null,"",{"$nulls":4},0,0,null,0,0,0,0,{"$nulls":4},"Taylor",null,null,0,0,0,0,0,0,0,0,0,0,0,0,0,0,0,0,0,0,0,0,0,0,0,0,0,0,0,0,0,0,0,0,0,0,0,0,0,0,0,0,0,0,0,0,0,0,0,0,0,0,0,0,0,0,0,0,0,0,0,0,0,0,0,0,0,0,0,0,0,0,0,0,0,0,0,0,0,0,0,0,0,0,0,0,0,0,0,0,0,0,0,0,0,0,0,0,0,0,0,0,0,0,0,0,0,0,0,0,0,0,0,0,0,0,0,0,0,0,0,0,0,0,0,0,0,0,0,0,0,0,0,0,0,0,0,0,0,0,0,0,0,0,0,0,0,0,0,0,0,0,0,{"$nulls":3},0]
[{"$nulls":13},"",null,"",{"$nulls":4},0,0,null,0,0,0,0,{"$nulls":4},"Union",null,null,0,0,0,0,0,0,0,0,0,0,0,0,0,0,0,0,0,0,0,0,0,0,0,0,0,0,0,0,0,0,0,0,0,0,0,0,0,0,0,0,0,0,0,0,0,0,0,0,0,0,0,0,0,0,0,0,0,0,0,0,0,0,0,0,0,0,0,0,0,0,0,0,0,0,0,0,0,0,0,0,0,0,0,0,0,0,0,0,0,0,0,0,0,0,0,0,0,0,0,0,0,0,0,0,0,0,0,0,0,0,0,0,0,0,0,0,0,0,0,0,0,0,0,0,0,0,0,0,0,0,0,0,0,0,0,0,0,0,0,0,0,0,0,0,0,0,0,0,0,0,0,{"$nulls":3},0]
[{"$nulls":13},"",null,"",{"$nulls":4},0,0,null,0,0,0,0,{"$nulls":4},"Volusia",null,null,0,0,0,0,0,0,0,0,0,0,0,0,0,0,0,0,0,0,0,0,0,0,0,0,0,0,0,0,0,0,0,0,0,0,0,0,0,0,0,0,0,0,0,0,0,0,0,0,0,0,0,0,0,0,0,0,0,0,0,0,0,0,0,0,0,0,0,0,0,0,0,0,0,0,0,0,0,0,0,0,0,0,0,0,0,0,0,0,0,0,0,0,0,0,0,0,0,0,0,0,0,0,0,0,0,0,0,0,0,0,0,0,0,0,0,0,0,0,0,0,0,0,0,0,0,0,0,0,0,0,0,0,0,0,0,0,0,0,0,0,0,0,0,0,0,0,0,0,0,0,0,{"$nulls":3},0]
[{"$nulls":13},"",null,"",{"$nulls":4},0,0,null,0,0,0,0,{"$nulls":4},"Wakulla",null,null,0,0,0,0,0,0,0,0,0,0,0,0,0,0,0,0,0,0,0,0,0,0,0,0,0,0,0,0,0,0,0,0,0,0,0,0,0,0,0,0,0,0,0,0,0,0,0,0,0,0,0,0,0,0,0,0,0,0,0,0,0,0,0,0,0,0,0,0,0,0,0,0,0,0,0,0,0,0,0,0,0,0,0,0,0,0,0,0,0,0,0,0,0,0,0,0,0,0,0,0,0,0,0,0,0,0,0,0,0,0,0,0,0,0,0,0,0,0,0,0,0,0,0,0,0,0,0,0,0,0,0,0,0,0,0,0,0,0,0,0,0,0,0,0,0,0,0,0,0,0,0,{"$nulls":3},0]
[{"$nulls":13},"",null,"",{"$nulls":4},{"$f":"IF(A75<>\"\",1,0)","v":0},{"$f":"IF(OR(J75=\"Yes\",K75=\"Yes\",L75=\"Yes\"), 1, 0)","v":0},null,{"$f":"IF(R75=\"Yes\", 1, 0)","v":0},{"$f":"IF(S75=\"Yes\", 1, 0)","v":0},{"$f":"IF(T75=\"Yes\", 1, 0)","v":0},{"$f":"IF(Q75=\"Yes\", 1,0)","v":0},{"$nulls":4},"Walton",null,null,0,0,0,0,0,0,0,0,0,0,0,0,0,0,0,0,0,0,0,0,0,0,0,0,0,0,0,0,0,0,0,0,0,0,0,0,0,0,0,0,0,0,0,0,0,0,0,0,0,0,0,0,0,0,0,0,0,0,0,0,0,0,0,0,0,0,0,0,0,0,0,0,0,0,0,0,0,0,0,0,0,0,0,0,0,0,0,0,0,0,0,0,0,0,0,0,0,0,0,0,0,0,0,0,0,0,0,0,0,0,0,0,0,0,0,0,0,0,0,0,0,0,0,0,0,0,0,0,0,0,0,0,0,0,0,0,0,0,0,0,0,0,0,0,0,0,0,0,0,0,0,{"$nulls":3},0]
[{"$nulls":13},{"$f":"IF(ISBLANK(M76),\"\",LEN(TRIM(M76))-LEN(SUBSTITUTE(TRIM(M76),\",\",\"\"))+1)","v":""},null,{"$f":"IF(ISBLANK(O76),\"\",LEN(TRIM(O76))-LEN(SUBSTITUTE(TRIM(O76),\",\",\"\"))+1)","v":""},{"$nulls":4},0,0,null,0,0,0,0,{"$nulls":4},"Washington",null,null,0,0,0,0,0,0,0,0,0,0,0,0,0,0,0,0,0,0,0,0,0,0,0,0,0,0,0,0,0,0,0,0,0,0,0,0,0,0,0,0,0,0,0,0,0,0,0,0,0,0,0,0,0,0,0,0,0,0,0,0,0,0,0,0,0,0,0,0,0,0,0,0,0,0,0,0,0,0,0,0,0,0,0,0,0,0,0,0,0,0,0,0,0,0,0,0,0,0,0,0,0,0,0,0,0,0,0,0,0,0,0,0,0,0,0,0,0,0,0,0,0,0,0,0,0,0,0,0,0,0,0,0,0,0,0,0,0,0,0,0,0,0,0,0,0,0,0,0,0,0,0,{"$nulls":3},0]
[{"$nulls":13},"",null,"",{"$nulls":4},0,0,null,0,0,0,0,{"$nulls":160},"Total Counties:",{"$f":"SUM(GG10:GG76)","v":0}]
[{"$nulls":13},"",null,"",{"$nulls":4},0,0,null,0,0,0,0,{"$nulls":160},"% Counties:",{"$f":"GG77/67","v":{"v":0,"d":"0.00%"}}]
[{"$nulls":13},"",null,"",{"$nulls":4},0,0,null,0,0,0,0]
[{"$nulls":13},"",null,"",{"$nulls":4},0,0,null,0,0,0,0,{"$nulls":4},"Region",null,null,"Row 1","Row 2","Row 3","Row 4","Row 5","Row 6","Row 7","Row 8","Row 9","Row 10","Row 11","Row 12","Row 13","Row 14","Row 15","Row 16","Row 17","Row 18","Row 19","Row 20","Row 21","Row 22","Row 23","Row 24","Row 25","Row 26","Row 27","Row 28","Row 29","Row 30","Row 31","Row 32","Row 33","Row 34","Row 35","Row 36","Row 37","Row 38","Row 39","Row 40","Row 41","Row 42","Row 43","Row 44","Row 45","Row 46","Row 47","Row 48","Row 49","Row 50","Row 51","Row 52","Row 53","Row 54","Row 55","Row 56","Row 57","Row 58","Row 59","Row 60","Row 61","Row 62","Row 63","Row 64","Row 65","Row 66","Row 67","Row 68","Row 69","Row 70","Row 71","Row 72","Row 73","Row 74","Row 75","Row 76","Row 77","Row 78","Row 79","Row 80","Row 81","Row 82","Row 83","Row 84","Row 85","Row 86","Row 87","Row 88","Row 89","Row 90","Row 91","Row 92","Row 93","Row 94","Row 95","Row 96","Row 97","Row 98","Row 99","Row 100","Row 101","Row 102","Row 103","Row 104","Row 105","Row 106","Row 107","Row 108","Row 109","Row 110","Row 111","Row 112","Row 113","Row 114","Row 115","Row 116","Row 117","Row 118","Row 119","Row 120","Row 121","Row 122","Row 123","Row 124","Row 125","Row 126","Row 127","Row 128","Row 129","Row 130","Row 131","Row 132","Row 133","Row 134","Row 135","Row 136","Row 137","Row 138","Row 139","Row 140","Row 141","Row 142","Row 143","Row 144","Row 145","Row 146","Row 147","Row 148","Row 149","Row 150","Row 151",{"$nulls":3},"Region Present"]
[{"$nulls":13},"",null,"",{"$nulls":4},0,0,null,0,0,0,0,{"$nulls":4},"A",null,null,{"$f":"IF(ISNUMBER(SEARCH(AF81,$M$11)),1,0)","v":0},{"$f":"IF(ISNUMBER(SEARCH(AF81,$M$12)),1,0)","v":0},{"$f":"IF(ISNUMBER(SEARCH($AF81,$M$13)),1,0)","v":0},{"$f":"IF(ISNUMBER(SEARCH($AF81,$M$14)),1,0)","v":0},{"$f":"IF(ISNUMBER(SEARCH($AF81,$M$15)),1,0)","v":0},{"$f":"IF(ISNUMBER(SEARCH($AF81,$M$16)),1,0)","v":0},{"$f":"IF(ISNUMBER(SEARCH($AF81,$M$17)),1,0)","v":0},{"$f":"IF(ISNUMBER(SEARCH($AF81,$M$18)),1,0)","v":0},{"$f":"IF(ISNUMBER(SEARCH($AF81,$M$19)),1,0)","v":0},{"$f":"IF(ISNUMBER(SEARCH($AF81,$M$20)),1,0)","v":0},{"$f":"IF(ISNUMBER(SEARCH($AF81,$M$21)),1,0)","v":0},{"$f":"IF(ISNUMBER(SEARCH($AF81,$M$22)),1,0)","v":0},{"$f":"IF(ISNUMBER(SEARCH($AF81,$M$23)),1,0)","v":0},{"$f":"IF(ISNUMBER(SEARCH($AF81,$M$24)),1,0)","v":0},{"$f":"IF(ISNUMBER(SEARCH($AF81,$M$25)),1,0)","v":0},{"$f":"IF(ISNUMBER(SEARCH($AF81,$M$26)),1,0)","v":0},{"$f":"IF(ISNUMBER(SEARCH($AF81,$M$27)),1,0)","v":0},{"$f":"IF(ISNUMBER(SEARCH($AF81,$M$28)),1,0)","v":0},{"$f":"IF(ISNUMBER(SEARCH($AF81,$M$29)),1,0)","v":0},{"$f":"IF(ISNUMBER(SEARCH($AF81,$M$30)),1,0)","v":0},{"$f":"IF(ISNUMBER(SEARCH($AF81,$M$31)),1,0)","v":0},{"$f":"IF(ISNUMBER(SEARCH($AF81,$M$32)),1,0)","v":0},{"$f":"IF(ISNUMBER(SEARCH($AF81,$M$33)),1,0)","v":0},{"$f":"IF(ISNUMBER(SEARCH($AF81,$M$34)),1,0)","v":0},{"$f":"IF(ISNUMBER(SEARCH($AF81,$M$35)),1,0)","v":0},{"$f":"IF(ISNUMBER(SEARCH($AF81,$M$36)),1,0)","v":0},{"$f":"IF(ISNUMBER(SEARCH($AF81,$M$37)),1,0)","v":0},{"$f":"IF(ISNUMBER(SEARCH($AF81,$M$38)),1,0)","v":0},{"$f":"IF(ISNUMBER(SEARCH($AF81,$M$39)),1,0)","v":0},{"$f":"IF(ISNUMBER(SEARCH($AF81,$M$40)),1,0)","v":0},{"$f":"IF(ISNUMBER(SEARCH($AF81,$M$41)),1,0)","v":0},{"$f":"IF(ISNUMBER(SEARCH($AF81,$M$42)),1,0)","v":0},{"$f":"IF(ISNUMBER(SEARCH($AF81,$M$43)),1,0)","v":0},{"$f":"IF(ISNUMBER(SEARCH($AF81,$M$44)),1,0)","v":0},{"$f":"IF(ISNUMBER(SEARCH($AF81,$M$45)),1,0)","v":0},{"$f":"IF(ISNUMBER(SEARCH($AF81,$M$46)),1,0)","v":0},{"$f":"IF(ISNUMBER(SEARCH($AF81,$M$47)),1,0)","v":0},{"$f":"IF(ISNUMBER(SEARCH($AF81,$M$48)),1,0)","v":0},{"$f":"IF(ISNUMBER(SEARCH($AF81,$M$49)),1,0)","v":0},{"$f":"IF(ISNUMBER(SEARCH($AF81,$M$50)),1,0)","v":0},{"$f":"IF(ISNUMBER(SEARCH($AF81,$M$51)),1,0)","v":0},{"$f":"IF(ISNUMBER(SEARCH($AF81,$M$52)),1,0)","v":0},{"$f":"IF(ISNUMBER(SEARCH($AF81,$M$53)),1,0)","v":0},{"$f":"IF(ISNUMBER(SEARCH($AF81,$M$54)),1,0)","v":0},{"$f":"IF(ISNUMBER(SEARCH($AF81,$M$55)),1,0)","v":0},{"$f":"IF(ISNUMBER(SEARCH($AF81,$M$56)),1,0)","v":0},{"$f":"IF(ISNUMBER(SEARCH($AF81,$M$57)),1,0)","v":0},{"$f":"IF(ISNUMBER(SEARCH($AF81,$M$58)),1,0)","v":0},{"$f":"IF(ISNUMBER(SEARCH($AF81,$M$59)),1,0)","v":0},{"$f":"IF(ISNUMBER(SEARCH($AF81,$M$60)),1,0)","v":0},{"$f":"IF(ISNUMBER(SEARCH($AF81,$M$61)),1,0)","v":0},{"$f":"IF(ISNUMBER(SEARCH($AF81,$M$62)),1,0)","v":0},{"$f":"IF(ISNUMBER(SEARCH($AF81,$M$63)),1,0)","v":0},{"$f":"IF(ISNUMBER(SEARCH($AF81,$M$64)),1,0)","v":0},{"$f":"IF(ISNUMBER(SEARCH($AF81,$M$65)),1,0)","v":0},{"$f":"IF(ISNUMBER(SEARCH($AF81,$M$66)),1,0)","v":0},{"$f":"IF(ISNUMBER(SEARCH($AF81,$M$67)),1,0)","v":0},{"$f":"IF(ISNUMBER(SEARCH($AF81,$M$68)),1,0)","v":0},{"$f":"IF(ISNUMBER(SEARCH($AF81,$M$69)),1,0)","v":0},{"$f":"IF(ISNUMBER(SEARCH($AF81,$M$70)),1,0)","v":0},{"$f":"IF(ISNUMBER(SEARCH($AF81,$M$71)),1,0)","v":0},{"$f":"IF(ISNUMBER(SEARCH($AF81,$M$72)),1,0)","v":0},{"$f":"IF(ISNUMBER(SEARCH($AF81,$M$73)),1,0)","v":0},{"$f":"IF(ISNUMBER(SEARCH($AF81,$M$74)),1,0)","v":0},{"$f":"IF(ISNUMBER(SEARCH($AF81,$M$75)),1,0)","v":0},{"$f":"IF(ISNUMBER(SEARCH($AF81,$M$76)),1,0)","v":0},{"$f":"IF(ISNUMBER(SEARCH($AF81,$M$77)),1,0)","v":0},{"$f":"IF(ISNUMBER(SEARCH($AF81,$M$78)),1,0)","v":0},{"$f":"IF(ISNUMBER(SEARCH($AF81,$M$79)),1,0)","v":0},{"$f":"IF(ISNUMBER(SEARCH($AF81,$M$80)),1,0)","v":0},{"$f":"IF(ISNUMBER(SEARCH($AF81,$M$81)),1,0)","v":0},{"$f":"IF(ISNUMBER(SEARCH($AF81,$M$82)),1,0)","v":0},{"$f":"IF(ISNUMBER(SEARCH($AF81,$M$83)),1,0)","v":0},{"$f":"IF(ISNUMBER(SEARCH($AF81,$M$84)),1,0)","v":0},{"$f":"IF(ISNUMBER(SEARCH($AF81,$M$85)),1,0)","v":0},{"$f":"IF(ISNUMBER(SEARCH($AF81,$M$86)),1,0)","v":0},{"$f":"IF(ISNUMBER(SEARCH($AF81,$M$87)),1,0)","v":0},{"$f":"IF(ISNUMBER(SEARCH($AF81,$M$88)),1,0)","v":0},{"$f":"IF(ISNUMBER(SEARCH($AF81,$M$89)),1,0)","v":0},{"$f":"IF(ISNUMBER(SEARCH($AF81,$M$90)),1,0)","v":0},{"$f":"IF(ISNUMBER(SEARCH($AF81,$M$91)),1,0)","v":0},{"$f":"IF(ISNUMBER(SEARCH($AF81,$M$92)),1,0)","v":0},{"$f":"IF(ISNUMBER(SEARCH($AF81,$M$93)),1,0)","v":0},{"$f":"IF(ISNUMBER(SEARCH($AF81,$M$94)),1,0)","v":0},{"$f":"IF(ISNUMBER(SEARCH($AF81,$M$95)),1,0)","v":0},{"$f":"IF(ISNUMBER(SEARCH($AF81,$M$96)),1,0)","v":0},{"$f":"IF(ISNUMBER(SEARCH($AF81,$M$97)),1,0)","v":0},{"$f":"IF(ISNUMBER(SEARCH($AF81,$M$98)),1,0)","v":0},{"$f":"IF(ISNUMBER(SEARCH($AF81,$M$99)),1,0)","v":0},{"$f":"IF(ISNUMBER(SEARCH($AF81,$M$100)),1,0)","v":0},{"$f":"IF(ISNUMBER(SEARCH($AF81,$M$101)),1,0)","v":0},{"$f":"IF(ISNUMBER(SEARCH($AF81,$M$102)),1,0)","v":0},{"$f":"IF(ISNUMBER(SEARCH($AF81,$M$103)),1,0)","v":0},{"$f":"IF(ISNUMBER(SEARCH($AF81,$M$104)),1,0)","v":0},{"$f":"IF(ISNUMBER(SEARCH($AF81,$M$105)),1,0)","v":0},{"$f":"IF(ISNUMBER(SEARCH($AF81,$M$106)),1,0)","v":0},{"$f":"IF(ISNUMBER(SEARCH($AF81,$M$107)),1,0)","v":0},{"$f":"IF(ISNUMBER(SEARCH($AF81,$M$108)),1,0)","v":0},{"$f":"IF(ISNUMBER(SEARCH($AF81,$M$109)),1,0)","v":0},{"$f":"IF(ISNUMBER(SEARCH($AF81,$M$110)),1,0)","v":0},{"$f":"IF(ISNUMBER(SEARCH($AF81,$M$111)),1,0)","v":0},{"$f":"IF(ISNUMBER(SEARCH($AF81,$M$112)),1,0)","v":0},{"$f":"IF(ISNUMBER(SEARCH($AF81,$M$113)),1,0)","v":0},{"$f":"IF(ISNUMBER(SEARCH($AF81,$M$114)),1,0)","v":0},{"$f":"IF(ISNUMBER(SEARCH($AF81,$M$115)),1,0)","v":0},{"$f":"IF(ISNUMBER(SEARCH($AF81,$M$116)),1,0)","v":0},{"$f":"IF(ISNUMBER(SEARCH($AF81,$M$117)),1,0)","v":0},{"$f":"IF(ISNUMBER(SEARCH($AF81,$M$118)),1,0)","v":0},{"$f":"IF(ISNUMBER(SEARCH($AF81,$M$119)),1,0)","v":0},{"$f":"IF(ISNUMBER(SEARCH($AF81,$M$120)),1,0)","v":0},{"$f":"IF(ISNUMBER(SEARCH($AF81,$M$121)),1,0)","v":0},{"$f":"IF(ISNUMBER(SEARCH($AF81,$M$122)),1,0)","v":0},{"$f":"IF(ISNUMBER(SEARCH($AF81,$M$123)),1,0)","v":0},{"$f":"IF(ISNUMBER(SEARCH($AF81,$M$124)),1,0)","v":0},{"$f":"IF(ISNUMBER(SEARCH($AF81,$M$125)),1,0)","v":0},{"$f":"IF(ISNUMBER(SEARCH($AF81,$M$126)),1,0)","v":0},{"$f":"IF(ISNUMBER(SEARCH($AF81,$M$127)),1,0)","v":0},{"$f":"IF(ISNUMBER(SEARCH($AF81,$M$128)),1,0)","v":0},{"$f":"IF(ISNUMBER(SEARCH($AF81,$M$129)),1,0)","v":0},{"$f":"IF(ISNUMBER(SEARCH($AF81,$M$130)),1,0)","v":0},{"$f":"IF(ISNUMBER(SEARCH($AF81,$M$131)),1,0)","v":0},{"$f":"IF(ISNUMBER(SEARCH($AF81,$M$132)),1,0)","v":0},{"$f":"IF(ISNUMBER(SEARCH($AF81,$M$133)),1,0)","v":0},{"$f":"IF(ISNUMBER(SEARCH($AF81,$M$134)),1,0)","v":0},{"$f":"IF(ISNUMBER(SEARCH($AF81,$M$135)),1,0)","v":0},{"$f":"IF(ISNUMBER(SEARCH($AF81,$M$136)),1,0)","v":0},{"$f":"IF(ISNUMBER(SEARCH($AF81,$M$137)),1,0)","v":0},{"$f":"IF(ISNUMBER(SEARCH($AF81,$M$138)),1,0)","v":0},{"$f":"IF(ISNUMBER(SEARCH($AF81,$M$139)),1,0)","v":0},{"$f":"IF(ISNUMBER(SEARCH($AF81,$M$140)),1,0)","v":0},{"$f":"IF(ISNUMBER(SEARCH($AF81,$M$141)),1,0)","v":0},{"$f":"IF(ISNUMBER(SEARCH($AF81,$M$142)),1,0)","v":0},{"$f":"IF(ISNUMBER(SEARCH($AF81,$M$143)),1,0)","v":0},{"$f":"IF(ISNUMBER(SEARCH($AF81,$M$144)),1,0)","v":0},{"$f":"IF(ISNUMBER(SEARCH($AF81,$M$145)),1,0)","v":0},{"$f":"IF(ISNUMBER(SEARCH($AF81,$M$146)),1,0)","v":0},{"$f":"IF(ISNUMBER(SEARCH($AF81,$M$147)),1,0)","v":0},{"$f":"IF(ISNUMBER(SEARCH($AF81,$M$148)),1,0)","v":0},{"$f":"IF(ISNUMBER(SEARCH($AF81,$M$149)),1,0)","v":0},{"$f":"IF(ISNUMBER(SEARCH($AF81,$M$150)),1,0)","v":0},{"$f":"IF(ISNUMBER(SEARCH($AF81,$M$151)),1,0)","v":0},{"$f":"IF(ISNUMBER(SEARCH($AF81,$M$152)),1,0)","v":0},{"$f":"IF(ISNUMBER(SEARCH($AF81,$M$153)),1,0)","v":0},{"$f":"IF(ISNUMBER(SEARCH($AF81,$M$154)),1,0)","v":0},{"$f":"IF(ISNUMBER(SEARCH($AF81,$M$155)),1,0)","v":0},{"$f":"IF(ISNUMBER(SEARCH($AF81,$M$156)),1,0)","v":0},{"$f":"IF(ISNUMBER(SEARCH($AF81,$M$157)),1,0)","v":0},{"$f":"IF(ISNUMBER(SEARCH($AF81,$M$158)),1,0)","v":0},{"$f":"IF(ISNUMBER(SEARCH($AF81,$M$159)),1,0)","v":0},{"$f":"IF(ISNUMBER(SEARCH($AF81,$M$160)),1,0)","v":0},{"$f":"IF(ISNUMBER(SEARCH($AF81,$M$161)),1,0)","v":0},{"$nulls":3},{"$f":"IF(SUM(AI81:GC81)>0, 1, 0)","v":0}]
[{"$nulls":13},"",null,"",{"$nulls":4},0,0,null,0,0,0,0,{"$nulls":4},"B",null,null,0,0,0,0,0,0,0,0,0,0,0,0,0,0,0,0,0,0,0,0,0,0,0,0,0,0,0,0,0,0,0,0,0,0,0,0,0,0,0,0,0,0,0,0,0,0,0,0,0,0,0,0,0,0,0,0,0,0,0,0,0,0,0,0,0,0,0,0,0,0,0,0,0,0,0,0,0,0,0,0,0,0,0,0,0,0,0,0,0,0,0,0,0,0,0,0,0,0,0,0,0,0,0,0,0,0,0,0,0,0,0,0,0,0,0,0,0,0,0,0,0,0,0,0,0,0,0,0,0,0,0,0,0,0,0,0,0,0,0,0,0,0,0,0,0,0,0,0,0,0,0,{"$nulls":3},0]
[{"$nulls":13},"",null,"",{"$nulls":4},0,0,null,0,0,0,0,{"$nulls":4},"C",null,null,0,0,0,0,0,0,0,0,0,0,0,0,0,0,0,0,0,0,0,0,0,0,0,0,0,0,0,0,0,0,0,0,0,0,0,0,0,0,0,0,0,0,0,0,0,0,0,0,0,0,0,0,0,0,0,0,0,0,0,0,0,0,0,0,0,0,0,0,0,0,0,0,0,0,0,0,0,0,0,0,0,0,0,0,0,0,0,0,0,0,0,0,0,0,0,0,0,0,0,0,0,0,0,0,0,0,0,0,0,0,0,0,0,0,0,0,0,0,0,0,0,0,0,0,0,0,0,0,0,0,0,0,0,0,0,0,0,0,0,0,0,0,0,0,0,0,0,0,0,0,0,{"$nulls":3},0]
[{"$nulls":13},"",null,"",{"$nulls":4},0,0,null,0,0,0,0,{"$nulls":4},"D",null,null,0,0,0,0,0,0,0,0,0,0,0,0,0,0,0,0,0,0,0,0,0,0,0,0,0,0,0,0,0,0,0,0,0,0,0,0,0,0,0,0,0,0,0,0,0,0,0,0,0,0,0,0,0,0,0,0,0,0,0,0,0,0,0,0,0,0,0,0,0,0,0,0,0,0,0,0,0,0,0,0,0,0,0,0,0,0,0,0,0,0,0,0,0,0,0,0,0,0,0,0,0,0,0,0,0,0,0,0,0,0,0,0,0,0,0,0,0,0,0,0,0,0,0,0,0,0,0,0,0,0,0,0,0,0,0,0,0,0,0,0,0,0,0,0,0,0,0,0,0,0,0,{"$nulls":3},0]
[{"$nulls":13},"",null,"",{"$nulls":4},0,0,null,0,0,0,0,{"$nulls":4},"E",null,null,0,0,0,0,0,0,0,0,0,0,0,0,0,0,0,0,0,0,0,0,0,0,0,0,0,0,0,0,0,0,0,0,0,0,0,0,0,0,0,0,0,0,0,0,0,0,0,0,0,0,0,0,0,0,0,0,0,0,0,0,0,0,0,0,0,0,0,0,0,0,0,0,0,0,0,0,0,0,0,0,0,0,0,0,0,0,0,0,0,0,0,0,0,0,0,0,0,0,0,0,0,0,0,0,0,0,0,0,0,0,0,0,0,0,0,0,0,0,0,0,0,0,0,0,0,0,0,0,0,0,0,0,0,0,0,0,0,0,0,0,0,0,0,0,0,0,0,0,0,0,0,{"$nulls":3},0]
[{"$nulls":13},"",null,"",{"$nulls":4},0,0,null,0,0,0,0,{"$nulls":4},"F",null,null,0,0,0,0,0,0,0,0,0,0,0,0,0,0,0,0,0,0,0,0,0,0,0,0,0,0,0,0,0,0,0,0,0,0,0,0,0,0,0,0,0,0,0,0,0,0,0,0,0,0,0,0,0,0,0,0,0,0,0,0,0,0,0,0,0,0,0,0,0,0,0,0,0,0,0,0,0,0,0,0,0,0,0,0,0,0,0,0,0,0,0,0,0,0,0,0,0,0,0,0,0,0,0,0,0,0,0,0,0,0,0,0,0,0,0,0,0,0,0,0,0,0,0,0,0,0,0,0,0,0,0,0,0,0,0,0,0,0,0,0,0,0,0,0,0,0,0,0,0,0,0,{"$nulls":3},0]
[{"$nulls":13},"",null,"",{"$nulls":4},0,0,null,0,0,0,0,{"$nulls":4},"G",null,null,0,0,0,0,0,0,0,0,0,0,0,0,0,0,0,0,0,0,0,0,0,0,0,0,0,0,0,0,0,0,0,0,0,0,0,0,0,0,0,0,0,0,0,0,0,0,0,0,0,0,0,0,0,0,0,0,0,0,0,0,0,0,0,0,0,0,0,0,0,0,0,0,0,0,0,0,0,0,0,0,0,0,0,0,0,0,0,0,0,0,0,0,0,0,0,0,0,0,0,0,0,0,0,0,0,0,0,0,0,0,0,0,0,0,0,0,0,0,0,0,0,0,0,0,0,0,0,0,0,0,0,0,0,0,0,0,0,0,0,0,0,0,0,0,0,0,0,0,0,0,0,{"$nulls":3},0]
[{"$nulls":13},"",null,"",{"$nulls":4},0,0,null,0,0,0,0,{"$nulls":4},"H",null,null,0,0,0,0,0,0,0,0,0,0,0,0,0,0,0,0,0,0,0,0,0,0,0,0,0,0,0,0,0,0,0,0,0,0,0,0,0,0,0,0,0,0,0,0,0,0,0,0,0,0,0,0,0,0,0,0,0,0,0,0,0,0,0,0,0,0,0,0,0,0,0,0,0,0,0,0,0,0,0,0,0,0,0,0,0,0,0,0,0,0,0,0,0,0,0,0,0,0,0,0,0,0,0,0,0,0,0,0,0,0,0,0,0,0,0,0,0,0,0,0,0,0,0,0,0,0,0,0,0,0,0,0,0,0,0,0,0,0,0,0,0,0,0,0,0,0,0,0,0,0,0,{"$nulls":3},0]
[{"$nulls":13},"",null,"",{"$nulls":4},0,0,null,0,0,0,0,{"$nulls":4},"I",null,null,0,0,0,0,0,0,0,0,0,0,0,0,0,0,0,0,0,0,0,0,0,0,0,0,0,0,0,0,0,0,0,0,0,0,0,0,0,0,0,0,0,0,0,0,0,0,0,0,0,0,0,0,0,0,0,0,0,0,0,0,0,0,0,0,0,0,0,0,0,0,0,0,0,0,0,0,0,0,0,0,0,0,0,0,0,0,0,0,0,0,0,0,0,0,0,0,0,0,0,0,0,0,0,0,0,0,0,0,0,0,0,0,0,0,0,0,0,0,0,0,0,0,0,0,0,0,0,0,0,0,0,0,0,0,0,0,0,0,0,0,0,0,0,0,0,0,0,0,0,0,0,{"$nulls":3},0]
[{"$nulls":13},"",null,"",{"$nulls":4},0,0,null,0,0,0,0]
[{"$nulls":13},"",null,"",{"$nulls":4},0,0,null,0,0,0,0]
[{"$nulls":13},"",null,"",{"$nulls":4},0,0,null,0,0,0,0,{"$nulls":160},"Total Regions",{"$f":"SUM(GG81:GG91)","v":0}]
[{"$nulls":13},"",null,"",{"$nulls":4},0,0,null,0,0,0,0]
[{"$nulls":13},"",null,"",{"$nulls":4},0,0,null,0,0,0,0]
[{"$nulls":13},"",null,"",{"$nulls":4},0,0,null,0,0,0,0]
[{"$nulls":13},"",null,"",{"$nulls":4},0,0,null,0,0,0,0]
[{"$nulls":13},"",null,"",{"$nulls":4},0,0,null,0,0,0,0]
[{"$nulls":13},"",null,"",{"$nulls":4},0,0,null,0,0,0,0]
[{"$nulls":13},"",null,"",{"$nulls":4},0,0,null,0,0,0,0]
[{"$nulls":13},"",null,"",{"$nulls":4},0,0,null,0,0,0,0]
[{"$nulls":13},"",null,"",{"$nulls":4},0,0,null,0,0,0,0]
[{"$nulls":13},"",null,"",{"$nulls":4},0,0,null,0,0,0,0]
[{"$nulls":13},"",null,"",{"$nulls":4},0,0,null,0,0,0,0]
[{"$nulls":13},"",null,"",{"$nulls":4},0,0,null,0,0,0,0]
[{"$nulls":13},"",null,"",{"$nulls":4},0,0,null,0,0,0,0]
[{"$nulls":13},"",null,"",{"$nulls":4},0,0,null,0,0,0,0]
[{"$nulls":13},"",null,"",{"$nulls":4},{"$f":"IF(A107<>\"\",1,0)","v":0},{"$f":"IF(OR(J107=\"Yes\",K107=\"Yes\",L107=\"Yes\"), 1, 0)","v":0},null,{"$f":"IF(R107=\"Yes\", 1, 0)","v":0},{"$f":"IF(S107=\"Yes\", 1, 0)","v":0},{"$f":"IF(T107=\"Yes\", 1, 0)","v":0},{"$f":"IF(Q107=\"Yes\", 1,0)","v":0}]
[{"$nulls":13},"",null,"",{"$nulls":4},0,0,null,0,0,0,0]
[{"$nulls":13},"",null,"",{"$nulls":4},0,0,null,0,0,0,0]
[{"$nulls":13},"",null,"",{"$nulls":4},0,0,null,0,0,0,0]
[{"$nulls":13},"",null,"",{"$nulls":4},0,0,null,0,0,0,0]
[{"$nulls":13},"",null,"",{"$nulls":4},0,0,null,0,0,0,0]
[{"$nulls":13},"",null,"",{"$nulls":4},0,0,null,0,0,0,0]
[{"$nulls":13},"",null,"",{"$nulls":4},0,0,null,0,0,0,0]
[{"$nulls":13},"",null,"",{"$nulls":4},0,0,null,0,0,0,0]
[{"$nulls":13},"",null,"",{"$nulls":4},0,0,null,0,0,0,0]
[{"$nulls":13},"",null,"",{"$nulls":4},0,0,null,0,0,0,0]
[{"$nulls":13},"",null,"",{"$nulls":4},0,0,null,0,0,0,0]
[{"$nulls":13},"",null,"",{"$nulls":4},0,0,null,0,0,0,0]
[{"$nulls":13},"",null,"",{"$nulls":4},0,0,null,0,0,0,0]
[{"$nulls":13},"",null,"",{"$nulls":4},0,0,null,0,0,0,0]
[{"$nulls":13},"",null,"",{"$nulls":4},0,0,null,0,0,0,0]
[{"$nulls":13},"",null,"",{"$nulls":4},0,0,null,0,0,0,0]
[{"$nulls":13},"",null,"",{"$nulls":4},0,0,null,0,0,0,0]
[{"$nulls":13},"",null,"",{"$nulls":4},0,0,null,0,0,0,0]
[{"$nulls":13},"",null,"",{"$nulls":4},0,0,null,0,0,0,0]
[{"$nulls":13},"",null,"",{"$nulls":4},0,0,null,0,0,0,0]
[{"$nulls":13},"",null,"",{"$nulls":4},0,0,null,0,0,0,0]
[{"$nulls":13},"",null,"",{"$nulls":4},0,0,null,0,0,0,0]
[{"$nulls":13},"",null,"",{"$nulls":4},0,0,null,0,0,0,0]
[{"$nulls":13},"",null,"",{"$nulls":4},0,0,null,0,0,0,0]
[{"$nulls":13},"",null,"",{"$nulls":4},0,0,null,0,0,0,0]
[{"$nulls":13},"",null,"",{"$nulls":4},0,0,null,0,0,0,0]
[{"$nulls":13},"",null,"",{"$nulls":4},0,0,null,0,0,0,0]
[{"$nulls":13},"",null,"",{"$nulls":4},0,0,"Yes",0,0,0,0]
[{"$nulls":13},"",null,"",{"$nulls":4},0,0,"No",0,0,0,0]
[{"$nulls":13},"",null,"",{"$nulls":4},0,0,null,0,0,0,0]
[{"$nulls":13},"",null,"",{"$nulls":4},0,0,null,0,0,0,0]
[{"$nulls":13},"",null,"",{"$nulls":4},{"$f":"IF(A139<>\"\",1,0)","v":0},{"$f":"IF(OR(J139=\"Yes\",K139=\"Yes\",L139=\"Yes\"), 1, 0)","v":0},null,{"$f":"IF(R139=\"Yes\", 1, 0)","v":0},{"$f":"IF(S139=\"Yes\", 1, 0)","v":0},{"$f":"IF(T139=\"Yes\", 1, 0)","v":0},{"$f":"IF(Q139=\"Yes\", 1,0)","v":0}]
[{"$nulls":13},{"$f":"IF(ISBLANK(M140),\"\",LEN(TRIM(M140))-LEN(SUBSTITUTE(TRIM(M140),\",\",\"\"))+1)","v":""},null,{"$f":"IF(ISBLANK(O140),\"\",LEN(TRIM(O140))-LEN(SUBSTITUTE(TRIM(O140),\",\",\"\"))+1)","v":""},{"$nulls":4},0,0,null,0,0,0,0]
[{"$nulls":13},"",null,"",{"$nulls":4},0,0,null,0,0,0,0]
[{"$nulls":13},"",null,"",{"$nulls":4},0,0,null,0,0,0,0]
[{"$nulls":13},"",null,"",{"$nulls":4},0,0,null,0,0,0,0]
[{"$nulls":13},"",null,"",{"$nulls":4},0,0,null,0,0,0,0]
[{"$nulls":13},"",null,"",{"$nulls":4},0,0,null,0,0,0,0]
[{"$nulls":13},"",null,"",{"$nulls":4},0,0,null,0,0,0,0]
[{"$nulls":13},"",null,"",{"$nulls":4},0,0,null,0,0,0,0]
[{"$nulls":13},"",null,"",{"$nulls":4},0,0,null,0,0,0,0]
[{"$nulls":13},"",null,"",{"$nulls":4},0,0,null,0,0,0,0]
[{"$nulls":13},"",null,"",{"$nulls":4},0,0,null,0,0,0,0]
[{"$nulls":13},"",null,"",{"$nulls":4},0,0,null,0,0,0,0]
[{"$nulls":13},"",null,"",{"$nulls":4},0,0,null,0,0,0,0]
[{"$nulls":13},"",null,"",{"$nulls":4},0,0,null,0,0,0,0]
[{"$nulls":13},"",null,"",{"$nulls":4},0,0,null,0,0,0,0]
[{"$nulls":13},"",null,"",{"$nulls":4},0,0,null,0,0,0,0]
[{"$nulls":13},"",null,"",{"$nulls":4},0,0,null,0,0,0,0]
[{"$nulls":13},"",null,"",{"$nulls":4},0,0,null,0,0,0,0]
[{"$nulls":13},"",null,"",{"$nulls":4},0,0,null,0,0,0,0]
[{"$nulls":13},"",null,"",{"$nulls":4},0,0,null,0,0,0,0]
[{"$nulls":13},"",null,"",{"$nulls":4},0,0,null,0,0,0,0]
[{"$nulls":13},"",null,"",{"$nulls":4},0,0,null,0,0,0,0]
[{"$nulls":20},{"$f":"SUM(U11:U161)","v":0},{"$f":"SUM(V11:V161)","v":0},null,{"$f":"SUM(X11:X161)","v":0},{"$f":"SUM(Y11:Y161)","v":0},{"$f":"SUM(Z11:Z161)","v":0},{"$f":"SUM(AA11:AA161)","v":0}]
["Scores: ",null,"Back to Top"]
[]
["Evaluation Criteria","Points Available","Points Earned"]
["Number of unique, contracted CBOs with principal address in Florida for the upcoming contract period. A CBO with more than one contract with the Respondent for community-based services and supports shall be considered one CBO.","20 points for 20 or more CBOs",{"$f":"IF(U162>=20, 20, IF(U162>=10, 10, IF(U162>=5, 5, IF(U162>=1, 1, 0))))","v":0}]
[null,"10 points for 10-19 CBOs"]
[null,"5 points for 5-9 CBOs"]
[null,"1 point for 1-4 CBOs"]
[null,"0 points for 0 CBOs"]
["For up to 20 unique, contracted CBOs identified by the Respondent for SRC examination in Column H of Exhibit XX, the following scoring will be used:","1 point for each CBO that provides services or supports in at least one of the following areas: improving birth outcomes, improving mental health of children or adolescents, or increasing home and community based services and supports. Maximum of 20 points.",{"$f":"IF(V162>=20, 20, V162)","v":0}]
[null,"1 point for each AHCA region where at least one CBO provides services or supports. Maximum of 8 points.",{"$f":"IF(GG92>=8, 8, GG92)","v":0}]
["Percentage of Florida counties with at least one CBO providing services and supports to enrollees.","20 points for 100% of Florida counties",{"$f":"IF(GG78>=1, 20, IF(GG78>=0.5, 10, IF(GG78>=0.25, 5, IF(GG78>=0.01, 1, 0))))","v":0}]
[null,"10 points for 50-99.99% of Florida counties"]
[null,"5 points for 25-49.99% of Florida counties"]
[null,"1 point for 1-24.99% of Florida counties"]
[null,"0 points for less than 1% of Florida counties"]
["1 point for each CBO that uses a closed-loop software system to receive enrollee referrals from health care providers and verify with the Respondent that services or supports were provided to enrollees. Maximum of 20 points.","20 points maximum.",{"$f":"IF(AA162>=20, 20, AA162)","v":0}]
["1 point for each CBO that receives a financial investment from the Respondent. Maximum of 20 points.","20 points maximum.",{"$f":"IF(X162>=20, 20, X162)","v":0}]
["1 point for each CBO that receives in-kind support from the Respondent. Maximum of 20 points. ","20 points maximum.",{"$f":"IF(Y162>=20, 20, Y162)","v":0}]
["1 point for each CBO that has a representative who serves on a Respondent committee or advisory board. Maximum of 20 points.","20 points maximum.",{"$f":"IF(Z162>=20, 20, Z162)","v":0}]
["Total Points Earned",null,{"$f":"SUM(C166:C181)","v":0}]
[]
[]
[]
[]
[]
[{"$nulls":4},{"$f":"SUM(N11:N161)","v":0},{"$nulls":10},{"$f":"SUM(P11:P161)","v":0},{"$f":"P188/67","v":0}]
{"$rows_empty":44}
[{"$nulls":13},{"$f":"SUM(N135:N229)","v":0},null,{"$f":"SUM(P135:P229)/67","v":0}]
[{"$nulls":16},{"$f":"SUM(Q135:Q232)","v":0}]

{"sheet":"Scoring-Exp. Benefits-Pathways","index":27,"n_rows":4,"n_cols":1,"rows_kept":4,"merged":[[3,0,3,3]]}
["SRC #27: Expanded Benefits - Pathways to"]
["Prosperity Scoring Information"]
[]
["Back to Respondent Information"]

{"sheet":"Exp. Benefits-Pathways","index":28,"n_rows":82,"n_cols":12,"rows_kept":82,"merged":[[0,3,0,5],[9,1,9,2],[10,1,10,2],[11,0,11,8],[12,3,12,4],[13,0,17,0],[13,1,17,1],[13,2,17,2],[13,5,17,5],[13,6,17,6],[13,7,17,7],[13,8,17,8],[18,0,22,0],[18,1,22,1],[18,2,22,2],[18,5,22,5],[18,6,22,6],[18,7,22,7],[18,8,22,8],[23,0,27,0],[23,1,27,1],[23,2,27,2],[23,5,27,5],[23,6,27,6],[23,7,27,7],[23,8,27,8],[28,0,32,0],[28,1,32,1],[28,2,32,2],[28,5,32,5],[28,6,32,6],[28,7,32,7],[28,8,32,8],[33,0,37,0],[33,1,37,1],[33,2,37,2],[33,5,37,5],[33,6,37,6],[33,7,37,7],[33,8,37,8],[38,0,42,0],[38,1,42,1],[38,2,42,2],[38,5,42,5],[38,6,42,6],[38,7,42,7],[38,8,42,8],[43,0,47,0],[43,1,47,1],[43,2,47,2],[43,5,47,5],[43,6,47,6],[43,7,47,7],[43,8,47,8],[48,0,52,0],[48,1,52,1],[48,2,52,2],[48,5,52,5],[48,6,52,6],[48,7,52,7],[48,8,52,8],[53,0,57,0],[53,1,57,1],[53,2,57,2],[53,5,57,5],[53,6,57,6],[53,7,57,7],[53,8,57,8],[58,0,62,0],[58,1,62,1],[58,2,62,2],[58,5,62,5],[58,6,62,6],[58,7,62,7],[58,8,62,8],[63,0,67,0],[63,1,67,1],[63,2,67,2],[63,5,67,5],[63,6,67,6],[63,7,67,7],[63,8,67,8],[68,0,72,0],[68,1,72,1],[68,2,72,2],[68,5,72,5],[68,6,72,6],[68,7,72,7],[68,8,72,8],[81,0,81,1]]}
["SRC #27: Expanded Benefits - Pathways to Prosperity",null,null,"Back to Respondent Information"]
[]
["Item","Score"]
["Total Points Possible:",20]
["Points Earned:",{"$f":"C82","v":0}]
["Percent:",{"$f":"B5/B4","v":{"v":0,"d":"0%"}}]
["Final Score Possible:",300]
["Expanded Benefits - Pathways to Prosperity SRC Final Score:",{"$f":"B6*B7","v":0}]
[]
[null,"Florida"]
["Line of Business:","Medicaid"]
["Complete the following information for each Pathways to Prosperity Expanded Benefits the Respondent proposes to offer to Enrollees. All columns in the row must be complete to earn the points available. "]
["Pathway to Prosperity Category","Proposed Procedure Code Description","Proposed Procedure Code\n(CPT or HCPCS)","Proposed Applicable Benefit Plan\n(Select all that apply)",null,"Proposed Minimum Age","Proposed Maximum Age","Proposed Expanded Benefit Coverage (units, amount, and frequency)","Proposed PMPM"]
["Housing Assistance",null,null,"MMA",{"$nulls":6},"Yes"]
[{"$nulls":3},"LTC",{"$nulls":6},"No",{"$f":"IF(OR(E14=\"Yes\", E15=\"Yes\", E16=\"Yes\", E17=\"Yes\", E18=\"Yes\"), 1, 0)","v":0}]
[{"$nulls":3},"HIV/AIDS"]
[{"$nulls":3},"SMI"]
[{"$nulls":3},"CW"]
["Housing Assistance",null,null,"MMA"]
[{"$nulls":3},"LTC"]
[{"$nulls":3},"HIV/AIDS"]
[{"$nulls":3},"SMI"]
[{"$nulls":3},"CW"]
["Housing Assistance",null,null,"MMA"]
[{"$nulls":3},"LTC"]
[{"$nulls":3},"HIV/AIDS"]
[{"$nulls":3},"SMI"]
[{"$nulls":3},"CW"]
["Food Assistance",null,null,"MMA"]
[{"$nulls":3},"LTC",{"$nulls":7},{"$f":"IF(OR(E29=\"Yes\", E30=\"Yes\", E31=\"Yes\", E32=\"Yes\", E33=\"Yes\"), 1, 0)","v":0}]
[{"$nulls":3},"HIV/AIDS"]
[{"$nulls":3},"SMI"]
[{"$nulls":3},"CW"]
["Food Assistance",null,null,"MMA"]
[{"$nulls":3},"LTC"]
[{"$nulls":3},"HIV/AIDS"]
[{"$nulls":3},"SMI"]
[{"$nulls":3},"CW"]
["Food Assistance",null,null,"MMA"]
[{"$nulls":3},"LTC"]
[{"$nulls":3},"HIV/AIDS"]
[{"$nulls":3},"SMI"]
[{"$nulls":3},"CW"]
["Non-Medical Transportation",null,null,"MMA"]
[{"$nulls":3},"LTC",{"$nulls":7},{"$f":"IF(OR(E44=\"Yes\", E45=\"Yes\", E46=\"Yes\", E47=\"Yes\", E48=\"Yes\"), 1, 0)","v":0}]
[{"$nulls":3},"HIV/AIDS"]
[{"$nulls":3},"SMI"]
[{"$nulls":3},"CW"]
["Non-Medical Transportation",null,null,"MMA"]
[{"$nulls":3},"LTC"]
[{"$nulls":3},"HIV/AIDS"]
[{"$nulls":3},"SMI"]
[{"$nulls":3},"CW"]
["Non-Medical Transportation",null,null,"MMA"]
[{"$nulls":3},"LTC"]
[{"$nulls":3},"HIV/AIDS"]
[{"$nulls":3},"SMI"]
[{"$nulls":3},"CW"]
["Tutoring, Vocational Training, and/or Job Readiness",null,null,"MMA"]
[{"$nulls":3},"LTC",{"$nulls":7},{"$f":"IF(OR(E59=\"Yes\", E60=\"Yes\", E61=\"Yes\", E62=\"Yes\", E63=\"Yes\"), 1, 0)","v":0}]
[{"$nulls":3},"HIV/AIDS"]
[{"$nulls":3},"SMI"]
[{"$nulls":3},"CW"]
["Tutoring, Vocational Training, and/or Job Readiness",null,null,"MMA"]
[{"$nulls":3},"LTC"]
[{"$nulls":3},"HIV/AIDS"]
[{"$nulls":3},"SMI"]
[{"$nulls":3},"CW"]
["Tutoring, Vocational Training, and/or Job Readiness",null,null,"MMA"]
[{"$nulls":3},"LTC"]
[{"$nulls":3},"HIV/AIDS"]
[{"$nulls":3},"SMI"]
[{"$nulls":3},"CW"]
[]
["Scores: "]
[]
["Criteria","Points Available","Points Earned"]
["Housing Assistance",5,{"$f":"IF(AND(NOT(ISBLANK(B14)), NOT(ISBLANK(C14)), L15>0, NOT(ISBLANK(F14)), NOT(ISBLANK(G14)), NOT(ISBLANK(H14)), NOT(ISBLANK(I14))), 5, 0)","v":0}]
["Food Assistance",5,{"$f":"IF(AND(NOT(ISBLANK(B29)), NOT(ISBLANK(C29)), L30>0, NOT(ISBLANK(F29)), NOT(ISBLANK(G29)), NOT(ISBLANK(H29)), NOT(ISBLANK(I29))), 5, 0)","v":0}]
["Non-Medical Transportation",5,{"$f":"IF(AND(NOT(ISBLANK(B44)), NOT(ISBLANK(C44)), L45>0, NOT(ISBLANK(F44)), NOT(ISBLANK(G44)), NOT(ISBLANK(H44)), NOT(ISBLANK(I44))), 5, 0)","v":0}]
["Tutoring, Vocational Training, and/or Job Readiness",5,{"$f":"IF(AND(NOT(ISBLANK(B59)), NOT(ISBLANK(C59)), L60>0, NOT(ISBLANK(F59)), NOT(ISBLANK(G59)), NOT(ISBLANK(H59)), NOT(ISBLANK(I59))), 5, 0)","v":0}]
["Points Earned:",null,{"$f":"SUM(C78:C81)","v":0}]

{"sheet":"Scoring-Managed Care Exp","index":29,"n_rows":3,"n_cols":1,"rows_kept":3,"merged":[[2,0,2,3]]}
["SRC #31: Managed Care Experience Instructions"]
[]
["Back to Respondent Information"]

{"sheet":"Managed Care Experience","index":30,"n_rows":41,"n_cols":24,"rows_kept":41,"merged":[[0,3,0,4],[31,0,31,1],[39,0,39,1],[40,0,40,1]]}
["SRC #31: Managed Care Experience",null,null,"Back to Respondent Information"]
[]
["Item","Score"]
["Total Points Possible:",5]
["Points Earned:",{"$f":"C41","v":{"v":0,"d":"0.00"}}]
["Percent:",{"$f":"B5/B4","v":{"v":0,"d":"0%"}}]
["Final Score Possible:",350]
["Managed Care Experience SRC Final Score:",{"$f":"B6*B7","v":0}]
[]
["Contract Number","Line of Business","State","Contract Implementation Date","Contract End Date","Actual Length of Contract In Years","Statewide or Not Statewide","HCBS Included","Total Unduplicated Population Under Contract","Premium Revenue - Latest Contract Year",{"$nulls":3},"LOB",null,"Length of Contract","Statewide","HCBS","Total Population"]
[{"$nulls":5},{"$f":"IF(E11>X11, DATEDIF(D11, \"08/15/2023\", \"y\"), DATEDIF(D11,E11,\"y\"))","v":0},{"$nulls":7},{"$f":"IF(B11=\"Medicaid\",1,IF(B11=\"CHIP\",0.9,IF(B11=\"Medicare\",0.8,0)))","v":0},null,{"$f":"IF(F11>5, 1, IF(F11>2, 0.75, IF(F11>0, 0.5, 0)))","v":0},{"$f":"IF(ISBLANK(G11), 0, IF(G11=\"Statewide\", 1, 0.8))","v":0},{"$f":"IF(H11=\"Yes\", 1, 0)","v":0},{"$f":"IF(I11>=500000, 1, IF(I11>=250000, 0.5, 0))","v":0},{"$nulls":4},"2023-08-14"]
[{"$nulls":5},{"$f":"IF(E12>X12, DATEDIF(D12, \"08/15/2023\", \"y\"), DATEDIF(D12,E12,\"y\"))","v":0},{"$nulls":7},{"$f":"IF(B12=\"Medicaid\",1,IF(B12=\"CHIP\",0.9,IF(B12=\"Medicare\",0.8,0)))","v":0},"Statewide",{"$f":"IF(F12>5, 1, IF(F12>2, 0.75, IF(F12>0, 0.5, 0)))","v":0},{"$f":"IF(ISBLANK(G12), 0, IF(G12=\"Statewide\", 1, 0.8))","v":0},{"$f":"IF(H12=\"Yes\", 1, 0)","v":0},0]
[{"$nulls":5},0,{"$nulls":5},"Less than 1 Year ",0,0,"Not Statewide",0,0,0,0]
[{"$nulls":5},0,{"$nulls":5},"1-2 Years",0.5,0,null,0,0,0,0]
[{"$nulls":5},0,{"$nulls":5},"3-5 Years",0.75,0,null,0,0,0,0]
[{"$nulls":5},0,{"$nulls":5},"5+ Years",1,0,null,0,0,0,0]
[{"$nulls":5},0,{"$nulls":7},0,"Yes",0,0,0,0]
[{"$nulls":5},0,{"$nulls":7},0,"No",0,0,0,0]
[{"$nulls":5},0,{"$nulls":7},0,null,0,0,0,0]
[{"$nulls":5},0,{"$nulls":5},"Statewide",1,0,"Medicaid",0,0,0,0]
[{"$nulls":5},0,{"$nulls":5},"Not Statewide",0.8,0,"CHIP",0,0,0,0]
[{"$nulls":5},0,{"$nulls":7},0,"Medicare",0,0,0,0]
[{"$nulls":5},0,{"$nulls":5},"HCBS Included",1,0,null,0,0,0,0]
[{"$nulls":5},0,{"$nulls":7},0,null,0,0,0,0]
[{"$nulls":5},0,{"$nulls":7},0,null,0,0,0,0]
[{"$nulls":5},0,{"$nulls":7},0,null,0,0,0,0]
[{"$nulls":5},0,{"$nulls":7},0,null,0,0,0,0]
[{"$nulls":5},0,{"$nulls":7},0,null,0,0,0,0]
[{"$nulls":5},0,{"$nulls":7},0,null,0,0,0,0]
[{"$nulls":5},0,{"$nulls":7},0,null,0,0,0,0]
[{"$nulls":13},{"$f":"SUM(N11:N30)","v":0},null,{"$f":"SUM(P11:P30)","v":0},{"$f":"SUM(Q11:Q30)","v":0},{"$f":"SUM(R11:R30)","v":0},{"$f":"SUM(S11:S30)","v":0}]
["Scores:"]
[]
["Evaluation Criteria","Points Available","Points Earned"]
["Line of Business",20,{"$f":"N31","v":0}]
["Length of Contract",20,{"$f":"P31","v":0}]
["State Coverage",20,{"$f":"Q31","v":0}]
["HCBS Services",20,{"$f":"R31","v":0}]
["Population",20,{"$f":"S31","v":0}]
["Raw Points Earned:",null,{"$f":"SUM(C35:C39)","v":0}]
["Points Earned:",null,{"$f":"C40/20","v":{"v":0,"d":"0.00"}}]

{"sheet":"Scoring-Compliance","index":31,"n_rows":3,"n_cols":1,"rows_kept":3,"merged":[[2,0,2,3]]}
["SRC #32: Compliance History Scoring Information"]
[]
["Back to Respondent Information"]

{"sheet":"Compliance","index":32,"n_rows":136,"n_cols":62,"rows_kept":136,"merged":[[0,0,0,2],[0,4,0,5],[2,0,2,1],[2,4,2,5],[3,0,3,1],[4,0,4,1],[6,0,6,17],[6,18,6,35],[6,36,6,53],[7,0,7,17],[7,18,7,35],[7,36,7,53],[8,0,8,5],[8,6,8,11],[8,12,8,17],[8,18,8,23],[8,24,8,29],[8,30,8,35],[8,36,8,41],[8,42,8,47],[8,48,8,53],[9,0,9,5],[9,6,9,11],[9,12,9,17],[9,18,9,23],[9,24,9,29],[9,30,9,35],[9,36,9,41],[9,42,9,47],[9,48,9,53],[10,2,10,3],[10,8,10,9],[10,14,10,15],[10,20,10,21],[10,26,10,27],[10,32,10,33],[10,38,10,39],[10,44,10,45],[10,50,10,51],[11,2,11,3],[11,8,11,9],[11,14,11,15],[11,20,11,21],[11,26,11,27],[11,32,11,33],[11,38,11,39],[11,44,11,45],[11,50,11,51],[12,2,12,3],[12,8,12,9],[12,14,12,15],[12,20,12,21],[12,26,12,27],[12,32,12,33],[12,38,12,39],[12,44,12,45],[12,50,12,51],[13,2,13,3],[13,8,13,9],[13,14,13,15],[13,20,13,21],[13,26,13,27],[13,32,13,33],[13,38,13,39],[13,44,13,45],[13,50,13,51],[14,2,14,3],[14,8,14,9],[14,14,14,15],[14,20,14,21],[14,26,14,27],[14,32,14,33],[14,38,14,39],[14,44,14,45],[14,50,14,51],[15,2,15,3],[15,8,15,9],[15,14,15,15],[15,20,15,21],[15,26,15,27],[15,32,15,33],[15,38,15,39],[15,44,15,45],[15,50,15,51],[16,2,16,3],[16,8,16,9],[16,14,16,15],[16,20,16,21],[16,26,16,27],[16,32,16,33],[16,38,16,39],[16,44,16,45],[16,50,16,51],[17,2,17,3],[17,8,17,9],[17,14,17,15],[17,20,17,21],[17,26,17,27],[17,32,17,33],[17,38,17,39],[17,44,17,45],[17,50,17,51],[18,2,18,3],[18,8,18,9],[18,14,18,15],[18,20,18,21],[18,26,18,27],[18,32,18,33],[18,38,18,39],[18,44,18,45],[18,50,18,51],[19,2,19,3],[19,8,19,9],[19,14,19,15],[19,20,19,21],[19,26,19,27],[19,32,19,33],[19,38,19,39],[19,44,19,45],[19,50,19,51],[20,2,20,3],[20,8,20,9],[20,14,20,15],[20,20,20,21],[20,26,20,27],[20,32,20,33],[20,38,20,39],[20,44,20,45],[20,50,20,51],[21,2,21,3],[21,8,21,9],[21,14,21,15],[21,20,21,21],[21,26,21,27],[21,32,21,33],[21,38,21,39],[21,44,21,45],[21,50,21,51],[22,2,22,3],[22,8,22,9],[22,14,22,15],[22,20,22,21],[22,26,22,27],[22,32,22,33],[22,38,22,39],[22,44,22,45],[22,50,22,51],[23,2,23,3],[23,8,23,9],[23,14,23,15],[23,20,23,21],[23,26,23,27],[23,32,23,33],[23,38,23,39],[23,44,23,45],[23,50,23,51],[24,2,24,3],[24,8,24,9],[24,14,24,15],[24,20,24,21],[24,26,24,27],[24,32,24,33],[24,38,24,39],[24,44,24,45],[24,50,24,51],[25,2,25,3],[25,8,25,9],[25,14,25,15],[25,20,25,21],[25,26,25,27],[25,32,25,33],[25,38,25,39],[25,44,25,45],[25,50,25,51],[26,2,26,3],[26,8,26,9],[26,14,26,15],[26,20,26,21],[26,26,26,27],[26,32,26,33],[26,38,26,39],[26,44,26,45],[26,50,26,51],[27,2,27,3],[27,8,27,9],[27,14,27,15],[27,20,27,21],[27,26,27,27],[27,32,27,33],[27,38,27,39],[27,44,27,45],[27,50,27,51],[28,2,28,3],[28,8,28,9],[28,14,28,15],[28,20,28,21],[28,26,28,27],[28,32,28,33],[28,38,28,39],[28,44,28,45],[28,50,28,51],[29,2,29,3],[29,8,29,9],[29,14,29,15],[29,20,29,21],[29,26,29,27],[29,32,29,33],[29,38,29,39],[29,44,29,45],[29,50,29,51],[30,2,30,3],[30,8,30,9],[30,14,30,15],[30,20,30,21],[30,26,30,27],[30,32,30,33],[30,38,30,39],[30,44,30,45],[30,50,30,51],[31,2,31,3],[31,8,31,9],[31,14,31,15],[31,20,31,21],[31,26,31,27],[31,32,31,33],[31,38,31,39],[31,44,31,45],[31,50,31,51],[32,2,32,3],[32,8,32,9],[32,14,32,15],[32,20,32,21],[32,26,32,27],[32,32,32,33],[32,38,32,39],[32,44,32,45],[32,50,32,51],[33,2,33,3],[33,8,33,9],[33,14,33,15],[33,20,33,21],[33,26,33,27],[33,32,33,33],[33,38,33,39],[33,44,33,45],[33,50,33,51],[34,2,34,3],[34,8,34,9],[34,14,34,15],[34,20,34,21],[34,26,34,27],[34,32,34,33],[34,38,34,39],[34,44,34,45],[34,50,34,51],[35,2,35,3],[35,8,35,9],[35,14,35,15],[35,20,35,21],[35,26,35,27],[35,32,35,33],[35,38,35,39],[35,44,35,45],[35,50,35,51],[36,2,36,3],[36,8,36,9],[36,14,36,15],[36,20,36,21],[36,26,36,27],[36,32,36,33],[36,38,36,39],[36,44,36,45],[36,50,36,51],[37,2,37,3],[37,8,37,9],[37,14,37,15],[37,20,37,21],[37,26,37,27],[37,32,37,33],[37,38,37,39],[37,44,37,45],[37,50,37,51],[38,2,38,3],[38,8,38,9],[38,14,38,15],[38,20,38,21],[38,26,38,27],[38,32,38,33],[38,38,38,39],[38,44,38,45],[38,50,38,51],[39,2,39,3],[39,8,39,9],[39,14,39,15],[39,20,39,21],[39,26,39,27],[39,32,39,33],[39,38,39,39],[39,44,39,45],[39,50,39,51],[40,2,40,3],[40,8,40,9],[40,14,40,15],[40,20,40,21],[40,26,40,27],[40,32,40,33],[40,38,40,39],[40,44,40,45],[40,50,40,51],[41,2,41,3],[41,8,41,9],[41,14,41,15],[41,20,41,21],[41,26,41,27],[41,32,41,33],[41,38,41,39],[41,44,41,45],[41,50,41,51],[42,2,42,3],[42,8,42,9],[42,14,42,15],[42,20,42,21],[42,26,42,27],[42,32,42,33],[42,38,42,39],[42,44,42,45],[42,50,42,51],[43,2,43,3],[43,8,43,9],[43,14,43,15],[43,20,43,21],[43,26,43,27],[43,32,43,33],[43,38,43,39],[43,44,43,45],[43,50,43,51],[44,2,44,3],[44,8,44,9],[44,14,44,15],[44,20,44,21],[44,26,44,27],[44,32,44,33],[44,38,44,39],[44,44,44,45],[44,50,44,51],[45,2,45,3],[45,8,45,9],[45,14,45,15],[45,20,45,21],[45,26,45,27],[45,32,45,33],[45,38,45,39],[45,44,45,45],[45,50,45,51],[46,2,46,3],[46,8,46,9],[46,14,46,15],[46,20,46,21],[46,26,46,27],[46,32,46,33],[46,38,46,39],[46,44,46,45],[46,50,46,51],[47,2,47,3],[47,8,47,9],[47,14,47,15],[47,20,47,21],[47,26,47,27],[47,32,47,33],[47,38,47,39],[47,44,47,45],[47,50,47,51],[48,2,48,3],[48,8,48,9],[48,14,48,15],[48,20,48,21],[48,26,48,27],[48,32,48,33],[48,38,48,39],[48,44,48,45],[48,50,48,51],[49,2,49,3],[49,8,49,9],[49,14,49,15],[49,20,49,21],[49,26,49,27],[49,32,49,33],[49,38,49,39],[49,44,49,45],[49,50,49,51],[50,2,50,3],[50,8,50,9],[50,14,50,15],[50,20,50,21],[50,26,50,27],[50,32,50,33],[50,38,50,39],[50,44,50,45],[50,50,50,51],[51,2,51,3],[51,8,51,9],[51,14,51,15],[51,20,51,21],[51,26,51,27],[51,32,51,33],[51,38,51,39],[51,44,51,45],[51,50,51,51],[52,2,52,3],[52,8,52,9],[52,14,52,15],[52,20,52,21],[52,26,52,27],[52,32,52,33],[52,38,52,39],[52,44,52,45],[52,50,52,51],[53,2,53,3],[53,8,53,9],[53,14,53,15],[53,20,53,21],[53,26,53,27],[53,32,53,33],[53,38,53,39],[53,44,53,45],[53,50,53,51],[54,2,54,3],[54,8,54,9],[54,14,54,15],[54,20,54,21],[54,26,54,27],[54,32,54,33],[54,38,54,39],[54,44,54,45],[54,50,54,51],[55,2,55,3],[55,8,55,9],[55,14,55,15],[55,20,55,21],[55,26,55,27],[55,32,55,33],[55,38,55,39],[55,44,55,45],[55,50,55,51],[56,2,56,3],[56,8,56,9],[56,14,56,15],[56,20,56,21],[56,26,56,27],[56,32,56,33],[56,38,56,39],[56,44,56,45],[56,50,56,51],[57,2,57,3],[57,8,57,9],[57,14,57,15],[57,20,57,21],[57,26,57,27],[57,32,57,33],[57,38,57,39],[57,44,57,45],[57,50,57,51],[58,2,58,3],[58,8,58,9],[58,14,58,15],[58,20,58,21],[58,26,58,27],[58,32,58,33],[58,38,58,39],[58,44,58,45],[58,50,58,51],[59,2,59,3],[59,8,59,9],[59,14,59,15],[59,20,59,21],[59,26,59,27],[59,32,59,33],[59,38,59,39],[59,44,59,45],[59,50,59,51],[60,2,60,3],[60,8,60,9],[60,14,60,15],[60,20,60,21],[60,26,60,27],[60,32,60,33],[60,38,60,39],[60,44,60,45],[60,50,60,51],[61,2,61,3],[61,8,61,9],[61,14,61,15],[61,20,61,21],[61,26,61,27],[61,32,61,33],[61,38,61,39],[61,44,61,45],[61,50,61,51],[62,2,62,3],[62,8,62,9],[62,14,62,15],[62,20,62,21],[62,26,62,27],[62,32,62,33],[62,38,62,39],[62,44,62,45],[62,50,62,51],[63,2,63,3],[63,8,63,9],[63,14,63,15],[63,20,63,21],[63,26,63,27],[63,32,63,33],[63,38,63,39],[63,44,63,45],[63,50,63,51],[64,2,64,3],[64,8,64,9],[64,14,64,15],[64,20,64,21],[64,26,64,27],[64,32,64,33],[64,38,64,39],[64,44,64,45],[64,50,64,51],[65,2,65,3],[65,8,65,9],[65,14,65,15],[65,20,65,21],[65,26,65,27],[65,32,65,33],[65,38,65,39],[65,44,65,45],[65,50,65,51],[66,2,66,3],[66,8,66,9],[66,14,66,15],[66,20,66,21],[66,26,66,27],[66,32,66,33],[66,38,66,39],[66,44,66,45],[66,50,66,51],[67,2,67,3],[67,8,67,9],[67,14,67,15],[67,20,67,21],[67,26,67,27],[67,32,67,33],[67,38,67,39],[67,44,67,45],[67,50,67,51],[68,2,68,3],[68,8,68,9],[68,14,68,15],[68,20,68,21],[68,26,68,27],[68,32,68,33],[68,38,68,39],[68,44,68,45],[68,50,68,51],[69,2,69,3],[69,8,69,9],[69,14,69,15],[69,20,69,21],[69,26,69,27],[69,32,69,33],[69,38,69,39],[69,44,69,45],[69,50,69,51],[70,2,70,3],[70,8,70,9],[70,14,70,15],[70,20,70,21],[70,26,70,27],[70,32,70,33],[70,38,70,39],[70,44,70,45],[70,50,70,51],[71,0,71,4],[71,6,71,10],[71,12,71,16],[71,18,71,22],[71,24,71,28],[71,30,71,34],[71,36,71,40],[71,42,71,46],[71,48,71,52],[72,0,72,4],[72,6,72,10],[72,12,72,16],[72,18,72,22],[72,24,72,28],[72,30,72,34],[72,36,72,40],[72,42,72,46],[72,48,72,52],[73,0,73,5],[73,6,73,11],[73,12,73,17],[73,18,73,23],[73,24,73,29],[73,30,73,35],[73,36,73,41],[73,42,73,47],[73,48,73,53],[74,2,74,3],[74,8,74,9],[74,14,74,15],[74,20,74,21],[74,26,74,27],[74,32,74,33],[74,38,74,39],[74,44,74,45],[74,50,74,51],[75,2,75,3],[75,8,75,9],[75,14,75,15],[75,20,75,21],[75,26,75,27],[75,32,75,33],[75,38,75,39],[75,44,75,45],[75,50,75,51],[76,2,76,3],[76,8,76,9],[76,14,76,15],[76,20,76,21],[76,26,76,27],[76,32,76,33],[76,38,76,39],[76,44,76,45],[76,50,76,51],[77,2,77,3],[77,8,77,9],[77,14,77,15],[77,20,77,21],[77,26,77,27],[77,32,77,33],[77,38,77,39],[77,44,77,45],[77,50,77,51],[78,2,78,3],[78,8,78,9],[78,14,78,15],[78,20,78,21],[78,26,78,27],[78,32,78,33],[78,38,78,39],[78,44,78,45],[78,50,78,51],[79,2,79,3],[79,8,79,9],[79,14,79,15],[79,20,79,21],[79,26,79,27],[79,32,79,33],[79,38,79,39],[79,44,79,45],[79,50,79,51],[80,0,80,5],[80,6,80,11],[80,12,80,17],[80,18,80,23],[80,24,80,29],[80,30,80,35],[80,36,80,41],[80,42,80,47],[80,48,80,53],[81,2,81,3],[81,8,81,9],[81,14,81,15],[81,20,81,21],[81,26,81,27],[81,32,81,33],[81,38,81,39],[81,44,81,45],[81,50,81,51],[82,2,82,3],[82,8,82,9],[82,14,82,15],[82,20,82,21],[82,26,82,27],[82,32,82,33],[82,38,82,39],[82,44,82,45],[82,50,82,51],[83,2,83,3],[83,8,83,9],[83,14,83,15],[83,20,83,21],[83,26,83,27],[83,32,83,33],[83,38,83,39],[83,44,83,45],[83,50,83,51],[84,2,84,3],[84,8,84,9],[84,14,84,15],[84,20,84,21],[84,26,84,27],[84,32,84,33],[84,38,84,39],[84,44,84,45],[84,50,84,51],[85,2,85,3],[85,8,85,9],[85,14,85,15],[85,20,85,21],[85,26,85,27],[85,32,85,33],[85,38,85,39],[85,44,85,45],[85,50,85,51],[86,2,86,3],[86,8,86,9],[86,14,86,15],[86,20,86,21],[86,26,86,27],[86,32,86,33],[86,38,86,39],[86,44,86,45],[86,50,86,51],[90,0,90,2],[92,0,92,1],[92,5,92,6],[93,0,96,1],[93,5,93,6],[94,5,94,6],[95,5,95,6],[96,2,96,6],[97,0,100,1],[97,5,97,6],[98,5,98,6],[99,5,99,6],[100,2,100,6],[101,0,104,1],[101,5,101,6],[102,5,102,6],[103,5,103,6],[104,2,104,6],[105,0,105,6]]}
["SRC #32: Compliance History - Part 1",{"$nulls":3},"Back to Respondent Information"]
[]
["Item",null,"Score",null,"Go to Scoring Table"]
["Total Points Possible Part 1:",null,297]
["Points Earned Part 1:",null,{"$f":"H106","v":0},null,"I attest that the information entered into this sheet is complete and accurate.",{"$nulls":56},"Yes"]
[{"$nulls":61},"No"]
[{"$f":"'Respondent Information'!C6","v":0},{"$nulls":17},{"$f":"'Respondent Information'!C9","v":0},{"$nulls":17},{"$f":"'Respondent Information'!C12","v":0}]
[{"$f":"'Respondent Information'!E6","v":0},{"$nulls":17},{"$f":"'Respondent Information'!E9","v":0},{"$nulls":17},{"$f":"'Respondent Information'!E12","v":0}]
[{"$f":"'Respondent Information'!I5","v":0},{"$nulls":5},{"$f":"'Respondent Information'!K5","v":0},{"$nulls":5},{"$f":"'Respondent Information'!M5","v":0},{"$nulls":5},{"$f":"'Respondent Information'!I9","v":0},{"$nulls":5},{"$f":"'Respondent Information'!K9","v":0},{"$nulls":5},{"$f":"'Respondent Information'!M9","v":0},{"$nulls":5},{"$f":"'Respondent Information'!I12","v":0},{"$nulls":5},{"$f":"'Respondent Information'!K12","v":0},{"$nulls":5},{"$f":"'Respondent Information'!M12","v":0}]
["Liquidated Damages",{"$nulls":5},"Liquidated Damages",{"$nulls":5},"Liquidated Damages",{"$nulls":5},"Liquidated Damages",{"$nulls":5},"Liquidated Damages",{"$nulls":5},"Liquidated Damages",{"$nulls":5},"Liquidated Damages",{"$nulls":5},"Liquidated Damages",{"$nulls":5},"Liquidated Damages"]
["#","Administrative or Access Issue","Adminstrative or Covered Service Type",null,"Date Imposed","Imposed Amount","#","Administrative or Access Issue","Adminstrative or Covered Service Type",null,"Date Imposed","Imposed Amount","#","Administrative or Access Issue","Adminstrative or Covered Service Type",null,"Date Imposed","Imposed Amount","#","Administrative or Access Issue","Adminstrative or Covered Service Type",null,"Date Imposed","Imposed Amount","#","Administrative or Access Issue","Adminstrative or Covered Service Type",null,"Date Imposed","Imposed Amount","#","Administrative or Access Issue","Adminstrative or Covered Service Type",null,"Date Imposed","Imposed Amount","#","Administrative or Access Issue","Adminstrative or Covered Service Type",null,"Date Imposed","Imposed Amount","#","Administrative or Access Issue","Adminstrative or Covered Service Type",null,"Date Imposed","Imposed Amount","#","Administrative or Access Issue","Adminstrative or Covered Service Type",null,"Date Imposed","Imposed Amount"]
[1,{"$nulls":5},1,{"$nulls":5},1,{"$nulls":5},1,{"$nulls":5},1,{"$nulls":5},1,{"$nulls":5},1,{"$nulls":5},1,{"$nulls":5},1]
[2,{"$nulls":5},2,{"$nulls":5},2,{"$nulls":5},2,{"$nulls":5},2,{"$nulls":5},2,{"$nulls":5},2,{"$nulls":5},2,{"$nulls":5},2]
[3,{"$nulls":5},3,{"$nulls":5},3,{"$nulls":5},3,{"$nulls":5},3,{"$nulls":5},3,{"$nulls":5},3,{"$nulls":5},3,{"$nulls":5},3]
[4,{"$nulls":5},4,{"$nulls":5},4,{"$nulls":5},4,{"$nulls":5},4,{"$nulls":5},4,{"$nulls":5},4,{"$nulls":5},4,{"$nulls":5},4]
[5,{"$nulls":5},5,{"$nulls":5},5,{"$nulls":5},5,{"$nulls":5},5,{"$nulls":5},5,{"$nulls":5},5,{"$nulls":5},5,{"$nulls":5},5]
[6,{"$nulls":5},6,{"$nulls":5},6,{"$nulls":5},6,{"$nulls":5},6,{"$nulls":5},6,{"$nulls":5},6,{"$nulls":5},6,{"$nulls":5},6]
[7,{"$nulls":5},7,{"$nulls":5},7,{"$nulls":5},7,{"$nulls":5},7,{"$nulls":5},7,{"$nulls":5},7,{"$nulls":5},7,{"$nulls":5},7]
[8,{"$nulls":5},8,{"$nulls":5},8,{"$nulls":5},8,{"$nulls":5},8,{"$nulls":5},8,{"$nulls":5},8,{"$nulls":5},8,{"$nulls":5},8]
[9,{"$nulls":5},9,{"$nulls":5},9,{"$nulls":5},9,{"$nulls":5},9,{"$nulls":5},9,{"$nulls":5},9,{"$nulls":5},9,{"$nulls":5},9]
[10,{"$nulls":5},10,{"$nulls":5},10,{"$nulls":5},10,{"$nulls":5},10,{"$nulls":5},10,{"$nulls":5},10,{"$nulls":5},10,{"$nulls":5},10]
[11,{"$nulls":5},11,{"$nulls":5},11,{"$nulls":5},11,{"$nulls":5},11,{"$nulls":5},11,{"$nulls":5},11,{"$nulls":5},11,{"$nulls":5},11]
[12,{"$nulls":5},12,{"$nulls":5},12,{"$nulls":5},12,{"$nulls":5},12,{"$nulls":5},12,{"$nulls":5},12,{"$nulls":5},12,{"$nulls":5},12]
[13,{"$nulls":5},13,{"$nulls":5},13,{"$nulls":5},13,{"$nulls":5},13,{"$nulls":5},13,{"$nulls":5},13,{"$nulls":5},13,{"$nulls":5},13]
[14,{"$nulls":5},14,{"$nulls":5},14,{"$nulls":5},14,{"$nulls":5},14,{"$nulls":5},14,{"$nulls":5},14,{"$nulls":5},14,{"$nulls":5},14]
[15,{"$nulls":5},15,{"$nulls":5},15,{"$nulls":5},15,{"$nulls":5},15,{"$nulls":5},15,{"$nulls":5},15,{"$nulls":5},15,{"$nulls":5},15]
[16,{"$nulls":5},16,{"$nulls":5},16,{"$nulls":5},16,{"$nulls":5},16,{"$nulls":5},16,{"$nulls":5},16,{"$nulls":5},16,{"$nulls":5},16]
[17,{"$nulls":5},17,{"$nulls":5},17,{"$nulls":5},17,{"$nulls":5},17,{"$nulls":5},17,{"$nulls":5},17,{"$nulls":5},17,{"$nulls":5},17]
[18,{"$nulls":5},18,{"$nulls":5},18,{"$nulls":5},18,{"$nulls":5},18,{"$nulls":5},18,{"$nulls":5},18,{"$nulls":5},18,{"$nulls":5},18]
[19,{"$nulls":5},19,{"$nulls":5},19,{"$nulls":5},19,{"$nulls":5},19,{"$nulls":5},19,{"$nulls":5},19,{"$nulls":5},19,{"$nulls":5},19]
[20,{"$nulls":5},20,{"$nulls":5},20,{"$nulls":5},20,{"$nulls":5},20,{"$nulls":5},20,{"$nulls":5},20,{"$nulls":5},20,{"$nulls":5},20]
[21,{"$nulls":5},21,{"$nulls":5},21,{"$nulls":5},21,{"$nulls":5},21,{"$nulls":5},21,{"$nulls":5},21,{"$nulls":5},21,{"$nulls":5},21]
[22,{"$nulls":5},22,{"$nulls":5},22,{"$nulls":5},22,{"$nulls":5},22,{"$nulls":5},22,{"$nulls":5},22,{"$nulls":5},22,{"$nulls":5},22]
[23,{"$nulls":5},23,{"$nulls":5},23,{"$nulls":5},23,{"$nulls":5},23,{"$nulls":5},23,{"$nulls":5},23,{"$nulls":5},23,{"$nulls":5},23]
[24,{"$nulls":5},24,{"$nulls":5},24,{"$nulls":5},24,{"$nulls":5},24,{"$nulls":5},24,{"$nulls":5},24,{"$nulls":5},24,{"$nulls":5},24]
[25,{"$nulls":5},25,{"$nulls":5},25,{"$nulls":5},25,{"$nulls":5},25,{"$nulls":5},25,{"$nulls":5},25,{"$nulls":5},25,{"$nulls":5},25]
[26,{"$nulls":5},26,{"$nulls":5},26,{"$nulls":5},26,{"$nulls":5},26,{"$nulls":5},26,{"$nulls":5},26,{"$nulls":5},26,{"$nulls":5},26]
[27,{"$nulls":5},27,{"$nulls":5},27,{"$nulls":5},27,{"$nulls":5},27,{"$nulls":5},27,{"$nulls":5},27,{"$nulls":5},27,{"$nulls":5},27]
[28,{"$nulls":5},28,{"$nulls":5},28,{"$nulls":5},28,{"$nulls":5},28,{"$nulls":5},28,{"$nulls":5},28,{"$nulls":5},28,{"$nulls":5},28]
[29,{"$nulls":5},29,{"$nulls":5},29,{"$nulls":5},29,{"$nulls":5},29,{"$nulls":5},29,{"$nulls":5},29,{"$nulls":5},29,{"$nulls":5},29]
[30,{"$nulls":5},30,{"$nulls":5},30,{"$nulls":5},30,{"$nulls":5},30,{"$nulls":5},30,{"$nulls":5},30,{"$nulls":5},30,{"$nulls":5},30]
[31,{"$nulls":5},31,{"$nulls":5},31,{"$nulls":5},31,{"$nulls":5},31,{"$nulls":5},31,{"$nulls":5},31,{"$nulls":5},31,{"$nulls":5},31]
[32,{"$nulls":5},32,{"$nulls":5},32,{"$nulls":5},32,{"$nulls":5},32,{"$nulls":5},32,{"$nulls":5},32,{"$nulls":5},32,{"$nulls":5},32]
[33,{"$nulls":5},33,{"$nulls":5},33,{"$nulls":5},33,{"$nulls":5},33,{"$nulls":5},33,{"$nulls":5},33,{"$nulls":5},33,{"$nulls":5},33]
[34,{"$nulls":5},34,{"$nulls":5},34,{"$nulls":5},34,{"$nulls":5},34,{"$nulls":5},34,{"$nulls":5},34,{"$nulls":5},34,{"$nulls":5},34]
[35,{"$nulls":5},35,{"$nulls":5},35,{"$nulls":5},35,{"$nulls":5},35,{"$nulls":5},35,{"$nulls":5},35,{"$nulls":5},35,{"$nulls":5},35]
[36,{"$nulls":5},36,{"$nulls":5},36,{"$nulls":5},36,{"$nulls":5},36,{"$nulls":5},36,{"$nulls":5},36,{"$nulls":5},36,{"$nulls":5},36]
[37,{"$nulls":5},37,{"$nulls":5},37,{"$nulls":5},37,{"$nulls":5},37,{"$nulls":5},37,{"$nulls":5},37,{"$nulls":5},37,{"$nulls":5},37]
[38,{"$nulls":5},38,{"$nulls":5},38,{"$nulls":5},38,{"$nulls":5},38,{"$nulls":5},38,{"$nulls":5},38,{"$nulls":5},38,{"$nulls":5},38]
[39,{"$nulls":5},39,{"$nulls":5},39,{"$nulls":5},39,{"$nulls":5},39,{"$nulls":5},39,{"$nulls":5},39,{"$nulls":5},39,{"$nulls":5},39]
[40,{"$nulls":5},40,{"$nulls":5},40,{"$nulls":5},40,{"$nulls":5},40,{"$nulls":5},40,{"$nulls":5},40,{"$nulls":5},40,{"$nulls":5},40]
[41,{"$nulls":5},41,{"$nulls":5},41,{"$nulls":5},41,{"$nulls":5},41,{"$nulls":5},41,{"$nulls":5},41,{"$nulls":5},41,{"$nulls":5},41]
[42,{"$nulls":5},42,{"$nulls":5},42,{"$nulls":5},42,{"$nulls":5},42,{"$nulls":5},42,{"$nulls":5},42,{"$nulls":5},42,{"$nulls":5},42]
[43,{"$nulls":5},43,{"$nulls":5},43,{"$nulls":5},43,{"$nulls":5},43,{"$nulls":5},43,{"$nulls":5},43,{"$nulls":5},43,{"$nulls":5},43]
[44,{"$nulls":5},44,{"$nulls":5},44,{"$nulls":5},44,{"$nulls":5},44,{"$nulls":5},44,{"$nulls":5},44,{"$nulls":5},44,{"$nulls":5},44]
[45,{"$nulls":5},45,{"$nulls":5},45,{"$nulls":5},45,{"$nulls":5},45,{"$nulls":5},45,{"$nulls":5},45,{"$nulls":5},45,{"$nulls":5},45]
[46,{"$nulls":5},46,{"$nulls":5},46,{"$nulls":5},46,{"$nulls":5},46,{"$nulls":5},46,{"$nulls":5},46,{"$nulls":5},46,{"$nulls":5},46]
[47,{"$nulls":5},47,{"$nulls":5},47,{"$nulls":5},47,{"$nulls":5},47,{"$nulls":5},47,{"$nulls":5},47,{"$nulls":5},47,{"$nulls":5},47]
[48,{"$nulls":5},48,{"$nulls":5},48,{"$nulls":5},48,{"$nulls":5},48,{"$nulls":5},48,{"$nulls":5},48,{"$nulls":5},48,{"$nulls":5},48]
[49,{"$nulls":5},49,{"$nulls":5},49,{"$nulls":5},49,{"$nulls":5},49,{"$nulls":5},49,{"$nulls":5},49,{"$nulls":5},49,{"$nulls":5},49]
[50,{"$nulls":5},50,{"$nulls":5},50,{"$nulls":5},50,{"$nulls":5},50,{"$nulls":5},50,{"$nulls":5},50,{"$nulls":5},50,{"$nulls":5},50]
[51,{"$nulls":5},51,{"$nulls":5},51,{"$nulls":5},51,{"$nulls":5},51,{"$nulls":5},51,{"$nulls":5},51,{"$nulls":5},51,{"$nulls":5},51]
[52,{"$nulls":5},52,{"$nulls":5},52,{"$nulls":5},52,{"$nulls":5},52,{"$nulls":5},52,{"$nulls":5},52,{"$nulls":5},52,{"$nulls":5},52]
[53,{"$nulls":5},53,{"$nulls":5},53,{"$nulls":5},53,{"$nulls":5},53,{"$nulls":5},53,{"$nulls":5},53,{"$nulls":5},53,{"$nulls":5},53]
[54,{"$nulls":5},54,{"$nulls":5},54,{"$nulls":5},54,{"$nulls":5},54,{"$nulls":5},54,{"$nulls":5},54,{"$nulls":5},54,{"$nulls":5},54]
[55,{"$nulls":5},55,{"$nulls":5},55,{"$nulls":5},55,{"$nulls":5},55,{"$nulls":5},55,{"$nulls":5},55,{"$nulls":5},55,{"$nulls":5},55]
[56,{"$nulls":5},56,{"$nulls":5},56,{"$nulls":5},56,{"$nulls":5},56,{"$nulls":5},56,{"$nulls":5},56,{"$nulls":5},56,{"$nulls":5},56]
[57,{"$nulls":5},57,{"$nulls":5},57,{"$nulls":5},57,{"$nulls":5},57,{"$nulls":5},57,{"$nulls":5},57,{"$nulls":5},57,{"$nulls":5},57]
[58,{"$nulls":5},58,{"$nulls":5},58,{"$nulls":5},58,{"$nulls":5},58,{"$nulls":5},58,{"$nulls":5},58,{"$nulls":5},58,{"$nulls":5},58]
[59,{"$nulls":5},59,{"$nulls":5},59,{"$nulls":5},59,{"$nulls":5},59,{"$nulls":5},59,{"$nulls":5},59,{"$nulls":5},59,{"$nulls":5},59]
[60,{"$nulls":5},60,{"$nulls":5},60,{"$nulls":5},60,{"$nulls":5},60,{"$nulls":5},60,{"$nulls":5},60,{"$nulls":5},60,{"$nulls":5},60]
["Annual Revenue:",{"$nulls":5},"Annual Revenue:",{"$nulls":5},"Annual Revenue:",{"$nulls":5},"Annual Revenue:",{"$nulls":5},"Annual Revenue:",{"$nulls":5},"Annual Revenue:",{"$nulls":5},"Annual Revenue:",{"$nulls":5},"Annual Revenue:",{"$nulls":5},"Annual Revenue:"]
["Percent of Total Revenue:",{"$nulls":4},{"$f":"IFERROR(SUM(F12:F71)/F72,\"--\")","v":"--"},"Percent of Total Revenue:",{"$nulls":4},{"$f":"IFERROR(SUM(L12:L71)/L72,\"--\")","v":"--"},"Percent of Total Revenue:",{"$nulls":4},{"$f":"IFERROR(SUM(R12:R71)/R72,\"--\")","v":"--"},"Percent of Total Revenue:",{"$nulls":4},{"$f":"IFERROR(SUM(X12:X71)/X72,\"--\")","v":"--"},"Percent of Total Revenue:",{"$nulls":4},{"$f":"IFERROR(SUM(AD12:AD71)/AD72,\"--\")","v":"--"},"Percent of Total Revenue:",{"$nulls":4},{"$f":"IFERROR(SUM(AJ12:AJ71)/AJ72,\"--\")","v":"--"},"Percent of Total Revenue:",{"$nulls":4},{"$f":"IFERROR(SUM(AP12:AP71)/AP72,\"--\")","v":"--"},"Percent of Total Revenue:",{"$nulls":4},{"$f":"IFERROR(SUM(AV12:AV71)/AV72,\"--\")","v":"--"},"Percent of Total Revenue:",{"$nulls":4},{"$f":"IFERROR(SUM(BB12:BB71)/BB72,\"--\")","v":"--"}]
["Sanctions",{"$nulls":5},"Sanctions",{"$nulls":5},"Sanctions",{"$nulls":5},"Sanctions",{"$nulls":5},"Sanctions",{"$nulls":5},"Sanctions",{"$nulls":5},"Sanctions",{"$nulls":5},"Sanctions",{"$nulls":5},"Sanctions"]
["#","Administrative or Access Issue","Adminstrative or Covered Service Type",null,"Date Imposed","Imposed Amount","#","Administrative or Access Issue","Adminstrative or Covered Service Type",null,"Date Imposed","Imposed Amount","#","Administrative or Access Issue","Adminstrative or Covered Service Type",null,"Date Imposed","Imposed Amount","#","Administrative or Access Issue","Adminstrative or Covered Service Type",null,"Date Imposed","Imposed Amount","#","Administrative or Access Issue","Adminstrative or Covered Service Type",null,"Date Imposed","Imposed Amount","#","Administrative or Access Issue","Adminstrative or Covered Service Type",null,"Date Imposed","Imposed Amount","#","Administrative or Access Issue","Adminstrative or Covered Service Type",null,"Date Imposed","Imposed Amount","#","Administrative or Access Issue","Adminstrative or Covered Service Type",null,"Date Imposed","Imposed Amount","#","Administrative or Access Issue","Adminstrative or Covered Service Type",null,"Date Imposed","Imposed Amount"]
[1,{"$nulls":5},1,{"$nulls":5},1,{"$nulls":5},1,{"$nulls":5},1,{"$nulls":5},1,{"$nulls":5},1,{"$nulls":5},1,{"$nulls":5},1]
[2,{"$nulls":5},2,{"$nulls":5},2,{"$nulls":5},2,{"$nulls":5},2,{"$nulls":5},2,{"$nulls":5},2,{"$nulls":5},2,{"$nulls":5},2]
[3,{"$nulls":5},3,{"$nulls":5},3,{"$nulls":5},3,{"$nulls":5},3,{"$nulls":5},3,{"$nulls":5},3,{"$nulls":5},3,{"$nulls":5},3]
[4,{"$nulls":5},4,{"$nulls":5},4,{"$nulls":5},4,{"$nulls":5},4,{"$nulls":5},4,{"$nulls":5},4,{"$nulls":5},4,{"$nulls":5},4]
[5,{"$nulls":5},5,{"$nulls":5},5,{"$nulls":5},5,{"$nulls":5},5,{"$nulls":5},5,{"$nulls":5},5,{"$nulls":5},5,{"$nulls":5},5]
["CAPS",{"$nulls":5},"CAPS",{"$nulls":5},"CAPS",{"$nulls":5},"CAPS",{"$nulls":5},"CAPS",{"$nulls":5},"CAPS",{"$nulls":5},"CAPS",{"$nulls":5},"CAPS",{"$nulls":5},"CAPS"]
["#","Administrative or Access Issue","Adminstrative or Covered Service Type",null,"Date Imposed","Imposed Amount","#","Administrative or Access Issue","Adminstrative or Covered Service Type",null,"Date Imposed","Imposed Amount","#","Administrative or Access Issue","Adminstrative or Covered Service Type",null,"Date Imposed","Imposed Amount","#","Administrative or Access Issue","Adminstrative or Covered Service Type",null,"Date Imposed","Imposed Amount","#","Administrative or Access Issue","Adminstrative or Covered Service Type",null,"Date Imposed","Imposed Amount","#","Administrative or Access Issue","Adminstrative or Covered Service Type",null,"Date Imposed","Imposed Amount","#","Administrative or Access Issue","Adminstrative or Covered Service Type",null,"Date Imposed","Imposed Amount","#","Administrative or Access Issue","Adminstrative or Covered Service Type",null,"Date Imposed","Imposed Amount","#","Administrative or Access Issue","Adminstrative or Covered Service Type",null,"Date Imposed","Imposed Amount"]
[1,{"$nulls":5},1,{"$nulls":5},1,{"$nulls":5},1,{"$nulls":5},1,{"$nulls":5},1,{"$nulls":5},1,{"$nulls":5},1,{"$nulls":5},1]
[2,{"$nulls":5},2,{"$nulls":5},2,{"$nulls":5},2,{"$nulls":5},2,{"$nulls":5},2,{"$nulls":5},2,{"$nulls":5},2,{"$nulls":5},2]
[3,{"$nulls":5},3,{"$nulls":5},3,{"$nulls":5},3,{"$nulls":5},3,{"$nulls":5},3,{"$nulls":5},3,{"$nulls":5},3,{"$nulls":5},3]
[4,{"$nulls":5},4,{"$nulls":5},4,{"$nulls":5},4,{"$nulls":5},4,{"$nulls":5},4,{"$nulls":5},4,{"$nulls":5},4,{"$nulls":5},4]
[5,{"$nulls":5},5,{"$nulls":5},5,{"$nulls":5},5,{"$nulls":5},5,{"$nulls":5},5,{"$nulls":5},5,{"$nulls":5},5,{"$nulls":5},5]
[]
[]
[]
["Scores: ",{"$nulls":4},"Back to Top"]
[]
["State",null,"Criteria","Points Available Per Year","Points Earned: Year 1","Points Earned: Year 2",null,"Points Earned: Year 3"]
[{"$f":"'Respondent Information'!C6","v":0},null,"Total Liquidated Damages/ Contract Revenue",5,{"$f":"IF(F5<>\"Yes\",0,IF(F73=\"--\",5,IF(F73>=0.002,0,IF(F73>0.00099,3,5))))","v":0},{"$f":"IF($F$5<>\"Yes\", 0, IF(L73=\"--\",5,IF(L73>=0.002,0,IF(L73>0.00099,3,5))))","v":0},null,{"$f":"IF($F$5<>\"Yes\", 0, IF(R73=\"--\", 5, IF(R73>=0.002, 0, IF(R73>0.00099, 3, 5))))","v":0}]
[null,null,"Sanctions",20,{"$f":"IF($F$5<>\"Yes\",0,IF(K126>0,0,20))","v":0},{"$f":"IF($F$5<>\"Yes\", 0, IF(L126>0, 0, 20))","v":0},null,{"$f":"IF($F$5<>\"Yes\", 0, IF(M126>0, 0, 20))","v":0}]
[null,null,"CAPS",8,{"$f":"IF($F$5<>\"Yes\", 0, IF(K136>0, 0, 8))","v":0},{"$f":"IF($F$5<>\"Yes\", 0, IF(L136>0, 0, 8))","v":0},null,{"$f":"IF($F$5<>\"Yes\", 0, IF(M136>0, 0, 8))","v":0}]
[null,null,"State Points Earned:",{"$nulls":4},{"$f":"SUM(E94:H96)","v":0}]
[{"$f":"'Respondent Information'!C9","v":0},null,"Total Liquidated Damages/ Contract Revenue",5,{"$f":"IF($F$5<>\"Yes\", 0, IF(X73=\"--\", 5, IF(X73>=0.002, 0, IF(X73>0.00099, 3, 5))))","v":0},{"$f":"IF($F$5<>\"Yes\", 0, IF(AD73=\"--\", 5, IF(AD73>=0.002, 0, IF(AD73>0.00099, 3, 5))))","v":0},null,{"$f":"IF($F$5<>\"Yes\", 0, IF(AJ73=\"--\", 5, IF(AJ73>=0.002, 0, IF(AJ73>0.00099, 3, 5))))","v":0}]
[null,null,"Sanctions",20,{"$f":"IF($F$5<>\"Yes\", 0, IF(N126>0, 0, 20))","v":0},{"$f":"IF($F$5<>\"Yes\", 0,IF(O126>0, 0, 20))","v":0},null,{"$f":"IF($F$5<>\"Yes\", 0, IF(P126>0, 0, 20))","v":0}]
[null,null,"CAPS",8,{"$f":"IF($F$5<>\"Yes\", 0, IF(N136>0, 0, 8))","v":0},{"$f":"IF($F$5<>\"Yes\", 0,IF(O136>0, 0, 8))","v":0},null,{"$f":"IF($F$5<>\"Yes\", 0,IF(P136>0, 0, 8))","v":0}]
[null,null,"State Points Earned:",{"$nulls":4},{"$f":"SUM(E98:H100)","v":0}]
[{"$f":"'Respondent Information'!C12","v":0},null,"Total Liquidated Damages/ Contract Revenue",5,{"$f":"IF($F$5<>\"Yes\", 0,IF(AP73=\"--\", 5, IF(AP73>=0.002, 0, IF(AP73>0.00099, 3, 5))))","v":0},{"$f":"IF($F$5<>\"Yes\", 0,IF(AV73=\"--\", 5, IF(AV73>=0.002, 0, IF(AV73>0.00099, 3, 5))))","v":0},null,{"$f":"IF($F$5<>\"Yes\", 0,IF(BB73=\"--\", 5, IF(BB73>=0.002, 0, IF(BB73>0.00099, 3, 5))))","v":0}]
[null,null,"Sanctions",20,{"$f":"IF($F$5<>\"Yes\", 0,IF(Q126>0, 0, 20))","v":0},{"$f":"IF($F$5<>\"Yes\", 0, IF(R126>0, 0, 20))","v":0},null,{"$f":"IF($F$5<>\"Yes\", 0, IF(S126>0, 0,20))","v":0}]
[null,null,"CAPS",8,{"$f":"IF($F$5<>\"Yes\", 0, IF(Q136>0, 0, 8))","v":0},{"$f":"IF($F$5<>\"Yes\", 0, IF(R136>0, 0, 8))","v":0},null,{"$f":"IF($F$5<>\"Yes\", 0, IF(S136>0, 0, 8))","v":0}]
[null,null,"State Points Earned:",{"$nulls":4},{"$f":"SUM(E102:H104)","v":0}]
["Total Points Earned:",{"$nulls":6},{"$f":"IF(OR(F5=\"No\", ISBLANK(F5)), 0, SUM(H97,H101,H105))","v":0}]
{"$rows_empty":12}
[{"$nulls":10},"Sanctions"]
[{"$nulls":10},"State 1 Year 1","State 1 Year 2","State 1 Year 3","State 2 Year 1","State 2 Year 2","State 2 Year 3","State 3 Year 1","State 3 Year 2","State 3 Year 3"]
[null,"Administrative Issue","Access Issue",{"$nulls":7},{"$f":"IF(ISBLANK(F76), 0, 1)","v":0},{"$f":"IF(ISBLANK(L76), 0, 1)","v":0},{"$f":"IF(ISBLANK(R76), 0, 1)","v":0},{"$f":"IF(ISBLANK(X76), 0, 1)","v":0},{"$f":"IF(ISBLANK(AD76), 0, 1)","v":0},{"$f":"IF(ISBLANK(AJ76), 0, 1)","v":0},{"$f":"IF(ISBLANK(AP76), 0, 1)","v":0},{"$f":"IF(ISBLANK(AV76), 0, 1)","v":0},{"$f":"IF(ISBLANK(BB76), 0, 1)","v":0}]
[null,"Fraud and Abuse","Coverage and Authorization of Services",{"$nulls":7},{"$f":"IF(ISBLANK(F77), 0, 1)","v":0},{"$f":"IF(ISBLANK(L77), 0, 1)","v":0},{"$f":"IF(ISBLANK(R77), 0, 1)","v":0},{"$f":"IF(ISBLANK(X77), 0, 1)","v":0},{"$f":"IF(ISBLANK(AD77), 0, 1)","v":0},{"$f":"IF(ISBLANK(AJ77), 0, 1)","v":0},{"$f":"IF(ISBLANK(AP77), 0, 1)","v":0},{"$f":"IF(ISBLANK(AV77), 0, 1)","v":0},{"$f":"IF(ISBLANK(BB77), 0, 1)","v":0}]
[null,"IT/Systems Issue","Care Coordination and/or Case Management",{"$nulls":7},{"$f":"IF(ISBLANK(F78), 0, 1)","v":0},{"$f":"IF(ISBLANK(L78), 0, 1)","v":0},{"$f":"IF(ISBLANK(R78), 0, 1)","v":0},{"$f":"IF(ISBLANK(X78), 0, 1)","v":0},{"$f":"IF(ISBLANK(AD78), 0, 1)","v":0},{"$f":"IF(ISBLANK(AJ78), 0, 1)","v":0},{"$f":"IF(ISBLANK(AP78), 0, 1)","v":0},{"$f":"IF(ISBLANK(AV78), 0, 1)","v":0},{"$f":"IF(ISBLANK(BB78), 0, 1)","v":0}]
[null,"Untimely Reporting","Admissions and Discharge Issues",{"$nulls":7},{"$f":"IF(ISBLANK(F79), 0, 1)","v":0},{"$f":"IF(ISBLANK(L79), 0, 1)","v":0},{"$f":"IF(ISBLANK(R79), 0, 1)","v":0},{"$f":"IF(ISBLANK(X79), 0, 1)","v":0},{"$f":"IF(ISBLANK(AD79), 0, 1)","v":0},{"$f":"IF(ISBLANK(AJ79), 0, 1)","v":0},{"$f":"IF(ISBLANK(AP79), 0, 1)","v":0},{"$f":"IF(ISBLANK(AV79), 0, 1)","v":0},{"$f":"IF(ISBLANK(BB79), 0, 1)","v":0}]
[null,"Inaccurate Reporting","Claims Payment",{"$nulls":7},{"$f":"IF(ISBLANK(F80), 0, 1)","v":0},{"$f":"IF(ISBLANK(L80), 0, 1)","v":0},{"$f":"IF(ISBLANK(R80), 0, 1)","v":0},{"$f":"IF(ISBLANK(X80), 0, 1)","v":0},{"$f":"IF(ISBLANK(AD80), 0, 1)","v":0},{"$f":"IF(ISBLANK(AJ80), 0, 1)","v":0},{"$f":"IF(ISBLANK(AP80), 0, 1)","v":0},{"$f":"IF(ISBLANK(AV80), 0, 1)","v":0},{"$f":"IF(ISBLANK(BB80), 0, 1)","v":0}]
[null,"Subcontractor Related","Networks",{"$nulls":7},{"$f":"SUM(K121:K125)","v":0},{"$f":"SUM(L121:L125)","v":0},0,0,0,0,0,0,0]
[]
[]
[{"$nulls":10},"CAPs"]
[{"$nulls":10},"State 1 Year 1","State 1 Year 2","State 1 Year 3","State 2 Year 1","State 2 Year 2","State 2 Year 3","State 3 Year 1","State 3 Year 2","State 3 Year 3"]
[{"$nulls":10},{"$f":"IF(ISBLANK(F83), 0, 1)","v":0},{"$f":"IF(ISBLANK(L83), 0, 1)","v":0},{"$f":"IF(ISBLANK(R83), 0, 1)","v":0},{"$f":"IF(ISBLANK(X83), 0, 1)","v":0},{"$f":"IF(ISBLANK(AD83), 0, 1)","v":0},{"$f":"IF(ISBLANK(AJ83), 0, 1)","v":0},{"$f":"IF(ISBLANK(AP83), 0, 1)","v":0},{"$f":"IF(ISBLANK(AV83), 0, 1)","v":0},{"$f":"IF(ISBLANK(BB83), 0, 1)","v":0}]
[{"$nulls":10},{"$f":"IF(ISBLANK(F84), 0, 1)","v":0},{"$f":"IF(ISBLANK(L84), 0, 1)","v":0},{"$f":"IF(ISBLANK(R84), 0, 1)","v":0},{"$f":"IF(ISBLANK(X84), 0, 1)","v":0},{"$f":"IF(ISBLANK(AD84), 0, 1)","v":0},{"$f":"IF(ISBLANK(AJ84), 0, 1)","v":0},{"$f":"IF(ISBLANK(AP84), 0, 1)","v":0},{"$f":"IF(ISBLANK(AV84), 0, 1)","v":0},{"$f":"IF(ISBLANK(BB84), 0, 1)","v":0}]
[{"$nulls":10},{"$f":"IF(ISBLANK(F85), 0, 1)","v":0},{"$f":"IF(ISBLANK(L85), 0, 1)","v":0},{"$f":"IF(ISBLANK(R85), 0, 1)","v":0},{"$f":"IF(ISBLANK(X85), 0, 1)","v":0},{"$f":"IF(ISBLANK(AD85), 0, 1)","v":0},{"$f":"IF(ISBLANK(AJ85), 0, 1)","v":0},{"$f":"IF(ISBLANK(AP85), 0, 1)","v":0},{"$f":"IF(ISBLANK(AV85), 0, 1)","v":0},{"$f":"IF(ISBLANK(BB85), 0, 1)","v":0}]
[{"$nulls":10},{"$f":"IF(ISBLANK(F86), 0, 1)","v":0},{"$f":"IF(ISBLANK(L86), 0, 1)","v":0},{"$f":"IF(ISBLANK(R86), 0, 1)","v":0},{"$f":"IF(ISBLANK(X86), 0, 1)","v":0},{"$f":"IF(ISBLANK(AD86), 0, 1)","v":0},{"$f":"IF(ISBLANK(AJ86), 0, 1)","v":0},{"$f":"IF(ISBLANK(AP86), 0, 1)","v":0},{"$f":"IF(ISBLANK(AV86), 0, 1)","v":0},{"$f":"IF(ISBLANK(BB86), 0, 1)","v":0}]
[{"$nulls":10},{"$f":"IF(ISBLANK(F87), 0, 1)","v":0},{"$f":"IF(ISBLANK(L87), 0, 1)","v":0},{"$f":"IF(ISBLANK(R87), 0, 1)","v":0},{"$f":"IF(ISBLANK(X87), 0, 1)","v":0},{"$f":"IF(ISBLANK(AD87), 0, 1)","v":0},{"$f":"IF(ISBLANK(AJ87), 0, 1)","v":0},{"$f":"IF(ISBLANK(AP87), 0, 1)","v":0},{"$f":"IF(ISBLANK(AV87), 0, 1)","v":0},{"$f":"IF(ISBLANK(BB87), 0, 1)","v":0}]
[{"$nulls":10},{"$f":"SUM(K131:K135)","v":0},{"$f":"SUM(L131:L135)","v":0},0,0,0,0,0,0,0]

{"sheet":"Compliance-Terminations","index":33,"n_rows":66,"n_cols":13,"rows_kept":66,"merged":[[0,0,0,2],[2,0,2,1],[2,4,2,5],[3,0,3,1],[4,0,4,1],[5,0,5,1],[6,0,6,1],[7,0,7,1],[8,0,8,1],[35,0,35,2]]}
["SRC #32 (Continued): Compliance History - Part 2 (Terminations)",{"$nulls":3},"Back to Respondent Information"]
[]
["Item",null,"Score"]
["Total Points Possible Part 2: ",null,50]
["Points Earned Part 2:",null,{"$f":"C39","v":0}]
["Total Compliance Points (Part 1 & Part 2):",null,{"$f":"Compliance!C5+'Compliance-Terminations'!C5","v":0}]
["Percent:",null,{"$f":"C6/(Compliance!C4+'Compliance-Terminations'!C4)","v":{"v":0,"d":"0%"}}]
["Final Score Possible:",null,250]
["Compliance History SRC Final Score:",null,{"$f":"C7*C8","v":0}]
[]
["Contract Name","Contract Type","Termination Type","Date of Action","Client/Other Party Name","Client/Other Party Address","Client/Other Party Phone Number","Reason for Termination","Respondent Affiliates","Respondent Subsidiaries","Parent Organization","Parent Organization's Affiliates","Parent Organization's Subsidiaries"]
{"$rows_empty":24}
["Scores: "]
[]
["Criteria","Points Available","Points Earned"]
["Number of Terminations",50,{"$f":"IF(OR(Compliance!F5=\"No\", ISBLANK(Compliance!F5)),0,IF(Compliance!A9=0,0,IF(E66=0,50,0)))","v":0}]
[]
[]
[]
[]
[]
[{"$nulls":4},{"$f":"IF(ISBLANK(C12), 0, 1)","v":0}]
[{"$nulls":4},{"$f":"IF(ISBLANK(C13), 0, 1)","v":0}]
[{"$nulls":4},0]
[{"$nulls":4},0]
[{"$nulls":4},0]
[{"$nulls":4},0]
["Partial Termination",{"$nulls":3},0]
["Full Termination",{"$nulls":3},0]
["Withdrawn",{"$nulls":3},0]
["Enrollment Reduction Request",{"$nulls":3},0]
[{"$nulls":4},0]
[{"$nulls":4},0]
[{"$nulls":4},0]
[{"$nulls":4},0]
[{"$nulls":4},0]
[{"$nulls":4},0]
[{"$nulls":4},0]
[{"$nulls":4},0]
[{"$nulls":4},0]
[{"$nulls":4},0]
[{"$nulls":4},0]
[{"$nulls":4},{"$f":"SUM(E45:E65)","v":0}]

{"sheet":"Scoring-Florida Presence","index":34,"n_rows":3,"n_cols":1,"rows_kept":3,"merged":[[2,0,2,3]]}
["SRC #33: Florida Presence Scoring Information"]
[]
["Back to Respondent Information"]

{"sheet":"Florida Presence","index":35,"n_rows":33,"n_cols":13,"rows_kept":33,"merged":[[20,0,20,1],[32,0,32,1]]}
["SRC #33: Florida Presence",null,"Back to Respondent Information"]
[]
["Item","Score"]
["Total Points Possible:",100]
["Points Earned:",{"$f":"C33","v":0}]
["Percent:",{"$f":"B5/B4","v":{"v":0,"d":"0%"}}]
["Final Score Possible:",100]
["Florida Presence SRC Final Score:",{"$f":"B6*B7","v":0}]
[]
["Function","Presence in Florida",{"$nulls":9},"Yes","No"]
["Corporate Headquarters"]
["Claims Processing"]
["Member Services"]
["Provider Services"]
["Utilization Management"]
["Prior Authorization"]
["Case Management"]
["Disease Management"]
["Quality"]
[]
["Scores: "]
[]
["Evaluation Criteria","Total Points Available","Points Earned"]
["Corporate Headquarters",10,{"$f":"IF(B11=\"Yes\", B24, 0)","v":0}]
["Claims Processing",15,{"$f":"IF(B12=\"Yes\", B25, 0)","v":0}]
["Member Services",15,0]
["Provider Services",15,0]
["Utilization Management",5,0]
["Prior Authorization",5,0]
["Case Management",15,0]
["Disease Management",5,0]
["Quality",15,0]
["Total Points Earned: ",null,{"$f":"SUM(C24:C32)","v":0}]

{"sheet":"Scoring-Accreditation","index":36,"n_rows":3,"n_cols":1,"rows_kept":3,"merged":[[2,0,2,2]]}
["SRC #34: Managed Care Plan Accreditation Scoring Information"]
[]
["Back to Respondent Information"]

{"sheet":"Accreditation","index":37,"n_rows":30,"n_cols":23,"rows_kept":30,"merged":[[0,9,0,14],[2,9,2,14],[4,9,4,14],[9,0,9,5],[9,9,9,14],[14,0,14,5],[15,1,15,2],[15,9,15,11],[15,12,15,14],[16,1,16,2],[16,12,16,14],[17,1,17,2],[18,1,18,2],[19,1,19,2],[20,1,20,2],[21,1,21,2],[23,0,23,1],[26,0,27,0],[26,2,27,2],[28,0,29,0],[28,2,29,2]]}
["SRC #34: Managed Care Plan Accreditation",null,"Back to Respondent Information"]
[]
["Item","Score"]
["Total Points Possible:",11]
["Points Earned:",{"$f":"C27+C29","v":0}]
["Percent:",{"$f":"B5/B4","v":{"v":0,"d":"0%"}}]
["Final Score Possible:",100]
["Managed Care Plan Accreditation SRC Final Score:",{"$f":"B6*B7","v":0}]
[]
["Health Plan Accreditation"]
["Name of Accrediting Body","Type of Accreditation","Level of Accreditation","Status of Accreditation","Date of Certification","Effective Date of Accreditation",{"$nulls":3},"NCQA"]
[{"$nulls":9},"URAC",{"$nulls":6},"Full accreditation","Partial/conditional accreditation","No accreditation/denied accreditation",{"$nulls":3},{"$f":"_xlfn.XLOOKUP(B12,Q12:S12,Q13:S16)&\"\"","v":{"$error":"#N/A"}}]
[{"$nulls":9},"AAAHC",{"$nulls":6},"full three (3) year accreditation for the National Committee for Quality Assurance (NCQA)","provisional for NCQA","None"]
[{"$nulls":16},"full three (3) year accreditation for Utilization Review Accreditation Commission (URAC)","conditional or provisional for URAC"]
["Additive Accreditations",{"$nulls":15},"full three (3) year accreditation for Accreditation Association for Ambulatory Health Care, Inc. (AAAHC)","one (1) year for AAAHC"]
["Accrediting Body","Type of Accreditation",null,"Status of Accreditation","Date of Certification","Effective Date of Accreditation",{"$nulls":11},"six (6) months for AAAHC"]
[{"$nulls":6},{"$f":"IF(AND(IF(A17<>\"\", TRUE, FALSE),IF(B17<>\"\", TRUE, FALSE),IF(D17<>\"\", TRUE, FALSE),IF(E17<>\"\", TRUE, FALSE),IF(F17<>\"\", TRUE, FALSE)),1,0)","v":0}]
[{"$nulls":6},0]
[{"$nulls":6},0]
[{"$nulls":6},0,{"$nulls":9},"Fully Accredited"]
[{"$nulls":6},0,null,null,"NCQA","URAC",{"$nulls":5},"Provisional",{"$nulls":5},{"$f":"_xlfn.XLOOKUP(A17,$J$21:$K$21,$J$22:$K$24)","v":{"$error":"#N/A"}}]
[{"$nulls":6},0,null,null,"Electronic Clinical Quality Measures (eCQM) Certification","Integrated Behavioral Health Designation",{"$nulls":5},"Conditional"]
[{"$nulls":9},"Long-Term Supports and Services Distinction","Medicaid with Long-Term Services and Supports",{"$nulls":5},"Declined"]
["Scores: ",{"$nulls":8},"Population Health Program Accreditation","Opioid Stewardship Designation"]
[]
["Item","Points Available","Points Earned",{"$nulls":3},{"$f":"SUM(G17:G22)","v":0}]
["Type of Accreditation","5 points for full health plan accreditation.",{"$f":"IF(AND(B12=\"Full accreditation\",A12<>\"\"), 5, IF(AND(B12=\"Partial/conditional accreditation\",A12<>\"\"), 3, 0))","v":0}]
[null,"3 points for partial/conditional health plan accreditation."]
["Additive Accreditations","1 point for each additive accreditation.",{"$f":"G26","v":0}]
[null,"0 points if health plan accreditation denied or no accreditation."]

{"sheet":"Scoring-Grievances","index":38,"n_rows":3,"n_cols":1,"rows_kept":3,"merged":[[2,0,2,3]]}
["SRC #35: Grievances Scoring Information"]
[]
["Back to Respondent Information"]

{"sheet":"Grievances","index":39,"n_rows":65,"n_cols":3,"rows_kept":65,"merged":[[0,2,0,3],[36,0,36,1],[39,0,39,2],[40,2,43,2],[44,0,44,2],[45,2,48,2],[49,0,49,2],[50,2,53,2],[54,0,54,2],[55,2,58,2],[59,0,59,2],[60,2,63,2],[64,0,64,1]]}
["SRC #35: Grievances",null,"Back to Respondent Information"]
[]
["Item","Score"]
["Total Points Possible:",15]
["Points Earned:",{"$f":"C65","v":0}]
["Percent:",{"$f":"B5/B4","v":{"v":0,"d":"0%"}}]
["Final Score Possible:",200]
["Grievances SRC Final Score:",{"$f":"B6*B7","v":0}]
[]
[null,{"$f":"'Respondent Information'!C6","v":0}]
["Line of Business",{"$f":"'Respondent Information'!E6","v":0}]
["Total Number of Enrollees",{"$f":"'Respondent Information'!M7","v":0}]
["Grievances"]
["Total # of Grievances Received"]
["Total # of Grievances Resolved within 90 days"]
["Total # of Grievances Not Resolved within 90 days",{"$f":"B14-B15","v":0}]
["Percentage of Grievance Not Resolved w/in 90 days",{"$f":"IF(ISERROR(B16/B14), 0, B16/B14)","v":{"v":0,"d":"0.00%"}}]
["Percentage of Grievances to Population",{"$f":"IF(ISERROR(B14/B12), 0, B14/B12)","v":{"v":0,"d":"0.00%"}}]
["Total # of Staff Dedicated to Grievance Processing"]
["Ratio of Staff Dedicated to Population",{"$f":"IF(ISERROR(B19/B12), 0, B19/B12)","v":{"v":0,"d":"0.00%"}}]
["Standard Appeals"]
["Total # of Standard Appeals Received"]
["Total # of Standard Appeals Resolved within 30 days"]
["Total # of Standard Appeals Not Resolved within 30 days",{"$f":"B22-B23","v":0}]
["Percentage of Standard Appeals Not Resolved within 30 days",{"$f":"IF(ISERROR(B24/B22),0,(B24/B22))","v":{"v":0,"d":"0.00%"}}]
["Percentage of Standard Appeals to Population",{"$f":"IF(ISERROR(B22/B12), 0, B22/B12)","v":{"v":0,"d":"0.00%"}}]
["Total # of Staff Dedicated to Standard Appeal Processing"]
["Ratio of Staff Dedicated to Population",{"$f":"IF(ISERROR(B27/B12), 0, B27/B12)","v":{"v":0,"d":"0.00%"}}]
["Medicaid Fair Hearings"]
["Total # of Medicaid Fair Hearings Received"]
["Total # Hearings Upheld"]
["Percentage of Upheld to # of Fair Hearings Received",{"$f":"IF(ISERROR(B31/B30), 0, B31/B30)","v":{"v":0,"d":"0.00%"}}]
["Total # Hearings Overturned"]
["Percentage of Overturned to # of Fair Hearings Received",{"$f":"IF(ISERROR(B33/B30), 0, (B33/B30))","v":{"v":0,"d":"0.00%"}}]
[]
[]
["Scores:"]
[]
["Evaluation Criteria","Points Available","Points Earned"]
["Score #1 - Percent of Grievances Not Resolved Within 90 Days"]
["0%-5.99%",3,{"$f":"IF(ISBLANK(B14), 0, IF(Grievances!B17>0.2599, 0, IF(Grievances!B17>0.1099, 1, IF(Grievances!B17>0.0599, 2, IF(Grievances!B17<0.06, 3, 0)))))","v":0}]
["6%-10.99%",2]
["11%-25.99%",1]
["26% or higher",0]
["Score #2 - Percent of Grievances Per Total Population"]
["0%-5.99%",3,{"$f":"IF(ISBLANK(B14), 0, IF(B18>=0.26, 0, IF(B18>=0.11, 1, IF(B18>0.0599, 2, 3))))","v":0}]
["6%-10.99%",2]
["11%-25.99%",1]
["26% or higher",0]
["Score #3 - Percent of Appeals Not Resolved Within 30 Days"]
["0%-5.99%",3,{"$f":"IF(ISBLANK(B22), 0, IF(B25>0.2599, 0, IF(B25>0.1099, 1, IF(B25>0.0599, 2, IF(B25<0.06, 3, 0)))))","v":0}]
["6%-10.99%",2]
["11%-25.99%",1]
["26% or higher",0]
["Score #4 - Percent of Appeals Per Total Population"]
["0%-5.99%",3,{"$f":"IF(ISBLANK(B22), 0, IF(B26>0.2599, 0, IF(B26>0.1099, 1, IF(B26>0.0599, 2, IF(B26<0.06, 3, 0)))))","v":0}]
["6%-10.99%",2]
["11%-25.99%",1]
["26% or higher",0]
["Score #5 - Percent of Medicaid Fair Hearings Overturned"]
["0%-5.99%",3,{"$f":"IF(ISBLANK(B30), 0, IF(B34>0.2599, 0, IF(B34>0.1099, 1, IF(B34>0.0599, 2, IF(B34<0.06, 3, 0)))))","v":0}]
["6%-10.99%",2]
["11%-25.99%",1]
["26% or higher",0]
["Total Points Earned:",null,{"$f":"SUM(C41,C46,C51,C56,C61)","v":0}]

{"sheet":"Scoring-Processing and Payment","index":40,"n_rows":4,"n_cols":10,"rows_kept":4,"merged":[[3,0,3,3]]}
["SRC #36: Claims Processing and Payment",{"$nulls":8},"SRC #36: Claims Processing and Payment"]
["Scoring Information",{"$nulls":8},"Scoring Information (continued)"]
[]
["Back to Respondent Information"]

{"sheet":"Processing and Payment","index":41,"n_rows":75,"n_cols":4,"rows_kept":75,"merged":[[12,0,12,1],[45,0,45,1],[52,0,52,1],[57,0,57,1],[59,0,59,3],[61,0,67,0],[68,0,70,0],[74,0,74,2]]}
["SRC #36: Claims Processing and Payment",null,"Back to Respondent Information"]
[]
["Item","Score"]
["Total Points Possible:",375]
["Points Earned:",{"$f":"D75","v":0}]
["Percent:",{"$f":"B5/B4","v":{"v":0,"d":"0%"}}]
["Final Score Possible:",200]
["Claims Processing and Payment SRC Final Score:",{"$f":"B6*B7","v":0}]
[]
[null,{"$f":"'Respondent Information'!C6","v":0}]
["Line of Business:",{"$f":"'Respondent Information'!E6","v":0}]
["Year:",{"$f":"IF(ISBLANK('Respondent Information'!M5),IF(ISBLANK('Respondent Information'!K5), 'Respondent Information'!I5, 'Respondent Information'!K5), 'Respondent Information'!M5)","v":0}]
["Timeliness"]
[null,"Electronically Submitted Claims"]
["Total Number of Electronic Claims"]
["Total Number Paid or Denied within 7 Calendar Days"]
["Percent Paid or Denied within 7 Calendar Days",{"$f":"IF(ISERROR(B16/B15), 0, (B16/B15))","v":{"v":0,"d":"0.00%"}}]
["Electronic Nursing Facility & Hospice Claims"]
["Total Number of Nursing Facility Claims"]
["Total Number of Nursing Facilty Claims Paid/Denied within 10 Calendar Days"]
["Percent Nursing Facilty Claims Paid/Denied within 10 Calendar Days",{"$f":"IF(ISERROR(B20/B19), 0, B20/B19)","v":{"v":0,"d":"0.00%"}}]
["Total Number of Hospice Claims"]
["Total Number of Hospice Claims Paid/Denied within 10 Calendar Days"]
["Percent Hospice Claims Paid/Denied within 10 Calendar Days",{"$f":"IF(ISERROR(B23/B22), 0, B23/B22)","v":{"v":0,"d":"0.00%"}}]
["Other Electronic Claims"]
["Total Number of Hospital Claims"]
["Total Number of Hospital Claims Paid/Denied within 15 Calendar Days"]
["Percent Hospital Claims Paid/Denied within 15 Calendar Days",{"$f":"IF(ISERROR(B27/B26), 0, B27/B26)","v":{"v":0,"d":"0.00%"}}]
["Total Number of Durable Medical Equipment (DME) Claims"]
["Total Number of DME Claims Paid/Denied within 15 Calendar Days"]
["Percent DME Claims Paid/Denied within 15 Calendar Days",{"$f":"IF(ISERROR(B30/B29), 0, B30/B29)","v":{"v":0,"d":"0.00%"}}]
["Total Number of County Health Department (CHD) Claims"]
["Total Number of CHD Claims Paid/Denied within 15 Calendar Days"]
["Percent CHD Claims Paid/Denied within 15 Calendar Days",{"$f":"IF(ISERROR(B33/B32), 0, B33/B32)","v":{"v":0,"d":"0.00%"}}]
["Total Number of Claims for All Other Providers"]
["Total Number of All Other Claims Paid/Denied within 15 Calendar Days"]
["Percent All Other Providers Claims",{"$f":"IF(ISERROR(B36/B35), 0, B36/B35)","v":{"v":0,"d":"0.00%"}}]
[null,"Non-Electronically Submitted Claims"]
["Total Number of Non-Electronically Submitted Claims"]
["Total Non-Electronically Submitted Claims Paid/Denied within 10 Calendar Days"]
["Percent of Claims Paid/Denied within 10 Calendar Days",{"$f":"IF(ISERROR(B40/B39), 0, B40/B39)","v":{"v":0,"d":"0.00%"}}]
["Total Non-Electronically Submitted Claims Paid/Denied within 15 Calendar Days"]
["Percent of Claims Paid/Denied within 15 Calendar Days",{"$f":"IF(ISERROR(B42/B39), 0, B42/B39)","v":{"v":0,"d":"0.00%"}}]
["Total Non-Electronically Submitted Claims Paid/Denied within 20 Calendar Days"]
["Percent of Claims Paid/Denied within 20 Calendar Days",{"$f":"IF(ISERROR(B44/B39), 0, B44/B39)","v":{"v":0,"d":"0.00%"}}]
["Accuracy"]
["Number of Electronically-Submitted Claims Processed"]
["Total Electronically Submitted Claims Accurately Processed"]
["Percent of Elecontrically Submitted Claims Accurately Processed",{"$f":"IF(ISERROR(B48/B47), 0, B48/B47)","v":{"v":0,"d":"0.00%"}}]
["Number of Non-Electronically-Submitted Claims Processed"]
["Total Non-Electronically Submitted Claims Accurately Processed"]
["Percent of Non-Elecontrically Submitted Claims Accurately Processed",{"$f":"IF(ISERROR(B51/B50), 0, B51/B50)","v":{"v":0,"d":"0.00%"}}]
["Claim Appeals/Grievances"]
["Number of Appeals/Grievances Filed Regarding Claim Disputes"]
["Total Number of Claim Disputes Overturned without the Need for Medical Review"]
["Percent Overturned",{"$f":"IF(ISERROR(B55/B54), 0, B55/B54)","v":{"v":0,"d":"0.00%"}}]
[]
["Scores: "]
[]
[{"$f":"B10","v":0}]
["State","Criteria","Points Available","Points Earned"]
["Electronic Submissions: Timeliness","Total % Paid or Denied within 7 Calendar Days",50,{"$f":"IF(B17>=0.9, 50, IF(B17>0.7999, 25, 0))","v":0}]
[null,"Percent Nursing Facilty Paid within 10 days",25,{"$f":"IF(B21>0.9499, 25, 0)","v":0}]
[null,"Percent Hospice Paid within 10 days",25,{"$f":"IF(B24>0.9499, 25,0)","v":0}]
[null,"Percent Hospital Paid within 15 days",25,{"$f":"IF(B28>0.9499,25,0)","v":0}]
[null,"Percent DME Paid within 15 days",25,{"$f":"IF(B31>0.9499, 25, 0)","v":0}]
[null,"Percent County Health Department Paid within 15 days",25,{"$f":"IF(B34>0.9499, 25, 0)","v":0}]
[null,"Percent All Other Providers Paid within 15 days",25,{"$f":"IF(B37>0.9499, 25, 0)","v":0}]
["Non-Electronic Submissions: Timeliness","Total % Paid/Denied within 10 Days",50,{"$f":"IF(B41>=0.9, 50, IF(B41>0.79, 25, 0))","v":0}]
[null,"Total % Paid/Denied within 15 days",25,{"$f":"IF(B43>0.9499, 25, 0)","v":0}]
[null,"Total % Paid/Denied within 20 days",25,{"$f":"IF(B45>0.9499, 25, 0)","v":0}]
["Electronically Submitted Claims: Accuracy","Total % Accurate",25,{"$f":"IF(B49>0.9799, 25, IF(B49>0.9499, 20, IF(B49>0.8999, 10, 0)))","v":0}]
["Non-Electronically Submitted Claims: Accuracy","Total % Accurate",25,{"$f":"IF(B52>0.9799, 25, IF(B52>0.9499, 20, IF(B52>0.8999, 10, 0)))","v":0}]
["Claims Appeals/Grievances","Total % Overturned",25,{"$f":"IF(ISBLANK(B54), 0, IF(B56>0.2099,0, IF(B56>0.1099, 10, IF(B56>0.0599, 20, 25))))","v":0}]
["State Points Earned: ",null,null,{"$f":"SUM(D62:D74)","v":0}]

{"sheet":"Scoring-Provider Engagement","index":42,"n_rows":3,"n_cols":10,"rows_kept":3,"merged":[[2,0,2,3]]}
["SRC #37: Provider Engagement Model Scoring Information",{"$nulls":8},"SRC #37: Provider Engagement Model Scoring Information"]
[{"$nulls":9},"(continued)"]
["Back to Respondent Information"]

{"sheet":"Provider Engagement","index":43,"n_rows":70,"n_cols":14,"rows_kept":70,"merged":[[9,1,9,3],[10,1,10,3],[42,0,42,1],[44,0,44,4],[49,11,49,13],[49,14,49,16],[49,17,49,19],[55,0,55,3]]}
["SRC #37: Provider Engagement Model",null,"Back to Respondent Information"]
[]
["Item","Score"]
["Total Points Possible:",141]
["Points Earned:",{"$f":"E56","v":0}]
["Percent:",{"$f":"B5/B4","v":{"v":0,"d":"0%"}}]
["Final Score Possible:",150]
["Provider Engagement Model SRC Final Score:",{"$f":"B6*B7","v":0}]
[]
[null,{"$f":"'Respondent Information'!C6","v":0},{"$nulls":3},"At Least Daily"]
["Line of Business:",{"$f":"'Respondent Information'!E6","v":0},{"$nulls":3},"At Least Weekly"]
[null,{"$f":"'Respondent Information'!I5","v":0},{"$f":"'Respondent Information'!K5","v":0},{"$f":"'Respondent Information'!M5","v":0},null,"At Least Monthly"]
["Responsiveness to Provider-Initiated Interactions",{"$nulls":4},"Less than Monthly"]
["Average Response time to provider-initiated interactions (in hours)"]
["Frequency of Reviews of Provider Complaint Reasons to Identify Training Needs",{"$nulls":4},"Regularly"]
["Frequency of Claim Denial Code Reviews to Identify Training Needs",{"$nulls":4},"Irregularly"]
["Engagement with Provider Associations",{"$nulls":4},"Not at All"]
["Regularity of Meetings with Provider Associations"]
["Number of Meetings with Provider Associations During Review Period"]
["Frequency of Provider Association Meetings",{"$nulls":4},"Freq of Association Meetin"]
["Coverage of Provider Training Topics ",{"$nulls":4},"Met with 5 or more Provider Associations "]
["Service Coverage Guidelines",{"$nulls":4},"Met with 1-4 Provider Associations"]
["Service Authorization Requirements",{"$nulls":4},"Did not Meet with Provider Associations"]
["Billing Procedures"]
["Claims Processing",{"$nulls":4},"At Least Monthly"]
["Payment Timeframes",{"$nulls":4},"At Least Quarterly"]
["Dispute Resolution Process and Timeframes",{"$nulls":4},"Less than Quarterly"]
["Agency Contract Requirements"]
["Other Topic 1: [REPORT TOPIC NAME HERE]"]
["Other Topic 2: [REPORT TOPIC NAME HERE]"]
["Other Topic 3: [REPORT TOPIC NAME HERE]"]
["Other Topic 4: [REPORT TOPIC NAME HERE]"]
["Other Topic 5: [REPORT TOPIC NAME HERE]"]
["Other Topic 6: [REPORT TOPIC NAME HERE]"]
["Other Topic 7: [REPORT TOPIC NAME HERE]"]
["Other Topic 8: [REPORT TOPIC NAME HERE]"]
["Other Topic 9: [REPORT TOPIC NAME HERE]"]
["Other Topic 10: [REPORT TOPIC NAME HERE]"]
["Training",{"$nulls":4},"Yes"]
["Method of Presentation ",{"$nulls":4},"No"]
["Frequency of Training (Unscored)"]
[]
["Scores: ",{"$nulls":10},"At least 75% Training Provided Live or In-Person"]
[{"$nulls":11},"50-74.99% of Training Provided Live or In-Person"]
[{"$f":"B10","v":0},{"$nulls":10},"Less than 50% of Training Provided Live or In-Person"]
["Item","Points Available","Points Earned-Year 1","Points Earned-Year 2","Points Earned-Year 3"]
["Responsiveness to Provider-Initiated Interactions",10,{"$f":"IF(ISBLANK(B14), 0, IF(B14<24, 10, IF(B14<49, 5, 0)))","v":0},{"$f":"IF(ISBLANK(C14), 0, IF(C14<24, 10, IF(C14<49, 5, 0)))","v":0},{"$f":"IF(ISBLANK(D14), 0, IF(D14<24, 10, IF(D14<49, 5, 0)))","v":0}]
["Frequency of Reviews of Provider Complaint Reasons",5,{"$f":"IF(B15=\"At Least Daily\", 5, IF(B15=\"At Least Weekly\", 3, IF(B15=\"At Least Monthly\", 1, 0)))","v":0},0,0]
["Frequency of Claim Denial Code Reviews to Identify Training Needs",5,0,0,0]
["Engagement with Provider Associations",{"$nulls":10},"contract 1"]
["Regularity of Meetings with Provider Associations",5,{"$f":"IF(B18=\"Regularly\",5,0)","v":0},{"$f":"IF(C18=\"Regularly\",5,0)","v":0},{"$f":"IF(D18=\"Regularly\",5,0)","v":0},{"$nulls":6},{"$f":"IF(B22=\"Yes\", 1, 0)","v":0},0,0]
["Number of Meetings with Provider Associations During Review Period",5,{"$f":"IF(B19=\"Met with 5 or more Provider Associations \", 5, IF(B19=\"Met with 1-4 Provider Associations\", 3, 0))","v":0},{"$f":"IF(C19=\"Met with 5 or more Provider Associations \", 5, IF(C19=\"Met with 1-4 Provider Associations\", 3, 0))","v":0},{"$f":"IF(D19=\"Met with 5 or more Provider Associations \", 5, IF(D19=\"Met with 1-4 Provider Associations\", 3, 0))","v":0},{"$nulls":6},0,0,0]
["Frequency of Provider Association Meetings",5,{"$f":"IF(ISBLANK(B20), 0, IF(B20=\"At Least Monthly\", 5, IF(B20=\"At Least Quarterly\", 3, 1)))","v":0},{"$f":"IF(ISBLANK(C20), 0, IF(C20=\"At Least Monthly\", 5, IF(C20=\"At Least Quarterly\", 3, 1)))","v":0},{"$f":"IF(ISBLANK(D20), 0, IF(D20=\"At Least Monthly\", 5, IF(D20=\"At Least Quarterly\", 3, 1)))","v":0},{"$nulls":6},0,0,0]
["Coverage of Provider Training Topics",5,{"$f":"IF(L69=7, 5, IF(L69>=5, 1, 0))","v":0},{"$f":"IF(M69=7, 5, IF(M69>=5, 1, 0))","v":0},{"$f":"IF(N69=7, 5, IF(N69>=5, 1, 0))","v":0},{"$nulls":6},0,0,0]
["Training Method of Presentation",7,{"$f":"IF(B40=\"At least 75% Training Provided Live or In-Person\", 7, IF(B40=\"50-74.99% OF Training Provided Live or In-Person\", 5, 0))","v":0},{"$f":"IF(C40=\"At least 75% Training Provided Live or In-Person\", 7, IF(C40=\"50-74.99% OF Training Provided Live or In-Person\", 5, 0))","v":0},{"$f":"IF(D40=\"At least 75% Training Provided Live or In-Person\", 7, IF(D40=\"50-74.99% OF Training Provided Live or In-Person\", 5, 0))","v":0},{"$nulls":6},0,0,0]
["Total Points Earned:",{"$nulls":3},{"$f":"SUM(Table1[[Points Earned-Year 1]:[Points Earned-Year 3]])","v":0}]
[{"$nulls":11},{"$f":"IF(B27=\"Yes\", 1, 0)","v":0},0,0]
[{"$nulls":11},0,0,0]
{"$rows_empty":10}
[{"$nulls":11},{"$f":"SUM(L51:L68)","v":0},{"$f":"SUM(M51:M68)","v":0},0]
[{"$nulls":11},{"$f":"IF(L69>=7, 5, IF(L69>4, 1, 0))","v":0},{"$f":"IF(M69>=7, 5, IF(M69>4, 1, 0))","v":0},0]

{"sheet":"Scoring-NET","index":44,"n_rows":3,"n_cols":9,"rows_kept":3,"merged":[[2,0,2,2]]}
["SRC #38: Non-Emergency Transportation Performance ",{"$nulls":7},"SRC #38: Non-Emergency Transportation Performance "]
["Scoring Information",{"$nulls":7},"Scoring Information (continued)"]
["Back to Respondent Information"]

{"sheet":"Non-Emergency Transportation","index":45,"n_rows":81,"n_cols":18,"rows_kept":81,"merged":[[9,1,9,2],[9,3,9,4],[9,5,9,6],[10,1,10,2],[10,3,10,4],[10,5,10,6],[11,1,11,2],[11,3,11,4],[11,5,11,6],[12,1,12,2],[12,3,12,4],[12,5,12,6],[13,1,13,2],[13,3,13,4],[13,5,13,6],[14,1,14,2],[14,3,14,4],[14,5,14,6],[15,1,15,2],[15,3,15,4],[15,5,15,6],[16,1,16,2],[16,3,16,4],[16,5,16,6],[17,1,17,2],[17,3,17,4],[17,5,17,6],[18,1,18,2],[18,3,18,4],[18,5,18,6],[19,1,19,2],[19,3,19,4],[19,5,19,6],[20,1,20,2],[20,3,20,4],[20,5,20,6],[21,1,21,2],[21,3,21,4],[21,5,21,6],[22,1,22,2],[22,3,22,4],[22,5,22,6],[23,1,23,2],[23,3,23,4],[23,5,23,6],[44,1,44,2],[44,3,44,4],[44,5,44,6],[45,1,45,2],[45,3,45,4],[45,5,45,6],[47,0,47,1],[50,0,59,0],[59,1,59,2],[60,0,69,0],[69,1,69,2],[70,0,79,0],[79,1,79,2],[80,0,80,2]]}
["SRC #38: Non-Emergency Transportation Performance",null,null,"Back to Respondent Information"]
[]
["Possible and Earned","Score"]
["Total Points Possible:",210]
["Points Earned:",{"$f":"D81","v":0}]
["Percent:",{"$f":"B5/B4","v":{"v":0,"d":"0%"}}]
["Final Score Possible:",100]
["Non-Emergency Transportation Performance SRC Final Score:",{"$f":"B6*B7","v":0}]
[]
["State",{"$f":"'Respondent Information'!C6","v":0},null,{"$f":"'Respondent Information'!C9","v":0},null,{"$f":"'Respondent Information'!C12","v":0},{"$nulls":11},"Yes"]
["Line of Business",{"$f":"'Respondent Information'!E6","v":0},null,{"$f":"'Respondent Information'!E9","v":0},null,{"$f":"'Respondent Information'!E12","v":0},{"$nulls":11},"No"]
["Trip Summary","Number",null,"Number",null,"Number"]
["Number of Leg A Trips Completed",{"$f":"SUM(B14,B16)","v":0},null,{"$f":"SUM(D14,D16)","v":0},null,{"$f":"SUM(F14,F16)","v":0}]
["Scheduled "]
["Scheduled Trips Established by Standing Order"]
["Unscheduled"]
["Number of Leg B Trips Completed",{"$f":"SUM(B18, B20)","v":0},null,{"$f":"SUM(D18,D20)","v":0},null,{"$f":"SUM(F18, F20)","v":0}]
["Scheduled "]
["Scheduled Trips Established by Standing Order"]
["Unscheduled"]
["Total Number of Trips Completed and Missed",{"$f":"SUM(B22:C24)","v":0},null,{"$f":"SUM(D22:E24)","v":0},null,{"$f":"SUM(F22:G24)","v":0}]
["Scheduled ",{"$f":"SUM(B14,B18)","v":0},null,{"$f":"SUM(D14,D18)","v":0},null,{"$f":"SUM(F14,F18)","v":0}]
["Unscheduled",{"$f":"SUM(B16,B20)","v":0},null,{"$f":"SUM(D16,D20)","v":0},null,{"$f":"SUM(F16,F20)","v":0}]
["Missed"]
["Scheduled Trips (Excluding Missed Trips)","Number","Percent","Number","Percent","Number","Percent"]
["1. Total Number of Scheduled Leg A Trips On-Time for Appointment",null,{"$f":"IF(ISERROR(B26/B14), \"-\", B26/B14)","v":"-"},null,{"$f":"IF(ISERROR(D26/D14), \"-\", D26/D14)","v":"-"},null,{"$f":"IF(ISERROR(F26/F14), \"-\", F26/F14)","v":"-"}]
["Total number of scheduled Leg A trips established by standing orders (e.g., routine scheduled appointments for services such as renal dialysis, cancer treatments, etc.) where the enrollee arrived on-time for the appointment ",null,{"$f":"IF(ISERROR(B27/B15), \"-\", B27/B15)","v":"-"},null,{"$f":"IF(ISERROR(D27/D15), \"-\", D27/D15)","v":"-"},null,{"$f":"IF(ISERROR(F27/F15), \"-\", F27/F15)","v":"-"}]
["Total Number of Scheduled Leg A Trips Late for Appointment",null,{"$f":"IF(ISERROR(B28/B14), \"-\", B28/B14)","v":"-"},null,{"$f":"IF(ISERROR(D28/D14), \"-\", D28/D14)","v":"-"},null,{"$f":"IF(ISERROR(F28/F14), \"-\", F28/F14)","v":"-"}]
["2. Total number of Leg A scheduled trips established by standing orders (e.g., routine scheduled appointments for services such as renal dialysis, cancer treatments, etc.) where the enrollee arrived late for the appointment",null,{"$f":"IF(ISERROR(B29/B15), \"-\", B29/B15)","v":"-"},null,{"$f":"IF(ISERROR(D29/D15), \"-\", D29/D15)","v":"-"},null,{"$f":"IF(ISERROR(F29/F15), \"-\", F29/F15)","v":"-"}]
["3. Number of Scheduled Leg A Trips where the non-emergency transportation provider picked up the enrollee within fifteen (15) minutes of the scheduled time for pick-up",null,{"$f":"IF(ISERROR(B30/B14), \"-\", B30/B14)","v":"-"},null,{"$f":"IF(ISERROR(D30/D14), \"-\", D30/D14)","v":"-"},null,{"$f":"IF(ISERROR(F30/F14), \"-\", F30/F14)","v":"-"}]
["4. Number of Scheduled Leg B Trips where the non-emergency transportation provider picked up the enrollee within thirty (30) minutes of the scheduled time for pick-up",null,{"$f":"IF(ISERROR(B31/B18), \"-\", B31/B18)","v":"-"},null,{"$f":"IF(ISERROR(D31/D18), \"-\", D31/D18)","v":"-"},null,{"$f":"IF(ISERROR(F31/F18), \"-\", F31/F18)","v":"-"}]
["Total Number of Scheduled Trips By Level of Assistance ",{"$f":"IF(SUM(B33:B34)>B22,\"ERROR\",B22)","v":0},null,{"$f":"IF(SUM(D33:D34)>D22,\"ERROR\",D22)","v":0},null,{"$f":"IF(SUM(F33:F34)>F22,\"ERROR\",F22)","v":0}]
["Unassisted Trips"]
["Assisted Trips"]
["Unscheduled Trips (Excluding Missed Trips)","Number","Percent","Number","Percent","Number","Percent"]
["5. Total Number of Trips to Urgent Care Center where the non-emergency transportation provider picked up the enrollee within three (3) hours of receiving the request",null,{"$f":"IF(ISERROR(B36/B16), \"-\", B36/B16)","v":"-"},null,{"$f":"IF(ISERROR(D36/D16), \"-\", D36/D16)","v":"-"},null,{"$f":"IF(ISERROR(F36/F16), \"-\", F36/F16)","v":"-"}]
["6. Total Number of Trips to Return an Enrollee from a Hospital After Discharge where the non-emergency transportation provider picked up the enrollee within three (3) hours of receiving the request",null,{"$f":"IF(ISERROR(B37/B20), \"-\", B37/B20)","v":"-"},null,{"$f":"IF(ISERROR(D37/D20), \"-\", D37/D20)","v":"-"},null,{"$f":"IF(ISERROR(F37/F20), \"-\", F37/F20)","v":"-"}]
["Unscheduled Trips by Level of Assistance",{"$f":"IF(SUM(B39:B40)>B23, \"ERROR\", B23)","v":0},null,{"$f":"IF(SUM(D39:D40)>D23, \"ERROR\", D23)","v":0},null,{"$f":"IF(SUM(F39:F40)>F23, \"ERROR\", F23)","v":0}]
["Unassisted Trips"]
["Assisted Trips"]
["Missed Trips","Number","Percent","Number","Percent","Number","Percent"]
["7. Number Missed Due to Fault of Non-Emergency Transportation Provider",null,{"$f":"IF(ISERROR(B42/B21), \"-\", B42/B21)","v":"-"},null,{"$f":"IF(ISERROR(D42/D21), \"-\", D42/D21)","v":"-"},null,{"$f":"IF(ISERROR(F42/F21), \"-\", F42/F21)","v":"-"}]
["Number Missed Due to Fault of the Enrollee"]
["Total number of complaints and grievances pertaining to NET per one thousand (1,000) enrollees (unscored)"]
["8. Currently utilizes technology to track non-emergency transportation trips in real-time, utilizing geo-mapping to locate providers at any time during service delivery"]
["9. Currently assessing completed or missed trips prior to adjudicating claims for those trips"]
[]
["Scores: "]
[]
["State","Criteria","Points Available","Points Earned"]
[{"$f":"B10","v":{"v":0,"d":"0.0%"}},"1. Percentage of non-emergency transportation trips that resulted in an enrollee arriving on time for an appointment ",10,{"$f":"IF(C26=\"-\", 0, IF(C26>=0.95, 10, IF(C26>=0.9, 5, 0)))","v":0}]
[null,"2. Percentage of non-emergency transportation trips that resulted in an enrollee arriving late for an established, standing order appointment  ",5,{"$f":"IF(C29=\"-\", 0, IF(C29<=0.03, 5, 0))","v":0}]
[null,"3. Percentage of non-emergency transportation Leg A trips that resulted in pick-up of an enrollee within fifteen (15) minutes of the scheduled time",10,{"$f":"IF(C30=\"-\", 0, IF(C30>=0.95, 10, IF(C30>=0.9, 5, 0)))","v":0}]
[null,"4. Percentage of non-emergency transportation Leg B trips that resulted in pick-up of an enrollee within thirty (30) minutes of the scheduled time ",10,{"$f":"IF(C31=\"-\", 0, IF(C31>=0.95, 10, IF(C31>=0.9, 5, 0)))","v":0}]
[null,"5. Percent of non-emergency transportation service requests for transporting an enrollee to an urgent care center fulfilled within three (3) hours of receiving the request",10,{"$f":"IF(C36=\"-\", 0, IF(C36>=0.95, 10, IF(C36>=0.85, 5, 0)))","v":0}]
[null,"6. Percentage of non-emergency transportation service requests for transporting enrollee following discharge from a hospital fulfilled within three (3) hours of receiving the request",10,{"$f":"IF(C37=\"-\", 0, IF(C37>=0.95, 10, IF(C37>=0.85, 5, 0)))","v":0}]
[null,"7. Percentage of missed non-emergency transportation trips due to fault of the non-emergency transportation provider ",5,{"$f":"IF(C42=\"-\", 0, IF(C42<=0.02, 5, 0))","v":0}]
[null,"8. Tracking Capability-Real-Time ",5,{"$f":"IF(B45=\"Yes\", 5, 0)","v":0}]
[null,"9. Tracking Capability-Assessing Missed Trips",5,{"$f":"IF(B46=\"Yes\", 5, 0)","v":0}]
[null,"State Points Earned: ",null,{"$f":"SUM(D51:D59)","v":0}]
[{"$f":"D10","v":{"v":0,"d":"0.0%"}},"1. Percentage of non-emergency transportation trips that resulted in an enrollee arriving on time for an appointment ",10,{"$f":"IF(E26=\"-\", 0, IF(E26>=0.95, 10, IF(E26>=0.9, 5, 0)))","v":0}]
[null,"2. Percentage of non-emergency transportation trips that resulted in an enrollee arriving late for an established, standing order appointment  ",5,{"$f":"IF(E29=\"-\", 0, IF(E29<=0.03, 5, 0))","v":0}]
[null,"3. Percentage of non-emergency transportation Leg A trips that resulted in pick-up of an enrollee within fifteen (15) minutes of the scheduled time",10,{"$f":"IF(E30=\"-\", 0, IF(E30>=0.95, 10, IF(E30>=0.9, 5, 0)))","v":0}]
[null,"4. Percentage of non-emergency transportation Leg B trips that resulted in pick-up of an enrollee within thirty (30) minutes of the scheduled time ",10,{"$f":"IF(E31=\"-\", 0, IF(E31>=0.95, 10, IF(E31>=0.9, 5, 0)))","v":0}]
[null,"5. Percent of non-emergency transportation service requests for transporting an enrollee to an urgent care center fulfilled within three (3) hours of receiving the request",10,{"$f":"IF(E36=\"-\", 0, IF(E36>=0.95, 10, IF(E36>=0.85, 5, 0)))","v":0}]
[null,"6. Percentage of non-emergency transportation service requests for transporting enrollee following discharge from a hospital fulfilled within three (3) hours of receiving the request",10,{"$f":"IF(E37=\"-\", 0, IF(E37>=0.95, 10, IF(E37>=0.85, 5, 0)))","v":0}]
[null,"7. Percentage of missed non-emergency transportation trips due to fault of the non-emergency transportation provider ",5,{"$f":"IF(E42=\"-\", 0, IF(E42<=0.02, 5, 0))","v":0}]
[null,"8. Tracking Capability-Real-Time ",5,{"$f":"IF(D45=\"Yes\", 5, 0)","v":0}]
[null,"9. Tracking Capability-Assessing Missed Trips",5,{"$f":"IF(D46=\"Yes\", 5, 0)","v":0}]
[null,"State Points Earned: ",null,{"$f":"SUM(D61:D69)","v":0}]
[{"$f":"F10","v":{"v":0,"d":"0.0%"}},"1. Percentage of non-emergency transportation trips that resulted in an enrollee arriving on time for an appointment ",10,{"$f":"IF(G26=\"-\", 0, IF(G26>=0.95, 10, IF(G26>=0.9, 5, 0)))","v":0}]
[null,"2. Percentage of non-emergency transportation trips that resulted in an enrollee arriving late for an established, standing order appointment  ",5,{"$f":"IF(G29=\"-\", 0, IF(G29<=0.03, 5, 0))","v":0}]
[null,"3. Percentage of non-emergency transportation Leg A trips that resulted in pick-up of an enrollee within fifteen (15) minutes of the scheduled time",10,{"$f":"IF(G30=\"-\", 0, IF(G30>=0.95, 10, IF(G30>=0.9, 5, 0)))","v":0}]
[null,"4. Percentage of non-emergency transportation Leg B trips that resulted in pick-up of an enrollee within thirty (30) minutes of the scheduled time ",10,{"$f":"IF(G31=\"-\", 0, IF(G31>=0.95, 10, IF(G31>=0.9, 5, 0)))","v":0}]
[null,"5. Percent of non-emergency transportation service requests for transporting an enrollee to an urgent care center fulfilled within three (3) hours of receiving the request",10,{"$f":"IF(G36=\"-\", 0, IF(G36>=0.95, 10, IF(G36>=0.85, 5, 0)))","v":0}]
[null,"6. Percentage of non-emergency transportation service requests for transporting enrollee following discharge from a hospital fulfilled within three (3) hours of receiving the request",10,{"$f":"IF(G37=\"-\", 0, IF(G37>=0.95, 10, IF(G37>=0.85, 5, 0)))","v":0}]
[null,"7. Percentage of missed non-emergency transportation trips due to fault of the non-emergency transportation provider ",5,{"$f":"IF(G42=\"-\", 0, IF(G42<=0.02,5, 0))","v":0}]
[null,"8. Tracking Capability-Real-Time ",5,{"$f":"IF(F45=\"Yes\", 5, 0)","v":0}]
[null,"9. Tracking Capability-Assessing Missed Trips",5,{"$f":"IF(F46=\"Yes\", 5, 0)","v":0}]
[null,"State Points Earned: ",null,{"$f":"SUM(D71:D79)","v":0}]
["Total Points Earned:",null,null,{"$f":"SUM(D60,D70,D80)","v":0}]

{"sheet":"Scoring-CAHPS","index":46,"n_rows":23,"n_cols":15,"rows_kept":23,"merged":[[2,0,2,3],[19,0,19,3],[20,0,20,3],[21,0,21,3],[22,0,22,3]]}
["SRC #39: Consumer Assessment of Healthcare Providers and Systems ",{"$nulls":4},"SRC #39: Consumer Assessment of Healthcare Providers and Systems ",{"$nulls":8},"SRC #39: Consumer Assessment of Healthcare Providers and Systems "]
["Results Scoring Information",{"$nulls":4},"Results Scoring Information (continued)",{"$nulls":8},"Results Scoring Information (continued)"]
["Back to Respondent Information"]
{"$rows_empty":16}
["HCBS CAHPS Items",{"$nulls":3},"2022 Florida Medicaid Mean"]
["Rating of Case Manager (percent rating 9 or 10/Excellent)",{"$nulls":3},{"v":0.85,"d":"85%"}]
["Rating of Homemaker (percent rating 9 or 10/Excellent)",{"$nulls":3},{"v":0.84,"d":"84%"}]
["Choosing the Services that Matter to You (composite)(percent reporting All/Yes)",{"$nulls":3},{"v":0.8,"d":"80%"}]

{"sheet":"CAHPS","index":47,"n_rows":127,"n_cols":15,"rows_kept":127,"merged":[[0,5,0,6],[9,1,9,2],[9,3,9,4],[9,5,9,6],[10,0,11,0],[10,1,11,2],[10,3,11,4],[10,5,11,6],[19,1,19,2],[19,3,19,4],[19,5,19,6],[20,1,20,2],[20,3,20,4],[20,5,20,6],[22,1,22,2],[22,3,22,4],[22,5,22,6],[23,1,23,2],[23,3,23,4],[23,5,23,6],[24,1,24,2],[24,3,24,4],[24,5,24,6],[26,0,26,1],[29,0,34,0],[29,1,29,4],[35,0,39,0],[35,1,35,4],[36,3,36,4],[37,3,37,4],[38,3,38,4],[39,3,39,4],[40,0,40,3],[41,0,41,3],[42,0,48,0],[43,1,43,4],[49,0,53,0],[49,1,49,4],[50,3,50,4],[51,3,51,4],[52,3,52,4],[53,3,53,4],[54,0,54,3],[55,0,55,3],[56,0,62,0],[57,1,57,4],[63,0,67,0],[63,1,63,4],[64,3,64,4],[65,3,65,4],[66,3,66,4],[67,3,67,4],[68,0,68,3],[69,0,69,3],[70,0,70,3],[71,0,71,3],[72,0,72,3],[73,0,73,3]]}
["SRC #39: Consumer Assessment of Healthcare Providers and Systems Results",{"$nulls":4},"Back to Respondent Information"]
[]
["Item","Score"]
["Total Points Possible:",100]
["Points Earned:",{"$f":"E74","v":0}]
["Percent:",{"$f":"B5/B4","v":{"v":0,"d":"0%"}}]
["Final Score Possible:",100]
["CAHPS Results SRC Final Score:",{"$f":"B6*B7","v":0}]
[]
["State",{"$f":"'Respondent Information'!C6","v":0},null,{"$f":"'Respondent Information'!C9","v":0},null,{"$f":"'Respondent Information'!C12","v":0}]
["Line of Business",{"$f":"'Respondent Information'!E6","v":0},null,{"$f":"'Respondent Information'!E9","v":0},null,{"$f":"'Respondent Information'!E12","v":0}]
[{"$nulls":14},"Medicaid"]
["Adult/Child Health Plan CAHPS","Adult","Child","Adult","Child","Adult","Child",{"$nulls":7},"Medicare"]
["Health Plan CAHPS Survey Results",{"$nulls":7},"National Mean-Adult","National Mean-Child",{"$nulls":4},"CHIP"]
["% with Health Plan Rating \"9\" or \"10\"",{"$nulls":7},{"v":0.62,"d":"62.00%"},{"v":0.72,"d":"72.00%"}]
["% with Health Care Rating \"9\" or \"10\"",{"$nulls":7},{"v":0.56,"d":"56.00%"},{"v":0.71,"d":"71.00%"}]
["% Reporting Getting Needed Care \"Usually\" or \"Always\"",{"$nulls":7},{"v":0.82,"d":"82.00%"},{"v":0.84,"d":"84.00%"}]
["% Reporting Getting Care Quickly \"Usually\" or \"Always\"",{"$nulls":7},{"v":0.8,"d":"80.00%"},{"v":0.87,"d":"87.00%"},{"$nulls":4},"TANF"]
["% Reporting Health Plan Information & Customer Service \"Usually\" or \"Always\"",{"$nulls":7},{"v":0.89,"d":"89.00%"},{"v":0.88,"d":"88.00%"},{"$nulls":4},"ABD"]
["State",{"$f":"'Respondent Information'!C6","v":0},null,{"$f":"'Respondent Information'!C9","v":0},null,{"$f":"'Respondent Information'!C12","v":0},{"$nulls":8},"Dual Eligible"]
["Line of Business",{"$f":"'Respondent Information'!E6","v":0},null,{"$f":"'Respondent Information'!E9","v":0},null,{"$f":"'Respondent Information'!E12","v":0},{"$nulls":8},"Medicaid Expansion"]
["CY2022 HCBS CAHPS Survey Results",{"$nulls":7},"FL Mean",{"$nulls":5},"CHIP"]
["% Rating Case Manager \"9\" or \"10\"",{"$nulls":7},{"v":0.85,"d":"85.00%"},{"$nulls":5},"Commercial"]
["% Rating Homemaker \"9\" or \"10\"",{"$nulls":7},{"v":0.84,"d":"84.00%"}]
["% Reporting \"All\" for Choosing the Services that Matter to You",{"$nulls":7},{"v":0.8,"d":"80.00%"}]
[]
["Scores: "]
[]
["State","Criteria","Total Points Available Per Age Group","Points Earned-Adult","Points Earned-Child"]
[{"$f":"B10","v":0},"Health Plan CAHPS Survey"]
[null,"Health Plan Rating",1,{"$f":"IF(B15>I15, 1, 0)","v":0},0]
[null,"Health Care Rating",1,0,0]
[null,"Getting Needed Care",1,0,0]
[null,"Getting Needed Care Quickly",1,0,0]
[null,"Information and Customer Service",1,0,0]
[{"$f":"B20","v":0},"HCBS CAHPS Survey"]
[null,"Criteria","Total Points Available","Points Earned"]
[null,"Case Manager",1,{"$f":"IF(B23>I23, 1, 0)","v":0}]
[null,"Personal Assistant/Behavioral Health Staff",1,{"$f":"IF(B24>I24, 1, 0)","v":0}]
[null,"Service Plan Inclusion",1,{"$f":"IF(B25>I25, 1, 0)","v":0}]
["Total State Points Earned: ",{"$nulls":3},{"$f":"SUM(D31:E35,D38:E40)","v":0}]
["Total Weighted State Points Earned:",{"$nulls":3},{"$f":"IF(B11=\"Medicaid\", E41, IF(B11=\"CHIP\", E41*0.9, IF(B11=\"Medicare\", E41*0.8, 0)))","v":0}]
[{"$f":"D10","v":0},"Criteria","Total Points Available Per Age Group","Points Earned-Adult","Points Earned-Child"]
[null,"Health Plan CAHPS Survey"]
[null,"Health Plan Rating",1,{"$f":"IF(D15>I15, 1, 0)","v":0},{"$f":"IF(E15>J15, 1,0)","v":0}]
[null,"Health Care Rating",1,{"$f":"IF(D16>I16, 1, 0)","v":0},{"$f":"IF(E16>J16, 1,0)","v":0}]
[null,"Getting Needed Care",1,{"$f":"IF(D17>I17, 1, 0)","v":0},{"$f":"IF(E17>J17, 1,0)","v":0}]
[null,"Getting Needed Care Quickly",1,{"$f":"IF(D18>I18, 1, 0)","v":0},{"$f":"IF(E18>J18, 1,0)","v":0}]
[null,"Information and Customer Service",1,{"$f":"IF(D19>I19, 1, 0)","v":0},{"$f":"IF(E19>J19, 1,0)","v":0}]
[{"$f":"D20","v":0},"HCBS CAHPS Survey"]
[null,"Criteria","Total Points Available","Points Earned"]
[null,"Case Manager",1,{"$f":"IF(D23>I23, 1, 0)","v":0}]
[null,"Personal Assistant/Behavioral Health Staff",1,{"$f":"IF(D24>I24, 1, 0)","v":0}]
[null,"Service Plan Inclusion",1,{"$f":"IF(D25>I25, 1, 0)","v":0}]
["Total State Points Earned: ",{"$nulls":3},{"$f":"SUM(D45:E49,D52:E54)","v":0}]
["Total Weighted State Points Earned:",{"$nulls":3},{"$f":"IF(D11=\"Medicaid\", E55, IF(D11=\"CHIP\", E55*0.9, IF(D11=\"Medicare\", E55*0.8, 0)))","v":0}]
[{"$f":"F10","v":0},"Criteria","Total Points Available Per Age Group","Points Earned-Adult","Points Earned-Child"]
[null,"Health Plan CAHPS Survey"]
[null,"Health Plan Rating",1,{"$f":"IF(F15>I15, 1, 0)","v":0},0]
[null,"Health Care Rating",1,0,0]
[null,"Getting Needed Care",1,0,0]
[null,"Getting Needed Care Quickly",1,0,0]
[null,"Information and Customer Service",1,0,0]
[{"$f":"F20","v":0},"HCBS CAHPS Survey"]
[null,"Criteria","Total Points Available","Points Earned"]
[null,"Case Manager",1,{"$f":"IF(F23>I23, 1, 0)","v":0}]
[null,"Personal Assistant/Behavioral Health Staff",1,{"$f":"IF(F24>I24, 1, 0)","v":0}]
[null,"Service Plan Inclusion",1,{"$f":"IF(F25>I25, 1, 0)","v":0}]
["Total State Points Earned: ",{"$nulls":3},{"$f":"SUM(D59:E63,D66:E68)","v":0}]
["Total Weighted State Points Earned:",{"$nulls":3},{"$f":"IF(F11=\"Medicaid\", E69, IF(F11=\"CHIP\", E69*0.9, IF(F11=\"Medicare\", E69*0.8, 0)))","v":0}]
["Total Points Earned:",{"$nulls":3},{"$f":"SUM(E69,E55,E41)","v":0}]
["Points Earned Weighted by Line of Business: ",{"$nulls":3},{"$f":"E42+E56+E70","v":0}]
["Percent of Total Possible Points Earned:",{"$nulls":3},{"$f":"E72/39","v":{"v":0,"d":"0.00%"}}]
["Weighted Total Points:",{"$nulls":3},{"$f":"ROUNDDOWN(E73*100,0)","v":0}]
{"$rows_empty":47}
[null,"Medicaid","TANF"]
[null,"CHIP","ABD"]
[null,"Commercial","Dual Eligible"]
[null,null,"Medicaid Expansion"]
[null,null,"CHIP"]
[null,null,"Commercial"]

{"sheet":"Scoring-Mgmt Exp & Retention ","index":48,"n_rows":4,"n_cols":1,"rows_kept":4,"merged":[[3,0,3,3]]}
["SRC #41: Management Experience and Retention"]
["Scoring Information"]
[]
["Back to Respondent Information"]

{"sheet":"Mgmt Exp & Retention","index":49,"n_rows":45,"n_cols":11,"rows_kept":45,"merged":[[12,0,12,5],[34,0,34,2],[35,0,35,5],[36,1,36,2],[37,1,37,2],[38,0,38,1],[44,0,44,1]]}
["SRC #41: Management Experience and Retention",null,null,"Back to Respondent Information"]
[]
["Item","Score"]
["Total Points Possible:",15]
["Points Earned:",{"$f":"C45","v":0}]
["Percent:",{"$f":"B5/B4","v":{"v":0,"d":"0%"}}]
["Final Score Possible:",75]
["Management Experience and Retention SRC Final Score:",{"$f":"B6*B7","v":0}]
[]
[null,"State","Contract Number"]
["Contract: ",{"$f":"'Respondent Information'!C6","v":0},{"$f":"'Respondent Information'!D6","v":0},{"$nulls":6},"Medicaid"]
[{"$nulls":9},"CHIP","TANF Adult"]
["Management Experience",{"$nulls":8},"Medicare","Disabled Child"]
["Name","Position","Responsibilities","Years of experience at senior manager level or above at managed care organizations","Years of Employment with Respondent","Total years of experience serving elderly and persons with disabilities",{"$nulls":4},"Disabled Adult"]
[{"$nulls":10},"LTSS Child"]
[{"$nulls":10},"LTSS Adult"]
{"$rows_empty":18}
["Average Experience:",null,null,{"$f":"IF(ISERROR(AVERAGE(D15:D34)), 0, AVERAGE(D15:D34))","v":0},{"$f":"IF(ISERROR(AVERAGE(E15:E34)), 0, AVERAGE(E15:E34))","v":0},{"$f":"IF(ISERROR(AVERAGE(F15:F34)), 0,AVERAGE(F15:F34))","v":0}]
["Annual Executive Manager Turnover Rate (Unscored)"]
["Contract","# of Executive Managers who left in the year (voluntary and involuntary)",null,"Beginning number of Executive Managers in the year","Ending number of Executive Managers in the year","Annual Executive Manager Turnover Rate"]
[{"$f":"B11","v":0},{"$nulls":4},{"$f":"IF(ISERROR((B38/((D38+E38)/2))), 0, (B38/((D38+E38)/2)))","v":{"v":0,"d":"0.00%"}}]
["Scores: "]
[]
["Criteria","Points Available","Points Earned"]
["Years of experience at senior manager level or above at managed care organizations",5,{"$f":"IF(D35>=5, 5, (IF(D35>=3, 3, IF(D35>=1, 1, 0))))","v":0}]
["Years of Employment with Respondent",5,{"$f":"IF(E35>=5, 5, (IF(E35>=3, 3, IF(E35>=1, 1, 0))))","v":0}]
["Total years of experience serving elderly and persons with disabilities",5,{"$f":"IF(F35>=5, 5, (IF(F35>=3, 3, IF(F35>=1, 1, 0))))","v":0}]
["Total Points Earned: ",null,{"$f":"SUM(C42:C44)","v":0}]

{"sheet":"subcontractors dropdown","index":50,"n_rows":41,"n_cols":11,"rows_kept":41,"hidden":true}
["DELEGATED FUNCTION (FOR REF)",{"$nulls":3},"Function Options >",null,"Coverage of Services","Grievance and Appeal System","Provider Services","Quality","Administration and Management Services"]
["Coverage of Services","< table called \"Function\", used as a var elsewhere",{"$nulls":4},"Care Coordination/Case Management","Notice of Adverse Benefit Determination Insurance & Completion","Network Management","Performance Measures","Electronic Visit Verification"]
["Grievance and Appeal System",{"$nulls":5},"Utilization Management",null,"Provider Contracting","Performance Improvement Projects","Fraud, Abuse, & Waste Recoveries"]
["Provider Services",{"$nulls":5},"Service Authorization",null,"Provider Complaint System",null,"Pharmacy Benefits Manager"]
["Quality",{"$nulls":5},"Participant Direction Option (PDO)",null,"Claims & Provider Payment"]
["Administration and Management Services",{"$nulls":7},"Physician Incentive Program"]
[]
["V SAMPLE DROPDOWN OF FUNCTIONS V","V SAMPLE DEPENDENT DROPDOWN V",{"$nulls":3},"<< TEST CELLS"]
["Coverage of Services","Utilization Management",{"$nulls":6},"FILTERED LIST (FOR REF)"]
["Quality","Performance Improvement Projects",{"$nulls":6},{"$f":"_xlfn._xlws.FILTER(_xlfn.XLOOKUP($A9,$G$1:$K$1,$G$2:$K$6),_xlfn.XLOOKUP($A9,$G$1:$K$1,$G$2:$K$6)<>\"\")","v":"Care Coordination/Case Management"}]
[{"$nulls":8},"Utilization Management"]
["Applicable Line of Business",{"$nulls":7},"Service Authorization"]
["Medical",{"$nulls":7},"Participant Direction Option (PDO)"]
["LTSS"]
["Specialty"]
["All",{"$nulls":7},"^ From Sample Dropdown"]
[]
[]
[{"$nulls":6},"FILTER( XLOOKUP($A9,$G$1:$K$1,$G$2:$K$6),   XLOOKUP($A9,$G$1:$K$1,$G$2:$K$6)<>\"\")"]
{"$rows_empty":7}
[{"$nulls":6},"Care Coordination/Case Management"]
[{"$nulls":6},"Utilization Management"]
[{"$nulls":6},"Service Authorization"]
[{"$nulls":6},"Participant Direction Option (PDO)"]
[{"$nulls":6},"Notice of Adverse Benefit Determination Insurance & Completion"]
[{"$nulls":6},"Network Management"]
[{"$nulls":6},"Provider Contracting"]
[{"$nulls":6},"Provider Complaint System"]
[{"$nulls":6},"Claims & Provider Payment"]
[{"$nulls":6},"Physician Incentive Program"]
[{"$nulls":6},"Performance Measures"]
[{"$nulls":6},"Performance Improvement Projects"]
[{"$nulls":6},"Electronic Visit Verification"]
[{"$nulls":6},"Fraud, Abuse, & Waste Recoveries"]
[{"$nulls":6},"Pharmacy Benefits Manager"]

{"sheet":"Instruct-Template","index":51,"n_rows":1,"n_cols":1,"rows_kept":1,"hidden":true,"merged":[[0,0,1,8]]}
["SRC #__: <Name> Instructions"]

{"sheet":"SRC Template","index":52,"n_rows":34,"n_cols":10,"rows_kept":34,"hidden":true,"merged":[[6,0,7,0],[6,1,6,3],[6,4,6,6],[6,7,6,9],[15,0,15,1],[18,0,22,0],[23,0,27,0],[28,0,32,0],[33,0,33,2]]}
["SRC #__: SRC Name"]
[]
["Item","Score"]
["Total Score Possible: "]
["[Title] SRC Score Earned: ",{"$f":"D34","v":0}]
[]
[null,{"$f":"'Respondent Information'!C6","v":0},null,null,{"$f":"'Respondent Information'!C9","v":0},null,null,{"$f":"'Respondent Information'!C12","v":0}]
[null,{"$f":"'Respondent Information'!I5","v":0},{"$f":"'Respondent Information'!K5","v":0},{"$f":"'Respondent Information'!M5","v":0},{"$f":"'Respondent Information'!I9","v":0},{"$f":"'Respondent Information'!K9","v":0},{"$f":"'Respondent Information'!M9","v":0},{"$f":"'Respondent Information'!I12","v":0},{"$f":"'Respondent Information'!K12","v":0},{"$f":"'Respondent Information'!M12","v":0}]
["Heading"]
["Subhead"]
["Heading"]
["Heading"]
[]
[]
[]
["Scores: "]
[]
["State","Criteria","Points Available","Points Earned"]
[{"$f":"B7","v":0}]
[]
[]
[]
[null,"State Points Earned: "]
[{"$f":"E7","v":0}]
[]
[]
[]
[null,"State Points Earned: "]
[{"$f":"H7","v":0}]
[]
[]
[]
[null,"State Points Earned: "]
["Total Points Earned: "]