{"text_format":"3","workbook":"xlsx","n_sheets":32,"sheets":["General Instructions","Index","Changes","Jurat","Dental Rev-Exp Instructions","Dental Rev-Exp Summary","Dental Rev-Exp Region 1","Dental Rev-Exp Region 2","Dental Rev-Exp Region 3","Dental Rev-Exp Region 4","Dental Rev-Exp Region 5","Dental Rev-Exp Region 6","Dental Rev-Exp Region 7","Dental Rev-Exp Region 8","Dental Rev-Exp Region 9","Dental Rev-Exp Region 10","Dental Rev-Exp Region 11","Dental Exp Benefits","Dental Related-Party Summary","ASR Instructions","ASR Exhibit","ASR Admin Max","ASR Admin Max-Period 2","MLR Instructions - Dental Plan","MLR Exhibit - Dental","Notes","Encounter Instructions","Dental Encounter","Data Calc Input","Transaction Mapping","Dental Data","Dental Ratio"],"not_rendered":{"images":2,"macros":1,"external_links":1,"defined_names":52},"read":"whole","date_system":"1900"}

{"sheet":"General Instructions","index":0,"n_rows":77,"n_cols":4,"rows_kept":77,"merged":[[3,0,4,14],[7,0,11,14],[14,0,16,14],[23,1,24,14],[26,1,27,14],[29,1,32,14],[34,1,36,14],[52,1,53,14],[56,1,58,14],[60,2,61,14],[62,2,62,14],[63,2,63,14],[66,2,68,14],[69,2,69,14],[70,2,70,14],[71,2,72,14]]}
["SMMC ASR DENTAL FINANCIAL REPORTS - GENERAL INSTRUCTIONS"]
[]
["Certification"]
["Each Unaudited Quarterly and Annual ASR Dental Financial Report submitted to the Agency shall be accompanied by a certification/attestation in the format listed in Chapter 2 of the SMMC Report Guide. "]
[]
[]
["Quarterly ASR Dental Financial Report"]
["With the exception of the Q1 ASR Dental Financial Report, unaudited Quarterly ASR Dental Financial Reports are due to the Agency on the 15th of the second month following the end of the reporting quarter, with claims paid through the end of the reporting period.  The Q1 ASR Dental Financial Report is due by June 1.  Each subsequent quarter's report shall include restated versions of previously submitted quarters, paid through the end of the current reporting period.  The ASR and MLR Exhibit shall be prepared using restated financial data.  The Quarterly ASR Dental Financial Report shall be submitted with the certification of the CEO or CFO attesting to its accuracy, as discussed in Chapter 2, General Reporting Requirements."]
[]
[]
[]
[]
[]
["Annual ASR Dental Financial Report"]
["Annual unaudited ASR Dental Financial Reports are due to the Agency by May 1 following the end of the reporting calendar year, with claims paid through March 31.  The following shall be submitted as part of the Annual unaudited ASR Dental Financial Report (refer to the Report Guide for further information):"]
[]
[]
["o   One set of the completed Annual ASR Dental Financial Report with all applicable schedules completed."]
["o   Actuarial certification of incurred claims"]
["o   Claim lag template"]
["o   Certification by the CEO or CFO, as discussed in Chapter 2, General Reporting Requirements."]
[]
["Instructions"]
["1.","The Dental Health Plan shall prepare the Quarterly and Annual ASR Dental Financial Reports, and applicable schedules, using generally accepted accounting principles (GAAP)."]
[]
[]
["2.","The Dental Health Plan shall submit reports that are specific to the operations of the Dental Health Plan rather than to a parent or umbrella organization."]
[]
[]
["3.","For the Quarterly ASR Dental Financial Reports, report revenues and expenses earned or incurred during the reporting period.  An estimated liability shall be reported for expenses Incurred but Not Paid (IBNP).  For the Annual ASR Dental Financial Report, report revenue and expenses earned or incurred during the reporting period allowing for the 90 calendar day runout period.  An estimated liability shall be reported for IBNP."]
[]
[]
[]
[]
["4.","The Dental Health Plan shall complete the Quarterly ASR Dental Financial Reports using the Excel file supplied by the Agency for unaudited quarterly reports and the Annual ASR Dental Financial Report using the Excel file supplied by the Agency for examined annual reports.  The following reports/schedules shall be completed and submitted for each region that the Dental Health Plan has a contract:"]
[]
[]
[]
[null,"a.","Quarterly ASR Dental Financial Report (unaudited)"]
[null,null,"i.","Revenue and Expense Schedule in summary and for each region, each quarter year-to-date"]
[null,null,"ii.","Related-Party Schedule in summary and for each region, each quarter year-to-date"]
[null,null,"iii.","Achieved Savings Rebate Exhibit, all quarters year-to-date"]
[null,null,"iv.","Medical Loss Ratio Exhibit, all quarters year-to-date"]
[]
[null,"b.","Annual ASR Dental Financial Report (unaudited)"]
[null,null,"i.","Annual Revenue and Expense Schedule in summary and for each region"]
[null,null,"ii.","Annual Related-Party Schedule Summary Schedule"]
[null,null,"iii.","Annual Achieved Savings Rebate Exhibit"]
[null,null,"iv.","Annual Medical Loss Ratio Exhibit"]
[null,null,"v.","Claim Lag Template"]
[null,null,"vi.","Underwriting and Investment (U&I) Exhibit, Part 2B (for plans not submitting the annual NAIC Health Statement)"]
[]
["5.","Refer to the Instructions tabs for the Dental Revenue and Expense Schedules, the ASR Exhibit and MLR exhibit for more detailed instructions listing the type of revenue or expense to be reported on each line of the reports.  "]
[]
[]
["6.","Dental Related-Party Schedules"]
[null,"For each type of service that the Dental Health Plan elects to have a related-party provide, the related-party’s name, the nature of affiliation, service type, and a description of the payment methodology used to compensate the related-party shall be provided on the Related-Party Schedule in the applicable section, as well as the amount paid to each entity.  Related-parties can include, but are not limited to:"]
[]
[]
[]
[null,"a.","Any person or entity who directly or indirectly manages, controls, or oversees the operation of the Dental Health Plan, regardless of whether such person or entity is a partner, shareholder, owner, officer, director, agent, or employee of the entity."]
[]
[null,"b.","Any person or entity who has a financial relationship with the Dental Health Plan as defined by 42 CFR 438.320(1)."]
[null,"c.","An individual or entity who meets the definition of an affiliate as defined in 48 CFR 19.101."]
[]
["The following instructions shall be used when completing the Related-Party Schedule:"]
[null,"o   ","Report related-party transactions by type of service, including Fee-for-Service, Subcapitated services, administrative expenses, and other expenses.  Refer to the instruction tab for the Dental Revenue and Expense Schedules for additional information concerning the types of administrative expenses and other expenses."]
[]
[]
[null,"o   ","Vendor Name:  List the name of the entity with which the Dental Health Plan has the related-party affiliation."]
[null,"o   ","Affiliation:  Describe the nature of the relationship/affiliation with the related-party."]
[null,"o   ","Payment Methodology:  Select the methodology used to compensate the related-party for the services provided from the drop down list.  If Other is selected, please describe in the Notes section.     "]
[]
[]
["7.","Dental Expanded Benefits Schedule"]
[null,"The purpose of this schedule is to report expenses incurred for each expanded benefit provided to Medicaid recipients.  The Expanded Benefits schedule"]
[null,"should agree with amounts reported for Expanded Benefits on the Rev-Exp schedules."]

{"sheet":"Index","index":1,"n_rows":30,"n_cols":3,"rows_kept":30}
["ASR DENTAL FINANCIAL REPORT - INDEX"]
[]
[]
["Section","Tab Name","Description"]
["General","Plan Selection","Displays the applicable Dental and ASR Schedules for the reporting managed care plan based on the plan selected."]
["General","General Instructions","Provides general instructions for the completion of the ASR Dental Financial Report.  Additional instructions can be found on the schedule-specific instructions."]
["General","Index","Listing of all tabs contained within the ASR Dental Financial Report"]
["General","Changes","Listing of changes made to the ASR Dental Financial Report"]
["General","Jurat","Jurat Page"]
["Dental","Dental Rev-Exp Instructions","Detailed instructions for completion of the Dental Rev-Exp Schedules."]
["Dental","Dental Rev-Exp - Summary","Summary of dental data reported on the Dental Rev-Exp Regional Schedules."]
["Dental","Dental Rev-Exp - Region 1","Dental Revenue and Expense information for Region 1."]
["Dental","Dental Rev-Exp - Region 2","Dental Revenue and Expense information for Region 2."]
["Dental","Dental Rev-Exp - Region 3","Dental Revenue and Expense information for Region 3."]
["Dental","Dental Rev-Exp - Region 4","Dental Revenue and Expense information for Region 4."]
["Dental","Dental Rev-Exp - Region 5","Dental Revenue and Expense information for Region 5."]
["Dental","Dental Rev-Exp - Region 6","Dental Revenue and Expense information for Region 6."]
["Dental","Dental Rev-Exp - Region 7","Dental Revenue and Expense information for Region 7."]
["Dental","Dental Rev-Exp - Region 8","Dental Revenue and Expense information for Region 8."]
["Dental","Dental Rev-Exp - Region 9","Dental Revenue and Expense information for Region 9."]
["Dental","Dental Rev-Exp - Region 10","Dental Revenue and Expense information for Region 10."]
["Dental","Dental Rev-Exp - Region 11","Dental Revenue and Expense information for Region 11."]
["Dental","Dental Exp Benefits","Summary of Dental Expanded Benefits."]
["Dental","Dental Related-Party - Summary","Summary of dental data reported on the Dental Related-Party Regional Schedules."]
["ASR ","ASR Exhibit Instructions","Detailed instructions for completing the ASR Exhibit"]
["ASR ","ASR Exhibit","Schedule for calculating the Achieved Savings Rebate and Medical Loss Ratio."]
["ASR ","ASR Admin Max","Schedule for calculating the Actuarially-Sound Administrative Maximum used in the determining the Achieved Savings Rebate."]
["ASR ","MLR Exhibit Instruction","Detailed instructions for completing the MLR exhibit"]
["ASR ","MLR Exhibit","Schedule for calculating the Medical Loss Ratio."]
["Notes","Notes","Notes section."]

{"sheet":"Changes","index":2,"n_rows":63,"n_cols":5,"rows_kept":63}
["ASR DENTAL FINANCIAL REPORT - CHANGE LOG"]
[]
["Current Version:",null,"ASR Dental Financial Report, 032123"]
["Previous Version:",null,"ASR Dental Financial Report, 011323"]
[]
[null,"Changes effective with the current version"]
[]
["Section","Change No.","Report Version","Schedule/Excel Tab","Change"]
["All",1,"080118","All","The structure of the Report has been locked.  Tabs cannot be added, deleted, or renamed."]
["General",1,"080118","General Instructions","Included a statement requiring a certification to be submitted along with the ASR Dental Financial Report."]
["General",{"$f":"1+B10","v":2},"080118","General Instructions","Added clarification to the ASR Dental Financial Report."]
["General",{"$f":"1+B11","v":3},"080118","Jurat","No changes."]
["General ",4,"080118","Changes","Updated for current version changes."]
["General ",5,"100119","General Instructions","Added Medical Loss Ratio Exhibit in items 4a(iv.), 4b(iv.) and 4b(v.) and changed the description in line 11."]
["General ",6,"100119","General Instructions","Added MLR Exhibit in item 5."]
["Dental",1,"080118","Dental Rev-Exp Instructions","Added instructions for the lines added on the Dental Rev-Exp Summary and Regional tabs, noted below."]
["Dental",{"$f":"B16+1","v":2},"080118","Dental Rev-Exp Summary","Added a Settlement line to the dental service category.  Instructions added to the Instructions tab."]
["Dental",{"$f":"B17+1","v":3},"080118","Dental Rev-Exp Summary","Formulas have been added to populate the Summary schedule from information entered on the Regional schedules.  Cells with formulas have been locked."]
["Dental",4,"080118","Dental Rev-Exp Summary","Formulas added to populate Dental Health Plan, Reporting Period, and Paid Through for all remaining Dental schedules based on what is entered on the Summary."]
["Dental",5,"080118","Dental Rev-Exp Regional","Regional Tabs added for all 11 regions."]
["Dental",{"$f":"B20+1","v":6},"080118","Dental Rev-Exp Regional","Formulas added for totals.  Cells with formulas have been locked."]
["Dental",{"$f":"B21+1","v":7},"080118","Dental Exp Benefits","Expanded Benefits section added."]
["Dental",8,"080118","Dental Related-Party Summary","Formulas added for totals.  However, cells have not been locked so that additional Vendors can be added, if needed."]
["Dental",9,"021519","Dental Rev-Exp Summary","Formulas corrected pull from the correct cells."]
["Dental",10,"021519","Dental Rev-Exp Regional","Formulas corrected pull from the correct cells in the \"Total to Date\" columns."]
["Dental",11,"050119","ASR Admin Max","Updated ASR Admin Max schedule based on the methodology changes "]
["Dental",12,"050119","ASR Admin Max","Updated and revised instructions for line 1.1"]
["Dental",13,"100119","ASR Exhibit","Deleted Line 1.5 Revenue Subject to MLR."]
["Dental",14,"100119","ASR Exhibit","Deleted Line 3.1 Funds to Graduate Medical Education institutions."]
["Dental",15,"100119","ASR Exhibit","Deleted Line 3.2 Contributions for the Purpose of Supporting Medicaid and Indigent Care."]
["Dental",16,"100119","ASR Exhibit","Deleted Line 3.3 Total Florida-Specific Contributions."]
["Dental",17,"100119","ASR Exhibit","Deleted Line 4.1 Improve Health Outcomes."]
["Dental",18,"100119","ASR Exhibit","Deleted Line 4.2 Activities to Prevent Hospital Readmissions."]
["Dental",19,"100119","ASR Exhibit","Deleted Line 4.3 Improve Patient Safety and Reducing Medical Errors."]
["Dental",20,"100119","ASR Exhibit","Deleted Line 4.4 Wellness and Health Promotion Activities."]
["Dental",21,"100119","ASR Exhibit","Deleted Line 4.5 Health Information Technology (HIT) expenses related to Health Improvement."]
["Dental",22,"100119","ASR Exhibit","Deleted Line 4.6 Total of Defined Expenses incurred for improving Health Care Quality."]
["Dental",23,"100119","ASR Exhibit","Deleted Line 5.0 Deductible Fraud and Abuse Detection/Recovery Expenses (MLR only)."]
["Dental",24,"100119","ASR Exhibit","Deleted Line 6.0 Preliminary Medical Loss Ratio: MLR."]
["Dental",25,"100119","ASR Exhibit","Deleted Line 1.6 Add: Income taxes deducted from Revenue for Federal MLR reporting"]
["Dental",26,"100119","ASR Exhibit Instructions","Instructions have been revised for the above changes."]
["Dental",27,"100119","ASR Exhibit Instructions","Instructions have been revised from Excel line 5 to line 10. Removed one quarter lag behind Revenue & Expense schedule"]
["Dental",28,"100119","ASR Exhibit Instructions","Instructions have been revised for line 1.2 Federal Taxes and Assessments, ACA9010. Removed  income taxes deductible from revenue."]
["Dental",29,"100119","ASR Exhibit Instructions","Instructions have been revised from line 1.3 State insurance, Premium and other Taxes. Removed  income taxes deductible from revenue."]
["Dental",30,"100119","ASR Exhibit Instructions"," Removed line 1.6 Add; Income taxes deducted from Revenue for Federal MLR reporting. "]
["Dental",31,"100119","MLR Instructions","Added Medical Loss Ratio Instructions Tab."]
["Dental",32,"100119","MLR Exhibit","Added Medical Loss Ratio Exhibit Tab.  This change is related to  CMCS informational bulletin issued on May 15, 2019  \" Medical Loss Ratio (MLR) Requirements Related to Third Party Vendors\" "]
["Dental",33,"011520","MLR Instructions","Added item 2.4 instruction for Incurred But Not Paid Ending Balance-Subcontractors"]
["Dental",34,"011520","MLR exhibit","Added item 2.4-Incurred But Not Paid Ending Balance-Subcontractors"]
["Dental",35,"033020","ASR Exhibit","Updated the formula for cell H30"]
["Dental",36,"033020","ASR Admin Max","Updated instructions for line 1.0 and  1.1.  Added Note 1"]
["Dental",37,"033020","ASR Admin Max","Added information in line 4 and line 5 for reporting period and paid through"]
["Dental",38,"033020","ASR Admin Max-period 2","Added ASR Admin Max-period 2 tab. This tab represents admin max for reporting period from Oct 1, 2019 to Dec 31, 2019. Please see note 1 for PMPM instruction"]
["Dental",39,"042720","ASR Admin Max","Updated instructions from line 19 to line 26"]
["Dental",40,"042720","ASR Admin Max-period 2","Updated instructions from line 19 to line 24"]
["Dental",41,"091520","Encounter Instructions","Added Encounter Instructions tab"]
["Dental",42,"091520","Dental Encounter","Added Dental Encounter tab and formulas"]
["Dental",43,"072121","ASR exhibit","Removed premium deficiency reserve and other reserve account contributions. "]
["Dental",44,"072121","MLR exhibit","Removed premium deficiency reserve and other reserve account contributions. "]
["Dental",45,"072121","Dental Encounter","Updated the formula for cell C24"]
["Dental",46,11323,"Dental Encounter","Corrected formulas in cells F12-F24"]
["Dental",47,32123,"MLR Instructions - Dental Plan","Added instructions on how to calculate MLR Credibility Adjustment "]
["Dental",48,32123,"MLR Exhibit - Dental","Added MLR Credibility Adjustment calculation"]

{"sheet":"Jurat","index":3,"n_rows":40,"n_cols":8,"rows_kept":40,"merged":[[0,2,0,5],[0,6,0,7],[1,2,1,6],[2,2,2,5],[3,2,3,6],[3,7,3,8],[4,2,4,5],[5,2,5,6],[7,2,7,4],[10,2,10,4],[11,2,11,6],[12,2,12,6],[13,2,13,5],[15,1,15,2],[15,4,15,7],[16,1,16,2],[16,4,16,7],[17,1,17,2],[17,4,17,7],[18,1,18,2],[18,4,18,7],[19,1,19,2],[19,4,19,7],[20,1,20,2],[20,4,20,7],[21,1,21,2],[21,4,21,7],[22,1,22,2],[22,4,22,7],[23,1,23,2],[23,4,23,7],[24,1,24,2],[24,4,24,7],[27,2,27,6],[32,3,32,4]]}
[null,null,"HEALTH PLAN NAME",{"$nulls":3},"Calendar Year:"]
[]
[null,null,"ADDRESS"]
[{"$nulls":7},"(street, city, zip)"]
[null,null,"PARENT COMPANY NAME"]
[]
[]
[null,"CONTACT PERSON:"]
[null,"TELEPHONE:"]
[null,"FAX:"]
[null,"E-MAIL ADDRESS:"]
[null,null,"PRESIDENT, C.E.O."]
[]
[null,null,"OFFICERS AND DIRECTORS"]
[null,"Name:",null,null,"Title:"]
["1."]
["2."]
["3."]
["4."]
["5."]
["6."]
["7."]
["8."]
["9."]
["10."]
[]
[]
[null,null,"Company Filing Status:      (1) For-Profit     (2) Not-For-Profit"]
[]
[]
[]
[{"$nulls":3},"FOR THE QUARTER ENDING"]
[]
[]
[null,"-----------------------------------------------------------------------------"]
[null,"CEO/PRESIDENT'S SIGNATURE "]
[]
[null,"AUTHORITY GRANTED BY :"]
[null,"AGENCY FOR HEALTH CARE ADMINISTRATION  "]
[null," "]

{"sheet":"Dental Rev-Exp Instructions","index":4,"n_rows":74,"n_cols":4,"rows_kept":74,"merged":[[19,0,19,2],[20,0,21,2],[20,3,21,3],[22,0,25,0],[26,0,27,2],[26,3,27,3],[28,0,43,0],[44,0,54,0],[55,0,55,2],[56,0,62,0],[63,0,69,0]]}
["DENTAL REVENUE AND EXPENSE SCHEDULE - INSTRUCTIONS"]
["QUARTERLY AND ANNUAL"]
[]
["Coverage:","Reported for dental experience, by region and by rate cell. Summary report aggregates all contracted regions."]
["Reporting Period:","Quarter YTD; each quarterly submission introduces a new quarter and updates prior quarters."]
["June 1","Q1 Revenue & Expense Schedule includes only January - March (paid through March)."]
["August 15","Q2 Revenue & Expense Schedule includes restated January - March, first look at April - June (all paid through June). "]
["November 15","Q3 Revenue & Expense Schedule includes restated January - March and April - June, first look at July - September (all paid through September)."]
["February 15","Q4 Revenue & Expense Schedule includes restated quarters 1 - 3, first look at October - December (all paid through December)."]
["May 1","Annual Revenue & Expense Schedule includes restated quarters 1-4 of prior calendar year, all paid through March."]
[]
["Health Plan:","Name or D/B/A of the reporting prepaid dental health plan."]
["Reporting Period:","Based upon the reporting periods identified above."]
["Paid Through:","Based on the paid through timeframes identified above."]
["Region:","Applicable only for Regional reports."]
[]
["Note 1:  The Prior Year Adjustment column shall be used to report all prior period activity, including changes in estimates."]
["Note 2:  Please exclude Medical School Pass-through Payments from the Dental Report."]
[]
["MEMBER MONTHS",null,null,"Number of members enrolled in each month.  Year-to-Date is the sum of the member months over the individual months of the period."]
["REVENUES"]
[]
["Revenues","1.1","Capitation","Monthly premium payments earned on behalf of Medicaid recipients. Report accrued revenue details, including the type and the amounts, in the notes tab of this report."]
[null,"1.2","ACA § 9010 related payments","Amounts earned by plans for the Health Insurance Providers Fee and associated tax gross-ups. Report accrued revenue details, including the type and the amounts, in the notes tab of this report."]
[null,"1.3","Other Revenue","Plan-related revenue earned from other sources not listed in lines 1.1 through 1.2. -- does not include investment gains.  Report details of this income, including the type and amount, in the notes section of this report."]
[null,"1.4","Total Revenue","Sum of lines 1.1 through 1.3 (Direct business, not increased for reinsurance assumed and not reduced by reinsurance ceded)"]
["BENEFIT EXPENSES"]
[]
["Dental","2.1","Dental Services Diagnostic FFS","Expenses incurred for Clinical Oral Evaluations, Pre-diagnostic Services, Diagnostic Imaging, and Tests and Examinations."]
[null,2.2,"Dental Services Preventive FFS","Expenses incurred for Dental Prophylaxis, Topical Fluoride Treatment (Office Procedure), Space Maintenance (Passive Appliances), and Other Preventive Services."]
[null,"2.3","Dental Services Restorative FFS","Expenses incurred for Amalgam Restorations (Including Polishing), Resin-Based Composite Restorations - Direct, Crowns - Single Restorations Only, and Other Restorative Services."]
[null,"2.4","Dental Services Endodontics FFS","Expenses incurred for Pulp Capping, Pulpotomy, Endodontic Therapy on Primary Teeth, Endodontic Therapy (Including Treatment Plan, Clinical Procedures and Follow-Up Care), Apexification/Recalcification, and Apicoectomy/Periradicular Services."]
[null,"2.5","Dental Services Periodontics FFS","Expenses incurred for non- Oral and Maxillofacial Surgical Services (e.g. gingivectomy, gingivoplasty, gingival flap procedure, osseous surgery) including Usual Postoperative Care and Non-Surgical Periodontal Services."]
[null,"2.6","Dental Services Prosthodontics FFS","Expenses incurred for Complete Dentures (Including Routine Post-Delivery Care), Partial Dentures (Including Routine Post-Delivery Care), Adjustments to Dentures, Repairs to Complete Dentures, Repairs to Partial Dentures, Denture Reline Procedures, and Interim Prosthesis."]
[null,"2.7","Dental Services Prosthodontics, fixed FFS","Expenses incurred for Other Fixed Partial Denture Services."]
[null,"2.8","Dental Services Oral and Maxillofacial Surgery FFS","Expenses incurred for Extractions (Includes Local Anesthesia, Suturing, If Needed, and Routine Postoperative Care), Surgical Extractions (Includes Local Anesthesia, Suturing, If Needed, and Routine Postoperative Care) , Surgical Incision, Alveoloplasty - Surgical Preparation of Ridge, Excision of Bone Tissue, Reduction of Dislocation and Management of Other Temporomandibular Joint Dysfunctions, Other Surgical Procedures, and Other Repair Procedures (such as Excision of hyperplastic tissue – per arch) ."]
[null,"2.9","Dental Services Orthodontics FFS","Expenses incurred for Comprehensive Orthodontic Treatment, Minor Treatment to Control Harmful Habits, and Other Orthodontic Services."]
[null,"2.10","Dental Services Adjunctive General Services FFS","Expenses incurred for Anesthesia, Professional Consultation, Professional Visits, Behavior Management, and Palliative (Emergency) Treatment of Dental Pain."]
[null,"2.11","Dental Services Other FFS","Expenses incurred for covered services not included on lines 2.1 through 2.10."]
[null,"2.12","Dental Expanded Benefits FFS","Expenses incurred for services that may be offered by the health plan in excess of the amount, duration, and scope of services listed in the Medicaid Dental Health Plan Contract, Attachment II, Sections VI."]
[null,"2.13","Dental Services Paid through Subcapitation","Expenses incurred for subcapitated payments to providers for dental services."]
[null,"2.14","Ending IBNP for Dental Services","Estimated amount for Dental Services incurred but not paid (IBNP).  Amounts should be \"Best Estimate\" and should not include margin or LAE.  The Prior Calendar Year column should include a reversal of the prior year's IBNP as claims experience develops."]
[null,"2.15","Dental Settlements/AP","Expenses incurred for dental services associated with provider, recipient, legal, and/or TPL settlements not included on lines 2.1 through 2.14.  Also includes alternative payment arrangements."]
[null,2.16,"Total Dental Services","Sum of lines 2.1 through 2.15"]
["Total Before and After Reinsurance",3.1,"Total Dental Services Paid Directly FFS","Sum of lines 2.1 through 2.12"]
[null,3.2,"Total Dental Services Paid through Subcapitation","Sum of line 2.13"]
[null,3.3,"Total Dental Services Paid Directly -- IBNP","Sum of line 2.14"]
[null,"3.4","Total Dental Services Paid by Settlements/AP","Sum of line 2.15"]
[null,"3.5","TPL & Fraud/Abuse Recoveries","Recoveries due to Third-Party Liability, Fraud & Abuse, and other overpayment recovery efforts not included in lines 3.1 through 3.3.  Reported as a negative amount."]
[null,3.6,"Premium Deficiency Reserve","Provision for Premium Deficiency Reserve."]
[null,"3.7","Subtotal Benefit Expense before Reinsurance","Sum of lines 3.1 through 3.6"]
[null,"3.8","Reinsurance Premiums","Amounts incurred by plans to authorized companies assuming risk."]
[null,"3.9","Reinsurance Recoveries","Amounts recovered and changes in accrued amounts recoverable from reinsurers on paid losses and on losses included in IBNP.  Reported as a negative amount."]
[null,"3.10","Net cost of Reinsurance","Sum of Lines 3.8 and line 3.9"]
[null,"3.11","Grand Total Medical Benefit Expense Net of Reinsurance","Sum of line 3.7 plus line 3.10"]
["Administrative Expenses, Government-Mandated Assessments, Taxes, and Fees "]
["Administrative Expenses","4.1","Salaries & Benefits","Direct salary, benefit, and payroll tax expenses.  Reported separately for direct health plan expenses and corporate allocations."]
[null,"4.2","Administrative Services","Non-salary/benefit-related expenses for accounting, actuarial, risk management, legal, investment services, underwriting, etc.  Includes payments to parent company or other contracted entities.  Reported separately for direct health plan expenses and corporate allocations."]
[null,"4.3","Information Systems","Claims processing, pharmacy benefits management, and other information systems expenses.  Includes payments to parent company or contracted entities.  Reported separately for direct health plan expenses and corporate allocations."]
[null,"4.4","Marketing Expenses","Market research, marketing campaigns/advertising, public relations.  Reported separately for direct health plan expenses and corporate allocations."]
[null,"4.5","General  Administration","Direct & Allocated overhead, rent, utilities, supplies, insurance, and other operating expenses not specifically identified in lines 4.1 through 4.4.  Reported separately for direct health plan expenses and corporate allocations."]
[null,"4.6","Compliance/Regulatory","Expenses associated with fines, penalties, liquidated damages, or other compliance matters as identified/levied by governmental or other regulatory entities.  Reported separately for direct health plan expenses and corporate allocations."]
[null,"4.7","Total Administrative Expenses ","Sum of lines 4.1 through 4.6"]
["Government-Mandated Assessments, Taxes, and Fees Other Than Income Taxes","5.1","State Premium tax","Amounts paid or payable on premium revenue in 1.4"]
[null,"5.2","Department of Insurance Assessments","Amounts paid or payable related to premium revenue in 1.4"]
[null,"5.3","Section 9010 Health Insurance Providers Fee","Amounts payable for the HIPF calculated from amounts of premium revenue filed on Form 8963."]
[null,"5.4","Other 1","Additional assessments, taxes, and fees not reported on lines 5.1 through 5.3, as needed.  Additional information to be provided in the Notes section."]
[null,"5.5","Other 2","Additional assessments, taxes, and fees not reported on lines 5.1 through 5.3, as needed.  Additional information to be provided in the Notes section."]
[null,"5.6","Other 3","Additional assessments, taxes, and fees not reported on lines 5.1 through 5.3, as needed.  Additional information to be provided in the Notes section."]
[null,"5.7","Total ","Sum of lines 5.1 through 5.6"]
[null,"6.0","Grand Total Expenses","Sum of lines 3.11 and 4.7 and 5.7"]
[null,"7.0","Underwriting Gain / (Loss)  --- AKA Pre-tax Earnings from Operations","Line 1.4 minus 6.0"]
[null,"8.0","Income Tax Expense","Domestic federal, state, and local taxes based on income from operations. "]
[null,"9.0","Net Underwriting Gain (Loss) from Operations","Line 7.0 minus 8.0"]

{"sheet":"Dental Rev-Exp Summary","index":5,"n_rows":63,"n_cols":34,"rows_kept":63,"merged":[[6,3,6,8],[6,9,6,14],[6,15,6,20],[6,21,6,26],[6,28,6,33],[9,0,9,2],[10,0,13,0],[14,0,15,2],[14,3,14,8],[14,9,14,14],[14,15,14,20],[14,21,14,26],[14,28,14,33],[16,0,31,0],[32,0,42,0],[43,0,44,2],[43,3,43,8],[43,9,43,14],[43,15,43,20],[43,21,43,26],[43,28,43,33],[45,0,51,0],[52,0,58,0]]}
["DENTAL -- REVENUE AND EXPENSE SCHEDULE - SUMMARY"]
[]
["Health Plan:"]
["Reporting Period:"]
["Paid Through:"]
["Summary"]
[{"$nulls":3},"JANUARY - MARCH (Q1)",{"$nulls":5},"APRIL - JUNE (Q2)",{"$nulls":5},"JULY - SEPTEMBER (Q3)",{"$nulls":5},"OCTOBER - DECEMBER (Q4)",{"$nulls":6},"TOTAL (TO DATE)"]
[{"$nulls":3},"Total","Medicaid Only/Dual Eligible 0-20 Years","Medicaid Only 21+ Years","Dual Eligible 21+ Years","Medically Needy 0-20 Years","Medically Needy 21+ Years","Total","Medicaid Only/Dual Eligible 0-20 Years","Medicaid Only 21+ Years","Dual Eligible 21+ Years","Medically Needy 0-20 Years","Medically Needy 21+ Years","Total","Medicaid Only/Dual Eligible 0-20 Years","Medicaid Only 21+ Years","Dual Eligible 21+ Years","Medically Needy 0-20 Years","Medically Needy 21+ Years","Total","Medicaid Only/Dual Eligible 0-20 Years","Medicaid Only 21+ Years","Dual Eligible 21+ Years","Medically Needy 0-20 Years","Medically Needy 21+ Years","Prior Year Adjustments","Total","Medicaid Only/Dual Eligible 0-20 Years","Medicaid Only 21+ Years","Dual Eligible 21+ Years","Medically Needy 0-20 Years","Medically Needy 21+ Years"]
["MEMBER MONTHS",null,null,{"$f":"SUM(E9:I9)","v":0},{"$f":"SUM('Dental Rev-Exp Region 1:Dental Rev-Exp Region 11'!E9)","v":0},{"$f":"SUM('Dental Rev-Exp Region 1:Dental Rev-Exp Region 11'!F9)","v":0},{"$f":"SUM('Dental Rev-Exp Region 1:Dental Rev-Exp Region 11'!G9)","v":0},{"$f":"SUM('Dental Rev-Exp Region 1:Dental Rev-Exp Region 11'!H9)","v":0},{"$f":"SUM('Dental Rev-Exp Region 1:Dental Rev-Exp Region 11'!I9)","v":0},{"$f":"SUM(K9:O9)","v":0},{"$f":"SUM('Dental Rev-Exp Region 1:Dental Rev-Exp Region 11'!K9)","v":0},{"$f":"SUM('Dental Rev-Exp Region 1:Dental Rev-Exp Region 11'!L9)","v":0},{"$f":"SUM('Dental Rev-Exp Region 1:Dental Rev-Exp Region 11'!M9)","v":0},{"$f":"SUM('Dental Rev-Exp Region 1:Dental Rev-Exp Region 11'!N9)","v":0},{"$f":"SUM('Dental Rev-Exp Region 1:Dental Rev-Exp Region 11'!O9)","v":0},{"$f":"SUM(Q9:U9)","v":0},{"$f":"SUM('Dental Rev-Exp Region 1:Dental Rev-Exp Region 11'!Q9)","v":0},{"$f":"SUM('Dental Rev-Exp Region 1:Dental Rev-Exp Region 11'!R9)","v":0},{"$f":"SUM('Dental Rev-Exp Region 1:Dental Rev-Exp Region 11'!S9)","v":0},{"$f":"SUM('Dental Rev-Exp Region 1:Dental Rev-Exp Region 11'!T9)","v":0},{"$f":"SUM('Dental Rev-Exp Region 1:Dental Rev-Exp Region 11'!U9)","v":0},{"$f":"SUM(W9:AA9)","v":0},{"$f":"SUM('Dental Rev-Exp Region 1:Dental Rev-Exp Region 11'!W9)","v":0},{"$f":"SUM('Dental Rev-Exp Region 1:Dental Rev-Exp Region 11'!X9)","v":0},{"$f":"SUM('Dental Rev-Exp Region 1:Dental Rev-Exp Region 11'!Y9)","v":0},{"$f":"SUM('Dental Rev-Exp Region 1:Dental Rev-Exp Region 11'!Z9)","v":0},{"$f":"SUM('Dental Rev-Exp Region 1:Dental Rev-Exp Region 11'!AA9)","v":0},{"$f":"SUM('Dental Rev-Exp Region 1:Dental Rev-Exp Region 11'!AB9)","v":0},{"$f":"SUM(AD9:AH9)+AB9","v":0},{"$f":"SUM('Dental Rev-Exp Region 1:Dental Rev-Exp Region 11'!AD9)","v":0},{"$f":"SUM('Dental Rev-Exp Region 1:Dental Rev-Exp Region 11'!AE9)","v":0},{"$f":"SUM('Dental Rev-Exp Region 1:Dental Rev-Exp Region 11'!AF9)","v":0},{"$f":"SUM('Dental Rev-Exp Region 1:Dental Rev-Exp Region 11'!AG9)","v":0},{"$f":"SUM('Dental Rev-Exp Region 1:Dental Rev-Exp Region 11'!AH9)","v":0}]
["REVENUES"]
["Revenues","1.1","Capitation",{"$f":"SUM(E11:I11)","v":0},{"$f":"SUM('Dental Rev-Exp Region 1:Dental Rev-Exp Region 11'!E11)","v":0},{"$f":"SUM('Dental Rev-Exp Region 1:Dental Rev-Exp Region 11'!F11)","v":0},{"$f":"SUM('Dental Rev-Exp Region 1:Dental Rev-Exp Region 11'!G11)","v":0},{"$f":"SUM('Dental Rev-Exp Region 1:Dental Rev-Exp Region 11'!H11)","v":0},{"$f":"SUM('Dental Rev-Exp Region 1:Dental Rev-Exp Region 11'!I11)","v":0},{"$f":"SUM(K11:O11)","v":0},{"$f":"SUM('Dental Rev-Exp Region 1:Dental Rev-Exp Region 11'!K11)","v":0},{"$f":"SUM('Dental Rev-Exp Region 1:Dental Rev-Exp Region 11'!L11)","v":0},{"$f":"SUM('Dental Rev-Exp Region 1:Dental Rev-Exp Region 11'!M11)","v":0},{"$f":"SUM('Dental Rev-Exp Region 1:Dental Rev-Exp Region 11'!N11)","v":0},{"$f":"SUM('Dental Rev-Exp Region 1:Dental Rev-Exp Region 11'!O11)","v":0},{"$f":"SUM(Q11:U11)","v":0},{"$f":"SUM('Dental Rev-Exp Region 1:Dental Rev-Exp Region 11'!Q11)","v":0},{"$f":"SUM('Dental Rev-Exp Region 1:Dental Rev-Exp Region 11'!R11)","v":0},{"$f":"SUM('Dental Rev-Exp Region 1:Dental Rev-Exp Region 11'!S11)","v":0},{"$f":"SUM('Dental Rev-Exp Region 1:Dental Rev-Exp Region 11'!T11)","v":0},{"$f":"SUM('Dental Rev-Exp Region 1:Dental Rev-Exp Region 11'!U11)","v":0},{"$f":"SUM(W11:AA11)","v":0},{"$f":"SUM('Dental Rev-Exp Region 1:Dental Rev-Exp Region 11'!W11)","v":0},{"$f":"SUM('Dental Rev-Exp Region 1:Dental Rev-Exp Region 11'!X11)","v":0},{"$f":"SUM('Dental Rev-Exp Region 1:Dental Rev-Exp Region 11'!Y11)","v":0},{"$f":"SUM('Dental Rev-Exp Region 1:Dental Rev-Exp Region 11'!Z11)","v":0},{"$f":"SUM('Dental Rev-Exp Region 1:Dental Rev-Exp Region 11'!AA11)","v":0},{"$f":"SUM('Dental Rev-Exp Region 1:Dental Rev-Exp Region 11'!AB11)","v":0},{"$f":"SUM(AD11:AH11)+AB11","v":0},{"$f":"SUM('Dental Rev-Exp Region 1:Dental Rev-Exp Region 11'!AD11)","v":0},{"$f":"SUM('Dental Rev-Exp Region 1:Dental Rev-Exp Region 11'!AE11)","v":0},{"$f":"SUM('Dental Rev-Exp Region 1:Dental Rev-Exp Region 11'!AF11)","v":0},{"$f":"SUM('Dental Rev-Exp Region 1:Dental Rev-Exp Region 11'!AG11)","v":0},{"$f":"SUM('Dental Rev-Exp Region 1:Dental Rev-Exp Region 11'!AH11)","v":0}]
[null,"1.2","ACA § 9010 related payments",{"$f":"SUM(E12:I12)","v":0},{"$f":"SUM('Dental Rev-Exp Region 1:Dental Rev-Exp Region 11'!E12)","v":0},{"$f":"SUM('Dental Rev-Exp Region 1:Dental Rev-Exp Region 11'!F12)","v":0},{"$f":"SUM('Dental Rev-Exp Region 1:Dental Rev-Exp Region 11'!G12)","v":0},{"$f":"SUM('Dental Rev-Exp Region 1:Dental Rev-Exp Region 11'!H12)","v":0},{"$f":"SUM('Dental Rev-Exp Region 1:Dental Rev-Exp Region 11'!I12)","v":0},{"$f":"SUM(K12:O12)","v":0},{"$f":"SUM('Dental Rev-Exp Region 1:Dental Rev-Exp Region 11'!K12)","v":0},{"$f":"SUM('Dental Rev-Exp Region 1:Dental Rev-Exp Region 11'!L12)","v":0},{"$f":"SUM('Dental Rev-Exp Region 1:Dental Rev-Exp Region 11'!M12)","v":0},{"$f":"SUM('Dental Rev-Exp Region 1:Dental Rev-Exp Region 11'!N12)","v":0},{"$f":"SUM('Dental Rev-Exp Region 1:Dental Rev-Exp Region 11'!O12)","v":0},{"$f":"SUM(Q12:U12)","v":0},{"$f":"SUM('Dental Rev-Exp Region 1:Dental Rev-Exp Region 11'!Q12)","v":0},{"$f":"SUM('Dental Rev-Exp Region 1:Dental Rev-Exp Region 11'!R12)","v":0},{"$f":"SUM('Dental Rev-Exp Region 1:Dental Rev-Exp Region 11'!S12)","v":0},{"$f":"SUM('Dental Rev-Exp Region 1:Dental Rev-Exp Region 11'!T12)","v":0},{"$f":"SUM('Dental Rev-Exp Region 1:Dental Rev-Exp Region 11'!U12)","v":0},{"$f":"SUM(W12:AA12)","v":0},{"$f":"SUM('Dental Rev-Exp Region 1:Dental Rev-Exp Region 11'!W12)","v":0},{"$f":"SUM('Dental Rev-Exp Region 1:Dental Rev-Exp Region 11'!X12)","v":0},{"$f":"SUM('Dental Rev-Exp Region 1:Dental Rev-Exp Region 11'!Y12)","v":0},{"$f":"SUM('Dental Rev-Exp Region 1:Dental Rev-Exp Region 11'!Z12)","v":0},{"$f":"SUM('Dental Rev-Exp Region 1:Dental Rev-Exp Region 11'!AA12)","v":0},{"$f":"SUM('Dental Rev-Exp Region 1:Dental Rev-Exp Region 11'!AB12)","v":0},{"$f":"SUM(AD12:AH12)+AB12","v":0},{"$f":"SUM('Dental Rev-Exp Region 1:Dental Rev-Exp Region 11'!AD12)","v":0},{"$f":"SUM('Dental Rev-Exp Region 1:Dental Rev-Exp Region 11'!AE12)","v":0},{"$f":"SUM('Dental Rev-Exp Region 1:Dental Rev-Exp Region 11'!AF12)","v":0},{"$f":"SUM('Dental Rev-Exp Region 1:Dental Rev-Exp Region 11'!AG12)","v":0},{"$f":"SUM('Dental Rev-Exp Region 1:Dental Rev-Exp Region 11'!AH12)","v":0}]
[null,"1.3","Other Revenue",0,{"$f":"SUM('Dental Rev-Exp Region 1:Dental Rev-Exp Region 11'!E13)","v":0},{"$f":"SUM('Dental Rev-Exp Region 1:Dental Rev-Exp Region 11'!F13)","v":0},{"$f":"SUM('Dental Rev-Exp Region 1:Dental Rev-Exp Region 11'!G13)","v":0},{"$f":"SUM('Dental Rev-Exp Region 1:Dental Rev-Exp Region 11'!H13)","v":0},{"$f":"SUM('Dental Rev-Exp Region 1:Dental Rev-Exp Region 11'!I13)","v":0},0,{"$f":"SUM('Dental Rev-Exp Region 1:Dental Rev-Exp Region 11'!K13)","v":0},{"$f":"SUM('Dental Rev-Exp Region 1:Dental Rev-Exp Region 11'!L13)","v":0},{"$f":"SUM('Dental Rev-Exp Region 1:Dental Rev-Exp Region 11'!M13)","v":0},{"$f":"SUM('Dental Rev-Exp Region 1:Dental Rev-Exp Region 11'!N13)","v":0},{"$f":"SUM('Dental Rev-Exp Region 1:Dental Rev-Exp Region 11'!O13)","v":0},0,{"$f":"SUM('Dental Rev-Exp Region 1:Dental Rev-Exp Region 11'!Q13)","v":0},{"$f":"SUM('Dental Rev-Exp Region 1:Dental Rev-Exp Region 11'!R13)","v":0},{"$f":"SUM('Dental Rev-Exp Region 1:Dental Rev-Exp Region 11'!S13)","v":0},{"$f":"SUM('Dental Rev-Exp Region 1:Dental Rev-Exp Region 11'!T13)","v":0},{"$f":"SUM('Dental Rev-Exp Region 1:Dental Rev-Exp Region 11'!U13)","v":0},0,{"$f":"SUM('Dental Rev-Exp Region 1:Dental Rev-Exp Region 11'!W13)","v":0},{"$f":"SUM('Dental Rev-Exp Region 1:Dental Rev-Exp Region 11'!X13)","v":0},{"$f":"SUM('Dental Rev-Exp Region 1:Dental Rev-Exp Region 11'!Y13)","v":0},{"$f":"SUM('Dental Rev-Exp Region 1:Dental Rev-Exp Region 11'!Z13)","v":0},{"$f":"SUM('Dental Rev-Exp Region 1:Dental Rev-Exp Region 11'!AA13)","v":0},{"$f":"SUM('Dental Rev-Exp Region 1:Dental Rev-Exp Region 11'!AB13)","v":0},{"$f":"SUM(AD13:AH13)+AB13","v":0},{"$f":"SUM('Dental Rev-Exp Region 1:Dental Rev-Exp Region 11'!AD13)","v":0},{"$f":"SUM('Dental Rev-Exp Region 1:Dental Rev-Exp Region 11'!AE13)","v":0},{"$f":"SUM('Dental Rev-Exp Region 1:Dental Rev-Exp Region 11'!AF13)","v":0},{"$f":"SUM('Dental Rev-Exp Region 1:Dental Rev-Exp Region 11'!AG13)","v":0},{"$f":"SUM('Dental Rev-Exp Region 1:Dental Rev-Exp Region 11'!AH13)","v":0}]
[null,"1.4","Total Revenue",{"$f":"SUM(D11:D13)","v":0},{"$f":"SUM(E11:E13)","v":0},0,0,0,0,{"$f":"SUM(J11:J13)","v":0},{"$f":"SUM(K11:K13)","v":0},0,0,0,0,{"$f":"SUM(P11:P13)","v":0},{"$f":"SUM(Q11:Q13)","v":0},0,0,0,0,{"$f":"SUM(V11:V13)","v":0},0,0,0,{"$f":"SUM(Z11:Z13)","v":0},0,{"$f":"SUM(AB11:AB13)","v":0},{"$f":"SUM(AC11:AC13)","v":0},{"$f":"SUM(AD11:AD13)","v":0},0,0,0,{"$f":"SUM(AH11:AH13)","v":0}]
["BENEFIT EXPENSES",null,null,"JANUARY - MARCH (Q1)",{"$nulls":5},"APRIL - JUNE (Q2)",{"$nulls":5},"JULY - SEPTEMBER (Q3)",{"$nulls":5},"OCTOBER - DECEMBER (Q4)",{"$nulls":6},"TOTAL (TO DATE)"]
[{"$nulls":3},"Total","Medicaid Only/Dual Eligible 0-20 Years","Medicaid Only 21+ Years","Dual Eligible 21+ Years","Medically Needy 0-20 Years","Medically Needy 21+ Years","Total","Medicaid Only/Dual Eligible 0-20 Years","Medicaid Only 21+ Years","Dual Eligible 21+ Years","Medically Needy 0-20 Years","Medically Needy 21+ Years","Total","Medicaid Only/Dual Eligible 0-20 Years","Medicaid Only 21+ Years","Dual Eligible 21+ Years","Medically Needy 0-20 Years","Medically Needy 21+ Years","Total","Medicaid Only/Dual Eligible 0-20 Years","Medicaid Only 21+ Years","Dual Eligible 21+ Years","Medically Needy 0-20 Years","Medically Needy 21+ Years","Prior Year Adjustments","Total","Medicaid Only/Dual Eligible 0-20 Years","Medicaid Only 21+ Years","Dual Eligible 21+ Years","Medically Needy 0-20 Years","Medically Needy 21+ Years"]
["Dental","2.1","Dental Services Diagnostic FFS",{"$f":"SUM(E17:I17)","v":0},{"$f":"SUM('Dental Rev-Exp Region 1:Dental Rev-Exp Region 11'!E17)","v":0},{"$f":"SUM('Dental Rev-Exp Region 1:Dental Rev-Exp Region 11'!F17)","v":0},{"$f":"SUM('Dental Rev-Exp Region 1:Dental Rev-Exp Region 11'!G17)","v":0},{"$f":"SUM('Dental Rev-Exp Region 1:Dental Rev-Exp Region 11'!H17)","v":0},{"$f":"SUM('Dental Rev-Exp Region 1:Dental Rev-Exp Region 11'!I17)","v":0},{"$f":"SUM(K17:O17)","v":0},{"$f":"SUM('Dental Rev-Exp Region 1:Dental Rev-Exp Region 11'!K17)","v":0},{"$f":"SUM('Dental Rev-Exp Region 1:Dental Rev-Exp Region 11'!L17)","v":0},{"$f":"SUM('Dental Rev-Exp Region 1:Dental Rev-Exp Region 11'!M17)","v":0},{"$f":"SUM('Dental Rev-Exp Region 1:Dental Rev-Exp Region 11'!N17)","v":0},{"$f":"SUM('Dental Rev-Exp Region 1:Dental Rev-Exp Region 11'!O17)","v":0},{"$f":"SUM(Q17:U17)","v":0},{"$f":"SUM('Dental Rev-Exp Region 1:Dental Rev-Exp Region 11'!Q17)","v":0},{"$f":"SUM('Dental Rev-Exp Region 1:Dental Rev-Exp Region 11'!R17)","v":0},{"$f":"SUM('Dental Rev-Exp Region 1:Dental Rev-Exp Region 11'!S17)","v":0},{"$f":"SUM('Dental Rev-Exp Region 1:Dental Rev-Exp Region 11'!T17)","v":0},{"$f":"SUM('Dental Rev-Exp Region 1:Dental Rev-Exp Region 11'!U17)","v":0},{"$f":"SUM(W17:AA17)","v":0},{"$f":"SUM('Dental Rev-Exp Region 1:Dental Rev-Exp Region 11'!W17)","v":0},{"$f":"SUM('Dental Rev-Exp Region 1:Dental Rev-Exp Region 11'!X17)","v":0},{"$f":"SUM('Dental Rev-Exp Region 1:Dental Rev-Exp Region 11'!Y17)","v":0},{"$f":"SUM('Dental Rev-Exp Region 1:Dental Rev-Exp Region 11'!Z17)","v":0},{"$f":"SUM('Dental Rev-Exp Region 1:Dental Rev-Exp Region 11'!AA17)","v":0},{"$f":"SUM('Dental Rev-Exp Region 1:Dental Rev-Exp Region 11'!AB17)","v":0},{"$f":"SUM(AD17:AH17)+AB17","v":0},{"$f":"SUM('Dental Rev-Exp Region 1:Dental Rev-Exp Region 11'!AD17)","v":0},{"$f":"SUM('Dental Rev-Exp Region 1:Dental Rev-Exp Region 11'!AE17)","v":0},{"$f":"SUM('Dental Rev-Exp Region 1:Dental Rev-Exp Region 11'!AF17)","v":0},{"$f":"SUM('Dental Rev-Exp Region 1:Dental Rev-Exp Region 11'!AG17)","v":0},{"$f":"SUM('Dental Rev-Exp Region 1:Dental Rev-Exp Region 11'!AH17)","v":0}]
[null,2.2,"Dental Services Preventive FFS",{"$f":"SUM(E18:I18)","v":0},{"$f":"SUM('Dental Rev-Exp Region 1:Dental Rev-Exp Region 11'!E18)","v":0},{"$f":"SUM('Dental Rev-Exp Region 1:Dental Rev-Exp Region 11'!F18)","v":0},{"$f":"SUM('Dental Rev-Exp Region 1:Dental Rev-Exp Region 11'!G18)","v":0},{"$f":"SUM('Dental Rev-Exp Region 1:Dental Rev-Exp Region 11'!H18)","v":0},{"$f":"SUM('Dental Rev-Exp Region 1:Dental Rev-Exp Region 11'!I18)","v":0},{"$f":"SUM(K18:O18)","v":0},{"$f":"SUM('Dental Rev-Exp Region 1:Dental Rev-Exp Region 11'!K18)","v":0},{"$f":"SUM('Dental Rev-Exp Region 1:Dental Rev-Exp Region 11'!L18)","v":0},{"$f":"SUM('Dental Rev-Exp Region 1:Dental Rev-Exp Region 11'!M18)","v":0},{"$f":"SUM('Dental Rev-Exp Region 1:Dental Rev-Exp Region 11'!N18)","v":0},{"$f":"SUM('Dental Rev-Exp Region 1:Dental Rev-Exp Region 11'!O18)","v":0},{"$f":"SUM(Q18:U18)","v":0},{"$f":"SUM('Dental Rev-Exp Region 1:Dental Rev-Exp Region 11'!Q18)","v":0},{"$f":"SUM('Dental Rev-Exp Region 1:Dental Rev-Exp Region 11'!R18)","v":0},{"$f":"SUM('Dental Rev-Exp Region 1:Dental Rev-Exp Region 11'!S18)","v":0},{"$f":"SUM('Dental Rev-Exp Region 1:Dental Rev-Exp Region 11'!T18)","v":0},{"$f":"SUM('Dental Rev-Exp Region 1:Dental Rev-Exp Region 11'!U18)","v":0},{"$f":"SUM(W18:AA18)","v":0},{"$f":"SUM('Dental Rev-Exp Region 1:Dental Rev-Exp Region 11'!W18)","v":0},{"$f":"SUM('Dental Rev-Exp Region 1:Dental Rev-Exp Region 11'!X18)","v":0},{"$f":"SUM('Dental Rev-Exp Region 1:Dental Rev-Exp Region 11'!Y18)","v":0},{"$f":"SUM('Dental Rev-Exp Region 1:Dental Rev-Exp Region 11'!Z18)","v":0},{"$f":"SUM('Dental Rev-Exp Region 1:Dental Rev-Exp Region 11'!AA18)","v":0},{"$f":"SUM('Dental Rev-Exp Region 1:Dental Rev-Exp Region 11'!AB18)","v":0},{"$f":"SUM(AD18:AH18)+AB18","v":0},{"$f":"SUM('Dental Rev-Exp Region 1:Dental Rev-Exp Region 11'!AD18)","v":0},{"$f":"SUM('Dental Rev-Exp Region 1:Dental Rev-Exp Region 11'!AE18)","v":0},{"$f":"SUM('Dental Rev-Exp Region 1:Dental Rev-Exp Region 11'!AF18)","v":0},{"$f":"SUM('Dental Rev-Exp Region 1:Dental Rev-Exp Region 11'!AG18)","v":0},{"$f":"SUM('Dental Rev-Exp Region 1:Dental Rev-Exp Region 11'!AH18)","v":0}]
[null,"2.3","Dental Services Restorative FFS",0,{"$f":"SUM('Dental Rev-Exp Region 1:Dental Rev-Exp Region 11'!E19)","v":0},{"$f":"SUM('Dental Rev-Exp Region 1:Dental Rev-Exp Region 11'!F19)","v":0},{"$f":"SUM('Dental Rev-Exp Region 1:Dental Rev-Exp Region 11'!G19)","v":0},{"$f":"SUM('Dental Rev-Exp Region 1:Dental Rev-Exp Region 11'!H19)","v":0},{"$f":"SUM('Dental Rev-Exp Region 1:Dental Rev-Exp Region 11'!I19)","v":0},0,{"$f":"SUM('Dental Rev-Exp Region 1:Dental Rev-Exp Region 11'!K19)","v":0},{"$f":"SUM('Dental Rev-Exp Region 1:Dental Rev-Exp Region 11'!L19)","v":0},{"$f":"SUM('Dental Rev-Exp Region 1:Dental Rev-Exp Region 11'!M19)","v":0},{"$f":"SUM('Dental Rev-Exp Region 1:Dental Rev-Exp Region 11'!N19)","v":0},{"$f":"SUM('Dental Rev-Exp Region 1:Dental Rev-Exp Region 11'!O19)","v":0},0,{"$f":"SUM('Dental Rev-Exp Region 1:Dental Rev-Exp Region 11'!Q19)","v":0},{"$f":"SUM('Dental Rev-Exp Region 1:Dental Rev-Exp Region 11'!R19)","v":0},{"$f":"SUM('Dental Rev-Exp Region 1:Dental Rev-Exp Region 11'!S19)","v":0},{"$f":"SUM('Dental Rev-Exp Region 1:Dental Rev-Exp Region 11'!T19)","v":0},{"$f":"SUM('Dental Rev-Exp Region 1:Dental Rev-Exp Region 11'!U19)","v":0},0,{"$f":"SUM('Dental Rev-Exp Region 1:Dental Rev-Exp Region 11'!W19)","v":0},{"$f":"SUM('Dental Rev-Exp Region 1:Dental Rev-Exp Region 11'!X19)","v":0},{"$f":"SUM('Dental Rev-Exp Region 1:Dental Rev-Exp Region 11'!Y19)","v":0},{"$f":"SUM('Dental Rev-Exp Region 1:Dental Rev-Exp Region 11'!Z19)","v":0},{"$f":"SUM('Dental Rev-Exp Region 1:Dental Rev-Exp Region 11'!AA19)","v":0},{"$f":"SUM('Dental Rev-Exp Region 1:Dental Rev-Exp Region 11'!AB19)","v":0},{"$f":"SUM(AD19:AH19)+AB19","v":0},{"$f":"SUM('Dental Rev-Exp Region 1:Dental Rev-Exp Region 11'!AD19)","v":0},{"$f":"SUM('Dental Rev-Exp Region 1:Dental Rev-Exp Region 11'!AE19)","v":0},{"$f":"SUM('Dental Rev-Exp Region 1:Dental Rev-Exp Region 11'!AF19)","v":0},{"$f":"SUM('Dental Rev-Exp Region 1:Dental Rev-Exp Region 11'!AG19)","v":0},{"$f":"SUM('Dental Rev-Exp Region 1:Dental Rev-Exp Region 11'!AH19)","v":0}]
[null,"2.4","Dental Services Endodontics FFS",0,{"$f":"SUM('Dental Rev-Exp Region 1:Dental Rev-Exp Region 11'!E20)","v":0},{"$f":"SUM('Dental Rev-Exp Region 1:Dental Rev-Exp Region 11'!F20)","v":0},{"$f":"SUM('Dental Rev-Exp Region 1:Dental Rev-Exp Region 11'!G20)","v":0},{"$f":"SUM('Dental Rev-Exp Region 1:Dental Rev-Exp Region 11'!H20)","v":0},{"$f":"SUM('Dental Rev-Exp Region 1:Dental Rev-Exp Region 11'!I20)","v":0},0,{"$f":"SUM('Dental Rev-Exp Region 1:Dental Rev-Exp Region 11'!K20)","v":0},{"$f":"SUM('Dental Rev-Exp Region 1:Dental Rev-Exp Region 11'!L20)","v":0},{"$f":"SUM('Dental Rev-Exp Region 1:Dental Rev-Exp Region 11'!M20)","v":0},{"$f":"SUM('Dental Rev-Exp Region 1:Dental Rev-Exp Region 11'!N20)","v":0},{"$f":"SUM('Dental Rev-Exp Region 1:Dental Rev-Exp Region 11'!O20)","v":0},0,{"$f":"SUM('Dental Rev-Exp Region 1:Dental Rev-Exp Region 11'!Q20)","v":0},{"$f":"SUM('Dental Rev-Exp Region 1:Dental Rev-Exp Region 11'!R20)","v":0},{"$f":"SUM('Dental Rev-Exp Region 1:Dental Rev-Exp Region 11'!S20)","v":0},{"$f":"SUM('Dental Rev-Exp Region 1:Dental Rev-Exp Region 11'!T20)","v":0},{"$f":"SUM('Dental Rev-Exp Region 1:Dental Rev-Exp Region 11'!U20)","v":0},0,{"$f":"SUM('Dental Rev-Exp Region 1:Dental Rev-Exp Region 11'!W20)","v":0},{"$f":"SUM('Dental Rev-Exp Region 1:Dental Rev-Exp Region 11'!X20)","v":0},{"$f":"SUM('Dental Rev-Exp Region 1:Dental Rev-Exp Region 11'!Y20)","v":0},{"$f":"SUM('Dental Rev-Exp Region 1:Dental Rev-Exp Region 11'!Z20)","v":0},{"$f":"SUM('Dental Rev-Exp Region 1:Dental Rev-Exp Region 11'!AA20)","v":0},{"$f":"SUM('Dental Rev-Exp Region 1:Dental Rev-Exp Region 11'!AB20)","v":0},0,{"$f":"SUM('Dental Rev-Exp Region 1:Dental Rev-Exp Region 11'!AD20)","v":0},{"$f":"SUM('Dental Rev-Exp Region 1:Dental Rev-Exp Region 11'!AE20)","v":0},{"$f":"SUM('Dental Rev-Exp Region 1:Dental Rev-Exp Region 11'!AF20)","v":0},{"$f":"SUM('Dental Rev-Exp Region 1:Dental Rev-Exp Region 11'!AG20)","v":0},{"$f":"SUM('Dental Rev-Exp Region 1:Dental Rev-Exp Region 11'!AH20)","v":0}]
[null,"2.5","Dental Services Periodontics FFS",0,{"$f":"SUM('Dental Rev-Exp Region 1:Dental Rev-Exp Region 11'!E21)","v":0},{"$f":"SUM('Dental Rev-Exp Region 1:Dental Rev-Exp Region 11'!F21)","v":0},{"$f":"SUM('Dental Rev-Exp Region 1:Dental Rev-Exp Region 11'!G21)","v":0},{"$f":"SUM('Dental Rev-Exp Region 1:Dental Rev-Exp Region 11'!H21)","v":0},{"$f":"SUM('Dental Rev-Exp Region 1:Dental Rev-Exp Region 11'!I21)","v":0},0,{"$f":"SUM('Dental Rev-Exp Region 1:Dental Rev-Exp Region 11'!K21)","v":0},{"$f":"SUM('Dental Rev-Exp Region 1:Dental Rev-Exp Region 11'!L21)","v":0},{"$f":"SUM('Dental Rev-Exp Region 1:Dental Rev-Exp Region 11'!M21)","v":0},{"$f":"SUM('Dental Rev-Exp Region 1:Dental Rev-Exp Region 11'!N21)","v":0},{"$f":"SUM('Dental Rev-Exp Region 1:Dental Rev-Exp Region 11'!O21)","v":0},0,{"$f":"SUM('Dental Rev-Exp Region 1:Dental Rev-Exp Region 11'!Q21)","v":0},{"$f":"SUM('Dental Rev-Exp Region 1:Dental Rev-Exp Region 11'!R21)","v":0},{"$f":"SUM('Dental Rev-Exp Region 1:Dental Rev-Exp Region 11'!S21)","v":0},{"$f":"SUM('Dental Rev-Exp Region 1:Dental Rev-Exp Region 11'!T21)","v":0},{"$f":"SUM('Dental Rev-Exp Region 1:Dental Rev-Exp Region 11'!U21)","v":0},0,{"$f":"SUM('Dental Rev-Exp Region 1:Dental Rev-Exp Region 11'!W21)","v":0},{"$f":"SUM('Dental Rev-Exp Region 1:Dental Rev-Exp Region 11'!X21)","v":0},{"$f":"SUM('Dental Rev-Exp Region 1:Dental Rev-Exp Region 11'!Y21)","v":0},{"$f":"SUM('Dental Rev-Exp Region 1:Dental Rev-Exp Region 11'!Z21)","v":0},{"$f":"SUM('Dental Rev-Exp Region 1:Dental Rev-Exp Region 11'!AA21)","v":0},{"$f":"SUM('Dental Rev-Exp Region 1:Dental Rev-Exp Region 11'!AB21)","v":0},0,{"$f":"SUM('Dental Rev-Exp Region 1:Dental Rev-Exp Region 11'!AD21)","v":0},{"$f":"SUM('Dental Rev-Exp Region 1:Dental Rev-Exp Region 11'!AE21)","v":0},{"$f":"SUM('Dental Rev-Exp Region 1:Dental Rev-Exp Region 11'!AF21)","v":0},{"$f":"SUM('Dental Rev-Exp Region 1:Dental Rev-Exp Region 11'!AG21)","v":0},{"$f":"SUM('Dental Rev-Exp Region 1:Dental Rev-Exp Region 11'!AH21)","v":0}]
[null,"2.6","Dental Services Prosthodontics FFS",0,{"$f":"SUM('Dental Rev-Exp Region 1:Dental Rev-Exp Region 11'!E22)","v":0},{"$f":"SUM('Dental Rev-Exp Region 1:Dental Rev-Exp Region 11'!F22)","v":0},{"$f":"SUM('Dental Rev-Exp Region 1:Dental Rev-Exp Region 11'!G22)","v":0},{"$f":"SUM('Dental Rev-Exp Region 1:Dental Rev-Exp Region 11'!H22)","v":0},{"$f":"SUM('Dental Rev-Exp Region 1:Dental Rev-Exp Region 11'!I22)","v":0},0,{"$f":"SUM('Dental Rev-Exp Region 1:Dental Rev-Exp Region 11'!K22)","v":0},{"$f":"SUM('Dental Rev-Exp Region 1:Dental Rev-Exp Region 11'!L22)","v":0},{"$f":"SUM('Dental Rev-Exp Region 1:Dental Rev-Exp Region 11'!M22)","v":0},{"$f":"SUM('Dental Rev-Exp Region 1:Dental Rev-Exp Region 11'!N22)","v":0},{"$f":"SUM('Dental Rev-Exp Region 1:Dental Rev-Exp Region 11'!O22)","v":0},0,{"$f":"SUM('Dental Rev-Exp Region 1:Dental Rev-Exp Region 11'!Q22)","v":0},{"$f":"SUM('Dental Rev-Exp Region 1:Dental Rev-Exp Region 11'!R22)","v":0},{"$f":"SUM('Dental Rev-Exp Region 1:Dental Rev-Exp Region 11'!S22)","v":0},{"$f":"SUM('Dental Rev-Exp Region 1:Dental Rev-Exp Region 11'!T22)","v":0},{"$f":"SUM('Dental Rev-Exp Region 1:Dental Rev-Exp Region 11'!U22)","v":0},0,{"$f":"SUM('Dental Rev-Exp Region 1:Dental Rev-Exp Region 11'!W22)","v":0},{"$f":"SUM('Dental Rev-Exp Region 1:Dental Rev-Exp Region 11'!X22)","v":0},{"$f":"SUM('Dental Rev-Exp Region 1:Dental Rev-Exp Region 11'!Y22)","v":0},{"$f":"SUM('Dental Rev-Exp Region 1:Dental Rev-Exp Region 11'!Z22)","v":0},{"$f":"SUM('Dental Rev-Exp Region 1:Dental Rev-Exp Region 11'!AA22)","v":0},{"$f":"SUM('Dental Rev-Exp Region 1:Dental Rev-Exp Region 11'!AB22)","v":0},0,{"$f":"SUM('Dental Rev-Exp Region 1:Dental Rev-Exp Region 11'!AD22)","v":0},{"$f":"SUM('Dental Rev-Exp Region 1:Dental Rev-Exp Region 11'!AE22)","v":0},{"$f":"SUM('Dental Rev-Exp Region 1:Dental Rev-Exp Region 11'!AF22)","v":0},{"$f":"SUM('Dental Rev-Exp Region 1:Dental Rev-Exp Region 11'!AG22)","v":0},{"$f":"SUM('Dental Rev-Exp Region 1:Dental Rev-Exp Region 11'!AH22)","v":0}]
[null,"2.7","Dental Services Prosthodontics, fixed FFS",0,{"$f":"SUM('Dental Rev-Exp Region 1:Dental Rev-Exp Region 11'!E23)","v":0},{"$f":"SUM('Dental Rev-Exp Region 1:Dental Rev-Exp Region 11'!F23)","v":0},{"$f":"SUM('Dental Rev-Exp Region 1:Dental Rev-Exp Region 11'!G23)","v":0},{"$f":"SUM('Dental Rev-Exp Region 1:Dental Rev-Exp Region 11'!H23)","v":0},{"$f":"SUM('Dental Rev-Exp Region 1:Dental Rev-Exp Region 11'!I23)","v":0},0,{"$f":"SUM('Dental Rev-Exp Region 1:Dental Rev-Exp Region 11'!K23)","v":0},{"$f":"SUM('Dental Rev-Exp Region 1:Dental Rev-Exp Region 11'!L23)","v":0},{"$f":"SUM('Dental Rev-Exp Region 1:Dental Rev-Exp Region 11'!M23)","v":0},{"$f":"SUM('Dental Rev-Exp Region 1:Dental Rev-Exp Region 11'!N23)","v":0},{"$f":"SUM('Dental Rev-Exp Region 1:Dental Rev-Exp Region 11'!O23)","v":0},0,{"$f":"SUM('Dental Rev-Exp Region 1:Dental Rev-Exp Region 11'!Q23)","v":0},{"$f":"SUM('Dental Rev-Exp Region 1:Dental Rev-Exp Region 11'!R23)","v":0},{"$f":"SUM('Dental Rev-Exp Region 1:Dental Rev-Exp Region 11'!S23)","v":0},{"$f":"SUM('Dental Rev-Exp Region 1:Dental Rev-Exp Region 11'!T23)","v":0},{"$f":"SUM('Dental Rev-Exp Region 1:Dental Rev-Exp Region 11'!U23)","v":0},0,{"$f":"SUM('Dental Rev-Exp Region 1:Dental Rev-Exp Region 11'!W23)","v":0},{"$f":"SUM('Dental Rev-Exp Region 1:Dental Rev-Exp Region 11'!X23)","v":0},{"$f":"SUM('Dental Rev-Exp Region 1:Dental Rev-Exp Region 11'!Y23)","v":0},{"$f":"SUM('Dental Rev-Exp Region 1:Dental Rev-Exp Region 11'!Z23)","v":0},{"$f":"SUM('Dental Rev-Exp Region 1:Dental Rev-Exp Region 11'!AA23)","v":0},{"$f":"SUM('Dental Rev-Exp Region 1:Dental Rev-Exp Region 11'!AB23)","v":0},0,{"$f":"SUM('Dental Rev-Exp Region 1:Dental Rev-Exp Region 11'!AD23)","v":0},{"$f":"SUM('Dental Rev-Exp Region 1:Dental Rev-Exp Region 11'!AE23)","v":0},{"$f":"SUM('Dental Rev-Exp Region 1:Dental Rev-Exp Region 11'!AF23)","v":0},{"$f":"SUM('Dental Rev-Exp Region 1:Dental Rev-Exp Region 11'!AG23)","v":0},{"$f":"SUM('Dental Rev-Exp Region 1:Dental Rev-Exp Region 11'!AH23)","v":0}]
[null,"2.8","Dental Services Oral and Maxillofacial Surgery FFS",0,{"$f":"SUM('Dental Rev-Exp Region 1:Dental Rev-Exp Region 11'!E24)","v":0},{"$f":"SUM('Dental Rev-Exp Region 1:Dental Rev-Exp Region 11'!F24)","v":0},{"$f":"SUM('Dental Rev-Exp Region 1:Dental Rev-Exp Region 11'!G24)","v":0},{"$f":"SUM('Dental Rev-Exp Region 1:Dental Rev-Exp Region 11'!H24)","v":0},{"$f":"SUM('Dental Rev-Exp Region 1:Dental Rev-Exp Region 11'!I24)","v":0},0,{"$f":"SUM('Dental Rev-Exp Region 1:Dental Rev-Exp Region 11'!K24)","v":0},{"$f":"SUM('Dental Rev-Exp Region 1:Dental Rev-Exp Region 11'!L24)","v":0},{"$f":"SUM('Dental Rev-Exp Region 1:Dental Rev-Exp Region 11'!M24)","v":0},{"$f":"SUM('Dental Rev-Exp Region 1:Dental Rev-Exp Region 11'!N24)","v":0},{"$f":"SUM('Dental Rev-Exp Region 1:Dental Rev-Exp Region 11'!O24)","v":0},0,{"$f":"SUM('Dental Rev-Exp Region 1:Dental Rev-Exp Region 11'!Q24)","v":0},{"$f":"SUM('Dental Rev-Exp Region 1:Dental Rev-Exp Region 11'!R24)","v":0},{"$f":"SUM('Dental Rev-Exp Region 1:Dental Rev-Exp Region 11'!S24)","v":0},{"$f":"SUM('Dental Rev-Exp Region 1:Dental Rev-Exp Region 11'!T24)","v":0},{"$f":"SUM('Dental Rev-Exp Region 1:Dental Rev-Exp Region 11'!U24)","v":0},0,{"$f":"SUM('Dental Rev-Exp Region 1:Dental Rev-Exp Region 11'!W24)","v":0},{"$f":"SUM('Dental Rev-Exp Region 1:Dental Rev-Exp Region 11'!X24)","v":0},{"$f":"SUM('Dental Rev-Exp Region 1:Dental Rev-Exp Region 11'!Y24)","v":0},{"$f":"SUM('Dental Rev-Exp Region 1:Dental Rev-Exp Region 11'!Z24)","v":0},{"$f":"SUM('Dental Rev-Exp Region 1:Dental Rev-Exp Region 11'!AA24)","v":0},{"$f":"SUM('Dental Rev-Exp Region 1:Dental Rev-Exp Region 11'!AB24)","v":0},0,{"$f":"SUM('Dental Rev-Exp Region 1:Dental Rev-Exp Region 11'!AD24)","v":0},{"$f":"SUM('Dental Rev-Exp Region 1:Dental Rev-Exp Region 11'!AE24)","v":0},{"$f":"SUM('Dental Rev-Exp Region 1:Dental Rev-Exp Region 11'!AF24)","v":0},{"$f":"SUM('Dental Rev-Exp Region 1:Dental Rev-Exp Region 11'!AG24)","v":0},{"$f":"SUM('Dental Rev-Exp Region 1:Dental Rev-Exp Region 11'!AH24)","v":0}]
[null,"2.9","Dental Services Orthodontics FFS",0,{"$f":"SUM('Dental Rev-Exp Region 1:Dental Rev-Exp Region 11'!E25)","v":0},{"$f":"SUM('Dental Rev-Exp Region 1:Dental Rev-Exp Region 11'!F25)","v":0},{"$f":"SUM('Dental Rev-Exp Region 1:Dental Rev-Exp Region 11'!G25)","v":0},{"$f":"SUM('Dental Rev-Exp Region 1:Dental Rev-Exp Region 11'!H25)","v":0},{"$f":"SUM('Dental Rev-Exp Region 1:Dental Rev-Exp Region 11'!I25)","v":0},0,{"$f":"SUM('Dental Rev-Exp Region 1:Dental Rev-Exp Region 11'!K25)","v":0},{"$f":"SUM('Dental Rev-Exp Region 1:Dental Rev-Exp Region 11'!L25)","v":0},{"$f":"SUM('Dental Rev-Exp Region 1:Dental Rev-Exp Region 11'!M25)","v":0},{"$f":"SUM('Dental Rev-Exp Region 1:Dental Rev-Exp Region 11'!N25)","v":0},{"$f":"SUM('Dental Rev-Exp Region 1:Dental Rev-Exp Region 11'!O25)","v":0},0,{"$f":"SUM('Dental Rev-Exp Region 1:Dental Rev-Exp Region 11'!Q25)","v":0},{"$f":"SUM('Dental Rev-Exp Region 1:Dental Rev-Exp Region 11'!R25)","v":0},{"$f":"SUM('Dental Rev-Exp Region 1:Dental Rev-Exp Region 11'!S25)","v":0},{"$f":"SUM('Dental Rev-Exp Region 1:Dental Rev-Exp Region 11'!T25)","v":0},{"$f":"SUM('Dental Rev-Exp Region 1:Dental Rev-Exp Region 11'!U25)","v":0},0,{"$f":"SUM('Dental Rev-Exp Region 1:Dental Rev-Exp Region 11'!W25)","v":0},{"$f":"SUM('Dental Rev-Exp Region 1:Dental Rev-Exp Region 11'!X25)","v":0},{"$f":"SUM('Dental Rev-Exp Region 1:Dental Rev-Exp Region 11'!Y25)","v":0},{"$f":"SUM('Dental Rev-Exp Region 1:Dental Rev-Exp Region 11'!Z25)","v":0},{"$f":"SUM('Dental Rev-Exp Region 1:Dental Rev-Exp Region 11'!AA25)","v":0},{"$f":"SUM('Dental Rev-Exp Region 1:Dental Rev-Exp Region 11'!AB25)","v":0},0,{"$f":"SUM('Dental Rev-Exp Region 1:Dental Rev-Exp Region 11'!AD25)","v":0},{"$f":"SUM('Dental Rev-Exp Region 1:Dental Rev-Exp Region 11'!AE25)","v":0},{"$f":"SUM('Dental Rev-Exp Region 1:Dental Rev-Exp Region 11'!AF25)","v":0},{"$f":"SUM('Dental Rev-Exp Region 1:Dental Rev-Exp Region 11'!AG25)","v":0},{"$f":"SUM('Dental Rev-Exp Region 1:Dental Rev-Exp Region 11'!AH25)","v":0}]
[null,"2.10","Dental Services Adjunctive General Services FFS",0,{"$f":"SUM('Dental Rev-Exp Region 1:Dental Rev-Exp Region 11'!E26)","v":0},{"$f":"SUM('Dental Rev-Exp Region 1:Dental Rev-Exp Region 11'!F26)","v":0},{"$f":"SUM('Dental Rev-Exp Region 1:Dental Rev-Exp Region 11'!G26)","v":0},{"$f":"SUM('Dental Rev-Exp Region 1:Dental Rev-Exp Region 11'!H26)","v":0},{"$f":"SUM('Dental Rev-Exp Region 1:Dental Rev-Exp Region 11'!I26)","v":0},0,{"$f":"SUM('Dental Rev-Exp Region 1:Dental Rev-Exp Region 11'!K26)","v":0},{"$f":"SUM('Dental Rev-Exp Region 1:Dental Rev-Exp Region 11'!L26)","v":0},{"$f":"SUM('Dental Rev-Exp Region 1:Dental Rev-Exp Region 11'!M26)","v":0},{"$f":"SUM('Dental Rev-Exp Region 1:Dental Rev-Exp Region 11'!N26)","v":0},{"$f":"SUM('Dental Rev-Exp Region 1:Dental Rev-Exp Region 11'!O26)","v":0},0,{"$f":"SUM('Dental Rev-Exp Region 1:Dental Rev-Exp Region 11'!Q26)","v":0},{"$f":"SUM('Dental Rev-Exp Region 1:Dental Rev-Exp Region 11'!R26)","v":0},{"$f":"SUM('Dental Rev-Exp Region 1:Dental Rev-Exp Region 11'!S26)","v":0},{"$f":"SUM('Dental Rev-Exp Region 1:Dental Rev-Exp Region 11'!T26)","v":0},{"$f":"SUM('Dental Rev-Exp Region 1:Dental Rev-Exp Region 11'!U26)","v":0},0,{"$f":"SUM('Dental Rev-Exp Region 1:Dental Rev-Exp Region 11'!W26)","v":0},{"$f":"SUM('Dental Rev-Exp Region 1:Dental Rev-Exp Region 11'!X26)","v":0},{"$f":"SUM('Dental Rev-Exp Region 1:Dental Rev-Exp Region 11'!Y26)","v":0},{"$f":"SUM('Dental Rev-Exp Region 1:Dental Rev-Exp Region 11'!Z26)","v":0},{"$f":"SUM('Dental Rev-Exp Region 1:Dental Rev-Exp Region 11'!AA26)","v":0},{"$f":"SUM('Dental Rev-Exp Region 1:Dental Rev-Exp Region 11'!AB26)","v":0},0,{"$f":"SUM('Dental Rev-Exp Region 1:Dental Rev-Exp Region 11'!AD26)","v":0},{"$f":"SUM('Dental Rev-Exp Region 1:Dental Rev-Exp Region 11'!AE26)","v":0},{"$f":"SUM('Dental Rev-Exp Region 1:Dental Rev-Exp Region 11'!AF26)","v":0},{"$f":"SUM('Dental Rev-Exp Region 1:Dental Rev-Exp Region 11'!AG26)","v":0},{"$f":"SUM('Dental Rev-Exp Region 1:Dental Rev-Exp Region 11'!AH26)","v":0}]
[null,"2.11","Dental Services Other FFS",{"$f":"SUM(E27:I27)","v":0},{"$f":"SUM('Dental Rev-Exp Region 1:Dental Rev-Exp Region 11'!E27)","v":0},{"$f":"SUM('Dental Rev-Exp Region 1:Dental Rev-Exp Region 11'!F27)","v":0},{"$f":"SUM('Dental Rev-Exp Region 1:Dental Rev-Exp Region 11'!G27)","v":0},{"$f":"SUM('Dental Rev-Exp Region 1:Dental Rev-Exp Region 11'!H27)","v":0},{"$f":"SUM('Dental Rev-Exp Region 1:Dental Rev-Exp Region 11'!I27)","v":0},{"$f":"SUM(K27:O27)","v":0},{"$f":"SUM('Dental Rev-Exp Region 1:Dental Rev-Exp Region 11'!K27)","v":0},{"$f":"SUM('Dental Rev-Exp Region 1:Dental Rev-Exp Region 11'!L27)","v":0},{"$f":"SUM('Dental Rev-Exp Region 1:Dental Rev-Exp Region 11'!M27)","v":0},{"$f":"SUM('Dental Rev-Exp Region 1:Dental Rev-Exp Region 11'!N27)","v":0},{"$f":"SUM('Dental Rev-Exp Region 1:Dental Rev-Exp Region 11'!O27)","v":0},{"$f":"SUM(Q27:U27)","v":0},{"$f":"SUM('Dental Rev-Exp Region 1:Dental Rev-Exp Region 11'!Q27)","v":0},{"$f":"SUM('Dental Rev-Exp Region 1:Dental Rev-Exp Region 11'!R27)","v":0},{"$f":"SUM('Dental Rev-Exp Region 1:Dental Rev-Exp Region 11'!S27)","v":0},{"$f":"SUM('Dental Rev-Exp Region 1:Dental Rev-Exp Region 11'!T27)","v":0},{"$f":"SUM('Dental Rev-Exp Region 1:Dental Rev-Exp Region 11'!U27)","v":0},{"$f":"SUM(W27:AA27)","v":0},{"$f":"SUM('Dental Rev-Exp Region 1:Dental Rev-Exp Region 11'!W27)","v":0},{"$f":"SUM('Dental Rev-Exp Region 1:Dental Rev-Exp Region 11'!X27)","v":0},{"$f":"SUM('Dental Rev-Exp Region 1:Dental Rev-Exp Region 11'!Y27)","v":0},{"$f":"SUM('Dental Rev-Exp Region 1:Dental Rev-Exp Region 11'!Z27)","v":0},{"$f":"SUM('Dental Rev-Exp Region 1:Dental Rev-Exp Region 11'!AA27)","v":0},{"$f":"SUM('Dental Rev-Exp Region 1:Dental Rev-Exp Region 11'!AB27)","v":0},0,{"$f":"SUM('Dental Rev-Exp Region 1:Dental Rev-Exp Region 11'!AD27)","v":0},{"$f":"SUM('Dental Rev-Exp Region 1:Dental Rev-Exp Region 11'!AE27)","v":0},{"$f":"SUM('Dental Rev-Exp Region 1:Dental Rev-Exp Region 11'!AF27)","v":0},{"$f":"SUM('Dental Rev-Exp Region 1:Dental Rev-Exp Region 11'!AG27)","v":0},{"$f":"SUM('Dental Rev-Exp Region 1:Dental Rev-Exp Region 11'!AH27)","v":0}]
[null,"2.12","Dental Expanded Benefits FFS",{"$f":"SUM(E28:I28)","v":0},{"$f":"SUM('Dental Rev-Exp Region 1:Dental Rev-Exp Region 11'!E28)","v":0},{"$f":"SUM('Dental Rev-Exp Region 1:Dental Rev-Exp Region 11'!F28)","v":0},{"$f":"SUM('Dental Rev-Exp Region 1:Dental Rev-Exp Region 11'!G28)","v":0},{"$f":"SUM('Dental Rev-Exp Region 1:Dental Rev-Exp Region 11'!H28)","v":0},{"$f":"SUM('Dental Rev-Exp Region 1:Dental Rev-Exp Region 11'!I28)","v":0},{"$f":"SUM(K28:O28)","v":0},{"$f":"SUM('Dental Rev-Exp Region 1:Dental Rev-Exp Region 11'!K28)","v":0},{"$f":"SUM('Dental Rev-Exp Region 1:Dental Rev-Exp Region 11'!L28)","v":0},{"$f":"SUM('Dental Rev-Exp Region 1:Dental Rev-Exp Region 11'!M28)","v":0},{"$f":"SUM('Dental Rev-Exp Region 1:Dental Rev-Exp Region 11'!N28)","v":0},{"$f":"SUM('Dental Rev-Exp Region 1:Dental Rev-Exp Region 11'!O28)","v":0},{"$f":"SUM(Q28:U28)","v":0},{"$f":"SUM('Dental Rev-Exp Region 1:Dental Rev-Exp Region 11'!Q28)","v":0},{"$f":"SUM('Dental Rev-Exp Region 1:Dental Rev-Exp Region 11'!R28)","v":0},{"$f":"SUM('Dental Rev-Exp Region 1:Dental Rev-Exp Region 11'!S28)","v":0},{"$f":"SUM('Dental Rev-Exp Region 1:Dental Rev-Exp Region 11'!T28)","v":0},{"$f":"SUM('Dental Rev-Exp Region 1:Dental Rev-Exp Region 11'!U28)","v":0},{"$f":"SUM(W28:AA28)","v":0},{"$f":"SUM('Dental Rev-Exp Region 1:Dental Rev-Exp Region 11'!W28)","v":0},{"$f":"SUM('Dental Rev-Exp Region 1:Dental Rev-Exp Region 11'!X28)","v":0},{"$f":"SUM('Dental Rev-Exp Region 1:Dental Rev-Exp Region 11'!Y28)","v":0},{"$f":"SUM('Dental Rev-Exp Region 1:Dental Rev-Exp Region 11'!Z28)","v":0},{"$f":"SUM('Dental Rev-Exp Region 1:Dental Rev-Exp Region 11'!AA28)","v":0},{"$f":"SUM('Dental Rev-Exp Region 1:Dental Rev-Exp Region 11'!AB28)","v":0},0,{"$f":"SUM('Dental Rev-Exp Region 1:Dental Rev-Exp Region 11'!AD28)","v":0},{"$f":"SUM('Dental Rev-Exp Region 1:Dental Rev-Exp Region 11'!AE28)","v":0},{"$f":"SUM('Dental Rev-Exp Region 1:Dental Rev-Exp Region 11'!AF28)","v":0},{"$f":"SUM('Dental Rev-Exp Region 1:Dental Rev-Exp Region 11'!AG28)","v":0},{"$f":"SUM('Dental Rev-Exp Region 1:Dental Rev-Exp Region 11'!AH28)","v":0}]
[null,"2.13","Dental Services Paid through Subcapitation",0,{"$f":"SUM('Dental Rev-Exp Region 1:Dental Rev-Exp Region 11'!E29)","v":0},{"$f":"SUM('Dental Rev-Exp Region 1:Dental Rev-Exp Region 11'!F29)","v":0},{"$f":"SUM('Dental Rev-Exp Region 1:Dental Rev-Exp Region 11'!G29)","v":0},{"$f":"SUM('Dental Rev-Exp Region 1:Dental Rev-Exp Region 11'!H29)","v":0},{"$f":"SUM('Dental Rev-Exp Region 1:Dental Rev-Exp Region 11'!I29)","v":0},0,{"$f":"SUM('Dental Rev-Exp Region 1:Dental Rev-Exp Region 11'!K29)","v":0},{"$f":"SUM('Dental Rev-Exp Region 1:Dental Rev-Exp Region 11'!L29)","v":0},{"$f":"SUM('Dental Rev-Exp Region 1:Dental Rev-Exp Region 11'!M29)","v":0},{"$f":"SUM('Dental Rev-Exp Region 1:Dental Rev-Exp Region 11'!N29)","v":0},{"$f":"SUM('Dental Rev-Exp Region 1:Dental Rev-Exp Region 11'!O29)","v":0},0,{"$f":"SUM('Dental Rev-Exp Region 1:Dental Rev-Exp Region 11'!Q29)","v":0},{"$f":"SUM('Dental Rev-Exp Region 1:Dental Rev-Exp Region 11'!R29)","v":0},{"$f":"SUM('Dental Rev-Exp Region 1:Dental Rev-Exp Region 11'!S29)","v":0},{"$f":"SUM('Dental Rev-Exp Region 1:Dental Rev-Exp Region 11'!T29)","v":0},{"$f":"SUM('Dental Rev-Exp Region 1:Dental Rev-Exp Region 11'!U29)","v":0},0,{"$f":"SUM('Dental Rev-Exp Region 1:Dental Rev-Exp Region 11'!W29)","v":0},{"$f":"SUM('Dental Rev-Exp Region 1:Dental Rev-Exp Region 11'!X29)","v":0},{"$f":"SUM('Dental Rev-Exp Region 1:Dental Rev-Exp Region 11'!Y29)","v":0},{"$f":"SUM('Dental Rev-Exp Region 1:Dental Rev-Exp Region 11'!Z29)","v":0},{"$f":"SUM('Dental Rev-Exp Region 1:Dental Rev-Exp Region 11'!AA29)","v":0},{"$f":"SUM('Dental Rev-Exp Region 1:Dental Rev-Exp Region 11'!AB29)","v":0},0,{"$f":"SUM('Dental Rev-Exp Region 1:Dental Rev-Exp Region 11'!AD29)","v":0},{"$f":"SUM('Dental Rev-Exp Region 1:Dental Rev-Exp Region 11'!AE29)","v":0},{"$f":"SUM('Dental Rev-Exp Region 1:Dental Rev-Exp Region 11'!AF29)","v":0},{"$f":"SUM('Dental Rev-Exp Region 1:Dental Rev-Exp Region 11'!AG29)","v":0},{"$f":"SUM('Dental Rev-Exp Region 1:Dental Rev-Exp Region 11'!AH29)","v":0}]
[null,"2.14","Ending IBNP for Dental Services",0,{"$f":"SUM('Dental Rev-Exp Region 1:Dental Rev-Exp Region 11'!E30)","v":0},{"$f":"SUM('Dental Rev-Exp Region 1:Dental Rev-Exp Region 11'!F30)","v":0},{"$f":"SUM('Dental Rev-Exp Region 1:Dental Rev-Exp Region 11'!G30)","v":0},{"$f":"SUM('Dental Rev-Exp Region 1:Dental Rev-Exp Region 11'!H30)","v":0},{"$f":"SUM('Dental Rev-Exp Region 1:Dental Rev-Exp Region 11'!I30)","v":0},0,{"$f":"SUM('Dental Rev-Exp Region 1:Dental Rev-Exp Region 11'!K30)","v":0},{"$f":"SUM('Dental Rev-Exp Region 1:Dental Rev-Exp Region 11'!L30)","v":0},{"$f":"SUM('Dental Rev-Exp Region 1:Dental Rev-Exp Region 11'!M30)","v":0},{"$f":"SUM('Dental Rev-Exp Region 1:Dental Rev-Exp Region 11'!N30)","v":0},{"$f":"SUM('Dental Rev-Exp Region 1:Dental Rev-Exp Region 11'!O30)","v":0},0,{"$f":"SUM('Dental Rev-Exp Region 1:Dental Rev-Exp Region 11'!Q30)","v":0},{"$f":"SUM('Dental Rev-Exp Region 1:Dental Rev-Exp Region 11'!R30)","v":0},{"$f":"SUM('Dental Rev-Exp Region 1:Dental Rev-Exp Region 11'!S30)","v":0},{"$f":"SUM('Dental Rev-Exp Region 1:Dental Rev-Exp Region 11'!T30)","v":0},{"$f":"SUM('Dental Rev-Exp Region 1:Dental Rev-Exp Region 11'!U30)","v":0},0,{"$f":"SUM('Dental Rev-Exp Region 1:Dental Rev-Exp Region 11'!W30)","v":0},{"$f":"SUM('Dental Rev-Exp Region 1:Dental Rev-Exp Region 11'!X30)","v":0},{"$f":"SUM('Dental Rev-Exp Region 1:Dental Rev-Exp Region 11'!Y30)","v":0},{"$f":"SUM('Dental Rev-Exp Region 1:Dental Rev-Exp Region 11'!Z30)","v":0},{"$f":"SUM('Dental Rev-Exp Region 1:Dental Rev-Exp Region 11'!AA30)","v":0},{"$f":"SUM('Dental Rev-Exp Region 1:Dental Rev-Exp Region 11'!AB30)","v":0},0,{"$f":"SUM('Dental Rev-Exp Region 1:Dental Rev-Exp Region 11'!AD30)","v":0},{"$f":"SUM('Dental Rev-Exp Region 1:Dental Rev-Exp Region 11'!AE30)","v":0},{"$f":"SUM('Dental Rev-Exp Region 1:Dental Rev-Exp Region 11'!AF30)","v":0},{"$f":"SUM('Dental Rev-Exp Region 1:Dental Rev-Exp Region 11'!AG30)","v":0},{"$f":"SUM('Dental Rev-Exp Region 1:Dental Rev-Exp Region 11'!AH30)","v":0}]
[null,"2.15","Dental Settlements/AP",0,{"$f":"SUM('Dental Rev-Exp Region 1:Dental Rev-Exp Region 11'!E31)","v":0},{"$f":"SUM('Dental Rev-Exp Region 1:Dental Rev-Exp Region 11'!F31)","v":0},{"$f":"SUM('Dental Rev-Exp Region 1:Dental Rev-Exp Region 11'!G31)","v":0},{"$f":"SUM('Dental Rev-Exp Region 1:Dental Rev-Exp Region 11'!H31)","v":0},{"$f":"SUM('Dental Rev-Exp Region 1:Dental Rev-Exp Region 11'!I31)","v":0},0,{"$f":"SUM('Dental Rev-Exp Region 1:Dental Rev-Exp Region 11'!K31)","v":0},{"$f":"SUM('Dental Rev-Exp Region 1:Dental Rev-Exp Region 11'!L31)","v":0},{"$f":"SUM('Dental Rev-Exp Region 1:Dental Rev-Exp Region 11'!M31)","v":0},{"$f":"SUM('Dental Rev-Exp Region 1:Dental Rev-Exp Region 11'!N31)","v":0},{"$f":"SUM('Dental Rev-Exp Region 1:Dental Rev-Exp Region 11'!O31)","v":0},0,{"$f":"SUM('Dental Rev-Exp Region 1:Dental Rev-Exp Region 11'!Q31)","v":0},{"$f":"SUM('Dental Rev-Exp Region 1:Dental Rev-Exp Region 11'!R31)","v":0},{"$f":"SUM('Dental Rev-Exp Region 1:Dental Rev-Exp Region 11'!S31)","v":0},{"$f":"SUM('Dental Rev-Exp Region 1:Dental Rev-Exp Region 11'!T31)","v":0},{"$f":"SUM('Dental Rev-Exp Region 1:Dental Rev-Exp Region 11'!U31)","v":0},0,{"$f":"SUM('Dental Rev-Exp Region 1:Dental Rev-Exp Region 11'!W31)","v":0},{"$f":"SUM('Dental Rev-Exp Region 1:Dental Rev-Exp Region 11'!X31)","v":0},{"$f":"SUM('Dental Rev-Exp Region 1:Dental Rev-Exp Region 11'!Y31)","v":0},{"$f":"SUM('Dental Rev-Exp Region 1:Dental Rev-Exp Region 11'!Z31)","v":0},{"$f":"SUM('Dental Rev-Exp Region 1:Dental Rev-Exp Region 11'!AA31)","v":0},{"$f":"SUM('Dental Rev-Exp Region 1:Dental Rev-Exp Region 11'!AB31)","v":0},0,{"$f":"SUM('Dental Rev-Exp Region 1:Dental Rev-Exp Region 11'!AD31)","v":0},{"$f":"SUM('Dental Rev-Exp Region 1:Dental Rev-Exp Region 11'!AE31)","v":0},{"$f":"SUM('Dental Rev-Exp Region 1:Dental Rev-Exp Region 11'!AF31)","v":0},{"$f":"SUM('Dental Rev-Exp Region 1:Dental Rev-Exp Region 11'!AG31)","v":0},{"$f":"SUM('Dental Rev-Exp Region 1:Dental Rev-Exp Region 11'!AH31)","v":0}]
[null,2.16,"Total Dental Services",{"$f":"SUM(D17:D31)","v":0},{"$f":"SUM(E17:E31)","v":0},0,0,0,{"$f":"SUM(I17:I31)","v":0},{"$f":"SUM(J17:J31)","v":0},{"$f":"SUM(K17:K31)","v":0},{"$f":"SUM(L17:L31)","v":0},{"$f":"SUM(M17:M31)","v":0},{"$f":"SUM(N17:N31)","v":0},{"$f":"SUM(O17:O31)","v":0},{"$f":"SUM(P17:P31)","v":0},{"$f":"SUM(Q17:Q31)","v":0},{"$f":"SUM(R17:R31)","v":0},{"$f":"SUM(S17:S31)","v":0},{"$f":"SUM(T17:T31)","v":0},{"$f":"SUM(U17:U31)","v":0},{"$f":"SUM(V17:V31)","v":0},{"$f":"SUM(W17:W31)","v":0},{"$f":"SUM(X17:X31)","v":0},{"$f":"SUM(Y17:Y31)","v":0},{"$f":"SUM(Z17:Z31)","v":0},{"$f":"SUM(AA17:AA31)","v":0},{"$f":"SUM(AB17:AB31)","v":0},{"$f":"SUM(AC17:AC31)","v":0},{"$f":"SUM(AD17:AD31)","v":0},{"$f":"SUM(AE17:AE31)","v":0},{"$f":"SUM(AF17:AF31)","v":0},{"$f":"SUM(AG17:AG31)","v":0},{"$f":"SUM(AH17:AH31)","v":0}]
["Total Before and After Reinsurance",3.1,"Total Dental Services Paid Directly FFS",{"$f":"SUM(E33:I33)","v":0},{"$f":"SUM(E17:E28)","v":0},{"$f":"SUM(F17:F28)","v":0},0,0,0,{"$f":"SUM(K33:O33)","v":0},{"$f":"SUM(K17:K28)","v":0},{"$f":"SUM(L17:L28)","v":0},0,0,0,{"$f":"SUM(Q33:U33)","v":0},{"$f":"SUM(Q17:Q28)","v":0},{"$f":"SUM(R17:R28)","v":0},0,0,0,{"$f":"SUM(W33:AA33)","v":0},{"$f":"SUM(W17:W28)","v":0},{"$f":"SUM(X17:X28)","v":0},0,0,0,{"$f":"SUM(AB17:AB28)","v":0},{"$f":"SUM(AD33:AH33)+AB33","v":0},{"$f":"SUM(AD17:AD28)","v":0},{"$f":"SUM(AE17:AE28)","v":0},0,0,0]
[null,3.2,"Total Dental Services Paid through Subcapitation",{"$f":"SUM(E34:I34)","v":0},{"$f":"E29","v":0},{"$f":"F29","v":0},0,0,0,{"$f":"SUM(K34:O34)","v":0},{"$f":"K29","v":0},{"$f":"L29","v":0},0,0,0,{"$f":"SUM(Q34:U34)","v":0},{"$f":"Q29","v":0},{"$f":"R29","v":0},0,0,0,{"$f":"SUM(W34:AA34)","v":0},{"$f":"W29","v":0},{"$f":"X29","v":0},0,0,0,{"$f":"AB29","v":0},{"$f":"SUM(AD34:AH34)+AB34","v":0},{"$f":"AD29","v":0},{"$f":"AE29","v":0},0,0,0]
[null,3.3,"Total Dental Services Paid Directly -- IBNP",0,{"$f":"E30","v":0},{"$f":"F30","v":0},0,0,{"$f":"I30","v":0},{"$f":"SUM(K35:O35)","v":0},{"$f":"K30","v":0},{"$f":"L30","v":0},0,0,{"$f":"O30","v":0},{"$f":"SUM(Q35:U35)","v":0},{"$f":"Q30","v":0},{"$f":"R30","v":0},0,0,{"$f":"U30","v":0},{"$f":"SUM(W35:AA35)","v":0},{"$f":"W30","v":0},{"$f":"X30","v":0},0,0,{"$f":"AA30","v":0},{"$f":"AB30","v":0},{"$f":"SUM(AD35:AH35)+AB35","v":0},{"$f":"AD30","v":0},{"$f":"AE30","v":0},0,0,{"$f":"AH30","v":0}]
[null,"3.4","Total Dental Services Paid by Settlements/AP",0,{"$f":"E31","v":0},{"$f":"F31","v":0},0,0,{"$f":"I31","v":0},0,{"$f":"K31","v":0},{"$f":"L31","v":0},0,0,{"$f":"O31","v":0},0,{"$f":"Q31","v":0},{"$f":"R31","v":0},0,0,{"$f":"U31","v":0},0,{"$f":"W31","v":0},{"$f":"X31","v":0},0,0,{"$f":"AA31","v":0},{"$f":"AB31","v":0},0,{"$f":"AD31","v":0},{"$f":"AE31","v":0},0,0,{"$f":"AH31","v":0}]
[null,"3.5","TPL & Fraud/Abuse Recoveries",{"$f":"SUM(E37:I37)","v":0},{"$f":"SUM('Dental Rev-Exp Region 1:Dental Rev-Exp Region 11'!E37)","v":0},{"$f":"SUM('Dental Rev-Exp Region 1:Dental Rev-Exp Region 11'!F37)","v":0},{"$f":"SUM('Dental Rev-Exp Region 1:Dental Rev-Exp Region 11'!G37)","v":0},{"$f":"SUM('Dental Rev-Exp Region 1:Dental Rev-Exp Region 11'!H37)","v":0},{"$f":"SUM('Dental Rev-Exp Region 1:Dental Rev-Exp Region 11'!I37)","v":0},{"$f":"SUM(K37:O37)","v":0},{"$f":"SUM('Dental Rev-Exp Region 1:Dental Rev-Exp Region 11'!K37)","v":0},{"$f":"SUM('Dental Rev-Exp Region 1:Dental Rev-Exp Region 11'!L37)","v":0},{"$f":"SUM('Dental Rev-Exp Region 1:Dental Rev-Exp Region 11'!M37)","v":0},{"$f":"SUM('Dental Rev-Exp Region 1:Dental Rev-Exp Region 11'!N37)","v":0},{"$f":"SUM('Dental Rev-Exp Region 1:Dental Rev-Exp Region 11'!O37)","v":0},{"$f":"SUM(Q37:U37)","v":0},{"$f":"SUM('Dental Rev-Exp Region 1:Dental Rev-Exp Region 11'!Q37)","v":0},{"$f":"SUM('Dental Rev-Exp Region 1:Dental Rev-Exp Region 11'!R37)","v":0},{"$f":"SUM('Dental Rev-Exp Region 1:Dental Rev-Exp Region 11'!S37)","v":0},{"$f":"SUM('Dental Rev-Exp Region 1:Dental Rev-Exp Region 11'!T37)","v":0},{"$f":"SUM('Dental Rev-Exp Region 1:Dental Rev-Exp Region 11'!U37)","v":0},{"$f":"SUM(W37:AA37)","v":0},{"$f":"SUM('Dental Rev-Exp Region 1:Dental Rev-Exp Region 11'!W37)","v":0},{"$f":"SUM('Dental Rev-Exp Region 1:Dental Rev-Exp Region 11'!X37)","v":0},{"$f":"SUM('Dental Rev-Exp Region 1:Dental Rev-Exp Region 11'!Y37)","v":0},{"$f":"SUM('Dental Rev-Exp Region 1:Dental Rev-Exp Region 11'!Z37)","v":0},{"$f":"SUM('Dental Rev-Exp Region 1:Dental Rev-Exp Region 11'!AA37)","v":0},{"$f":"SUM('Dental Rev-Exp Region 1:Dental Rev-Exp Region 11'!AB37)","v":0},0,{"$f":"SUM('Dental Rev-Exp Region 1:Dental Rev-Exp Region 11'!AD37)","v":0},{"$f":"SUM('Dental Rev-Exp Region 1:Dental Rev-Exp Region 11'!AE37)","v":0},{"$f":"SUM('Dental Rev-Exp Region 1:Dental Rev-Exp Region 11'!AF37)","v":0},{"$f":"SUM('Dental Rev-Exp Region 1:Dental Rev-Exp Region 11'!AG37)","v":0},{"$f":"SUM('Dental Rev-Exp Region 1:Dental Rev-Exp Region 11'!AH37)","v":0}]
[null,3.6,"Premium Deficiency Reserve",{"$f":"SUM(E38:I38)","v":0},{"$f":"SUM('Dental Rev-Exp Region 1:Dental Rev-Exp Region 11'!E38)","v":0},{"$f":"SUM('Dental Rev-Exp Region 1:Dental Rev-Exp Region 11'!F38)","v":0},{"$f":"SUM('Dental Rev-Exp Region 1:Dental Rev-Exp Region 11'!G38)","v":0},{"$f":"SUM('Dental Rev-Exp Region 1:Dental Rev-Exp Region 11'!H38)","v":0},{"$f":"SUM('Dental Rev-Exp Region 1:Dental Rev-Exp Region 11'!I38)","v":0},{"$f":"SUM(K38:O38)","v":0},{"$f":"SUM('Dental Rev-Exp Region 1:Dental Rev-Exp Region 11'!K38)","v":0},{"$f":"SUM('Dental Rev-Exp Region 1:Dental Rev-Exp Region 11'!L38)","v":0},{"$f":"SUM('Dental Rev-Exp Region 1:Dental Rev-Exp Region 11'!M38)","v":0},{"$f":"SUM('Dental Rev-Exp Region 1:Dental Rev-Exp Region 11'!N38)","v":0},{"$f":"SUM('Dental Rev-Exp Region 1:Dental Rev-Exp Region 11'!O38)","v":0},{"$f":"SUM(Q38:U38)","v":0},{"$f":"SUM('Dental Rev-Exp Region 1:Dental Rev-Exp Region 11'!Q38)","v":0},{"$f":"SUM('Dental Rev-Exp Region 1:Dental Rev-Exp Region 11'!R38)","v":0},{"$f":"SUM('Dental Rev-Exp Region 1:Dental Rev-Exp Region 11'!S38)","v":0},{"$f":"SUM('Dental Rev-Exp Region 1:Dental Rev-Exp Region 11'!T38)","v":0},{"$f":"SUM('Dental Rev-Exp Region 1:Dental Rev-Exp Region 11'!U38)","v":0},{"$f":"SUM(W38:AA38)","v":0},{"$f":"SUM('Dental Rev-Exp Region 1:Dental Rev-Exp Region 11'!W38)","v":0},{"$f":"SUM('Dental Rev-Exp Region 1:Dental Rev-Exp Region 11'!X38)","v":0},{"$f":"SUM('Dental Rev-Exp Region 1:Dental Rev-Exp Region 11'!Y38)","v":0},{"$f":"SUM('Dental Rev-Exp Region 1:Dental Rev-Exp Region 11'!Z38)","v":0},{"$f":"SUM('Dental Rev-Exp Region 1:Dental Rev-Exp Region 11'!AA38)","v":0},{"$f":"SUM('Dental Rev-Exp Region 1:Dental Rev-Exp Region 11'!AB38)","v":0},{"$f":"SUM(AD38:AH38)+AB38","v":0},{"$f":"SUM('Dental Rev-Exp Region 1:Dental Rev-Exp Region 11'!AD38)","v":0},{"$f":"SUM('Dental Rev-Exp Region 1:Dental Rev-Exp Region 11'!AE38)","v":0},{"$f":"SUM('Dental Rev-Exp Region 1:Dental Rev-Exp Region 11'!AF38)","v":0},{"$f":"SUM('Dental Rev-Exp Region 1:Dental Rev-Exp Region 11'!AG38)","v":0},{"$f":"SUM('Dental Rev-Exp Region 1:Dental Rev-Exp Region 11'!AH38)","v":0}]
[null,"3.7","Subtotal Benefit Expense before Reinsurance",{"$f":"SUM(D33:D38)","v":0},{"$f":"SUM(E33:E38)","v":0},{"$f":"SUM(F33:F38)","v":0},0,0,0,{"$f":"SUM(J33:J38)","v":0},{"$f":"SUM(K33:K38)","v":0},{"$f":"SUM(L33:L38)","v":0},0,0,0,{"$f":"SUM(P33:P38)","v":0},{"$f":"SUM(Q33:Q38)","v":0},{"$f":"SUM(R33:R38)","v":0},0,0,0,{"$f":"SUM(V33:V38)","v":0},{"$f":"SUM(W33:W38)","v":0},{"$f":"SUM(X33:X38)","v":0},0,0,0,{"$f":"SUM(AB33:AB38)","v":0},{"$f":"SUM(AC33:AC38)","v":0},{"$f":"SUM(AD33:AD38)","v":0},{"$f":"SUM(AE33:AE38)","v":0},0,0,0]
[null,"3.8","Reinsurance Premiums",{"$f":"SUM(E40:I40)","v":0},{"$f":"SUM('Dental Rev-Exp Region 1:Dental Rev-Exp Region 11'!E40)","v":0},{"$f":"SUM('Dental Rev-Exp Region 1:Dental Rev-Exp Region 11'!F40)","v":0},{"$f":"SUM('Dental Rev-Exp Region 1:Dental Rev-Exp Region 11'!G40)","v":0},{"$f":"SUM('Dental Rev-Exp Region 1:Dental Rev-Exp Region 11'!H40)","v":0},{"$f":"SUM('Dental Rev-Exp Region 1:Dental Rev-Exp Region 11'!I40)","v":0},{"$f":"SUM(K40:O40)","v":0},{"$f":"SUM('Dental Rev-Exp Region 1:Dental Rev-Exp Region 11'!K40)","v":0},{"$f":"SUM('Dental Rev-Exp Region 1:Dental Rev-Exp Region 11'!L40)","v":0},{"$f":"SUM('Dental Rev-Exp Region 1:Dental Rev-Exp Region 11'!M40)","v":0},{"$f":"SUM('Dental Rev-Exp Region 1:Dental Rev-Exp Region 11'!N40)","v":0},{"$f":"SUM('Dental Rev-Exp Region 1:Dental Rev-Exp Region 11'!O40)","v":0},{"$f":"SUM(Q40:U40)","v":0},{"$f":"SUM('Dental Rev-Exp Region 1:Dental Rev-Exp Region 11'!Q40)","v":0},{"$f":"SUM('Dental Rev-Exp Region 1:Dental Rev-Exp Region 11'!R40)","v":0},{"$f":"SUM('Dental Rev-Exp Region 1:Dental Rev-Exp Region 11'!S40)","v":0},{"$f":"SUM('Dental Rev-Exp Region 1:Dental Rev-Exp Region 11'!T40)","v":0},{"$f":"SUM('Dental Rev-Exp Region 1:Dental Rev-Exp Region 11'!U40)","v":0},{"$f":"SUM(W40:AA40)","v":0},{"$f":"SUM('Dental Rev-Exp Region 1:Dental Rev-Exp Region 11'!W40)","v":0},{"$f":"SUM('Dental Rev-Exp Region 1:Dental Rev-Exp Region 11'!X40)","v":0},{"$f":"SUM('Dental Rev-Exp Region 1:Dental Rev-Exp Region 11'!Y40)","v":0},{"$f":"SUM('Dental Rev-Exp Region 1:Dental Rev-Exp Region 11'!Z40)","v":0},{"$f":"SUM('Dental Rev-Exp Region 1:Dental Rev-Exp Region 11'!AA40)","v":0},{"$f":"SUM('Dental Rev-Exp Region 1:Dental Rev-Exp Region 11'!AB40)","v":0},{"$f":"SUM(AD40:AH40)+AB40","v":0},{"$f":"SUM('Dental Rev-Exp Region 1:Dental Rev-Exp Region 11'!AD40)","v":0},{"$f":"SUM('Dental Rev-Exp Region 1:Dental Rev-Exp Region 11'!AE40)","v":0},{"$f":"SUM('Dental Rev-Exp Region 1:Dental Rev-Exp Region 11'!AF40)","v":0},{"$f":"SUM('Dental Rev-Exp Region 1:Dental Rev-Exp Region 11'!AG40)","v":0},{"$f":"SUM('Dental Rev-Exp Region 1:Dental Rev-Exp Region 11'!AH40)","v":0}]
[null,"3.9","Reinsurance Recoveries",{"$f":"SUM(E41:I41)","v":0},{"$f":"SUM('Dental Rev-Exp Region 1:Dental Rev-Exp Region 11'!E41)","v":0},{"$f":"SUM('Dental Rev-Exp Region 1:Dental Rev-Exp Region 11'!F41)","v":0},{"$f":"SUM('Dental Rev-Exp Region 1:Dental Rev-Exp Region 11'!G41)","v":0},{"$f":"SUM('Dental Rev-Exp Region 1:Dental Rev-Exp Region 11'!H41)","v":0},{"$f":"SUM('Dental Rev-Exp Region 1:Dental Rev-Exp Region 11'!I41)","v":0},{"$f":"SUM(K41:O41)","v":0},{"$f":"SUM('Dental Rev-Exp Region 1:Dental Rev-Exp Region 11'!K41)","v":0},{"$f":"SUM('Dental Rev-Exp Region 1:Dental Rev-Exp Region 11'!L41)","v":0},{"$f":"SUM('Dental Rev-Exp Region 1:Dental Rev-Exp Region 11'!M41)","v":0},{"$f":"SUM('Dental Rev-Exp Region 1:Dental Rev-Exp Region 11'!N41)","v":0},{"$f":"SUM('Dental Rev-Exp Region 1:Dental Rev-Exp Region 11'!O41)","v":0},{"$f":"SUM(Q41:U41)","v":0},{"$f":"SUM('Dental Rev-Exp Region 1:Dental Rev-Exp Region 11'!Q41)","v":0},{"$f":"SUM('Dental Rev-Exp Region 1:Dental Rev-Exp Region 11'!R41)","v":0},{"$f":"SUM('Dental Rev-Exp Region 1:Dental Rev-Exp Region 11'!S41)","v":0},{"$f":"SUM('Dental Rev-Exp Region 1:Dental Rev-Exp Region 11'!T41)","v":0},{"$f":"SUM('Dental Rev-Exp Region 1:Dental Rev-Exp Region 11'!U41)","v":0},{"$f":"SUM(W41:AA41)","v":0},{"$f":"SUM('Dental Rev-Exp Region 1:Dental Rev-Exp Region 11'!W41)","v":0},{"$f":"SUM('Dental Rev-Exp Region 1:Dental Rev-Exp Region 11'!X41)","v":0},{"$f":"SUM('Dental Rev-Exp Region 1:Dental Rev-Exp Region 11'!Y41)","v":0},{"$f":"SUM('Dental Rev-Exp Region 1:Dental Rev-Exp Region 11'!Z41)","v":0},{"$f":"SUM('Dental Rev-Exp Region 1:Dental Rev-Exp Region 11'!AA41)","v":0},{"$f":"SUM('Dental Rev-Exp Region 1:Dental Rev-Exp Region 11'!AB41)","v":0},{"$f":"SUM(AD41:AH41)+AB41","v":0},{"$f":"SUM('Dental Rev-Exp Region 1:Dental Rev-Exp Region 11'!AD41)","v":0},{"$f":"SUM('Dental Rev-Exp Region 1:Dental Rev-Exp Region 11'!AE41)","v":0},{"$f":"SUM('Dental Rev-Exp Region 1:Dental Rev-Exp Region 11'!AF41)","v":0},{"$f":"SUM('Dental Rev-Exp Region 1:Dental Rev-Exp Region 11'!AG41)","v":0},{"$f":"SUM('Dental Rev-Exp Region 1:Dental Rev-Exp Region 11'!AH41)","v":0}]
[null,"3.10","Net cost of Reinsurance",{"$f":"SUM(D40:D41)","v":0},{"$f":"SUM('Dental Rev-Exp Region 1:Dental Rev-Exp Region 11'!E42)","v":0},{"$f":"SUM('Dental Rev-Exp Region 1:Dental Rev-Exp Region 11'!F42)","v":0},{"$f":"SUM('Dental Rev-Exp Region 1:Dental Rev-Exp Region 11'!G42)","v":0},{"$f":"SUM('Dental Rev-Exp Region 1:Dental Rev-Exp Region 11'!H42)","v":0},{"$f":"SUM('Dental Rev-Exp Region 1:Dental Rev-Exp Region 11'!I42)","v":0},{"$f":"SUM(J40:J41)","v":0},{"$f":"SUM('Dental Rev-Exp Region 1:Dental Rev-Exp Region 11'!K42)","v":0},{"$f":"SUM('Dental Rev-Exp Region 1:Dental Rev-Exp Region 11'!L42)","v":0},{"$f":"SUM('Dental Rev-Exp Region 1:Dental Rev-Exp Region 11'!M42)","v":0},{"$f":"SUM('Dental Rev-Exp Region 1:Dental Rev-Exp Region 11'!N42)","v":0},{"$f":"SUM('Dental Rev-Exp Region 1:Dental Rev-Exp Region 11'!O42)","v":0},{"$f":"SUM(P40:P41)","v":0},{"$f":"SUM('Dental Rev-Exp Region 1:Dental Rev-Exp Region 11'!Q42)","v":0},{"$f":"SUM('Dental Rev-Exp Region 1:Dental Rev-Exp Region 11'!R42)","v":0},{"$f":"SUM('Dental Rev-Exp Region 1:Dental Rev-Exp Region 11'!S42)","v":0},{"$f":"SUM('Dental Rev-Exp Region 1:Dental Rev-Exp Region 11'!T42)","v":0},{"$f":"SUM('Dental Rev-Exp Region 1:Dental Rev-Exp Region 11'!U42)","v":0},{"$f":"SUM(V40:V41)","v":0},{"$f":"SUM('Dental Rev-Exp Region 1:Dental Rev-Exp Region 11'!W42)","v":0},{"$f":"SUM('Dental Rev-Exp Region 1:Dental Rev-Exp Region 11'!X42)","v":0},{"$f":"SUM('Dental Rev-Exp Region 1:Dental Rev-Exp Region 11'!Y42)","v":0},{"$f":"SUM('Dental Rev-Exp Region 1:Dental Rev-Exp Region 11'!Z42)","v":0},{"$f":"SUM('Dental Rev-Exp Region 1:Dental Rev-Exp Region 11'!AA42)","v":0},{"$f":"SUM('Dental Rev-Exp Region 1:Dental Rev-Exp Region 11'!AB42)","v":0},{"$f":"SUM(AC40:AC41)+AB42","v":0},{"$f":"SUM('Dental Rev-Exp Region 1:Dental Rev-Exp Region 11'!AD42)","v":0},{"$f":"SUM('Dental Rev-Exp Region 1:Dental Rev-Exp Region 11'!AE42)","v":0},{"$f":"SUM('Dental Rev-Exp Region 1:Dental Rev-Exp Region 11'!AF42)","v":0},{"$f":"SUM('Dental Rev-Exp Region 1:Dental Rev-Exp Region 11'!AG42)","v":0},{"$f":"SUM('Dental Rev-Exp Region 1:Dental Rev-Exp Region 11'!AH42)","v":0}]
[null,"3.11","Grand Total Medical Benefit Expense Net of Reinsurance",{"$f":"D39+D42","v":0},{"$f":"E39+E42","v":0},{"$f":"F39+F42","v":0},0,0,{"$f":"I39+I42","v":0},{"$f":"J39+J42","v":0},{"$f":"K39+K42","v":0},{"$f":"L39+L42","v":0},0,0,{"$f":"O39+O42","v":0},{"$f":"P39+P42","v":0},{"$f":"Q39+Q42","v":0},{"$f":"R39+R42","v":0},0,0,{"$f":"U39+U42","v":0},{"$f":"V39+V42","v":0},{"$f":"W39+W42","v":0},{"$f":"X39+X42","v":0},0,0,{"$f":"AA39+AA42","v":0},{"$f":"AB39+AB42","v":0},{"$f":"AC39+AC42","v":0},{"$f":"AD39+AD42","v":0},{"$f":"AE39+AE42","v":0},0,0,{"$f":"AH39+AH42","v":0}]
["Administrative Expenses, Government-Mandated Assessments, Taxes, and Fees ",null,null,"JANUARY - MARCH (Q1)",{"$nulls":5},"APRIL - JUNE (Q2)",{"$nulls":5},"JULY - SEPTEMBER (Q3)",{"$nulls":5},"OCTOBER - DECEMBER (Q4)",{"$nulls":6},"TOTAL (TO DATE)"]
[{"$nulls":3},"Total","Health Plan","Corporate",{"$nulls":3},"Total","Health Plan","Corporate",{"$nulls":3},"Total","Health Plan","Corporate",{"$nulls":3},"Total","Health Plan","Corporate",{"$nulls":3},"Prior Calendar Year Adjustments","Total","Health Plan","Corporate"]
["Administrative Expenses","4.1","Salaries & Benefits",{"$f":"SUM(E46:F46)","v":0},{"$f":"SUM('Dental Rev-Exp Region 1:Dental Rev-Exp Region 11'!E46)","v":0},{"$f":"SUM('Dental Rev-Exp Region 1:Dental Rev-Exp Region 11'!F46)","v":0},{"$nulls":3},{"$f":"SUM(K46:L46)","v":0},{"$f":"SUM('Dental Rev-Exp Region 1:Dental Rev-Exp Region 11'!K46)","v":0},{"$f":"SUM('Dental Rev-Exp Region 1:Dental Rev-Exp Region 11'!L46)","v":0},{"$nulls":3},{"$f":"SUM(Q46:R46)","v":0},{"$f":"SUM('Dental Rev-Exp Region 1:Dental Rev-Exp Region 11'!Q46)","v":0},{"$f":"SUM('Dental Rev-Exp Region 1:Dental Rev-Exp Region 11'!R46)","v":0},{"$nulls":3},{"$f":"SUM(W46:X46)","v":0},{"$f":"SUM('Dental Rev-Exp Region 1:Dental Rev-Exp Region 11'!W46)","v":0},{"$f":"SUM('Dental Rev-Exp Region 1:Dental Rev-Exp Region 11'!X46)","v":0},{"$nulls":3},{"$f":"SUM('Dental Rev-Exp Region 1:Dental Rev-Exp Region 11'!AB46)","v":0},{"$f":"SUM(AD46:AE46)+AB46","v":0},{"$f":"SUM('Dental Rev-Exp Region 1:Dental Rev-Exp Region 11'!AD46)","v":0},{"$f":"SUM('Dental Rev-Exp Region 1:Dental Rev-Exp Region 11'!AE46)","v":0}]
[null,"4.2","Administrative Services",{"$f":"SUM(E47:F47)","v":0},{"$f":"SUM('Dental Rev-Exp Region 1:Dental Rev-Exp Region 11'!E47)","v":0},{"$f":"SUM('Dental Rev-Exp Region 1:Dental Rev-Exp Region 11'!F47)","v":0},{"$nulls":3},{"$f":"SUM(K47:L47)","v":0},{"$f":"SUM('Dental Rev-Exp Region 1:Dental Rev-Exp Region 11'!K47)","v":0},{"$f":"SUM('Dental Rev-Exp Region 1:Dental Rev-Exp Region 11'!L47)","v":0},{"$nulls":3},{"$f":"SUM(Q47:R47)","v":0},{"$f":"SUM('Dental Rev-Exp Region 1:Dental Rev-Exp Region 11'!Q47)","v":0},{"$f":"SUM('Dental Rev-Exp Region 1:Dental Rev-Exp Region 11'!R47)","v":0},{"$nulls":3},{"$f":"SUM(W47:X47)","v":0},{"$f":"SUM('Dental Rev-Exp Region 1:Dental Rev-Exp Region 11'!W47)","v":0},{"$f":"SUM('Dental Rev-Exp Region 1:Dental Rev-Exp Region 11'!X47)","v":0},{"$nulls":3},{"$f":"SUM('Dental Rev-Exp Region 1:Dental Rev-Exp Region 11'!AB47)","v":0},{"$f":"SUM(AD47:AE47)+AB47","v":0},{"$f":"SUM('Dental Rev-Exp Region 1:Dental Rev-Exp Region 11'!AD47)","v":0},{"$f":"SUM('Dental Rev-Exp Region 1:Dental Rev-Exp Region 11'!AE47)","v":0}]
[null,"4.3","Information Systems",0,{"$f":"SUM('Dental Rev-Exp Region 1:Dental Rev-Exp Region 11'!E48)","v":0},{"$f":"SUM('Dental Rev-Exp Region 1:Dental Rev-Exp Region 11'!F48)","v":0},{"$nulls":3},0,{"$f":"SUM('Dental Rev-Exp Region 1:Dental Rev-Exp Region 11'!K48)","v":0},{"$f":"SUM('Dental Rev-Exp Region 1:Dental Rev-Exp Region 11'!L48)","v":0},{"$nulls":3},0,{"$f":"SUM('Dental Rev-Exp Region 1:Dental Rev-Exp Region 11'!Q48)","v":0},{"$f":"SUM('Dental Rev-Exp Region 1:Dental Rev-Exp Region 11'!R48)","v":0},{"$nulls":3},0,{"$f":"SUM('Dental Rev-Exp Region 1:Dental Rev-Exp Region 11'!W48)","v":0},{"$f":"SUM('Dental Rev-Exp Region 1:Dental Rev-Exp Region 11'!X48)","v":0},{"$nulls":3},{"$f":"SUM('Dental Rev-Exp Region 1:Dental Rev-Exp Region 11'!AB48)","v":0},0,{"$f":"SUM('Dental Rev-Exp Region 1:Dental Rev-Exp Region 11'!AD48)","v":0},{"$f":"SUM('Dental Rev-Exp Region 1:Dental Rev-Exp Region 11'!AE48)","v":0}]
[null,"4.4","Marketing Expenses",0,{"$f":"SUM('Dental Rev-Exp Region 1:Dental Rev-Exp Region 11'!E49)","v":0},{"$f":"SUM('Dental Rev-Exp Region 1:Dental Rev-Exp Region 11'!F49)","v":0},{"$nulls":3},0,{"$f":"SUM('Dental Rev-Exp Region 1:Dental Rev-Exp Region 11'!K49)","v":0},{"$f":"SUM('Dental Rev-Exp Region 1:Dental Rev-Exp Region 11'!L49)","v":0},{"$nulls":3},0,{"$f":"SUM('Dental Rev-Exp Region 1:Dental Rev-Exp Region 11'!Q49)","v":0},{"$f":"SUM('Dental Rev-Exp Region 1:Dental Rev-Exp Region 11'!R49)","v":0},{"$nulls":3},0,{"$f":"SUM('Dental Rev-Exp Region 1:Dental Rev-Exp Region 11'!W49)","v":0},{"$f":"SUM('Dental Rev-Exp Region 1:Dental Rev-Exp Region 11'!X49)","v":0},{"$nulls":3},{"$f":"SUM('Dental Rev-Exp Region 1:Dental Rev-Exp Region 11'!AB49)","v":0},0,{"$f":"SUM('Dental Rev-Exp Region 1:Dental Rev-Exp Region 11'!AD49)","v":0},{"$f":"SUM('Dental Rev-Exp Region 1:Dental Rev-Exp Region 11'!AE49)","v":0}]
[null,"4.5","General  Administration",0,{"$f":"SUM('Dental Rev-Exp Region 1:Dental Rev-Exp Region 11'!E50)","v":0},{"$f":"SUM('Dental Rev-Exp Region 1:Dental Rev-Exp Region 11'!F50)","v":0},{"$nulls":3},0,{"$f":"SUM('Dental Rev-Exp Region 1:Dental Rev-Exp Region 11'!K50)","v":0},{"$f":"SUM('Dental Rev-Exp Region 1:Dental Rev-Exp Region 11'!L50)","v":0},{"$nulls":3},0,{"$f":"SUM('Dental Rev-Exp Region 1:Dental Rev-Exp Region 11'!Q50)","v":0},{"$f":"SUM('Dental Rev-Exp Region 1:Dental Rev-Exp Region 11'!R50)","v":0},{"$nulls":3},0,{"$f":"SUM('Dental Rev-Exp Region 1:Dental Rev-Exp Region 11'!W50)","v":0},{"$f":"SUM('Dental Rev-Exp Region 1:Dental Rev-Exp Region 11'!X50)","v":0},{"$nulls":3},{"$f":"SUM('Dental Rev-Exp Region 1:Dental Rev-Exp Region 11'!AB50)","v":0},0,{"$f":"SUM('Dental Rev-Exp Region 1:Dental Rev-Exp Region 11'!AD50)","v":0},{"$f":"SUM('Dental Rev-Exp Region 1:Dental Rev-Exp Region 11'!AE50)","v":0}]
[null,"4.6","Compliance/Regulatory",0,{"$f":"SUM('Dental Rev-Exp Region 1:Dental Rev-Exp Region 11'!E51)","v":0},{"$f":"SUM('Dental Rev-Exp Region 1:Dental Rev-Exp Region 11'!F51)","v":0},{"$nulls":3},0,{"$f":"SUM('Dental Rev-Exp Region 1:Dental Rev-Exp Region 11'!K51)","v":0},{"$f":"SUM('Dental Rev-Exp Region 1:Dental Rev-Exp Region 11'!L51)","v":0},{"$nulls":3},0,{"$f":"SUM('Dental Rev-Exp Region 1:Dental Rev-Exp Region 11'!Q51)","v":0},{"$f":"SUM('Dental Rev-Exp Region 1:Dental Rev-Exp Region 11'!R51)","v":0},{"$nulls":3},0,{"$f":"SUM('Dental Rev-Exp Region 1:Dental Rev-Exp Region 11'!W51)","v":0},{"$f":"SUM('Dental Rev-Exp Region 1:Dental Rev-Exp Region 11'!X51)","v":0},{"$nulls":3},{"$f":"SUM('Dental Rev-Exp Region 1:Dental Rev-Exp Region 11'!AB51)","v":0},0,{"$f":"SUM('Dental Rev-Exp Region 1:Dental Rev-Exp Region 11'!AD51)","v":0},{"$f":"SUM('Dental Rev-Exp Region 1:Dental Rev-Exp Region 11'!AE51)","v":0}]
[null,"4.7","Total Administrative Expenses ",{"$f":"SUM(D46:D51)","v":0},{"$f":"SUM(E46:E51)","v":0},{"$f":"SUM(F46:F51)","v":0},{"$nulls":3},{"$f":"SUM(J46:J51)","v":0},{"$f":"SUM(K46:K51)","v":0},{"$f":"SUM(L46:L51)","v":0},{"$nulls":3},{"$f":"SUM(P46:P51)","v":0},{"$f":"SUM(Q46:Q51)","v":0},{"$f":"SUM(R46:R51)","v":0},{"$nulls":3},{"$f":"SUM(V46:V51)","v":0},{"$f":"SUM(W46:W51)","v":0},{"$f":"SUM(X46:X51)","v":0},{"$nulls":3},{"$f":"SUM(AB46:AB51)","v":0},{"$f":"SUM(AC46:AC51)","v":0},{"$f":"SUM(AD46:AD51)","v":0},{"$f":"SUM(AE46:AE51)","v":0}]
["Government-Mandated Assessments, Taxes, and Fees Other Than Income Taxes","5.1","State Premium tax",{"$f":"SUM('Dental Rev-Exp Region 1:Dental Rev-Exp Region 11'!D53)","v":0},{"$nulls":5},{"$f":"SUM('Dental Rev-Exp Region 1:Dental Rev-Exp Region 11'!J53)","v":0},{"$nulls":5},{"$f":"SUM('Dental Rev-Exp Region 1:Dental Rev-Exp Region 11'!P53)","v":0},{"$nulls":5},{"$f":"SUM('Dental Rev-Exp Region 1:Dental Rev-Exp Region 11'!V53)","v":0},{"$nulls":5},{"$f":"SUM('Dental Rev-Exp Region 1:Dental Rev-Exp Region 11'!AB53)","v":0},{"$f":"SUM('Dental Rev-Exp Region 1:Dental Rev-Exp Region 11'!AC53)","v":0}]
[null,"5.2","Department of Insurance Assessments",{"$f":"SUM('Dental Rev-Exp Region 1:Dental Rev-Exp Region 11'!D54)","v":0},{"$nulls":5},{"$f":"SUM('Dental Rev-Exp Region 1:Dental Rev-Exp Region 11'!J54)","v":0},{"$nulls":5},{"$f":"SUM('Dental Rev-Exp Region 1:Dental Rev-Exp Region 11'!P54)","v":0},{"$nulls":5},{"$f":"SUM('Dental Rev-Exp Region 1:Dental Rev-Exp Region 11'!V54)","v":0},{"$nulls":5},{"$f":"SUM('Dental Rev-Exp Region 1:Dental Rev-Exp Region 11'!AB54)","v":0},{"$f":"SUM('Dental Rev-Exp Region 1:Dental Rev-Exp Region 11'!AC54)","v":0}]
[null,"5.3","Section 9010 Health Insurance Providers Fee",{"$f":"SUM('Dental Rev-Exp Region 1:Dental Rev-Exp Region 11'!D55)","v":0},{"$nulls":5},{"$f":"SUM('Dental Rev-Exp Region 1:Dental Rev-Exp Region 11'!J55)","v":0},{"$nulls":5},{"$f":"SUM('Dental Rev-Exp Region 1:Dental Rev-Exp Region 11'!P55)","v":0},{"$nulls":5},{"$f":"SUM('Dental Rev-Exp Region 1:Dental Rev-Exp Region 11'!V55)","v":0},{"$nulls":5},{"$f":"SUM('Dental Rev-Exp Region 1:Dental Rev-Exp Region 11'!AB55)","v":0},{"$f":"SUM('Dental Rev-Exp Region 1:Dental Rev-Exp Region 11'!AC55)","v":0}]
[null,"5.4","Other 1",{"$f":"SUM('Dental Rev-Exp Region 1:Dental Rev-Exp Region 11'!D56)","v":0},{"$nulls":5},{"$f":"SUM('Dental Rev-Exp Region 1:Dental Rev-Exp Region 11'!J56)","v":0},{"$nulls":5},{"$f":"SUM('Dental Rev-Exp Region 1:Dental Rev-Exp Region 11'!P56)","v":0},{"$nulls":5},{"$f":"SUM('Dental Rev-Exp Region 1:Dental Rev-Exp Region 11'!V56)","v":0},{"$nulls":5},{"$f":"SUM('Dental Rev-Exp Region 1:Dental Rev-Exp Region 11'!AB56)","v":0},{"$f":"SUM('Dental Rev-Exp Region 1:Dental Rev-Exp Region 11'!AC56)","v":0}]
[null,"5.5","Other 2",{"$f":"SUM('Dental Rev-Exp Region 1:Dental Rev-Exp Region 11'!D57)","v":0},{"$nulls":5},{"$f":"SUM('Dental Rev-Exp Region 1:Dental Rev-Exp Region 11'!J57)","v":0},{"$nulls":5},{"$f":"SUM('Dental Rev-Exp Region 1:Dental Rev-Exp Region 11'!P57)","v":0},{"$nulls":5},{"$f":"SUM('Dental Rev-Exp Region 1:Dental Rev-Exp Region 11'!V57)","v":0},{"$nulls":5},{"$f":"SUM('Dental Rev-Exp Region 1:Dental Rev-Exp Region 11'!AB57)","v":0},{"$f":"SUM('Dental Rev-Exp Region 1:Dental Rev-Exp Region 11'!AC57)","v":0}]
[null,"5.6","Other 3",{"$f":"SUM('Dental Rev-Exp Region 1:Dental Rev-Exp Region 11'!D58)","v":0},{"$nulls":5},{"$f":"SUM('Dental Rev-Exp Region 1:Dental Rev-Exp Region 11'!J58)","v":0},{"$nulls":5},{"$f":"SUM('Dental Rev-Exp Region 1:Dental Rev-Exp Region 11'!P58)","v":0},{"$nulls":5},{"$f":"SUM('Dental Rev-Exp Region 1:Dental Rev-Exp Region 11'!V58)","v":0},{"$nulls":5},{"$f":"SUM('Dental Rev-Exp Region 1:Dental Rev-Exp Region 11'!AB58)","v":0},{"$f":"SUM('Dental Rev-Exp Region 1:Dental Rev-Exp Region 11'!AC58)","v":0}]
[null,"5.7","Total ",{"$f":"SUM(D53:D58)","v":0},{"$nulls":5},{"$f":"SUM(J53:J58)","v":0},{"$nulls":5},{"$f":"SUM(P53:P58)","v":0},{"$nulls":5},{"$f":"SUM(V53:V58)","v":0},{"$nulls":5},{"$f":"SUM(AB53:AB58)","v":0},{"$f":"SUM(AC53:AC58)","v":0}]
[null,"6.0","Grand Total Expenses",{"$f":"D43+D52+D59","v":0},{"$nulls":5},{"$f":"J43+J52+J59","v":0},{"$nulls":5},{"$f":"P43+P52+P59","v":0},{"$nulls":5},{"$f":"V43+V52+V59","v":0},{"$nulls":5},{"$f":"AB43+AB52+AB59","v":0},{"$f":"AC43+AC52+AC59","v":0}]
[null,"7.0","Underwriting Gain / (Loss)  --- AKA Pre-tax Earnings from Operations",{"$f":"D14-D60","v":0},{"$nulls":5},{"$f":"J14-J60","v":0},{"$nulls":5},{"$f":"P14-P60","v":0},{"$nulls":5},{"$f":"V14-V60","v":0},{"$nulls":5},{"$f":"AB14-AB60","v":0},{"$f":"AC14-AC60","v":0}]
[null,"8.0","Income Tax Expense",{"$f":"SUM('Dental Rev-Exp Region 1:Dental Rev-Exp Region 11'!D62)","v":0},{"$nulls":5},{"$f":"SUM('Dental Rev-Exp Region 1:Dental Rev-Exp Region 11'!J62)","v":0},{"$nulls":5},{"$f":"SUM('Dental Rev-Exp Region 1:Dental Rev-Exp Region 11'!P62)","v":0},{"$nulls":5},{"$f":"SUM('Dental Rev-Exp Region 1:Dental Rev-Exp Region 11'!V62)","v":0},{"$nulls":5},{"$f":"SUM('Dental Rev-Exp Region 1:Dental Rev-Exp Region 11'!AB62)","v":0},{"$f":"SUM('Dental Rev-Exp Region 1:Dental Rev-Exp Region 11'!AC62)","v":0}]
[null,"9.0","Net Underwriting Gain (Loss)",{"$f":"D61-D62","v":0},{"$nulls":5},{"$f":"J61-J62","v":0},{"$nulls":5},{"$f":"P61-P62","v":0},{"$nulls":5},{"$f":"V61-V62","v":0},{"$nulls":5},{"$f":"AB61-AB62","v":0},{"$f":"AC61-AC62","v":0}]

{"sheet":"Dental Rev-Exp Region 1","index":6,"n_rows":63,"n_cols":34,"rows_kept":63,"merged":[[6,3,6,8],[6,9,6,14],[6,15,6,20],[6,21,6,26],[6,28,6,33],[9,0,9,2],[10,0,13,0],[14,0,15,2],[14,3,14,8],[14,9,14,14],[14,15,14,20],[14,21,14,26],[14,28,14,33],[16,0,31,0],[32,0,42,0],[43,0,44,2],[43,3,43,8],[43,9,43,14],[43,15,43,20],[43,21,43,26],[43,28,43,33],[45,0,51,0],[52,0,58,0]]}
["DENTAL -- REVENUE AND EXPENSE SCHEDULE - REGION 1"]
[]
["Health Plan:",null,{"$f":"'Dental Rev-Exp Summary'!C3","v":0}]
["Reporting Period:",null,{"$f":"IF('Dental Rev-Exp Summary'!C4=0,\"\",'Dental Rev-Exp Summary'!C4)","v":""}]
["Paid Through:",null,{"$f":"IF('Dental Rev-Exp Summary'!C5=0,\"\",'Dental Rev-Exp Summary'!C5)","v":""}]
["Region 1"]
[{"$nulls":3},"JANUARY - MARCH (Q1)",{"$nulls":5},"APRIL - JUNE (Q2)",{"$nulls":5},"JULY - SEPTEMBER (Q3)",{"$nulls":5},"OCTOBER - DECEMBER (Q4)",{"$nulls":6},"TOTAL (TO DATE)"]
[{"$nulls":3},"Total","Medicaid Only/Dual Eligible 0-20 Years","Medicaid Only 21+ Years","Dual Eligible 21+ Years","Medically Needy 0-20 Years","Medically Needy 21+ Years","Total","Medicaid Only/Dual Eligible 0-20 Years","Medicaid Only 21+ Years","Dual Eligible 21+ Years","Medically Needy 0-20 Years","Medically Needy 21+ Years","Total","Medicaid Only/Dual Eligible 0-20 Years","Medicaid Only 21+ Years","Dual Eligible 21+ Years","Medically Needy 0-20 Years","Medically Needy 21+ Years","Total","Medicaid Only/Dual Eligible 0-20 Years","Medicaid Only 21+ Years","Dual Eligible 21+ Years","Medically Needy 0-20 Years","Medically Needy 21+ Years","Prior Year Adjustments","Total","Medicaid Only/Dual Eligible 0-20 Years","Medicaid Only 21+ Years","Dual Eligible 21+ Years","Medically Needy 0-20 Years","Medically Needy 21+ Years"]
["MEMBER MONTHS",null,null,{"$f":"SUM(E9:I9)","v":0},{"$nulls":5},{"$f":"SUM(K9:O9)","v":0},{"$nulls":5},{"$f":"SUM(Q9:U9)","v":0},{"$nulls":5},{"$f":"SUM(W9:AA9)","v":0},{"$nulls":6},{"$f":"SUM(AD9:AH9)+AB9","v":0},{"$f":"W9+Q9+K9+E9","v":0},{"$f":"X9+R9+L9+F9","v":0},0,{"$f":"Z9+T9+N9+H9","v":0},{"$f":"AA9+U9+O9+I9","v":0}]
["REVENUES"]
["Revenues","1.1","Capitation",{"$f":"SUM(E11:I11)","v":0},{"$nulls":5},{"$f":"SUM(K11:O11)","v":0},{"$nulls":5},{"$f":"SUM(Q11:U11)","v":0},{"$nulls":5},{"$f":"SUM(W11:AA11)","v":0},{"$nulls":6},{"$f":"SUM(AD11:AH11)+AB11","v":0},{"$f":"W11+Q11+K11+E11","v":0},{"$f":"X11+R11+L11+F11","v":0},0,0,{"$f":"AA11+U11+O11+I11","v":0}]
[null,"1.2","ACA § 9010 related payments",{"$f":"SUM(E12:I12)","v":0},{"$nulls":5},{"$f":"SUM(K12:O12)","v":0},{"$nulls":5},{"$f":"SUM(Q12:U12)","v":0},{"$nulls":5},{"$f":"SUM(W12:AA12)","v":0},{"$nulls":6},{"$f":"SUM(AD12:AH12)+AB12","v":0},{"$f":"W12+Q12+K12+E12","v":0},0,{"$f":"Y12+S12+M12+G12","v":0},0,{"$f":"AA12+U12+O12+I12","v":0}]
[null,"1.3","Other Revenue",0,{"$nulls":5},0,{"$nulls":5},0,{"$nulls":5},0,{"$nulls":6},{"$f":"SUM(AD13:AH13)+AB13","v":0},{"$f":"W13+Q13+K13+E13","v":0},{"$f":"X13+R13+L13+F13","v":0},{"$f":"Y13+S13+M13+G13","v":0},{"$f":"Z13+T13+N13+H13","v":0},{"$f":"AA13+U13+O13+I13","v":0}]
[null,"1.4","Total Revenue",{"$f":"SUM(D11:D13)","v":0},{"$f":"SUM(E11:E13)","v":0},0,{"$f":"SUM(G11:G13)","v":0},0,0,{"$f":"SUM(J11:J13)","v":0},{"$f":"SUM(K11:K13)","v":0},0,0,0,0,{"$f":"SUM(P11:P13)","v":0},{"$f":"SUM(Q11:Q13)","v":0},0,0,0,0,{"$f":"SUM(V11:V13)","v":0},{"$f":"SUM(W11:W13)","v":0},0,0,0,0,{"$f":"SUM(AB11:AB13)","v":0},{"$f":"SUM(AC11:AC13)","v":0},{"$f":"SUM(AD11:AD13)","v":0},{"$f":"SUM(AE11:AE13)","v":0},{"$f":"SUM(AF11:AF13)","v":0},{"$f":"SUM(AG11:AG13)","v":0},0]
["BENEFIT EXPENSES",null,null,"JANUARY - MARCH (Q1)",{"$nulls":5},"APRIL - JUNE (Q2)",{"$nulls":5},"JULY - SEPTEMBER (Q3)",{"$nulls":5},"OCTOBER - DECEMBER (Q4)",{"$nulls":6},"TOTAL (TO DATE)"]
[{"$nulls":3},"Total","Medicaid Only/Dual Eligible 0-20 Years","Medicaid Only 21+ Years","Dual Eligible 21+ Years","Medically Needy 0-20 Years","Medically Needy 21+ Years","Total","Medicaid Only/Dual Eligible 0-20 Years","Medicaid Only 21+ Years","Dual Eligible 21+ Years","Medically Needy 0-20 Years","Medically Needy 21+ Years","Total","Medicaid Only/Dual Eligible 0-20 Years","Medicaid Only 21+ Years","Dual Eligible 21+ Years","Medically Needy 0-20 Years","Medically Needy 21+ Years","Total","Medicaid Only/Dual Eligible 0-20 Years","Medicaid Only 21+ Years","Dual Eligible 21+ Years","Medically Needy 0-20 Years","Medically Needy 21+ Years","Prior Year Adjustments","Total","Medicaid Only/Dual Eligible 0-20 Years","Medicaid Only 21+ Years","Dual Eligible 21+ Years","Medically Needy 0-20 Years","Medically Needy 21+ Years"]
["Dental","2.1","Dental Services Diagnostic FFS",{"$f":"SUM(E17:I17)","v":0},{"$nulls":5},{"$f":"SUM(K17:O17)","v":0},{"$nulls":5},{"$f":"SUM(Q17:U17)","v":0},{"$nulls":5},{"$f":"SUM(W17:AA17)","v":0},{"$nulls":6},{"$f":"SUM(AD17:AH17)+AB17","v":0},{"$f":"W17+Q17+K17+E17","v":0},{"$f":"X17+R17+L17+F17","v":0},0,0,0]
[null,2.2,"Dental Services Preventive FFS",{"$f":"SUM(E18:I18)","v":0},{"$nulls":5},{"$f":"SUM(K18:O18)","v":0},{"$nulls":5},{"$f":"SUM(Q18:U18)","v":0},{"$nulls":5},{"$f":"SUM(W18:AA18)","v":0},{"$nulls":6},{"$f":"SUM(AD18:AH18)+AB18","v":0},{"$f":"W18+Q18+K18+E18","v":0},0,{"$f":"Y18+S18+M18+G18","v":0},0,{"$f":"AA18+U18+O18+I18","v":0}]
[null,"2.3","Dental Services Restorative FFS",0,{"$nulls":5},0,{"$nulls":5},0,{"$nulls":5},0,{"$nulls":6},{"$f":"SUM(AD19:AH19)+AB19","v":0},{"$f":"W19+Q19+K19+E19","v":0},0,0,0,0]
[null,"2.4","Dental Services Endodontics FFS",0,{"$nulls":5},0,{"$nulls":5},0,{"$nulls":5},0,{"$nulls":6},0,0,0,0,0,0]
[null,"2.5","Dental Services Periodontics FFS",0,{"$nulls":5},0,{"$nulls":5},0,{"$nulls":5},0,{"$nulls":6},0,0,0,0,0,0]
[null,"2.6","Dental Services Prosthodontics FFS",0,{"$nulls":5},0,{"$nulls":5},0,{"$nulls":5},0,{"$nulls":6},0,0,0,0,0,0]
[null,"2.7","Dental Services Prosthodontics, fixed FFS",0,{"$nulls":5},0,{"$nulls":5},0,{"$nulls":5},0,{"$nulls":6},0,0,0,0,0,0]
[null,"2.8","Dental Services Oral and Maxillofacial Surgery FFS",0,{"$nulls":5},0,{"$nulls":5},0,{"$nulls":5},0,{"$nulls":6},0,0,0,0,0,0]
[null,"2.9","Dental Services Orthodontics FFS",0,{"$nulls":5},0,{"$nulls":5},0,{"$nulls":5},0,{"$nulls":6},0,0,0,0,0,0]
[null,"2.10","Dental Services Adjunctive General Services FFS",0,{"$nulls":5},0,{"$nulls":5},0,{"$nulls":5},0,{"$nulls":6},{"$f":"SUM(AD26:AH26)+AB26","v":0},{"$f":"W26+Q26+K26+E26","v":0},0,0,0,0]
[null,"2.11","Dental Services Other FFS",0,{"$nulls":5},0,{"$nulls":5},0,{"$nulls":5},0,{"$nulls":6},0,0,0,0,0,0]
[null,"2.12","Dental Expanded Benefits FFS",0,{"$nulls":5},0,{"$nulls":5},0,{"$nulls":5},0,{"$nulls":6},{"$f":"SUM(AD28:AH28)+AB28","v":0},0,0,0,0,{"$f":"AA28+U28+O28+I28","v":0}]
[null,"2.13","Dental Services Paid through Subcapitation",{"$f":"SUM(E29:I29)","v":0},{"$nulls":5},{"$f":"SUM(K29:O29)","v":0},{"$nulls":5},{"$f":"SUM(Q29:U29)","v":0},{"$nulls":5},{"$f":"SUM(W29:AA29)","v":0},{"$nulls":6},{"$f":"SUM(AD29:AH29)+AB29","v":0},{"$f":"W29+Q29+K29+E29","v":0},{"$f":"X29+R29+L29+F29","v":0},{"$f":"Y29+S29+M29+G29","v":0},{"$f":"Z29+T29+N29+H29","v":0},{"$f":"AA29+U29+O29+I29","v":0}]
[null,"2.14","Ending IBNP for Dental Services",0,{"$nulls":5},{"$f":"SUM(K30:O30)","v":0},{"$nulls":5},{"$f":"SUM(Q30:U30)","v":0},{"$nulls":5},{"$f":"SUM(W30:AA30)","v":0},{"$nulls":6},0,0,0,0,0,{"$f":"AA30+U30+O30+I30","v":0}]
[null,"2.15","Dental Settlements/AP",0,{"$nulls":5},0,{"$nulls":5},0,{"$nulls":5},0,{"$nulls":6},{"$f":"SUM(AD31:AH31)+AB31","v":0},0,0,0,0,0]
[null,2.16,"Total Dental Services",{"$f":"SUM(D17:D31)","v":0},{"$f":"SUM(E17:E31)","v":0},0,0,0,0,{"$f":"SUM(J17:J31)","v":0},{"$f":"SUM(K17:K31)","v":0},{"$f":"SUM(L17:L31)","v":0},{"$f":"SUM(M17:M31)","v":0},{"$f":"SUM(N17:N31)","v":0},{"$f":"SUM(O17:O31)","v":0},{"$f":"SUM(P17:P31)","v":0},{"$f":"SUM(Q17:Q31)","v":0},{"$f":"SUM(R17:R31)","v":0},{"$f":"SUM(S17:S31)","v":0},{"$f":"SUM(T17:T31)","v":0},{"$f":"SUM(U17:U31)","v":0},{"$f":"SUM(V17:V31)","v":0},{"$f":"SUM(W17:W31)","v":0},{"$f":"SUM(X17:X31)","v":0},{"$f":"SUM(Y17:Y31)","v":0},{"$f":"SUM(Z17:Z31)","v":0},{"$f":"SUM(AA17:AA31)","v":0},{"$f":"SUM(AB17:AB31)","v":0},0,0,0,0,0,{"$f":"SUM(AH17:AH31)","v":0}]
["Total Before and After Reinsurance",3.1,"Total Dental Services Paid Directly FFS",{"$f":"SUM(D17:D28)","v":0},{"$f":"SUM(E17:E28)","v":0},{"$f":"SUM(F17:F28)","v":0},0,0,{"$f":"SUM(I17:I28)","v":0},{"$f":"SUM(J17:J28)","v":0},{"$f":"SUM(K17:K28)","v":0},0,0,0,{"$f":"SUM(O17:O28)","v":0},{"$f":"SUM(P17:P28)","v":0},{"$f":"SUM(Q17:Q28)","v":0},0,0,0,{"$f":"SUM(U17:U28)","v":0},{"$f":"SUM(V17:V28)","v":0},{"$f":"SUM(W17:W28)","v":0},0,0,0,{"$f":"SUM(AA17:AA28)","v":0},{"$f":"SUM(AB17:AB28)","v":0},{"$f":"SUM(AD33:AH33)+AB33","v":0},{"$f":"W33+Q33+K33+E33","v":0},0,0,0,0]
[null,3.2,"Total Dental Services Paid through Subcapitation",{"$f":"D29","v":0},0,{"$f":"F29","v":0},0,0,0,{"$f":"J29","v":0},0,{"$f":"L29","v":0},0,0,0,{"$f":"P29","v":0},0,{"$f":"R29","v":0},0,0,0,{"$f":"V29","v":0},0,{"$f":"X29","v":0},0,0,0,{"$f":"AB29","v":0},0,{"$f":"W34+Q34+K34+E34","v":0},{"$f":"X34+R34+L34+F34","v":0},{"$f":"Y34+S34+M34+G34","v":0},{"$f":"Z34+T34+N34+H34","v":0},{"$f":"AA34+U34+O34+I34","v":0}]
[null,3.3,"Total Dental Services Paid Directly -- IBNP",0,0,{"$f":"F30","v":0},0,0,0,0,0,{"$f":"L30","v":0},0,0,0,0,0,{"$f":"R30","v":0},0,0,0,0,0,{"$f":"X30","v":0},0,0,0,0,0,0,0,0,{"$f":"Z35+T35+N35+H35","v":0},0]
[null,"3.4","Total Dental Services Paid by Settlements/AP",0,0,0,0,0,0,0,0,0,0,0,0,0,0,0,0,0,0,0,0,0,0,0,0,0,0,{"$f":"W36+Q36+K36+E36","v":0},0,0,0,{"$f":"AA36+U36+O36+I36","v":0}]
[null,"3.5","TPL & Fraud/Abuse Recoveries",{"$f":"SUM(E37:I37)","v":0},{"$nulls":5},{"$f":"SUM(K37:O37)","v":0},{"$nulls":5},{"$f":"SUM(Q37:U37)","v":0},{"$nulls":5},{"$f":"SUM(W37:AA37)","v":0},{"$nulls":6},0,{"$f":"W37+Q37+K37+E37","v":0},0,0,0,{"$f":"AA37+U37+O37+I37","v":0}]
[null,3.6,"Premium Deficiency Reserve",{"$f":"SUM(E38:I38)","v":0},{"$nulls":5},{"$f":"SUM(K38:O38)","v":0},{"$nulls":5},{"$f":"SUM(Q38:U38)","v":0},{"$nulls":5},{"$f":"SUM(W38:AA38)","v":0},{"$nulls":6},{"$f":"SUM(AD38:AH38)+AB38","v":0},{"$f":"W38+Q38+K38+E38","v":0},0,{"$f":"Y38+S38+M38+G38","v":0},0,{"$f":"AA38+U38+O38+I38","v":0}]
[null,"3.7","Subtotal Benefit Expense before Reinsurance",{"$f":"SUM(D33:D38)","v":0},{"$f":"SUM(E33:E38)","v":0},{"$f":"SUM(F33:F38)","v":0},0,0,{"$f":"SUM(I33:I38)","v":0},{"$f":"SUM(J33:J38)","v":0},{"$f":"SUM(K33:K38)","v":0},{"$f":"SUM(L33:L38)","v":0},0,0,{"$f":"SUM(O33:O38)","v":0},{"$f":"SUM(P33:P38)","v":0},{"$f":"SUM(Q33:Q38)","v":0},{"$f":"SUM(R33:R38)","v":0},0,0,{"$f":"SUM(U33:U38)","v":0},{"$f":"SUM(V33:V38)","v":0},{"$f":"SUM(W33:W38)","v":0},{"$f":"SUM(X33:X38)","v":0},{"$f":"SUM(Y33:Y38)","v":0},0,0,{"$f":"SUM(AB33:AB38)","v":0},{"$f":"SUM(AC33:AC38)","v":0},0,0,0,0,0]
[null,"3.8","Reinsurance Premiums",{"$f":"SUM(E40:I40)","v":0},{"$nulls":5},{"$f":"SUM(K40:O40)","v":0},{"$nulls":5},{"$f":"SUM(Q40:U40)","v":0},{"$nulls":5},{"$f":"SUM(W40:AA40)","v":0},{"$nulls":6},{"$f":"SUM(AD40:AH40)+AB40","v":0},{"$f":"W40+Q40+K40+E40","v":0},{"$f":"X40+R40+L40+F40","v":0},{"$f":"Y40+S40+M40+G40","v":0},0,0]
[null,"3.9","Reinsurance Recoveries",{"$f":"SUM(E41:I41)","v":0},{"$nulls":5},{"$f":"SUM(K41:O41)","v":0},{"$nulls":5},{"$f":"SUM(Q41:U41)","v":0},{"$nulls":5},{"$f":"SUM(W41:AA41)","v":0},{"$nulls":6},{"$f":"SUM(AD41:AH41)+AB41","v":0},{"$f":"W41+Q41+K41+E41","v":0},0,0,0,0]
[null,"3.10","Net cost of Reinsurance",{"$f":"SUM(D40:D41)","v":0},{"$f":"SUM(E40:E41)","v":0},{"$f":"SUM(F40:F41)","v":0},0,0,0,{"$f":"SUM(J40:J41)","v":0},{"$f":"SUM(K40:K41)","v":0},0,0,0,0,{"$f":"SUM(P40:P41)","v":0},{"$f":"SUM(Q40:Q41)","v":0},0,0,0,0,{"$f":"SUM(V40:V41)","v":0},{"$f":"SUM(W40:W41)","v":0},0,0,0,0,0,{"$f":"SUM(AC40:AC41)","v":0},{"$f":"SUM(AD40:AD41)","v":0},{"$f":"SUM(AE40:AE41)","v":0},0,{"$f":"SUM(AG40:AG41)","v":0},{"$f":"SUM(AH40:AH41)","v":0}]
[null,"3.11","Grand Total Medical Benefit Expense Net of Reinsurance",{"$f":"D39+D42","v":0},{"$f":"E39+E42","v":0},{"$f":"F39+F42","v":0},0,0,{"$f":"I39+I42","v":0},{"$f":"J39+J42","v":0},{"$f":"K39+K42","v":0},{"$f":"L39+L42","v":0},0,0,{"$f":"O39+O42","v":0},{"$f":"P39+P42","v":0},{"$f":"Q39+Q42","v":0},{"$f":"R39+R42","v":0},0,0,{"$f":"U39+U42","v":0},{"$f":"V39+V42","v":0},{"$f":"W39+W42","v":0},{"$f":"X39+X42","v":0},0,0,{"$f":"AA39+AA42","v":0},{"$f":"AB39+AB42","v":0},{"$f":"AC39+AC42","v":0},{"$f":"AD39+AD42","v":0},{"$f":"AE39+AE42","v":0},0,0,{"$f":"AH39+AH42","v":0}]
["Administrative Expenses, Government-Mandated Assessments, Taxes, and Fees ",null,null,"JANUARY - MARCH (Q1)",{"$nulls":5},"APRIL - JUNE (Q2)",{"$nulls":5},"JULY - SEPTEMBER (Q3)",{"$nulls":5},"OCTOBER - DECEMBER (Q4)",{"$nulls":6},"TOTAL (TO DATE)"]
[{"$nulls":3},"Total","Health Plan","Corporate",{"$nulls":3},"Total","Health Plan","Corporate",{"$nulls":3},"Total","Health Plan","Corporate",{"$nulls":3},"Total","Health Plan","Corporate",{"$nulls":3},"Prior Calendar Year Adjustments","Total","Health Plan","Corporate"]
["Administrative Expenses","4.1","Salaries & Benefits",{"$f":"SUM(E46:F46)","v":0},{"$nulls":5},{"$f":"SUM(K46:L46)","v":0},{"$nulls":5},{"$f":"SUM(Q46:R46)","v":0},{"$nulls":5},{"$f":"SUM(W46:X46)","v":0},{"$nulls":6},{"$f":"SUM(AD46:AE46)+AB46","v":0},{"$f":"W46+Q46+K46+E46","v":0},{"$f":"X46+R46+L46+F46","v":0}]
[null,"4.2","Administrative Services",{"$f":"SUM(E47:F47)","v":0},{"$nulls":5},{"$f":"SUM(K47:L47)","v":0},{"$nulls":5},{"$f":"SUM(Q47:R47)","v":0},{"$nulls":5},{"$f":"SUM(W47:X47)","v":0},{"$nulls":6},{"$f":"SUM(AD47:AE47)+AB47","v":0},{"$f":"W47+Q47+K47+E47","v":0},0]
[null,"4.3","Information Systems",0,{"$nulls":5},0,{"$nulls":5},0,{"$nulls":5},0,{"$nulls":6},{"$f":"SUM(AD48:AE48)+AB48","v":0},0,0]
[null,"4.4","Marketing Expenses",0,{"$nulls":5},0,{"$nulls":5},0,{"$nulls":5},0,{"$nulls":6},{"$f":"SUM(AD49:AE49)+AB49","v":0},0,0]
[null,"4.5","General  Administration",0,{"$nulls":5},0,{"$nulls":5},0,{"$nulls":5},0,{"$nulls":6},0,0,0]
[null,"4.6","Compliance/Regulatory",0,{"$nulls":5},0,{"$nulls":5},0,{"$nulls":5},0,{"$nulls":6},0,0,{"$f":"X51+R51+L51+F51","v":0}]
[null,"4.7","Total Administrative Expenses ",{"$f":"SUM(D46:D51)","v":0},{"$f":"SUM(E46:E51)","v":0},{"$f":"SUM(F46:F51)","v":0},{"$nulls":3},{"$f":"SUM(J46:J51)","v":0},{"$f":"SUM(K46:K51)","v":0},{"$f":"SUM(L46:L51)","v":0},{"$nulls":3},{"$f":"SUM(P46:P51)","v":0},{"$f":"SUM(Q46:Q51)","v":0},{"$f":"SUM(R46:R51)","v":0},{"$nulls":3},{"$f":"SUM(V46:V51)","v":0},{"$f":"SUM(W46:W51)","v":0},{"$f":"SUM(X46:X51)","v":0},{"$nulls":3},{"$f":"SUM(AB46:AB51)","v":0},{"$f":"SUM(AC46:AC51)","v":0},{"$f":"SUM(AD46:AD51)","v":0},{"$f":"SUM(AE46:AE51)","v":0}]
["Government-Mandated Assessments, Taxes, and Fees Other Than Income Taxes","5.1","State Premium tax",{"$nulls":25},{"$f":"D53+J53+P53+V53+AB53","v":0}]
[null,"5.2","Department of Insurance Assessments",{"$nulls":25},{"$f":"D54+J54+P54+V54+AB54","v":0}]
[null,"5.3","Section 9010 Health Insurance Providers Fee",{"$nulls":25},{"$f":"D55+J55+P55+V55+AB55","v":0}]
[null,"5.4","Other 1",{"$nulls":25},{"$f":"D56+J56+P56+V56+AB56","v":0}]
[null,"5.5","Other 2",{"$nulls":25},0]
[null,"5.6","Other 3",{"$nulls":25},{"$f":"D58+J58+P58+V58+AB58","v":0}]
[null,"5.7","Total ",{"$f":"SUM(D53:D58)","v":0},{"$nulls":5},{"$f":"SUM(J53:J58)","v":0},{"$nulls":5},{"$f":"SUM(P53:P58)","v":0},{"$nulls":5},{"$f":"SUM(V53:V58)","v":0},{"$nulls":5},{"$f":"SUM(AB53:AB58)","v":0},{"$f":"SUM(AC53:AC58)","v":0}]
[null,"6.0","Grand Total Expenses",{"$f":"D43+D52+D59","v":0},{"$nulls":5},{"$f":"J43+J52+J59","v":0},{"$nulls":5},{"$f":"P43+P52+P59","v":0},{"$nulls":5},{"$f":"V43+V52+V59","v":0},{"$nulls":5},{"$f":"AB43+AB52+AB59","v":0},{"$f":"AC43+AC52+AC59","v":0}]
[null,"7.0","Underwriting Gain / (Loss)  --- AKA Pre-tax Earnings from Operations",{"$f":"D14-D60","v":0},{"$nulls":5},{"$f":"J14-J60","v":0},{"$nulls":5},{"$f":"P14-P60","v":0},{"$nulls":5},{"$f":"V14-V60","v":0},{"$nulls":5},{"$f":"AB14-AB60","v":0},{"$f":"AC14-AC60","v":0}]
[null,"8.0","Income Tax Expense",{"$nulls":25},{"$f":"AB62+V62+P62+J62+D62","v":0}]
[null,"9.0","Net Underwriting Gain (Loss)",{"$f":"D61-D62","v":0},{"$nulls":5},{"$f":"J61-J62","v":0},{"$nulls":5},{"$f":"P61-P62","v":0},{"$nulls":5},{"$f":"V61-V62","v":0},{"$nulls":5},{"$f":"AB61-AB62","v":0},{"$f":"AC61-AC62","v":0}]

{"sheet":"Dental Rev-Exp Region 2","index":7,"n_rows":63,"n_cols":34,"rows_kept":63,"merged":[[6,3,6,8],[6,9,6,14],[6,15,6,20],[6,21,6,26],[6,28,6,33],[9,0,9,2],[10,0,13,0],[14,0,15,2],[14,3,14,8],[14,9,14,14],[14,15,14,20],[14,21,14,26],[14,28,14,33],[16,0,31,0],[32,0,42,0],[43,0,44,2],[43,3,43,8],[43,9,43,14],[43,15,43,20],[43,21,43,26],[43,28,43,33],[45,0,51,0],[52,0,58,0]]}
["DENTAL -- REVENUE AND EXPENSE SCHEDULE - REGION 2"]
[]
["Health Plan:",null,{"$f":"'Dental Rev-Exp Summary'!C3","v":0}]
["Reporting Period:",null,{"$f":"IF('Dental Rev-Exp Summary'!C4=0,\"\",'Dental Rev-Exp Summary'!C4)","v":""}]
["Paid Through:",null,{"$f":"IF('Dental Rev-Exp Summary'!C5=0,\"\",'Dental Rev-Exp Summary'!C5)","v":""}]
["Region 2"]
[{"$nulls":3},"JANUARY - MARCH (Q1)",{"$nulls":5},"APRIL - JUNE (Q2)",{"$nulls":5},"JULY - SEPTEMBER (Q3)",{"$nulls":5},"OCTOBER - DECEMBER (Q4)",{"$nulls":6},"TOTAL (TO DATE)"]
[{"$nulls":3},"Total","Medicaid Only/Dual Eligible 0-20 Years","Medicaid Only 21+ Years","Dual Eligible 21+ Years","Medically Needy 0-20 Years","Medically Needy 21+ Years","Total","Medicaid Only/Dual Eligible 0-20 Years","Medicaid Only 21+ Years","Dual Eligible 21+ Years","Medically Needy 0-20 Years","Medically Needy 21+ Years","Total","Medicaid Only/Dual Eligible 0-20 Years","Medicaid Only 21+ Years","Dual Eligible 21+ Years","Medically Needy 0-20 Years","Medically Needy 21+ Years","Total","Medicaid Only/Dual Eligible 0-20 Years","Medicaid Only 21+ Years","Dual Eligible 21+ Years","Medically Needy 0-20 Years","Medically Needy 21+ Years","Prior Year Adjustments","Total","Medicaid Only/Dual Eligible 0-20 Years","Medicaid Only 21+ Years","Dual Eligible 21+ Years","Medically Needy 0-20 Years","Medically Needy 21+ Years"]
["MEMBER MONTHS",null,null,{"$f":"SUM(E9:I9)","v":0},{"$nulls":5},{"$f":"SUM(K9:O9)","v":0},{"$nulls":5},{"$f":"SUM(Q9:U9)","v":0},{"$nulls":5},{"$f":"SUM(W9:AA9)","v":0},{"$nulls":6},{"$f":"SUM(AD9:AH9)+AB9","v":0},{"$f":"W9+Q9+K9+E9","v":0},{"$f":"X9+R9+L9+F9","v":0},0,{"$f":"Z9+T9+N9+H9","v":0},{"$f":"AA9+U9+O9+I9","v":0}]
["REVENUES"]
["Revenues","1.1","Capitation",{"$f":"SUM(E11:I11)","v":0},{"$nulls":5},{"$f":"SUM(K11:O11)","v":0},{"$nulls":5},{"$f":"SUM(Q11:U11)","v":0},{"$nulls":5},{"$f":"SUM(W11:AA11)","v":0},{"$nulls":6},{"$f":"SUM(AD11:AH11)+AB11","v":0},{"$f":"W11+Q11+K11+E11","v":0},{"$f":"X11+R11+L11+F11","v":0},0,0,{"$f":"AA11+U11+O11+I11","v":0}]
[null,"1.2","ACA § 9010 related payments",{"$f":"SUM(E12:I12)","v":0},{"$nulls":5},{"$f":"SUM(K12:O12)","v":0},{"$nulls":5},{"$f":"SUM(Q12:U12)","v":0},{"$nulls":5},{"$f":"SUM(W12:AA12)","v":0},{"$nulls":6},{"$f":"SUM(AD12:AH12)+AB12","v":0},{"$f":"W12+Q12+K12+E12","v":0},0,{"$f":"Y12+S12+M12+G12","v":0},0,{"$f":"AA12+U12+O12+I12","v":0}]
[null,"1.3","Other Revenue",0,{"$nulls":5},0,{"$nulls":5},0,{"$nulls":5},0,{"$nulls":6},{"$f":"SUM(AD13:AH13)+AB13","v":0},{"$f":"W13+Q13+K13+E13","v":0},{"$f":"X13+R13+L13+F13","v":0},{"$f":"Y13+S13+M13+G13","v":0},{"$f":"Z13+T13+N13+H13","v":0},{"$f":"AA13+U13+O13+I13","v":0}]
[null,"1.4","Total Revenue",{"$f":"SUM(D11:D13)","v":0},{"$f":"SUM(E11:E13)","v":0},0,{"$f":"SUM(G11:G13)","v":0},0,0,{"$f":"SUM(J11:J13)","v":0},{"$f":"SUM(K11:K13)","v":0},0,0,0,0,{"$f":"SUM(P11:P13)","v":0},{"$f":"SUM(Q11:Q13)","v":0},0,0,0,0,{"$f":"SUM(V11:V13)","v":0},{"$f":"SUM(W11:W13)","v":0},0,0,0,0,{"$f":"SUM(AB11:AB13)","v":0},{"$f":"SUM(AC11:AC13)","v":0},{"$f":"SUM(AD11:AD13)","v":0},{"$f":"SUM(AE11:AE13)","v":0},{"$f":"SUM(AF11:AF13)","v":0},{"$f":"SUM(AG11:AG13)","v":0},0]
["BENEFIT EXPENSES",null,null,"JANUARY - MARCH (Q1)",{"$nulls":5},"APRIL - JUNE (Q2)",{"$nulls":5},"JULY - SEPTEMBER (Q3)",{"$nulls":5},"OCTOBER - DECEMBER (Q4)",{"$nulls":6},"TOTAL (TO DATE)"]
[{"$nulls":3},"Total","Medicaid Only/Dual Eligible 0-20 Years","Medicaid Only 21+ Years","Dual Eligible 21+ Years","Medically Needy 0-20 Years","Medically Needy 21+ Years","Total","Medicaid Only/Dual Eligible 0-20 Years","Medicaid Only 21+ Years","Dual Eligible 21+ Years","Medically Needy 0-20 Years","Medically Needy 21+ Years","Total","Medicaid Only/Dual Eligible 0-20 Years","Medicaid Only 21+ Years","Dual Eligible 21+ Years","Medically Needy 0-20 Years","Medically Needy 21+ Years","Total","Medicaid Only/Dual Eligible 0-20 Years","Medicaid Only 21+ Years","Dual Eligible 21+ Years","Medically Needy 0-20 Years","Medically Needy 21+ Years","Prior Year Adjustments","Total","Medicaid Only/Dual Eligible 0-20 Years","Medicaid Only 21+ Years","Dual Eligible 21+ Years","Medically Needy 0-20 Years","Medically Needy 21+ Years"]
["Dental","2.1","Dental Services Diagnostic FFS",{"$f":"SUM(E17:I17)","v":0},{"$nulls":5},{"$f":"SUM(K17:O17)","v":0},{"$nulls":5},{"$f":"SUM(Q17:U17)","v":0},{"$nulls":5},{"$f":"SUM(W17:AA17)","v":0},{"$nulls":6},{"$f":"SUM(AD17:AH17)+AB17","v":0},{"$f":"W17+Q17+K17+E17","v":0},{"$f":"X17+R17+L17+F17","v":0},0,0,0]
[null,2.2,"Dental Services Preventive FFS",{"$f":"SUM(E18:I18)","v":0},{"$nulls":5},{"$f":"SUM(K18:O18)","v":0},{"$nulls":5},{"$f":"SUM(Q18:U18)","v":0},{"$nulls":5},{"$f":"SUM(W18:AA18)","v":0},{"$nulls":6},{"$f":"SUM(AD18:AH18)+AB18","v":0},{"$f":"W18+Q18+K18+E18","v":0},0,{"$f":"Y18+S18+M18+G18","v":0},0,{"$f":"AA18+U18+O18+I18","v":0}]
[null,"2.3","Dental Services Restorative FFS",0,{"$nulls":5},0,{"$nulls":5},0,{"$nulls":5},0,{"$nulls":6},{"$f":"SUM(AD19:AH19)+AB19","v":0},{"$f":"W19+Q19+K19+E19","v":0},0,0,0,0]
[null,"2.4","Dental Services Endodontics FFS",0,{"$nulls":5},0,{"$nulls":5},0,{"$nulls":5},0,{"$nulls":6},0,0,0,0,0,0]
[null,"2.5","Dental Services Periodontics FFS",0,{"$nulls":5},0,{"$nulls":5},0,{"$nulls":5},0,{"$nulls":6},0,0,0,0,0,0]
[null,"2.6","Dental Services Prosthodontics FFS",0,{"$nulls":5},0,{"$nulls":5},0,{"$nulls":5},0,{"$nulls":6},0,0,0,0,0,0]
[null,"2.7","Dental Services Prosthodontics, fixed FFS",0,{"$nulls":5},0,{"$nulls":5},0,{"$nulls":5},0,{"$nulls":6},0,0,0,0,0,0]
[null,"2.8","Dental Services Oral and Maxillofacial Surgery FFS",0,{"$nulls":5},0,{"$nulls":5},0,{"$nulls":5},0,{"$nulls":6},0,0,0,0,0,0]
[null,"2.9","Dental Services Orthodontics FFS",0,{"$nulls":5},0,{"$nulls":5},0,{"$nulls":5},0,{"$nulls":6},0,0,0,0,0,0]
[null,"2.10","Dental Services Adjunctive General Services FFS",0,{"$nulls":5},0,{"$nulls":5},0,{"$nulls":5},0,{"$nulls":6},{"$f":"SUM(AD26:AH26)+AB26","v":0},{"$f":"W26+Q26+K26+E26","v":0},0,0,0,0]
[null,"2.11","Dental Services Other FFS",0,{"$nulls":5},0,{"$nulls":5},0,{"$nulls":5},0,{"$nulls":6},0,0,0,0,0,0]
[null,"2.12","Dental Expanded Benefits FFS",0,{"$nulls":5},0,{"$nulls":5},0,{"$nulls":5},0,{"$nulls":6},{"$f":"SUM(AD28:AH28)+AB28","v":0},0,0,0,0,{"$f":"AA28+U28+O28+I28","v":0}]
[null,"2.13","Dental Services Paid through Subcapitation",{"$f":"SUM(E29:I29)","v":0},{"$nulls":5},{"$f":"SUM(K29:O29)","v":0},{"$nulls":5},{"$f":"SUM(Q29:U29)","v":0},{"$nulls":5},{"$f":"SUM(W29:AA29)","v":0},{"$nulls":6},{"$f":"SUM(AD29:AH29)+AB29","v":0},0,0,0,0,0]
[null,"2.14","Ending IBNP for Dental Services",0,{"$nulls":5},{"$f":"SUM(K30:O30)","v":0},{"$nulls":5},{"$f":"SUM(Q30:U30)","v":0},{"$nulls":5},{"$f":"SUM(W30:AA30)","v":0},{"$nulls":6},0,0,0,0,0,{"$f":"AA30+U30+O30+I30","v":0}]
[null,"2.15","Dental Settlements/AP",0,{"$nulls":5},0,{"$nulls":5},0,{"$nulls":5},0,{"$nulls":6},{"$f":"SUM(AD31:AH31)+AB31","v":0},0,0,0,0,0]
[null,2.16,"Total Dental Services",{"$f":"SUM(D17:D31)","v":0},{"$f":"SUM(E17:E31)","v":0},0,0,0,0,{"$f":"SUM(J17:J31)","v":0},{"$f":"SUM(K17:K31)","v":0},0,0,0,0,{"$f":"SUM(P17:P31)","v":0},{"$f":"SUM(Q17:Q31)","v":0},0,0,0,0,{"$f":"SUM(V17:V31)","v":0},{"$f":"SUM(W17:W31)","v":0},0,0,0,0,{"$f":"SUM(AB17:AB31)","v":0},{"$f":"SUM(AC17:AC31)","v":0},0,0,0,0,{"$f":"SUM(AH17:AH31)","v":0}]
["Total Before and After Reinsurance",3.1,"Total Dental Services Paid Directly FFS",{"$f":"SUM(D17:D28)","v":0},{"$f":"SUM(E17:E28)","v":0},{"$f":"SUM(F17:F28)","v":0},0,0,{"$f":"SUM(I17:I28)","v":0},{"$f":"SUM(J17:J28)","v":0},{"$f":"SUM(K17:K28)","v":0},0,0,0,{"$f":"SUM(O17:O28)","v":0},{"$f":"SUM(P17:P28)","v":0},{"$f":"SUM(Q17:Q28)","v":0},0,0,0,{"$f":"SUM(U17:U28)","v":0},{"$f":"SUM(V17:V28)","v":0},{"$f":"SUM(W17:W28)","v":0},0,0,0,{"$f":"SUM(AA17:AA28)","v":0},{"$f":"SUM(AB17:AB28)","v":0},{"$f":"SUM(AD33:AH33)+AB33","v":0},{"$f":"W33+Q33+K33+E33","v":0},0,0,0,0]
[null,3.2,"Total Dental Services Paid through Subcapitation",{"$f":"D29","v":0},0,{"$f":"F29","v":0},0,0,0,{"$f":"J29","v":0},0,{"$f":"L29","v":0},0,0,0,{"$f":"P29","v":0},0,{"$f":"R29","v":0},0,0,0,{"$f":"V29","v":0},0,{"$f":"X29","v":0},0,0,0,0,0,{"$f":"W34+Q34+K34+E34","v":0},0,0,0,0]
[null,3.3,"Total Dental Services Paid Directly -- IBNP",0,0,{"$f":"F30","v":0},0,0,0,0,0,{"$f":"L30","v":0},0,0,0,0,0,{"$f":"R30","v":0},0,0,0,0,0,{"$f":"X30","v":0},0,0,0,0,0,0,0,0,{"$f":"Z35+T35+N35+H35","v":0},0]
[null,"3.4","Total Dental Services Paid by Settlements/AP",0,0,0,0,0,0,0,0,0,0,0,0,0,0,0,0,0,0,0,0,0,0,0,0,0,0,{"$f":"W36+Q36+K36+E36","v":0},0,0,0,{"$f":"AA36+U36+O36+I36","v":0}]
[null,"3.5","TPL & Fraud/Abuse Recoveries",{"$f":"SUM(E37:I37)","v":0},{"$nulls":5},{"$f":"SUM(K37:O37)","v":0},{"$nulls":5},{"$f":"SUM(Q37:U37)","v":0},{"$nulls":5},{"$f":"SUM(W37:AA37)","v":0},{"$nulls":6},0,{"$f":"W37+Q37+K37+E37","v":0},0,0,0,{"$f":"AA37+U37+O37+I37","v":0}]
[null,3.6,"Premium Deficiency Reserve",{"$f":"SUM(E38:I38)","v":0},{"$nulls":5},{"$f":"SUM(K38:O38)","v":0},{"$nulls":5},{"$f":"SUM(Q38:U38)","v":0},{"$nulls":5},{"$f":"SUM(W38:AA38)","v":0},{"$nulls":6},{"$f":"SUM(AD38:AH38)+AB38","v":0},{"$f":"W38+Q38+K38+E38","v":0},0,{"$f":"Y38+S38+M38+G38","v":0},0,{"$f":"AA38+U38+O38+I38","v":0}]
[null,"3.7","Subtotal Benefit Expense before Reinsurance",{"$f":"SUM(D33:D38)","v":0},{"$f":"SUM(E33:E38)","v":0},{"$f":"SUM(F33:F38)","v":0},0,0,{"$f":"SUM(I33:I38)","v":0},{"$f":"SUM(J33:J38)","v":0},{"$f":"SUM(K33:K38)","v":0},{"$f":"SUM(L33:L38)","v":0},0,0,{"$f":"SUM(O33:O38)","v":0},{"$f":"SUM(P33:P38)","v":0},{"$f":"SUM(Q33:Q38)","v":0},{"$f":"SUM(R33:R38)","v":0},0,0,{"$f":"SUM(U33:U38)","v":0},{"$f":"SUM(V33:V38)","v":0},{"$f":"SUM(W33:W38)","v":0},{"$f":"SUM(X33:X38)","v":0},0,0,{"$f":"SUM(AA33:AA38)","v":0},0,{"$f":"SUM(AC33:AC38)","v":0},0,0,0,0,0]
[null,"3.8","Reinsurance Premiums",{"$f":"SUM(E40:I40)","v":0},{"$nulls":5},{"$f":"SUM(K40:O40)","v":0},{"$nulls":5},{"$f":"SUM(Q40:U40)","v":0},{"$nulls":5},{"$f":"SUM(W40:AA40)","v":0},{"$nulls":6},{"$f":"SUM(AD40:AH40)+AB40","v":0},{"$f":"W40+Q40+K40+E40","v":0},{"$f":"X40+R40+L40+F40","v":0},{"$f":"Y40+S40+M40+G40","v":0},0,0]
[null,"3.9","Reinsurance Recoveries",{"$f":"SUM(E41:I41)","v":0},{"$nulls":5},{"$f":"SUM(K41:O41)","v":0},{"$nulls":5},{"$f":"SUM(Q41:U41)","v":0},{"$nulls":5},{"$f":"SUM(W41:AA41)","v":0},{"$nulls":6},{"$f":"SUM(AD41:AH41)+AB41","v":0},{"$f":"W41+Q41+K41+E41","v":0},0,0,0,0]
[null,"3.10","Net cost of Reinsurance",{"$f":"SUM(D40:D41)","v":0},{"$f":"SUM(E40:E41)","v":0},{"$f":"SUM(F40:F41)","v":0},0,0,0,{"$f":"SUM(J40:J41)","v":0},{"$f":"SUM(K40:K41)","v":0},0,0,0,0,{"$f":"SUM(P40:P41)","v":0},{"$f":"SUM(Q40:Q41)","v":0},0,0,0,0,{"$f":"SUM(V40:V41)","v":0},{"$f":"SUM(W40:W41)","v":0},0,0,0,0,0,{"$f":"SUM(AC40:AC41)","v":0},{"$f":"SUM(AD40:AD41)","v":0},{"$f":"SUM(AE40:AE41)","v":0},0,{"$f":"SUM(AG40:AG41)","v":0},{"$f":"SUM(AH40:AH41)","v":0}]
[null,"3.11","Grand Total Medical Benefit Expense Net of Reinsurance",{"$f":"D39+D42","v":0},{"$f":"E39+E42","v":0},{"$f":"F39+F42","v":0},0,0,{"$f":"I39+I42","v":0},{"$f":"J39+J42","v":0},{"$f":"K39+K42","v":0},{"$f":"L39+L42","v":0},0,0,{"$f":"O39+O42","v":0},{"$f":"P39+P42","v":0},{"$f":"Q39+Q42","v":0},{"$f":"R39+R42","v":0},0,0,{"$f":"U39+U42","v":0},{"$f":"V39+V42","v":0},{"$f":"W39+W42","v":0},{"$f":"X39+X42","v":0},0,0,{"$f":"AA39+AA42","v":0},{"$f":"AB39+AB42","v":0},{"$f":"AC39+AC42","v":0},{"$f":"AD39+AD42","v":0},{"$f":"AE39+AE42","v":0},0,0,{"$f":"AH39+AH42","v":0}]
["Administrative Expenses, Government-Mandated Assessments, Taxes, and Fees ",null,null,"JANUARY - MARCH (Q1)",{"$nulls":5},"APRIL - JUNE (Q2)",{"$nulls":5},"JULY - SEPTEMBER (Q3)",{"$nulls":5},"OCTOBER - DECEMBER (Q4)",{"$nulls":6},"TOTAL (TO DATE)"]
[{"$nulls":3},"Total","Health Plan","Corporate",{"$nulls":3},"Total","Health Plan","Corporate",{"$nulls":3},"Total","Health Plan","Corporate",{"$nulls":3},"Total","Health Plan","Corporate",{"$nulls":3},"Prior Calendar Year Adjustments","Total","Health Plan","Corporate"]
["Administrative Expenses","4.1","Salaries & Benefits",{"$f":"SUM(E46:F46)","v":0},{"$nulls":5},{"$f":"SUM(K46:L46)","v":0},{"$nulls":5},{"$f":"SUM(Q46:R46)","v":0},{"$nulls":5},{"$f":"SUM(W46:X46)","v":0},{"$nulls":6},{"$f":"SUM(AD46:AE46)+AB46","v":0},{"$f":"W46+Q46+K46+E46","v":0},{"$f":"X46+R46+L46+F46","v":0}]
[null,"4.2","Administrative Services",{"$f":"SUM(E47:F47)","v":0},{"$nulls":5},{"$f":"SUM(K47:L47)","v":0},{"$nulls":5},{"$f":"SUM(Q47:R47)","v":0},{"$nulls":5},{"$f":"SUM(W47:X47)","v":0},{"$nulls":6},{"$f":"SUM(AD47:AE47)+AB47","v":0},{"$f":"W47+Q47+K47+E47","v":0},0]
[null,"4.3","Information Systems",0,{"$nulls":5},0,{"$nulls":5},0,{"$nulls":5},0,{"$nulls":6},{"$f":"SUM(AD48:AE48)+AB48","v":0},0,0]
[null,"4.4","Marketing Expenses",0,{"$nulls":5},0,{"$nulls":5},0,{"$nulls":5},0,{"$nulls":6},{"$f":"SUM(AD49:AE49)+AB49","v":0},0,0]
[null,"4.5","General  Administration",0,{"$nulls":5},0,{"$nulls":5},0,{"$nulls":5},0,{"$nulls":6},0,0,0]
[null,"4.6","Compliance/Regulatory",0,{"$nulls":5},0,{"$nulls":5},0,{"$nulls":5},0,{"$nulls":6},0,0,{"$f":"X51+R51+L51+F51","v":0}]
[null,"4.7","Total Administrative Expenses ",{"$f":"SUM(D46:D51)","v":0},{"$f":"SUM(E46:E51)","v":0},{"$f":"SUM(F46:F51)","v":0},{"$nulls":3},{"$f":"SUM(J46:J51)","v":0},{"$f":"SUM(K46:K51)","v":0},{"$f":"SUM(L46:L51)","v":0},{"$nulls":3},{"$f":"SUM(P46:P51)","v":0},{"$f":"SUM(Q46:Q51)","v":0},{"$f":"SUM(R46:R51)","v":0},{"$nulls":3},{"$f":"SUM(V46:V51)","v":0},{"$f":"SUM(W46:W51)","v":0},{"$f":"SUM(X46:X51)","v":0},{"$nulls":3},{"$f":"SUM(AB46:AB51)","v":0},{"$f":"SUM(AC46:AC51)","v":0},{"$f":"SUM(AD46:AD51)","v":0},{"$f":"SUM(AE46:AE51)","v":0}]
["Government-Mandated Assessments, Taxes, and Fees Other Than Income Taxes","5.1","State Premium tax",{"$nulls":25},{"$f":"D53+J53+P53+V53+AB53","v":0}]
[null,"5.2","Department of Insurance Assessments",{"$nulls":25},{"$f":"D54+J54+P54+V54+AB54","v":0}]
[null,"5.3","Section 9010 Health Insurance Providers Fee",{"$nulls":25},{"$f":"D55+J55+P55+V55+AB55","v":0}]
[null,"5.4","Other 1",{"$nulls":25},0]
[null,"5.5","Other 2",{"$nulls":25},0]
[null,"5.6","Other 3",{"$nulls":25},{"$f":"D58+J58+P58+V58+AB58","v":0}]
[null,"5.7","Total ",{"$f":"SUM(D53:D58)","v":0},{"$nulls":5},{"$f":"SUM(J53:J58)","v":0},{"$nulls":5},{"$f":"SUM(P53:P58)","v":0},{"$nulls":5},{"$f":"SUM(V53:V58)","v":0},{"$nulls":5},{"$f":"SUM(AB53:AB58)","v":0},{"$f":"SUM(AC53:AC58)","v":0}]
[null,"6.0","Grand Total Expenses",{"$f":"D43+D52+D59","v":0},{"$nulls":5},{"$f":"J43+J52+J59","v":0},{"$nulls":5},{"$f":"P43+P52+P59","v":0},{"$nulls":5},{"$f":"V43+V52+V59","v":0},{"$nulls":5},{"$f":"AB43+AB52+AB59","v":0},{"$f":"AC43+AC52+AC59","v":0}]
[null,"7.0","Underwriting Gain / (Loss)  --- AKA Pre-tax Earnings from Operations",{"$f":"D14-D60","v":0},{"$nulls":5},{"$f":"J14-J60","v":0},{"$nulls":5},{"$f":"P14-P60","v":0},{"$nulls":5},{"$f":"V14-V60","v":0},{"$nulls":5},{"$f":"AB14-AB60","v":0},{"$f":"AC14-AC60","v":0}]
[null,"8.0","Income Tax Expense",{"$nulls":25},{"$f":"AB62+V62+P62+J62+D62","v":0}]
[null,"9.0","Net Underwriting Gain (Loss)",{"$f":"D61-D62","v":0},{"$nulls":5},{"$f":"J61-J62","v":0},{"$nulls":5},{"$f":"P61-P62","v":0},{"$nulls":5},{"$f":"V61-V62","v":0},{"$nulls":5},{"$f":"AB61-AB62","v":0},{"$f":"AC61-AC62","v":0}]

{"sheet":"Dental Rev-Exp Region 3","index":8,"n_rows":63,"n_cols":34,"rows_kept":63,"merged":[[6,3,6,8],[6,9,6,14],[6,15,6,20],[6,21,6,26],[6,28,6,33],[9,0,9,2],[10,0,13,0],[14,0,15,2],[14,3,14,8],[14,9,14,14],[14,15,14,20],[14,21,14,26],[14,28,14,33],[16,0,31,0],[32,0,42,0],[43,0,44,2],[43,3,43,8],[43,9,43,14],[43,15,43,20],[43,21,43,26],[43,28,43,33],[45,0,51,0],[52,0,58,0]]}
["DENTAL -- REVENUE AND EXPENSE SCHEDULE - REGION 3"]
[]
["Health Plan:",null,{"$f":"'Dental Rev-Exp Summary'!C3","v":0}]
["Reporting Period:",null,{"$f":"IF('Dental Rev-Exp Summary'!C4=0,\"\",'Dental Rev-Exp Summary'!C4)","v":""}]
["Paid Through:",null,{"$f":"IF('Dental Rev-Exp Summary'!C5=0,\"\",'Dental Rev-Exp Summary'!C5)","v":""}]
["Region 3"]
[{"$nulls":3},"JANUARY - MARCH (Q1)",{"$nulls":5},"APRIL - JUNE (Q2)",{"$nulls":5},"JULY - SEPTEMBER (Q3)",{"$nulls":5},"OCTOBER - DECEMBER (Q4)",{"$nulls":6},"TOTAL (TO DATE)"]
[{"$nulls":3},"Total","Medicaid Only/Dual Eligible 0-20 Years","Medicaid Only 21+ Years","Dual Eligible 21+ Years","Medically Needy 0-20 Years","Medically Needy 21+ Years","Total","Medicaid Only/Dual Eligible 0-20 Years","Medicaid Only 21+ Years","Dual Eligible 21+ Years","Medically Needy 0-20 Years","Medically Needy 21+ Years","Total","Medicaid Only/Dual Eligible 0-20 Years","Medicaid Only 21+ Years","Dual Eligible 21+ Years","Medically Needy 0-20 Years","Medically Needy 21+ Years","Total","Medicaid Only/Dual Eligible 0-20 Years","Medicaid Only 21+ Years","Dual Eligible 21+ Years","Medically Needy 0-20 Years","Medically Needy 21+ Years","Prior Year Adjustments","Total","Medicaid Only/Dual Eligible 0-20 Years","Medicaid Only 21+ Years","Dual Eligible 21+ Years","Medically Needy 0-20 Years","Medically Needy 21+ Years"]
["MEMBER MONTHS",null,null,{"$f":"SUM(E9:I9)","v":0},{"$nulls":5},{"$f":"SUM(K9:O9)","v":0},{"$nulls":5},{"$f":"SUM(Q9:U9)","v":0},{"$nulls":5},{"$f":"SUM(W9:AA9)","v":0},{"$nulls":6},{"$f":"SUM(AD9:AH9)+AB9","v":0},{"$f":"W9+Q9+K9+E9","v":0},{"$f":"X9+R9+L9+F9","v":0},0,{"$f":"Z9+T9+N9+H9","v":0},{"$f":"AA9+U9+O9+I9","v":0}]
["REVENUES"]
["Revenues","1.1","Capitation",{"$f":"SUM(E11:I11)","v":0},{"$nulls":5},{"$f":"SUM(K11:O11)","v":0},{"$nulls":5},{"$f":"SUM(Q11:U11)","v":0},{"$nulls":5},{"$f":"SUM(W11:AA11)","v":0},{"$nulls":6},{"$f":"SUM(AD11:AH11)+AB11","v":0},{"$f":"W11+Q11+K11+E11","v":0},{"$f":"X11+R11+L11+F11","v":0},0,0,{"$f":"AA11+U11+O11+I11","v":0}]
[null,"1.2","ACA § 9010 related payments",{"$f":"SUM(E12:I12)","v":0},{"$nulls":5},{"$f":"SUM(K12:O12)","v":0},{"$nulls":5},{"$f":"SUM(Q12:U12)","v":0},{"$nulls":5},{"$f":"SUM(W12:AA12)","v":0},{"$nulls":6},{"$f":"SUM(AD12:AH12)+AB12","v":0},{"$f":"W12+Q12+K12+E12","v":0},0,{"$f":"Y12+S12+M12+G12","v":0},0,{"$f":"AA12+U12+O12+I12","v":0}]
[null,"1.3","Other Revenue",0,{"$nulls":5},0,{"$nulls":5},0,{"$nulls":5},0,{"$nulls":6},{"$f":"SUM(AD13:AH13)+AB13","v":0},{"$f":"W13+Q13+K13+E13","v":0},{"$f":"X13+R13+L13+F13","v":0},{"$f":"Y13+S13+M13+G13","v":0},{"$f":"Z13+T13+N13+H13","v":0},{"$f":"AA13+U13+O13+I13","v":0}]
[null,"1.4","Total Revenue",{"$f":"SUM(D11:D13)","v":0},{"$f":"SUM(E11:E13)","v":0},0,{"$f":"SUM(G11:G13)","v":0},0,0,{"$f":"SUM(J11:J13)","v":0},{"$f":"SUM(K11:K13)","v":0},0,0,0,0,{"$f":"SUM(P11:P13)","v":0},{"$f":"SUM(Q11:Q13)","v":0},0,0,0,0,{"$f":"SUM(V11:V13)","v":0},{"$f":"SUM(W11:W13)","v":0},0,0,0,0,{"$f":"SUM(AB11:AB13)","v":0},{"$f":"SUM(AC11:AC13)","v":0},{"$f":"SUM(AD11:AD13)","v":0},{"$f":"SUM(AE11:AE13)","v":0},{"$f":"SUM(AF11:AF13)","v":0},{"$f":"SUM(AG11:AG13)","v":0},0]
["BENEFIT EXPENSES",null,null,"JANUARY - MARCH (Q1)",{"$nulls":5},"APRIL - JUNE (Q2)",{"$nulls":5},"JULY - SEPTEMBER (Q3)",{"$nulls":5},"OCTOBER - DECEMBER (Q4)",{"$nulls":6},"TOTAL (TO DATE)"]
[{"$nulls":3},"Total","Medicaid Only/Dual Eligible 0-20 Years","Medicaid Only 21+ Years","Dual Eligible 21+ Years","Medically Needy 0-20 Years","Medically Needy 21+ Years","Total","Medicaid Only/Dual Eligible 0-20 Years","Medicaid Only 21+ Years","Dual Eligible 21+ Years","Medically Needy 0-20 Years","Medically Needy 21+ Years","Total","Medicaid Only/Dual Eligible 0-20 Years","Medicaid Only 21+ Years","Dual Eligible 21+ Years","Medically Needy 0-20 Years","Medically Needy 21+ Years","Total","Medicaid Only/Dual Eligible 0-20 Years","Medicaid Only 21+ Years","Dual Eligible 21+ Years","Medically Needy 0-20 Years","Medically Needy 21+ Years","Prior Year Adjustments","Total","Medicaid Only/Dual Eligible 0-20 Years","Medicaid Only 21+ Years","Dual Eligible 21+ Years","Medically Needy 0-20 Years","Medically Needy 21+ Years"]
["Dental","2.1","Dental Services Diagnostic FFS",{"$f":"SUM(E17:I17)","v":0},{"$nulls":5},{"$f":"SUM(K17:O17)","v":0},{"$nulls":5},{"$f":"SUM(Q17:U17)","v":0},{"$nulls":5},{"$f":"SUM(W17:AA17)","v":0},{"$nulls":6},{"$f":"SUM(AD17:AH17)+AB17","v":0},{"$f":"W17+Q17+K17+E17","v":0},{"$f":"X17+R17+L17+F17","v":0},0,0,0]
[null,2.2,"Dental Services Preventive FFS",{"$f":"SUM(E18:I18)","v":0},{"$nulls":5},{"$f":"SUM(K18:O18)","v":0},{"$nulls":5},{"$f":"SUM(Q18:U18)","v":0},{"$nulls":5},{"$f":"SUM(W18:AA18)","v":0},{"$nulls":6},{"$f":"SUM(AD18:AH18)+AB18","v":0},{"$f":"W18+Q18+K18+E18","v":0},0,{"$f":"Y18+S18+M18+G18","v":0},0,{"$f":"AA18+U18+O18+I18","v":0}]
[null,"2.3","Dental Services Restorative FFS",0,{"$nulls":5},0,{"$nulls":5},0,{"$nulls":5},0,{"$nulls":6},{"$f":"SUM(AD19:AH19)+AB19","v":0},{"$f":"W19+Q19+K19+E19","v":0},0,0,0,0]
[null,"2.4","Dental Services Endodontics FFS",0,{"$nulls":5},0,{"$nulls":5},0,{"$nulls":5},0,{"$nulls":6},0,0,0,0,0,0]
[null,"2.5","Dental Services Periodontics FFS",0,{"$nulls":5},0,{"$nulls":5},0,{"$nulls":5},0,{"$nulls":6},0,0,0,0,0,0]
[null,"2.6","Dental Services Prosthodontics FFS",0,{"$nulls":5},0,{"$nulls":5},0,{"$nulls":5},0,{"$nulls":6},0,0,0,0,0,0]
[null,"2.7","Dental Services Prosthodontics, fixed FFS",0,{"$nulls":5},0,{"$nulls":5},0,{"$nulls":5},0,{"$nulls":6},0,0,0,0,0,0]
[null,"2.8","Dental Services Oral and Maxillofacial Surgery FFS",0,{"$nulls":5},0,{"$nulls":5},0,{"$nulls":5},0,{"$nulls":6},0,0,0,0,0,0]
[null,"2.9","Dental Services Orthodontics FFS",0,{"$nulls":5},0,{"$nulls":5},0,{"$nulls":5},0,{"$nulls":6},0,0,0,0,0,0]
[null,"2.10","Dental Services Adjunctive General Services FFS",0,{"$nulls":5},0,{"$nulls":5},0,{"$nulls":5},0,{"$nulls":6},{"$f":"SUM(AD26:AH26)+AB26","v":0},{"$f":"W26+Q26+K26+E26","v":0},0,0,0,0]
[null,"2.11","Dental Services Other FFS",0,{"$nulls":5},0,{"$nulls":5},0,{"$nulls":5},0,{"$nulls":6},0,0,0,0,0,0]
[null,"2.12","Dental Expanded Benefits FFS",0,{"$nulls":5},0,{"$nulls":5},0,{"$nulls":5},0,{"$nulls":6},{"$f":"SUM(AD28:AH28)+AB28","v":0},0,0,0,0,{"$f":"AA28+U28+O28+I28","v":0}]
[null,"2.13","Dental Services Paid through Subcapitation",{"$f":"SUM(E29:I29)","v":0},{"$nulls":5},{"$f":"SUM(K29:O29)","v":0},{"$nulls":5},{"$f":"SUM(Q29:U29)","v":0},{"$nulls":5},{"$f":"SUM(W29:AA29)","v":0},{"$nulls":6},{"$f":"SUM(AD29:AH29)+AB29","v":0},0,0,0,0,0]
[null,"2.14","Ending IBNP for Dental Services",0,{"$nulls":5},{"$f":"SUM(K30:O30)","v":0},{"$nulls":5},{"$f":"SUM(Q30:U30)","v":0},{"$nulls":5},{"$f":"SUM(W30:AA30)","v":0},{"$nulls":6},0,0,0,0,0,{"$f":"AA30+U30+O30+I30","v":0}]
[null,"2.15","Dental Settlements/AP",0,{"$nulls":5},0,{"$nulls":5},0,{"$nulls":5},0,{"$nulls":6},{"$f":"SUM(AD31:AH31)+AB31","v":0},0,0,0,0,0]
[null,2.16,"Total Dental Services",{"$f":"SUM(D17:D31)","v":0},{"$f":"SUM(E17:E31)","v":0},0,0,0,0,{"$f":"SUM(J17:J31)","v":0},{"$f":"SUM(K17:K31)","v":0},0,0,0,0,{"$f":"SUM(P17:P31)","v":0},{"$f":"SUM(Q17:Q31)","v":0},0,0,0,0,{"$f":"SUM(V17:V31)","v":0},{"$f":"SUM(W17:W31)","v":0},0,0,0,0,{"$f":"SUM(AB17:AB31)","v":0},{"$f":"SUM(AC17:AC31)","v":0},0,0,0,0,{"$f":"SUM(AH17:AH31)","v":0}]
["Total Before and After Reinsurance",3.1,"Total Dental Services Paid Directly FFS",{"$f":"SUM(D17:D28)","v":0},{"$f":"SUM(E17:E28)","v":0},{"$f":"SUM(F17:F28)","v":0},0,0,{"$f":"SUM(I17:I28)","v":0},{"$f":"SUM(J17:J28)","v":0},{"$f":"SUM(K17:K28)","v":0},0,0,0,{"$f":"SUM(O17:O28)","v":0},{"$f":"SUM(P17:P28)","v":0},{"$f":"SUM(Q17:Q28)","v":0},0,0,0,{"$f":"SUM(U17:U28)","v":0},{"$f":"SUM(V17:V28)","v":0},{"$f":"SUM(W17:W28)","v":0},0,0,0,{"$f":"SUM(AA17:AA28)","v":0},{"$f":"SUM(AB17:AB28)","v":0},{"$f":"SUM(AD33:AH33)+AB33","v":0},{"$f":"W33+Q33+K33+E33","v":0},0,0,0,0]
[null,3.2,"Total Dental Services Paid through Subcapitation",{"$f":"D29","v":0},0,{"$f":"F29","v":0},0,0,0,{"$f":"J29","v":0},0,{"$f":"L29","v":0},0,0,0,{"$f":"P29","v":0},0,{"$f":"R29","v":0},0,0,0,{"$f":"V29","v":0},0,{"$f":"X29","v":0},0,0,0,0,0,{"$f":"W34+Q34+K34+E34","v":0},0,0,0,0]
[null,3.3,"Total Dental Services Paid Directly -- IBNP",0,0,{"$f":"F30","v":0},0,0,0,0,0,{"$f":"L30","v":0},0,0,0,0,0,{"$f":"R30","v":0},0,0,0,0,0,{"$f":"X30","v":0},0,0,0,0,0,0,0,0,{"$f":"Z35+T35+N35+H35","v":0},0]
[null,"3.4","Total Dental Services Paid by Settlements/AP",0,0,0,0,0,0,0,0,0,0,0,0,0,0,0,0,0,0,0,0,0,0,0,0,0,0,{"$f":"W36+Q36+K36+E36","v":0},0,0,0,{"$f":"AA36+U36+O36+I36","v":0}]
[null,"3.5","TPL & Fraud/Abuse Recoveries",{"$f":"SUM(E37:I37)","v":0},{"$nulls":5},{"$f":"SUM(K37:O37)","v":0},{"$nulls":5},{"$f":"SUM(Q37:U37)","v":0},{"$nulls":5},{"$f":"SUM(W37:AA37)","v":0},{"$nulls":6},0,{"$f":"W37+Q37+K37+E37","v":0},0,0,0,{"$f":"AA37+U37+O37+I37","v":0}]
[null,3.6,"Premium Deficiency Reserve",{"$f":"SUM(E38:I38)","v":0},{"$nulls":5},{"$f":"SUM(K38:O38)","v":0},{"$nulls":5},{"$f":"SUM(Q38:U38)","v":0},{"$nulls":5},{"$f":"SUM(W38:AA38)","v":0},{"$nulls":6},0,{"$f":"W38+Q38+K38+E38","v":0},0,{"$f":"Y38+S38+M38+G38","v":0},0,{"$f":"AA38+U38+O38+I38","v":0}]
[null,"3.7","Subtotal Benefit Expense before Reinsurance",{"$f":"SUM(D33:D38)","v":0},{"$f":"SUM(E33:E38)","v":0},{"$f":"SUM(F33:F38)","v":0},0,0,{"$f":"SUM(I33:I38)","v":0},{"$f":"SUM(J33:J38)","v":0},{"$f":"SUM(K33:K38)","v":0},{"$f":"SUM(L33:L38)","v":0},0,0,{"$f":"SUM(O33:O38)","v":0},{"$f":"SUM(P33:P38)","v":0},{"$f":"SUM(Q33:Q38)","v":0},{"$f":"SUM(R33:R38)","v":0},0,0,{"$f":"SUM(U33:U38)","v":0},{"$f":"SUM(V33:V38)","v":0},{"$f":"SUM(W33:W38)","v":0},{"$f":"SUM(X33:X38)","v":0},0,0,{"$f":"SUM(AA33:AA38)","v":0},0,0,0,0,0,0,0]
[null,"3.8","Reinsurance Premiums",{"$f":"SUM(E40:I40)","v":0},{"$nulls":5},{"$f":"SUM(K40:O40)","v":0},{"$nulls":5},{"$f":"SUM(Q40:U40)","v":0},{"$nulls":5},{"$f":"SUM(W40:AA40)","v":0},{"$nulls":6},{"$f":"SUM(AD40:AH40)+AB40","v":0},{"$f":"W40+Q40+K40+E40","v":0},{"$f":"X40+R40+L40+F40","v":0},{"$f":"Y40+S40+M40+G40","v":0},0,0]
[null,"3.9","Reinsurance Recoveries",{"$f":"SUM(E41:I41)","v":0},{"$nulls":5},{"$f":"SUM(K41:O41)","v":0},{"$nulls":5},{"$f":"SUM(Q41:U41)","v":0},{"$nulls":5},{"$f":"SUM(W41:AA41)","v":0},{"$nulls":6},{"$f":"SUM(AD41:AH41)+AB41","v":0},{"$f":"W41+Q41+K41+E41","v":0},0,0,0,0]
[null,"3.10","Net cost of Reinsurance",{"$f":"SUM(D40:D41)","v":0},{"$f":"SUM(E40:E41)","v":0},{"$f":"SUM(F40:F41)","v":0},0,0,0,{"$f":"SUM(J40:J41)","v":0},{"$f":"SUM(K40:K41)","v":0},0,0,0,0,{"$f":"SUM(P40:P41)","v":0},{"$f":"SUM(Q40:Q41)","v":0},0,0,0,0,{"$f":"SUM(V40:V41)","v":0},{"$f":"SUM(W40:W41)","v":0},0,0,0,0,0,{"$f":"SUM(AC40:AC41)","v":0},{"$f":"SUM(AD40:AD41)","v":0},{"$f":"SUM(AE40:AE41)","v":0},0,{"$f":"SUM(AG40:AG41)","v":0},{"$f":"SUM(AH40:AH41)","v":0}]
[null,"3.11","Grand Total Medical Benefit Expense Net of Reinsurance",{"$f":"D39+D42","v":0},{"$f":"E39+E42","v":0},{"$f":"F39+F42","v":0},0,0,{"$f":"I39+I42","v":0},{"$f":"J39+J42","v":0},{"$f":"K39+K42","v":0},{"$f":"L39+L42","v":0},0,0,{"$f":"O39+O42","v":0},{"$f":"P39+P42","v":0},{"$f":"Q39+Q42","v":0},{"$f":"R39+R42","v":0},0,0,{"$f":"U39+U42","v":0},{"$f":"V39+V42","v":0},{"$f":"W39+W42","v":0},{"$f":"X39+X42","v":0},0,0,{"$f":"AA39+AA42","v":0},{"$f":"AB39+AB42","v":0},{"$f":"AC39+AC42","v":0},{"$f":"AD39+AD42","v":0},{"$f":"AE39+AE42","v":0},0,0,{"$f":"AH39+AH42","v":0}]
["Administrative Expenses, Government-Mandated Assessments, Taxes, and Fees ",null,null,"JANUARY - MARCH (Q1)",{"$nulls":5},"APRIL - JUNE (Q2)",{"$nulls":5},"JULY - SEPTEMBER (Q3)",{"$nulls":5},"OCTOBER - DECEMBER (Q4)",{"$nulls":6},"TOTAL (TO DATE)"]
[{"$nulls":3},"Total","Health Plan","Corporate",{"$nulls":3},"Total","Health Plan","Corporate",{"$nulls":3},"Total","Health Plan","Corporate",{"$nulls":3},"Total","Health Plan","Corporate",{"$nulls":3},"Prior Calendar Year Adjustments","Total","Health Plan","Corporate"]
["Administrative Expenses","4.1","Salaries & Benefits",{"$f":"SUM(E46:F46)","v":0},{"$nulls":5},{"$f":"SUM(K46:L46)","v":0},{"$nulls":5},{"$f":"SUM(Q46:R46)","v":0},{"$nulls":5},{"$f":"SUM(W46:X46)","v":0},{"$nulls":6},{"$f":"SUM(AD46:AE46)+AB46","v":0},{"$f":"W46+Q46+K46+E46","v":0},{"$f":"X46+R46+L46+F46","v":0}]
[null,"4.2","Administrative Services",{"$f":"SUM(E47:F47)","v":0},{"$nulls":5},{"$f":"SUM(K47:L47)","v":0},{"$nulls":5},{"$f":"SUM(Q47:R47)","v":0},{"$nulls":5},{"$f":"SUM(W47:X47)","v":0},{"$nulls":6},{"$f":"SUM(AD47:AE47)+AB47","v":0},{"$f":"W47+Q47+K47+E47","v":0},0]
[null,"4.3","Information Systems",0,{"$nulls":5},0,{"$nulls":5},0,{"$nulls":5},0,{"$nulls":6},{"$f":"SUM(AD48:AE48)+AB48","v":0},0,0]
[null,"4.4","Marketing Expenses",0,{"$nulls":5},0,{"$nulls":5},0,{"$nulls":5},0,{"$nulls":6},{"$f":"SUM(AD49:AE49)+AB49","v":0},0,0]
[null,"4.5","General  Administration",0,{"$nulls":5},0,{"$nulls":5},0,{"$nulls":5},0,{"$nulls":6},0,0,0]
[null,"4.6","Compliance/Regulatory",0,{"$nulls":5},0,{"$nulls":5},0,{"$nulls":5},0,{"$nulls":6},0,0,{"$f":"X51+R51+L51+F51","v":0}]
[null,"4.7","Total Administrative Expenses ",{"$f":"SUM(D46:D51)","v":0},{"$f":"SUM(E46:E51)","v":0},{"$f":"SUM(F46:F51)","v":0},{"$nulls":3},{"$f":"SUM(J46:J51)","v":0},{"$f":"SUM(K46:K51)","v":0},{"$f":"SUM(L46:L51)","v":0},{"$nulls":3},{"$f":"SUM(P46:P51)","v":0},{"$f":"SUM(Q46:Q51)","v":0},{"$f":"SUM(R46:R51)","v":0},{"$nulls":3},{"$f":"SUM(V46:V51)","v":0},{"$f":"SUM(W46:W51)","v":0},{"$f":"SUM(X46:X51)","v":0},{"$nulls":3},{"$f":"SUM(AB46:AB51)","v":0},{"$f":"SUM(AC46:AC51)","v":0},{"$f":"SUM(AD46:AD51)","v":0},{"$f":"SUM(AE46:AE51)","v":0}]
["Government-Mandated Assessments, Taxes, and Fees Other Than Income Taxes","5.1","State Premium tax",{"$nulls":25},{"$f":"D53+J53+P53+V53+AB53","v":0}]
[null,"5.2","Department of Insurance Assessments",{"$nulls":25},{"$f":"D54+J54+P54+V54+AB54","v":0}]
[null,"5.3","Section 9010 Health Insurance Providers Fee",{"$nulls":25},{"$f":"D55+J55+P55+V55+AB55","v":0}]
[null,"5.4","Other 1",{"$nulls":25},0]
[null,"5.5","Other 2",{"$nulls":25},0]
[null,"5.6","Other 3",{"$nulls":25},{"$f":"D58+J58+P58+V58+AB58","v":0}]
[null,"5.7","Total ",{"$f":"SUM(D53:D58)","v":0},{"$nulls":5},{"$f":"SUM(J53:J58)","v":0},{"$nulls":5},{"$f":"SUM(P53:P58)","v":0},{"$nulls":5},{"$f":"SUM(V53:V58)","v":0},{"$nulls":5},{"$f":"SUM(AB53:AB58)","v":0},{"$f":"SUM(AC53:AC58)","v":0}]
[null,"6.0","Grand Total Expenses",{"$f":"D43+D52+D59","v":0},{"$nulls":5},{"$f":"J43+J52+J59","v":0},{"$nulls":5},{"$f":"P43+P52+P59","v":0},{"$nulls":5},{"$f":"V43+V52+V59","v":0},{"$nulls":5},{"$f":"AB43+AB52+AB59","v":0},{"$f":"AC43+AC52+AC59","v":0}]
[null,"7.0","Underwriting Gain / (Loss)  --- AKA Pre-tax Earnings from Operations",{"$f":"D14-D60","v":0},{"$nulls":5},{"$f":"J14-J60","v":0},{"$nulls":5},{"$f":"P14-P60","v":0},{"$nulls":5},{"$f":"V14-V60","v":0},{"$nulls":5},{"$f":"AB14-AB60","v":0},{"$f":"AC14-AC60","v":0}]
[null,"8.0","Income Tax Expense",{"$nulls":25},{"$f":"AB62+V62+P62+J62+D62","v":0}]
[null,"9.0","Net Underwriting Gain (Loss)",{"$f":"D61-D62","v":0},{"$nulls":5},{"$f":"J61-J62","v":0},{"$nulls":5},{"$f":"P61-P62","v":0},{"$nulls":5},{"$f":"V61-V62","v":0},{"$nulls":5},{"$f":"AB61-AB62","v":0},{"$f":"AC61-AC62","v":0}]

{"sheet":"Dental Rev-Exp Region 4","index":9,"n_rows":63,"n_cols":34,"rows_kept":63,"merged":[[6,3,6,8],[6,9,6,14],[6,15,6,20],[6,21,6,26],[6,28,6,33],[9,0,9,2],[10,0,13,0],[14,0,15,2],[14,3,14,8],[14,9,14,14],[14,15,14,20],[14,21,14,26],[14,28,14,33],[16,0,31,0],[32,0,42,0],[43,0,44,2],[43,3,43,8],[43,9,43,14],[43,15,43,20],[43,21,43,26],[43,28,43,33],[45,0,51,0],[52,0,58,0]]}
["DENTAL -- REVENUE AND EXPENSE SCHEDULE - REGION 4"]
[]
["Health Plan:",null,{"$f":"'Dental Rev-Exp Summary'!C3","v":0}]
["Reporting Period:",null,{"$f":"IF('Dental Rev-Exp Summary'!C4=0,\"\",'Dental Rev-Exp Summary'!C4)","v":""}]
["Paid Through:",null,{"$f":"IF('Dental Rev-Exp Summary'!C5=0,\"\",'Dental Rev-Exp Summary'!C5)","v":""}]
["Region 4"]
[{"$nulls":3},"JANUARY - MARCH (Q1)",{"$nulls":5},"APRIL - JUNE (Q2)",{"$nulls":5},"JULY - SEPTEMBER (Q3)",{"$nulls":5},"OCTOBER - DECEMBER (Q4)",{"$nulls":6},"TOTAL (TO DATE)"]
[{"$nulls":3},"Total","Medicaid Only/Dual Eligible 0-20 Years","Medicaid Only 21+ Years","Dual Eligible 21+ Years","Medically Needy 0-20 Years","Medically Needy 21+ Years","Total","Medicaid Only/Dual Eligible 0-20 Years","Medicaid Only 21+ Years","Dual Eligible 21+ Years","Medically Needy 0-20 Years","Medically Needy 21+ Years","Total","Medicaid Only/Dual Eligible 0-20 Years","Medicaid Only 21+ Years","Dual Eligible 21+ Years","Medically Needy 0-20 Years","Medically Needy 21+ Years","Total","Medicaid Only/Dual Eligible 0-20 Years","Medicaid Only 21+ Years","Dual Eligible 21+ Years","Medically Needy 0-20 Years","Medically Needy 21+ Years","Prior Year Adjustments","Total","Medicaid Only/Dual Eligible 0-20 Years","Medicaid Only 21+ Years","Dual Eligible 21+ Years","Medically Needy 0-20 Years","Medically Needy 21+ Years"]
["MEMBER MONTHS",null,null,{"$f":"SUM(E9:I9)","v":0},{"$nulls":5},{"$f":"SUM(K9:O9)","v":0},{"$nulls":5},{"$f":"SUM(Q9:U9)","v":0},{"$nulls":5},{"$f":"SUM(W9:AA9)","v":0},{"$nulls":6},{"$f":"SUM(AD9:AH9)+AB9","v":0},{"$f":"W9+Q9+K9+E9","v":0},{"$f":"X9+R9+L9+F9","v":0},0,{"$f":"Z9+T9+N9+H9","v":0},{"$f":"AA9+U9+O9+I9","v":0}]
["REVENUES"]
["Revenues","1.1","Capitation",{"$f":"SUM(E11:I11)","v":0},{"$nulls":5},{"$f":"SUM(K11:O11)","v":0},{"$nulls":5},{"$f":"SUM(Q11:U11)","v":0},{"$nulls":5},{"$f":"SUM(W11:AA11)","v":0},{"$nulls":6},{"$f":"SUM(AD11:AH11)+AB11","v":0},{"$f":"W11+Q11+K11+E11","v":0},{"$f":"X11+R11+L11+F11","v":0},0,0,{"$f":"AA11+U11+O11+I11","v":0}]
[null,"1.2","ACA § 9010 related payments",{"$f":"SUM(E12:I12)","v":0},{"$nulls":5},{"$f":"SUM(K12:O12)","v":0},{"$nulls":5},{"$f":"SUM(Q12:U12)","v":0},{"$nulls":5},{"$f":"SUM(W12:AA12)","v":0},{"$nulls":6},{"$f":"SUM(AD12:AH12)+AB12","v":0},{"$f":"W12+Q12+K12+E12","v":0},0,{"$f":"Y12+S12+M12+G12","v":0},0,{"$f":"AA12+U12+O12+I12","v":0}]
[null,"1.3","Other Revenue",0,{"$nulls":5},0,{"$nulls":5},0,{"$nulls":5},0,{"$nulls":6},{"$f":"SUM(AD13:AH13)+AB13","v":0},{"$f":"W13+Q13+K13+E13","v":0},{"$f":"X13+R13+L13+F13","v":0},{"$f":"Y13+S13+M13+G13","v":0},{"$f":"Z13+T13+N13+H13","v":0},{"$f":"AA13+U13+O13+I13","v":0}]
[null,"1.4","Total Revenue",{"$f":"SUM(D11:D13)","v":0},{"$f":"SUM(E11:E13)","v":0},0,{"$f":"SUM(G11:G13)","v":0},0,0,{"$f":"SUM(J11:J13)","v":0},{"$f":"SUM(K11:K13)","v":0},0,0,0,0,{"$f":"SUM(P11:P13)","v":0},{"$f":"SUM(Q11:Q13)","v":0},0,0,0,0,{"$f":"SUM(V11:V13)","v":0},{"$f":"SUM(W11:W13)","v":0},0,0,0,0,{"$f":"SUM(AB11:AB13)","v":0},{"$f":"SUM(AC11:AC13)","v":0},{"$f":"SUM(AD11:AD13)","v":0},{"$f":"SUM(AE11:AE13)","v":0},{"$f":"SUM(AF11:AF13)","v":0},{"$f":"SUM(AG11:AG13)","v":0},0]
["BENEFIT EXPENSES",null,null,"JANUARY - MARCH (Q1)",{"$nulls":5},"APRIL - JUNE (Q2)",{"$nulls":5},"JULY - SEPTEMBER (Q3)",{"$nulls":5},"OCTOBER - DECEMBER (Q4)",{"$nulls":6},"TOTAL (TO DATE)"]
[{"$nulls":3},"Total","Medicaid Only/Dual Eligible 0-20 Years","Medicaid Only 21+ Years","Dual Eligible 21+ Years","Medically Needy 0-20 Years","Medically Needy 21+ Years","Total","Medicaid Only/Dual Eligible 0-20 Years","Medicaid Only 21+ Years","Dual Eligible 21+ Years","Medically Needy 0-20 Years","Medically Needy 21+ Years","Total","Medicaid Only/Dual Eligible 0-20 Years","Medicaid Only 21+ Years","Dual Eligible 21+ Years","Medically Needy 0-20 Years","Medically Needy 21+ Years","Total","Medicaid Only/Dual Eligible 0-20 Years","Medicaid Only 21+ Years","Dual Eligible 21+ Years","Medically Needy 0-20 Years","Medically Needy 21+ Years","Prior Year Adjustments","Total","Medicaid Only/Dual Eligible 0-20 Years","Medicaid Only 21+ Years","Dual Eligible 21+ Years","Medically Needy 0-20 Years","Medically Needy 21+ Years"]
["Dental","2.1","Dental Services Diagnostic FFS",{"$f":"SUM(E17:I17)","v":0},{"$nulls":5},{"$f":"SUM(K17:O17)","v":0},{"$nulls":5},{"$f":"SUM(Q17:U17)","v":0},{"$nulls":5},{"$f":"SUM(W17:AA17)","v":0},{"$nulls":6},{"$f":"SUM(AD17:AH17)+AB17","v":0},{"$f":"W17+Q17+K17+E17","v":0},{"$f":"X17+R17+L17+F17","v":0},0,0,0]
[null,2.2,"Dental Services Preventive FFS",{"$f":"SUM(E18:I18)","v":0},{"$nulls":5},{"$f":"SUM(K18:O18)","v":0},{"$nulls":5},{"$f":"SUM(Q18:U18)","v":0},{"$nulls":5},{"$f":"SUM(W18:AA18)","v":0},{"$nulls":6},{"$f":"SUM(AD18:AH18)+AB18","v":0},{"$f":"W18+Q18+K18+E18","v":0},0,{"$f":"Y18+S18+M18+G18","v":0},0,{"$f":"AA18+U18+O18+I18","v":0}]
[null,"2.3","Dental Services Restorative FFS",0,{"$nulls":5},0,{"$nulls":5},0,{"$nulls":5},0,{"$nulls":6},{"$f":"SUM(AD19:AH19)+AB19","v":0},{"$f":"W19+Q19+K19+E19","v":0},0,0,0,0]
[null,"2.4","Dental Services Endodontics FFS",0,{"$nulls":5},0,{"$nulls":5},0,{"$nulls":5},0,{"$nulls":6},0,0,0,0,0,0]
[null,"2.5","Dental Services Periodontics FFS",0,{"$nulls":5},0,{"$nulls":5},0,{"$nulls":5},0,{"$nulls":6},0,0,0,0,0,0]
[null,"2.6","Dental Services Prosthodontics FFS",0,{"$nulls":5},0,{"$nulls":5},0,{"$nulls":5},0,{"$nulls":6},0,0,0,0,0,0]
[null,"2.7","Dental Services Prosthodontics, fixed FFS",0,{"$nulls":5},0,{"$nulls":5},0,{"$nulls":5},0,{"$nulls":6},0,0,0,0,0,0]
[null,"2.8","Dental Services Oral and Maxillofacial Surgery FFS",0,{"$nulls":5},0,{"$nulls":5},0,{"$nulls":5},0,{"$nulls":6},0,0,0,0,0,0]
[null,"2.9","Dental Services Orthodontics FFS",0,{"$nulls":5},0,{"$nulls":5},0,{"$nulls":5},0,{"$nulls":6},0,0,0,0,0,0]
[null,"2.10","Dental Services Adjunctive General Services FFS",0,{"$nulls":5},0,{"$nulls":5},0,{"$nulls":5},0,{"$nulls":6},{"$f":"SUM(AD26:AH26)+AB26","v":0},{"$f":"W26+Q26+K26+E26","v":0},0,0,0,0]
[null,"2.11","Dental Services Other FFS",0,{"$nulls":5},0,{"$nulls":5},0,{"$nulls":5},0,{"$nulls":6},0,0,0,0,0,0]
[null,"2.12","Dental Expanded Benefits FFS",0,{"$nulls":5},0,{"$nulls":5},0,{"$nulls":5},0,{"$nulls":6},{"$f":"SUM(AD28:AH28)+AB28","v":0},0,0,0,0,{"$f":"AA28+U28+O28+I28","v":0}]
[null,"2.13","Dental Services Paid through Subcapitation",{"$f":"SUM(E29:I29)","v":0},{"$nulls":5},{"$f":"SUM(K29:O29)","v":0},{"$nulls":5},{"$f":"SUM(Q29:U29)","v":0},{"$nulls":5},{"$f":"SUM(W29:AA29)","v":0},{"$nulls":6},{"$f":"SUM(AD29:AH29)+AB29","v":0},0,0,0,0,0]
[null,"2.14","Ending IBNP for Dental Services",0,{"$nulls":5},{"$f":"SUM(K30:O30)","v":0},{"$nulls":5},{"$f":"SUM(Q30:U30)","v":0},{"$nulls":5},{"$f":"SUM(W30:AA30)","v":0},{"$nulls":6},0,0,0,0,0,{"$f":"AA30+U30+O30+I30","v":0}]
[null,"2.15","Dental Settlements/AP",0,{"$nulls":5},0,{"$nulls":5},0,{"$nulls":5},0,{"$nulls":6},{"$f":"SUM(AD31:AH31)+AB31","v":0},0,0,0,0,0]
[null,2.16,"Total Dental Services",{"$f":"SUM(D17:D31)","v":0},{"$f":"SUM(E17:E31)","v":0},0,0,0,0,{"$f":"SUM(J17:J31)","v":0},{"$f":"SUM(K17:K31)","v":0},0,0,0,0,{"$f":"SUM(P17:P31)","v":0},{"$f":"SUM(Q17:Q31)","v":0},0,0,0,0,{"$f":"SUM(V17:V31)","v":0},{"$f":"SUM(W17:W31)","v":0},0,0,0,0,{"$f":"SUM(AB17:AB31)","v":0},{"$f":"SUM(AC17:AC31)","v":0},0,0,0,0,{"$f":"SUM(AH17:AH31)","v":0}]
["Total Before and After Reinsurance",3.1,"Total Dental Services Paid Directly FFS",{"$f":"SUM(D17:D28)","v":0},{"$f":"SUM(E17:E28)","v":0},{"$f":"SUM(F17:F28)","v":0},0,0,{"$f":"SUM(I17:I28)","v":0},{"$f":"SUM(J17:J28)","v":0},{"$f":"SUM(K17:K28)","v":0},0,0,0,{"$f":"SUM(O17:O28)","v":0},{"$f":"SUM(P17:P28)","v":0},{"$f":"SUM(Q17:Q28)","v":0},0,0,0,{"$f":"SUM(U17:U28)","v":0},{"$f":"SUM(V17:V28)","v":0},{"$f":"SUM(W17:W28)","v":0},0,0,0,{"$f":"SUM(AA17:AA28)","v":0},{"$f":"SUM(AB17:AB28)","v":0},{"$f":"SUM(AD33:AH33)+AB33","v":0},{"$f":"W33+Q33+K33+E33","v":0},0,0,0,0]
[null,3.2,"Total Dental Services Paid through Subcapitation",{"$f":"D29","v":0},0,{"$f":"F29","v":0},0,0,0,{"$f":"J29","v":0},0,{"$f":"L29","v":0},0,0,0,{"$f":"P29","v":0},0,{"$f":"R29","v":0},0,0,0,{"$f":"V29","v":0},0,{"$f":"X29","v":0},0,0,0,0,0,{"$f":"W34+Q34+K34+E34","v":0},0,0,0,0]
[null,3.3,"Total Dental Services Paid Directly -- IBNP",0,0,{"$f":"F30","v":0},0,0,0,0,0,{"$f":"L30","v":0},0,0,0,0,0,{"$f":"R30","v":0},0,0,0,0,0,{"$f":"X30","v":0},0,0,0,0,0,0,0,0,{"$f":"Z35+T35+N35+H35","v":0},0]
[null,"3.4","Total Dental Services Paid by Settlements/AP",0,0,0,0,0,0,0,0,0,0,0,0,0,0,0,0,0,0,0,0,0,0,0,0,0,0,{"$f":"W36+Q36+K36+E36","v":0},0,0,0,{"$f":"AA36+U36+O36+I36","v":0}]
[null,"3.5","TPL & Fraud/Abuse Recoveries",{"$f":"SUM(E37:I37)","v":0},{"$nulls":5},{"$f":"SUM(K37:O37)","v":0},{"$nulls":5},{"$f":"SUM(Q37:U37)","v":0},{"$nulls":5},{"$f":"SUM(W37:AA37)","v":0},{"$nulls":6},0,{"$f":"W37+Q37+K37+E37","v":0},0,0,0,{"$f":"AA37+U37+O37+I37","v":0}]
[null,3.6,"Premium Deficiency Reserve",{"$f":"SUM(E38:I38)","v":0},{"$nulls":5},{"$f":"SUM(K38:O38)","v":0},{"$nulls":5},{"$f":"SUM(Q38:U38)","v":0},{"$nulls":5},{"$f":"SUM(W38:AA38)","v":0},{"$nulls":6},0,{"$f":"W38+Q38+K38+E38","v":0},0,{"$f":"Y38+S38+M38+G38","v":0},0,{"$f":"AA38+U38+O38+I38","v":0}]
[null,"3.7","Subtotal Benefit Expense before Reinsurance",{"$f":"SUM(D33:D38)","v":0},{"$f":"SUM(E33:E38)","v":0},{"$f":"SUM(F33:F38)","v":0},0,0,{"$f":"SUM(I33:I38)","v":0},{"$f":"SUM(J33:J38)","v":0},{"$f":"SUM(K33:K38)","v":0},{"$f":"SUM(L33:L38)","v":0},0,0,{"$f":"SUM(O33:O38)","v":0},{"$f":"SUM(P33:P38)","v":0},{"$f":"SUM(Q33:Q38)","v":0},{"$f":"SUM(R33:R38)","v":0},0,0,{"$f":"SUM(U33:U38)","v":0},{"$f":"SUM(V33:V38)","v":0},{"$f":"SUM(W33:W38)","v":0},{"$f":"SUM(X33:X38)","v":0},0,0,{"$f":"SUM(AA33:AA38)","v":0},0,0,0,0,0,0,0]
[null,"3.8","Reinsurance Premiums",{"$f":"SUM(E40:I40)","v":0},{"$nulls":5},{"$f":"SUM(K40:O40)","v":0},{"$nulls":5},{"$f":"SUM(Q40:U40)","v":0},{"$nulls":5},{"$f":"SUM(W40:AA40)","v":0},{"$nulls":6},{"$f":"SUM(AD40:AH40)+AB40","v":0},{"$f":"W40+Q40+K40+E40","v":0},{"$f":"X40+R40+L40+F40","v":0},{"$f":"Y40+S40+M40+G40","v":0},0,0]
[null,"3.9","Reinsurance Recoveries",{"$f":"SUM(E41:I41)","v":0},{"$nulls":5},{"$f":"SUM(K41:O41)","v":0},{"$nulls":5},{"$f":"SUM(Q41:U41)","v":0},{"$nulls":5},{"$f":"SUM(W41:AA41)","v":0},{"$nulls":6},{"$f":"SUM(AD41:AH41)+AB41","v":0},{"$f":"W41+Q41+K41+E41","v":0},0,0,0,0]
[null,"3.10","Net cost of Reinsurance",{"$f":"SUM(D40:D41)","v":0},{"$f":"SUM(E40:E41)","v":0},{"$f":"SUM(F40:F41)","v":0},0,0,0,{"$f":"SUM(J40:J41)","v":0},{"$f":"SUM(K40:K41)","v":0},0,0,0,0,{"$f":"SUM(P40:P41)","v":0},{"$f":"SUM(Q40:Q41)","v":0},0,0,0,0,{"$f":"SUM(V40:V41)","v":0},{"$f":"SUM(W40:W41)","v":0},0,0,0,0,0,{"$f":"SUM(AC40:AC41)","v":0},{"$f":"SUM(AD40:AD41)","v":0},{"$f":"SUM(AE40:AE41)","v":0},0,{"$f":"SUM(AG40:AG41)","v":0},{"$f":"SUM(AH40:AH41)","v":0}]
[null,"3.11","Grand Total Medical Benefit Expense Net of Reinsurance",{"$f":"D39+D42","v":0},{"$f":"E39+E42","v":0},{"$f":"F39+F42","v":0},0,0,{"$f":"I39+I42","v":0},{"$f":"J39+J42","v":0},{"$f":"K39+K42","v":0},{"$f":"L39+L42","v":0},0,0,{"$f":"O39+O42","v":0},{"$f":"P39+P42","v":0},{"$f":"Q39+Q42","v":0},{"$f":"R39+R42","v":0},0,0,{"$f":"U39+U42","v":0},{"$f":"V39+V42","v":0},{"$f":"W39+W42","v":0},{"$f":"X39+X42","v":0},0,0,{"$f":"AA39+AA42","v":0},{"$f":"AB39+AB42","v":0},{"$f":"AC39+AC42","v":0},{"$f":"AD39+AD42","v":0},{"$f":"AE39+AE42","v":0},0,0,{"$f":"AH39+AH42","v":0}]
["Administrative Expenses, Government-Mandated Assessments, Taxes, and Fees ",null,null,"JANUARY - MARCH (Q1)",{"$nulls":5},"APRIL - JUNE (Q2)",{"$nulls":5},"JULY - SEPTEMBER (Q3)",{"$nulls":5},"OCTOBER - DECEMBER (Q4)",{"$nulls":6},"TOTAL (TO DATE)"]
[{"$nulls":3},"Total","Health Plan","Corporate",{"$nulls":3},"Total","Health Plan","Corporate",{"$nulls":3},"Total","Health Plan","Corporate",{"$nulls":3},"Total","Health Plan","Corporate",{"$nulls":3},"Prior Calendar Year Adjustments","Total","Health Plan","Corporate"]
["Administrative Expenses","4.1","Salaries & Benefits",{"$f":"SUM(E46:F46)","v":0},{"$nulls":5},{"$f":"SUM(K46:L46)","v":0},{"$nulls":5},{"$f":"SUM(Q46:R46)","v":0},{"$nulls":5},{"$f":"SUM(W46:X46)","v":0},{"$nulls":6},{"$f":"SUM(AD46:AE46)+AB46","v":0},{"$f":"W46+Q46+K46+E46","v":0},{"$f":"X46+R46+L46+F46","v":0}]
[null,"4.2","Administrative Services",{"$f":"SUM(E47:F47)","v":0},{"$nulls":5},{"$f":"SUM(K47:L47)","v":0},{"$nulls":5},{"$f":"SUM(Q47:R47)","v":0},{"$nulls":5},{"$f":"SUM(W47:X47)","v":0},{"$nulls":6},{"$f":"SUM(AD47:AE47)+AB47","v":0},{"$f":"W47+Q47+K47+E47","v":0},0]
[null,"4.3","Information Systems",0,{"$nulls":5},0,{"$nulls":5},0,{"$nulls":5},0,{"$nulls":6},{"$f":"SUM(AD48:AE48)+AB48","v":0},0,0]
[null,"4.4","Marketing Expenses",0,{"$nulls":5},0,{"$nulls":5},0,{"$nulls":5},0,{"$nulls":6},{"$f":"SUM(AD49:AE49)+AB49","v":0},0,0]
[null,"4.5","General  Administration",0,{"$nulls":5},0,{"$nulls":5},0,{"$nulls":5},0,{"$nulls":6},0,0,0]
[null,"4.6","Compliance/Regulatory",0,{"$nulls":5},0,{"$nulls":5},0,{"$nulls":5},0,{"$nulls":6},0,0,{"$f":"X51+R51+L51+F51","v":0}]
[null,"4.7","Total Administrative Expenses ",{"$f":"SUM(D46:D51)","v":0},{"$f":"SUM(E46:E51)","v":0},{"$f":"SUM(F46:F51)","v":0},{"$nulls":3},{"$f":"SUM(J46:J51)","v":0},{"$f":"SUM(K46:K51)","v":0},{"$f":"SUM(L46:L51)","v":0},{"$nulls":3},{"$f":"SUM(P46:P51)","v":0},{"$f":"SUM(Q46:Q51)","v":0},{"$f":"SUM(R46:R51)","v":0},{"$nulls":3},{"$f":"SUM(V46:V51)","v":0},{"$f":"SUM(W46:W51)","v":0},{"$f":"SUM(X46:X51)","v":0},{"$nulls":3},{"$f":"SUM(AB46:AB51)","v":0},{"$f":"SUM(AC46:AC51)","v":0},{"$f":"SUM(AD46:AD51)","v":0},{"$f":"SUM(AE46:AE51)","v":0}]
["Government-Mandated Assessments, Taxes, and Fees Other Than Income Taxes","5.1","State Premium tax",{"$nulls":25},{"$f":"D53+J53+P53+V53+AB53","v":0}]
[null,"5.2","Department of Insurance Assessments",{"$nulls":25},{"$f":"D54+J54+P54+V54+AB54","v":0}]
[null,"5.3","Section 9010 Health Insurance Providers Fee",{"$nulls":25},{"$f":"D55+J55+P55+V55+AB55","v":0}]
[null,"5.4","Other 1",{"$nulls":25},0]
[null,"5.5","Other 2",{"$nulls":25},0]
[null,"5.6","Other 3",{"$nulls":25},{"$f":"D58+J58+P58+V58+AB58","v":0}]
[null,"5.7","Total ",{"$f":"SUM(D53:D58)","v":0},{"$nulls":5},{"$f":"SUM(J53:J58)","v":0},{"$nulls":5},{"$f":"SUM(P53:P58)","v":0},{"$nulls":5},{"$f":"SUM(V53:V58)","v":0},{"$nulls":5},{"$f":"SUM(AB53:AB58)","v":0},{"$f":"SUM(AC53:AC58)","v":0}]
[null,"6.0","Grand Total Expenses",{"$f":"D43+D52+D59","v":0},{"$nulls":5},{"$f":"J43+J52+J59","v":0},{"$nulls":5},{"$f":"P43+P52+P59","v":0},{"$nulls":5},{"$f":"V43+V52+V59","v":0},{"$nulls":5},{"$f":"AB43+AB52+AB59","v":0},{"$f":"AC43+AC52+AC59","v":0}]
[null,"7.0","Underwriting Gain / (Loss)  --- AKA Pre-tax Earnings from Operations",{"$f":"D14-D60","v":0},{"$nulls":5},{"$f":"J14-J60","v":0},{"$nulls":5},{"$f":"P14-P60","v":0},{"$nulls":5},{"$f":"V14-V60","v":0},{"$nulls":5},{"$f":"AB14-AB60","v":0},{"$f":"AC14-AC60","v":0}]
[null,"8.0","Income Tax Expense",{"$nulls":25},{"$f":"AB62+V62+P62+J62+D62","v":0}]
[null,"9.0","Net Underwriting Gain (Loss)",{"$f":"D61-D62","v":0},{"$nulls":5},{"$f":"J61-J62","v":0},{"$nulls":5},{"$f":"P61-P62","v":0},{"$nulls":5},{"$f":"V61-V62","v":0},{"$nulls":5},{"$f":"AB61-AB62","v":0},{"$f":"AC61-AC62","v":0}]

{"sheet":"Dental Rev-Exp Region 5","index":10,"n_rows":63,"n_cols":34,"rows_kept":63,"merged":[[6,3,6,8],[6,9,6,14],[6,15,6,20],[6,21,6,26],[6,28,6,33],[9,0,9,2],[10,0,13,0],[14,0,15,2],[14,3,14,8],[14,9,14,14],[14,15,14,20],[14,21,14,26],[14,28,14,33],[16,0,31,0],[32,0,42,0],[43,0,44,2],[43,3,43,8],[43,9,43,14],[43,15,43,20],[43,21,43,26],[43,28,43,33],[45,0,51,0],[52,0,58,0]]}
["DENTAL -- REVENUE AND EXPENSE SCHEDULE - REGION 5"]
[]
["Health Plan:",null,{"$f":"'Dental Rev-Exp Summary'!C3","v":0}]
["Reporting Period:",null,{"$f":"IF('Dental Rev-Exp Summary'!C4=0,\"\",'Dental Rev-Exp Summary'!C4)","v":""}]
["Paid Through:",null,{"$f":"IF('Dental Rev-Exp Summary'!C5=0,\"\",'Dental Rev-Exp Summary'!C5)","v":""}]
["Region 5"]
[{"$nulls":3},"JANUARY - MARCH (Q1)",{"$nulls":5},"APRIL - JUNE (Q2)",{"$nulls":5},"JULY - SEPTEMBER (Q3)",{"$nulls":5},"OCTOBER - DECEMBER (Q4)",{"$nulls":6},"TOTAL (TO DATE)"]
[{"$nulls":3},"Total","Medicaid Only/Dual Eligible 0-20 Years","Medicaid Only 21+ Years","Dual Eligible 21+ Years","Medically Needy 0-20 Years","Medically Needy 21+ Years","Total","Medicaid Only/Dual Eligible 0-20 Years","Medicaid Only 21+ Years","Dual Eligible 21+ Years","Medically Needy 0-20 Years","Medically Needy 21+ Years","Total","Medicaid Only/Dual Eligible 0-20 Years","Medicaid Only 21+ Years","Dual Eligible 21+ Years","Medically Needy 0-20 Years","Medically Needy 21+ Years","Total","Medicaid Only/Dual Eligible 0-20 Years","Medicaid Only 21+ Years","Dual Eligible 21+ Years","Medically Needy 0-20 Years","Medically Needy 21+ Years","Prior Year Adjustments","Total","Medicaid Only/Dual Eligible 0-20 Years","Medicaid Only 21+ Years","Dual Eligible 21+ Years","Medically Needy 0-20 Years","Medically Needy 21+ Years"]
["MEMBER MONTHS",null,null,{"$f":"SUM(E9:I9)","v":0},{"$nulls":5},{"$f":"SUM(K9:O9)","v":0},{"$nulls":5},{"$f":"SUM(Q9:U9)","v":0},{"$nulls":5},{"$f":"SUM(W9:AA9)","v":0},{"$nulls":6},{"$f":"SUM(AD9:AH9)+AB9","v":0},{"$f":"W9+Q9+K9+E9","v":0},{"$f":"X9+R9+L9+F9","v":0},0,{"$f":"Z9+T9+N9+H9","v":0},{"$f":"AA9+U9+O9+I9","v":0}]
["REVENUES"]
["Revenues","1.1","Capitation",{"$f":"SUM(E11:I11)","v":0},{"$nulls":5},{"$f":"SUM(K11:O11)","v":0},{"$nulls":5},{"$f":"SUM(Q11:U11)","v":0},{"$nulls":5},{"$f":"SUM(W11:AA11)","v":0},{"$nulls":6},{"$f":"SUM(AD11:AH11)+AB11","v":0},{"$f":"W11+Q11+K11+E11","v":0},{"$f":"X11+R11+L11+F11","v":0},0,0,{"$f":"AA11+U11+O11+I11","v":0}]
[null,"1.2","ACA § 9010 related payments",{"$f":"SUM(E12:I12)","v":0},{"$nulls":5},{"$f":"SUM(K12:O12)","v":0},{"$nulls":5},{"$f":"SUM(Q12:U12)","v":0},{"$nulls":5},{"$f":"SUM(W12:AA12)","v":0},{"$nulls":6},{"$f":"SUM(AD12:AH12)+AB12","v":0},{"$f":"W12+Q12+K12+E12","v":0},0,{"$f":"Y12+S12+M12+G12","v":0},0,{"$f":"AA12+U12+O12+I12","v":0}]
[null,"1.3","Other Revenue",0,{"$nulls":5},0,{"$nulls":5},0,{"$nulls":5},0,{"$nulls":6},{"$f":"SUM(AD13:AH13)+AB13","v":0},{"$f":"W13+Q13+K13+E13","v":0},{"$f":"X13+R13+L13+F13","v":0},{"$f":"Y13+S13+M13+G13","v":0},{"$f":"Z13+T13+N13+H13","v":0},{"$f":"AA13+U13+O13+I13","v":0}]
[null,"1.4","Total Revenue",{"$f":"SUM(D11:D13)","v":0},{"$f":"SUM(E11:E13)","v":0},0,{"$f":"SUM(G11:G13)","v":0},0,0,{"$f":"SUM(J11:J13)","v":0},{"$f":"SUM(K11:K13)","v":0},0,0,0,0,{"$f":"SUM(P11:P13)","v":0},{"$f":"SUM(Q11:Q13)","v":0},0,0,0,0,{"$f":"SUM(V11:V13)","v":0},{"$f":"SUM(W11:W13)","v":0},0,0,0,0,{"$f":"SUM(AB11:AB13)","v":0},{"$f":"SUM(AC11:AC13)","v":0},{"$f":"SUM(AD11:AD13)","v":0},{"$f":"SUM(AE11:AE13)","v":0},{"$f":"SUM(AF11:AF13)","v":0},{"$f":"SUM(AG11:AG13)","v":0},0]
["BENEFIT EXPENSES",null,null,"JANUARY - MARCH (Q1)",{"$nulls":5},"APRIL - JUNE (Q2)",{"$nulls":5},"JULY - SEPTEMBER (Q3)",{"$nulls":5},"OCTOBER - DECEMBER (Q4)",{"$nulls":6},"TOTAL (TO DATE)"]
[{"$nulls":3},"Total","Medicaid Only/Dual Eligible 0-20 Years","Medicaid Only 21+ Years","Dual Eligible 21+ Years","Medically Needy 0-20 Years","Medically Needy 21+ Years","Total","Medicaid Only/Dual Eligible 0-20 Years","Medicaid Only 21+ Years","Dual Eligible 21+ Years","Medically Needy 0-20 Years","Medically Needy 21+ Years","Total","Medicaid Only/Dual Eligible 0-20 Years","Medicaid Only 21+ Years","Dual Eligible 21+ Years","Medically Needy 0-20 Years","Medically Needy 21+ Years","Total","Medicaid Only/Dual Eligible 0-20 Years","Medicaid Only 21+ Years","Dual Eligible 21+ Years","Medically Needy 0-20 Years","Medically Needy 21+ Years","Prior Year Adjustments","Total","Medicaid Only/Dual Eligible 0-20 Years","Medicaid Only 21+ Years","Dual Eligible 21+ Years","Medically Needy 0-20 Years","Medically Needy 21+ Years"]
["Dental","2.1","Dental Services Diagnostic FFS",{"$f":"SUM(E17:I17)","v":0},{"$nulls":5},{"$f":"SUM(K17:O17)","v":0},{"$nulls":5},{"$f":"SUM(Q17:U17)","v":0},{"$nulls":5},{"$f":"SUM(W17:AA17)","v":0},{"$nulls":6},{"$f":"SUM(AD17:AH17)+AB17","v":0},{"$f":"W17+Q17+K17+E17","v":0},{"$f":"X17+R17+L17+F17","v":0},0,0,0]
[null,2.2,"Dental Services Preventive FFS",{"$f":"SUM(E18:I18)","v":0},{"$nulls":5},{"$f":"SUM(K18:O18)","v":0},{"$nulls":5},{"$f":"SUM(Q18:U18)","v":0},{"$nulls":5},{"$f":"SUM(W18:AA18)","v":0},{"$nulls":6},{"$f":"SUM(AD18:AH18)+AB18","v":0},{"$f":"W18+Q18+K18+E18","v":0},0,{"$f":"Y18+S18+M18+G18","v":0},0,{"$f":"AA18+U18+O18+I18","v":0}]
[null,"2.3","Dental Services Restorative FFS",0,{"$nulls":5},0,{"$nulls":5},0,{"$nulls":5},0,{"$nulls":6},{"$f":"SUM(AD19:AH19)+AB19","v":0},{"$f":"W19+Q19+K19+E19","v":0},0,0,0,0]
[null,"2.4","Dental Services Endodontics FFS",0,{"$nulls":5},0,{"$nulls":5},0,{"$nulls":5},0,{"$nulls":6},0,0,0,0,0,0]
[null,"2.5","Dental Services Periodontics FFS",0,{"$nulls":5},0,{"$nulls":5},0,{"$nulls":5},0,{"$nulls":6},0,0,0,0,0,0]
[null,"2.6","Dental Services Prosthodontics FFS",0,{"$nulls":5},0,{"$nulls":5},0,{"$nulls":5},0,{"$nulls":6},0,0,0,0,0,0]
[null,"2.7","Dental Services Prosthodontics, fixed FFS",0,{"$nulls":5},0,{"$nulls":5},0,{"$nulls":5},0,{"$nulls":6},0,0,0,0,0,0]
[null,"2.8","Dental Services Oral and Maxillofacial Surgery FFS",0,{"$nulls":5},0,{"$nulls":5},0,{"$nulls":5},0,{"$nulls":6},0,0,0,0,0,0]
[null,"2.9","Dental Services Orthodontics FFS",0,{"$nulls":5},0,{"$nulls":5},0,{"$nulls":5},0,{"$nulls":6},0,0,0,0,0,0]
[null,"2.10","Dental Services Adjunctive General Services FFS",0,{"$nulls":5},0,{"$nulls":5},0,{"$nulls":5},0,{"$nulls":6},{"$f":"SUM(AD26:AH26)+AB26","v":0},{"$f":"W26+Q26+K26+E26","v":0},0,0,0,0]
[null,"2.11","Dental Services Other FFS",0,{"$nulls":5},0,{"$nulls":5},0,{"$nulls":5},0,{"$nulls":6},0,0,0,0,0,0]
[null,"2.12","Dental Expanded Benefits FFS",0,{"$nulls":5},0,{"$nulls":5},0,{"$nulls":5},0,{"$nulls":6},{"$f":"SUM(AD28:AH28)+AB28","v":0},0,0,0,0,{"$f":"AA28+U28+O28+I28","v":0}]
[null,"2.13","Dental Services Paid through Subcapitation",{"$f":"SUM(E29:I29)","v":0},{"$nulls":5},{"$f":"SUM(K29:O29)","v":0},{"$nulls":5},{"$f":"SUM(Q29:U29)","v":0},{"$nulls":5},{"$f":"SUM(W29:AA29)","v":0},{"$nulls":6},{"$f":"SUM(AD29:AH29)+AB29","v":0},0,0,0,0,0]
[null,"2.14","Ending IBNP for Dental Services",0,{"$nulls":5},{"$f":"SUM(K30:O30)","v":0},{"$nulls":5},{"$f":"SUM(Q30:U30)","v":0},{"$nulls":5},{"$f":"SUM(W30:AA30)","v":0},{"$nulls":6},0,0,0,0,0,{"$f":"AA30+U30+O30+I30","v":0}]
[null,"2.15","Dental Settlements/AP",0,{"$nulls":5},0,{"$nulls":5},0,{"$nulls":5},0,{"$nulls":6},{"$f":"SUM(AD31:AH31)+AB31","v":0},0,0,0,0,0]
[null,2.16,"Total Dental Services",{"$f":"SUM(D17:D31)","v":0},{"$f":"SUM(E17:E31)","v":0},0,0,0,0,{"$f":"SUM(J17:J31)","v":0},{"$f":"SUM(K17:K31)","v":0},0,0,0,0,{"$f":"SUM(P17:P31)","v":0},{"$f":"SUM(Q17:Q31)","v":0},0,0,0,0,{"$f":"SUM(V17:V31)","v":0},{"$f":"SUM(W17:W31)","v":0},0,0,0,0,{"$f":"SUM(AB17:AB31)","v":0},{"$f":"SUM(AC17:AC31)","v":0},0,0,0,0,{"$f":"SUM(AH17:AH31)","v":0}]
["Total Before and After Reinsurance",3.1,"Total Dental Services Paid Directly FFS",{"$f":"SUM(D17:D28)","v":0},{"$f":"SUM(E17:E28)","v":0},{"$f":"SUM(F17:F28)","v":0},0,0,{"$f":"SUM(I17:I28)","v":0},{"$f":"SUM(J17:J28)","v":0},{"$f":"SUM(K17:K28)","v":0},0,0,0,{"$f":"SUM(O17:O28)","v":0},{"$f":"SUM(P17:P28)","v":0},{"$f":"SUM(Q17:Q28)","v":0},0,0,0,{"$f":"SUM(U17:U28)","v":0},{"$f":"SUM(V17:V28)","v":0},{"$f":"SUM(W17:W28)","v":0},0,0,0,{"$f":"SUM(AA17:AA28)","v":0},{"$f":"SUM(AB17:AB28)","v":0},{"$f":"SUM(AD33:AH33)+AB33","v":0},{"$f":"W33+Q33+K33+E33","v":0},0,0,0,0]
[null,3.2,"Total Dental Services Paid through Subcapitation",{"$f":"D29","v":0},0,{"$f":"F29","v":0},0,0,0,{"$f":"J29","v":0},0,{"$f":"L29","v":0},0,0,0,{"$f":"P29","v":0},0,{"$f":"R29","v":0},0,0,0,{"$f":"V29","v":0},0,{"$f":"X29","v":0},0,0,0,0,0,{"$f":"W34+Q34+K34+E34","v":0},0,0,0,0]
[null,3.3,"Total Dental Services Paid Directly -- IBNP",0,0,{"$f":"F30","v":0},0,0,0,0,0,{"$f":"L30","v":0},0,0,0,0,0,{"$f":"R30","v":0},0,0,0,0,0,{"$f":"X30","v":0},0,0,0,0,0,0,0,0,{"$f":"Z35+T35+N35+H35","v":0},0]
[null,"3.4","Total Dental Services Paid by Settlements/AP",0,0,0,0,0,0,0,0,0,0,0,0,0,0,0,0,0,0,0,0,0,0,0,0,0,0,{"$f":"W36+Q36+K36+E36","v":0},0,0,0,{"$f":"AA36+U36+O36+I36","v":0}]
[null,"3.5","TPL & Fraud/Abuse Recoveries",{"$f":"SUM(E37:I37)","v":0},{"$nulls":5},{"$f":"SUM(K37:O37)","v":0},{"$nulls":5},{"$f":"SUM(Q37:U37)","v":0},{"$nulls":5},{"$f":"SUM(W37:AA37)","v":0},{"$nulls":6},0,{"$f":"W37+Q37+K37+E37","v":0},0,0,0,{"$f":"AA37+U37+O37+I37","v":0}]
[null,3.6,"Premium Deficiency Reserve",{"$f":"SUM(E38:I38)","v":0},{"$nulls":5},{"$f":"SUM(K38:O38)","v":0},{"$nulls":5},{"$f":"SUM(Q38:U38)","v":0},{"$nulls":5},{"$f":"SUM(W38:AA38)","v":0},{"$nulls":6},0,{"$f":"W38+Q38+K38+E38","v":0},0,{"$f":"Y38+S38+M38+G38","v":0},0,{"$f":"AA38+U38+O38+I38","v":0}]
[null,"3.7","Subtotal Benefit Expense before Reinsurance",{"$f":"SUM(D33:D38)","v":0},{"$f":"SUM(E33:E38)","v":0},{"$f":"SUM(F33:F38)","v":0},0,0,{"$f":"SUM(I33:I38)","v":0},{"$f":"SUM(J33:J38)","v":0},{"$f":"SUM(K33:K38)","v":0},{"$f":"SUM(L33:L38)","v":0},0,0,{"$f":"SUM(O33:O38)","v":0},{"$f":"SUM(P33:P38)","v":0},{"$f":"SUM(Q33:Q38)","v":0},{"$f":"SUM(R33:R38)","v":0},0,0,{"$f":"SUM(U33:U38)","v":0},{"$f":"SUM(V33:V38)","v":0},{"$f":"SUM(W33:W38)","v":0},{"$f":"SUM(X33:X38)","v":0},0,0,{"$f":"SUM(AA33:AA38)","v":0},0,0,0,0,0,0,0]
[null,"3.8","Reinsurance Premiums",{"$f":"SUM(E40:I40)","v":0},{"$nulls":5},{"$f":"SUM(K40:O40)","v":0},{"$nulls":5},{"$f":"SUM(Q40:U40)","v":0},{"$nulls":5},{"$f":"SUM(W40:AA40)","v":0},{"$nulls":6},{"$f":"SUM(AD40:AH40)+AB40","v":0},{"$f":"W40+Q40+K40+E40","v":0},{"$f":"X40+R40+L40+F40","v":0},{"$f":"Y40+S40+M40+G40","v":0},0,0]
[null,"3.9","Reinsurance Recoveries",{"$f":"SUM(E41:I41)","v":0},{"$nulls":5},{"$f":"SUM(K41:O41)","v":0},{"$nulls":5},{"$f":"SUM(Q41:U41)","v":0},{"$nulls":5},{"$f":"SUM(W41:AA41)","v":0},{"$nulls":6},{"$f":"SUM(AD41:AH41)+AB41","v":0},{"$f":"W41+Q41+K41+E41","v":0},0,0,0,0]
[null,"3.10","Net cost of Reinsurance",{"$f":"SUM(D40:D41)","v":0},{"$f":"SUM(E40:E41)","v":0},{"$f":"SUM(F40:F41)","v":0},0,0,0,{"$f":"SUM(J40:J41)","v":0},{"$f":"SUM(K40:K41)","v":0},0,0,0,0,{"$f":"SUM(P40:P41)","v":0},{"$f":"SUM(Q40:Q41)","v":0},0,0,0,0,{"$f":"SUM(V40:V41)","v":0},{"$f":"SUM(W40:W41)","v":0},0,0,0,0,0,{"$f":"SUM(AC40:AC41)","v":0},{"$f":"SUM(AD40:AD41)","v":0},{"$f":"SUM(AE40:AE41)","v":0},0,{"$f":"SUM(AG40:AG41)","v":0},{"$f":"SUM(AH40:AH41)","v":0}]
[null,"3.11","Grand Total Medical Benefit Expense Net of Reinsurance",{"$f":"D39+D42","v":0},{"$f":"E39+E42","v":0},{"$f":"F39+F42","v":0},0,0,{"$f":"I39+I42","v":0},{"$f":"J39+J42","v":0},{"$f":"K39+K42","v":0},{"$f":"L39+L42","v":0},0,0,{"$f":"O39+O42","v":0},{"$f":"P39+P42","v":0},{"$f":"Q39+Q42","v":0},{"$f":"R39+R42","v":0},0,0,{"$f":"U39+U42","v":0},{"$f":"V39+V42","v":0},{"$f":"W39+W42","v":0},{"$f":"X39+X42","v":0},0,0,{"$f":"AA39+AA42","v":0},{"$f":"AB39+AB42","v":0},{"$f":"AC39+AC42","v":0},{"$f":"AD39+AD42","v":0},{"$f":"AE39+AE42","v":0},0,0,{"$f":"AH39+AH42","v":0}]
["Administrative Expenses, Government-Mandated Assessments, Taxes, and Fees ",null,null,"JANUARY - MARCH (Q1)",{"$nulls":5},"APRIL - JUNE (Q2)",{"$nulls":5},"JULY - SEPTEMBER (Q3)",{"$nulls":5},"OCTOBER - DECEMBER (Q4)",{"$nulls":6},"TOTAL (TO DATE)"]
[{"$nulls":3},"Total","Health Plan","Corporate",{"$nulls":3},"Total","Health Plan","Corporate",{"$nulls":3},"Total","Health Plan","Corporate",{"$nulls":3},"Total","Health Plan","Corporate",{"$nulls":3},"Prior Calendar Year Adjustments","Total","Health Plan","Corporate"]
["Administrative Expenses","4.1","Salaries & Benefits",{"$f":"SUM(E46:F46)","v":0},{"$nulls":5},{"$f":"SUM(K46:L46)","v":0},{"$nulls":5},{"$f":"SUM(Q46:R46)","v":0},{"$nulls":5},{"$f":"SUM(W46:X46)","v":0},{"$nulls":6},{"$f":"SUM(AD46:AE46)+AB46","v":0},{"$f":"W46+Q46+K46+E46","v":0},{"$f":"X46+R46+L46+F46","v":0}]
[null,"4.2","Administrative Services",{"$f":"SUM(E47:F47)","v":0},{"$nulls":5},{"$f":"SUM(K47:L47)","v":0},{"$nulls":5},{"$f":"SUM(Q47:R47)","v":0},{"$nulls":5},{"$f":"SUM(W47:X47)","v":0},{"$nulls":6},{"$f":"SUM(AD47:AE47)+AB47","v":0},{"$f":"W47+Q47+K47+E47","v":0},0]
[null,"4.3","Information Systems",0,{"$nulls":5},0,{"$nulls":5},0,{"$nulls":5},0,{"$nulls":6},{"$f":"SUM(AD48:AE48)+AB48","v":0},0,0]
[null,"4.4","Marketing Expenses",0,{"$nulls":5},0,{"$nulls":5},0,{"$nulls":5},0,{"$nulls":6},{"$f":"SUM(AD49:AE49)+AB49","v":0},0,0]
[null,"4.5","General  Administration",0,{"$nulls":5},0,{"$nulls":5},0,{"$nulls":5},0,{"$nulls":6},0,0,0]
[null,"4.6","Compliance/Regulatory",0,{"$nulls":5},0,{"$nulls":5},0,{"$nulls":5},0,{"$nulls":6},0,0,{"$f":"X51+R51+L51+F51","v":0}]
[null,"4.7","Total Administrative Expenses ",{"$f":"SUM(D46:D51)","v":0},{"$f":"SUM(E46:E51)","v":0},{"$f":"SUM(F46:F51)","v":0},{"$nulls":3},{"$f":"SUM(J46:J51)","v":0},{"$f":"SUM(K46:K51)","v":0},{"$f":"SUM(L46:L51)","v":0},{"$nulls":3},{"$f":"SUM(P46:P51)","v":0},{"$f":"SUM(Q46:Q51)","v":0},{"$f":"SUM(R46:R51)","v":0},{"$nulls":3},{"$f":"SUM(V46:V51)","v":0},{"$f":"SUM(W46:W51)","v":0},{"$f":"SUM(X46:X51)","v":0},{"$nulls":3},{"$f":"SUM(AB46:AB51)","v":0},{"$f":"SUM(AC46:AC51)","v":0},{"$f":"SUM(AD46:AD51)","v":0},{"$f":"SUM(AE46:AE51)","v":0}]
["Government-Mandated Assessments, Taxes, and Fees Other Than Income Taxes","5.1","State Premium tax",{"$nulls":25},{"$f":"D53+J53+P53+V53+AB53","v":0}]
[null,"5.2","Department of Insurance Assessments",{"$nulls":25},{"$f":"D54+J54+P54+V54+AB54","v":0}]
[null,"5.3","Section 9010 Health Insurance Providers Fee",{"$nulls":25},{"$f":"D55+J55+P55+V55+AB55","v":0}]
[null,"5.4","Other 1",{"$nulls":25},0]
[null,"5.5","Other 2",{"$nulls":25},0]
[null,"5.6","Other 3",{"$nulls":25},{"$f":"D58+J58+P58+V58+AB58","v":0}]
[null,"5.7","Total ",{"$f":"SUM(D53:D58)","v":0},{"$nulls":5},{"$f":"SUM(J53:J58)","v":0},{"$nulls":5},{"$f":"SUM(P53:P58)","v":0},{"$nulls":5},{"$f":"SUM(V53:V58)","v":0},{"$nulls":5},{"$f":"SUM(AB53:AB58)","v":0},{"$f":"SUM(AC53:AC58)","v":0}]
[null,"6.0","Grand Total Expenses",{"$f":"D43+D52+D59","v":0},{"$nulls":5},{"$f":"J43+J52+J59","v":0},{"$nulls":5},{"$f":"P43+P52+P59","v":0},{"$nulls":5},{"$f":"V43+V52+V59","v":0},{"$nulls":5},{"$f":"AB43+AB52+AB59","v":0},{"$f":"AC43+AC52+AC59","v":0}]
[null,"7.0","Underwriting Gain / (Loss)  --- AKA Pre-tax Earnings from Operations",{"$f":"D14-D60","v":0},{"$nulls":5},{"$f":"J14-J60","v":0},{"$nulls":5},{"$f":"P14-P60","v":0},{"$nulls":5},{"$f":"V14-V60","v":0},{"$nulls":5},{"$f":"AB14-AB60","v":0},{"$f":"AC14-AC60","v":0}]
[null,"8.0","Income Tax Expense",{"$nulls":25},{"$f":"AB62+V62+P62+J62+D62","v":0}]
[null,"9.0","Net Underwriting Gain (Loss)",{"$f":"D61-D62","v":0},{"$nulls":5},{"$f":"J61-J62","v":0},{"$nulls":5},{"$f":"P61-P62","v":0},{"$nulls":5},{"$f":"V61-V62","v":0},{"$nulls":5},{"$f":"AB61-AB62","v":0},{"$f":"AC61-AC62","v":0}]

{"sheet":"Dental Rev-Exp Region 6","index":11,"n_rows":63,"n_cols":34,"rows_kept":63,"merged":[[6,3,6,8],[6,9,6,14],[6,15,6,20],[6,21,6,26],[6,28,6,33],[9,0,9,2],[10,0,13,0],[14,0,15,2],[14,3,14,8],[14,9,14,14],[14,15,14,20],[14,21,14,26],[14,28,14,33],[16,0,31,0],[32,0,42,0],[43,0,44,2],[43,3,43,8],[43,9,43,14],[43,15,43,20],[43,21,43,26],[43,28,43,33],[45,0,51,0],[52,0,58,0]]}
["DENTAL -- REVENUE AND EXPENSE SCHEDULE - REGION 6"]
[]
["Health Plan:",null,{"$f":"'Dental Rev-Exp Summary'!C3","v":0}]
["Reporting Period:",null,{"$f":"IF('Dental Rev-Exp Summary'!C4=0,\"\",'Dental Rev-Exp Summary'!C4)","v":""}]
["Paid Through:",null,{"$f":"IF('Dental Rev-Exp Summary'!C5=0,\"\",'Dental Rev-Exp Summary'!C5)","v":""}]
["Region 6"]
[{"$nulls":3},"JANUARY - MARCH (Q1)",{"$nulls":5},"APRIL - JUNE (Q2)",{"$nulls":5},"JULY - SEPTEMBER (Q3)",{"$nulls":5},"OCTOBER - DECEMBER (Q4)",{"$nulls":6},"TOTAL (TO DATE)"]
[{"$nulls":3},"Total","Medicaid Only/Dual Eligible 0-20 Years","Medicaid Only 21+ Years","Dual Eligible 21+ Years","Medically Needy 0-20 Years","Medically Needy 21+ Years","Total","Medicaid Only/Dual Eligible 0-20 Years","Medicaid Only 21+ Years","Dual Eligible 21+ Years","Medically Needy 0-20 Years","Medically Needy 21+ Years","Total","Medicaid Only/Dual Eligible 0-20 Years","Medicaid Only 21+ Years","Dual Eligible 21+ Years","Medically Needy 0-20 Years","Medically Needy 21+ Years","Total","Medicaid Only/Dual Eligible 0-20 Years","Medicaid Only 21+ Years","Dual Eligible 21+ Years","Medically Needy 0-20 Years","Medically Needy 21+ Years","Prior Year Adjustments","Total","Medicaid Only/Dual Eligible 0-20 Years","Medicaid Only 21+ Years","Dual Eligible 21+ Years","Medically Needy 0-20 Years","Medically Needy 21+ Years"]
["MEMBER MONTHS",null,null,{"$f":"SUM(E9:I9)","v":0},{"$nulls":5},{"$f":"SUM(K9:O9)","v":0},{"$nulls":5},{"$f":"SUM(Q9:U9)","v":0},{"$nulls":5},{"$f":"SUM(W9:AA9)","v":0},{"$nulls":6},{"$f":"SUM(AD9:AH9)+AB9","v":0},{"$f":"W9+Q9+K9+E9","v":0},{"$f":"X9+R9+L9+F9","v":0},0,{"$f":"Z9+T9+N9+H9","v":0},{"$f":"AA9+U9+O9+I9","v":0}]
["REVENUES"]
["Revenues","1.1","Capitation",{"$f":"SUM(E11:I11)","v":0},{"$nulls":5},{"$f":"SUM(K11:O11)","v":0},{"$nulls":5},{"$f":"SUM(Q11:U11)","v":0},{"$nulls":5},{"$f":"SUM(W11:AA11)","v":0},{"$nulls":6},{"$f":"SUM(AD11:AH11)+AB11","v":0},{"$f":"W11+Q11+K11+E11","v":0},{"$f":"X11+R11+L11+F11","v":0},0,0,{"$f":"AA11+U11+O11+I11","v":0}]
[null,"1.2","ACA § 9010 related payments",{"$f":"SUM(E12:I12)","v":0},{"$nulls":5},{"$f":"SUM(K12:O12)","v":0},{"$nulls":5},{"$f":"SUM(Q12:U12)","v":0},{"$nulls":5},{"$f":"SUM(W12:AA12)","v":0},{"$nulls":6},{"$f":"SUM(AD12:AH12)+AB12","v":0},{"$f":"W12+Q12+K12+E12","v":0},0,{"$f":"Y12+S12+M12+G12","v":0},0,{"$f":"AA12+U12+O12+I12","v":0}]
[null,"1.3","Other Revenue",0,{"$nulls":5},0,{"$nulls":5},0,{"$nulls":5},0,{"$nulls":6},{"$f":"SUM(AD13:AH13)+AB13","v":0},{"$f":"W13+Q13+K13+E13","v":0},{"$f":"X13+R13+L13+F13","v":0},{"$f":"Y13+S13+M13+G13","v":0},{"$f":"Z13+T13+N13+H13","v":0},{"$f":"AA13+U13+O13+I13","v":0}]
[null,"1.4","Total Revenue",{"$f":"SUM(D11:D13)","v":0},{"$f":"SUM(E11:E13)","v":0},0,{"$f":"SUM(G11:G13)","v":0},0,0,{"$f":"SUM(J11:J13)","v":0},{"$f":"SUM(K11:K13)","v":0},0,0,0,0,{"$f":"SUM(P11:P13)","v":0},{"$f":"SUM(Q11:Q13)","v":0},0,0,0,0,{"$f":"SUM(V11:V13)","v":0},{"$f":"SUM(W11:W13)","v":0},0,0,0,0,{"$f":"SUM(AB11:AB13)","v":0},{"$f":"SUM(AC11:AC13)","v":0},{"$f":"SUM(AD11:AD13)","v":0},{"$f":"SUM(AE11:AE13)","v":0},{"$f":"SUM(AF11:AF13)","v":0},{"$f":"SUM(AG11:AG13)","v":0},0]
["BENEFIT EXPENSES",null,null,"JANUARY - MARCH (Q1)",{"$nulls":5},"APRIL - JUNE (Q2)",{"$nulls":5},"JULY - SEPTEMBER (Q3)",{"$nulls":5},"OCTOBER - DECEMBER (Q4)",{"$nulls":6},"TOTAL (TO DATE)"]
[{"$nulls":3},"Total","Medicaid Only/Dual Eligible 0-20 Years","Medicaid Only 21+ Years","Dual Eligible 21+ Years","Medically Needy 0-20 Years","Medically Needy 21+ Years","Total","Medicaid Only/Dual Eligible 0-20 Years","Medicaid Only 21+ Years","Dual Eligible 21+ Years","Medically Needy 0-20 Years","Medically Needy 21+ Years","Total","Medicaid Only/Dual Eligible 0-20 Years","Medicaid Only 21+ Years","Dual Eligible 21+ Years","Medically Needy 0-20 Years","Medically Needy 21+ Years","Total","Medicaid Only/Dual Eligible 0-20 Years","Medicaid Only 21+ Years","Dual Eligible 21+ Years","Medically Needy 0-20 Years","Medically Needy 21+ Years","Prior Year Adjustments","Total","Medicaid Only/Dual Eligible 0-20 Years","Medicaid Only 21+ Years","Dual Eligible 21+ Years","Medically Needy 0-20 Years","Medically Needy 21+ Years"]
["Dental","2.1","Dental Services Diagnostic FFS",{"$f":"SUM(E17:I17)","v":0},{"$nulls":5},{"$f":"SUM(K17:O17)","v":0},{"$nulls":5},{"$f":"SUM(Q17:U17)","v":0},{"$nulls":5},{"$f":"SUM(W17:AA17)","v":0},{"$nulls":6},{"$f":"SUM(AD17:AH17)+AB17","v":0},{"$f":"W17+Q17+K17+E17","v":0},{"$f":"X17+R17+L17+F17","v":0},0,0,0]
[null,2.2,"Dental Services Preventive FFS",{"$f":"SUM(E18:I18)","v":0},{"$nulls":5},{"$f":"SUM(K18:O18)","v":0},{"$nulls":5},{"$f":"SUM(Q18:U18)","v":0},{"$nulls":5},{"$f":"SUM(W18:AA18)","v":0},{"$nulls":6},{"$f":"SUM(AD18:AH18)+AB18","v":0},{"$f":"W18+Q18+K18+E18","v":0},0,{"$f":"Y18+S18+M18+G18","v":0},0,{"$f":"AA18+U18+O18+I18","v":0}]
[null,"2.3","Dental Services Restorative FFS",0,{"$nulls":5},0,{"$nulls":5},0,{"$nulls":5},0,{"$nulls":6},{"$f":"SUM(AD19:AH19)+AB19","v":0},{"$f":"W19+Q19+K19+E19","v":0},0,0,0,0]
[null,"2.4","Dental Services Endodontics FFS",0,{"$nulls":5},0,{"$nulls":5},0,{"$nulls":5},0,{"$nulls":6},0,0,0,0,0,0]
[null,"2.5","Dental Services Periodontics FFS",0,{"$nulls":5},0,{"$nulls":5},0,{"$nulls":5},0,{"$nulls":6},0,0,0,0,0,0]
[null,"2.6","Dental Services Prosthodontics FFS",0,{"$nulls":5},0,{"$nulls":5},0,{"$nulls":5},0,{"$nulls":6},0,0,0,0,0,0]
[null,"2.7","Dental Services Prosthodontics, fixed FFS",0,{"$nulls":5},0,{"$nulls":5},0,{"$nulls":5},0,{"$nulls":6},0,0,0,0,0,0]
[null,"2.8","Dental Services Oral and Maxillofacial Surgery FFS",0,{"$nulls":5},0,{"$nulls":5},0,{"$nulls":5},0,{"$nulls":6},0,0,0,0,0,0]
[null,"2.9","Dental Services Orthodontics FFS",0,{"$nulls":5},0,{"$nulls":5},0,{"$nulls":5},0,{"$nulls":6},0,0,0,0,0,0]
[null,"2.10","Dental Services Adjunctive General Services FFS",0,{"$nulls":5},0,{"$nulls":5},0,{"$nulls":5},0,{"$nulls":6},{"$f":"SUM(AD26:AH26)+AB26","v":0},{"$f":"W26+Q26+K26+E26","v":0},0,0,0,0]
[null,"2.11","Dental Services Other FFS",0,{"$nulls":5},0,{"$nulls":5},0,{"$nulls":5},0,{"$nulls":6},0,0,0,0,0,0]
[null,"2.12","Dental Expanded Benefits FFS",0,{"$nulls":5},0,{"$nulls":5},0,{"$nulls":5},0,{"$nulls":6},{"$f":"SUM(AD28:AH28)+AB28","v":0},0,0,0,0,{"$f":"AA28+U28+O28+I28","v":0}]
[null,"2.13","Dental Services Paid through Subcapitation",{"$f":"SUM(E29:I29)","v":0},{"$nulls":5},{"$f":"SUM(K29:O29)","v":0},{"$nulls":5},{"$f":"SUM(Q29:U29)","v":0},{"$nulls":5},{"$f":"SUM(W29:AA29)","v":0},{"$nulls":6},{"$f":"SUM(AD29:AH29)+AB29","v":0},0,0,0,0,0]
[null,"2.14","Ending IBNP for Dental Services",0,{"$nulls":5},{"$f":"SUM(K30:O30)","v":0},{"$nulls":5},{"$f":"SUM(Q30:U30)","v":0},{"$nulls":5},{"$f":"SUM(W30:AA30)","v":0},{"$nulls":6},0,0,0,0,0,{"$f":"AA30+U30+O30+I30","v":0}]
[null,"2.15","Dental Settlements/AP",0,{"$nulls":5},0,{"$nulls":5},0,{"$nulls":5},0,{"$nulls":6},{"$f":"SUM(AD31:AH31)+AB31","v":0},0,0,0,0,0]
[null,2.16,"Total Dental Services",{"$f":"SUM(D17:D31)","v":0},{"$f":"SUM(E17:E31)","v":0},0,0,0,0,{"$f":"SUM(J17:J31)","v":0},{"$f":"SUM(K17:K31)","v":0},0,0,0,0,{"$f":"SUM(P17:P31)","v":0},{"$f":"SUM(Q17:Q31)","v":0},0,0,0,0,{"$f":"SUM(V17:V31)","v":0},{"$f":"SUM(W17:W31)","v":0},0,0,0,0,{"$f":"SUM(AB17:AB31)","v":0},{"$f":"SUM(AC17:AC31)","v":0},0,0,0,0,{"$f":"SUM(AH17:AH31)","v":0}]
["Total Before and After Reinsurance",3.1,"Total Dental Services Paid Directly FFS",{"$f":"SUM(D17:D28)","v":0},{"$f":"SUM(E17:E28)","v":0},{"$f":"SUM(F17:F28)","v":0},0,0,{"$f":"SUM(I17:I28)","v":0},{"$f":"SUM(J17:J28)","v":0},{"$f":"SUM(K17:K28)","v":0},0,0,0,{"$f":"SUM(O17:O28)","v":0},{"$f":"SUM(P17:P28)","v":0},{"$f":"SUM(Q17:Q28)","v":0},0,0,0,{"$f":"SUM(U17:U28)","v":0},{"$f":"SUM(V17:V28)","v":0},{"$f":"SUM(W17:W28)","v":0},0,0,0,{"$f":"SUM(AA17:AA28)","v":0},{"$f":"SUM(AB17:AB28)","v":0},{"$f":"SUM(AD33:AH33)+AB33","v":0},{"$f":"W33+Q33+K33+E33","v":0},0,0,0,0]
[null,3.2,"Total Dental Services Paid through Subcapitation",{"$f":"D29","v":0},0,{"$f":"F29","v":0},0,0,0,{"$f":"J29","v":0},0,{"$f":"L29","v":0},0,0,0,{"$f":"P29","v":0},0,{"$f":"R29","v":0},0,0,0,{"$f":"V29","v":0},0,{"$f":"X29","v":0},0,0,0,0,0,{"$f":"W34+Q34+K34+E34","v":0},0,0,0,0]
[null,3.3,"Total Dental Services Paid Directly -- IBNP",0,0,{"$f":"F30","v":0},0,0,0,0,0,{"$f":"L30","v":0},0,0,0,0,0,{"$f":"R30","v":0},0,0,0,0,0,{"$f":"X30","v":0},0,0,0,0,0,0,0,0,{"$f":"Z35+T35+N35+H35","v":0},0]
[null,"3.4","Total Dental Services Paid by Settlements/AP",0,0,0,0,0,0,0,0,0,0,0,0,0,0,0,0,0,0,0,0,0,0,0,0,0,0,{"$f":"W36+Q36+K36+E36","v":0},0,0,0,{"$f":"AA36+U36+O36+I36","v":0}]
[null,"3.5","TPL & Fraud/Abuse Recoveries",{"$f":"SUM(E37:I37)","v":0},{"$nulls":5},{"$f":"SUM(K37:O37)","v":0},{"$nulls":5},{"$f":"SUM(Q37:U37)","v":0},{"$nulls":5},{"$f":"SUM(W37:AA37)","v":0},{"$nulls":6},0,{"$f":"W37+Q37+K37+E37","v":0},0,0,0,{"$f":"AA37+U37+O37+I37","v":0}]
[null,3.6,"Premium Deficiency Reserve",{"$f":"SUM(E38:I38)","v":0},{"$nulls":5},{"$f":"SUM(K38:O38)","v":0},{"$nulls":5},{"$f":"SUM(Q38:U38)","v":0},{"$nulls":5},{"$f":"SUM(W38:AA38)","v":0},{"$nulls":6},0,{"$f":"W38+Q38+K38+E38","v":0},0,{"$f":"Y38+S38+M38+G38","v":0},0,{"$f":"AA38+U38+O38+I38","v":0}]
[null,"3.7","Subtotal Benefit Expense before Reinsurance",{"$f":"SUM(D33:D38)","v":0},{"$f":"SUM(E33:E38)","v":0},{"$f":"SUM(F33:F38)","v":0},0,0,{"$f":"SUM(I33:I38)","v":0},{"$f":"SUM(J33:J38)","v":0},{"$f":"SUM(K33:K38)","v":0},{"$f":"SUM(L33:L38)","v":0},0,0,{"$f":"SUM(O33:O38)","v":0},{"$f":"SUM(P33:P38)","v":0},{"$f":"SUM(Q33:Q38)","v":0},{"$f":"SUM(R33:R38)","v":0},0,0,{"$f":"SUM(U33:U38)","v":0},{"$f":"SUM(V33:V38)","v":0},{"$f":"SUM(W33:W38)","v":0},{"$f":"SUM(X33:X38)","v":0},0,0,{"$f":"SUM(AA33:AA38)","v":0},0,0,0,0,0,0,0]
[null,"3.8","Reinsurance Premiums",{"$f":"SUM(E40:I40)","v":0},{"$nulls":5},{"$f":"SUM(K40:O40)","v":0},{"$nulls":5},{"$f":"SUM(Q40:U40)","v":0},{"$nulls":5},{"$f":"SUM(W40:AA40)","v":0},{"$nulls":6},{"$f":"SUM(AD40:AH40)+AB40","v":0},{"$f":"W40+Q40+K40+E40","v":0},{"$f":"X40+R40+L40+F40","v":0},{"$f":"Y40+S40+M40+G40","v":0},0,0]
[null,"3.9","Reinsurance Recoveries",{"$f":"SUM(E41:I41)","v":0},{"$nulls":5},{"$f":"SUM(K41:O41)","v":0},{"$nulls":5},{"$f":"SUM(Q41:U41)","v":0},{"$nulls":5},{"$f":"SUM(W41:AA41)","v":0},{"$nulls":6},{"$f":"SUM(AD41:AH41)+AB41","v":0},{"$f":"W41+Q41+K41+E41","v":0},0,0,0,0]
[null,"3.10","Net cost of Reinsurance",{"$f":"SUM(D40:D41)","v":0},{"$f":"SUM(E40:E41)","v":0},{"$f":"SUM(F40:F41)","v":0},0,0,0,{"$f":"SUM(J40:J41)","v":0},{"$f":"SUM(K40:K41)","v":0},0,0,0,0,{"$f":"SUM(P40:P41)","v":0},{"$f":"SUM(Q40:Q41)","v":0},0,0,0,0,{"$f":"SUM(V40:V41)","v":0},{"$f":"SUM(W40:W41)","v":0},0,0,0,0,0,{"$f":"SUM(AC40:AC41)","v":0},{"$f":"SUM(AD40:AD41)","v":0},{"$f":"SUM(AE40:AE41)","v":0},0,{"$f":"SUM(AG40:AG41)","v":0},{"$f":"SUM(AH40:AH41)","v":0}]
[null,"3.11","Grand Total Medical Benefit Expense Net of Reinsurance",{"$f":"D39+D42","v":0},{"$f":"E39+E42","v":0},{"$f":"F39+F42","v":0},0,0,{"$f":"I39+I42","v":0},{"$f":"J39+J42","v":0},{"$f":"K39+K42","v":0},{"$f":"L39+L42","v":0},0,0,{"$f":"O39+O42","v":0},{"$f":"P39+P42","v":0},{"$f":"Q39+Q42","v":0},{"$f":"R39+R42","v":0},0,0,{"$f":"U39+U42","v":0},{"$f":"V39+V42","v":0},{"$f":"W39+W42","v":0},{"$f":"X39+X42","v":0},0,0,{"$f":"AA39+AA42","v":0},{"$f":"AB39+AB42","v":0},{"$f":"AC39+AC42","v":0},{"$f":"AD39+AD42","v":0},{"$f":"AE39+AE42","v":0},0,0,{"$f":"AH39+AH42","v":0}]
["Administrative Expenses, Government-Mandated Assessments, Taxes, and Fees ",null,null,"JANUARY - MARCH (Q1)",{"$nulls":5},"APRIL - JUNE (Q2)",{"$nulls":5},"JULY - SEPTEMBER (Q3)",{"$nulls":5},"OCTOBER - DECEMBER (Q4)",{"$nulls":6},"TOTAL (TO DATE)"]
[{"$nulls":3},"Total","Health Plan","Corporate",{"$nulls":3},"Total","Health Plan","Corporate",{"$nulls":3},"Total","Health Plan","Corporate",{"$nulls":3},"Total","Health Plan","Corporate",{"$nulls":3},"Prior Calendar Year Adjustments","Total","Health Plan","Corporate"]
["Administrative Expenses","4.1","Salaries & Benefits",{"$f":"SUM(E46:F46)","v":0},{"$nulls":5},{"$f":"SUM(K46:L46)","v":0},{"$nulls":5},{"$f":"SUM(Q46:R46)","v":0},{"$nulls":5},{"$f":"SUM(W46:X46)","v":0},{"$nulls":6},{"$f":"SUM(AD46:AE46)+AB46","v":0},{"$f":"W46+Q46+K46+E46","v":0},{"$f":"X46+R46+L46+F46","v":0}]
[null,"4.2","Administrative Services",{"$f":"SUM(E47:F47)","v":0},{"$nulls":5},{"$f":"SUM(K47:L47)","v":0},{"$nulls":5},{"$f":"SUM(Q47:R47)","v":0},{"$nulls":5},{"$f":"SUM(W47:X47)","v":0},{"$nulls":6},{"$f":"SUM(AD47:AE47)+AB47","v":0},{"$f":"W47+Q47+K47+E47","v":0},0]
[null,"4.3","Information Systems",0,{"$nulls":5},0,{"$nulls":5},0,{"$nulls":5},0,{"$nulls":6},{"$f":"SUM(AD48:AE48)+AB48","v":0},0,0]
[null,"4.4","Marketing Expenses",0,{"$nulls":5},0,{"$nulls":5},0,{"$nulls":5},0,{"$nulls":6},{"$f":"SUM(AD49:AE49)+AB49","v":0},0,0]
[null,"4.5","General  Administration",0,{"$nulls":5},0,{"$nulls":5},0,{"$nulls":5},0,{"$nulls":6},0,0,0]
[null,"4.6","Compliance/Regulatory",0,{"$nulls":5},0,{"$nulls":5},0,{"$nulls":5},0,{"$nulls":6},0,0,{"$f":"X51+R51+L51+F51","v":0}]
[null,"4.7","Total Administrative Expenses ",{"$f":"SUM(D46:D51)","v":0},{"$f":"SUM(E46:E51)","v":0},{"$f":"SUM(F46:F51)","v":0},{"$nulls":3},{"$f":"SUM(J46:J51)","v":0},{"$f":"SUM(K46:K51)","v":0},{"$f":"SUM(L46:L51)","v":0},{"$nulls":3},{"$f":"SUM(P46:P51)","v":0},{"$f":"SUM(Q46:Q51)","v":0},{"$f":"SUM(R46:R51)","v":0},{"$nulls":3},{"$f":"SUM(V46:V51)","v":0},{"$f":"SUM(W46:W51)","v":0},{"$f":"SUM(X46:X51)","v":0},{"$nulls":3},{"$f":"SUM(AB46:AB51)","v":0},{"$f":"SUM(AC46:AC51)","v":0},{"$f":"SUM(AD46:AD51)","v":0},{"$f":"SUM(AE46:AE51)","v":0}]
["Government-Mandated Assessments, Taxes, and Fees Other Than Income Taxes","5.1","State Premium tax",{"$nulls":25},{"$f":"D53+J53+P53+V53+AB53","v":0}]
[null,"5.2","Department of Insurance Assessments",{"$nulls":25},{"$f":"D54+J54+P54+V54+AB54","v":0}]
[null,"5.3","Section 9010 Health Insurance Providers Fee",{"$nulls":25},{"$f":"D55+J55+P55+V55+AB55","v":0}]
[null,"5.4","Other 1",{"$nulls":25},0]
[null,"5.5","Other 2",{"$nulls":25},0]
[null,"5.6","Other 3",{"$nulls":25},{"$f":"D58+J58+P58+V58+AB58","v":0}]
[null,"5.7","Total ",{"$f":"SUM(D53:D58)","v":0},{"$nulls":5},{"$f":"SUM(J53:J58)","v":0},{"$nulls":5},{"$f":"SUM(P53:P58)","v":0},{"$nulls":5},{"$f":"SUM(V53:V58)","v":0},{"$nulls":5},{"$f":"SUM(AB53:AB58)","v":0},{"$f":"SUM(AC53:AC58)","v":0}]
[null,"6.0","Grand Total Expenses",{"$f":"D43+D52+D59","v":0},{"$nulls":5},{"$f":"J43+J52+J59","v":0},{"$nulls":5},{"$f":"P43+P52+P59","v":0},{"$nulls":5},{"$f":"V43+V52+V59","v":0},{"$nulls":5},{"$f":"AB43+AB52+AB59","v":0},{"$f":"AC43+AC52+AC59","v":0}]
[null,"7.0","Underwriting Gain / (Loss)  --- AKA Pre-tax Earnings from Operations",{"$f":"D14-D60","v":0},{"$nulls":5},{"$f":"J14-J60","v":0},{"$nulls":5},{"$f":"P14-P60","v":0},{"$nulls":5},{"$f":"V14-V60","v":0},{"$nulls":5},{"$f":"AB14-AB60","v":0},{"$f":"AC14-AC60","v":0}]
[null,"8.0","Income Tax Expense",{"$nulls":25},{"$f":"AB62+V62+P62+J62+D62","v":0}]
[null,"9.0","Net Underwriting Gain (Loss)",{"$f":"D61-D62","v":0},{"$nulls":5},{"$f":"J61-J62","v":0},{"$nulls":5},{"$f":"P61-P62","v":0},{"$nulls":5},{"$f":"V61-V62","v":0},{"$nulls":5},{"$f":"AB61-AB62","v":0},{"$f":"AC61-AC62","v":0}]

{"sheet":"Dental Rev-Exp Region 7","index":12,"n_rows":63,"n_cols":34,"rows_kept":63,"merged":[[6,3,6,8],[6,9,6,14],[6,15,6,20],[6,21,6,26],[6,28,6,33],[9,0,9,2],[10,0,13,0],[14,0,15,2],[14,3,14,8],[14,9,14,14],[14,15,14,20],[14,21,14,26],[14,28,14,33],[16,0,31,0],[32,0,42,0],[43,0,44,2],[43,3,43,8],[43,9,43,14],[43,15,43,20],[43,21,43,26],[43,28,43,33],[45,0,51,0],[52,0,58,0]]}
["DENTAL -- REVENUE AND EXPENSE SCHEDULE - REGION 7"]
[]
["Health Plan:",null,{"$f":"'Dental Rev-Exp Summary'!C3","v":0}]
["Reporting Period:",null,{"$f":"IF('Dental Rev-Exp Summary'!C4=0,\"\",'Dental Rev-Exp Summary'!C4)","v":""}]
["Paid Through:",null,{"$f":"IF('Dental Rev-Exp Summary'!C5=0,\"\",'Dental Rev-Exp Summary'!C5)","v":""}]
["Region 7"]
[{"$nulls":3},"JANUARY - MARCH (Q1)",{"$nulls":5},"APRIL - JUNE (Q2)",{"$nulls":5},"JULY - SEPTEMBER (Q3)",{"$nulls":5},"OCTOBER - DECEMBER (Q4)",{"$nulls":6},"TOTAL (TO DATE)"]
[{"$nulls":3},"Total","Medicaid Only/Dual Eligible 0-20 Years","Medicaid Only 21+ Years","Dual Eligible 21+ Years","Medically Needy 0-20 Years","Medically Needy 21+ Years","Total","Medicaid Only/Dual Eligible 0-20 Years","Medicaid Only 21+ Years","Dual Eligible 21+ Years","Medically Needy 0-20 Years","Medically Needy 21+ Years","Total","Medicaid Only/Dual Eligible 0-20 Years","Medicaid Only 21+ Years","Dual Eligible 21+ Years","Medically Needy 0-20 Years","Medically Needy 21+ Years","Total","Medicaid Only/Dual Eligible 0-20 Years","Medicaid Only 21+ Years","Dual Eligible 21+ Years","Medically Needy 0-20 Years","Medically Needy 21+ Years","Prior Year Adjustments","Total","Medicaid Only/Dual Eligible 0-20 Years","Medicaid Only 21+ Years","Dual Eligible 21+ Years","Medically Needy 0-20 Years","Medically Needy 21+ Years"]
["MEMBER MONTHS",null,null,{"$f":"SUM(E9:I9)","v":0},{"$nulls":5},{"$f":"SUM(K9:O9)","v":0},{"$nulls":5},{"$f":"SUM(Q9:U9)","v":0},{"$nulls":5},{"$f":"SUM(W9:AA9)","v":0},{"$nulls":6},{"$f":"SUM(AD9:AH9)+AB9","v":0},{"$f":"W9+Q9+K9+E9","v":0},{"$f":"X9+R9+L9+F9","v":0},0,{"$f":"Z9+T9+N9+H9","v":0},{"$f":"AA9+U9+O9+I9","v":0}]
["REVENUES"]
["Revenues","1.1","Capitation",{"$f":"SUM(E11:I11)","v":0},{"$nulls":5},{"$f":"SUM(K11:O11)","v":0},{"$nulls":5},{"$f":"SUM(Q11:U11)","v":0},{"$nulls":5},{"$f":"SUM(W11:AA11)","v":0},{"$nulls":6},{"$f":"SUM(AD11:AH11)+AB11","v":0},{"$f":"W11+Q11+K11+E11","v":0},{"$f":"X11+R11+L11+F11","v":0},0,0,{"$f":"AA11+U11+O11+I11","v":0}]
[null,"1.2","ACA § 9010 related payments",{"$f":"SUM(E12:I12)","v":0},{"$nulls":5},{"$f":"SUM(K12:O12)","v":0},{"$nulls":5},{"$f":"SUM(Q12:U12)","v":0},{"$nulls":5},{"$f":"SUM(W12:AA12)","v":0},{"$nulls":6},{"$f":"SUM(AD12:AH12)+AB12","v":0},{"$f":"W12+Q12+K12+E12","v":0},0,{"$f":"Y12+S12+M12+G12","v":0},0,{"$f":"AA12+U12+O12+I12","v":0}]
[null,"1.3","Other Revenue",0,{"$nulls":5},0,{"$nulls":5},0,{"$nulls":5},0,{"$nulls":6},{"$f":"SUM(AD13:AH13)+AB13","v":0},{"$f":"W13+Q13+K13+E13","v":0},{"$f":"X13+R13+L13+F13","v":0},{"$f":"Y13+S13+M13+G13","v":0},{"$f":"Z13+T13+N13+H13","v":0},{"$f":"AA13+U13+O13+I13","v":0}]
[null,"1.4","Total Revenue",{"$f":"SUM(D11:D13)","v":0},{"$f":"SUM(E11:E13)","v":0},0,{"$f":"SUM(G11:G13)","v":0},0,0,{"$f":"SUM(J11:J13)","v":0},{"$f":"SUM(K11:K13)","v":0},0,0,0,0,{"$f":"SUM(P11:P13)","v":0},{"$f":"SUM(Q11:Q13)","v":0},0,0,0,0,{"$f":"SUM(V11:V13)","v":0},{"$f":"SUM(W11:W13)","v":0},0,0,0,0,{"$f":"SUM(AB11:AB13)","v":0},{"$f":"SUM(AC11:AC13)","v":0},{"$f":"SUM(AD11:AD13)","v":0},{"$f":"SUM(AE11:AE13)","v":0},{"$f":"SUM(AF11:AF13)","v":0},{"$f":"SUM(AG11:AG13)","v":0},0]
["BENEFIT EXPENSES",null,null,"JANUARY - MARCH (Q1)",{"$nulls":5},"APRIL - JUNE (Q2)",{"$nulls":5},"JULY - SEPTEMBER (Q3)",{"$nulls":5},"OCTOBER - DECEMBER (Q4)",{"$nulls":6},"TOTAL (TO DATE)"]
[{"$nulls":3},"Total","Medicaid Only/Dual Eligible 0-20 Years","Medicaid Only 21+ Years","Dual Eligible 21+ Years","Medically Needy 0-20 Years","Medically Needy 21+ Years","Total","Medicaid Only/Dual Eligible 0-20 Years","Medicaid Only 21+ Years","Dual Eligible 21+ Years","Medically Needy 0-20 Years","Medically Needy 21+ Years","Total","Medicaid Only/Dual Eligible 0-20 Years","Medicaid Only 21+ Years","Dual Eligible 21+ Years","Medically Needy 0-20 Years","Medically Needy 21+ Years","Total","Medicaid Only/Dual Eligible 0-20 Years","Medicaid Only 21+ Years","Dual Eligible 21+ Years","Medically Needy 0-20 Years","Medically Needy 21+ Years","Prior Year Adjustments","Total","Medicaid Only/Dual Eligible 0-20 Years","Medicaid Only 21+ Years","Dual Eligible 21+ Years","Medically Needy 0-20 Years","Medically Needy 21+ Years"]
["Dental","2.1","Dental Services Diagnostic FFS",{"$f":"SUM(E17:I17)","v":0},{"$nulls":5},{"$f":"SUM(K17:O17)","v":0},{"$nulls":5},{"$f":"SUM(Q17:U17)","v":0},{"$nulls":5},{"$f":"SUM(W17:AA17)","v":0},{"$nulls":6},{"$f":"SUM(AD17:AH17)+AB17","v":0},{"$f":"W17+Q17+K17+E17","v":0},{"$f":"X17+R17+L17+F17","v":0},0,0,0]
[null,2.2,"Dental Services Preventive FFS",{"$f":"SUM(E18:I18)","v":0},{"$nulls":5},{"$f":"SUM(K18:O18)","v":0},{"$nulls":5},{"$f":"SUM(Q18:U18)","v":0},{"$nulls":5},{"$f":"SUM(W18:AA18)","v":0},{"$nulls":6},{"$f":"SUM(AD18:AH18)+AB18","v":0},{"$f":"W18+Q18+K18+E18","v":0},0,{"$f":"Y18+S18+M18+G18","v":0},0,{"$f":"AA18+U18+O18+I18","v":0}]
[null,"2.3","Dental Services Restorative FFS",0,{"$nulls":5},0,{"$nulls":5},0,{"$nulls":5},0,{"$nulls":6},{"$f":"SUM(AD19:AH19)+AB19","v":0},{"$f":"W19+Q19+K19+E19","v":0},0,0,0,0]
[null,"2.4","Dental Services Endodontics FFS",0,{"$nulls":5},0,{"$nulls":5},0,{"$nulls":5},0,{"$nulls":6},0,0,0,0,0,0]
[null,"2.5","Dental Services Periodontics FFS",0,{"$nulls":5},0,{"$nulls":5},0,{"$nulls":5},0,{"$nulls":6},0,0,0,0,0,0]
[null,"2.6","Dental Services Prosthodontics FFS",0,{"$nulls":5},0,{"$nulls":5},0,{"$nulls":5},0,{"$nulls":6},0,0,0,0,0,0]
[null,"2.7","Dental Services Prosthodontics, fixed FFS",0,{"$nulls":5},0,{"$nulls":5},0,{"$nulls":5},0,{"$nulls":6},0,0,0,0,0,0]
[null,"2.8","Dental Services Oral and Maxillofacial Surgery FFS",0,{"$nulls":5},0,{"$nulls":5},0,{"$nulls":5},0,{"$nulls":6},0,0,0,0,0,0]
[null,"2.9","Dental Services Orthodontics FFS",0,{"$nulls":5},0,{"$nulls":5},0,{"$nulls":5},0,{"$nulls":6},0,0,0,0,0,0]
[null,"2.10","Dental Services Adjunctive General Services FFS",0,{"$nulls":5},0,{"$nulls":5},0,{"$nulls":5},0,{"$nulls":6},{"$f":"SUM(AD26:AH26)+AB26","v":0},{"$f":"W26+Q26+K26+E26","v":0},0,0,0,0]
[null,"2.11","Dental Services Other FFS",0,{"$nulls":5},0,{"$nulls":5},0,{"$nulls":5},0,{"$nulls":6},0,0,0,0,0,0]
[null,"2.12","Dental Expanded Benefits FFS",0,{"$nulls":5},0,{"$nulls":5},0,{"$nulls":5},0,{"$nulls":6},{"$f":"SUM(AD28:AH28)+AB28","v":0},0,0,0,0,{"$f":"AA28+U28+O28+I28","v":0}]
[null,"2.13","Dental Services Paid through Subcapitation",{"$f":"SUM(E29:I29)","v":0},{"$nulls":5},{"$f":"SUM(K29:O29)","v":0},{"$nulls":5},{"$f":"SUM(Q29:U29)","v":0},{"$nulls":5},{"$f":"SUM(W29:AA29)","v":0},{"$nulls":6},{"$f":"SUM(AD29:AH29)+AB29","v":0},0,0,0,0,0]
[null,"2.14","Ending IBNP for Dental Services",0,{"$nulls":5},{"$f":"SUM(K30:O30)","v":0},{"$nulls":5},{"$f":"SUM(Q30:U30)","v":0},{"$nulls":5},{"$f":"SUM(W30:AA30)","v":0},{"$nulls":6},0,0,0,0,0,{"$f":"AA30+U30+O30+I30","v":0}]
[null,"2.15","Dental Settlements/AP",0,{"$nulls":5},0,{"$nulls":5},0,{"$nulls":5},0,{"$nulls":6},{"$f":"SUM(AD31:AH31)+AB31","v":0},0,0,0,0,0]
[null,2.16,"Total Dental Services",{"$f":"SUM(D17:D31)","v":0},{"$f":"SUM(E17:E31)","v":0},0,0,0,0,{"$f":"SUM(J17:J31)","v":0},{"$f":"SUM(K17:K31)","v":0},0,0,0,0,{"$f":"SUM(P17:P31)","v":0},{"$f":"SUM(Q17:Q31)","v":0},0,0,0,0,{"$f":"SUM(V17:V31)","v":0},{"$f":"SUM(W17:W31)","v":0},0,0,0,0,{"$f":"SUM(AB17:AB31)","v":0},{"$f":"SUM(AC17:AC31)","v":0},0,0,0,0,{"$f":"SUM(AH17:AH31)","v":0}]
["Total Before and After Reinsurance",3.1,"Total Dental Services Paid Directly FFS",{"$f":"SUM(D17:D28)","v":0},{"$f":"SUM(E17:E28)","v":0},{"$f":"SUM(F17:F28)","v":0},0,0,{"$f":"SUM(I17:I28)","v":0},{"$f":"SUM(J17:J28)","v":0},{"$f":"SUM(K17:K28)","v":0},0,0,0,{"$f":"SUM(O17:O28)","v":0},{"$f":"SUM(P17:P28)","v":0},{"$f":"SUM(Q17:Q28)","v":0},0,0,0,{"$f":"SUM(U17:U28)","v":0},{"$f":"SUM(V17:V28)","v":0},{"$f":"SUM(W17:W28)","v":0},0,0,0,{"$f":"SUM(AA17:AA28)","v":0},{"$f":"SUM(AB17:AB28)","v":0},{"$f":"SUM(AD33:AH33)+AB33","v":0},{"$f":"W33+Q33+K33+E33","v":0},0,0,0,0]
[null,3.2,"Total Dental Services Paid through Subcapitation",{"$f":"D29","v":0},0,{"$f":"F29","v":0},0,0,0,{"$f":"J29","v":0},0,{"$f":"L29","v":0},0,0,0,{"$f":"P29","v":0},0,{"$f":"R29","v":0},0,0,0,{"$f":"V29","v":0},0,{"$f":"X29","v":0},0,0,0,0,0,{"$f":"W34+Q34+K34+E34","v":0},0,0,0,0]
[null,3.3,"Total Dental Services Paid Directly -- IBNP",0,0,{"$f":"F30","v":0},0,0,0,0,0,{"$f":"L30","v":0},0,0,0,0,0,{"$f":"R30","v":0},0,0,0,0,0,{"$f":"X30","v":0},0,0,0,0,0,0,0,0,{"$f":"Z35+T35+N35+H35","v":0},0]
[null,"3.4","Total Dental Services Paid by Settlements/AP",0,0,0,0,0,0,0,0,0,0,0,0,0,0,0,0,0,0,0,0,0,0,0,0,0,0,{"$f":"W36+Q36+K36+E36","v":0},0,0,0,{"$f":"AA36+U36+O36+I36","v":0}]
[null,"3.5","TPL & Fraud/Abuse Recoveries",{"$f":"SUM(E37:I37)","v":0},{"$nulls":5},{"$f":"SUM(K37:O37)","v":0},{"$nulls":5},{"$f":"SUM(Q37:U37)","v":0},{"$nulls":5},{"$f":"SUM(W37:AA37)","v":0},{"$nulls":6},0,{"$f":"W37+Q37+K37+E37","v":0},0,0,0,{"$f":"AA37+U37+O37+I37","v":0}]
[null,3.6,"Premium Deficiency Reserve",{"$f":"SUM(E38:I38)","v":0},{"$nulls":5},{"$f":"SUM(K38:O38)","v":0},{"$nulls":5},{"$f":"SUM(Q38:U38)","v":0},{"$nulls":5},{"$f":"SUM(W38:AA38)","v":0},{"$nulls":6},0,{"$f":"W38+Q38+K38+E38","v":0},0,{"$f":"Y38+S38+M38+G38","v":0},0,{"$f":"AA38+U38+O38+I38","v":0}]
[null,"3.7","Subtotal Benefit Expense before Reinsurance",{"$f":"SUM(D33:D38)","v":0},{"$f":"SUM(E33:E38)","v":0},{"$f":"SUM(F33:F38)","v":0},0,0,{"$f":"SUM(I33:I38)","v":0},{"$f":"SUM(J33:J38)","v":0},{"$f":"SUM(K33:K38)","v":0},{"$f":"SUM(L33:L38)","v":0},0,0,{"$f":"SUM(O33:O38)","v":0},{"$f":"SUM(P33:P38)","v":0},{"$f":"SUM(Q33:Q38)","v":0},{"$f":"SUM(R33:R38)","v":0},0,0,{"$f":"SUM(U33:U38)","v":0},{"$f":"SUM(V33:V38)","v":0},{"$f":"SUM(W33:W38)","v":0},{"$f":"SUM(X33:X38)","v":0},0,0,{"$f":"SUM(AA33:AA38)","v":0},0,0,0,0,0,0,0]
[null,"3.8","Reinsurance Premiums",{"$f":"SUM(E40:I40)","v":0},{"$nulls":5},{"$f":"SUM(K40:O40)","v":0},{"$nulls":5},{"$f":"SUM(Q40:U40)","v":0},{"$nulls":5},{"$f":"SUM(W40:AA40)","v":0},{"$nulls":6},{"$f":"SUM(AD40:AH40)+AB40","v":0},{"$f":"W40+Q40+K40+E40","v":0},{"$f":"X40+R40+L40+F40","v":0},{"$f":"Y40+S40+M40+G40","v":0},0,0]
[null,"3.9","Reinsurance Recoveries",{"$f":"SUM(E41:I41)","v":0},{"$nulls":5},{"$f":"SUM(K41:O41)","v":0},{"$nulls":5},{"$f":"SUM(Q41:U41)","v":0},{"$nulls":5},{"$f":"SUM(W41:AA41)","v":0},{"$nulls":6},{"$f":"SUM(AD41:AH41)+AB41","v":0},{"$f":"W41+Q41+K41+E41","v":0},0,0,0,0]
[null,"3.10","Net cost of Reinsurance",{"$f":"SUM(D40:D41)","v":0},{"$f":"SUM(E40:E41)","v":0},{"$f":"SUM(F40:F41)","v":0},0,0,0,{"$f":"SUM(J40:J41)","v":0},{"$f":"SUM(K40:K41)","v":0},0,0,0,0,{"$f":"SUM(P40:P41)","v":0},{"$f":"SUM(Q40:Q41)","v":0},0,0,0,0,{"$f":"SUM(V40:V41)","v":0},{"$f":"SUM(W40:W41)","v":0},0,0,0,0,0,{"$f":"SUM(AC40:AC41)","v":0},{"$f":"SUM(AD40:AD41)","v":0},{"$f":"SUM(AE40:AE41)","v":0},0,{"$f":"SUM(AG40:AG41)","v":0},{"$f":"SUM(AH40:AH41)","v":0}]
[null,"3.11","Grand Total Medical Benefit Expense Net of Reinsurance",{"$f":"D39+D42","v":0},{"$f":"E39+E42","v":0},{"$f":"F39+F42","v":0},0,0,{"$f":"I39+I42","v":0},{"$f":"J39+J42","v":0},{"$f":"K39+K42","v":0},{"$f":"L39+L42","v":0},0,0,{"$f":"O39+O42","v":0},{"$f":"P39+P42","v":0},{"$f":"Q39+Q42","v":0},{"$f":"R39+R42","v":0},0,0,{"$f":"U39+U42","v":0},{"$f":"V39+V42","v":0},{"$f":"W39+W42","v":0},{"$f":"X39+X42","v":0},0,0,{"$f":"AA39+AA42","v":0},{"$f":"AB39+AB42","v":0},{"$f":"AC39+AC42","v":0},{"$f":"AD39+AD42","v":0},{"$f":"AE39+AE42","v":0},0,0,{"$f":"AH39+AH42","v":0}]
["Administrative Expenses, Government-Mandated Assessments, Taxes, and Fees ",null,null,"JANUARY - MARCH (Q1)",{"$nulls":5},"APRIL - JUNE (Q2)",{"$nulls":5},"JULY - SEPTEMBER (Q3)",{"$nulls":5},"OCTOBER - DECEMBER (Q4)",{"$nulls":6},"TOTAL (TO DATE)"]
[{"$nulls":3},"Total","Health Plan","Corporate",{"$nulls":3},"Total","Health Plan","Corporate",{"$nulls":3},"Total","Health Plan","Corporate",{"$nulls":3},"Total","Health Plan","Corporate",{"$nulls":3},"Prior Calendar Year Adjustments","Total","Health Plan","Corporate"]
["Administrative Expenses","4.1","Salaries & Benefits",{"$f":"SUM(E46:F46)","v":0},{"$nulls":5},{"$f":"SUM(K46:L46)","v":0},{"$nulls":5},{"$f":"SUM(Q46:R46)","v":0},{"$nulls":5},{"$f":"SUM(W46:X46)","v":0},{"$nulls":6},{"$f":"SUM(AD46:AE46)+AB46","v":0},{"$f":"W46+Q46+K46+E46","v":0},{"$f":"X46+R46+L46+F46","v":0}]
[null,"4.2","Administrative Services",{"$f":"SUM(E47:F47)","v":0},{"$nulls":5},{"$f":"SUM(K47:L47)","v":0},{"$nulls":5},{"$f":"SUM(Q47:R47)","v":0},{"$nulls":5},{"$f":"SUM(W47:X47)","v":0},{"$nulls":6},{"$f":"SUM(AD47:AE47)+AB47","v":0},{"$f":"W47+Q47+K47+E47","v":0},0]
[null,"4.3","Information Systems",0,{"$nulls":5},0,{"$nulls":5},0,{"$nulls":5},0,{"$nulls":6},{"$f":"SUM(AD48:AE48)+AB48","v":0},0,0]
[null,"4.4","Marketing Expenses",0,{"$nulls":5},0,{"$nulls":5},0,{"$nulls":5},0,{"$nulls":6},{"$f":"SUM(AD49:AE49)+AB49","v":0},0,0]
[null,"4.5","General  Administration",0,{"$nulls":5},0,{"$nulls":5},0,{"$nulls":5},0,{"$nulls":6},0,0,0]
[null,"4.6","Compliance/Regulatory",0,{"$nulls":5},0,{"$nulls":5},0,{"$nulls":5},0,{"$nulls":6},0,0,{"$f":"X51+R51+L51+F51","v":0}]
[null,"4.7","Total Administrative Expenses ",{"$f":"SUM(D46:D51)","v":0},{"$f":"SUM(E46:E51)","v":0},{"$f":"SUM(F46:F51)","v":0},{"$nulls":3},{"$f":"SUM(J46:J51)","v":0},{"$f":"SUM(K46:K51)","v":0},{"$f":"SUM(L46:L51)","v":0},{"$nulls":3},{"$f":"SUM(P46:P51)","v":0},{"$f":"SUM(Q46:Q51)","v":0},{"$f":"SUM(R46:R51)","v":0},{"$nulls":3},{"$f":"SUM(V46:V51)","v":0},{"$f":"SUM(W46:W51)","v":0},{"$f":"SUM(X46:X51)","v":0},{"$nulls":3},{"$f":"SUM(AB46:AB51)","v":0},{"$f":"SUM(AC46:AC51)","v":0},{"$f":"SUM(AD46:AD51)","v":0},{"$f":"SUM(AE46:AE51)","v":0}]
["Government-Mandated Assessments, Taxes, and Fees Other Than Income Taxes","5.1","State Premium tax",{"$nulls":25},{"$f":"D53+J53+P53+V53+AB53","v":0}]
[null,"5.2","Department of Insurance Assessments",{"$nulls":25},{"$f":"D54+J54+P54+V54+AB54","v":0}]
[null,"5.3","Section 9010 Health Insurance Providers Fee",{"$nulls":25},{"$f":"D55+J55+P55+V55+AB55","v":0}]
[null,"5.4","Other 1",{"$nulls":25},0]
[null,"5.5","Other 2",{"$nulls":25},0]
[null,"5.6","Other 3",{"$nulls":25},{"$f":"D58+J58+P58+V58+AB58","v":0}]
[null,"5.7","Total ",{"$f":"SUM(D53:D58)","v":0},{"$nulls":5},{"$f":"SUM(J53:J58)","v":0},{"$nulls":5},{"$f":"SUM(P53:P58)","v":0},{"$nulls":5},{"$f":"SUM(V53:V58)","v":0},{"$nulls":5},{"$f":"SUM(AB53:AB58)","v":0},{"$f":"SUM(AC53:AC58)","v":0}]
[null,"6.0","Grand Total Expenses",{"$f":"D43+D52+D59","v":0},{"$nulls":5},{"$f":"J43+J52+J59","v":0},{"$nulls":5},{"$f":"P43+P52+P59","v":0},{"$nulls":5},{"$f":"V43+V52+V59","v":0},{"$nulls":5},{"$f":"AB43+AB52+AB59","v":0},{"$f":"AC43+AC52+AC59","v":0}]
[null,"7.0","Underwriting Gain / (Loss)  --- AKA Pre-tax Earnings from Operations",{"$f":"D14-D60","v":0},{"$nulls":5},{"$f":"J14-J60","v":0},{"$nulls":5},{"$f":"P14-P60","v":0},{"$nulls":5},{"$f":"V14-V60","v":0},{"$nulls":5},{"$f":"AB14-AB60","v":0},{"$f":"AC14-AC60","v":0}]
[null,"8.0","Income Tax Expense",{"$nulls":25},{"$f":"AB62+V62+P62+J62+D62","v":0}]
[null,"9.0","Net Underwriting Gain (Loss)",{"$f":"D61-D62","v":0},{"$nulls":5},{"$f":"J61-J62","v":0},{"$nulls":5},{"$f":"P61-P62","v":0},{"$nulls":5},{"$f":"V61-V62","v":0},{"$nulls":5},{"$f":"AB61-AB62","v":0},{"$f":"AC61-AC62","v":0}]

{"sheet":"Dental Rev-Exp Region 8","index":13,"n_rows":63,"n_cols":34,"rows_kept":63,"merged":[[6,3,6,8],[6,9,6,14],[6,15,6,20],[6,21,6,26],[6,28,6,33],[9,0,9,2],[10,0,13,0],[14,0,15,2],[14,3,14,8],[14,9,14,14],[14,15,14,20],[14,21,14,26],[14,28,14,33],[16,0,31,0],[32,0,42,0],[43,0,44,2],[43,3,43,8],[43,9,43,14],[43,15,43,20],[43,21,43,26],[43,28,43,33],[45,0,51,0],[52,0,58,0]]}
["DENTAL -- REVENUE AND EXPENSE SCHEDULE - REGION 8"]
[]
["Health Plan:",null,{"$f":"'Dental Rev-Exp Summary'!C3","v":0}]
["Reporting Period:",null,{"$f":"IF('Dental Rev-Exp Summary'!C4=0,\"\",'Dental Rev-Exp Summary'!C4)","v":""}]
["Paid Through:",null,{"$f":"IF('Dental Rev-Exp Summary'!C5=0,\"\",'Dental Rev-Exp Summary'!C5)","v":""}]
["Region 8"]
[{"$nulls":3},"JANUARY - MARCH (Q1)",{"$nulls":5},"APRIL - JUNE (Q2)",{"$nulls":5},"JULY - SEPTEMBER (Q3)",{"$nulls":5},"OCTOBER - DECEMBER (Q4)",{"$nulls":6},"TOTAL (TO DATE)"]
[{"$nulls":3},"Total","Medicaid Only/Dual Eligible 0-20 Years","Medicaid Only 21+ Years","Dual Eligible 21+ Years","Medically Needy 0-20 Years","Medically Needy 21+ Years","Total","Medicaid Only/Dual Eligible 0-20 Years","Medicaid Only 21+ Years","Dual Eligible 21+ Years","Medically Needy 0-20 Years","Medically Needy 21+ Years","Total","Medicaid Only/Dual Eligible 0-20 Years","Medicaid Only 21+ Years","Dual Eligible 21+ Years","Medically Needy 0-20 Years","Medically Needy 21+ Years","Total","Medicaid Only/Dual Eligible 0-20 Years","Medicaid Only 21+ Years","Dual Eligible 21+ Years","Medically Needy 0-20 Years","Medically Needy 21+ Years","Prior Year Adjustments","Total","Medicaid Only/Dual Eligible 0-20 Years","Medicaid Only 21+ Years","Dual Eligible 21+ Years","Medically Needy 0-20 Years","Medically Needy 21+ Years"]
["MEMBER MONTHS",null,null,{"$f":"SUM(E9:I9)","v":0},{"$nulls":5},{"$f":"SUM(K9:O9)","v":0},{"$nulls":5},{"$f":"SUM(Q9:U9)","v":0},{"$nulls":5},{"$f":"SUM(W9:AA9)","v":0},{"$nulls":6},{"$f":"SUM(AD9:AH9)+AB9","v":0},{"$f":"W9+Q9+K9+E9","v":0},{"$f":"X9+R9+L9+F9","v":0},0,{"$f":"Z9+T9+N9+H9","v":0},{"$f":"AA9+U9+O9+I9","v":0}]
["REVENUES"]
["Revenues","1.1","Capitation",{"$f":"SUM(E11:I11)","v":0},{"$nulls":5},{"$f":"SUM(K11:O11)","v":0},{"$nulls":5},{"$f":"SUM(Q11:U11)","v":0},{"$nulls":5},{"$f":"SUM(W11:AA11)","v":0},{"$nulls":6},{"$f":"SUM(AD11:AH11)+AB11","v":0},{"$f":"W11+Q11+K11+E11","v":0},{"$f":"X11+R11+L11+F11","v":0},0,0,{"$f":"AA11+U11+O11+I11","v":0}]
[null,"1.2","ACA § 9010 related payments",{"$f":"SUM(E12:I12)","v":0},{"$nulls":5},{"$f":"SUM(K12:O12)","v":0},{"$nulls":5},{"$f":"SUM(Q12:U12)","v":0},{"$nulls":5},{"$f":"SUM(W12:AA12)","v":0},{"$nulls":6},{"$f":"SUM(AD12:AH12)+AB12","v":0},{"$f":"W12+Q12+K12+E12","v":0},0,{"$f":"Y12+S12+M12+G12","v":0},0,{"$f":"AA12+U12+O12+I12","v":0}]
[null,"1.3","Other Revenue",0,{"$nulls":5},0,{"$nulls":5},0,{"$nulls":5},0,{"$nulls":6},{"$f":"SUM(AD13:AH13)+AB13","v":0},{"$f":"W13+Q13+K13+E13","v":0},{"$f":"X13+R13+L13+F13","v":0},{"$f":"Y13+S13+M13+G13","v":0},{"$f":"Z13+T13+N13+H13","v":0},{"$f":"AA13+U13+O13+I13","v":0}]
[null,"1.4","Total Revenue",{"$f":"SUM(D11:D13)","v":0},{"$f":"SUM(E11:E13)","v":0},0,{"$f":"SUM(G11:G13)","v":0},0,0,{"$f":"SUM(J11:J13)","v":0},{"$f":"SUM(K11:K13)","v":0},0,0,0,0,{"$f":"SUM(P11:P13)","v":0},{"$f":"SUM(Q11:Q13)","v":0},0,0,0,0,{"$f":"SUM(V11:V13)","v":0},{"$f":"SUM(W11:W13)","v":0},0,0,0,0,{"$f":"SUM(AB11:AB13)","v":0},{"$f":"SUM(AC11:AC13)","v":0},{"$f":"SUM(AD11:AD13)","v":0},{"$f":"SUM(AE11:AE13)","v":0},{"$f":"SUM(AF11:AF13)","v":0},{"$f":"SUM(AG11:AG13)","v":0},0]
["BENEFIT EXPENSES",null,null,"JANUARY - MARCH (Q1)",{"$nulls":5},"APRIL - JUNE (Q2)",{"$nulls":5},"JULY - SEPTEMBER (Q3)",{"$nulls":5},"OCTOBER - DECEMBER (Q4)",{"$nulls":6},"TOTAL (TO DATE)"]
[{"$nulls":3},"Total","Medicaid Only/Dual Eligible 0-20 Years","Medicaid Only 21+ Years","Dual Eligible 21+ Years","Medically Needy 0-20 Years","Medically Needy 21+ Years","Total","Medicaid Only/Dual Eligible 0-20 Years","Medicaid Only 21+ Years","Dual Eligible 21+ Years","Medically Needy 0-20 Years","Medically Needy 21+ Years","Total","Medicaid Only/Dual Eligible 0-20 Years","Medicaid Only 21+ Years","Dual Eligible 21+ Years","Medically Needy 0-20 Years","Medically Needy 21+ Years","Total","Medicaid Only/Dual Eligible 0-20 Years","Medicaid Only 21+ Years","Dual Eligible 21+ Years","Medically Needy 0-20 Years","Medically Needy 21+ Years","Prior Year Adjustments","Total","Medicaid Only/Dual Eligible 0-20 Years","Medicaid Only 21+ Years","Dual Eligible 21+ Years","Medically Needy 0-20 Years","Medically Needy 21+ Years"]
["Dental","2.1","Dental Services Diagnostic FFS",{"$f":"SUM(E17:I17)","v":0},{"$nulls":5},{"$f":"SUM(K17:O17)","v":0},{"$nulls":5},{"$f":"SUM(Q17:U17)","v":0},{"$nulls":5},{"$f":"SUM(W17:AA17)","v":0},{"$nulls":6},{"$f":"SUM(AD17:AH17)+AB17","v":0},{"$f":"W17+Q17+K17+E17","v":0},{"$f":"X17+R17+L17+F17","v":0},0,0,0]
[null,2.2,"Dental Services Preventive FFS",{"$f":"SUM(E18:I18)","v":0},{"$nulls":5},{"$f":"SUM(K18:O18)","v":0},{"$nulls":5},{"$f":"SUM(Q18:U18)","v":0},{"$nulls":5},{"$f":"SUM(W18:AA18)","v":0},{"$nulls":6},{"$f":"SUM(AD18:AH18)+AB18","v":0},{"$f":"W18+Q18+K18+E18","v":0},0,{"$f":"Y18+S18+M18+G18","v":0},0,{"$f":"AA18+U18+O18+I18","v":0}]
[null,"2.3","Dental Services Restorative FFS",0,{"$nulls":5},0,{"$nulls":5},0,{"$nulls":5},0,{"$nulls":6},{"$f":"SUM(AD19:AH19)+AB19","v":0},{"$f":"W19+Q19+K19+E19","v":0},0,0,0,0]
[null,"2.4","Dental Services Endodontics FFS",0,{"$nulls":5},0,{"$nulls":5},0,{"$nulls":5},0,{"$nulls":6},0,0,0,0,0,0]
[null,"2.5","Dental Services Periodontics FFS",0,{"$nulls":5},0,{"$nulls":5},0,{"$nulls":5},0,{"$nulls":6},0,0,0,0,0,0]
[null,"2.6","Dental Services Prosthodontics FFS",0,{"$nulls":5},0,{"$nulls":5},0,{"$nulls":5},0,{"$nulls":6},0,0,0,0,0,0]
[null,"2.7","Dental Services Prosthodontics, fixed FFS",0,{"$nulls":5},0,{"$nulls":5},0,{"$nulls":5},0,{"$nulls":6},0,0,0,0,0,0]
[null,"2.8","Dental Services Oral and Maxillofacial Surgery FFS",0,{"$nulls":5},0,{"$nulls":5},0,{"$nulls":5},0,{"$nulls":6},0,0,0,0,0,0]
[null,"2.9","Dental Services Orthodontics FFS",0,{"$nulls":5},0,{"$nulls":5},0,{"$nulls":5},0,{"$nulls":6},0,0,0,0,0,0]
[null,"2.10","Dental Services Adjunctive General Services FFS",0,{"$nulls":5},0,{"$nulls":5},0,{"$nulls":5},0,{"$nulls":6},{"$f":"SUM(AD26:AH26)+AB26","v":0},{"$f":"W26+Q26+K26+E26","v":0},0,0,0,0]
[null,"2.11","Dental Services Other FFS",0,{"$nulls":5},0,{"$nulls":5},0,{"$nulls":5},0,{"$nulls":6},0,0,0,0,0,0]
[null,"2.12","Dental Expanded Benefits FFS",0,{"$nulls":5},0,{"$nulls":5},0,{"$nulls":5},0,{"$nulls":6},{"$f":"SUM(AD28:AH28)+AB28","v":0},0,0,0,0,{"$f":"AA28+U28+O28+I28","v":0}]
[null,"2.13","Dental Services Paid through Subcapitation",{"$f":"SUM(E29:I29)","v":0},{"$nulls":5},{"$f":"SUM(K29:O29)","v":0},{"$nulls":5},{"$f":"SUM(Q29:U29)","v":0},{"$nulls":5},{"$f":"SUM(W29:AA29)","v":0},{"$nulls":6},{"$f":"SUM(AD29:AH29)+AB29","v":0},0,0,0,0,0]
[null,"2.14","Ending IBNP for Dental Services",0,{"$nulls":5},{"$f":"SUM(K30:O30)","v":0},{"$nulls":5},{"$f":"SUM(Q30:U30)","v":0},{"$nulls":5},{"$f":"SUM(W30:AA30)","v":0},{"$nulls":6},0,0,0,0,0,{"$f":"AA30+U30+O30+I30","v":0}]
[null,"2.15","Dental Settlements/AP",0,{"$nulls":5},0,{"$nulls":5},0,{"$nulls":5},0,{"$nulls":6},{"$f":"SUM(AD31:AH31)+AB31","v":0},0,0,0,0,0]
[null,2.16,"Total Dental Services",{"$f":"SUM(D17:D31)","v":0},{"$f":"SUM(E17:E31)","v":0},0,0,0,0,{"$f":"SUM(J17:J31)","v":0},{"$f":"SUM(K17:K31)","v":0},0,0,0,0,{"$f":"SUM(P17:P31)","v":0},{"$f":"SUM(Q17:Q31)","v":0},0,0,0,0,{"$f":"SUM(V17:V31)","v":0},{"$f":"SUM(W17:W31)","v":0},0,0,0,0,{"$f":"SUM(AB17:AB31)","v":0},{"$f":"SUM(AC17:AC31)","v":0},0,0,0,0,{"$f":"SUM(AH17:AH31)","v":0}]
["Total Before and After Reinsurance",3.1,"Total Dental Services Paid Directly FFS",{"$f":"SUM(D17:D28)","v":0},{"$f":"SUM(E17:E28)","v":0},{"$f":"SUM(F17:F28)","v":0},0,0,{"$f":"SUM(I17:I28)","v":0},{"$f":"SUM(J17:J28)","v":0},{"$f":"SUM(K17:K28)","v":0},0,0,0,{"$f":"SUM(O17:O28)","v":0},{"$f":"SUM(P17:P28)","v":0},{"$f":"SUM(Q17:Q28)","v":0},0,0,0,{"$f":"SUM(U17:U28)","v":0},{"$f":"SUM(V17:V28)","v":0},{"$f":"SUM(W17:W28)","v":0},0,0,0,{"$f":"SUM(AA17:AA28)","v":0},{"$f":"SUM(AB17:AB28)","v":0},{"$f":"SUM(AD33:AH33)+AB33","v":0},{"$f":"W33+Q33+K33+E33","v":0},0,0,0,0]
[null,3.2,"Total Dental Services Paid through Subcapitation",{"$f":"D29","v":0},0,{"$f":"F29","v":0},0,0,0,{"$f":"J29","v":0},0,{"$f":"L29","v":0},0,0,0,{"$f":"P29","v":0},0,{"$f":"R29","v":0},0,0,0,{"$f":"V29","v":0},0,{"$f":"X29","v":0},0,0,0,0,0,{"$f":"W34+Q34+K34+E34","v":0},0,0,0,0]
[null,3.3,"Total Dental Services Paid Directly -- IBNP",0,0,{"$f":"F30","v":0},0,0,0,0,0,{"$f":"L30","v":0},0,0,0,0,0,{"$f":"R30","v":0},0,0,0,0,0,{"$f":"X30","v":0},0,0,0,0,0,0,0,0,{"$f":"Z35+T35+N35+H35","v":0},0]
[null,"3.4","Total Dental Services Paid by Settlements/AP",0,0,0,0,0,0,0,0,0,0,0,0,0,0,0,0,0,0,0,0,0,0,0,0,0,0,{"$f":"W36+Q36+K36+E36","v":0},0,0,0,{"$f":"AA36+U36+O36+I36","v":0}]
[null,"3.5","TPL & Fraud/Abuse Recoveries",{"$f":"SUM(E37:I37)","v":0},{"$nulls":5},{"$f":"SUM(K37:O37)","v":0},{"$nulls":5},{"$f":"SUM(Q37:U37)","v":0},{"$nulls":5},{"$f":"SUM(W37:AA37)","v":0},{"$nulls":6},0,{"$f":"W37+Q37+K37+E37","v":0},0,0,0,{"$f":"AA37+U37+O37+I37","v":0}]
[null,3.6,"Premium Deficiency Reserve",{"$f":"SUM(E38:I38)","v":0},{"$nulls":5},{"$f":"SUM(K38:O38)","v":0},{"$nulls":5},{"$f":"SUM(Q38:U38)","v":0},{"$nulls":5},{"$f":"SUM(W38:AA38)","v":0},{"$nulls":6},0,{"$f":"W38+Q38+K38+E38","v":0},0,{"$f":"Y38+S38+M38+G38","v":0},0,{"$f":"AA38+U38+O38+I38","v":0}]
[null,"3.7","Subtotal Benefit Expense before Reinsurance",{"$f":"SUM(D33:D38)","v":0},{"$f":"SUM(E33:E38)","v":0},{"$f":"SUM(F33:F38)","v":0},0,0,{"$f":"SUM(I33:I38)","v":0},{"$f":"SUM(J33:J38)","v":0},{"$f":"SUM(K33:K38)","v":0},{"$f":"SUM(L33:L38)","v":0},0,0,{"$f":"SUM(O33:O38)","v":0},{"$f":"SUM(P33:P38)","v":0},{"$f":"SUM(Q33:Q38)","v":0},{"$f":"SUM(R33:R38)","v":0},0,0,{"$f":"SUM(U33:U38)","v":0},{"$f":"SUM(V33:V38)","v":0},{"$f":"SUM(W33:W38)","v":0},{"$f":"SUM(X33:X38)","v":0},0,0,{"$f":"SUM(AA33:AA38)","v":0},0,0,0,0,0,0,0]
[null,"3.8","Reinsurance Premiums",{"$f":"SUM(E40:I40)","v":0},{"$nulls":5},{"$f":"SUM(K40:O40)","v":0},{"$nulls":5},{"$f":"SUM(Q40:U40)","v":0},{"$nulls":5},{"$f":"SUM(W40:AA40)","v":0},{"$nulls":6},{"$f":"SUM(AD40:AH40)+AB40","v":0},{"$f":"W40+Q40+K40+E40","v":0},{"$f":"X40+R40+L40+F40","v":0},{"$f":"Y40+S40+M40+G40","v":0},0,0]
[null,"3.9","Reinsurance Recoveries",{"$f":"SUM(E41:I41)","v":0},{"$nulls":5},{"$f":"SUM(K41:O41)","v":0},{"$nulls":5},{"$f":"SUM(Q41:U41)","v":0},{"$nulls":5},{"$f":"SUM(W41:AA41)","v":0},{"$nulls":6},{"$f":"SUM(AD41:AH41)+AB41","v":0},{"$f":"W41+Q41+K41+E41","v":0},0,0,0,0]
[null,"3.10","Net cost of Reinsurance",{"$f":"SUM(D40:D41)","v":0},{"$f":"SUM(E40:E41)","v":0},{"$f":"SUM(F40:F41)","v":0},0,0,0,{"$f":"SUM(J40:J41)","v":0},{"$f":"SUM(K40:K41)","v":0},0,0,0,0,{"$f":"SUM(P40:P41)","v":0},{"$f":"SUM(Q40:Q41)","v":0},0,0,0,0,{"$f":"SUM(V40:V41)","v":0},{"$f":"SUM(W40:W41)","v":0},0,0,0,0,0,{"$f":"SUM(AC40:AC41)","v":0},{"$f":"SUM(AD40:AD41)","v":0},{"$f":"SUM(AE40:AE41)","v":0},0,{"$f":"SUM(AG40:AG41)","v":0},{"$f":"SUM(AH40:AH41)","v":0}]
[null,"3.11","Grand Total Medical Benefit Expense Net of Reinsurance",{"$f":"D39+D42","v":0},{"$f":"E39+E42","v":0},{"$f":"F39+F42","v":0},0,0,{"$f":"I39+I42","v":0},{"$f":"J39+J42","v":0},{"$f":"K39+K42","v":0},{"$f":"L39+L42","v":0},0,0,{"$f":"O39+O42","v":0},{"$f":"P39+P42","v":0},{"$f":"Q39+Q42","v":0},{"$f":"R39+R42","v":0},0,0,{"$f":"U39+U42","v":0},{"$f":"V39+V42","v":0},{"$f":"W39+W42","v":0},{"$f":"X39+X42","v":0},0,0,{"$f":"AA39+AA42","v":0},{"$f":"AB39+AB42","v":0},{"$f":"AC39+AC42","v":0},{"$f":"AD39+AD42","v":0},{"$f":"AE39+AE42","v":0},0,0,{"$f":"AH39+AH42","v":0}]
["Administrative Expenses, Government-Mandated Assessments, Taxes, and Fees ",null,null,"JANUARY - MARCH (Q1)",{"$nulls":5},"APRIL - JUNE (Q2)",{"$nulls":5},"JULY - SEPTEMBER (Q3)",{"$nulls":5},"OCTOBER - DECEMBER (Q4)",{"$nulls":6},"TOTAL (TO DATE)"]
[{"$nulls":3},"Total","Health Plan","Corporate",{"$nulls":3},"Total","Health Plan","Corporate",{"$nulls":3},"Total","Health Plan","Corporate",{"$nulls":3},"Total","Health Plan","Corporate",{"$nulls":3},"Prior Calendar Year Adjustments","Total","Health Plan","Corporate"]
["Administrative Expenses","4.1","Salaries & Benefits",{"$f":"SUM(E46:F46)","v":0},{"$nulls":5},{"$f":"SUM(K46:L46)","v":0},{"$nulls":5},{"$f":"SUM(Q46:R46)","v":0},{"$nulls":5},{"$f":"SUM(W46:X46)","v":0},{"$nulls":6},{"$f":"SUM(AD46:AE46)+AB46","v":0},{"$f":"W46+Q46+K46+E46","v":0},{"$f":"X46+R46+L46+F46","v":0}]
[null,"4.2","Administrative Services",{"$f":"SUM(E47:F47)","v":0},{"$nulls":5},{"$f":"SUM(K47:L47)","v":0},{"$nulls":5},{"$f":"SUM(Q47:R47)","v":0},{"$nulls":5},{"$f":"SUM(W47:X47)","v":0},{"$nulls":6},{"$f":"SUM(AD47:AE47)+AB47","v":0},{"$f":"W47+Q47+K47+E47","v":0},0]
[null,"4.3","Information Systems",0,{"$nulls":5},0,{"$nulls":5},0,{"$nulls":5},0,{"$nulls":6},{"$f":"SUM(AD48:AE48)+AB48","v":0},0,0]
[null,"4.4","Marketing Expenses",0,{"$nulls":5},0,{"$nulls":5},0,{"$nulls":5},0,{"$nulls":6},{"$f":"SUM(AD49:AE49)+AB49","v":0},0,0]
[null,"4.5","General  Administration",0,{"$nulls":5},0,{"$nulls":5},0,{"$nulls":5},0,{"$nulls":6},0,0,0]
[null,"4.6","Compliance/Regulatory",0,{"$nulls":5},0,{"$nulls":5},0,{"$nulls":5},0,{"$nulls":6},0,0,{"$f":"X51+R51+L51+F51","v":0}]
[null,"4.7","Total Administrative Expenses ",{"$f":"SUM(D46:D51)","v":0},{"$f":"SUM(E46:E51)","v":0},{"$f":"SUM(F46:F51)","v":0},{"$nulls":3},{"$f":"SUM(J46:J51)","v":0},{"$f":"SUM(K46:K51)","v":0},{"$f":"SUM(L46:L51)","v":0},{"$nulls":3},{"$f":"SUM(P46:P51)","v":0},{"$f":"SUM(Q46:Q51)","v":0},{"$f":"SUM(R46:R51)","v":0},{"$nulls":3},{"$f":"SUM(V46:V51)","v":0},{"$f":"SUM(W46:W51)","v":0},{"$f":"SUM(X46:X51)","v":0},{"$nulls":3},{"$f":"SUM(AB46:AB51)","v":0},{"$f":"SUM(AC46:AC51)","v":0},{"$f":"SUM(AD46:AD51)","v":0},{"$f":"SUM(AE46:AE51)","v":0}]
["Government-Mandated Assessments, Taxes, and Fees Other Than Income Taxes","5.1","State Premium tax",{"$nulls":25},{"$f":"D53+J53+P53+V53+AB53","v":0}]
[null,"5.2","Department of Insurance Assessments",{"$nulls":25},{"$f":"D54+J54+P54+V54+AB54","v":0}]
[null,"5.3","Section 9010 Health Insurance Providers Fee",{"$nulls":25},{"$f":"D55+J55+P55+V55+AB55","v":0}]
[null,"5.4","Other 1",{"$nulls":25},0]
[null,"5.5","Other 2",{"$nulls":25},0]
[null,"5.6","Other 3",{"$nulls":25},{"$f":"D58+J58+P58+V58+AB58","v":0}]
[null,"5.7","Total ",{"$f":"SUM(D53:D58)","v":0},{"$nulls":5},{"$f":"SUM(J53:J58)","v":0},{"$nulls":5},{"$f":"SUM(P53:P58)","v":0},{"$nulls":5},{"$f":"SUM(V53:V58)","v":0},{"$nulls":5},{"$f":"SUM(AB53:AB58)","v":0},{"$f":"SUM(AC53:AC58)","v":0}]
[null,"6.0","Grand Total Expenses",{"$f":"D43+D52+D59","v":0},{"$nulls":5},{"$f":"J43+J52+J59","v":0},{"$nulls":5},{"$f":"P43+P52+P59","v":0},{"$nulls":5},{"$f":"V43+V52+V59","v":0},{"$nulls":5},{"$f":"AB43+AB52+AB59","v":0},{"$f":"AC43+AC52+AC59","v":0}]
[null,"7.0","Underwriting Gain / (Loss)  --- AKA Pre-tax Earnings from Operations",{"$f":"D14-D60","v":0},{"$nulls":5},{"$f":"J14-J60","v":0},{"$nulls":5},{"$f":"P14-P60","v":0},{"$nulls":5},{"$f":"V14-V60","v":0},{"$nulls":5},{"$f":"AB14-AB60","v":0},{"$f":"AC14-AC60","v":0}]
[null,"8.0","Income Tax Expense",{"$nulls":25},{"$f":"AB62+V62+P62+J62+D62","v":0}]
[null,"9.0","Net Underwriting Gain (Loss)",{"$f":"D61-D62","v":0},{"$nulls":5},{"$f":"J61-J62","v":0},{"$nulls":5},{"$f":"P61-P62","v":0},{"$nulls":5},{"$f":"V61-V62","v":0},{"$nulls":5},{"$f":"AB61-AB62","v":0},{"$f":"AC61-AC62","v":0}]

{"sheet":"Dental Rev-Exp Region 9","index":14,"n_rows":63,"n_cols":34,"rows_kept":63,"merged":[[6,3,6,8],[6,9,6,14],[6,15,6,20],[6,21,6,26],[6,28,6,33],[9,0,9,2],[10,0,13,0],[14,0,15,2],[14,3,14,8],[14,9,14,14],[14,15,14,20],[14,21,14,26],[14,28,14,33],[16,0,31,0],[32,0,42,0],[43,0,44,2],[43,3,43,8],[43,9,43,14],[43,15,43,20],[43,21,43,26],[43,28,43,33],[45,0,51,0],[52,0,58,0]]}
["DENTAL -- REVENUE AND EXPENSE SCHEDULE - REGION 9"]
[]
["Health Plan:",null,{"$f":"'Dental Rev-Exp Summary'!C3","v":0}]
["Reporting Period:",null,{"$f":"IF('Dental Rev-Exp Summary'!C4=0,\"\",'Dental Rev-Exp Summary'!C4)","v":""}]
["Paid Through:",null,{"$f":"IF('Dental Rev-Exp Summary'!C5=0,\"\",'Dental Rev-Exp Summary'!C5)","v":""}]
["Region 9"]
[{"$nulls":3},"JANUARY - MARCH (Q1)",{"$nulls":5},"APRIL - JUNE (Q2)",{"$nulls":5},"JULY - SEPTEMBER (Q3)",{"$nulls":5},"OCTOBER - DECEMBER (Q4)",{"$nulls":6},"TOTAL (TO DATE)"]
[{"$nulls":3},"Total","Medicaid Only/Dual Eligible 0-20 Years","Medicaid Only 21+ Years","Dual Eligible 21+ Years","Medically Needy 0-20 Years","Medically Needy 21+ Years","Total","Medicaid Only/Dual Eligible 0-20 Years","Medicaid Only 21+ Years","Dual Eligible 21+ Years","Medically Needy 0-20 Years","Medically Needy 21+ Years","Total","Medicaid Only/Dual Eligible 0-20 Years","Medicaid Only 21+ Years","Dual Eligible 21+ Years","Medically Needy 0-20 Years","Medically Needy 21+ Years","Total","Medicaid Only/Dual Eligible 0-20 Years","Medicaid Only 21+ Years","Dual Eligible 21+ Years","Medically Needy 0-20 Years","Medically Needy 21+ Years","Prior Year Adjustments","Total","Medicaid Only/Dual Eligible 0-20 Years","Medicaid Only 21+ Years","Dual Eligible 21+ Years","Medically Needy 0-20 Years","Medically Needy 21+ Years"]
["MEMBER MONTHS",null,null,{"$f":"SUM(E9:I9)","v":0},{"$nulls":5},{"$f":"SUM(K9:O9)","v":0},{"$nulls":5},{"$f":"SUM(Q9:U9)","v":0},{"$nulls":5},{"$f":"SUM(W9:AA9)","v":0},{"$nulls":6},{"$f":"SUM(AD9:AH9)+AB9","v":0},{"$f":"W9+Q9+K9+E9","v":0},{"$f":"X9+R9+L9+F9","v":0},0,{"$f":"Z9+T9+N9+H9","v":0},{"$f":"AA9+U9+O9+I9","v":0}]
["REVENUES"]
["Revenues","1.1","Capitation",{"$f":"SUM(E11:I11)","v":0},{"$nulls":5},{"$f":"SUM(K11:O11)","v":0},{"$nulls":5},{"$f":"SUM(Q11:U11)","v":0},{"$nulls":5},{"$f":"SUM(W11:AA11)","v":0},{"$nulls":6},{"$f":"SUM(AD11:AH11)+AB11","v":0},{"$f":"W11+Q11+K11+E11","v":0},{"$f":"X11+R11+L11+F11","v":0},0,0,{"$f":"AA11+U11+O11+I11","v":0}]
[null,"1.2","ACA § 9010 related payments",{"$f":"SUM(E12:I12)","v":0},{"$nulls":5},{"$f":"SUM(K12:O12)","v":0},{"$nulls":5},{"$f":"SUM(Q12:U12)","v":0},{"$nulls":5},{"$f":"SUM(W12:AA12)","v":0},{"$nulls":6},{"$f":"SUM(AD12:AH12)+AB12","v":0},{"$f":"W12+Q12+K12+E12","v":0},0,{"$f":"Y12+S12+M12+G12","v":0},0,{"$f":"AA12+U12+O12+I12","v":0}]
[null,"1.3","Other Revenue",0,{"$nulls":5},0,{"$nulls":5},0,{"$nulls":5},0,{"$nulls":6},{"$f":"SUM(AD13:AH13)+AB13","v":0},{"$f":"W13+Q13+K13+E13","v":0},{"$f":"X13+R13+L13+F13","v":0},{"$f":"Y13+S13+M13+G13","v":0},{"$f":"Z13+T13+N13+H13","v":0},{"$f":"AA13+U13+O13+I13","v":0}]
[null,"1.4","Total Revenue",{"$f":"SUM(D11:D13)","v":0},{"$f":"SUM(E11:E13)","v":0},0,{"$f":"SUM(G11:G13)","v":0},0,0,{"$f":"SUM(J11:J13)","v":0},{"$f":"SUM(K11:K13)","v":0},0,0,0,0,{"$f":"SUM(P11:P13)","v":0},{"$f":"SUM(Q11:Q13)","v":0},0,0,0,0,{"$f":"SUM(V11:V13)","v":0},{"$f":"SUM(W11:W13)","v":0},0,0,0,0,{"$f":"SUM(AB11:AB13)","v":0},{"$f":"SUM(AC11:AC13)","v":0},{"$f":"SUM(AD11:AD13)","v":0},{"$f":"SUM(AE11:AE13)","v":0},{"$f":"SUM(AF11:AF13)","v":0},{"$f":"SUM(AG11:AG13)","v":0},0]
["BENEFIT EXPENSES",null,null,"JANUARY - MARCH (Q1)",{"$nulls":5},"APRIL - JUNE (Q2)",{"$nulls":5},"JULY - SEPTEMBER (Q3)",{"$nulls":5},"OCTOBER - DECEMBER (Q4)",{"$nulls":6},"TOTAL (TO DATE)"]
[{"$nulls":3},"Total","Medicaid Only/Dual Eligible 0-20 Years","Medicaid Only 21+ Years","Dual Eligible 21+ Years","Medically Needy 0-20 Years","Medically Needy 21+ Years","Total","Medicaid Only/Dual Eligible 0-20 Years","Medicaid Only 21+ Years","Dual Eligible 21+ Years","Medically Needy 0-20 Years","Medically Needy 21+ Years","Total","Medicaid Only/Dual Eligible 0-20 Years","Medicaid Only 21+ Years","Dual Eligible 21+ Years","Medically Needy 0-20 Years","Medically Needy 21+ Years","Total","Medicaid Only/Dual Eligible 0-20 Years","Medicaid Only 21+ Years","Dual Eligible 21+ Years","Medically Needy 0-20 Years","Medically Needy 21+ Years","Prior Year Adjustments","Total","Medicaid Only/Dual Eligible 0-20 Years","Medicaid Only 21+ Years","Dual Eligible 21+ Years","Medically Needy 0-20 Years","Medically Needy 21+ Years"]
["Dental","2.1","Dental Services Diagnostic FFS",{"$f":"SUM(E17:I17)","v":0},{"$nulls":5},{"$f":"SUM(K17:O17)","v":0},{"$nulls":5},{"$f":"SUM(Q17:U17)","v":0},{"$nulls":5},{"$f":"SUM(W17:AA17)","v":0},{"$nulls":6},{"$f":"SUM(AD17:AH17)+AB17","v":0},{"$f":"W17+Q17+K17+E17","v":0},{"$f":"X17+R17+L17+F17","v":0},0,0,0]
[null,2.2,"Dental Services Preventive FFS",{"$f":"SUM(E18:I18)","v":0},{"$nulls":5},{"$f":"SUM(K18:O18)","v":0},{"$nulls":5},{"$f":"SUM(Q18:U18)","v":0},{"$nulls":5},{"$f":"SUM(W18:AA18)","v":0},{"$nulls":6},{"$f":"SUM(AD18:AH18)+AB18","v":0},{"$f":"W18+Q18+K18+E18","v":0},0,{"$f":"Y18+S18+M18+G18","v":0},0,{"$f":"AA18+U18+O18+I18","v":0}]
[null,"2.3","Dental Services Restorative FFS",0,{"$nulls":5},0,{"$nulls":5},0,{"$nulls":5},0,{"$nulls":6},{"$f":"SUM(AD19:AH19)+AB19","v":0},{"$f":"W19+Q19+K19+E19","v":0},0,0,0,0]
[null,"2.4","Dental Services Endodontics FFS",0,{"$nulls":5},0,{"$nulls":5},0,{"$nulls":5},0,{"$nulls":6},0,0,0,0,0,0]
[null,"2.5","Dental Services Periodontics FFS",0,{"$nulls":5},0,{"$nulls":5},0,{"$nulls":5},0,{"$nulls":6},0,0,0,0,0,0]
[null,"2.6","Dental Services Prosthodontics FFS",0,{"$nulls":5},0,{"$nulls":5},0,{"$nulls":5},0,{"$nulls":6},0,0,0,0,0,0]
[null,"2.7","Dental Services Prosthodontics, fixed FFS",0,{"$nulls":5},0,{"$nulls":5},0,{"$nulls":5},0,{"$nulls":6},0,0,0,0,0,0]
[null,"2.8","Dental Services Oral and Maxillofacial Surgery FFS",0,{"$nulls":5},0,{"$nulls":5},0,{"$nulls":5},0,{"$nulls":6},0,0,0,0,0,0]
[null,"2.9","Dental Services Orthodontics FFS",0,{"$nulls":5},0,{"$nulls":5},0,{"$nulls":5},0,{"$nulls":6},0,0,0,0,0,0]
[null,"2.10","Dental Services Adjunctive General Services FFS",0,{"$nulls":5},0,{"$nulls":5},0,{"$nulls":5},0,{"$nulls":6},{"$f":"SUM(AD26:AH26)+AB26","v":0},{"$f":"W26+Q26+K26+E26","v":0},0,0,0,0]
[null,"2.11","Dental Services Other FFS",0,{"$nulls":5},0,{"$nulls":5},0,{"$nulls":5},0,{"$nulls":6},0,0,0,0,0,0]
[null,"2.12","Dental Expanded Benefits FFS",0,{"$nulls":5},0,{"$nulls":5},0,{"$nulls":5},0,{"$nulls":6},{"$f":"SUM(AD28:AH28)+AB28","v":0},0,0,0,0,{"$f":"AA28+U28+O28+I28","v":0}]
[null,"2.13","Dental Services Paid through Subcapitation",{"$f":"SUM(E29:I29)","v":0},{"$nulls":5},{"$f":"SUM(K29:O29)","v":0},{"$nulls":5},{"$f":"SUM(Q29:U29)","v":0},{"$nulls":5},{"$f":"SUM(W29:AA29)","v":0},{"$nulls":6},{"$f":"SUM(AD29:AH29)+AB29","v":0},0,0,0,0,0]
[null,"2.14","Ending IBNP for Dental Services",0,{"$nulls":5},{"$f":"SUM(K30:O30)","v":0},{"$nulls":5},{"$f":"SUM(Q30:U30)","v":0},{"$nulls":5},{"$f":"SUM(W30:AA30)","v":0},{"$nulls":6},0,0,0,0,0,{"$f":"AA30+U30+O30+I30","v":0}]
[null,"2.15","Dental Settlements/AP",0,{"$nulls":5},0,{"$nulls":5},0,{"$nulls":5},0,{"$nulls":6},{"$f":"SUM(AD31:AH31)+AB31","v":0},0,0,0,0,0]
[null,2.16,"Total Dental Services",{"$f":"SUM(D17:D31)","v":0},{"$f":"SUM(E17:E31)","v":0},0,0,0,0,{"$f":"SUM(J17:J31)","v":0},{"$f":"SUM(K17:K31)","v":0},0,0,0,0,{"$f":"SUM(P17:P31)","v":0},{"$f":"SUM(Q17:Q31)","v":0},0,0,0,0,{"$f":"SUM(V17:V31)","v":0},{"$f":"SUM(W17:W31)","v":0},0,0,0,0,{"$f":"SUM(AB17:AB31)","v":0},{"$f":"SUM(AC17:AC31)","v":0},0,0,0,0,{"$f":"SUM(AH17:AH31)","v":0}]
["Total Before and After Reinsurance",3.1,"Total Dental Services Paid Directly FFS",{"$f":"SUM(D17:D28)","v":0},{"$f":"SUM(E17:E28)","v":0},{"$f":"SUM(F17:F28)","v":0},0,0,{"$f":"SUM(I17:I28)","v":0},{"$f":"SUM(J17:J28)","v":0},{"$f":"SUM(K17:K28)","v":0},0,0,0,{"$f":"SUM(O17:O28)","v":0},{"$f":"SUM(P17:P28)","v":0},{"$f":"SUM(Q17:Q28)","v":0},0,0,0,{"$f":"SUM(U17:U28)","v":0},{"$f":"SUM(V17:V28)","v":0},{"$f":"SUM(W17:W28)","v":0},0,0,0,{"$f":"SUM(AA17:AA28)","v":0},{"$f":"SUM(AB17:AB28)","v":0},{"$f":"SUM(AD33:AH33)+AB33","v":0},{"$f":"W33+Q33+K33+E33","v":0},0,0,0,0]
[null,3.2,"Total Dental Services Paid through Subcapitation",{"$f":"D29","v":0},0,{"$f":"F29","v":0},0,0,0,{"$f":"J29","v":0},0,{"$f":"L29","v":0},0,0,0,{"$f":"P29","v":0},0,{"$f":"R29","v":0},0,0,0,{"$f":"V29","v":0},0,{"$f":"X29","v":0},0,0,0,0,0,{"$f":"W34+Q34+K34+E34","v":0},0,0,0,0]
[null,3.3,"Total Dental Services Paid Directly -- IBNP",0,0,{"$f":"F30","v":0},0,0,0,0,0,{"$f":"L30","v":0},0,0,0,0,0,{"$f":"R30","v":0},0,0,0,0,0,{"$f":"X30","v":0},0,0,0,0,0,0,0,0,{"$f":"Z35+T35+N35+H35","v":0},0]
[null,"3.4","Total Dental Services Paid by Settlements/AP",0,0,0,0,0,0,0,0,0,0,0,0,0,0,0,0,0,0,0,0,0,0,0,0,0,0,{"$f":"W36+Q36+K36+E36","v":0},0,0,0,{"$f":"AA36+U36+O36+I36","v":0}]
[null,"3.5","TPL & Fraud/Abuse Recoveries",{"$f":"SUM(E37:I37)","v":0},{"$nulls":5},{"$f":"SUM(K37:O37)","v":0},{"$nulls":5},{"$f":"SUM(Q37:U37)","v":0},{"$nulls":5},{"$f":"SUM(W37:AA37)","v":0},{"$nulls":6},0,{"$f":"W37+Q37+K37+E37","v":0},0,0,0,{"$f":"AA37+U37+O37+I37","v":0}]
[null,3.6,"Premium Deficiency Reserve",{"$f":"SUM(E38:I38)","v":0},{"$nulls":5},{"$f":"SUM(K38:O38)","v":0},{"$nulls":5},{"$f":"SUM(Q38:U38)","v":0},{"$nulls":5},{"$f":"SUM(W38:AA38)","v":0},{"$nulls":6},0,{"$f":"W38+Q38+K38+E38","v":0},0,{"$f":"Y38+S38+M38+G38","v":0},0,{"$f":"AA38+U38+O38+I38","v":0}]
[null,"3.7","Subtotal Benefit Expense before Reinsurance",{"$f":"SUM(D33:D38)","v":0},{"$f":"SUM(E33:E38)","v":0},{"$f":"SUM(F33:F38)","v":0},0,0,{"$f":"SUM(I33:I38)","v":0},{"$f":"SUM(J33:J38)","v":0},{"$f":"SUM(K33:K38)","v":0},{"$f":"SUM(L33:L38)","v":0},0,0,{"$f":"SUM(O33:O38)","v":0},{"$f":"SUM(P33:P38)","v":0},{"$f":"SUM(Q33:Q38)","v":0},{"$f":"SUM(R33:R38)","v":0},0,0,{"$f":"SUM(U33:U38)","v":0},{"$f":"SUM(V33:V38)","v":0},{"$f":"SUM(W33:W38)","v":0},{"$f":"SUM(X33:X38)","v":0},0,0,{"$f":"SUM(AA33:AA38)","v":0},0,0,0,0,0,0,0]
[null,"3.8","Reinsurance Premiums",{"$f":"SUM(E40:I40)","v":0},{"$nulls":5},{"$f":"SUM(K40:O40)","v":0},{"$nulls":5},{"$f":"SUM(Q40:U40)","v":0},{"$nulls":5},{"$f":"SUM(W40:AA40)","v":0},{"$nulls":6},{"$f":"SUM(AD40:AH40)+AB40","v":0},{"$f":"W40+Q40+K40+E40","v":0},{"$f":"X40+R40+L40+F40","v":0},{"$f":"Y40+S40+M40+G40","v":0},0,0]
[null,"3.9","Reinsurance Recoveries",{"$f":"SUM(E41:I41)","v":0},{"$nulls":5},{"$f":"SUM(K41:O41)","v":0},{"$nulls":5},{"$f":"SUM(Q41:U41)","v":0},{"$nulls":5},{"$f":"SUM(W41:AA41)","v":0},{"$nulls":6},{"$f":"SUM(AD41:AH41)+AB41","v":0},{"$f":"W41+Q41+K41+E41","v":0},0,0,0,0]
[null,"3.10","Net cost of Reinsurance",{"$f":"SUM(D40:D41)","v":0},{"$f":"SUM(E40:E41)","v":0},{"$f":"SUM(F40:F41)","v":0},0,0,0,{"$f":"SUM(J40:J41)","v":0},{"$f":"SUM(K40:K41)","v":0},0,0,0,0,{"$f":"SUM(P40:P41)","v":0},{"$f":"SUM(Q40:Q41)","v":0},0,0,0,0,{"$f":"SUM(V40:V41)","v":0},{"$f":"SUM(W40:W41)","v":0},0,0,0,0,0,{"$f":"SUM(AC40:AC41)","v":0},{"$f":"SUM(AD40:AD41)","v":0},{"$f":"SUM(AE40:AE41)","v":0},0,{"$f":"SUM(AG40:AG41)","v":0},{"$f":"SUM(AH40:AH41)","v":0}]
[null,"3.11","Grand Total Medical Benefit Expense Net of Reinsurance",{"$f":"D39+D42","v":0},{"$f":"E39+E42","v":0},{"$f":"F39+F42","v":0},0,0,{"$f":"I39+I42","v":0},{"$f":"J39+J42","v":0},{"$f":"K39+K42","v":0},{"$f":"L39+L42","v":0},0,0,{"$f":"O39+O42","v":0},{"$f":"P39+P42","v":0},{"$f":"Q39+Q42","v":0},{"$f":"R39+R42","v":0},0,0,{"$f":"U39+U42","v":0},{"$f":"V39+V42","v":0},{"$f":"W39+W42","v":0},{"$f":"X39+X42","v":0},0,0,{"$f":"AA39+AA42","v":0},{"$f":"AB39+AB42","v":0},{"$f":"AC39+AC42","v":0},{"$f":"AD39+AD42","v":0},{"$f":"AE39+AE42","v":0},0,0,{"$f":"AH39+AH42","v":0}]
["Administrative Expenses, Government-Mandated Assessments, Taxes, and Fees ",null,null,"JANUARY - MARCH (Q1)",{"$nulls":5},"APRIL - JUNE (Q2)",{"$nulls":5},"JULY - SEPTEMBER (Q3)",{"$nulls":5},"OCTOBER - DECEMBER (Q4)",{"$nulls":6},"TOTAL (TO DATE)"]
[{"$nulls":3},"Total","Health Plan","Corporate",{"$nulls":3},"Total","Health Plan","Corporate",{"$nulls":3},"Total","Health Plan","Corporate",{"$nulls":3},"Total","Health Plan","Corporate",{"$nulls":3},"Prior Calendar Year Adjustments","Total","Health Plan","Corporate"]
["Administrative Expenses","4.1","Salaries & Benefits",{"$f":"SUM(E46:F46)","v":0},{"$nulls":5},{"$f":"SUM(K46:L46)","v":0},{"$nulls":5},{"$f":"SUM(Q46:R46)","v":0},{"$nulls":5},{"$f":"SUM(W46:X46)","v":0},{"$nulls":6},{"$f":"SUM(AD46:AE46)+AB46","v":0},{"$f":"W46+Q46+K46+E46","v":0},{"$f":"X46+R46+L46+F46","v":0}]
[null,"4.2","Administrative Services",{"$f":"SUM(E47:F47)","v":0},{"$nulls":5},{"$f":"SUM(K47:L47)","v":0},{"$nulls":5},{"$f":"SUM(Q47:R47)","v":0},{"$nulls":5},{"$f":"SUM(W47:X47)","v":0},{"$nulls":6},{"$f":"SUM(AD47:AE47)+AB47","v":0},{"$f":"W47+Q47+K47+E47","v":0},0]
[null,"4.3","Information Systems",0,{"$nulls":5},0,{"$nulls":5},0,{"$nulls":5},0,{"$nulls":6},{"$f":"SUM(AD48:AE48)+AB48","v":0},0,0]
[null,"4.4","Marketing Expenses",0,{"$nulls":5},0,{"$nulls":5},0,{"$nulls":5},0,{"$nulls":6},{"$f":"SUM(AD49:AE49)+AB49","v":0},0,0]
[null,"4.5","General  Administration",0,{"$nulls":5},0,{"$nulls":5},0,{"$nulls":5},0,{"$nulls":6},0,0,0]
[null,"4.6","Compliance/Regulatory",0,{"$nulls":5},0,{"$nulls":5},0,{"$nulls":5},0,{"$nulls":6},0,0,{"$f":"X51+R51+L51+F51","v":0}]
[null,"4.7","Total Administrative Expenses ",{"$f":"SUM(D46:D51)","v":0},{"$f":"SUM(E46:E51)","v":0},{"$f":"SUM(F46:F51)","v":0},{"$nulls":3},{"$f":"SUM(J46:J51)","v":0},{"$f":"SUM(K46:K51)","v":0},{"$f":"SUM(L46:L51)","v":0},{"$nulls":3},{"$f":"SUM(P46:P51)","v":0},{"$f":"SUM(Q46:Q51)","v":0},{"$f":"SUM(R46:R51)","v":0},{"$nulls":3},{"$f":"SUM(V46:V51)","v":0},{"$f":"SUM(W46:W51)","v":0},{"$f":"SUM(X46:X51)","v":0},{"$nulls":3},{"$f":"SUM(AB46:AB51)","v":0},{"$f":"SUM(AC46:AC51)","v":0},{"$f":"SUM(AD46:AD51)","v":0},{"$f":"SUM(AE46:AE51)","v":0}]
["Government-Mandated Assessments, Taxes, and Fees Other Than Income Taxes","5.1","State Premium tax",{"$nulls":25},{"$f":"D53+J53+P53+V53+AB53","v":0}]
[null,"5.2","Department of Insurance Assessments",{"$nulls":25},{"$f":"D54+J54+P54+V54+AB54","v":0}]
[null,"5.3","Section 9010 Health Insurance Providers Fee",{"$nulls":25},{"$f":"D55+J55+P55+V55+AB55","v":0}]
[null,"5.4","Other 1",{"$nulls":25},0]
[null,"5.5","Other 2",{"$nulls":25},0]
[null,"5.6","Other 3",{"$nulls":25},{"$f":"D58+J58+P58+V58+AB58","v":0}]
[null,"5.7","Total ",{"$f":"SUM(D53:D58)","v":0},{"$nulls":5},{"$f":"SUM(J53:J58)","v":0},{"$nulls":5},{"$f":"SUM(P53:P58)","v":0},{"$nulls":5},{"$f":"SUM(V53:V58)","v":0},{"$nulls":5},{"$f":"SUM(AB53:AB58)","v":0},{"$f":"SUM(AC53:AC58)","v":0}]
[null,"6.0","Grand Total Expenses",{"$f":"D43+D52+D59","v":0},{"$nulls":5},{"$f":"J43+J52+J59","v":0},{"$nulls":5},{"$f":"P43+P52+P59","v":0},{"$nulls":5},{"$f":"V43+V52+V59","v":0},{"$nulls":5},{"$f":"AB43+AB52+AB59","v":0},{"$f":"AC43+AC52+AC59","v":0}]
[null,"7.0","Underwriting Gain / (Loss)  --- AKA Pre-tax Earnings from Operations",{"$f":"D14-D60","v":0},{"$nulls":5},{"$f":"J14-J60","v":0},{"$nulls":5},{"$f":"P14-P60","v":0},{"$nulls":5},{"$f":"V14-V60","v":0},{"$nulls":5},{"$f":"AB14-AB60","v":0},{"$f":"AC14-AC60","v":0}]
[null,"8.0","Income Tax Expense",{"$nulls":25},{"$f":"AB62+V62+P62+J62+D62","v":0}]
[null,"9.0","Net Underwriting Gain (Loss)",{"$f":"D61-D62","v":0},{"$nulls":5},{"$f":"J61-J62","v":0},{"$nulls":5},{"$f":"P61-P62","v":0},{"$nulls":5},{"$f":"V61-V62","v":0},{"$nulls":5},{"$f":"AB61-AB62","v":0},{"$f":"AC61-AC62","v":0}]

{"sheet":"Dental Rev-Exp Region 10","index":15,"n_rows":63,"n_cols":34,"rows_kept":63,"merged":[[6,3,6,8],[6,9,6,14],[6,15,6,20],[6,21,6,26],[6,28,6,33],[9,0,9,2],[10,0,13,0],[14,0,15,2],[14,3,14,8],[14,9,14,14],[14,15,14,20],[14,21,14,26],[14,28,14,33],[16,0,31,0],[32,0,42,0],[43,0,44,2],[43,3,43,8],[43,9,43,14],[43,15,43,20],[43,21,43,26],[43,28,43,33],[45,0,51,0],[52,0,58,0]]}
["DENTAL -- REVENUE AND EXPENSE SCHEDULE - REGION 10"]
[]
["Health Plan:",null,{"$f":"'Dental Rev-Exp Summary'!C3","v":0}]
["Reporting Period:",null,{"$f":"IF('Dental Rev-Exp Summary'!C4=0,\"\",'Dental Rev-Exp Summary'!C4)","v":""}]
["Paid Through:",null,{"$f":"IF('Dental Rev-Exp Summary'!C5=0,\"\",'Dental Rev-Exp Summary'!C5)","v":""}]
["Region 10"]
[{"$nulls":3},"JANUARY - MARCH (Q1)",{"$nulls":5},"APRIL - JUNE (Q2)",{"$nulls":5},"JULY - SEPTEMBER (Q3)",{"$nulls":5},"OCTOBER - DECEMBER (Q4)",{"$nulls":6},"TOTAL (TO DATE)"]
[{"$nulls":3},"Total","Medicaid Only/Dual Eligible 0-20 Years","Medicaid Only 21+ Years","Dual Eligible 21+ Years","Medically Needy 0-20 Years","Medically Needy 21+ Years","Total","Medicaid Only/Dual Eligible 0-20 Years","Medicaid Only 21+ Years","Dual Eligible 21+ Years","Medically Needy 0-20 Years","Medically Needy 21+ Years","Total","Medicaid Only/Dual Eligible 0-20 Years","Medicaid Only 21+ Years","Dual Eligible 21+ Years","Medically Needy 0-20 Years","Medically Needy 21+ Years","Total","Medicaid Only/Dual Eligible 0-20 Years","Medicaid Only 21+ Years","Dual Eligible 21+ Years","Medically Needy 0-20 Years","Medically Needy 21+ Years","Prior Year Adjustments","Total","Medicaid Only/Dual Eligible 0-20 Years","Medicaid Only 21+ Years","Dual Eligible 21+ Years","Medically Needy 0-20 Years","Medically Needy 21+ Years"]
["MEMBER MONTHS",null,null,{"$f":"SUM(E9:I9)","v":0},{"$nulls":5},{"$f":"SUM(K9:O9)","v":0},{"$nulls":5},{"$f":"SUM(Q9:U9)","v":0},{"$nulls":5},{"$f":"SUM(W9:AA9)","v":0},{"$nulls":6},{"$f":"SUM(AD9:AH9)+AB9","v":0},{"$f":"W9+Q9+K9+E9","v":0},{"$f":"X9+R9+L9+F9","v":0},0,{"$f":"Z9+T9+N9+H9","v":0},{"$f":"AA9+U9+O9+I9","v":0}]
["REVENUES"]
["Revenues","1.1","Capitation",{"$f":"SUM(E11:I11)","v":0},{"$nulls":5},{"$f":"SUM(K11:O11)","v":0},{"$nulls":5},{"$f":"SUM(Q11:U11)","v":0},{"$nulls":5},{"$f":"SUM(W11:AA11)","v":0},{"$nulls":6},{"$f":"SUM(AD11:AH11)+AB11","v":0},{"$f":"W11+Q11+K11+E11","v":0},{"$f":"X11+R11+L11+F11","v":0},0,0,{"$f":"AA11+U11+O11+I11","v":0}]
[null,"1.2","ACA § 9010 related payments",{"$f":"SUM(E12:I12)","v":0},{"$nulls":5},{"$f":"SUM(K12:O12)","v":0},{"$nulls":5},{"$f":"SUM(Q12:U12)","v":0},{"$nulls":5},{"$f":"SUM(W12:AA12)","v":0},{"$nulls":6},{"$f":"SUM(AD12:AH12)+AB12","v":0},{"$f":"W12+Q12+K12+E12","v":0},0,{"$f":"Y12+S12+M12+G12","v":0},0,{"$f":"AA12+U12+O12+I12","v":0}]
[null,"1.3","Other Revenue",0,{"$nulls":5},0,{"$nulls":5},0,{"$nulls":5},0,{"$nulls":6},{"$f":"SUM(AD13:AH13)+AB13","v":0},{"$f":"W13+Q13+K13+E13","v":0},{"$f":"X13+R13+L13+F13","v":0},{"$f":"Y13+S13+M13+G13","v":0},{"$f":"Z13+T13+N13+H13","v":0},{"$f":"AA13+U13+O13+I13","v":0}]
[null,"1.4","Total Revenue",{"$f":"SUM(D11:D13)","v":0},{"$f":"SUM(E11:E13)","v":0},0,{"$f":"SUM(G11:G13)","v":0},0,0,{"$f":"SUM(J11:J13)","v":0},{"$f":"SUM(K11:K13)","v":0},0,0,0,0,{"$f":"SUM(P11:P13)","v":0},{"$f":"SUM(Q11:Q13)","v":0},0,0,0,0,{"$f":"SUM(V11:V13)","v":0},{"$f":"SUM(W11:W13)","v":0},0,0,0,0,{"$f":"SUM(AB11:AB13)","v":0},{"$f":"SUM(AC11:AC13)","v":0},{"$f":"SUM(AD11:AD13)","v":0},{"$f":"SUM(AE11:AE13)","v":0},{"$f":"SUM(AF11:AF13)","v":0},{"$f":"SUM(AG11:AG13)","v":0},0]
["BENEFIT EXPENSES",null,null,"JANUARY - MARCH (Q1)",{"$nulls":5},"APRIL - JUNE (Q2)",{"$nulls":5},"JULY - SEPTEMBER (Q3)",{"$nulls":5},"OCTOBER - DECEMBER (Q4)",{"$nulls":6},"TOTAL (TO DATE)"]
[{"$nulls":3},"Total","Medicaid Only/Dual Eligible 0-20 Years","Medicaid Only 21+ Years","Dual Eligible 21+ Years","Medically Needy 0-20 Years","Medically Needy 21+ Years","Total","Medicaid Only/Dual Eligible 0-20 Years","Medicaid Only 21+ Years","Dual Eligible 21+ Years","Medically Needy 0-20 Years","Medically Needy 21+ Years","Total","Medicaid Only/Dual Eligible 0-20 Years","Medicaid Only 21+ Years","Dual Eligible 21+ Years","Medically Needy 0-20 Years","Medically Needy 21+ Years","Total","Medicaid Only/Dual Eligible 0-20 Years","Medicaid Only 21+ Years","Dual Eligible 21+ Years","Medically Needy 0-20 Years","Medically Needy 21+ Years","Prior Year Adjustments","Total","Medicaid Only/Dual Eligible 0-20 Years","Medicaid Only 21+ Years","Dual Eligible 21+ Years","Medically Needy 0-20 Years","Medically Needy 21+ Years"]
["Dental","2.1","Dental Services Diagnostic FFS",{"$f":"SUM(E17:I17)","v":0},{"$nulls":5},{"$f":"SUM(K17:O17)","v":0},{"$nulls":5},{"$f":"SUM(Q17:U17)","v":0},{"$nulls":5},{"$f":"SUM(W17:AA17)","v":0},{"$nulls":6},{"$f":"SUM(AD17:AH17)+AB17","v":0},{"$f":"W17+Q17+K17+E17","v":0},{"$f":"X17+R17+L17+F17","v":0},0,0,0]
[null,2.2,"Dental Services Preventive FFS",{"$f":"SUM(E18:I18)","v":0},{"$nulls":5},{"$f":"SUM(K18:O18)","v":0},{"$nulls":5},{"$f":"SUM(Q18:U18)","v":0},{"$nulls":5},{"$f":"SUM(W18:AA18)","v":0},{"$nulls":6},{"$f":"SUM(AD18:AH18)+AB18","v":0},{"$f":"W18+Q18+K18+E18","v":0},0,{"$f":"Y18+S18+M18+G18","v":0},0,{"$f":"AA18+U18+O18+I18","v":0}]
[null,"2.3","Dental Services Restorative FFS",0,{"$nulls":5},0,{"$nulls":5},0,{"$nulls":5},0,{"$nulls":6},{"$f":"SUM(AD19:AH19)+AB19","v":0},{"$f":"W19+Q19+K19+E19","v":0},0,0,0,0]
[null,"2.4","Dental Services Endodontics FFS",0,{"$nulls":5},0,{"$nulls":5},0,{"$nulls":5},0,{"$nulls":6},0,0,0,0,0,0]
[null,"2.5","Dental Services Periodontics FFS",0,{"$nulls":5},0,{"$nulls":5},0,{"$nulls":5},0,{"$nulls":6},0,0,0,0,0,0]
[null,"2.6","Dental Services Prosthodontics FFS",0,{"$nulls":5},0,{"$nulls":5},0,{"$nulls":5},0,{"$nulls":6},0,0,0,0,0,0]
[null,"2.7","Dental Services Prosthodontics, fixed FFS",0,{"$nulls":5},0,{"$nulls":5},0,{"$nulls":5},0,{"$nulls":6},0,0,0,0,0,0]
[null,"2.8","Dental Services Oral and Maxillofacial Surgery FFS",0,{"$nulls":5},0,{"$nulls":5},0,{"$nulls":5},0,{"$nulls":6},0,0,0,0,0,0]
[null,"2.9","Dental Services Orthodontics FFS",0,{"$nulls":5},0,{"$nulls":5},0,{"$nulls":5},0,{"$nulls":6},0,0,0,0,0,0]
[null,"2.10","Dental Services Adjunctive General Services FFS",0,{"$nulls":5},0,{"$nulls":5},0,{"$nulls":5},0,{"$nulls":6},{"$f":"SUM(AD26:AH26)+AB26","v":0},{"$f":"W26+Q26+K26+E26","v":0},0,0,0,0]
[null,"2.11","Dental Services Other FFS",0,{"$nulls":5},0,{"$nulls":5},0,{"$nulls":5},0,{"$nulls":6},0,0,0,0,0,0]
[null,"2.12","Dental Expanded Benefits FFS",0,{"$nulls":5},0,{"$nulls":5},0,{"$nulls":5},0,{"$nulls":6},{"$f":"SUM(AD28:AH28)+AB28","v":0},0,0,0,0,{"$f":"AA28+U28+O28+I28","v":0}]
[null,"2.13","Dental Services Paid through Subcapitation",{"$f":"SUM(E29:I29)","v":0},{"$nulls":5},{"$f":"SUM(K29:O29)","v":0},{"$nulls":5},{"$f":"SUM(Q29:U29)","v":0},{"$nulls":5},{"$f":"SUM(W29:AA29)","v":0},{"$nulls":6},{"$f":"SUM(AD29:AH29)+AB29","v":0},0,0,0,0,0]
[null,"2.14","Ending IBNP for Dental Services",0,{"$nulls":5},{"$f":"SUM(K30:O30)","v":0},{"$nulls":5},{"$f":"SUM(Q30:U30)","v":0},{"$nulls":5},{"$f":"SUM(W30:AA30)","v":0},{"$nulls":6},0,0,0,0,0,{"$f":"AA30+U30+O30+I30","v":0}]
[null,"2.15","Dental Settlements/AP",0,{"$nulls":5},0,{"$nulls":5},0,{"$nulls":5},0,{"$nulls":6},{"$f":"SUM(AD31:AH31)+AB31","v":0},0,0,0,0,0]
[null,2.16,"Total Dental Services",{"$f":"SUM(D17:D31)","v":0},{"$f":"SUM(E17:E31)","v":0},0,0,0,0,{"$f":"SUM(J17:J31)","v":0},{"$f":"SUM(K17:K31)","v":0},0,0,0,0,{"$f":"SUM(P17:P31)","v":0},{"$f":"SUM(Q17:Q31)","v":0},0,0,0,0,{"$f":"SUM(V17:V31)","v":0},{"$f":"SUM(W17:W31)","v":0},0,0,0,0,{"$f":"SUM(AB17:AB31)","v":0},{"$f":"SUM(AC17:AC31)","v":0},0,0,0,0,{"$f":"SUM(AH17:AH31)","v":0}]
["Total Before and After Reinsurance",3.1,"Total Dental Services Paid Directly FFS",{"$f":"SUM(D17:D28)","v":0},{"$f":"SUM(E17:E28)","v":0},{"$f":"SUM(F17:F28)","v":0},0,0,{"$f":"SUM(I17:I28)","v":0},{"$f":"SUM(J17:J28)","v":0},{"$f":"SUM(K17:K28)","v":0},0,0,0,{"$f":"SUM(O17:O28)","v":0},{"$f":"SUM(P17:P28)","v":0},{"$f":"SUM(Q17:Q28)","v":0},0,0,0,{"$f":"SUM(U17:U28)","v":0},{"$f":"SUM(V17:V28)","v":0},{"$f":"SUM(W17:W28)","v":0},0,0,0,{"$f":"SUM(AA17:AA28)","v":0},{"$f":"SUM(AB17:AB28)","v":0},{"$f":"SUM(AD33:AH33)+AB33","v":0},{"$f":"W33+Q33+K33+E33","v":0},0,0,0,0]
[null,3.2,"Total Dental Services Paid through Subcapitation",{"$f":"D29","v":0},0,{"$f":"F29","v":0},0,0,0,{"$f":"J29","v":0},0,{"$f":"L29","v":0},0,0,0,{"$f":"P29","v":0},0,{"$f":"R29","v":0},0,0,0,{"$f":"V29","v":0},0,{"$f":"X29","v":0},0,0,0,0,0,{"$f":"W34+Q34+K34+E34","v":0},0,0,0,0]
[null,3.3,"Total Dental Services Paid Directly -- IBNP",0,0,{"$f":"F30","v":0},0,0,0,0,0,{"$f":"L30","v":0},0,0,0,0,0,{"$f":"R30","v":0},0,0,0,0,0,{"$f":"X30","v":0},0,0,0,0,0,0,0,0,{"$f":"Z35+T35+N35+H35","v":0},0]
[null,"3.4","Total Dental Services Paid by Settlements/AP",0,0,0,0,0,0,0,0,0,0,0,0,0,0,0,0,0,0,0,0,0,0,0,0,0,0,{"$f":"W36+Q36+K36+E36","v":0},0,0,0,{"$f":"AA36+U36+O36+I36","v":0}]
[null,"3.5","TPL & Fraud/Abuse Recoveries",{"$f":"SUM(E37:I37)","v":0},{"$nulls":5},{"$f":"SUM(K37:O37)","v":0},{"$nulls":5},{"$f":"SUM(Q37:U37)","v":0},{"$nulls":5},{"$f":"SUM(W37:AA37)","v":0},{"$nulls":6},0,{"$f":"W37+Q37+K37+E37","v":0},0,0,0,{"$f":"AA37+U37+O37+I37","v":0}]
[null,3.6,"Premium Deficiency Reserve",{"$f":"SUM(E38:I38)","v":0},{"$nulls":5},{"$f":"SUM(K38:O38)","v":0},{"$nulls":5},{"$f":"SUM(Q38:U38)","v":0},{"$nulls":5},{"$f":"SUM(W38:AA38)","v":0},{"$nulls":6},0,{"$f":"W38+Q38+K38+E38","v":0},0,{"$f":"Y38+S38+M38+G38","v":0},0,{"$f":"AA38+U38+O38+I38","v":0}]
[null,"3.7","Subtotal Benefit Expense before Reinsurance",{"$f":"SUM(D33:D38)","v":0},{"$f":"SUM(E33:E38)","v":0},{"$f":"SUM(F33:F38)","v":0},0,0,{"$f":"SUM(I33:I38)","v":0},{"$f":"SUM(J33:J38)","v":0},{"$f":"SUM(K33:K38)","v":0},{"$f":"SUM(L33:L38)","v":0},0,0,{"$f":"SUM(O33:O38)","v":0},{"$f":"SUM(P33:P38)","v":0},{"$f":"SUM(Q33:Q38)","v":0},{"$f":"SUM(R33:R38)","v":0},0,0,{"$f":"SUM(U33:U38)","v":0},{"$f":"SUM(V33:V38)","v":0},{"$f":"SUM(W33:W38)","v":0},{"$f":"SUM(X33:X38)","v":0},0,0,{"$f":"SUM(AA33:AA38)","v":0},0,0,0,0,0,0,0]
[null,"3.8","Reinsurance Premiums",{"$f":"SUM(E40:I40)","v":0},{"$nulls":5},{"$f":"SUM(K40:O40)","v":0},{"$nulls":5},{"$f":"SUM(Q40:U40)","v":0},{"$nulls":5},{"$f":"SUM(W40:AA40)","v":0},{"$nulls":6},{"$f":"SUM(AD40:AH40)+AB40","v":0},{"$f":"W40+Q40+K40+E40","v":0},{"$f":"X40+R40+L40+F40","v":0},{"$f":"Y40+S40+M40+G40","v":0},0,0]
[null,"3.9","Reinsurance Recoveries",{"$f":"SUM(E41:I41)","v":0},{"$nulls":5},{"$f":"SUM(K41:O41)","v":0},{"$nulls":5},{"$f":"SUM(Q41:U41)","v":0},{"$nulls":5},{"$f":"SUM(W41:AA41)","v":0},{"$nulls":6},{"$f":"SUM(AD41:AH41)+AB41","v":0},{"$f":"W41+Q41+K41+E41","v":0},0,0,0,0]
[null,"3.10","Net cost of Reinsurance",{"$f":"SUM(D40:D41)","v":0},{"$f":"SUM(E40:E41)","v":0},{"$f":"SUM(F40:F41)","v":0},0,0,0,{"$f":"SUM(J40:J41)","v":0},{"$f":"SUM(K40:K41)","v":0},0,0,0,0,{"$f":"SUM(P40:P41)","v":0},{"$f":"SUM(Q40:Q41)","v":0},0,0,0,0,{"$f":"SUM(V40:V41)","v":0},{"$f":"SUM(W40:W41)","v":0},0,0,0,0,0,{"$f":"SUM(AC40:AC41)","v":0},{"$f":"SUM(AD40:AD41)","v":0},{"$f":"SUM(AE40:AE41)","v":0},0,{"$f":"SUM(AG40:AG41)","v":0},{"$f":"SUM(AH40:AH41)","v":0}]
[null,"3.11","Grand Total Medical Benefit Expense Net of Reinsurance",{"$f":"D39+D42","v":0},{"$f":"E39+E42","v":0},{"$f":"F39+F42","v":0},0,0,{"$f":"I39+I42","v":0},{"$f":"J39+J42","v":0},{"$f":"K39+K42","v":0},{"$f":"L39+L42","v":0},0,0,{"$f":"O39+O42","v":0},{"$f":"P39+P42","v":0},{"$f":"Q39+Q42","v":0},{"$f":"R39+R42","v":0},0,0,{"$f":"U39+U42","v":0},{"$f":"V39+V42","v":0},{"$f":"W39+W42","v":0},{"$f":"X39+X42","v":0},0,0,{"$f":"AA39+AA42","v":0},{"$f":"AB39+AB42","v":0},{"$f":"AC39+AC42","v":0},{"$f":"AD39+AD42","v":0},{"$f":"AE39+AE42","v":0},0,0,{"$f":"AH39+AH42","v":0}]
["Administrative Expenses, Government-Mandated Assessments, Taxes, and Fees ",null,null,"JANUARY - MARCH (Q1)",{"$nulls":5},"APRIL - JUNE (Q2)",{"$nulls":5},"JULY - SEPTEMBER (Q3)",{"$nulls":5},"OCTOBER - DECEMBER (Q4)",{"$nulls":6},"TOTAL (TO DATE)"]
[{"$nulls":3},"Total","Health Plan","Corporate",{"$nulls":3},"Total","Health Plan","Corporate",{"$nulls":3},"Total","Health Plan","Corporate",{"$nulls":3},"Total","Health Plan","Corporate",{"$nulls":3},"Prior Calendar Year Adjustments","Total","Health Plan","Corporate"]
["Administrative Expenses","4.1","Salaries & Benefits",{"$f":"SUM(E46:F46)","v":0},{"$nulls":5},{"$f":"SUM(K46:L46)","v":0},{"$nulls":5},{"$f":"SUM(Q46:R46)","v":0},{"$nulls":5},{"$f":"SUM(W46:X46)","v":0},{"$nulls":6},{"$f":"SUM(AD46:AE46)+AB46","v":0},{"$f":"W46+Q46+K46+E46","v":0},{"$f":"X46+R46+L46+F46","v":0}]
[null,"4.2","Administrative Services",{"$f":"SUM(E47:F47)","v":0},{"$nulls":5},{"$f":"SUM(K47:L47)","v":0},{"$nulls":5},{"$f":"SUM(Q47:R47)","v":0},{"$nulls":5},{"$f":"SUM(W47:X47)","v":0},{"$nulls":6},{"$f":"SUM(AD47:AE47)+AB47","v":0},{"$f":"W47+Q47+K47+E47","v":0},0]
[null,"4.3","Information Systems",0,{"$nulls":5},0,{"$nulls":5},0,{"$nulls":5},0,{"$nulls":6},{"$f":"SUM(AD48:AE48)+AB48","v":0},0,0]
[null,"4.4","Marketing Expenses",0,{"$nulls":5},0,{"$nulls":5},0,{"$nulls":5},0,{"$nulls":6},{"$f":"SUM(AD49:AE49)+AB49","v":0},0,0]
[null,"4.5","General  Administration",0,{"$nulls":5},0,{"$nulls":5},0,{"$nulls":5},0,{"$nulls":6},0,0,0]
[null,"4.6","Compliance/Regulatory",0,{"$nulls":5},0,{"$nulls":5},0,{"$nulls":5},0,{"$nulls":6},0,0,{"$f":"X51+R51+L51+F51","v":0}]
[null,"4.7","Total Administrative Expenses ",{"$f":"SUM(D46:D51)","v":0},{"$f":"SUM(E46:E51)","v":0},{"$f":"SUM(F46:F51)","v":0},{"$nulls":3},{"$f":"SUM(J46:J51)","v":0},{"$f":"SUM(K46:K51)","v":0},{"$f":"SUM(L46:L51)","v":0},{"$nulls":3},{"$f":"SUM(P46:P51)","v":0},{"$f":"SUM(Q46:Q51)","v":0},{"$f":"SUM(R46:R51)","v":0},{"$nulls":3},{"$f":"SUM(V46:V51)","v":0},{"$f":"SUM(W46:W51)","v":0},{"$f":"SUM(X46:X51)","v":0},{"$nulls":3},{"$f":"SUM(AB46:AB51)","v":0},{"$f":"SUM(AC46:AC51)","v":0},{"$f":"SUM(AD46:AD51)","v":0},{"$f":"SUM(AE46:AE51)","v":0}]
["Government-Mandated Assessments, Taxes, and Fees Other Than Income Taxes","5.1","State Premium tax",{"$nulls":25},{"$f":"D53+J53+P53+V53+AB53","v":0}]
[null,"5.2","Department of Insurance Assessments",{"$nulls":25},{"$f":"D54+J54+P54+V54+AB54","v":0}]
[null,"5.3","Section 9010 Health Insurance Providers Fee",{"$nulls":25},{"$f":"D55+J55+P55+V55+AB55","v":0}]
[null,"5.4","Other 1",{"$nulls":25},0]
[null,"5.5","Other 2",{"$nulls":25},0]
[null,"5.6","Other 3",{"$nulls":25},{"$f":"D58+J58+P58+V58+AB58","v":0}]
[null,"5.7","Total ",{"$f":"SUM(D53:D58)","v":0},{"$nulls":5},{"$f":"SUM(J53:J58)","v":0},{"$nulls":5},{"$f":"SUM(P53:P58)","v":0},{"$nulls":5},{"$f":"SUM(V53:V58)","v":0},{"$nulls":5},{"$f":"SUM(AB53:AB58)","v":0},{"$f":"SUM(AC53:AC58)","v":0}]
[null,"6.0","Grand Total Expenses",{"$f":"D43+D52+D59","v":0},{"$nulls":5},{"$f":"J43+J52+J59","v":0},{"$nulls":5},{"$f":"P43+P52+P59","v":0},{"$nulls":5},{"$f":"V43+V52+V59","v":0},{"$nulls":5},{"$f":"AB43+AB52+AB59","v":0},{"$f":"AC43+AC52+AC59","v":0}]
[null,"7.0","Underwriting Gain / (Loss)  --- AKA Pre-tax Earnings from Operations",{"$f":"D14-D60","v":0},{"$nulls":5},{"$f":"J14-J60","v":0},{"$nulls":5},{"$f":"P14-P60","v":0},{"$nulls":5},{"$f":"V14-V60","v":0},{"$nulls":5},{"$f":"AB14-AB60","v":0},{"$f":"AC14-AC60","v":0}]
[null,"8.0","Income Tax Expense",{"$nulls":25},{"$f":"AB62+V62+P62+J62+D62","v":0}]
[null,"9.0","Net Underwriting Gain (Loss)",{"$f":"D61-D62","v":0},{"$nulls":5},{"$f":"J61-J62","v":0},{"$nulls":5},{"$f":"P61-P62","v":0},{"$nulls":5},{"$f":"V61-V62","v":0},{"$nulls":5},{"$f":"AB61-AB62","v":0},{"$f":"AC61-AC62","v":0}]

{"sheet":"Dental Rev-Exp Region 11","index":16,"n_rows":63,"n_cols":34,"rows_kept":63,"merged":[[6,3,6,8],[6,9,6,14],[6,15,6,20],[6,21,6,26],[6,28,6,33],[9,0,9,2],[10,0,13,0],[14,0,15,2],[14,3,14,8],[14,9,14,14],[14,15,14,20],[14,21,14,26],[14,28,14,33],[16,0,31,0],[32,0,42,0],[43,0,44,2],[43,3,43,8],[43,9,43,14],[43,15,43,20],[43,21,43,26],[43,28,43,33],[45,0,51,0],[52,0,58,0]]}
["DENTAL -- REVENUE AND EXPENSE SCHEDULE - REGION 11"]
[]
["Health Plan:",null,{"$f":"'Dental Rev-Exp Summary'!C3","v":0}]
["Reporting Period:",null,{"$f":"IF('Dental Rev-Exp Summary'!C4=0,\"\",'Dental Rev-Exp Summary'!C4)","v":""}]
["Paid Through:",null,{"$f":"IF('Dental Rev-Exp Summary'!C5=0,\"\",'Dental Rev-Exp Summary'!C5)","v":""}]
["Region 11"]
[{"$nulls":3},"JANUARY - MARCH (Q1)",{"$nulls":5},"APRIL - JUNE (Q2)",{"$nulls":5},"JULY - SEPTEMBER (Q3)",{"$nulls":5},"OCTOBER - DECEMBER (Q4)",{"$nulls":6},"TOTAL (TO DATE)"]
[{"$nulls":3},"Total","Medicaid Only/Dual Eligible 0-20 Years","Medicaid Only 21+ Years","Dual Eligible 21+ Years","Medically Needy 0-20 Years","Medically Needy 21+ Years","Total","Medicaid Only/Dual Eligible 0-20 Years","Medicaid Only 21+ Years","Dual Eligible 21+ Years","Medically Needy 0-20 Years","Medically Needy 21+ Years","Total","Medicaid Only/Dual Eligible 0-20 Years","Medicaid Only 21+ Years","Dual Eligible 21+ Years","Medically Needy 0-20 Years","Medically Needy 21+ Years","Total","Medicaid Only/Dual Eligible 0-20 Years","Medicaid Only 21+ Years","Dual Eligible 21+ Years","Medically Needy 0-20 Years","Medically Needy 21+ Years","Prior Year Adjustments","Total","Medicaid Only/Dual Eligible 0-20 Years","Medicaid Only 21+ Years","Dual Eligible 21+ Years","Medically Needy 0-20 Years","Medically Needy 21+ Years"]
["MEMBER MONTHS",null,null,{"$f":"SUM(E9:I9)","v":0},{"$nulls":5},{"$f":"SUM(K9:O9)","v":0},{"$nulls":5},{"$f":"SUM(Q9:U9)","v":0},{"$nulls":5},{"$f":"SUM(W9:AA9)","v":0},{"$nulls":6},{"$f":"SUM(AD9:AH9)+AB9","v":0},{"$f":"W9+Q9+K9+E9","v":0},{"$f":"X9+R9+L9+F9","v":0},0,{"$f":"Z9+T9+N9+H9","v":0},{"$f":"AA9+U9+O9+I9","v":0}]
["REVENUES"]
["Revenues","1.1","Capitation",{"$f":"SUM(E11:I11)","v":0},{"$nulls":5},{"$f":"SUM(K11:O11)","v":0},{"$nulls":5},{"$f":"SUM(Q11:U11)","v":0},{"$nulls":5},{"$f":"SUM(W11:AA11)","v":0},{"$nulls":6},{"$f":"SUM(AD11:AH11)+AB11","v":0},{"$f":"W11+Q11+K11+E11","v":0},{"$f":"X11+R11+L11+F11","v":0},0,0,{"$f":"AA11+U11+O11+I11","v":0}]
[null,"1.2","ACA § 9010 related payments",{"$f":"SUM(E12:I12)","v":0},{"$nulls":5},{"$f":"SUM(K12:O12)","v":0},{"$nulls":5},{"$f":"SUM(Q12:U12)","v":0},{"$nulls":5},{"$f":"SUM(W12:AA12)","v":0},{"$nulls":6},{"$f":"SUM(AD12:AH12)+AB12","v":0},{"$f":"W12+Q12+K12+E12","v":0},0,{"$f":"Y12+S12+M12+G12","v":0},0,{"$f":"AA12+U12+O12+I12","v":0}]
[null,"1.3","Other Revenue",0,{"$nulls":5},0,{"$nulls":5},0,{"$nulls":5},0,{"$nulls":6},{"$f":"SUM(AD13:AH13)+AB13","v":0},{"$f":"W13+Q13+K13+E13","v":0},{"$f":"X13+R13+L13+F13","v":0},{"$f":"Y13+S13+M13+G13","v":0},{"$f":"Z13+T13+N13+H13","v":0},{"$f":"AA13+U13+O13+I13","v":0}]
[null,"1.4","Total Revenue",{"$f":"SUM(D11:D13)","v":0},{"$f":"SUM(E11:E13)","v":0},0,{"$f":"SUM(G11:G13)","v":0},0,0,{"$f":"SUM(J11:J13)","v":0},{"$f":"SUM(K11:K13)","v":0},0,0,0,0,{"$f":"SUM(P11:P13)","v":0},{"$f":"SUM(Q11:Q13)","v":0},0,0,0,0,{"$f":"SUM(V11:V13)","v":0},{"$f":"SUM(W11:W13)","v":0},0,0,0,0,{"$f":"SUM(AB11:AB13)","v":0},{"$f":"SUM(AC11:AC13)","v":0},{"$f":"SUM(AD11:AD13)","v":0},{"$f":"SUM(AE11:AE13)","v":0},{"$f":"SUM(AF11:AF13)","v":0},{"$f":"SUM(AG11:AG13)","v":0},0]
["BENEFIT EXPENSES",null,null,"JANUARY - MARCH (Q1)",{"$nulls":5},"APRIL - JUNE (Q2)",{"$nulls":5},"JULY - SEPTEMBER (Q3)",{"$nulls":5},"OCTOBER - DECEMBER (Q4)",{"$nulls":6},"TOTAL (TO DATE)"]
[{"$nulls":3},"Total","Medicaid Only/Dual Eligible 0-20 Years","Medicaid Only 21+ Years","Dual Eligible 21+ Years","Medically Needy 0-20 Years","Medically Needy 21+ Years","Total","Medicaid Only/Dual Eligible 0-20 Years","Medicaid Only 21+ Years","Dual Eligible 21+ Years","Medically Needy 0-20 Years","Medically Needy 21+ Years","Total","Medicaid Only/Dual Eligible 0-20 Years","Medicaid Only 21+ Years","Dual Eligible 21+ Years","Medically Needy 0-20 Years","Medically Needy 21+ Years","Total","Medicaid Only/Dual Eligible 0-20 Years","Medicaid Only 21+ Years","Dual Eligible 21+ Years","Medically Needy 0-20 Years","Medically Needy 21+ Years","Prior Year Adjustments","Total","Medicaid Only/Dual Eligible 0-20 Years","Medicaid Only 21+ Years","Dual Eligible 21+ Years","Medically Needy 0-20 Years","Medically Needy 21+ Years"]
["Dental","2.1","Dental Services Diagnostic FFS",{"$f":"SUM(E17:I17)","v":0},{"$nulls":5},{"$f":"SUM(K17:O17)","v":0},{"$nulls":5},{"$f":"SUM(Q17:U17)","v":0},{"$nulls":5},{"$f":"SUM(W17:AA17)","v":0},{"$nulls":6},{"$f":"SUM(AD17:AH17)+AB17","v":0},{"$f":"W17+Q17+K17+E17","v":0},{"$f":"X17+R17+L17+F17","v":0},0,0,0]
[null,2.2,"Dental Services Preventive FFS",{"$f":"SUM(E18:I18)","v":0},{"$nulls":5},{"$f":"SUM(K18:O18)","v":0},{"$nulls":5},{"$f":"SUM(Q18:U18)","v":0},{"$nulls":5},{"$f":"SUM(W18:AA18)","v":0},{"$nulls":6},{"$f":"SUM(AD18:AH18)+AB18","v":0},{"$f":"W18+Q18+K18+E18","v":0},0,{"$f":"Y18+S18+M18+G18","v":0},0,{"$f":"AA18+U18+O18+I18","v":0}]
[null,"2.3","Dental Services Restorative FFS",0,{"$nulls":5},0,{"$nulls":5},0,{"$nulls":5},0,{"$nulls":6},{"$f":"SUM(AD19:AH19)+AB19","v":0},{"$f":"W19+Q19+K19+E19","v":0},0,0,0,0]
[null,"2.4","Dental Services Endodontics FFS",0,{"$nulls":5},0,{"$nulls":5},0,{"$nulls":5},0,{"$nulls":6},0,0,0,0,0,0]
[null,"2.5","Dental Services Periodontics FFS",0,{"$nulls":5},0,{"$nulls":5},0,{"$nulls":5},0,{"$nulls":6},0,0,0,0,0,0]
[null,"2.6","Dental Services Prosthodontics FFS",0,{"$nulls":5},0,{"$nulls":5},0,{"$nulls":5},0,{"$nulls":6},0,0,0,0,0,0]
[null,"2.7","Dental Services Prosthodontics, fixed FFS",0,{"$nulls":5},0,{"$nulls":5},0,{"$nulls":5},0,{"$nulls":6},0,0,0,0,0,0]
[null,"2.8","Dental Services Oral and Maxillofacial Surgery FFS",0,{"$nulls":5},0,{"$nulls":5},0,{"$nulls":5},0,{"$nulls":6},0,0,0,0,0,0]
[null,"2.9","Dental Services Orthodontics FFS",0,{"$nulls":5},0,{"$nulls":5},0,{"$nulls":5},0,{"$nulls":6},0,0,0,0,0,0]
[null,"2.10","Dental Services Adjunctive General Services FFS",0,{"$nulls":5},0,{"$nulls":5},0,{"$nulls":5},0,{"$nulls":6},{"$f":"SUM(AD26:AH26)+AB26","v":0},{"$f":"W26+Q26+K26+E26","v":0},0,0,0,0]
[null,"2.11","Dental Services Other FFS",0,{"$nulls":5},0,{"$nulls":5},0,{"$nulls":5},0,{"$nulls":6},0,0,0,0,0,0]
[null,"2.12","Dental Expanded Benefits FFS",0,{"$nulls":5},0,{"$nulls":5},0,{"$nulls":5},0,{"$nulls":6},{"$f":"SUM(AD28:AH28)+AB28","v":0},0,0,0,0,{"$f":"AA28+U28+O28+I28","v":0}]
[null,"2.13","Dental Services Paid through Subcapitation",{"$f":"SUM(E29:I29)","v":0},{"$nulls":5},{"$f":"SUM(K29:O29)","v":0},{"$nulls":5},{"$f":"SUM(Q29:U29)","v":0},{"$nulls":5},{"$f":"SUM(W29:AA29)","v":0},{"$nulls":6},{"$f":"SUM(AD29:AH29)+AB29","v":0},0,0,0,0,0]
[null,"2.14","Ending IBNP for Dental Services",0,{"$nulls":5},{"$f":"SUM(K30:O30)","v":0},{"$nulls":5},{"$f":"SUM(Q30:U30)","v":0},{"$nulls":5},{"$f":"SUM(W30:AA30)","v":0},{"$nulls":6},0,0,0,0,0,{"$f":"AA30+U30+O30+I30","v":0}]
[null,"2.15","Dental Settlements/AP",0,{"$nulls":5},0,{"$nulls":5},0,{"$nulls":5},0,{"$nulls":6},{"$f":"SUM(AD31:AH31)+AB31","v":0},0,0,0,0,0]
[null,2.16,"Total Dental Services",{"$f":"SUM(D17:D31)","v":0},{"$f":"SUM(E17:E31)","v":0},0,0,0,0,{"$f":"SUM(J17:J31)","v":0},{"$f":"SUM(K17:K31)","v":0},0,0,0,0,{"$f":"SUM(P17:P31)","v":0},{"$f":"SUM(Q17:Q31)","v":0},0,0,0,0,{"$f":"SUM(V17:V31)","v":0},{"$f":"SUM(W17:W31)","v":0},0,0,0,0,{"$f":"SUM(AB17:AB31)","v":0},{"$f":"SUM(AC17:AC31)","v":0},0,0,0,0,{"$f":"SUM(AH17:AH31)","v":0}]
["Total Before and After Reinsurance",3.1,"Total Dental Services Paid Directly FFS",{"$f":"SUM(D17:D28)","v":0},{"$f":"SUM(E17:E28)","v":0},{"$f":"SUM(F17:F28)","v":0},0,0,{"$f":"SUM(I17:I28)","v":0},{"$f":"SUM(J17:J28)","v":0},{"$f":"SUM(K17:K28)","v":0},0,0,0,{"$f":"SUM(O17:O28)","v":0},{"$f":"SUM(P17:P28)","v":0},{"$f":"SUM(Q17:Q28)","v":0},0,0,0,{"$f":"SUM(U17:U28)","v":0},{"$f":"SUM(V17:V28)","v":0},{"$f":"SUM(W17:W28)","v":0},0,0,0,{"$f":"SUM(AA17:AA28)","v":0},{"$f":"SUM(AB17:AB28)","v":0},{"$f":"SUM(AD33:AH33)+AB33","v":0},{"$f":"W33+Q33+K33+E33","v":0},0,0,0,0]
[null,3.2,"Total Dental Services Paid through Subcapitation",{"$f":"D29","v":0},0,{"$f":"F29","v":0},0,0,0,{"$f":"J29","v":0},0,{"$f":"L29","v":0},0,0,0,{"$f":"P29","v":0},0,{"$f":"R29","v":0},0,0,0,{"$f":"V29","v":0},0,{"$f":"X29","v":0},0,0,0,0,0,{"$f":"W34+Q34+K34+E34","v":0},0,0,0,0]
[null,3.3,"Total Dental Services Paid Directly -- IBNP",0,0,{"$f":"F30","v":0},0,0,0,0,0,{"$f":"L30","v":0},0,0,0,0,0,{"$f":"R30","v":0},0,0,0,0,0,{"$f":"X30","v":0},0,0,0,0,0,0,0,0,{"$f":"Z35+T35+N35+H35","v":0},0]
[null,"3.4","Total Dental Services Paid by Settlements/AP",0,0,0,0,0,0,0,0,0,0,0,0,0,0,0,0,0,0,0,0,0,0,0,0,0,0,{"$f":"W36+Q36+K36+E36","v":0},0,0,0,{"$f":"AA36+U36+O36+I36","v":0}]
[null,"3.5","TPL & Fraud/Abuse Recoveries",{"$f":"SUM(E37:I37)","v":0},{"$nulls":5},{"$f":"SUM(K37:O37)","v":0},{"$nulls":5},{"$f":"SUM(Q37:U37)","v":0},{"$nulls":5},{"$f":"SUM(W37:AA37)","v":0},{"$nulls":6},0,{"$f":"W37+Q37+K37+E37","v":0},0,0,0,{"$f":"AA37+U37+O37+I37","v":0}]
[null,3.6,"Premium Deficiency Reserve",{"$f":"SUM(E38:I38)","v":0},{"$nulls":5},{"$f":"SUM(K38:O38)","v":0},{"$nulls":5},{"$f":"SUM(Q38:U38)","v":0},{"$nulls":5},{"$f":"SUM(W38:AA38)","v":0},{"$nulls":6},0,{"$f":"W38+Q38+K38+E38","v":0},0,{"$f":"Y38+S38+M38+G38","v":0},0,{"$f":"AA38+U38+O38+I38","v":0}]
[null,"3.7","Subtotal Benefit Expense before Reinsurance",{"$f":"SUM(D33:D38)","v":0},{"$f":"SUM(E33:E38)","v":0},{"$f":"SUM(F33:F38)","v":0},0,0,{"$f":"SUM(I33:I38)","v":0},{"$f":"SUM(J33:J38)","v":0},{"$f":"SUM(K33:K38)","v":0},{"$f":"SUM(L33:L38)","v":0},0,0,{"$f":"SUM(O33:O38)","v":0},{"$f":"SUM(P33:P38)","v":0},{"$f":"SUM(Q33:Q38)","v":0},{"$f":"SUM(R33:R38)","v":0},0,0,{"$f":"SUM(U33:U38)","v":0},{"$f":"SUM(V33:V38)","v":0},{"$f":"SUM(W33:W38)","v":0},{"$f":"SUM(X33:X38)","v":0},0,0,{"$f":"SUM(AA33:AA38)","v":0},0,0,0,0,0,0,0]
[null,"3.8","Reinsurance Premiums",{"$f":"SUM(E40:I40)","v":0},{"$nulls":5},{"$f":"SUM(K40:O40)","v":0},{"$nulls":5},{"$f":"SUM(Q40:U40)","v":0},{"$nulls":5},{"$f":"SUM(W40:AA40)","v":0},{"$nulls":6},{"$f":"SUM(AD40:AH40)+AB40","v":0},{"$f":"W40+Q40+K40+E40","v":0},{"$f":"X40+R40+L40+F40","v":0},{"$f":"Y40+S40+M40+G40","v":0},0,0]
[null,"3.9","Reinsurance Recoveries",{"$f":"SUM(E41:I41)","v":0},{"$nulls":5},{"$f":"SUM(K41:O41)","v":0},{"$nulls":5},{"$f":"SUM(Q41:U41)","v":0},{"$nulls":5},{"$f":"SUM(W41:AA41)","v":0},{"$nulls":6},{"$f":"SUM(AD41:AH41)+AB41","v":0},{"$f":"W41+Q41+K41+E41","v":0},0,0,0,0]
[null,"3.10","Net cost of Reinsurance",{"$f":"SUM(D40:D41)","v":0},{"$f":"SUM(E40:E41)","v":0},{"$f":"SUM(F40:F41)","v":0},0,0,0,{"$f":"SUM(J40:J41)","v":0},{"$f":"SUM(K40:K41)","v":0},0,0,0,0,{"$f":"SUM(P40:P41)","v":0},{"$f":"SUM(Q40:Q41)","v":0},0,0,0,0,{"$f":"SUM(V40:V41)","v":0},{"$f":"SUM(W40:W41)","v":0},0,0,0,0,0,{"$f":"SUM(AC40:AC41)","v":0},{"$f":"SUM(AD40:AD41)","v":0},{"$f":"SUM(AE40:AE41)","v":0},0,{"$f":"SUM(AG40:AG41)","v":0},{"$f":"SUM(AH40:AH41)","v":0}]
[null,"3.11","Grand Total Medical Benefit Expense Net of Reinsurance",{"$f":"D39+D42","v":0},{"$f":"E39+E42","v":0},{"$f":"F39+F42","v":0},0,0,{"$f":"I39+I42","v":0},{"$f":"J39+J42","v":0},{"$f":"K39+K42","v":0},{"$f":"L39+L42","v":0},0,0,{"$f":"O39+O42","v":0},{"$f":"P39+P42","v":0},{"$f":"Q39+Q42","v":0},{"$f":"R39+R42","v":0},0,0,{"$f":"U39+U42","v":0},{"$f":"V39+V42","v":0},{"$f":"W39+W42","v":0},{"$f":"X39+X42","v":0},0,0,{"$f":"AA39+AA42","v":0},{"$f":"AB39+AB42","v":0},{"$f":"AC39+AC42","v":0},{"$f":"AD39+AD42","v":0},{"$f":"AE39+AE42","v":0},0,0,{"$f":"AH39+AH42","v":0}]
["Administrative Expenses, Government-Mandated Assessments, Taxes, and Fees ",null,null,"JANUARY - MARCH (Q1)",{"$nulls":5},"APRIL - JUNE (Q2)",{"$nulls":5},"JULY - SEPTEMBER (Q3)",{"$nulls":5},"OCTOBER - DECEMBER (Q4)",{"$nulls":6},"TOTAL (TO DATE)"]
[{"$nulls":3},"Total","Health Plan","Corporate",{"$nulls":3},"Total","Health Plan","Corporate",{"$nulls":3},"Total","Health Plan","Corporate",{"$nulls":3},"Total","Health Plan","Corporate",{"$nulls":3},"Prior Calendar Year Adjustments","Total","Health Plan","Corporate"]
["Administrative Expenses","4.1","Salaries & Benefits",{"$f":"SUM(E46:F46)","v":0},{"$nulls":5},{"$f":"SUM(K46:L46)","v":0},{"$nulls":5},{"$f":"SUM(Q46:R46)","v":0},{"$nulls":5},{"$f":"SUM(W46:X46)","v":0},{"$nulls":6},{"$f":"SUM(AD46:AE46)+AB46","v":0},{"$f":"W46+Q46+K46+E46","v":0},{"$f":"X46+R46+L46+F46","v":0}]
[null,"4.2","Administrative Services",{"$f":"SUM(E47:F47)","v":0},{"$nulls":5},{"$f":"SUM(K47:L47)","v":0},{"$nulls":5},{"$f":"SUM(Q47:R47)","v":0},{"$nulls":5},{"$f":"SUM(W47:X47)","v":0},{"$nulls":6},{"$f":"SUM(AD47:AE47)+AB47","v":0},{"$f":"W47+Q47+K47+E47","v":0},0]
[null,"4.3","Information Systems",0,{"$nulls":5},0,{"$nulls":5},0,{"$nulls":5},0,{"$nulls":6},{"$f":"SUM(AD48:AE48)+AB48","v":0},0,0]
[null,"4.4","Marketing Expenses",0,{"$nulls":5},0,{"$nulls":5},0,{"$nulls":5},0,{"$nulls":6},{"$f":"SUM(AD49:AE49)+AB49","v":0},0,0]
[null,"4.5","General  Administration",0,{"$nulls":5},0,{"$nulls":5},0,{"$nulls":5},0,{"$nulls":6},0,0,0]
[null,"4.6","Compliance/Regulatory",0,{"$nulls":5},0,{"$nulls":5},0,{"$nulls":5},0,{"$nulls":6},0,0,{"$f":"X51+R51+L51+F51","v":0}]
[null,"4.7","Total Administrative Expenses ",{"$f":"SUM(D46:D51)","v":0},{"$f":"SUM(E46:E51)","v":0},{"$f":"SUM(F46:F51)","v":0},{"$nulls":3},{"$f":"SUM(J46:J51)","v":0},{"$f":"SUM(K46:K51)","v":0},{"$f":"SUM(L46:L51)","v":0},{"$nulls":3},{"$f":"SUM(P46:P51)","v":0},{"$f":"SUM(Q46:Q51)","v":0},{"$f":"SUM(R46:R51)","v":0},{"$nulls":3},{"$f":"SUM(V46:V51)","v":0},{"$f":"SUM(W46:W51)","v":0},{"$f":"SUM(X46:X51)","v":0},{"$nulls":3},{"$f":"SUM(AB46:AB51)","v":0},{"$f":"SUM(AC46:AC51)","v":0},{"$f":"SUM(AD46:AD51)","v":0},{"$f":"SUM(AE46:AE51)","v":0}]
["Government-Mandated Assessments, Taxes, and Fees Other Than Income Taxes","5.1","State Premium tax",{"$nulls":25},{"$f":"D53+J53+P53+V53+AB53","v":0}]
[null,"5.2","Department of Insurance Assessments",{"$nulls":25},{"$f":"D54+J54+P54+V54+AB54","v":0}]
[null,"5.3","Section 9010 Health Insurance Providers Fee",{"$nulls":25},{"$f":"D55+J55+P55+V55+AB55","v":0}]
[null,"5.4","Other 1",{"$nulls":25},0]
[null,"5.5","Other 2",{"$nulls":25},0]
[null,"5.6","Other 3",{"$nulls":25},{"$f":"D58+J58+P58+V58+AB58","v":0}]
[null,"5.7","Total ",{"$f":"SUM(D53:D58)","v":0},{"$nulls":5},{"$f":"SUM(J53:J58)","v":0},{"$nulls":5},{"$f":"SUM(P53:P58)","v":0},{"$nulls":5},{"$f":"SUM(V53:V58)","v":0},{"$nulls":5},{"$f":"SUM(AB53:AB58)","v":0},{"$f":"SUM(AC53:AC58)","v":0}]
[null,"6.0","Grand Total Expenses",{"$f":"D43+D52+D59","v":0},{"$nulls":5},{"$f":"J43+J52+J59","v":0},{"$nulls":5},{"$f":"P43+P52+P59","v":0},{"$nulls":5},{"$f":"V43+V52+V59","v":0},{"$nulls":5},{"$f":"AB43+AB52+AB59","v":0},{"$f":"AC43+AC52+AC59","v":0}]
[null,"7.0","Underwriting Gain / (Loss)  --- AKA Pre-tax Earnings from Operations",{"$f":"D14-D60","v":0},{"$nulls":5},{"$f":"J14-J60","v":0},{"$nulls":5},{"$f":"P14-P60","v":0},{"$nulls":5},{"$f":"V14-V60","v":0},{"$nulls":5},{"$f":"AB14-AB60","v":0},{"$f":"AC14-AC60","v":0}]
[null,"8.0","Income Tax Expense",{"$nulls":25},{"$f":"AB62+V62+P62+J62+D62","v":0}]
[null,"9.0","Net Underwriting Gain (Loss)",{"$f":"D61-D62","v":0},{"$nulls":5},{"$f":"J61-J62","v":0},{"$nulls":5},{"$f":"P61-P62","v":0},{"$nulls":5},{"$f":"V61-V62","v":0},{"$nulls":5},{"$f":"AB61-AB62","v":0},{"$f":"AC61-AC62","v":0}]

{"sheet":"Dental Exp Benefits","index":17,"n_rows":21,"n_cols":34,"rows_kept":21,"merged":[[7,0,7,2],[7,3,7,8],[7,9,7,14],[7,15,7,20],[7,21,7,26],[7,28,7,33],[10,0,10,2],[11,0,20,0]]}
["DENTAL -- EXPANDED BENEFITS -- SUMMARY"]
[]
["Health Plan:",null,{"$f":"'Dental Rev-Exp Summary'!C3","v":0}]
["Reporting Period:",null,{"$f":"IF('Dental Rev-Exp Summary'!C4=0,\"\",'Dental Rev-Exp Summary'!C4)","v":""}]
["Paid Through:",null,{"$f":"IF('Dental Rev-Exp Summary'!C5=0,\"\",'Dental Rev-Exp Summary'!C5)","v":""}]
[]
[]
[{"$nulls":3},"JANUARY - MARCH (Q1)",{"$nulls":5},"APRIL - JUNE (Q2)",{"$nulls":5},"JULY - SEPTEMBER (Q3)",{"$nulls":5},"OCTOBER - DECEMBER (Q4)",{"$nulls":6},"TOTAL (TO DATE)"]
[{"$nulls":3},"Total","Medicaid Only/Dual Eligible 0-20 Years","Medicaid Only 21+ Years","Dual Eligible 21+ Years","Medically Needy 0-20 Years","Medically Needy 21+ Years","Total","Medicaid Only/Dual Eligible 0-20 Years","Medicaid Only 21+ Years","Dual Eligible 21+ Years","Medically Needy 0-20 Years","Medically Needy 21+ Years","Total","Medicaid Only/Dual Eligible 0-20 Years","Medicaid Only 21+ Years","Dual Eligible 21+ Years","Medically Needy 0-20 Years","Medically Needy 21+ Years","Total","Medicaid Only/Dual Eligible 0-20 Years","Medicaid Only 21+ Years","Dual Eligible 21+ Years","Medically Needy 0-20 Years","Medically Needy 21+ Years","Prior Year Adjustments","Total","Medicaid Only/Dual Eligible 0-20 Years","Medicaid Only 21+ Years","Dual Eligible 21+ Years","Medically Needy 0-20 Years","Medically Needy 21+ Years"]
["MEMBER MONTHS",null,null,{"$f":"SUM(E10:I10)","v":0},{"$nulls":5},{"$f":"SUM(K10:O10)","v":0},{"$nulls":5},{"$f":"SUM(Q10:U10)","v":0},{"$nulls":5},{"$f":"SUM(W10:AA10)","v":0},{"$nulls":6},{"$f":"SUM(AD10:AH10)+AB10","v":0},{"$f":"E10+K10+Q10+W10","v":0},{"$f":"X10+R10+L10+F10","v":0},{"$f":"Y10+S10+M10+G10","v":0},{"$f":"Z10+T10+N10+H10","v":0},{"$f":"AA10+U10+O10+I10","v":0}]
["EXPANDED BENEFITS"]
["Expanded Benefit","1.1","Diagnostic",{"$f":"SUM(E12:I12)","v":0},{"$nulls":5},{"$f":"SUM(K12:O12)","v":0},{"$nulls":5},{"$f":"SUM(Q12:U12)","v":0},{"$nulls":5},{"$f":"SUM(W12:AA12)","v":0},{"$nulls":6},{"$f":"SUM(AD12:AH12)+AB12","v":0},{"$f":"E12+K12+Q12+W12","v":0},{"$f":"F12+L12+R12+X12","v":0},{"$f":"G12+M12+S12+Y12","v":0},{"$f":"H12+N12+T12+Z12","v":0},{"$f":"I12+O12+U12+AA12","v":0}]
[null,"1.2","Preventive",0,{"$nulls":5},0,{"$nulls":5},0,{"$nulls":5},0,{"$nulls":6},0,0,0,0,0,0]
[null,"1.3","Restorative",0,{"$nulls":5},0,{"$nulls":5},0,{"$nulls":5},0,{"$nulls":6},0,0,0,0,0,0]
[null,"1.4","Periodontics",0,{"$nulls":5},0,{"$nulls":5},0,{"$nulls":5},0,{"$nulls":6},0,0,0,0,0,0]
[null,"1.5","Oral and Maxillofacial Surgery",0,{"$nulls":5},0,{"$nulls":5},0,{"$nulls":5},0,{"$nulls":6},0,0,0,0,0,0]
[null,"1.6","Adjunctive General Services",0,{"$nulls":5},0,{"$nulls":5},0,{"$nulls":5},0,{"$nulls":6},0,0,0,0,0,0]
[null,"1.7","Diabetic Testing",0,{"$nulls":5},0,{"$nulls":5},0,{"$nulls":5},0,{"$nulls":6},0,0,0,0,0,0]
[null,"1.8","Practice Acclimation for Individuals with Intellectual Disabilities",0,{"$nulls":5},0,{"$nulls":5},0,{"$nulls":5},0,{"$nulls":6},0,0,0,0,0,0]
[null,"1.9","Other (Describe)",0,{"$nulls":5},{"$f":"SUM(K20:O20)","v":0},{"$nulls":5},0,{"$nulls":5},0,{"$nulls":6},0,0,0,0,0,0]
[null,"1.10","Total",{"$f":"SUM(D12:D20)","v":0},0,0,0,0,0,0,0,0,0,0,0,0,0,0,0,0,0,0,0,0,0,0,0,0,0,{"$f":"SUM(AD12:AD20)","v":0},{"$f":"SUM(AE12:AE20)","v":0},{"$f":"SUM(AF12:AF20)","v":0},{"$f":"SUM(AG12:AG20)","v":0},{"$f":"SUM(AH12:AH20)","v":0}]

{"sheet":"Dental Related-Party Summary","index":18,"n_rows":26,"n_cols":16,"rows_kept":26,"merged":[[7,0,7,2],[7,5,7,6],[7,7,7,8],[7,9,7,10],[7,11,7,12],[7,14,7,15],[9,0,14,0],[15,0,20,0]]}
["DENTAL -- RELATED-PARTY TRANSACTION SCHEDULE - SUMMARY"]
[]
["Health Plan:",null,{"$f":"'Dental Rev-Exp Summary'!C3","v":0}]
["Reporting Period:",null,{"$f":"IF('Dental Rev-Exp Summary'!C4=0,\"\",'Dental Rev-Exp Summary'!C4)","v":""}]
["Paid Through:",null,{"$f":"IF('Dental Rev-Exp Summary'!C5=0,\"\",'Dental Rev-Exp Summary'!C5)","v":""}]
["Summary"]
[]
[{"$nulls":5},"JANUARY - MARCH (Q1)",null,"APRIL - \nJUNE (Q2)",null,"JULY - SEPTEMBER (Q3)",null,"OCTOBER - DECEMBER (Q4)",null,"PRIOR YEAR ADJUSTMENTS","TOTAL\n(TO DATE)"]
["EXPENSES",null,"Vendor Name","Affiliation","Payment Methodology","MM","Amount","MM","Amount","MM","Amount","MM","Amount","Amount","MM","Amount"]
["Dental","4.1","Vendor #1",{"$nulls":11},{"$f":"F10+H10+J10+L10","v":0},{"$f":"G10+I10+K10+M10+N10","v":0}]
[null,"4.2","Vendor #2",{"$nulls":11},{"$f":"F11+H11+J11+L11","v":0},{"$f":"G11+I11+K11+M11+N11","v":0}]
[null,"4.3","Vendor #3",{"$nulls":11},{"$f":"F12+H12+J12+L12","v":0},0]
[null,"4.4","Vendor #4",{"$nulls":11},{"$f":"F13+H13+J13+L13","v":0},{"$f":"G13+I13+K13+M13+N13","v":0}]
[null,"4.5","Vendor #5",{"$nulls":11},{"$f":"F14+H14+J14+L14","v":0},0]
[null,"4.6","Total Dental",{"$nulls":3},{"$f":"SUM(G10:G14)","v":0},null,{"$f":"SUM(I10:I14)","v":0},null,{"$f":"SUM(K10:K14)","v":0},null,{"$f":"SUM(M10:M14)","v":0},{"$f":"SUM(N10:N14)","v":0},null,{"$f":"G15+I15+K15+M15+N15","v":0}]
["Administrative Expense","8.1","Vendor #1",{"$nulls":11},{"$f":"F16+H16+J16+L16","v":0},{"$f":"G16+I16+K16+M16+N16","v":0}]
[null,"8.2","Vendor #2",{"$nulls":11},0,{"$f":"G17+I17+K17+M17+N17","v":0}]
[null,"8.3","Vendor #3",{"$nulls":11},{"$f":"F18+H18+J18+L18","v":0},0]
[null,"8.4","Vendor #4",{"$nulls":11},0,{"$f":"G19+I19+K19+M19+N19","v":0}]
[null,"8.5","Vendor #5",{"$nulls":11},0,0]
[null,"8.6","Total Administrative Expense",{"$nulls":3},{"$f":"SUM(G16:G20)","v":0},null,{"$f":"SUM(I16:I20)","v":0},null,{"$f":"SUM(K16:K20)","v":0},null,{"$f":"SUM(M16:M20)","v":0},{"$f":"SUM(N16:N20)","v":0},null,{"$f":"G21+I21+K21+M21+N21","v":0}]
[null,9,"Grand Total",{"$nulls":3},{"$f":"G15+G21","v":0},null,{"$f":"I15+I21","v":0},null,{"$f":"K15+K21","v":0},null,{"$f":"M15+M21","v":0},{"$f":"N15+N21","v":0},null,{"$f":"P15+P21","v":0}]
[]
["Notes"]
["Additional lines can be added if the number of related-party vendors exceeds the number of lines listed per service type."]
["Additional information concerning the nature of the relationship with each related party, as well as the payment methodology, shall be disclosed in the Notes tab of the Financial Reporting package."]

{"sheet":"ASR Instructions","index":19,"n_rows":47,"n_cols":3,"rows_kept":47,"merged":[[18,0,18,1]]}
["ACHIEVED SAVINGS REBATE EXHIBIT - INSTRUCTIONS"]
["QUARTERLY AND ANNUAL"]
[]
["Coverage:","Reported for Dental experience; all regions combined"]
["Reporting Period:","Quarter YTD; "]
["June 1","Q1 Revenue & Expense Schedule includes only January - March (paid through March)."]
["August 15","Q2 Revenue & Expense Schedule includes restated January - March, first look at April - June (all paid through June). "]
["November 15","Q3 Revenue & Expense Schedule includes restated January - March and April - June, first look at July - September (all paid through September)."]
["February 15","Q4 Revenue & Expense Schedule includes restated quarters 1 - 3, first look at October - December (all paid through December)."]
["May 1","Annual Revenue & Expense Schedule includes restated quarters 1-4 of prior calendar year, all paid through March."]
[]
["Health Plan:","Name or D/B/A of the managed care plan."]
["Reporting Period:","Based upon the reporting periods identified above."]
["Paid Through:","Based on the paid through timeframes identified above."]
["Plan Type:","Dental"]
[]
["Note:  Please refer to the SMMC contract and/or Section 409.967(3), Florida Statues, for additional information/clarification on items specific to the calculation of the Achieved Savings Rebate."]
[]
["REVENUES"]
[1.1,"Total Revenue from Revenue & Expense Schedules","Premium and related payments earned on behalf of Medicaid recipients. \nCorresponds to Dental Rev-Exp Line 1.4."]
[1.2,"Federal Taxes and Assessments- ACA § 9010","Federal taxes and assessments allocated to health insurance coverage.  Includes funds provided for the \"gross up\" of HIPF payments, if applicable.  Reported as a negative amount.  "]
[1.3,"State Insurance, Premium and other Taxes","State premium taxes or other assessments allocated to health insurance coverage.  Includes funds provided for the \"gross up\" of HIPF payments , if applicable.  Reported as a negative amount.  "]
[1.4,"Regulatory Authority Licenses and Fees","Statutory assessments based on premium to defray operating expenses of any state insurance department. Do not include fines and penalties or examination fees not in lieu of premium taxes.  Reported as a negative amount.  "]
["1.5","Less:  Financial Incentive Payments Outside of Capitation Rate ","Incentive payments received by the plan in addition to the capitation rate.  Reported as a negative.  [409.967(3), FL Statutes]"]
["1.6","Revenue Subject to ASR ","Sum of lines 1.1 through 1.5.  Refer to Section 409.967(3), Florida Statutes, and the SMMC contract for additional guidance concerning adjustments to revenue for the ASR calculation."]
["EXPENSES"]
["Benefit Expenses"]
["2.1","Total Benefits Paid through FFS and Subcapitation During the Year","Total expenses incurred for providing services to Medicaid beneficiaries, including services provided as fee-for-service or subcapitation. \nCorresponds to Dental Rev-Exp Lines 3.1 plus 3.2 plus 3.5."]
["2.2","Incurred But Not Paid Ending Balance","Ending balance of Incurred but not Paid (IBNP) for the reporting period.  Corresponds to Dental Rev-Exp line 3.3."]
["2.3","Settlements/AP","Expenses incurred for financial payments and related service expenses associated with provider, recipient, legal, and/or TPL settlements not reported in lines 2.1 - 2.2.  Includes alternative payment arrangements.\nCorresponds to Dental Rev-Exp line 3.4."]
["2.4","Total Benefit Expense before Reinsurance ","Sum of lines 2.1 through 2.3."]
[2.5,"Net Cost of Reinsurance","Amounts paid by the plan to an authorized reinsurer, less amounts recovered and change in accrued amount recoverable from reinsurer on paid losses. \nCorresponds to Dental Rev-Exp line 3.10."]
["2.6","Total Benefit Expense after Reinsurance ","Lines 2.4 plus 2.5."]
["Administrative Expenses"]
["3.1","Total Administrative Expenses from Revenue & Expense Schedule","Total administrative expenses associated with administering the contract, as reported on Dental Rev-Exp line 4.7, including Improving Health Care Quality Expenses incurred."]
["3.2","Less: Compliance/Regulatory","Expenses included in line 3.1 above that are associated with fines, penalties, liquidated damages, or other compliance matters as identified/levied by governmental or other regulatory entities; as reported on Dental Rev-Exp line 4.6. Report as a negative amount."]
["3.3","Less: Lobbying/Political expenses","Expenses included in line 3.1 above associated with lobbying and political contributions/expenses. Report as a negative amount."]
["3.4","Less: Cash-value of Executive Bonuses Above Base Salary","Expenses included in line 3.1 above associated with the cash value of bonuses issued to executives, reported as a negative amount.  Executive defined as CEO, CFO, COO, CIO, CISO, CKO, President, VP, Managing Director, Executive Director, Secretary, Treasurer, Controller, Board of Directors, or other like titles assigned to corporate executives. (amount required to be disclosed in notes of Annual Summary). "]
["3.5","Less: Other Non-allowed expenses","Expenses reported in line 3.1 that are not related to the fulfillment of the contract and not included in lines 3.2 through 3.4; including charitable contributions, legal fees, or claims interest expense.  Report as a negative amount."]
["3.6","Administrative Expense Subject to ASR ","Sum of lines 3.1 through 3.5."]
["4.0","Actuarially-sound Administrative Expense Maximum","Dollar amount of maximum administration expense as calculated by application of PMPM administrative maximums, member months and plan size.  This line is automatically populated from calculations performed on the ASR Admin Max tab."]
["5.0","Administrative Expenses Subject to ASR ","The lesser of line 3.6 or line 4.0."]
["6.0","Total Benefit and Administrative Expense Subject to ASR","The sum of lines 2.6 and 5.0."]
["Calculation of Pre-Tax Income and ASR"]
["7.1","Pre-tax Income subject to ASR","Line 1.6 minus line 6.0.  Refer to the SMMC contract for further information concerning the definition of \"Pre-tax income.\""]
["7.2","Pre-tax Income as a Percent of Revenue ","Line 7.1 / line 1.6."]
["7.3","Preliminary Achieved Savings Rebate","Preliminary ASR without adjustment for credibility or quality incentive.\nIf Line 7.2 <= 5.00%; then Line 7.3 = $0\nIf 5.00% < Line 7.2 <= 10.00%; then Line 7.3 = (Line 7.2 - 5.00%/2) multiplied by Line 1.6\nIf Line 7.2 > 10.00%; then Line 7.3 = (Line 7.2 - 7.50%) multiplied by Line 1.6"]

{"sheet":"ASR Exhibit","index":20,"n_rows":35,"n_cols":8,"rows_kept":35}
["ACHIEVED SAVINGS REBATE EXHIBIT"]
["Health Plan:"]
["Reporting Period:"]
["Paid Through:"]
["Plan Type: ",null,"JANUARY - MARCH (Q1)","APRIL - JUNE (Q2)","JULY - SEPTEMBER (Q3)","OCTOBER - DECEMBER (Q4)","Prior Year Adjustments","TOTAL (TO DATE)"]
[null,null,"Dental","Dental","Dental","Dental","Dental","Total"]
["REVENUES"]
[1.1,"Total Revenue from Revenue & Expense Schedules",{"$nulls":5},{"$f":"SUM(C8:G8)","v":0}]
[1.2,"Federal Taxes and Assessments- ACA § 9010",{"$nulls":5},{"$f":"SUM(C9:G9)","v":0}]
[1.3,"State Insurance, Premium and other Taxes",{"$nulls":5},0]
[1.4,"Regulatory Authority Licenses and Fees",{"$nulls":5},0]
["1.5","Less:  Financial Incentive Payments Outside of Capitation Rate ",{"$nulls":5},0]
["1.6","Revenue Subject to ASR ",{"$f":"SUM(C8:C12)","v":0},0,0,0,0,0]
["EXPENSES"]
["Benefit Expenses"]
["2.1","Total Benefits Paid through FFS and Subcapitation During the Year",{"$nulls":5},{"$f":"SUM(C16:G16)","v":0}]
["2.2","Incurred but not Paid (IBNP) Ending Balance",{"$nulls":5},{"$f":"SUM(C17:G17)","v":0}]
["2.3","Settlements/AP",{"$nulls":5},{"$f":"SUM(C18:G18)","v":0}]
["2.4","Total Benefit Expense before Reinsurance ",{"$f":"SUM(C16:C18)","v":0},0,0,0,0,0]
["2..5","Net Cost of Reinsurance",{"$nulls":5},{"$f":"SUM(C20:G20)","v":0}]
["2.6","Total Benefit Expense after Reinsurance ",{"$f":"SUM(C19:C20)","v":0},0,{"$f":"SUM(E19:E20)","v":0},0,0,0]
["Administrative Expenses"]
["3.1","Total Administrative Expenses from Revenue & Expense Schedule",{"$nulls":5},0]
["3.2","Less: Compliance/Regulatory",{"$nulls":5},0]
["3.3","Less: Lobbying/Political expenses",{"$nulls":5},0]
["3.4","Less: Cash-value of Executive Bonuses Above Base Salary",{"$nulls":5},0]
["3.5","Less: Other Non-allowed expenses",{"$nulls":5},0]
["3.6","Administrative Expense Subject to ASR ",{"$f":"SUM(C23:C27)","v":0},0,0,0,0,0]
["4.0","Actuarially-sound Administrative Expense Maximum",{"$nulls":5},{"$f":"'ASR Admin Max'!C14+'ASR Admin Max-Period 2'!C14","v":0}]
["5.0","Administrative Expenses Subject to ASR ",{"$nulls":5},{"$f":"MIN(H28:H29)","v":0}]
["6.0","Total Benefit and Administrative Expense subject to ASR",{"$nulls":5},{"$f":"H21+H30","v":0}]
["Calculation of Pre-Tax Income and ASR"]
["7.1","Pre-tax Income",{"$nulls":5},{"$f":"H13-H31","v":0}]
["7.2","Pre-tax Income as a Percent of Revenue",{"$nulls":5},{"$f":"IFERROR(H33/H13, 0)","v":{"v":0,"d":"0.0%"}}]
["7.3","Preliminary Achieved Savings Rebate"]

{"sheet":"ASR Admin Max","index":21,"n_rows":26,"n_cols":3,"rows_kept":26,"merged":[[8,0,9,1]]}
["ACHIEVED SAVINGS REBATE - ACTUARIALLY-SOUND ADMINISTRATIVE MAXIMUM CALCULATION"]
[" January 1 through September 30 of the Calendar Year"]
["Health Plan:",{"$f":"IF('ASR Exhibit'!B2=0,\"\",'ASR Exhibit'!B2)","v":""}]
["Reporting Period:"]
["Paid Through:"]
["Plan Type: ",{"$f":"IF('ASR Exhibit'!B5=0,\"\",'ASR Exhibit'!B5)","v":""}]
[]
[]
["Dental Administrative Expense Maximum"]
[null,null,"CALENDAR YEAR TOTAL (January 1 to September 30)"]
["1.0","Plan Enrollment"]
[null,"Dental Administrative Maximum (PMPM Per Milliman Report)"]
[1.1,"Member Months"]
["1.2","Total Dental Administrative Maximum",{"$f":"IFERROR(C12*C13, 0)","v":0}]
[]
[]
[]
["Instructions"]
["Reporting Period","For  Q1, Q2, Q3  ASR Dental report, the reporting period is Quarter YTD "]
[null,"For Q4 and Annual ASR report,  the reporting period should be January 1 to September 30 of the Calendar Year"]
["Paid Through","For Q1, Q2, Q3, Q4 ASR report, paid through date is Quarter YTD"]
[null,"For Annual ASR report, paid through date is March 31 of the following Calendar Year"]
["Line 1.0","Report national health plan enrollment across all lines, as of December 31 of the Calendar Year"]
["Line 1.1","For Q1, Q2, Q3 ASR Dental Report, enter the applicable year-to-date member months for the reporting period for Dental Plan."]
[null,"For Q4 and Annual ASR Dental Report, enter the applicable year-to-date member months for the period  from January 1 to September 30 for Dental Plan"]
["Note 1","For dental administrative maximum for the covered reporting period,  please input the PMPM  based on the corresponding Milliman report-Statewide Medicaid Managed Care administrative cost maximum "]

{"sheet":"ASR Admin Max-Period 2","index":22,"n_rows":24,"n_cols":3,"rows_kept":24,"merged":[[8,0,9,1]]}
["ACHIEVED SAVINGS REBATE - ACTUARIALLY-SOUND ADMINISTRATIVE MAXIMUM CALCULATION"]
[" October 1 through December 31 of the Calendar Year"]
["Health Plan:",{"$f":"IF('ASR Exhibit'!B2=0,\"\",'ASR Exhibit'!B2)","v":""}]
["Reporting Period:"]
["Paid Through:"]
["Plan Type: ",{"$f":"IF('ASR Exhibit'!B5=0,\"\",'ASR Exhibit'!B5)","v":""}]
[]
[]
["Dental Administrative Expense Maximum"]
[null,null,"CALENDAR YEAR TOTAL (TO DATE)"]
["1.0","Plan Enrollment"]
[null,"Dental Administrative Maximum (PMPM Per Milliman Report)"]
[1.1,"Member Months"]
["1.2","Total Dental Administrative Maximum",{"$f":"IFERROR(C12*C13, 0)","v":0}]
[]
[]
[]
["Instructions"]
["Reporting Period","October 1 to December 31 of the Calendar Year"]
["Paid Through","For Q4 ASR Dental Report, paid through date is December 31."]
[null,"For Annual ASR Dental Report, paid through date is March 31 of the following Calendar Year"]
["Line 1.0","Report national health plan enrollment across all lines, as of December 31 of the Calendar Year"]
["Line 1.1","For Q4 and Annual ASR Dental Report, enter the applicable year-to-date member months for the period from October 1 to December 31 of the Calendar Year for Dental Plan"]
["Note 1","For dental administrative maximum for the covered reporting period,  please input the PMPM  based on the corresponding Milliman report-Statewide Medicaid Managed Care administrative cost maximum "]

{"sheet":"MLR Instructions - Dental Plan","index":23,"n_rows":71,"n_cols":3,"rows_kept":71,"merged":[[18,0,18,1],[56,0,58,0],[56,1,58,1],[70,0,70,2]]}
["Medical Loss Ratio Calculation - INSTRUCTIONS"]
["QUARTERLY AND ANNUAL"]
[]
["Coverage:","Reported for Dental experience; all regions combined"]
["Reporting Period:","Quarter YTD; "]
["June 1","Q1 Revenue & Expense Schedule includes only January - March (paid through March)."]
["August 15","Q2 Revenue & Expense Schedule includes restated January - March, first look at April - June (all paid through June). "]
["November 15","Q3 Revenue & Expense Schedule includes restated January - March and April - June, first look at July - September (all paid through September)."]
["February 15","Q4 Revenue & Expense Schedule includes restated quarters 1 - 3, first look at October - December (all paid through December)."]
["May 1","Annual Revenue & Expense Schedule includes restated quarters 1-4 of prior calendar year, all paid through March."]
[]
["Health Plan:","Name or D/B/A of the managed care plan."]
["Reporting Period:","Based upon the reporting periods identified above."]
["Paid Through:","Based on the paid through timeframes identified above."]
["Plan Type:","Dental"]
[]
["Note:  Please refer to federal guidance 42 CFR 438.8 for Medical Loss Ratio (MLR) standards."]
[]
["REVENUES"]
[1.1,"Total Revenue from Revenue & Expense Schedules","Premium and related payments earned on behalf of Medicaid recipients. \nCorresponds to Dental Rev-Exp Line 1.4 "]
[1.2,"Federal Taxes and Assessments-ACA § 9010","Federal taxes and assessments allocated to health insurance coverage.  Includes funds provided for the \"gross up\" of HIPF payments as well as income taxes deductible from revenue, if applicable.  Reported as a negative amount.  "]
[1.3,"State Insurance, Premium and other Taxes","State premium taxes or other assessments allocated to health insurance coverage.  Includes income taxes deductible from revenue as well as funds provided for the \"gross up\" of HIPF payments, if applicable.  Reported as a negative amount.  "]
[1.4,"Regulatory Authority Licenses and Fees","Statutory assessments based on premium to defray operating expenses of any state insurance department. Do not include fines and penalties or examination fees not in lieu of premium taxes.  Reported as a negative amount.  "]
["1.5","Revenue Subject to MLR ","Sum of Lines 1.1 through 1.4."]
["EXPENSES"]
["Benefit Expenses"]
["2.1","Total Benefits Paid through FFS During the Year","Total expenses incurred for providing services to Medicaid beneficiaries through fee for services. Prescription drug rebates received and accrued and overpayment recoveries received from network providers must be deducted from Incurred claims.  In addition, non claim costs and amounts paid to the state as remittance, and amounts paid to network providers must be excluded from Incurred claims. Refer to 42 CFR 438.8 for details. Include Dental Rev-Exp Lines 3.5.\n"]
["2.2","Total Benefits Paid through Subcapitation During the Year","Total expenses incurred for providing services to Medicaid beneficiaries through Subcapitation.                                                                                               Medicaid managed care plan may only include in incurred claims for Medicaid covered services the amount that the subcontractor actually pays the medical provider or supplier for providing Medicaid covered services to enrollees. Where the subcontractor is performing an administrative function such as eligibility and coverage verification, claims processing, utilization review, or network development, expenditures and profits on these functions would be considered a non claim administrative expense and should not be counted as incurred claims for the purpose of the MLR calculation. An exception applies when a subcontractor, through its own employees, provides Medicaid covered services directly to enrollees.                                                                                                                                                                                                                 In addition, when managed care plan subcontracts with a pharmacy benefit manager (PBM) for the administration of the Medicaid covered outpatient drug benefit, the managed care plan may not use the entire capitated payment to the PBM as incurred claims. Rather, the PBM must calculate incurred claims as the amounts paid to the retail or mail order pharmacy (e.g., drug ingredient costs and dispensing fees) minus any prescription drug rebates and accounting for any other applicable requirements in 42 CFR 438.8(e)(2).  Other expenditures by the PBM under subcontract with the managed care plan such as activities that improve health care quality, non claims cost for administrative services, taxes and fees, etc.) would also need to be classified appropriately and reported to the managed care plan to facilitate the managed care plan's MLR calculation and reporting. Please refer to CMCS informational bulletin issued on May 15, 2019  \" Medical Loss Ratio (MLR) Requirements Related to Third Party Vendors\" for details."]
["2.3","Incurred But Not Paid Ending Balance","Ending balance of Incurred but not Paid (IBNP) for the reporting period.  Corresponds to Dental Rev-Exp line 3.3 "]
["2.4","Incurred But Not Paid Ending Balance-Subcontractors","Ending balance of Incurred but not Paid (IBNP) for the reporting period for subcontractors"]
["2.5","Settlements/AP","Expenses incurred for financial payments and related service expenses associated with provider, recipient, legal, and/or TPL settlements not reported in lines 2.1 - 2.4.  Includes alternative payment arrangements.\nCorresponds to Dental Rev-Exp line 3.4 "]
["2.6","Total Benefit Expense before Reinsurance ","Sum of lines 2.1 through 2.5"]
[2.7,"Net Cost of Reinsurance","Amounts paid by the plan to an authorized reinsurer, less amounts recovered and change in accrued amount recoverable from reinsurer on paid losses. \nCorresponds to Dental Rev-Exp line 3.10 "]
["2.8","Total Benefit Expense after Reinsurance ","Lines 2.6 plus 2.7"]
["Florida-Specific Contributions "]
["3.1","Funds to Graduate Medical Education institutions","Funds provided by plans to graduate medical institutions to underwrite the costs of residency positions, provided the funding is sufficient to sustain the position(s) for the number of years necessary to complete the residency requirements and the residency positions funded by the plan are active providers of care to Medicaid and uninsured residents.**"]
["3.2","Contributions for the Purpose of Supporting Medicaid and Indigent Care","Contributions to a designated state trust fund for the purpose of supporting Medicaid and indigent care."]
["3.3","Total Florida-Specific Contributions ","Lines 3.1 plus 3.2."]
["Improving Health Care Quality Expenses Incurred "]
["4.1","Improve Health Outcomes","Using the guidance found at 45 CFR, 158.150, include expenses meeting the definition of Improve Health Outcomes that are not health information technology expenses. "]
["4.2","Activities to Prevent Hospital Readmissions","Using the guidance found at 45 CFR, 158.150, include expenses meeting the definition of Improving Activities to Prevent Hospital Readmissions that are not health information technology expenses. "]
["4.3","Improve Patient Safety and Reducing Medical Errors","Using the guidance found at 45 CFR, 158.150, include expenses meeting the definition of Improve Patient Safety and Reduce Medical Errors that are not health information technology expenses. "]
["4.4","Wellness and Health Promotion Activities","Using the guidance found at 45 CFR, 158.150, include expenses meeting the definition of Wellness and Health Promotion Activities that are not health information technology expenses. "]
["4.5","Health Information Technology (HIT) expenses related to Health Improvement","Using the guidance found at 45 CFR 151.151, include expenses meeting the definition of HIT Expenses for Health Care Quality Improvements that are health information technology expenses. "]
["4.6","Total of Defined Expenses incurred for improving Health Care Quality.","Sum of lines 4.1 through 4.5."]
["5.0","Deductible Fraud and Abuse Detection/Recovery Expenses (MLR only)","Using the federal guidance found at 45 CFR 158.140 report the lesser of Fraud and Abuse Recoveries that reduced paid claims in line 2.1-2.2 above or Total Fraud and Abuse Detection/Recovery Expenses."]
["6.0","Preliminary Medical Loss Ratio: MLR ","(Lines 2.8  plus 3.3 plus 4.6 + 5.0)/Line 1.5. Preliminary MLR prior to any adjustment due to credibility."]
["Annual Credibility Adjustment"]
["7.1","Member Months for Managed Care Plan","Using the guidance found in the 2017 CMCS Information Bulletin and 42 CFR 438.8 MLR Standards,  The managed care plan shall calculate the number of member months for the MLR reporting year. This shall equal the number of member months calculated and reported pursuant to §438.8(k)(1)(xiii)."]
["7.2","Number of Member Months where MM is rounded down to the nearest annual Member Months (MMa)**","Using the guidance found in the 2017 CMCS Bulletin and 42 CFR 438.8 MLR Standards, use Table 1 below, MMa is the number of member months where MM is rounded down to the nearest “Annual Member Months” number."]
["7.3","Number of Member Months where MM is rounded up to the nearest annual Member Months (MMb)**","Using the guidance found in the 2017 CMCS Bulletin and 42 CFR 438.8 MLR Standards, use Table 1 below, MMb is the number of member months where MM is rounded up to the nearest “Annual Member Months” number."]
["7.4","Credibility Adjustment Factor for MMa (CAa)**","Using the guidance found in the 2017 CMCS Bulletin and 42 CFR 438.8 MLR Standards, use Table 1 below, CAa and CAb are the credibility adjustment factors found in the applicable table for MMa and MMb, respectively. (This will be the percentage associated with MMa rounded down)"]
["7.5","Credibility Adjustment Factor for MMb (CAb)**","Using the guidance found in the 2017 CMCS Bulletin and 42 CFR 438.8 MLR Standards, use Table 1 below, CAa and CAb are the credibility adjustment factors found in the applicable table for MMa and MMb, respectively. (This will be the percentage associated with MMb rounded up)"]
["7.6","Credibility Adjustment Calculation (CR)","Using the guidance found in the 2017 CMCS bulletin and 42 CFR 438.8 MLR Standards, use the Credibility Adjustment formula = CA+((MMb-MM)/(MMb-MMa))*(CAa-CAb), round the CR to the nearest tenth, this credibility factor shall be added to the plan's calculated MLR."]
["7.7","Calculated MLR","Line 6.0"]
["7.8","Final MLR (Apply Credibility Adjustment)","Lines 6.0 + 7.6"]
["NOTE**","Using the correct credibility adjustment factors, determine where the plan’s enrollment in terms of member months falls in Table 1","a. If the number of member months is less than the number of member months corresponding to “Non-credible” in Table 1, no adjustment to the MLR calculation shall be made, and the MLR calculation shall be determined not credible. (Reminder: Such plans will not be measured against the MLR standard; managed care plans in this group are presumed to meet or exceed the target MLR standard.)"]
[null,null,"b. If the number of member months is more than the number of member months corresponding to “Fully credible” in Table 1, no adjustment to the MLR calculation shall be made, and the MLR calculation shall be determined fully credible. The MLR reported may be compared to the MLR standard."]
[null,null,"c. If the number of member months is between the number of member months corresponding to “Non-credible” or “Fully credible” in Table 1, the managed care plan shall calculate a partial credibility adjustment."]
["Table 1"]
["STANDARD PLANS MEMBER MONTHS IN MLR REPORTING YEAR (MM) "," STANDARD PLANS CREDIBILITY ADJUSTMENT (CA)"]
["<5,400","non-credible"]
[{"v":5400,"d":"5,400"},{"v":0.084,"d":"8.4%"}]
[{"v":12000,"d":"12,000"},{"v":0.057,"d":"5.7%"}]
[{"v":24000,"d":"24,000"},{"v":0.04,"d":"4.0%"}]
[{"v":48000,"d":"48,000"},{"v":0.029,"d":"2.9%"}]
[{"v":96000,"d":"96,000"},{"v":0.02,"d":"2.0%"}]
[{"v":192000,"d":"192,000"},{"v":0.015,"d":"1.5%"}]
[{"v":380000,"d":"380,000"},{"v":0.01,"d":"1.0%"}]
[">380,000","credible"]
["** Please provide an attestation from the graduate medical education institutions that the funding amount is sufficient to sustain the position(s) for the number of years necessary to complete the residency requirements and the residency positions funded are active providers of care to Medicaid and uninsured patients (include Medicaid provider identification numbers)."]

{"sheet":"MLR Exhibit - Dental","index":24,"n_rows":47,"n_cols":8,"rows_kept":47,"merged":[[39,2,45,6]]}
["MEDICAL LOSS RATIO EXHIBIT"]
["Health Plan:"]
["Calendar Year"]
["Reporting Period:"]
["Paid Through:"]
["Plan Type: ","Dental"]
[]
[null,null,"JANUARY - MARCH (Q1)","APRIL - JUNE (Q2)","JULY - SEPTEMBER (Q3)","OCTOBER - DECEMBER (Q4)","Prior Year Adjustments","TOTAL (TO DATE)"]
[null,null,"Dental","Dental","Dental","Dental","Dental","Total"]
["REVENUES"]
[1.1,"Total Revenue from Revenue & Expense Schedules",{"$nulls":5},{"$f":"SUM(C11:G11)","v":0}]
[1.2,"Federal Taxes and Assessments- ACA § 9010",{"$nulls":5},{"$f":"SUM(C12:G12)","v":0}]
[1.3,"State Insurance, Premium and other Taxes",{"$nulls":5},0]
[1.4,"Regulatory Authority Licenses and Fees",{"$nulls":5},0]
["1.5","Revenue Subject to MLR ",{"$f":"SUM(C11:C14)","v":0},{"$f":"SUM(D11:D14)","v":0},{"$f":"SUM(E11:E14)","v":0},0,{"$f":"SUM(G11:G14)","v":0},{"$f":"SUM(H11:H14)","v":0}]
["EXPENSES"]
["Benefit Expenses"]
["2.1","Total Benefits Paid through FFS During the Year",{"$nulls":5},{"$f":"SUM(C18:G18)","v":0}]
["2.2","Total Benefits Paid through Subcapitation During the Year",{"$nulls":5},{"$f":"SUM(C19:G19)","v":0}]
["2.3","Incurred but not Paid (IBNP) Ending Balance",{"$nulls":5},{"$f":"SUM(C20:G20)","v":0}]
["2.4","Incurred but not Paid (IBNP) Ending Balance-Subcontractors",{"$nulls":5},{"$f":"SUM(C21:G21)","v":0}]
["2.5","Settlements/AP",{"$nulls":5},{"$f":"SUM(C22:G22)","v":0}]
[2.6,"Total Benefit Expense before Reinsurance ",{"$f":"SUM(C18:C22)","v":0},0,0,0,0,0]
[2.7,"Net Cost of Reinsurance",{"$nulls":5},{"$f":"SUM(C24:G24)","v":0}]
["2.8","Total Benefit Expense after Reinsurance ",{"$f":"SUM(C23:C24)","v":0},0,0,0,0,0]
["Florida-Specific Contributions "]
["3.1","Funds to Graduate Medical Education institutions",{"$nulls":5},0]
["3.2","Contributions for the Purpose of Supporting Medicaid and Indigent Care",{"$nulls":5},{"$f":"SUM(C28:G28)","v":0}]
["3.3","Total Florida-Specific Contributions ",{"$f":"SUM(C27:C28)","v":0},{"$f":"SUM(D27:D28)","v":0},{"$f":"SUM(E27:E28)","v":0},0,0,{"$f":"SUM(H27:H28)","v":0}]
["Improving Health Care Quality Expenses Incurred"]
["4.1","Improve Health Outcomes",{"$nulls":5},0]
["4.2","Activities to Prevent Hospital Readmissions",{"$nulls":5},0]
["4.3","Improve Patient Safety and Reducing Medical Errors",{"$nulls":5},0]
["4.4","Wellness and Health Promotion Activities",{"$nulls":5},0]
["4.5","Health Information Technology (HIT) expenses related to Health Improvement",{"$nulls":5},0]
["4.6","Total of Defined Expenses incurred for improving Health Care Quality.",{"$f":"SUM(C31:C35)","v":0},{"$f":"SUM(D31:D35)","v":0},0,0,0,0]
["5.0","Deductible Fraud and Abuse Detection/Recovery Expenses ",{"$nulls":5},{"$f":"SUM(C37:G37)","v":0}]
["6.0","Preliminary Medical Loss Ratio: MLR ",{"$f":"IFERROR((C25+C29+C36+C37)/C15,0)","v":{"v":0,"d":"0%"}},{"v":0,"d":"0%"},{"v":0,"d":"0%"},{"v":0,"d":"0%"},{"v":0,"d":"0%"},{"v":0,"d":"0%"}]
["Annual Credibility Adjustment"]
["7.1","Member Months for Managed Care Plan (MM)"]
["7.2","Number of Member Months where MM is rounded down to the nearest annual Member Months (MMa)"]
["7.3","Number of Member Months where MM is rounded up to the nearest annual Member Months (MMb)"]
["7.4","Credibility Adjustment Factor for MMa (CAa)"]
["7.5","Credibility Adjustment Factor for MMb (CAb)"]
["7.6","Credibility Adjustment Calculation",{"$nulls":5},{"$f":"IFERROR(+H44+((H42-H40)/(H42-H41))*(H43-H44),0)","v":{"v":0,"d":"0.0%"}}]
["7.7","Calculated MLR",{"$nulls":5},{"$f":"H38","v":{"v":0,"d":"0%"}}]
["7.8","Final MLR (Apply Credibility Adjustment)",{"$nulls":5},{"$f":"H45+H46","v":{"v":0,"d":"0.0%"}}]

{"sheet":"Notes","index":25,"n_rows":25,"n_cols":8,"rows_kept":25}
["Notes - Details of Revenue Accrual and other revenue"]
[]
["Dental:"]
[]
["Dental Rev-Exp Line 1.1-1.2 Revenue Accrual  (add rows as needed)"]
["Description ","Line","Q1","Q2","Q3","Q4","Prior","Total (To Date)"]
[{"$nulls":7},{"$f":"SUM(C7:G7)","v":0}]
[{"$nulls":7},{"$f":"SUM(C8:G8)","v":0}]
[{"$nulls":7},0]
[{"$nulls":7},0]
[{"$nulls":7},0]
[{"$nulls":7},0]
[{"$nulls":7},0]
["Total Revenue Accrual",null,{"$f":"SUM(C7:C13)","v":0},{"$f":"SUM(D7:D13)","v":0},0,0,0,0]
[]
["Dental Rev-Exp Line 1.3 Other Revenue"]
["Description ","Line ","Q1","Q2","Q3","Q4","Prior","Total (To Date)"]
[null,1.3,{"$nulls":5},{"$f":"SUM(C18:G18)","v":0}]
[null,1.3,{"$nulls":5},{"$f":"SUM(C19:G19)","v":0}]
[null,1.3,{"$nulls":5},0]
[null,1.3,{"$nulls":5},{"$f":"SUM(C21:G21)","v":0}]
["Total Other Revenue",null,{"$f":"SUM(C18:C21)","v":0},{"$f":"SUM(D18:D21)","v":0},0,0,{"$f":"SUM(G18:G21)","v":0},{"$f":"SUM(C22:G22)","v":0}]
[]
[]
["Additional Notes - Report as Needed"]

{"sheet":"Encounter Instructions","index":26,"n_rows":22,"n_cols":15,"rows_kept":22,"merged":[[6,0,6,1],[6,2,6,14],[7,0,7,1]]}
["DENTAL -- ENCOUNTER DATA VERIFICATION SCHEDULE - SUMMARY"]
[]
["Purpose:  To reconcile encounter data submissions to Fee-for-Service (FFS) amounts reported on the Dental Revenue & Expense Summary Schedule"]
[]
[]
[]
["Benefit Expenses",null,"TOTAL (TO DATE)"]
["DESCRIPTION",null,"ASR Revenue & Expense Summary Amount1","Total Encounter Amount ($)2","Difference ($)","Difference (%)","Accepted Encounter Amount ($)3","Accepted Encounter Amount ($) % of Total","Rejected Encounter Amount ($)4","Rejected Encounter Amount ($) % of Total","Encounter Total Line Count (#)5","Accepted Encounter Line Count (#)6","Accepted Encounter Line Count (#) % of Total","Rejected Encounter Line Count (#)7","Rejected Encounter Line Count (#) % of Total"]
[]
[]
["Instructions"]
["1  This amount is pre-populated via a formula from the Revenue & Expense Summary Schedule.  This amount excludes the Prior Calendar Year(s) Adjustments column."]
["    The amount reported in this cell is the value that encounter data submissions are to be reconciled against."]
["2  The total amount of encounter data submitted to the Agency for the reporting period.  The total should be the sum of Accepted and Rejected encounter amounts."]
["3  The total amount of Accepted encounter claims submitted to the Agency for the reporting period."]
["4  The total amount of Rejected encounter claims submitted to the Agency for the reporting period."]
["5  The total number of encounter claim detail lines submitted to the Agency for the reporting period. The total should be the sum of Accepted and Rejected encounters."]
["6  The total number of Accepted encounter claim detail lines submitted to the Agency during for the reporting period."]
["7  The total number of Rejected encounter claim detail lines submitted to the Agency for the reporting period."]
[]
[]
[null,"Cells with grey shading are pre-populated through formulas and do not require plan entry."]

{"sheet":"Dental Encounter","index":27,"n_rows":24,"n_cols":15,"rows_kept":24,"merged":[[7,0,7,14],[9,0,9,1],[9,2,9,14],[10,0,10,1]]}
["DENTAL -- ENCOUNTER DATA VERIFICATION SCHEDULE - SUMMARY"]
[]
["Health Plan:"]
["Reporting Period:"]
["Paid Through:"]
["Summary"]
[]
["DENTAL "]
[]
["Benefit Expenses",null,"TOTAL (TO DATE)"]
["DESCRIPTION",null,"ASR Revenue & Expense Summary Amount","Encounter Amount ($)","Difference ($)","Difference (%)","Accepted Encounter Amount ($)","Accepted Encounter Amount ($) % of Total","Rejected Encounter Amount ($)","Rejected Encounter Amount ($) % of Total","Encounter Total Line Count (#)","Accepted Encounter Line Count (#)","Accepted Encounter Line Count (#) % of Total","Rejected Encounter Line Count (#)","Rejected Encounter Line Count (#) % of Total"]
["2.1","Dental Services Diagnostic FFS",{"$f":"'Dental Rev-Exp Summary'!AC17-'Dental Rev-Exp Summary'!AB17","v":0},null,{"$f":"C12-D12","v":0},{"$f":"IFERROR((C12-D12)/C12,0)","v":{"v":0,"d":"0%"}},null,{"$f":"(IFERROR(G12/D12,0))","v":{"v":0,"d":"0%"}},null,{"$f":"IFERROR(I12/D12,0)","v":{"v":0,"d":"0%"}},null,null,{"$f":"IFERROR(L12/$K12,0)","v":{"v":0,"d":"0%"}},null,{"$f":"IFERROR(N12/$K12,0)","v":{"v":0,"d":"0%"}}]
[2.2,"Dental Services Preventive FFS",{"$f":"'Dental Rev-Exp Summary'!AC18-'Dental Rev-Exp Summary'!AB18","v":0},null,{"$f":"C13-D13","v":0},{"v":0,"d":"0%"},null,{"$f":"(IFERROR(G13/D13,0))","v":{"v":0,"d":"0%"}},null,{"$f":"IFERROR(I13/D13,0)","v":{"v":0,"d":"0%"}},null,null,{"$f":"IFERROR(L13/$K13,0)","v":{"v":0,"d":"0%"}},null,{"$f":"IFERROR(N13/$K13,0)","v":{"v":0,"d":"0%"}}]
["2.3","Dental Services Restorative FFS",{"$f":"'Dental Rev-Exp Summary'!AC19-'Dental Rev-Exp Summary'!AB19","v":0},null,0,{"v":0,"d":"0%"},null,{"v":0,"d":"0%"},null,{"v":0,"d":"0%"},null,null,{"v":0,"d":"0%"},null,{"v":0,"d":"0%"}]
["2.4","Dental Services Endodontics FFS",{"$f":"'Dental Rev-Exp Summary'!AC20-'Dental Rev-Exp Summary'!AB20","v":0},null,0,{"v":0,"d":"0%"},null,{"v":0,"d":"0%"},null,{"v":0,"d":"0%"},null,null,{"v":0,"d":"0%"},null,{"v":0,"d":"0%"}]
["2.5","Dental Services Periodontics FFS",{"$f":"'Dental Rev-Exp Summary'!AC21-'Dental Rev-Exp Summary'!AB21","v":0},null,0,{"v":0,"d":"0%"},null,{"v":0,"d":"0%"},null,{"v":0,"d":"0%"},null,null,{"v":0,"d":"0%"},null,{"v":0,"d":"0%"}]
["2.6","Dental Services Prosthodontics FFS",{"$f":"'Dental Rev-Exp Summary'!AC22-'Dental Rev-Exp Summary'!AB22","v":0},null,0,{"v":0,"d":"0%"},null,{"v":0,"d":"0%"},null,{"v":0,"d":"0%"},null,null,{"v":0,"d":"0%"},null,{"v":0,"d":"0%"}]
["2.7","Dental Services Prosthodontics, fixed FFS",{"$f":"'Dental Rev-Exp Summary'!AC23-'Dental Rev-Exp Summary'!AB23","v":0},null,0,{"v":0,"d":"0%"},null,{"v":0,"d":"0%"},null,{"v":0,"d":"0%"},null,null,{"v":0,"d":"0%"},null,{"v":0,"d":"0%"}]
["2.8","Dental Services Oral and Maxillofacial Surgery FFS",{"$f":"'Dental Rev-Exp Summary'!AC24-'Dental Rev-Exp Summary'!AB24","v":0},null,0,{"v":0,"d":"0%"},null,{"v":0,"d":"0%"},null,{"v":0,"d":"0%"},null,null,{"v":0,"d":"0%"},null,{"v":0,"d":"0%"}]
["2.9","Dental Services Orthodontics FFS",{"$f":"'Dental Rev-Exp Summary'!AC25-'Dental Rev-Exp Summary'!AB25","v":0},null,0,{"v":0,"d":"0%"},null,{"v":0,"d":"0%"},null,{"v":0,"d":"0%"},null,null,{"v":0,"d":"0%"},null,{"v":0,"d":"0%"}]
["2.10","Dental Services Adjunctive General Services FFS",{"$f":"'Dental Rev-Exp Summary'!AC26-'Dental Rev-Exp Summary'!AB26","v":0},null,0,{"v":0,"d":"0%"},null,{"v":0,"d":"0%"},null,{"v":0,"d":"0%"},null,null,{"v":0,"d":"0%"},null,{"v":0,"d":"0%"}]
["2.11","Dental Services Other FFS",{"$f":"'Dental Rev-Exp Summary'!AC27-'Dental Rev-Exp Summary'!AB27","v":0},null,0,{"v":0,"d":"0%"},null,{"v":0,"d":"0%"},null,{"v":0,"d":"0%"},null,null,{"v":0,"d":"0%"},null,{"v":0,"d":"0%"}]
["2.12","Dental Expanded Benefits FFS",{"$f":"'Dental Rev-Exp Summary'!AC28-'Dental Rev-Exp Summary'!AB28","v":0},null,0,{"v":0,"d":"0%"},null,{"v":0,"d":"0%"},null,{"v":0,"d":"0%"},null,null,{"v":0,"d":"0%"},null,{"v":0,"d":"0%"}]
[3.1,"Total Dental Services Paid Directly FFS",{"$f":"SUM(C12:C23)","v":0},{"$f":"SUM(D12:D23)","v":0},{"$f":"C24-D24","v":0},{"v":0,"d":"0%"},{"$f":"SUM(G12:G23)","v":0},{"$f":"(IFERROR(G24/D24,0))","v":{"v":0,"d":"0%"}},{"$f":"SUM(I12:I23)","v":0},{"v":0,"d":"0%"},{"$f":"SUM(K12:K23)","v":0},{"$f":"SUM(L12:L23)","v":0},{"v":0,"d":"0%"},{"$f":"SUM(N12:N23)","v":0},{"v":0,"d":"0%"}]

{"sheet":"Data Calc Input","index":28,"n_rows":32,"n_cols":15,"rows_kept":32,"hidden":true,"merged":[[1,2,1,3],[1,13,1,14],[2,2,3,3],[2,13,3,14],[26,2,26,3]]}
[]
[null,null,"Enter your input here:",{"$nulls":10},"Sample Input for Dentaquest Unaudited 2019Q1 ASR"]
[null,null,"Input",{"$nulls":10},"Input"]
[null,null,"User inputs and controls."]
[null,null,"Column","Input",{"$nulls":9},"Column","Input"]
[null,null,"File Name",{"$f":"CurrentFileName()","v":"ASR-Dental_Financial_Report_SMMC_03.21.23"},"Current file name.  Do not change.",{"$nulls":8},"File Name","ASR Template Effective 4-1-2017"]
[null,null,"File Date",{"$f":"CurrentDate()","v":"2023-03-21"},"Current date.  Do not change unless you need to add another date.",{"$nulls":8},"File Date","2019-02-15"]
[null,null,"Status","Unaudited","Current ASR status.  Use the drop down to add whether ASR is unaudited or audited.",{"$nulls":8},"Status","Unaudited"]
[null,null,"Dental Contract","Dental","SMMC program. Do not change.",{"$nulls":8},"Dental Contract","Dental"]
[null,null,"Plan ID3","DEF","Three letter Plan ID.  Add according to the 3 letter Plan ID mapping below.",{"$nulls":8},"Plan ID","DQT"]
[null,null,"Plan Name",{"$f":"IFERROR(VLOOKUP(plan_id,$C$28:$D$32,2,FALSE),\"\")","v":"Default"},"Full plan name.  Do not change.",{"$nulls":8},"Plan Name","Dentaquest"]
[null,null,"Reporting Year",{"$f":"IFERROR(YEAR(reporting_quarter),\"\")","v":1900},"Reporting year.  Do not change.",{"$nulls":8},"Reporting Year",2019]
[null,null,"Reporting Quarter","1900-01-01","Reporting quarter.  Add the last day of the quarter of the current ASR report.",{"$nulls":8},"Reporting Quarter","2019-03-31"]
[null,null,"# of Dental Rate Groups",5,"Number of rate groups in Dental.  Only change if this actually changes in the future.",{"$nulls":8},"# of Dental Rate Groups",5]
[null,null,"# of Quarters",5,"Number of quarters in a year (including prior year quarter).  Do not change.",{"$nulls":8},"# of Quarters",5]
[null,null,"# of Regions",11,"Number of regions.  Do not change.",{"$nulls":8},"# of Regions",11]
{"$rows_empty":10}
[null,null,"Plan Mapping"]
[null,null,"Plan ID3","Plan Name"]
[null,null,"DEF","Default"]
[null,null,"DQT","DentaQuest"]
[null,null,"LIB","Liberty"]
[null,null,"MCA","Managed Care of North America"]

{"sheet":"Transaction Mapping","index":29,"n_rows":42,"n_cols":7,"rows_kept":42,"hidden":true,"merged":[[3,2,4,6]]}
["Dental Count",{"$f":"COUNTA($C$7:$C171)","v":36}]
[]
[]
[null,null,"Dental Transaction Mapping"]
[]
[null,null,"Transaction Class","Transaction Type","Transaction Category","Report Line","Report Description"]
[null,null,"Member Months","Member Months","Member Months",null,"Member Months"]
[null,null,"Operating Revenue","Capitation","Capitation","1.1","Capitation"]
[null,null,"Operating Revenue","Other Revenue","Other Revenue - 9010","1.2","ACA § 9010 related payments"]
[null,null,"Operating Revenue","Other Revenue","Other Revenue","1.3","Other Revenue"]
[null,null,"Operating Expense","Medical Expense","Dental Services","2.1","Dental Services Diagnostic"]
[null,null,"Operating Expense","Medical Expense","Dental Services",2.2,"Dental Services Preventive"]
[null,null,"Operating Expense","Medical Expense","Dental Services","2.3","Dental Services Restorative"]
[null,null,"Operating Expense","Medical Expense","Dental Services","2.4","Dental Services Endodontics"]
[null,null,"Operating Expense","Medical Expense","Dental Services","2.5","Dental Services Periodontics"]
[null,null,"Operating Expense","Medical Expense","Dental Services","2.6","Dental Services Prosthodontics"]
[null,null,"Operating Expense","Medical Expense","Dental Services","2.7","Dental Services Prosthodontics, fixed"]
[null,null,"Operating Expense","Medical Expense","Dental Services","2.8","Dental Services Oral and Maxillofacial Surgery"]
[null,null,"Operating Expense","Medical Expense","Dental Services","2.9","Dental Services Orthodontics"]
[null,null,"Operating Expense","Medical Expense","Dental Services","2.10","Dental Services Adjunctive General Services"]
[null,null,"Operating Expense","Medical Expense","Dental Services","2.11","Dental Services Other"]
[null,null,"Operating Expense","Medical Expense","Expanded Benefits","2.12","Dental Expanded Benefits"]
[null,null,"Operating Expense","Medical Expense","Dental Services","2.13","Dental Services Paid through Subcapitation"]
[null,null,"Operating Expense","Medical Expense","Dental Services","2.14","Ending IBNP for Dental Services"]
[null,null,"Operating Expense","Medical Expense","Dental Services","2.15","Dental Settlements/AP"]
[null,null,"Operating Expense","Medical Expense","Other Medical","3.5","TPL & Fraud/Abuse Recoveries"]
[null,null,"Operating Expense","Medical Expense","Other Medical",3.6,"Premium Deficiency Reserve"]
[null,null,"Operating Expense","Medical Expense","Other Medical","3.8","Reinsurance Premiums"]
[null,null,"Operating Expense","Medical Expense","Other Medical","3.9","Reinsurance Recoveries"]
[null,null,"Operating Expense","Administrative Expense","Administrative","4.1","Salaries & Benefits"]
[null,null,"Operating Expense","Administrative Expense","Administrative","4.2","Administrative Services"]
[null,null,"Operating Expense","Administrative Expense","Administrative","4.3","Information Systems"]
[null,null,"Operating Expense","Administrative Expense","Administrative","4.4","Marketing Expenses"]
[null,null,"Operating Expense","Administrative Expense","Administrative","4.5","General  Administration"]
[null,null,"Operating Expense","Administrative Expense","Administrative","4.6","Compliance/Regulatory"]
[null,null,"Operating Expense","Taxes & Fees","Taxes & Fees","5.1","State Premium tax"]
[null,null,"Operating Expense","Taxes & Fees","Taxes & Fees","5.2","Department of Insurance Assessments"]
[null,null,"Operating Expense","Taxes & Fees","Taxes & Fees","5.3","Section 9010 Health Insurance Providers Fee"]
[null,null,"Operating Expense","Taxes & Fees","Taxes & Fees","5.4","Other 1"]
[null,null,"Operating Expense","Taxes & Fees","Taxes & Fees","5.5","Other 2"]
[null,null,"Operating Expense","Taxes & Fees","Taxes & Fees","5.6","Other 3"]
[null,null,"Non-Operating Expense","Income Tax Expense","Income Tax Expense","8.0","Income Tax Expense"]

{"sheet":"Dental Data","index":30,"n_rows":2161,"n_cols":22,"rows_kept":2161,"hidden":true}
["Contract","Plan ID","Plan Name","Reporting Year","Reporting Quarter","Calendar Quarter","Quarter Ending","Region","Transaction Class","Transaction Type","Transaction Category","Report Line","Report Description","Total","Medicaid Only/Dual Eligible 0-20 Years","Medicaid Only 21+ Years","Dual Eligible 21+ Years","Medically Needy 0-20 Years","Medically Needy 21+ Years","File Name","File Date","Status"]
["Dental","DEF","Default",1900,"1900-01-01","Q1","1900-03-31","Summary","Member Months","Member Months","Member Months",null,"Member Months",{"$f":"IF(OR(AND($F2=\"PY\",N$1<>\"Prior Year\"),AND($F2<>\"PY\",N$1=\"Prior Year\")),0,INDEX(INDIRECT(\"'Dental Rev-Exp \"&$H2&\"'!$A$1:$CA$200\"),IF($J2=\"Member Months\",MATCH($J2,INDIRECT(\"'Dental Rev-Exp \"&$H2&\"'!$A$1:$A$200\"),0),MATCH($L2,INDIRECT(\"'Dental Rev-Exp \"&$H2&\"'!$B$1:$B$200\"),0)),IF($F2=\"PY\",MATCH(\"Prior Year Adjustments\",INDIRECT(\"'Dental Rev-Exp \"&$H2&\"'!$A$8:$CA$8\"),0),MATCH(IF($F2=\"Q1\",\"JANUARY - MARCH (Q1)\",IF($F2=\"Q2\",\"APRIL - JUNE (Q2)\",IF($F2=\"Q3\",\"JULY - SEPTEMBER (Q3)\",IF($F2=\"Q4\",\"OCTOBER - DECEMBER (Q4)\",0)))),INDIRECT(\"'Dental Rev-Exp \"&$H2&\"'!$A$7:$CA$7\"),0)+MATCH(N$1,INDIRECT(\"'Dental Rev-Exp \"&$H2&\"'!$D$8:$CA$8\"),0)-1)))","v":{"v":0,"d":"$0.00"}},{"v":0,"d":"$0.00"},{"v":0,"d":"$0.00"},{"v":0,"d":"$0.00"},{"v":0,"d":"$0.00"},{"v":0,"d":"$0.00"},{"$f":"file_name","v":"ASR-Dental_Financial_Report_SMMC_03.21.23"},{"$f":"file_date","v":"2023-03-21"},{"$f":"status","v":"Unaudited"}]
["Dental","DEF","Default",1900,"1900-01-01","Q1","1900-03-31","Summary","Operating Revenue","Capitation","Capitation","1.1","Capitation",{"v":0,"d":"$0.00"},{"v":0,"d":"$0.00"},{"v":0,"d":"$0.00"},{"v":0,"d":"$0.00"},{"v":0,"d":"$0.00"},{"v":0,"d":"$0.00"},"ASR-Dental_Financial_Report_SMMC_03.21.23","2023-03-21","Unaudited"]
["Dental","DEF","Default",1900,"1900-01-01","Q1","1900-03-31","Summary","Operating Revenue","Other Revenue","Other Revenue - 9010","1.2","ACA § 9010 related payments",{"v":0,"d":"$0.00"},{"v":0,"d":"$0.00"},{"v":0,"d":"$0.00"},{"v":0,"d":"$0.00"},{"v":0,"d":"$0.00"},{"v":0,"d":"$0.00"},"ASR-Dental_Financial_Report_SMMC_03.21.23","2023-03-21","Unaudited"]
["Dental","DEF","Default",1900,"1900-01-01","Q1","1900-03-31","Summary","Operating Revenue","Other Revenue","Other Revenue","1.3","Other Revenue",{"v":0,"d":"$0.00"},{"v":0,"d":"$0.00"},{"v":0,"d":"$0.00"},{"v":0,"d":"$0.00"},{"v":0,"d":"$0.00"},{"v":0,"d":"$0.00"},"ASR-Dental_Financial_Report_SMMC_03.21.23","2023-03-21","Unaudited"]
["Dental","DEF","Default",1900,"1900-01-01","Q1","1900-03-31","Summary","Operating Expense","Medical Expense","Dental Services","2.1","Dental Services Diagnostic",{"v":0,"d":"$0.00"},{"v":0,"d":"$0.00"},{"v":0,"d":"$0.00"},{"v":0,"d":"$0.00"},{"v":0,"d":"$0.00"},{"v":0,"d":"$0.00"},"ASR-Dental_Financial_Report_SMMC_03.21.23","2023-03-21","Unaudited"]
["Dental","DEF","Default",1900,"1900-01-01","Q1","1900-03-31","Summary","Operating Expense","Medical Expense","Dental Services",2.2,"Dental Services Preventive",{"v":0,"d":"$0.00"},{"v":0,"d":"$0.00"},{"v":0,"d":"$0.00"},{"v":0,"d":"$0.00"},{"v":0,"d":"$0.00"},{"v":0,"d":"$0.00"},"ASR-Dental_Financial_Report_SMMC_03.21.23","2023-03-21","Unaudited"]
["Dental","DEF","Default",1900,"1900-01-01","Q1","1900-03-31","Summary","Operating Expense","Medical Expense","Dental Services","2.3","Dental Services Restorative",{"v":0,"d":"$0.00"},{"v":0,"d":"$0.00"},{"v":0,"d":"$0.00"},{"v":0,"d":"$0.00"},{"v":0,"d":"$0.00"},{"v":0,"d":"$0.00"},"ASR-Dental_Financial_Report_SMMC_03.21.23","2023-03-21","Unaudited"]
["Dental","DEF","Default",1900,"1900-01-01","Q1","1900-03-31","Summary","Operating Expense","Medical Expense","Dental Services","2.4","Dental Services Endodontics",{"v":0,"d":"$0.00"},{"v":0,"d":"$0.00"},{"v":0,"d":"$0.00"},{"v":0,"d":"$0.00"},{"v":0,"d":"$0.00"},{"v":0,"d":"$0.00"},"ASR-Dental_Financial_Report_SMMC_03.21.23","2023-03-21","Unaudited"]
["Dental","DEF","Default",1900,"1900-01-01","Q1","1900-03-31","Summary","Operating Expense","Medical Expense","Dental Services","2.5","Dental Services Periodontics",{"v":0,"d":"$0.00"},{"v":0,"d":"$0.00"},{"v":0,"d":"$0.00"},{"v":0,"d":"$0.00"},{"v":0,"d":"$0.00"},{"v":0,"d":"$0.00"},"ASR-Dental_Financial_Report_SMMC_03.21.23","2023-03-21","Unaudited"]
["Dental","DEF","Default",1900,"1900-01-01","Q1","1900-03-31","Summary","Operating Expense","Medical Expense","Dental Services","2.6","Dental Services Prosthodontics",{"v":0,"d":"$0.00"},{"v":0,"d":"$0.00"},{"v":0,"d":"$0.00"},{"v":0,"d":"$0.00"},{"v":0,"d":"$0.00"},{"v":0,"d":"$0.00"},"ASR-Dental_Financial_Report_SMMC_03.21.23","2023-03-21","Unaudited"]
["Dental","DEF","Default",1900,"1900-01-01","Q1","1900-03-31","Summary","Operating Expense","Medical Expense","Dental Services","2.7","Dental Services Prosthodontics, fixed",{"$f":"IF(OR(AND($F12=\"PY\",N$1<>\"Prior Year\"),AND($F12<>\"PY\",N$1=\"Prior Year\")),0,INDEX(INDIRECT(\"'Dental Rev-Exp \"&$H12&\"'!$A$1:$CA$200\"),IF($J12=\"Member Months\",MATCH($J12,INDIRECT(\"'Dental Rev-Exp \"&$H12&\"'!$A$1:$A$200\"),0),MATCH($L12,INDIRECT(\"'Dental Rev-Exp \"&$H12&\"'!$B$1:$B$200\"),0)),IF($F12=\"PY\",MATCH(\"Prior Year Adjustments\",INDIRECT(\"'Dental Rev-Exp \"&$H12&\"'!$A$8:$CA$8\"),0),MATCH(IF($F12=\"Q1\",\"JANUARY - MARCH (Q1)\",IF($F12=\"Q2\",\"APRIL - JUNE (Q2)\",IF($F12=\"Q3\",\"JULY - SEPTEMBER (Q3)\",IF($F12=\"Q4\",\"OCTOBER - DECEMBER (Q4)\",0)))),INDIRECT(\"'Dental Rev-Exp \"&$H12&\"'!$A$7:$CA$7\"),0)+MATCH(N$1,INDIRECT(\"'Dental Rev-Exp \"&$H12&\"'!$D$8:$CA$8\"),0)-1)))","v":{"v":0,"d":"$0.00"}},{"v":0,"d":"$0.00"},{"v":0,"d":"$0.00"},{"v":0,"d":"$0.00"},{"v":0,"d":"$0.00"},{"v":0,"d":"$0.00"},"ASR-Dental_Financial_Report_SMMC_03.21.23","2023-03-21","Unaudited"]
["Dental","DEF","Default",1900,"1900-01-01","Q1","1900-03-31","Summary","Operating Expense","Medical Expense","Dental Services","2.8","Dental Services Oral and Maxillofacial Surgery",{"v":0,"d":"$0.00"},{"v":0,"d":"$0.00"},{"v":0,"d":"$0.00"},{"v":0,"d":"$0.00"},{"v":0,"d":"$0.00"},{"v":0,"d":"$0.00"},"ASR-Dental_Financial_Report_SMMC_03.21.23","2023-03-21","Unaudited"]
["Dental","DEF","Default",1900,"1900-01-01","Q1","1900-03-31","Summary","Operating Expense","Medical Expense","Dental Services","2.9","Dental Services Orthodontics",{"v":0,"d":"$0.00"},{"v":0,"d":"$0.00"},{"v":0,"d":"$0.00"},{"v":0,"d":"$0.00"},{"v":0,"d":"$0.00"},{"v":0,"d":"$0.00"},"ASR-Dental_Financial_Report_SMMC_03.21.23","2023-03-21","Unaudited"]
["Dental","DEF","Default",1900,"1900-01-01","Q1","1900-03-31","Summary","Operating Expense","Medical Expense","Dental Services","2.10","Dental Services Adjunctive General Services",{"v":0,"d":"$0.00"},{"v":0,"d":"$0.00"},{"v":0,"d":"$0.00"},{"v":0,"d":"$0.00"},{"v":0,"d":"$0.00"},{"v":0,"d":"$0.00"},"ASR-Dental_Financial_Report_SMMC_03.21.23","2023-03-21","Unaudited"]
["Dental","DEF","Default",1900,"1900-01-01","Q1","1900-03-31","Summary","Operating Expense","Medical Expense","Dental Services","2.11","Dental Services Other",{"v":0,"d":"$0.00"},{"v":0,"d":"$0.00"},{"v":0,"d":"$0.00"},{"v":0,"d":"$0.00"},{"v":0,"d":"$0.00"},{"v":0,"d":"$0.00"},"ASR-Dental_Financial_Report_SMMC_03.21.23","2023-03-21","Unaudited"]
["Dental","DEF","Default",1900,"1900-01-01","Q1","1900-03-31","Summary","Operating Expense","Medical Expense","Expanded Benefits","2.12","Dental Expanded Benefits",{"v":0,"d":"$0.00"},{"v":0,"d":"$0.00"},{"v":0,"d":"$0.00"},{"v":0,"d":"$0.00"},{"v":0,"d":"$0.00"},{"v":0,"d":"$0.00"},"ASR-Dental_Financial_Report_SMMC_03.21.23","2023-03-21","Unaudited"]
["Dental","DEF","Default",1900,"1900-01-01","Q1","1900-03-31","Summary","Operating Expense","Medical Expense","Dental Services","2.13","Dental Services Paid through Subcapitation",{"v":0,"d":"$0.00"},{"v":0,"d":"$0.00"},{"v":0,"d":"$0.00"},{"v":0,"d":"$0.00"},{"v":0,"d":"$0.00"},{"v":0,"d":"$0.00"},"ASR-Dental_Financial_Report_SMMC_03.21.23","2023-03-21","Unaudited"]
["Dental","DEF","Default",1900,"1900-01-01","Q1","1900-03-31","Summary","Operating Expense","Medical Expense","Dental Services","2.14","Ending IBNP for Dental Services",{"v":0,"d":"$0.00"},{"v":0,"d":"$0.00"},{"v":0,"d":"$0.00"},{"v":0,"d":"$0.00"},{"v":0,"d":"$0.00"},{"v":0,"d":"$0.00"},"ASR-Dental_Financial_Report_SMMC_03.21.23","2023-03-21","Unaudited"]
["Dental","DEF","Default",1900,"1900-01-01","Q1","1900-03-31","Summary","Operating Expense","Medical Expense","Dental Services","2.15","Dental Settlements/AP",{"v":0,"d":"$0.00"},{"v":0,"d":"$0.00"},{"v":0,"d":"$0.00"},{"v":0,"d":"$0.00"},{"v":0,"d":"$0.00"},{"v":0,"d":"$0.00"},"ASR-Dental_Financial_Report_SMMC_03.21.23","2023-03-21","Unaudited"]
["Dental","DEF","Default",1900,"1900-01-01","Q1","1900-03-31","Summary","Operating Expense","Medical Expense","Other Medical","3.5","TPL & Fraud/Abuse Recoveries",{"v":0,"d":"$0.00"},{"v":0,"d":"$0.00"},{"v":0,"d":"$0.00"},{"v":0,"d":"$0.00"},{"v":0,"d":"$0.00"},{"v":0,"d":"$0.00"},"ASR-Dental_Financial_Report_SMMC_03.21.23","2023-03-21","Unaudited"]
["Dental","DEF","Default",1900,"1900-01-01","Q1","1900-03-31","Summary","Operating Expense","Medical Expense","Other Medical",3.6,"Premium Deficiency Reserve",{"$f":"IF(OR(AND($F22=\"PY\",N$1<>\"Prior Year\"),AND($F22<>\"PY\",N$1=\"Prior Year\")),0,INDEX(INDIRECT(\"'Dental Rev-Exp \"&$H22&\"'!$A$1:$CA$200\"),IF($J22=\"Member Months\",MATCH($J22,INDIRECT(\"'Dental Rev-Exp \"&$H22&\"'!$A$1:$A$200\"),0),MATCH($L22,INDIRECT(\"'Dental Rev-Exp \"&$H22&\"'!$B$1:$B$200\"),0)),IF($F22=\"PY\",MATCH(\"Prior Year Adjustments\",INDIRECT(\"'Dental Rev-Exp \"&$H22&\"'!$A$8:$CA$8\"),0),MATCH(IF($F22=\"Q1\",\"JANUARY - MARCH (Q1)\",IF($F22=\"Q2\",\"APRIL - JUNE (Q2)\",IF($F22=\"Q3\",\"JULY - SEPTEMBER (Q3)\",IF($F22=\"Q4\",\"OCTOBER - DECEMBER (Q4)\",0)))),INDIRECT(\"'Dental Rev-Exp \"&$H22&\"'!$A$7:$CA$7\"),0)+MATCH(N$1,INDIRECT(\"'Dental Rev-Exp \"&$H22&\"'!$D$8:$CA$8\"),0)-1)))","v":{"v":0,"d":"$0.00"}},{"v":0,"d":"$0.00"},{"v":0,"d":"$0.00"},{"v":0,"d":"$0.00"},{"v":0,"d":"$0.00"},{"v":0,"d":"$0.00"},"ASR-Dental_Financial_Report_SMMC_03.21.23","2023-03-21","Unaudited"]
["Dental","DEF","Default",1900,"1900-01-01","Q1","1900-03-31","Summary","Operating Expense","Medical Expense","Other Medical","3.8","Reinsurance Premiums",{"v":0,"d":"$0.00"},{"v":0,"d":"$0.00"},{"v":0,"d":"$0.00"},{"v":0,"d":"$0.00"},{"v":0,"d":"$0.00"},{"v":0,"d":"$0.00"},"ASR-Dental_Financial_Report_SMMC_03.21.23","2023-03-21","Unaudited"]
["Dental","DEF","Default",1900,"1900-01-01","Q1","1900-03-31","Summary","Operating Expense","Medical Expense","Other Medical","3.9","Reinsurance Recoveries",{"v":0,"d":"$0.00"},{"v":0,"d":"$0.00"},{"v":0,"d":"$0.00"},{"v":0,"d":"$0.00"},{"v":0,"d":"$0.00"},{"v":0,"d":"$0.00"},"ASR-Dental_Financial_Report_SMMC_03.21.23","2023-03-21","Unaudited"]
["Dental","DEF","Default",1900,"1900-01-01","Q1","1900-03-31","Summary","Operating Expense","Administrative Expense","Administrative","4.1","Salaries & Benefits",{"v":0,"d":"$0.00"},{"v":0,"d":"$0.00"},{"v":0,"d":"$0.00"},{"v":0,"d":"$0.00"},{"v":0,"d":"$0.00"},{"v":0,"d":"$0.00"},"ASR-Dental_Financial_Report_SMMC_03.21.23","2023-03-21","Unaudited"]
["Dental","DEF","Default",1900,"1900-01-01","Q1","1900-03-31","Summary","Operating Expense","Administrative Expense","Administrative","4.2","Administrative Services",{"v":0,"d":"$0.00"},{"v":0,"d":"$0.00"},{"v":0,"d":"$0.00"},{"v":0,"d":"$0.00"},{"v":0,"d":"$0.00"},{"v":0,"d":"$0.00"},"ASR-Dental_Financial_Report_SMMC_03.21.23","2023-03-21","Unaudited"]
["Dental","DEF","Default",1900,"1900-01-01","Q1","1900-03-31","Summary","Operating Expense","Administrative Expense","Administrative","4.3","Information Systems",{"v":0,"d":"$0.00"},{"v":0,"d":"$0.00"},{"v":0,"d":"$0.00"},{"v":0,"d":"$0.00"},{"v":0,"d":"$0.00"},{"v":0,"d":"$0.00"},"ASR-Dental_Financial_Report_SMMC_03.21.23","2023-03-21","Unaudited"]
["Dental","DEF","Default",1900,"1900-01-01","Q1","1900-03-31","Summary","Operating Expense","Administrative Expense","Administrative","4.4","Marketing Expenses",{"v":0,"d":"$0.00"},{"v":0,"d":"$0.00"},{"v":0,"d":"$0.00"},{"v":0,"d":"$0.00"},{"v":0,"d":"$0.00"},{"v":0,"d":"$0.00"},"ASR-Dental_Financial_Report_SMMC_03.21.23","2023-03-21","Unaudited"]
["Dental","DEF","Default",1900,"1900-01-01","Q1","1900-03-31","Summary","Operating Expense","Administrative Expense","Administrative","4.5","General  Administration",{"v":0,"d":"$0.00"},{"v":0,"d":"$0.00"},{"v":0,"d":"$0.00"},{"v":0,"d":"$0.00"},{"v":0,"d":"$0.00"},{"v":0,"d":"$0.00"},"ASR-Dental_Financial_Report_SMMC_03.21.23","2023-03-21","Unaudited"]
["Dental","DEF","Default",1900,"1900-01-01","Q1","1900-03-31","Summary","Operating Expense","Administrative Expense","Administrative","4.6","Compliance/Regulatory",{"v":0,"d":"$0.00"},{"v":0,"d":"$0.00"},{"v":0,"d":"$0.00"},{"v":0,"d":"$0.00"},{"v":0,"d":"$0.00"},{"v":0,"d":"$0.00"},"ASR-Dental_Financial_Report_SMMC_03.21.23","2023-03-21","Unaudited"]
["Dental","DEF","Default",1900,"1900-01-01","Q1","1900-03-31","Summary","Operating Expense","Taxes & Fees","Taxes & Fees","5.1","State Premium tax",{"v":0,"d":"$0.00"},{"v":0,"d":"$0.00"},{"v":0,"d":"$0.00"},{"v":0,"d":"$0.00"},{"v":0,"d":"$0.00"},{"v":0,"d":"$0.00"},"ASR-Dental_Financial_Report_SMMC_03.21.23","2023-03-21","Unaudited"]
["Dental","DEF","Default",1900,"1900-01-01","Q1","1900-03-31","Summary","Operating Expense","Taxes & Fees","Taxes & Fees","5.2","Department of Insurance Assessments",{"$f":"IF(OR(AND($F32=\"PY\",N$1<>\"Prior Year\"),AND($F32<>\"PY\",N$1=\"Prior Year\")),0,INDEX(INDIRECT(\"'Dental Rev-Exp \"&$H32&\"'!$A$1:$CA$200\"),IF($J32=\"Member Months\",MATCH($J32,INDIRECT(\"'Dental Rev-Exp \"&$H32&\"'!$A$1:$A$200\"),0),MATCH($L32,INDIRECT(\"'Dental Rev-Exp \"&$H32&\"'!$B$1:$B$200\"),0)),IF($F32=\"PY\",MATCH(\"Prior Year Adjustments\",INDIRECT(\"'Dental Rev-Exp \"&$H32&\"'!$A$8:$CA$8\"),0),MATCH(IF($F32=\"Q1\",\"JANUARY - MARCH (Q1)\",IF($F32=\"Q2\",\"APRIL - JUNE (Q2)\",IF($F32=\"Q3\",\"JULY - SEPTEMBER (Q3)\",IF($F32=\"Q4\",\"OCTOBER - DECEMBER (Q4)\",0)))),INDIRECT(\"'Dental Rev-Exp \"&$H32&\"'!$A$7:$CA$7\"),0)+MATCH(N$1,INDIRECT(\"'Dental Rev-Exp \"&$H32&\"'!$D$8:$CA$8\"),0)-1)))","v":{"v":0,"d":"$0.00"}},{"v":0,"d":"$0.00"},{"v":0,"d":"$0.00"},{"v":0,"d":"$0.00"},{"v":0,"d":"$0.00"},{"v":0,"d":"$0.00"},"ASR-Dental_Financial_Report_SMMC_03.21.23","2023-03-21","Unaudited"]
["Dental","DEF","Default",1900,"1900-01-01","Q1","1900-03-31","Summary","Operating Expense","Taxes & Fees","Taxes & Fees","5.3","Section 9010 Health Insurance Providers Fee",{"v":0,"d":"$0.00"},{"v":0,"d":"$0.00"},{"v":0,"d":"$0.00"},{"v":0,"d":"$0.00"},{"v":0,"d":"$0.00"},{"v":0,"d":"$0.00"},"ASR-Dental_Financial_Report_SMMC_03.21.23","2023-03-21","Unaudited"]
["Dental","DEF","Default",1900,"1900-01-01","Q1","1900-03-31","Summary","Operating Expense","Taxes & Fees","Taxes & Fees","5.4","Other 1",{"v":0,"d":"$0.00"},{"v":0,"d":"$0.00"},{"v":0,"d":"$0.00"},{"v":0,"d":"$0.00"},{"v":0,"d":"$0.00"},{"v":0,"d":"$0.00"},"ASR-Dental_Financial_Report_SMMC_03.21.23","2023-03-21","Unaudited"]
["Dental","DEF","Default",1900,"1900-01-01","Q1","1900-03-31","Summary","Operating Expense","Taxes & Fees","Taxes & Fees","5.5","Other 2",{"v":0,"d":"$0.00"},{"v":0,"d":"$0.00"},{"v":0,"d":"$0.00"},{"v":0,"d":"$0.00"},{"v":0,"d":"$0.00"},{"v":0,"d":"$0.00"},"ASR-Dental_Financial_Report_SMMC_03.21.23","2023-03-21","Unaudited"]
["Dental","DEF","Default",1900,"1900-01-01","Q1","1900-03-31","Summary","Operating Expense","Taxes & Fees","Taxes & Fees","5.6","Other 3",{"v":0,"d":"$0.00"},{"v":0,"d":"$0.00"},{"v":0,"d":"$0.00"},{"v":0,"d":"$0.00"},{"v":0,"d":"$0.00"},{"v":0,"d":"$0.00"},"ASR-Dental_Financial_Report_SMMC_03.21.23","2023-03-21","Unaudited"]
["Dental","DEF","Default",1900,"1900-01-01","Q1","1900-03-31","Summary","Non-Operating Expense","Income Tax Expense","Income Tax Expense","8.0","Income Tax Expense",{"v":0,"d":"$0.00"},{"v":0,"d":"$0.00"},{"v":0,"d":"$0.00"},{"v":0,"d":"$0.00"},{"v":0,"d":"$0.00"},{"v":0,"d":"$0.00"},"ASR-Dental_Financial_Report_SMMC_03.21.23","2023-03-21","Unaudited"]
["Dental","DEF","Default",1900,"1900-01-01","Q2","1900-06-30","Summary","Member Months","Member Months","Member Months",null,"Member Months",{"v":0,"d":"$0.00"},{"v":0,"d":"$0.00"},{"v":0,"d":"$0.00"},{"v":0,"d":"$0.00"},{"v":0,"d":"$0.00"},{"v":0,"d":"$0.00"},"ASR-Dental_Financial_Report_SMMC_03.21.23","2023-03-21","Unaudited"]
["Dental","DEF","Default",1900,"1900-01-01","Q2","1900-06-30","Summary","Operating Revenue","Capitation","Capitation","1.1","Capitation",{"v":0,"d":"$0.00"},{"v":0,"d":"$0.00"},{"v":0,"d":"$0.00"},{"v":0,"d":"$0.00"},{"v":0,"d":"$0.00"},{"v":0,"d":"$0.00"},"ASR-Dental_Financial_Report_SMMC_03.21.23","2023-03-21","Unaudited"]
["Dental","DEF","Default",1900,"1900-01-01","Q2","1900-06-30","Summary","Operating Revenue","Other Revenue","Other Revenue - 9010","1.2","ACA § 9010 related payments",{"v":0,"d":"$0.00"},{"v":0,"d":"$0.00"},{"v":0,"d":"$0.00"},{"v":0,"d":"$0.00"},{"v":0,"d":"$0.00"},{"v":0,"d":"$0.00"},"ASR-Dental_Financial_Report_SMMC_03.21.23","2023-03-21","Unaudited"]
["Dental","DEF","Default",1900,"1900-01-01","Q2","1900-06-30","Summary","Operating Revenue","Other Revenue","Other Revenue","1.3","Other Revenue",{"v":0,"d":"$0.00"},{"v":0,"d":"$0.00"},{"v":0,"d":"$0.00"},{"v":0,"d":"$0.00"},{"v":0,"d":"$0.00"},{"v":0,"d":"$0.00"},"ASR-Dental_Financial_Report_SMMC_03.21.23","2023-03-21","Unaudited"]
["Dental","DEF","Default",1900,"1900-01-01","Q2","1900-06-30","Summary","Operating Expense","Medical Expense","Dental Services","2.1","Dental Services Diagnostic",{"$f":"IF(OR(AND($F42=\"PY\",N$1<>\"Prior Year\"),AND($F42<>\"PY\",N$1=\"Prior Year\")),0,INDEX(INDIRECT(\"'Dental Rev-Exp \"&$H42&\"'!$A$1:$CA$200\"),IF($J42=\"Member Months\",MATCH($J42,INDIRECT(\"'Dental Rev-Exp \"&$H42&\"'!$A$1:$A$200\"),0),MATCH($L42,INDIRECT(\"'Dental Rev-Exp \"&$H42&\"'!$B$1:$B$200\"),0)),IF($F42=\"PY\",MATCH(\"Prior Year Adjustments\",INDIRECT(\"'Dental Rev-Exp \"&$H42&\"'!$A$8:$CA$8\"),0),MATCH(IF($F42=\"Q1\",\"JANUARY - MARCH (Q1)\",IF($F42=\"Q2\",\"APRIL - JUNE (Q2)\",IF($F42=\"Q3\",\"JULY - SEPTEMBER (Q3)\",IF($F42=\"Q4\",\"OCTOBER - DECEMBER (Q4)\",0)))),INDIRECT(\"'Dental Rev-Exp \"&$H42&\"'!$A$7:$CA$7\"),0)+MATCH(N$1,INDIRECT(\"'Dental Rev-Exp \"&$H42&\"'!$D$8:$CA$8\"),0)-1)))","v":{"v":0,"d":"$0.00"}},{"v":0,"d":"$0.00"},{"v":0,"d":"$0.00"},{"v":0,"d":"$0.00"},{"v":0,"d":"$0.00"},{"v":0,"d":"$0.00"},"ASR-Dental_Financial_Report_SMMC_03.21.23","2023-03-21","Unaudited"]
["Dental","DEF","Default",1900,"1900-01-01","Q2","1900-06-30","Summary","Operating Expense","Medical Expense","Dental Services",2.2,"Dental Services Preventive",{"v":0,"d":"$0.00"},{"v":0,"d":"$0.00"},{"v":0,"d":"$0.00"},{"v":0,"d":"$0.00"},{"v":0,"d":"$0.00"},{"v":0,"d":"$0.00"},"ASR-Dental_Financial_Report_SMMC_03.21.23","2023-03-21","Unaudited"]
["Dental","DEF","Default",1900,"1900-01-01","Q2","1900-06-30","Summary","Operating Expense","Medical Expense","Dental Services","2.3","Dental Services Restorative",{"v":0,"d":"$0.00"},{"v":0,"d":"$0.00"},{"v":0,"d":"$0.00"},{"v":0,"d":"$0.00"},{"v":0,"d":"$0.00"},{"v":0,"d":"$0.00"},"ASR-Dental_Financial_Report_SMMC_03.21.23","2023-03-21","Unaudited"]
["Dental","DEF","Default",1900,"1900-01-01","Q2","1900-06-30","Summary","Operating Expense","Medical Expense","Dental Services","2.4","Dental Services Endodontics",{"v":0,"d":"$0.00"},{"v":0,"d":"$0.00"},{"v":0,"d":"$0.00"},{"v":0,"d":"$0.00"},{"v":0,"d":"$0.00"},{"v":0,"d":"$0.00"},"ASR-Dental_Financial_Report_SMMC_03.21.23","2023-03-21","Unaudited"]
["Dental","DEF","Default",1900,"1900-01-01","Q2","1900-06-30","Summary","Operating Expense","Medical Expense","Dental Services","2.5","Dental Services Periodontics",{"v":0,"d":"$0.00"},{"v":0,"d":"$0.00"},{"v":0,"d":"$0.00"},{"v":0,"d":"$0.00"},{"v":0,"d":"$0.00"},{"v":0,"d":"$0.00"},"ASR-Dental_Financial_Report_SMMC_03.21.23","2023-03-21","Unaudited"]
["Dental","DEF","Default",1900,"1900-01-01","Q2","1900-06-30","Summary","Operating Expense","Medical Expense","Dental Services","2.6","Dental Services Prosthodontics",{"v":0,"d":"$0.00"},{"v":0,"d":"$0.00"},{"v":0,"d":"$0.00"},{"v":0,"d":"$0.00"},{"v":0,"d":"$0.00"},{"v":0,"d":"$0.00"},"ASR-Dental_Financial_Report_SMMC_03.21.23","2023-03-21","Unaudited"]
["Dental","DEF","Default",1900,"1900-01-01","Q2","1900-06-30","Summary","Operating Expense","Medical Expense","Dental Services","2.7","Dental Services Prosthodontics, fixed",{"v":0,"d":"$0.00"},{"v":0,"d":"$0.00"},{"v":0,"d":"$0.00"},{"v":0,"d":"$0.00"},{"v":0,"d":"$0.00"},{"v":0,"d":"$0.00"},"ASR-Dental_Financial_Report_SMMC_03.21.23","2023-03-21","Unaudited"]
["Dental","DEF","Default",1900,"1900-01-01","Q2","1900-06-30","Summary","Operating Expense","Medical Expense","Dental Services","2.8","Dental Services Oral and Maxillofacial Surgery",{"v":0,"d":"$0.00"},{"v":0,"d":"$0.00"},{"v":0,"d":"$0.00"},{"v":0,"d":"$0.00"},{"v":0,"d":"$0.00"},{"v":0,"d":"$0.00"},"ASR-Dental_Financial_Report_SMMC_03.21.23","2023-03-21","Unaudited"]
["Dental","DEF","Default",1900,"1900-01-01","Q2","1900-06-30","Summary","Operating Expense","Medical Expense","Dental Services","2.9","Dental Services Orthodontics",{"v":0,"d":"$0.00"},{"v":0,"d":"$0.00"},{"v":0,"d":"$0.00"},{"v":0,"d":"$0.00"},{"v":0,"d":"$0.00"},{"v":0,"d":"$0.00"},"ASR-Dental_Financial_Report_SMMC_03.21.23","2023-03-21","Unaudited"]
["Dental","DEF","Default",1900,"1900-01-01","Q2","1900-06-30","Summary","Operating Expense","Medical Expense","Dental Services","2.10","Dental Services Adjunctive General Services",{"v":0,"d":"$0.00"},{"v":0,"d":"$0.00"},{"v":0,"d":"$0.00"},{"v":0,"d":"$0.00"},{"v":0,"d":"$0.00"},{"v":0,"d":"$0.00"},"ASR-Dental_Financial_Report_SMMC_03.21.23","2023-03-21","Unaudited"]
["Dental","DEF","Default",1900,"1900-01-01","Q2","1900-06-30","Summary","Operating Expense","Medical Expense","Dental Services","2.11","Dental Services Other",{"$f":"IF(OR(AND($F52=\"PY\",N$1<>\"Prior Year\"),AND($F52<>\"PY\",N$1=\"Prior Year\")),0,INDEX(INDIRECT(\"'Dental Rev-Exp \"&$H52&\"'!$A$1:$CA$200\"),IF($J52=\"Member Months\",MATCH($J52,INDIRECT(\"'Dental Rev-Exp \"&$H52&\"'!$A$1:$A$200\"),0),MATCH($L52,INDIRECT(\"'Dental Rev-Exp \"&$H52&\"'!$B$1:$B$200\"),0)),IF($F52=\"PY\",MATCH(\"Prior Year Adjustments\",INDIRECT(\"'Dental Rev-Exp \"&$H52&\"'!$A$8:$CA$8\"),0),MATCH(IF($F52=\"Q1\",\"JANUARY - MARCH (Q1)\",IF($F52=\"Q2\",\"APRIL - JUNE (Q2)\",IF($F52=\"Q3\",\"JULY - SEPTEMBER (Q3)\",IF($F52=\"Q4\",\"OCTOBER - DECEMBER (Q4)\",0)))),INDIRECT(\"'Dental Rev-Exp \"&$H52&\"'!$A$7:$CA$7\"),0)+MATCH(N$1,INDIRECT(\"'Dental Rev-Exp \"&$H52&\"'!$D$8:$CA$8\"),0)-1)))","v":{"v":0,"d":"$0.00"}},{"v":0,"d":"$0.00"},{"v":0,"d":"$0.00"},{"v":0,"d":"$0.00"},{"v":0,"d":"$0.00"},{"v":0,"d":"$0.00"},"ASR-Dental_Financial_Report_SMMC_03.21.23","2023-03-21","Unaudited"]
["Dental","DEF","Default",1900,"1900-01-01","Q2","1900-06-30","Summary","Operating Expense","Medical Expense","Expanded Benefits","2.12","Dental Expanded Benefits",{"v":0,"d":"$0.00"},{"v":0,"d":"$0.00"},{"v":0,"d":"$0.00"},{"v":0,"d":"$0.00"},{"v":0,"d":"$0.00"},{"v":0,"d":"$0.00"},"ASR-Dental_Financial_Report_SMMC_03.21.23","2023-03-21","Unaudited"]
["Dental","DEF","Default",1900,"1900-01-01","Q2","1900-06-30","Summary","Operating Expense","Medical Expense","Dental Services","2.13","Dental Services Paid through Subcapitation",{"v":0,"d":"$0.00"},{"v":0,"d":"$0.00"},{"v":0,"d":"$0.00"},{"v":0,"d":"$0.00"},{"v":0,"d":"$0.00"},{"v":0,"d":"$0.00"},"ASR-Dental_Financial_Report_SMMC_03.21.23","2023-03-21","Unaudited"]
["Dental","DEF","Default",1900,"1900-01-01","Q2","1900-06-30","Summary","Operating Expense","Medical Expense","Dental Services","2.14","Ending IBNP for Dental Services",{"v":0,"d":"$0.00"},{"v":0,"d":"$0.00"},{"v":0,"d":"$0.00"},{"v":0,"d":"$0.00"},{"v":0,"d":"$0.00"},{"v":0,"d":"$0.00"},"ASR-Dental_Financial_Report_SMMC_03.21.23","2023-03-21","Unaudited"]
["Dental","DEF","Default",1900,"1900-01-01","Q2","1900-06-30","Summary","Operating Expense","Medical Expense","Dental Services","2.15","Dental Settlements/AP",{"v":0,"d":"$0.00"},{"v":0,"d":"$0.00"},{"v":0,"d":"$0.00"},{"v":0,"d":"$0.00"},{"v":0,"d":"$0.00"},{"v":0,"d":"$0.00"},"ASR-Dental_Financial_Report_SMMC_03.21.23","2023-03-21","Unaudited"]
["Dental","DEF","Default",1900,"1900-01-01","Q2","1900-06-30","Summary","Operating Expense","Medical Expense","Other Medical","3.5","TPL & Fraud/Abuse Recoveries",{"v":0,"d":"$0.00"},{"v":0,"d":"$0.00"},{"v":0,"d":"$0.00"},{"v":0,"d":"$0.00"},{"v":0,"d":"$0.00"},{"v":0,"d":"$0.00"},"ASR-Dental_Financial_Report_SMMC_03.21.23","2023-03-21","Unaudited"]
["Dental","DEF","Default",1900,"1900-01-01","Q2","1900-06-30","Summary","Operating Expense","Medical Expense","Other Medical",3.6,"Premium Deficiency Reserve",{"v":0,"d":"$0.00"},{"v":0,"d":"$0.00"},{"v":0,"d":"$0.00"},{"v":0,"d":"$0.00"},{"v":0,"d":"$0.00"},{"v":0,"d":"$0.00"},"ASR-Dental_Financial_Report_SMMC_03.21.23","2023-03-21","Unaudited"]
["Dental","DEF","Default",1900,"1900-01-01","Q2","1900-06-30","Summary","Operating Expense","Medical Expense","Other Medical","3.8","Reinsurance Premiums",{"v":0,"d":"$0.00"},{"v":0,"d":"$0.00"},{"v":0,"d":"$0.00"},{"v":0,"d":"$0.00"},{"v":0,"d":"$0.00"},{"v":0,"d":"$0.00"},"ASR-Dental_Financial_Report_SMMC_03.21.23","2023-03-21","Unaudited"]
["Dental","DEF","Default",1900,"1900-01-01","Q2","1900-06-30","Summary","Operating Expense","Medical Expense","Other Medical","3.9","Reinsurance Recoveries",{"v":0,"d":"$0.00"},{"v":0,"d":"$0.00"},{"v":0,"d":"$0.00"},{"v":0,"d":"$0.00"},{"v":0,"d":"$0.00"},{"v":0,"d":"$0.00"},"ASR-Dental_Financial_Report_SMMC_03.21.23","2023-03-21","Unaudited"]
["Dental","DEF","Default",1900,"1900-01-01","Q2","1900-06-30","Summary","Operating Expense","Administrative Expense","Administrative","4.1","Salaries & Benefits",{"v":0,"d":"$0.00"},{"v":0,"d":"$0.00"},{"v":0,"d":"$0.00"},{"v":0,"d":"$0.00"},{"v":0,"d":"$0.00"},{"v":0,"d":"$0.00"},"ASR-Dental_Financial_Report_SMMC_03.21.23","2023-03-21","Unaudited"]
["Dental","DEF","Default",1900,"1900-01-01","Q2","1900-06-30","Summary","Operating Expense","Administrative Expense","Administrative","4.2","Administrative Services",{"$f":"IF(OR(AND($F62=\"PY\",N$1<>\"Prior Year\"),AND($F62<>\"PY\",N$1=\"Prior Year\")),0,INDEX(INDIRECT(\"'Dental Rev-Exp \"&$H62&\"'!$A$1:$CA$200\"),IF($J62=\"Member Months\",MATCH($J62,INDIRECT(\"'Dental Rev-Exp \"&$H62&\"'!$A$1:$A$200\"),0),MATCH($L62,INDIRECT(\"'Dental Rev-Exp \"&$H62&\"'!$B$1:$B$200\"),0)),IF($F62=\"PY\",MATCH(\"Prior Year Adjustments\",INDIRECT(\"'Dental Rev-Exp \"&$H62&\"'!$A$8:$CA$8\"),0),MATCH(IF($F62=\"Q1\",\"JANUARY - MARCH (Q1)\",IF($F62=\"Q2\",\"APRIL - JUNE (Q2)\",IF($F62=\"Q3\",\"JULY - SEPTEMBER (Q3)\",IF($F62=\"Q4\",\"OCTOBER - DECEMBER (Q4)\",0)))),INDIRECT(\"'Dental Rev-Exp \"&$H62&\"'!$A$7:$CA$7\"),0)+MATCH(N$1,INDIRECT(\"'Dental Rev-Exp \"&$H62&\"'!$D$8:$CA$8\"),0)-1)))","v":{"v":0,"d":"$0.00"}},{"v":0,"d":"$0.00"},{"v":0,"d":"$0.00"},{"v":0,"d":"$0.00"},{"v":0,"d":"$0.00"},{"v":0,"d":"$0.00"},"ASR-Dental_Financial_Report_SMMC_03.21.23","2023-03-21","Unaudited"]
["Dental","DEF","Default",1900,"1900-01-01","Q2","1900-06-30","Summary","Operating Expense","Administrative Expense","Administrative","4.3","Information Systems",{"v":0,"d":"$0.00"},{"v":0,"d":"$0.00"},{"v":0,"d":"$0.00"},{"v":0,"d":"$0.00"},{"v":0,"d":"$0.00"},{"v":0,"d":"$0.00"},"ASR-Dental_Financial_Report_SMMC_03.21.23","2023-03-21","Unaudited"]
["Dental","DEF","Default",1900,"1900-01-01","Q2","1900-06-30","Summary","Operating Expense","Administrative Expense","Administrative","4.4","Marketing Expenses",{"v":0,"d":"$0.00"},{"v":0,"d":"$0.00"},{"v":0,"d":"$0.00"},{"v":0,"d":"$0.00"},{"v":0,"d":"$0.00"},{"v":0,"d":"$0.00"},"ASR-Dental_Financial_Report_SMMC_03.21.23","2023-03-21","Unaudited"]
["Dental","DEF","Default",1900,"1900-01-01","Q2","1900-06-30","Summary","Operating Expense","Administrative Expense","Administrative","4.5","General  Administration",{"v":0,"d":"$0.00"},{"v":0,"d":"$0.00"},{"v":0,"d":"$0.00"},{"v":0,"d":"$0.00"},{"v":0,"d":"$0.00"},{"v":0,"d":"$0.00"},"ASR-Dental_Financial_Report_SMMC_03.21.23","2023-03-21","Unaudited"]
["Dental","DEF","Default",1900,"1900-01-01","Q2","1900-06-30","Summary","Operating Expense","Administrative Expense","Administrative","4.6","Compliance/Regulatory",{"v":0,"d":"$0.00"},{"v":0,"d":"$0.00"},{"v":0,"d":"$0.00"},{"v":0,"d":"$0.00"},{"v":0,"d":"$0.00"},{"v":0,"d":"$0.00"},{"$f":"file_name","v":"ASR-Dental_Financial_Report_SMMC_03.21.23"},{"$f":"file_date","v":"2023-03-21"},{"$f":"status","v":"Unaudited"}]
["Dental","DEF","Default",1900,"1900-01-01","Q2","1900-06-30","Summary","Operating Expense","Taxes & Fees","Taxes & Fees","5.1","State Premium tax",{"v":0,"d":"$0.00"},{"v":0,"d":"$0.00"},{"v":0,"d":"$0.00"},{"v":0,"d":"$0.00"},{"v":0,"d":"$0.00"},{"v":0,"d":"$0.00"},"ASR-Dental_Financial_Report_SMMC_03.21.23","2023-03-21","Unaudited"]
["Dental","DEF","Default",1900,"1900-01-01","Q2","1900-06-30","Summary","Operating Expense","Taxes & Fees","Taxes & Fees","5.2","Department of Insurance Assessments",{"v":0,"d":"$0.00"},{"v":0,"d":"$0.00"},{"v":0,"d":"$0.00"},{"v":0,"d":"$0.00"},{"v":0,"d":"$0.00"},{"v":0,"d":"$0.00"},"ASR-Dental_Financial_Report_SMMC_03.21.23","2023-03-21","Unaudited"]
["Dental","DEF","Default",1900,"1900-01-01","Q2","1900-06-30","Summary","Operating Expense","Taxes & Fees","Taxes & Fees","5.3","Section 9010 Health Insurance Providers Fee",{"v":0,"d":"$0.00"},{"v":0,"d":"$0.00"},{"v":0,"d":"$0.00"},{"v":0,"d":"$0.00"},{"v":0,"d":"$0.00"},{"v":0,"d":"$0.00"},"ASR-Dental_Financial_Report_SMMC_03.21.23","2023-03-21","Unaudited"]
["Dental","DEF","Default",1900,"1900-01-01","Q2","1900-06-30","Summary","Operating Expense","Taxes & Fees","Taxes & Fees","5.4","Other 1",{"v":0,"d":"$0.00"},{"v":0,"d":"$0.00"},{"v":0,"d":"$0.00"},{"v":0,"d":"$0.00"},{"v":0,"d":"$0.00"},{"v":0,"d":"$0.00"},"ASR-Dental_Financial_Report_SMMC_03.21.23","2023-03-21","Unaudited"]
["Dental","DEF","Default",1900,"1900-01-01","Q2","1900-06-30","Summary","Operating Expense","Taxes & Fees","Taxes & Fees","5.5","Other 2",{"v":0,"d":"$0.00"},{"v":0,"d":"$0.00"},{"v":0,"d":"$0.00"},{"v":0,"d":"$0.00"},{"v":0,"d":"$0.00"},{"v":0,"d":"$0.00"},"ASR-Dental_Financial_Report_SMMC_03.21.23","2023-03-21","Unaudited"]
["Dental","DEF","Default",1900,"1900-01-01","Q2","1900-06-30","Summary","Operating Expense","Taxes & Fees","Taxes & Fees","5.6","Other 3",{"$f":"IF(OR(AND($F72=\"PY\",N$1<>\"Prior Year\"),AND($F72<>\"PY\",N$1=\"Prior Year\")),0,INDEX(INDIRECT(\"'Dental Rev-Exp \"&$H72&\"'!$A$1:$CA$200\"),IF($J72=\"Member Months\",MATCH($J72,INDIRECT(\"'Dental Rev-Exp \"&$H72&\"'!$A$1:$A$200\"),0),MATCH($L72,INDIRECT(\"'Dental Rev-Exp \"&$H72&\"'!$B$1:$B$200\"),0)),IF($F72=\"PY\",MATCH(\"Prior Year Adjustments\",INDIRECT(\"'Dental Rev-Exp \"&$H72&\"'!$A$8:$CA$8\"),0),MATCH(IF($F72=\"Q1\",\"JANUARY - MARCH (Q1)\",IF($F72=\"Q2\",\"APRIL - JUNE (Q2)\",IF($F72=\"Q3\",\"JULY - SEPTEMBER (Q3)\",IF($F72=\"Q4\",\"OCTOBER - DECEMBER (Q4)\",0)))),INDIRECT(\"'Dental Rev-Exp \"&$H72&\"'!$A$7:$CA$7\"),0)+MATCH(N$1,INDIRECT(\"'Dental Rev-Exp \"&$H72&\"'!$D$8:$CA$8\"),0)-1)))","v":{"v":0,"d":"$0.00"}},{"v":0,"d":"$0.00"},{"v":0,"d":"$0.00"},{"v":0,"d":"$0.00"},{"v":0,"d":"$0.00"},{"v":0,"d":"$0.00"},"ASR-Dental_Financial_Report_SMMC_03.21.23","2023-03-21","Unaudited"]
["Dental","DEF","Default",1900,"1900-01-01","Q2","1900-06-30","Summary","Non-Operating Expense","Income Tax Expense","Income Tax Expense","8.0","Income Tax Expense",{"v":0,"d":"$0.00"},{"v":0,"d":"$0.00"},{"v":0,"d":"$0.00"},{"v":0,"d":"$0.00"},{"v":0,"d":"$0.00"},{"v":0,"d":"$0.00"},"ASR-Dental_Financial_Report_SMMC_03.21.23","2023-03-21","Unaudited"]
["Dental","DEF","Default",1900,"1900-01-01","Q3","1900-09-30","Summary","Member Months","Member Months","Member Months",null,"Member Months",{"v":0,"d":"$0.00"},{"v":0,"d":"$0.00"},{"v":0,"d":"$0.00"},{"v":0,"d":"$0.00"},{"v":0,"d":"$0.00"},{"v":0,"d":"$0.00"},"ASR-Dental_Financial_Report_SMMC_03.21.23","2023-03-21","Unaudited"]
["Dental","DEF","Default",1900,"1900-01-01","Q3","1900-09-30","Summary","Operating Revenue","Capitation","Capitation","1.1","Capitation",{"v":0,"d":"$0.00"},{"v":0,"d":"$0.00"},{"v":0,"d":"$0.00"},{"v":0,"d":"$0.00"},{"v":0,"d":"$0.00"},{"v":0,"d":"$0.00"},"ASR-Dental_Financial_Report_SMMC_03.21.23","2023-03-21","Unaudited"]
["Dental","DEF","Default",1900,"1900-01-01","Q3","1900-09-30","Summary","Operating Revenue","Other Revenue","Other Revenue - 9010","1.2","ACA § 9010 related payments",{"v":0,"d":"$0.00"},{"v":0,"d":"$0.00"},{"v":0,"d":"$0.00"},{"v":0,"d":"$0.00"},{"v":0,"d":"$0.00"},{"v":0,"d":"$0.00"},"ASR-Dental_Financial_Report_SMMC_03.21.23","2023-03-21","Unaudited"]
["Dental","DEF","Default",1900,"1900-01-01","Q3","1900-09-30","Summary","Operating Revenue","Other Revenue","Other Revenue","1.3","Other Revenue",{"v":0,"d":"$0.00"},{"v":0,"d":"$0.00"},{"v":0,"d":"$0.00"},{"v":0,"d":"$0.00"},{"v":0,"d":"$0.00"},{"v":0,"d":"$0.00"},"ASR-Dental_Financial_Report_SMMC_03.21.23","2023-03-21","Unaudited"]
["Dental","DEF","Default",1900,"1900-01-01","Q3","1900-09-30","Summary","Operating Expense","Medical Expense","Dental Services","2.1","Dental Services Diagnostic",{"v":0,"d":"$0.00"},{"v":0,"d":"$0.00"},{"v":0,"d":"$0.00"},{"v":0,"d":"$0.00"},{"v":0,"d":"$0.00"},{"v":0,"d":"$0.00"},"ASR-Dental_Financial_Report_SMMC_03.21.23","2023-03-21","Unaudited"]
["Dental","DEF","Default",1900,"1900-01-01","Q3","1900-09-30","Summary","Operating Expense","Medical Expense","Dental Services",2.2,"Dental Services Preventive",{"v":0,"d":"$0.00"},{"v":0,"d":"$0.00"},{"v":0,"d":"$0.00"},{"v":0,"d":"$0.00"},{"v":0,"d":"$0.00"},{"v":0,"d":"$0.00"},"ASR-Dental_Financial_Report_SMMC_03.21.23","2023-03-21","Unaudited"]
["Dental","DEF","Default",1900,"1900-01-01","Q3","1900-09-30","Summary","Operating Expense","Medical Expense","Dental Services","2.3","Dental Services Restorative",{"v":0,"d":"$0.00"},{"v":0,"d":"$0.00"},{"v":0,"d":"$0.00"},{"v":0,"d":"$0.00"},{"v":0,"d":"$0.00"},{"v":0,"d":"$0.00"},"ASR-Dental_Financial_Report_SMMC_03.21.23","2023-03-21","Unaudited"]
["Dental","DEF","Default",1900,"1900-01-01","Q3","1900-09-30","Summary","Operating Expense","Medical Expense","Dental Services","2.4","Dental Services Endodontics",{"v":0,"d":"$0.00"},{"v":0,"d":"$0.00"},{"v":0,"d":"$0.00"},{"v":0,"d":"$0.00"},{"v":0,"d":"$0.00"},{"v":0,"d":"$0.00"},"ASR-Dental_Financial_Report_SMMC_03.21.23","2023-03-21","Unaudited"]
["Dental","DEF","Default",1900,"1900-01-01","Q3","1900-09-30","Summary","Operating Expense","Medical Expense","Dental Services","2.5","Dental Services Periodontics",{"$f":"IF(OR(AND($F82=\"PY\",N$1<>\"Prior Year\"),AND($F82<>\"PY\",N$1=\"Prior Year\")),0,INDEX(INDIRECT(\"'Dental Rev-Exp \"&$H82&\"'!$A$1:$CA$200\"),IF($J82=\"Member Months\",MATCH($J82,INDIRECT(\"'Dental Rev-Exp \"&$H82&\"'!$A$1:$A$200\"),0),MATCH($L82,INDIRECT(\"'Dental Rev-Exp \"&$H82&\"'!$B$1:$B$200\"),0)),IF($F82=\"PY\",MATCH(\"Prior Year Adjustments\",INDIRECT(\"'Dental Rev-Exp \"&$H82&\"'!$A$8:$CA$8\"),0),MATCH(IF($F82=\"Q1\",\"JANUARY - MARCH (Q1)\",IF($F82=\"Q2\",\"APRIL - JUNE (Q2)\",IF($F82=\"Q3\",\"JULY - SEPTEMBER (Q3)\",IF($F82=\"Q4\",\"OCTOBER - DECEMBER (Q4)\",0)))),INDIRECT(\"'Dental Rev-Exp \"&$H82&\"'!$A$7:$CA$7\"),0)+MATCH(N$1,INDIRECT(\"'Dental Rev-Exp \"&$H82&\"'!$D$8:$CA$8\"),0)-1)))","v":{"v":0,"d":"$0.00"}},{"v":0,"d":"$0.00"},{"v":0,"d":"$0.00"},{"v":0,"d":"$0.00"},{"v":0,"d":"$0.00"},{"v":0,"d":"$0.00"},"ASR-Dental_Financial_Report_SMMC_03.21.23","2023-03-21","Unaudited"]
["Dental","DEF","Default",1900,"1900-01-01","Q3","1900-09-30","Summary","Operating Expense","Medical Expense","Dental Services","2.6","Dental Services Prosthodontics",{"v":0,"d":"$0.00"},{"v":0,"d":"$0.00"},{"v":0,"d":"$0.00"},{"v":0,"d":"$0.00"},{"v":0,"d":"$0.00"},{"v":0,"d":"$0.00"},"ASR-Dental_Financial_Report_SMMC_03.21.23","2023-03-21","Unaudited"]
["Dental","DEF","Default",1900,"1900-01-01","Q3","1900-09-30","Summary","Operating Expense","Medical Expense","Dental Services","2.7","Dental Services Prosthodontics, fixed",{"v":0,"d":"$0.00"},{"v":0,"d":"$0.00"},{"v":0,"d":"$0.00"},{"v":0,"d":"$0.00"},{"v":0,"d":"$0.00"},{"v":0,"d":"$0.00"},"ASR-Dental_Financial_Report_SMMC_03.21.23","2023-03-21","Unaudited"]
["Dental","DEF","Default",1900,"1900-01-01","Q3","1900-09-30","Summary","Operating Expense","Medical Expense","Dental Services","2.8","Dental Services Oral and Maxillofacial Surgery",{"v":0,"d":"$0.00"},{"v":0,"d":"$0.00"},{"v":0,"d":"$0.00"},{"v":0,"d":"$0.00"},{"v":0,"d":"$0.00"},{"v":0,"d":"$0.00"},"ASR-Dental_Financial_Report_SMMC_03.21.23","2023-03-21","Unaudited"]
["Dental","DEF","Default",1900,"1900-01-01","Q3","1900-09-30","Summary","Operating Expense","Medical Expense","Dental Services","2.9","Dental Services Orthodontics",{"v":0,"d":"$0.00"},{"v":0,"d":"$0.00"},{"v":0,"d":"$0.00"},{"v":0,"d":"$0.00"},{"v":0,"d":"$0.00"},{"v":0,"d":"$0.00"},"ASR-Dental_Financial_Report_SMMC_03.21.23","2023-03-21","Unaudited"]
["Dental","DEF","Default",1900,"1900-01-01","Q3","1900-09-30","Summary","Operating Expense","Medical Expense","Dental Services","2.10","Dental Services Adjunctive General Services",{"v":0,"d":"$0.00"},{"v":0,"d":"$0.00"},{"v":0,"d":"$0.00"},{"v":0,"d":"$0.00"},{"v":0,"d":"$0.00"},{"v":0,"d":"$0.00"},"ASR-Dental_Financial_Report_SMMC_03.21.23","2023-03-21","Unaudited"]
["Dental","DEF","Default",1900,"1900-01-01","Q3","1900-09-30","Summary","Operating Expense","Medical Expense","Dental Services","2.11","Dental Services Other",{"v":0,"d":"$0.00"},{"v":0,"d":"$0.00"},{"v":0,"d":"$0.00"},{"v":0,"d":"$0.00"},{"v":0,"d":"$0.00"},{"v":0,"d":"$0.00"},"ASR-Dental_Financial_Report_SMMC_03.21.23","2023-03-21","Unaudited"]
["Dental","DEF","Default",1900,"1900-01-01","Q3","1900-09-30","Summary","Operating Expense","Medical Expense","Expanded Benefits","2.12","Dental Expanded Benefits",{"v":0,"d":"$0.00"},{"v":0,"d":"$0.00"},{"v":0,"d":"$0.00"},{"v":0,"d":"$0.00"},{"v":0,"d":"$0.00"},{"v":0,"d":"$0.00"},"ASR-Dental_Financial_Report_SMMC_03.21.23","2023-03-21","Unaudited"]
["Dental","DEF","Default",1900,"1900-01-01","Q3","1900-09-30","Summary","Operating Expense","Medical Expense","Dental Services","2.13","Dental Services Paid through Subcapitation",{"v":0,"d":"$0.00"},{"v":0,"d":"$0.00"},{"v":0,"d":"$0.00"},{"v":0,"d":"$0.00"},{"v":0,"d":"$0.00"},{"v":0,"d":"$0.00"},"ASR-Dental_Financial_Report_SMMC_03.21.23","2023-03-21","Unaudited"]
["Dental","DEF","Default",1900,"1900-01-01","Q3","1900-09-30","Summary","Operating Expense","Medical Expense","Dental Services","2.14","Ending IBNP for Dental Services",{"v":0,"d":"$0.00"},{"v":0,"d":"$0.00"},{"v":0,"d":"$0.00"},{"v":0,"d":"$0.00"},{"v":0,"d":"$0.00"},{"v":0,"d":"$0.00"},"ASR-Dental_Financial_Report_SMMC_03.21.23","2023-03-21","Unaudited"]
["Dental","DEF","Default",1900,"1900-01-01","Q3","1900-09-30","Summary","Operating Expense","Medical Expense","Dental Services","2.15","Dental Settlements/AP",{"$f":"IF(OR(AND($F92=\"PY\",N$1<>\"Prior Year\"),AND($F92<>\"PY\",N$1=\"Prior Year\")),0,INDEX(INDIRECT(\"'Dental Rev-Exp \"&$H92&\"'!$A$1:$CA$200\"),IF($J92=\"Member Months\",MATCH($J92,INDIRECT(\"'Dental Rev-Exp \"&$H92&\"'!$A$1:$A$200\"),0),MATCH($L92,INDIRECT(\"'Dental Rev-Exp \"&$H92&\"'!$B$1:$B$200\"),0)),IF($F92=\"PY\",MATCH(\"Prior Year Adjustments\",INDIRECT(\"'Dental Rev-Exp \"&$H92&\"'!$A$8:$CA$8\"),0),MATCH(IF($F92=\"Q1\",\"JANUARY - MARCH (Q1)\",IF($F92=\"Q2\",\"APRIL - JUNE (Q2)\",IF($F92=\"Q3\",\"JULY - SEPTEMBER (Q3)\",IF($F92=\"Q4\",\"OCTOBER - DECEMBER (Q4)\",0)))),INDIRECT(\"'Dental Rev-Exp \"&$H92&\"'!$A$7:$CA$7\"),0)+MATCH(N$1,INDIRECT(\"'Dental Rev-Exp \"&$H92&\"'!$D$8:$CA$8\"),0)-1)))","v":{"v":0,"d":"$0.00"}},{"v":0,"d":"$0.00"},{"v":0,"d":"$0.00"},{"v":0,"d":"$0.00"},{"v":0,"d":"$0.00"},{"v":0,"d":"$0.00"},"ASR-Dental_Financial_Report_SMMC_03.21.23","2023-03-21","Unaudited"]
["Dental","DEF","Default",1900,"1900-01-01","Q3","1900-09-30","Summary","Operating Expense","Medical Expense","Other Medical","3.5","TPL & Fraud/Abuse Recoveries",{"v":0,"d":"$0.00"},{"v":0,"d":"$0.00"},{"v":0,"d":"$0.00"},{"v":0,"d":"$0.00"},{"v":0,"d":"$0.00"},{"v":0,"d":"$0.00"},"ASR-Dental_Financial_Report_SMMC_03.21.23","2023-03-21","Unaudited"]
["Dental","DEF","Default",1900,"1900-01-01","Q3","1900-09-30","Summary","Operating Expense","Medical Expense","Other Medical",3.6,"Premium Deficiency Reserve",{"v":0,"d":"$0.00"},{"v":0,"d":"$0.00"},{"v":0,"d":"$0.00"},{"v":0,"d":"$0.00"},{"v":0,"d":"$0.00"},{"v":0,"d":"$0.00"},"ASR-Dental_Financial_Report_SMMC_03.21.23","2023-03-21","Unaudited"]
["Dental","DEF","Default",1900,"1900-01-01","Q3","1900-09-30","Summary","Operating Expense","Medical Expense","Other Medical","3.8","Reinsurance Premiums",{"v":0,"d":"$0.00"},{"v":0,"d":"$0.00"},{"v":0,"d":"$0.00"},{"v":0,"d":"$0.00"},{"v":0,"d":"$0.00"},{"v":0,"d":"$0.00"},"ASR-Dental_Financial_Report_SMMC_03.21.23","2023-03-21","Unaudited"]
["Dental","DEF","Default",1900,"1900-01-01","Q3","1900-09-30","Summary","Operating Expense","Medical Expense","Other Medical","3.9","Reinsurance Recoveries",{"v":0,"d":"$0.00"},{"v":0,"d":"$0.00"},{"v":0,"d":"$0.00"},{"v":0,"d":"$0.00"},{"v":0,"d":"$0.00"},{"v":0,"d":"$0.00"},"ASR-Dental_Financial_Report_SMMC_03.21.23","2023-03-21","Unaudited"]
["Dental","DEF","Default",1900,"1900-01-01","Q3","1900-09-30","Summary","Operating Expense","Administrative Expense","Administrative","4.1","Salaries & Benefits",{"v":0,"d":"$0.00"},{"v":0,"d":"$0.00"},{"v":0,"d":"$0.00"},{"v":0,"d":"$0.00"},{"v":0,"d":"$0.00"},{"v":0,"d":"$0.00"},"ASR-Dental_Financial_Report_SMMC_03.21.23","2023-03-21","Unaudited"]
["Dental","DEF","Default",1900,"1900-01-01","Q3","1900-09-30","Summary","Operating Expense","Administrative Expense","Administrative","4.2","Administrative Services",{"v":0,"d":"$0.00"},{"v":0,"d":"$0.00"},{"v":0,"d":"$0.00"},{"v":0,"d":"$0.00"},{"v":0,"d":"$0.00"},{"v":0,"d":"$0.00"},"ASR-Dental_Financial_Report_SMMC_03.21.23","2023-03-21","Unaudited"]
["Dental","DEF","Default",1900,"1900-01-01","Q3","1900-09-30","Summary","Operating Expense","Administrative Expense","Administrative","4.3","Information Systems",{"v":0,"d":"$0.00"},{"v":0,"d":"$0.00"},{"v":0,"d":"$0.00"},{"v":0,"d":"$0.00"},{"v":0,"d":"$0.00"},{"v":0,"d":"$0.00"},"ASR-Dental_Financial_Report_SMMC_03.21.23","2023-03-21","Unaudited"]
["Dental","DEF","Default",1900,"1900-01-01","Q3","1900-09-30","Summary","Operating Expense","Administrative Expense","Administrative","4.4","Marketing Expenses",{"v":0,"d":"$0.00"},{"v":0,"d":"$0.00"},{"v":0,"d":"$0.00"},{"v":0,"d":"$0.00"},{"v":0,"d":"$0.00"},{"v":0,"d":"$0.00"},"ASR-Dental_Financial_Report_SMMC_03.21.23","2023-03-21","Unaudited"]
["Dental","DEF","Default",1900,"1900-01-01","Q3","1900-09-30","Summary","Operating Expense","Administrative Expense","Administrative","4.5","General  Administration",{"v":0,"d":"$0.00"},{"v":0,"d":"$0.00"},{"v":0,"d":"$0.00"},{"v":0,"d":"$0.00"},{"v":0,"d":"$0.00"},{"v":0,"d":"$0.00"},"ASR-Dental_Financial_Report_SMMC_03.21.23","2023-03-21","Unaudited"]
["Dental","DEF","Default",1900,"1900-01-01","Q3","1900-09-30","Summary","Operating Expense","Administrative Expense","Administrative","4.6","Compliance/Regulatory",{"$f":"IF(OR(AND($F102=\"PY\",N$1<>\"Prior Year\"),AND($F102<>\"PY\",N$1=\"Prior Year\")),0,INDEX(INDIRECT(\"'Dental Rev-Exp \"&$H102&\"'!$A$1:$CA$200\"),IF($J102=\"Member Months\",MATCH($J102,INDIRECT(\"'Dental Rev-Exp \"&$H102&\"'!$A$1:$A$200\"),0),MATCH($L102,INDIRECT(\"'Dental Rev-Exp \"&$H102&\"'!$B$1:$B$200\"),0)),IF($F102=\"PY\",MATCH(\"Prior Year Adjustments\",INDIRECT(\"'Dental Rev-Exp \"&$H102&\"'!$A$8:$CA$8\"),0),MATCH(IF($F102=\"Q1\",\"JANUARY - MARCH (Q1)\",IF($F102=\"Q2\",\"APRIL - JUNE (Q2)\",IF($F102=\"Q3\",\"JULY - SEPTEMBER (Q3)\",IF($F102=\"Q4\",\"OCTOBER - DECEMBER (Q4)\",0)))),INDIRECT(\"'Dental Rev-Exp \"&$H102&\"'!$A$7:$CA$7\"),0)+MATCH(N$1,INDIRECT(\"'Dental Rev-Exp \"&$H102&\"'!$D$8:$CA$8\"),0)-1)))","v":{"v":0,"d":"$0.00"}},{"v":0,"d":"$0.00"},{"v":0,"d":"$0.00"},{"v":0,"d":"$0.00"},{"v":0,"d":"$0.00"},{"v":0,"d":"$0.00"},"ASR-Dental_Financial_Report_SMMC_03.21.23","2023-03-21","Unaudited"]
["Dental","DEF","Default",1900,"1900-01-01","Q3","1900-09-30","Summary","Operating Expense","Taxes & Fees","Taxes & Fees","5.1","State Premium tax",{"v":0,"d":"$0.00"},{"v":0,"d":"$0.00"},{"v":0,"d":"$0.00"},{"v":0,"d":"$0.00"},{"v":0,"d":"$0.00"},{"v":0,"d":"$0.00"},"ASR-Dental_Financial_Report_SMMC_03.21.23","2023-03-21","Unaudited"]
["Dental","DEF","Default",1900,"1900-01-01","Q3","1900-09-30","Summary","Operating Expense","Taxes & Fees","Taxes & Fees","5.2","Department of Insurance Assessments",{"v":0,"d":"$0.00"},{"v":0,"d":"$0.00"},{"v":0,"d":"$0.00"},{"v":0,"d":"$0.00"},{"v":0,"d":"$0.00"},{"v":0,"d":"$0.00"},"ASR-Dental_Financial_Report_SMMC_03.21.23","2023-03-21","Unaudited"]
["Dental","DEF","Default",1900,"1900-01-01","Q3","1900-09-30","Summary","Operating Expense","Taxes & Fees","Taxes & Fees","5.3","Section 9010 Health Insurance Providers Fee",{"v":0,"d":"$0.00"},{"v":0,"d":"$0.00"},{"v":0,"d":"$0.00"},{"v":0,"d":"$0.00"},{"v":0,"d":"$0.00"},{"v":0,"d":"$0.00"},"ASR-Dental_Financial_Report_SMMC_03.21.23","2023-03-21","Unaudited"]
["Dental","DEF","Default",1900,"1900-01-01","Q3","1900-09-30","Summary","Operating Expense","Taxes & Fees","Taxes & Fees","5.4","Other 1",{"v":0,"d":"$0.00"},{"v":0,"d":"$0.00"},{"v":0,"d":"$0.00"},{"v":0,"d":"$0.00"},{"v":0,"d":"$0.00"},{"v":0,"d":"$0.00"},"ASR-Dental_Financial_Report_SMMC_03.21.23","2023-03-21","Unaudited"]
["Dental","DEF","Default",1900,"1900-01-01","Q3","1900-09-30","Summary","Operating Expense","Taxes & Fees","Taxes & Fees","5.5","Other 2",{"v":0,"d":"$0.00"},{"v":0,"d":"$0.00"},{"v":0,"d":"$0.00"},{"v":0,"d":"$0.00"},{"v":0,"d":"$0.00"},{"v":0,"d":"$0.00"},"ASR-Dental_Financial_Report_SMMC_03.21.23","2023-03-21","Unaudited"]
["Dental","DEF","Default",1900,"1900-01-01","Q3","1900-09-30","Summary","Operating Expense","Taxes & Fees","Taxes & Fees","5.6","Other 3",{"v":0,"d":"$0.00"},{"v":0,"d":"$0.00"},{"v":0,"d":"$0.00"},{"v":0,"d":"$0.00"},{"v":0,"d":"$0.00"},{"v":0,"d":"$0.00"},"ASR-Dental_Financial_Report_SMMC_03.21.23","2023-03-21","Unaudited"]
["Dental","DEF","Default",1900,"1900-01-01","Q3","1900-09-30","Summary","Non-Operating Expense","Income Tax Expense","Income Tax Expense","8.0","Income Tax Expense",{"v":0,"d":"$0.00"},{"v":0,"d":"$0.00"},{"v":0,"d":"$0.00"},{"v":0,"d":"$0.00"},{"v":0,"d":"$0.00"},{"v":0,"d":"$0.00"},"ASR-Dental_Financial_Report_SMMC_03.21.23","2023-03-21","Unaudited"]
["Dental","DEF","Default",1900,"1900-01-01","Q4","1900-12-31","Summary","Member Months","Member Months","Member Months",null,"Member Months",{"v":0,"d":"$0.00"},{"v":0,"d":"$0.00"},{"v":0,"d":"$0.00"},{"v":0,"d":"$0.00"},{"v":0,"d":"$0.00"},{"v":0,"d":"$0.00"},"ASR-Dental_Financial_Report_SMMC_03.21.23","2023-03-21","Unaudited"]
["Dental","DEF","Default",1900,"1900-01-01","Q4","1900-12-31","Summary","Operating Revenue","Capitation","Capitation","1.1","Capitation",{"v":0,"d":"$0.00"},{"v":0,"d":"$0.00"},{"v":0,"d":"$0.00"},{"v":0,"d":"$0.00"},{"v":0,"d":"$0.00"},{"v":0,"d":"$0.00"},"ASR-Dental_Financial_Report_SMMC_03.21.23","2023-03-21","Unaudited"]
["Dental","DEF","Default",1900,"1900-01-01","Q4","1900-12-31","Summary","Operating Revenue","Other Revenue","Other Revenue - 9010","1.2","ACA § 9010 related payments",{"$f":"IF(OR(AND($F112=\"PY\",N$1<>\"Prior Year\"),AND($F112<>\"PY\",N$1=\"Prior Year\")),0,INDEX(INDIRECT(\"'Dental Rev-Exp \"&$H112&\"'!$A$1:$CA$200\"),IF($J112=\"Member Months\",MATCH($J112,INDIRECT(\"'Dental Rev-Exp \"&$H112&\"'!$A$1:$A$200\"),0),MATCH($L112,INDIRECT(\"'Dental Rev-Exp \"&$H112&\"'!$B$1:$B$200\"),0)),IF($F112=\"PY\",MATCH(\"Prior Year Adjustments\",INDIRECT(\"'Dental Rev-Exp \"&$H112&\"'!$A$8:$CA$8\"),0),MATCH(IF($F112=\"Q1\",\"JANUARY - MARCH (Q1)\",IF($F112=\"Q2\",\"APRIL - JUNE (Q2)\",IF($F112=\"Q3\",\"JULY - SEPTEMBER (Q3)\",IF($F112=\"Q4\",\"OCTOBER - DECEMBER (Q4)\",0)))),INDIRECT(\"'Dental Rev-Exp \"&$H112&\"'!$A$7:$CA$7\"),0)+MATCH(N$1,INDIRECT(\"'Dental Rev-Exp \"&$H112&\"'!$D$8:$CA$8\"),0)-1)))","v":{"v":0,"d":"$0.00"}},{"v":0,"d":"$0.00"},{"v":0,"d":"$0.00"},{"v":0,"d":"$0.00"},{"v":0,"d":"$0.00"},{"v":0,"d":"$0.00"},"ASR-Dental_Financial_Report_SMMC_03.21.23","2023-03-21","Unaudited"]
["Dental","DEF","Default",1900,"1900-01-01","Q4","1900-12-31","Summary","Operating Revenue","Other Revenue","Other Revenue","1.3","Other Revenue",{"v":0,"d":"$0.00"},{"v":0,"d":"$0.00"},{"v":0,"d":"$0.00"},{"v":0,"d":"$0.00"},{"v":0,"d":"$0.00"},{"v":0,"d":"$0.00"},"ASR-Dental_Financial_Report_SMMC_03.21.23","2023-03-21","Unaudited"]
["Dental","DEF","Default",1900,"1900-01-01","Q4","1900-12-31","Summary","Operating Expense","Medical Expense","Dental Services","2.1","Dental Services Diagnostic",{"v":0,"d":"$0.00"},{"v":0,"d":"$0.00"},{"v":0,"d":"$0.00"},{"v":0,"d":"$0.00"},{"v":0,"d":"$0.00"},{"v":0,"d":"$0.00"},"ASR-Dental_Financial_Report_SMMC_03.21.23","2023-03-21","Unaudited"]
["Dental","DEF","Default",1900,"1900-01-01","Q4","1900-12-31","Summary","Operating Expense","Medical Expense","Dental Services",2.2,"Dental Services Preventive",{"v":0,"d":"$0.00"},{"v":0,"d":"$0.00"},{"v":0,"d":"$0.00"},{"v":0,"d":"$0.00"},{"v":0,"d":"$0.00"},{"v":0,"d":"$0.00"},"ASR-Dental_Financial_Report_SMMC_03.21.23","2023-03-21","Unaudited"]
["Dental","DEF","Default",1900,"1900-01-01","Q4","1900-12-31","Summary","Operating Expense","Medical Expense","Dental Services","2.3","Dental Services Restorative",{"v":0,"d":"$0.00"},{"v":0,"d":"$0.00"},{"v":0,"d":"$0.00"},{"v":0,"d":"$0.00"},{"v":0,"d":"$0.00"},{"v":0,"d":"$0.00"},"ASR-Dental_Financial_Report_SMMC_03.21.23","2023-03-21","Unaudited"]
["Dental","DEF","Default",1900,"1900-01-01","Q4","1900-12-31","Summary","Operating Expense","Medical Expense","Dental Services","2.4","Dental Services Endodontics",{"v":0,"d":"$0.00"},{"v":0,"d":"$0.00"},{"v":0,"d":"$0.00"},{"v":0,"d":"$0.00"},{"v":0,"d":"$0.00"},{"v":0,"d":"$0.00"},"ASR-Dental_Financial_Report_SMMC_03.21.23","2023-03-21","Unaudited"]
["Dental","DEF","Default",1900,"1900-01-01","Q4","1900-12-31","Summary","Operating Expense","Medical Expense","Dental Services","2.5","Dental Services Periodontics",{"v":0,"d":"$0.00"},{"v":0,"d":"$0.00"},{"v":0,"d":"$0.00"},{"v":0,"d":"$0.00"},{"v":0,"d":"$0.00"},{"v":0,"d":"$0.00"},"ASR-Dental_Financial_Report_SMMC_03.21.23","2023-03-21","Unaudited"]
["Dental","DEF","Default",1900,"1900-01-01","Q4","1900-12-31","Summary","Operating Expense","Medical Expense","Dental Services","2.6","Dental Services Prosthodontics",{"v":0,"d":"$0.00"},{"v":0,"d":"$0.00"},{"v":0,"d":"$0.00"},{"v":0,"d":"$0.00"},{"v":0,"d":"$0.00"},{"v":0,"d":"$0.00"},"ASR-Dental_Financial_Report_SMMC_03.21.23","2023-03-21","Unaudited"]
["Dental","DEF","Default",1900,"1900-01-01","Q4","1900-12-31","Summary","Operating Expense","Medical Expense","Dental Services","2.7","Dental Services Prosthodontics, fixed",{"v":0,"d":"$0.00"},{"v":0,"d":"$0.00"},{"v":0,"d":"$0.00"},{"v":0,"d":"$0.00"},{"v":0,"d":"$0.00"},{"v":0,"d":"$0.00"},"ASR-Dental_Financial_Report_SMMC_03.21.23","2023-03-21","Unaudited"]
["Dental","DEF","Default",1900,"1900-01-01","Q4","1900-12-31","Summary","Operating Expense","Medical Expense","Dental Services","2.8","Dental Services Oral and Maxillofacial Surgery",{"v":0,"d":"$0.00"},{"v":0,"d":"$0.00"},{"v":0,"d":"$0.00"},{"v":0,"d":"$0.00"},{"v":0,"d":"$0.00"},{"v":0,"d":"$0.00"},"ASR-Dental_Financial_Report_SMMC_03.21.23","2023-03-21","Unaudited"]
["Dental","DEF","Default",1900,"1900-01-01","Q4","1900-12-31","Summary","Operating Expense","Medical Expense","Dental Services","2.9","Dental Services Orthodontics",{"$f":"IF(OR(AND($F122=\"PY\",N$1<>\"Prior Year\"),AND($F122<>\"PY\",N$1=\"Prior Year\")),0,INDEX(INDIRECT(\"'Dental Rev-Exp \"&$H122&\"'!$A$1:$CA$200\"),IF($J122=\"Member Months\",MATCH($J122,INDIRECT(\"'Dental Rev-Exp \"&$H122&\"'!$A$1:$A$200\"),0),MATCH($L122,INDIRECT(\"'Dental Rev-Exp \"&$H122&\"'!$B$1:$B$200\"),0)),IF($F122=\"PY\",MATCH(\"Prior Year Adjustments\",INDIRECT(\"'Dental Rev-Exp \"&$H122&\"'!$A$8:$CA$8\"),0),MATCH(IF($F122=\"Q1\",\"JANUARY - MARCH (Q1)\",IF($F122=\"Q2\",\"APRIL - JUNE (Q2)\",IF($F122=\"Q3\",\"JULY - SEPTEMBER (Q3)\",IF($F122=\"Q4\",\"OCTOBER - DECEMBER (Q4)\",0)))),INDIRECT(\"'Dental Rev-Exp \"&$H122&\"'!$A$7:$CA$7\"),0)+MATCH(N$1,INDIRECT(\"'Dental Rev-Exp \"&$H122&\"'!$D$8:$CA$8\"),0)-1)))","v":{"v":0,"d":"$0.00"}},{"v":0,"d":"$0.00"},{"v":0,"d":"$0.00"},{"v":0,"d":"$0.00"},{"v":0,"d":"$0.00"},{"v":0,"d":"$0.00"},"ASR-Dental_Financial_Report_SMMC_03.21.23","2023-03-21","Unaudited"]
["Dental","DEF","Default",1900,"1900-01-01","Q4","1900-12-31","Summary","Operating Expense","Medical Expense","Dental Services","2.10","Dental Services Adjunctive General Services",{"v":0,"d":"$0.00"},{"v":0,"d":"$0.00"},{"v":0,"d":"$0.00"},{"v":0,"d":"$0.00"},{"v":0,"d":"$0.00"},{"v":0,"d":"$0.00"},"ASR-Dental_Financial_Report_SMMC_03.21.23","2023-03-21","Unaudited"]
["Dental","DEF","Default",1900,"1900-01-01","Q4","1900-12-31","Summary","Operating Expense","Medical Expense","Dental Services","2.11","Dental Services Other",{"v":0,"d":"$0.00"},{"v":0,"d":"$0.00"},{"v":0,"d":"$0.00"},{"v":0,"d":"$0.00"},{"v":0,"d":"$0.00"},{"v":0,"d":"$0.00"},"ASR-Dental_Financial_Report_SMMC_03.21.23","2023-03-21","Unaudited"]
["Dental","DEF","Default",1900,"1900-01-01","Q4","1900-12-31","Summary","Operating Expense","Medical Expense","Expanded Benefits","2.12","Dental Expanded Benefits",{"v":0,"d":"$0.00"},{"v":0,"d":"$0.00"},{"v":0,"d":"$0.00"},{"v":0,"d":"$0.00"},{"v":0,"d":"$0.00"},{"v":0,"d":"$0.00"},"ASR-Dental_Financial_Report_SMMC_03.21.23","2023-03-21","Unaudited"]
["Dental","DEF","Default",1900,"1900-01-01","Q4","1900-12-31","Summary","Operating Expense","Medical Expense","Dental Services","2.13","Dental Services Paid through Subcapitation",{"v":0,"d":"$0.00"},{"v":0,"d":"$0.00"},{"v":0,"d":"$0.00"},{"v":0,"d":"$0.00"},{"v":0,"d":"$0.00"},{"v":0,"d":"$0.00"},"ASR-Dental_Financial_Report_SMMC_03.21.23","2023-03-21","Unaudited"]
["Dental","DEF","Default",1900,"1900-01-01","Q4","1900-12-31","Summary","Operating Expense","Medical Expense","Dental Services","2.14","Ending IBNP for Dental Services",{"v":0,"d":"$0.00"},{"v":0,"d":"$0.00"},{"v":0,"d":"$0.00"},{"v":0,"d":"$0.00"},{"v":0,"d":"$0.00"},{"v":0,"d":"$0.00"},"ASR-Dental_Financial_Report_SMMC_03.21.23","2023-03-21","Unaudited"]
["Dental","DEF","Default",1900,"1900-01-01","Q4","1900-12-31","Summary","Operating Expense","Medical Expense","Dental Services","2.15","Dental Settlements/AP",{"v":0,"d":"$0.00"},{"v":0,"d":"$0.00"},{"v":0,"d":"$0.00"},{"v":0,"d":"$0.00"},{"v":0,"d":"$0.00"},{"v":0,"d":"$0.00"},"ASR-Dental_Financial_Report_SMMC_03.21.23","2023-03-21","Unaudited"]
["Dental","DEF","Default",1900,"1900-01-01","Q4","1900-12-31","Summary","Operating Expense","Medical Expense","Other Medical","3.5","TPL & Fraud/Abuse Recoveries",{"v":0,"d":"$0.00"},{"v":0,"d":"$0.00"},{"v":0,"d":"$0.00"},{"v":0,"d":"$0.00"},{"v":0,"d":"$0.00"},{"v":0,"d":"$0.00"},"ASR-Dental_Financial_Report_SMMC_03.21.23","2023-03-21","Unaudited"]
["Dental","DEF","Default",1900,"1900-01-01","Q4","1900-12-31","Summary","Operating Expense","Medical Expense","Other Medical",3.6,"Premium Deficiency Reserve",{"v":0,"d":"$0.00"},{"v":0,"d":"$0.00"},{"v":0,"d":"$0.00"},{"v":0,"d":"$0.00"},{"v":0,"d":"$0.00"},{"v":0,"d":"$0.00"},{"$f":"file_name","v":"ASR-Dental_Financial_Report_SMMC_03.21.23"},{"$f":"file_date","v":"2023-03-21"},{"$f":"status","v":"Unaudited"}]
["Dental","DEF","Default",1900,"1900-01-01","Q4","1900-12-31","Summary","Operating Expense","Medical Expense","Other Medical","3.8","Reinsurance Premiums",{"v":0,"d":"$0.00"},{"v":0,"d":"$0.00"},{"v":0,"d":"$0.00"},{"v":0,"d":"$0.00"},{"v":0,"d":"$0.00"},{"v":0,"d":"$0.00"},"ASR-Dental_Financial_Report_SMMC_03.21.23","2023-03-21","Unaudited"]
["Dental","DEF","Default",1900,"1900-01-01","Q4","1900-12-31","Summary","Operating Expense","Medical Expense","Other Medical","3.9","Reinsurance Recoveries",{"$f":"IF(OR(AND($F132=\"PY\",N$1<>\"Prior Year\"),AND($F132<>\"PY\",N$1=\"Prior Year\")),0,INDEX(INDIRECT(\"'Dental Rev-Exp \"&$H132&\"'!$A$1:$CA$200\"),IF($J132=\"Member Months\",MATCH($J132,INDIRECT(\"'Dental Rev-Exp \"&$H132&\"'!$A$1:$A$200\"),0),MATCH($L132,INDIRECT(\"'Dental Rev-Exp \"&$H132&\"'!$B$1:$B$200\"),0)),IF($F132=\"PY\",MATCH(\"Prior Year Adjustments\",INDIRECT(\"'Dental Rev-Exp \"&$H132&\"'!$A$8:$CA$8\"),0),MATCH(IF($F132=\"Q1\",\"JANUARY - MARCH (Q1)\",IF($F132=\"Q2\",\"APRIL - JUNE (Q2)\",IF($F132=\"Q3\",\"JULY - SEPTEMBER (Q3)\",IF($F132=\"Q4\",\"OCTOBER - DECEMBER (Q4)\",0)))),INDIRECT(\"'Dental Rev-Exp \"&$H132&\"'!$A$7:$CA$7\"),0)+MATCH(N$1,INDIRECT(\"'Dental Rev-Exp \"&$H132&\"'!$D$8:$CA$8\"),0)-1)))","v":{"v":0,"d":"$0.00"}},{"v":0,"d":"$0.00"},{"v":0,"d":"$0.00"},{"v":0,"d":"$0.00"},{"v":0,"d":"$0.00"},{"v":0,"d":"$0.00"},"ASR-Dental_Financial_Report_SMMC_03.21.23","2023-03-21","Unaudited"]
["Dental","DEF","Default",1900,"1900-01-01","Q4","1900-12-31","Summary","Operating Expense","Administrative Expense","Administrative","4.1","Salaries & Benefits",{"v":0,"d":"$0.00"},{"v":0,"d":"$0.00"},{"v":0,"d":"$0.00"},{"v":0,"d":"$0.00"},{"v":0,"d":"$0.00"},{"v":0,"d":"$0.00"},"ASR-Dental_Financial_Report_SMMC_03.21.23","2023-03-21","Unaudited"]
["Dental","DEF","Default",1900,"1900-01-01","Q4","1900-12-31","Summary","Operating Expense","Administrative Expense","Administrative","4.2","Administrative Services",{"v":0,"d":"$0.00"},{"v":0,"d":"$0.00"},{"v":0,"d":"$0.00"},{"v":0,"d":"$0.00"},{"v":0,"d":"$0.00"},{"v":0,"d":"$0.00"},"ASR-Dental_Financial_Report_SMMC_03.21.23","2023-03-21","Unaudited"]
["Dental","DEF","Default",1900,"1900-01-01","Q4","1900-12-31","Summary","Operating Expense","Administrative Expense","Administrative","4.3","Information Systems",{"v":0,"d":"$0.00"},{"v":0,"d":"$0.00"},{"v":0,"d":"$0.00"},{"v":0,"d":"$0.00"},{"v":0,"d":"$0.00"},{"v":0,"d":"$0.00"},"ASR-Dental_Financial_Report_SMMC_03.21.23","2023-03-21","Unaudited"]
["Dental","DEF","Default",1900,"1900-01-01","Q4","1900-12-31","Summary","Operating Expense","Administrative Expense","Administrative","4.4","Marketing Expenses",{"v":0,"d":"$0.00"},{"v":0,"d":"$0.00"},{"v":0,"d":"$0.00"},{"v":0,"d":"$0.00"},{"v":0,"d":"$0.00"},{"v":0,"d":"$0.00"},"ASR-Dental_Financial_Report_SMMC_03.21.23","2023-03-21","Unaudited"]
["Dental","DEF","Default",1900,"1900-01-01","Q4","1900-12-31","Summary","Operating Expense","Administrative Expense","Administrative","4.5","General  Administration",{"v":0,"d":"$0.00"},{"v":0,"d":"$0.00"},{"v":0,"d":"$0.00"},{"v":0,"d":"$0.00"},{"v":0,"d":"$0.00"},{"v":0,"d":"$0.00"},"ASR-Dental_Financial_Report_SMMC_03.21.23","2023-03-21","Unaudited"]
["Dental","DEF","Default",1900,"1900-01-01","Q4","1900-12-31","Summary","Operating Expense","Administrative Expense","Administrative","4.6","Compliance/Regulatory",{"v":0,"d":"$0.00"},{"v":0,"d":"$0.00"},{"v":0,"d":"$0.00"},{"v":0,"d":"$0.00"},{"v":0,"d":"$0.00"},{"v":0,"d":"$0.00"},"ASR-Dental_Financial_Report_SMMC_03.21.23","2023-03-21","Unaudited"]
["Dental","DEF","Default",1900,"1900-01-01","Q4","1900-12-31","Summary","Operating Expense","Taxes & Fees","Taxes & Fees","5.1","State Premium tax",{"v":0,"d":"$0.00"},{"v":0,"d":"$0.00"},{"v":0,"d":"$0.00"},{"v":0,"d":"$0.00"},{"v":0,"d":"$0.00"},{"v":0,"d":"$0.00"},"ASR-Dental_Financial_Report_SMMC_03.21.23","2023-03-21","Unaudited"]
["Dental","DEF","Default",1900,"1900-01-01","Q4","1900-12-31","Summary","Operating Expense","Taxes & Fees","Taxes & Fees","5.2","Department of Insurance Assessments",{"v":0,"d":"$0.00"},{"v":0,"d":"$0.00"},{"v":0,"d":"$0.00"},{"v":0,"d":"$0.00"},{"v":0,"d":"$0.00"},{"v":0,"d":"$0.00"},"ASR-Dental_Financial_Report_SMMC_03.21.23","2023-03-21","Unaudited"]
["Dental","DEF","Default",1900,"1900-01-01","Q4","1900-12-31","Summary","Operating Expense","Taxes & Fees","Taxes & Fees","5.3","Section 9010 Health Insurance Providers Fee",{"v":0,"d":"$0.00"},{"v":0,"d":"$0.00"},{"v":0,"d":"$0.00"},{"v":0,"d":"$0.00"},{"v":0,"d":"$0.00"},{"v":0,"d":"$0.00"},"ASR-Dental_Financial_Report_SMMC_03.21.23","2023-03-21","Unaudited"]
["Dental","DEF","Default",1900,"1900-01-01","Q4","1900-12-31","Summary","Operating Expense","Taxes & Fees","Taxes & Fees","5.4","Other 1",{"$f":"IF(OR(AND($F142=\"PY\",N$1<>\"Prior Year\"),AND($F142<>\"PY\",N$1=\"Prior Year\")),0,INDEX(INDIRECT(\"'Dental Rev-Exp \"&$H142&\"'!$A$1:$CA$200\"),IF($J142=\"Member Months\",MATCH($J142,INDIRECT(\"'Dental Rev-Exp \"&$H142&\"'!$A$1:$A$200\"),0),MATCH($L142,INDIRECT(\"'Dental Rev-Exp \"&$H142&\"'!$B$1:$B$200\"),0)),IF($F142=\"PY\",MATCH(\"Prior Year Adjustments\",INDIRECT(\"'Dental Rev-Exp \"&$H142&\"'!$A$8:$CA$8\"),0),MATCH(IF($F142=\"Q1\",\"JANUARY - MARCH (Q1)\",IF($F142=\"Q2\",\"APRIL - JUNE (Q2)\",IF($F142=\"Q3\",\"JULY - SEPTEMBER (Q3)\",IF($F142=\"Q4\",\"OCTOBER - DECEMBER (Q4)\",0)))),INDIRECT(\"'Dental Rev-Exp \"&$H142&\"'!$A$7:$CA$7\"),0)+MATCH(N$1,INDIRECT(\"'Dental Rev-Exp \"&$H142&\"'!$D$8:$CA$8\"),0)-1)))","v":{"v":0,"d":"$0.00"}},{"v":0,"d":"$0.00"},{"v":0,"d":"$0.00"},{"v":0,"d":"$0.00"},{"v":0,"d":"$0.00"},{"v":0,"d":"$0.00"},"ASR-Dental_Financial_Report_SMMC_03.21.23","2023-03-21","Unaudited"]
["Dental","DEF","Default",1900,"1900-01-01","Q4","1900-12-31","Summary","Operating Expense","Taxes & Fees","Taxes & Fees","5.5","Other 2",{"v":0,"d":"$0.00"},{"v":0,"d":"$0.00"},{"v":0,"d":"$0.00"},{"v":0,"d":"$0.00"},{"v":0,"d":"$0.00"},{"v":0,"d":"$0.00"},"ASR-Dental_Financial_Report_SMMC_03.21.23","2023-03-21","Unaudited"]
["Dental","DEF","Default",1900,"1900-01-01","Q4","1900-12-31","Summary","Operating Expense","Taxes & Fees","Taxes & Fees","5.6","Other 3",{"v":0,"d":"$0.00"},{"v":0,"d":"$0.00"},{"v":0,"d":"$0.00"},{"v":0,"d":"$0.00"},{"v":0,"d":"$0.00"},{"v":0,"d":"$0.00"},"ASR-Dental_Financial_Report_SMMC_03.21.23","2023-03-21","Unaudited"]
["Dental","DEF","Default",1900,"1900-01-01","Q4","1900-12-31","Summary","Non-Operating Expense","Income Tax Expense","Income Tax Expense","8.0","Income Tax Expense",{"v":0,"d":"$0.00"},{"v":0,"d":"$0.00"},{"v":0,"d":"$0.00"},{"v":0,"d":"$0.00"},{"v":0,"d":"$0.00"},{"v":0,"d":"$0.00"},"ASR-Dental_Financial_Report_SMMC_03.21.23","2023-03-21","Unaudited"]
["Dental","DEF","Default",1900,"1900-01-01","PY","1/1/1800","Summary","Member Months","Member Months","Member Months",null,"Member Months",{"v":0,"d":"$0.00"},{"v":0,"d":"$0.00"},{"v":0,"d":"$0.00"},{"v":0,"d":"$0.00"},{"v":0,"d":"$0.00"},{"v":0,"d":"$0.00"},"ASR-Dental_Financial_Report_SMMC_03.21.23","2023-03-21","Unaudited"]
["Dental","DEF","Default",1900,"1900-01-01","PY","1/1/1800","Summary","Operating Revenue","Capitation","Capitation","1.1","Capitation",{"v":0,"d":"$0.00"},{"v":0,"d":"$0.00"},{"v":0,"d":"$0.00"},{"v":0,"d":"$0.00"},{"v":0,"d":"$0.00"},{"v":0,"d":"$0.00"},"ASR-Dental_Financial_Report_SMMC_03.21.23","2023-03-21","Unaudited"]
["Dental","DEF","Default",1900,"1900-01-01","PY","1/1/1800","Summary","Operating Revenue","Other Revenue","Other Revenue - 9010","1.2","ACA § 9010 related payments",{"v":0,"d":"$0.00"},{"v":0,"d":"$0.00"},{"v":0,"d":"$0.00"},{"v":0,"d":"$0.00"},{"v":0,"d":"$0.00"},{"v":0,"d":"$0.00"},"ASR-Dental_Financial_Report_SMMC_03.21.23","2023-03-21","Unaudited"]
["Dental","DEF","Default",1900,"1900-01-01","PY","1/1/1800","Summary","Operating Revenue","Other Revenue","Other Revenue","1.3","Other Revenue",{"v":0,"d":"$0.00"},{"v":0,"d":"$0.00"},{"v":0,"d":"$0.00"},{"v":0,"d":"$0.00"},{"v":0,"d":"$0.00"},{"v":0,"d":"$0.00"},"ASR-Dental_Financial_Report_SMMC_03.21.23","2023-03-21","Unaudited"]
["Dental","DEF","Default",1900,"1900-01-01","PY","1/1/1800","Summary","Operating Expense","Medical Expense","Dental Services","2.1","Dental Services Diagnostic",{"v":0,"d":"$0.00"},{"v":0,"d":"$0.00"},{"v":0,"d":"$0.00"},{"v":0,"d":"$0.00"},{"v":0,"d":"$0.00"},{"v":0,"d":"$0.00"},"ASR-Dental_Financial_Report_SMMC_03.21.23","2023-03-21","Unaudited"]
["Dental","DEF","Default",1900,"1900-01-01","PY","1/1/1800","Summary","Operating Expense","Medical Expense","Dental Services",2.2,"Dental Services Preventive",{"v":0,"d":"$0.00"},{"v":0,"d":"$0.00"},{"v":0,"d":"$0.00"},{"v":0,"d":"$0.00"},{"v":0,"d":"$0.00"},{"v":0,"d":"$0.00"},"ASR-Dental_Financial_Report_SMMC_03.21.23","2023-03-21","Unaudited"]
["Dental","DEF","Default",1900,"1900-01-01","PY","1/1/1800","Summary","Operating Expense","Medical Expense","Dental Services","2.3","Dental Services Restorative",{"$f":"IF(OR(AND($F152=\"PY\",N$1<>\"Prior Year\"),AND($F152<>\"PY\",N$1=\"Prior Year\")),0,INDEX(INDIRECT(\"'Dental Rev-Exp \"&$H152&\"'!$A$1:$CA$200\"),IF($J152=\"Member Months\",MATCH($J152,INDIRECT(\"'Dental Rev-Exp \"&$H152&\"'!$A$1:$A$200\"),0),MATCH($L152,INDIRECT(\"'Dental Rev-Exp \"&$H152&\"'!$B$1:$B$200\"),0)),IF($F152=\"PY\",MATCH(\"Prior Year Adjustments\",INDIRECT(\"'Dental Rev-Exp \"&$H152&\"'!$A$8:$CA$8\"),0),MATCH(IF($F152=\"Q1\",\"JANUARY - MARCH (Q1)\",IF($F152=\"Q2\",\"APRIL - JUNE (Q2)\",IF($F152=\"Q3\",\"JULY - SEPTEMBER (Q3)\",IF($F152=\"Q4\",\"OCTOBER - DECEMBER (Q4)\",0)))),INDIRECT(\"'Dental Rev-Exp \"&$H152&\"'!$A$7:$CA$7\"),0)+MATCH(N$1,INDIRECT(\"'Dental Rev-Exp \"&$H152&\"'!$D$8:$CA$8\"),0)-1)))","v":{"v":0,"d":"$0.00"}},{"v":0,"d":"$0.00"},{"v":0,"d":"$0.00"},{"v":0,"d":"$0.00"},{"v":0,"d":"$0.00"},{"v":0,"d":"$0.00"},"ASR-Dental_Financial_Report_SMMC_03.21.23","2023-03-21","Unaudited"]
["Dental","DEF","Default",1900,"1900-01-01","PY","1/1/1800","Summary","Operating Expense","Medical Expense","Dental Services","2.4","Dental Services Endodontics",{"v":0,"d":"$0.00"},{"v":0,"d":"$0.00"},{"v":0,"d":"$0.00"},{"v":0,"d":"$0.00"},{"v":0,"d":"$0.00"},{"v":0,"d":"$0.00"},"ASR-Dental_Financial_Report_SMMC_03.21.23","2023-03-21","Unaudited"]
["Dental","DEF","Default",1900,"1900-01-01","PY","1/1/1800","Summary","Operating Expense","Medical Expense","Dental Services","2.5","Dental Services Periodontics",{"v":0,"d":"$0.00"},{"v":0,"d":"$0.00"},{"v":0,"d":"$0.00"},{"v":0,"d":"$0.00"},{"v":0,"d":"$0.00"},{"v":0,"d":"$0.00"},"ASR-Dental_Financial_Report_SMMC_03.21.23","2023-03-21","Unaudited"]
["Dental","DEF","Default",1900,"1900-01-01","PY","1/1/1800","Summary","Operating Expense","Medical Expense","Dental Services","2.6","Dental Services Prosthodontics",{"v":0,"d":"$0.00"},{"v":0,"d":"$0.00"},{"v":0,"d":"$0.00"},{"v":0,"d":"$0.00"},{"v":0,"d":"$0.00"},{"v":0,"d":"$0.00"},"ASR-Dental_Financial_Report_SMMC_03.21.23","2023-03-21","Unaudited"]
["Dental","DEF","Default",1900,"1900-01-01","PY","1/1/1800","Summary","Operating Expense","Medical Expense","Dental Services","2.7","Dental Services Prosthodontics, fixed",{"v":0,"d":"$0.00"},{"v":0,"d":"$0.00"},{"v":0,"d":"$0.00"},{"v":0,"d":"$0.00"},{"v":0,"d":"$0.00"},{"v":0,"d":"$0.00"},"ASR-Dental_Financial_Report_SMMC_03.21.23","2023-03-21","Unaudited"]
["Dental","DEF","Default",1900,"1900-01-01","PY","1/1/1800","Summary","Operating Expense","Medical Expense","Dental Services","2.8","Dental Services Oral and Maxillofacial Surgery",{"v":0,"d":"$0.00"},{"v":0,"d":"$0.00"},{"v":0,"d":"$0.00"},{"v":0,"d":"$0.00"},{"v":0,"d":"$0.00"},{"v":0,"d":"$0.00"},"ASR-Dental_Financial_Report_SMMC_03.21.23","2023-03-21","Unaudited"]
["Dental","DEF","Default",1900,"1900-01-01","PY","1/1/1800","Summary","Operating Expense","Medical Expense","Dental Services","2.9","Dental Services Orthodontics",{"v":0,"d":"$0.00"},{"v":0,"d":"$0.00"},{"v":0,"d":"$0.00"},{"v":0,"d":"$0.00"},{"v":0,"d":"$0.00"},{"v":0,"d":"$0.00"},"ASR-Dental_Financial_Report_SMMC_03.21.23","2023-03-21","Unaudited"]
["Dental","DEF","Default",1900,"1900-01-01","PY","1/1/1800","Summary","Operating Expense","Medical Expense","Dental Services","2.10","Dental Services Adjunctive General Services",{"v":0,"d":"$0.00"},{"v":0,"d":"$0.00"},{"v":0,"d":"$0.00"},{"v":0,"d":"$0.00"},{"v":0,"d":"$0.00"},{"v":0,"d":"$0.00"},"ASR-Dental_Financial_Report_SMMC_03.21.23","2023-03-21","Unaudited"]
["Dental","DEF","Default",1900,"1900-01-01","PY","1/1/1800","Summary","Operating Expense","Medical Expense","Dental Services","2.11","Dental Services Other",{"v":0,"d":"$0.00"},{"v":0,"d":"$0.00"},{"v":0,"d":"$0.00"},{"v":0,"d":"$0.00"},{"v":0,"d":"$0.00"},{"v":0,"d":"$0.00"},"ASR-Dental_Financial_Report_SMMC_03.21.23","2023-03-21","Unaudited"]
["Dental","DEF","Default",1900,"1900-01-01","PY","1/1/1800","Summary","Operating Expense","Medical Expense","Expanded Benefits","2.12","Dental Expanded Benefits",{"v":0,"d":"$0.00"},{"v":0,"d":"$0.00"},{"v":0,"d":"$0.00"},{"v":0,"d":"$0.00"},{"v":0,"d":"$0.00"},{"v":0,"d":"$0.00"},"ASR-Dental_Financial_Report_SMMC_03.21.23","2023-03-21","Unaudited"]
["Dental","DEF","Default",1900,"1900-01-01","PY","1/1/1800","Summary","Operating Expense","Medical Expense","Dental Services","2.13","Dental Services Paid through Subcapitation",{"$f":"IF(OR(AND($F162=\"PY\",N$1<>\"Prior Year\"),AND($F162<>\"PY\",N$1=\"Prior Year\")),0,INDEX(INDIRECT(\"'Dental Rev-Exp \"&$H162&\"'!$A$1:$CA$200\"),IF($J162=\"Member Months\",MATCH($J162,INDIRECT(\"'Dental Rev-Exp \"&$H162&\"'!$A$1:$A$200\"),0),MATCH($L162,INDIRECT(\"'Dental Rev-Exp \"&$H162&\"'!$B$1:$B$200\"),0)),IF($F162=\"PY\",MATCH(\"Prior Year Adjustments\",INDIRECT(\"'Dental Rev-Exp \"&$H162&\"'!$A$8:$CA$8\"),0),MATCH(IF($F162=\"Q1\",\"JANUARY - MARCH (Q1)\",IF($F162=\"Q2\",\"APRIL - JUNE (Q2)\",IF($F162=\"Q3\",\"JULY - SEPTEMBER (Q3)\",IF($F162=\"Q4\",\"OCTOBER - DECEMBER (Q4)\",0)))),INDIRECT(\"'Dental Rev-Exp \"&$H162&\"'!$A$7:$CA$7\"),0)+MATCH(N$1,INDIRECT(\"'Dental Rev-Exp \"&$H162&\"'!$D$8:$CA$8\"),0)-1)))","v":{"v":0,"d":"$0.00"}},{"v":0,"d":"$0.00"},{"v":0,"d":"$0.00"},{"v":0,"d":"$0.00"},{"v":0,"d":"$0.00"},{"v":0,"d":"$0.00"},"ASR-Dental_Financial_Report_SMMC_03.21.23","2023-03-21","Unaudited"]
["Dental","DEF","Default",1900,"1900-01-01","PY","1/1/1800","Summary","Operating Expense","Medical Expense","Dental Services","2.14","Ending IBNP for Dental Services",{"v":0,"d":"$0.00"},{"v":0,"d":"$0.00"},{"v":0,"d":"$0.00"},{"v":0,"d":"$0.00"},{"v":0,"d":"$0.00"},{"v":0,"d":"$0.00"},"ASR-Dental_Financial_Report_SMMC_03.21.23","2023-03-21","Unaudited"]
["Dental","DEF","Default",1900,"1900-01-01","PY","1/1/1800","Summary","Operating Expense","Medical Expense","Dental Services","2.15","Dental Settlements/AP",{"v":0,"d":"$0.00"},{"v":0,"d":"$0.00"},{"v":0,"d":"$0.00"},{"v":0,"d":"$0.00"},{"v":0,"d":"$0.00"},{"v":0,"d":"$0.00"},"ASR-Dental_Financial_Report_SMMC_03.21.23","2023-03-21","Unaudited"]
["Dental","DEF","Default",1900,"1900-01-01","PY","1/1/1800","Summary","Operating Expense","Medical Expense","Other Medical","3.5","TPL & Fraud/Abuse Recoveries",{"v":0,"d":"$0.00"},{"v":0,"d":"$0.00"},{"v":0,"d":"$0.00"},{"v":0,"d":"$0.00"},{"v":0,"d":"$0.00"},{"v":0,"d":"$0.00"},"ASR-Dental_Financial_Report_SMMC_03.21.23","2023-03-21","Unaudited"]
["Dental","DEF","Default",1900,"1900-01-01","PY","1/1/1800","Summary","Operating Expense","Medical Expense","Other Medical",3.6,"Premium Deficiency Reserve",{"v":0,"d":"$0.00"},{"v":0,"d":"$0.00"},{"v":0,"d":"$0.00"},{"v":0,"d":"$0.00"},{"v":0,"d":"$0.00"},{"v":0,"d":"$0.00"},"ASR-Dental_Financial_Report_SMMC_03.21.23","2023-03-21","Unaudited"]
["Dental","DEF","Default",1900,"1900-01-01","PY","1/1/1800","Summary","Operating Expense","Medical Expense","Other Medical","3.8","Reinsurance Premiums",{"v":0,"d":"$0.00"},{"v":0,"d":"$0.00"},{"v":0,"d":"$0.00"},{"v":0,"d":"$0.00"},{"v":0,"d":"$0.00"},{"v":0,"d":"$0.00"},"ASR-Dental_Financial_Report_SMMC_03.21.23","2023-03-21","Unaudited"]
["Dental","DEF","Default",1900,"1900-01-01","PY","1/1/1800","Summary","Operating Expense","Medical Expense","Other Medical","3.9","Reinsurance Recoveries",{"v":0,"d":"$0.00"},{"v":0,"d":"$0.00"},{"v":0,"d":"$0.00"},{"v":0,"d":"$0.00"},{"v":0,"d":"$0.00"},{"v":0,"d":"$0.00"},"ASR-Dental_Financial_Report_SMMC_03.21.23","2023-03-21","Unaudited"]
["Dental","DEF","Default",1900,"1900-01-01","PY","1/1/1800","Summary","Operating Expense","Administrative Expense","Administrative","4.1","Salaries & Benefits",{"v":0,"d":"$0.00"},{"v":0,"d":"$0.00"},{"v":0,"d":"$0.00"},{"v":0,"d":"$0.00"},{"v":0,"d":"$0.00"},{"v":0,"d":"$0.00"},"ASR-Dental_Financial_Report_SMMC_03.21.23","2023-03-21","Unaudited"]
["Dental","DEF","Default",1900,"1900-01-01","PY","1/1/1800","Summary","Operating Expense","Administrative Expense","Administrative","4.2","Administrative Services",{"v":0,"d":"$0.00"},{"v":0,"d":"$0.00"},{"v":0,"d":"$0.00"},{"v":0,"d":"$0.00"},{"v":0,"d":"$0.00"},{"v":0,"d":"$0.00"},"ASR-Dental_Financial_Report_SMMC_03.21.23","2023-03-21","Unaudited"]
["Dental","DEF","Default",1900,"1900-01-01","PY","1/1/1800","Summary","Operating Expense","Administrative Expense","Administrative","4.3","Information Systems",{"v":0,"d":"$0.00"},{"v":0,"d":"$0.00"},{"v":0,"d":"$0.00"},{"v":0,"d":"$0.00"},{"v":0,"d":"$0.00"},{"v":0,"d":"$0.00"},"ASR-Dental_Financial_Report_SMMC_03.21.23","2023-03-21","Unaudited"]
["Dental","DEF","Default",1900,"1900-01-01","PY","1/1/1800","Summary","Operating Expense","Administrative Expense","Administrative","4.4","Marketing Expenses",{"$f":"IF(OR(AND($F172=\"PY\",N$1<>\"Prior Year\"),AND($F172<>\"PY\",N$1=\"Prior Year\")),0,INDEX(INDIRECT(\"'Dental Rev-Exp \"&$H172&\"'!$A$1:$CA$200\"),IF($J172=\"Member Months\",MATCH($J172,INDIRECT(\"'Dental Rev-Exp \"&$H172&\"'!$A$1:$A$200\"),0),MATCH($L172,INDIRECT(\"'Dental Rev-Exp \"&$H172&\"'!$B$1:$B$200\"),0)),IF($F172=\"PY\",MATCH(\"Prior Year Adjustments\",INDIRECT(\"'Dental Rev-Exp \"&$H172&\"'!$A$8:$CA$8\"),0),MATCH(IF($F172=\"Q1\",\"JANUARY - MARCH (Q1)\",IF($F172=\"Q2\",\"APRIL - JUNE (Q2)\",IF($F172=\"Q3\",\"JULY - SEPTEMBER (Q3)\",IF($F172=\"Q4\",\"OCTOBER - DECEMBER (Q4)\",0)))),INDIRECT(\"'Dental Rev-Exp \"&$H172&\"'!$A$7:$CA$7\"),0)+MATCH(N$1,INDIRECT(\"'Dental Rev-Exp \"&$H172&\"'!$D$8:$CA$8\"),0)-1)))","v":{"v":0,"d":"$0.00"}},{"v":0,"d":"$0.00"},{"v":0,"d":"$0.00"},{"v":0,"d":"$0.00"},{"v":0,"d":"$0.00"},{"v":0,"d":"$0.00"},"ASR-Dental_Financial_Report_SMMC_03.21.23","2023-03-21","Unaudited"]
["Dental","DEF","Default",1900,"1900-01-01","PY","1/1/1800","Summary","Operating Expense","Administrative Expense","Administrative","4.5","General  Administration",{"v":0,"d":"$0.00"},{"v":0,"d":"$0.00"},{"v":0,"d":"$0.00"},{"v":0,"d":"$0.00"},{"v":0,"d":"$0.00"},{"v":0,"d":"$0.00"},"ASR-Dental_Financial_Report_SMMC_03.21.23","2023-03-21","Unaudited"]
["Dental","DEF","Default",1900,"1900-01-01","PY","1/1/1800","Summary","Operating Expense","Administrative Expense","Administrative","4.6","Compliance/Regulatory",{"v":0,"d":"$0.00"},{"v":0,"d":"$0.00"},{"v":0,"d":"$0.00"},{"v":0,"d":"$0.00"},{"v":0,"d":"$0.00"},{"v":0,"d":"$0.00"},"ASR-Dental_Financial_Report_SMMC_03.21.23","2023-03-21","Unaudited"]
["Dental","DEF","Default",1900,"1900-01-01","PY","1/1/1800","Summary","Operating Expense","Taxes & Fees","Taxes & Fees","5.1","State Premium tax",{"v":0,"d":"$0.00"},{"v":0,"d":"$0.00"},{"v":0,"d":"$0.00"},{"v":0,"d":"$0.00"},{"v":0,"d":"$0.00"},{"v":0,"d":"$0.00"},"ASR-Dental_Financial_Report_SMMC_03.21.23","2023-03-21","Unaudited"]
["Dental","DEF","Default",1900,"1900-01-01","PY","1/1/1800","Summary","Operating Expense","Taxes & Fees","Taxes & Fees","5.2","Department of Insurance Assessments",{"v":0,"d":"$0.00"},{"v":0,"d":"$0.00"},{"v":0,"d":"$0.00"},{"v":0,"d":"$0.00"},{"v":0,"d":"$0.00"},{"v":0,"d":"$0.00"},"ASR-Dental_Financial_Report_SMMC_03.21.23","2023-03-21","Unaudited"]
["Dental","DEF","Default",1900,"1900-01-01","PY","1/1/1800","Summary","Operating Expense","Taxes & Fees","Taxes & Fees","5.3","Section 9010 Health Insurance Providers Fee",{"v":0,"d":"$0.00"},{"v":0,"d":"$0.00"},{"v":0,"d":"$0.00"},{"v":0,"d":"$0.00"},{"v":0,"d":"$0.00"},{"v":0,"d":"$0.00"},"ASR-Dental_Financial_Report_SMMC_03.21.23","2023-03-21","Unaudited"]
["Dental","DEF","Default",1900,"1900-01-01","PY","1/1/1800","Summary","Operating Expense","Taxes & Fees","Taxes & Fees","5.4","Other 1",{"v":0,"d":"$0.00"},{"v":0,"d":"$0.00"},{"v":0,"d":"$0.00"},{"v":0,"d":"$0.00"},{"v":0,"d":"$0.00"},{"v":0,"d":"$0.00"},"ASR-Dental_Financial_Report_SMMC_03.21.23","2023-03-21","Unaudited"]
["Dental","DEF","Default",1900,"1900-01-01","PY","1/1/1800","Summary","Operating Expense","Taxes & Fees","Taxes & Fees","5.5","Other 2",{"v":0,"d":"$0.00"},{"v":0,"d":"$0.00"},{"v":0,"d":"$0.00"},{"v":0,"d":"$0.00"},{"v":0,"d":"$0.00"},{"v":0,"d":"$0.00"},"ASR-Dental_Financial_Report_SMMC_03.21.23","2023-03-21","Unaudited"]
["Dental","DEF","Default",1900,"1900-01-01","PY","1/1/1800","Summary","Operating Expense","Taxes & Fees","Taxes & Fees","5.6","Other 3",{"v":0,"d":"$0.00"},{"v":0,"d":"$0.00"},{"v":0,"d":"$0.00"},{"v":0,"d":"$0.00"},{"v":0,"d":"$0.00"},{"v":0,"d":"$0.00"},"ASR-Dental_Financial_Report_SMMC_03.21.23","2023-03-21","Unaudited"]
["Dental","DEF","Default",1900,"1900-01-01","PY","1/1/1800","Summary","Non-Operating Expense","Income Tax Expense","Income Tax Expense","8.0","Income Tax Expense",{"v":0,"d":"$0.00"},{"v":0,"d":"$0.00"},{"v":0,"d":"$0.00"},{"v":0,"d":"$0.00"},{"v":0,"d":"$0.00"},{"v":0,"d":"$0.00"},"ASR-Dental_Financial_Report_SMMC_03.21.23","2023-03-21","Unaudited"]
["Dental","DEF","Default",1900,"1900-01-01","Q1","1900-03-31","Region 1","Member Months","Member Months","Member Months",null,"Member Months",{"$f":"IF(OR(AND($F182=\"PY\",N$1<>\"Prior Year\"),AND($F182<>\"PY\",N$1=\"Prior Year\")),0,INDEX(INDIRECT(\"'Dental Rev-Exp \"&$H182&\"'!$A$1:$CA$200\"),IF($J182=\"Member Months\",MATCH($J182,INDIRECT(\"'Dental Rev-Exp \"&$H182&\"'!$A$1:$A$200\"),0),MATCH($L182,INDIRECT(\"'Dental Rev-Exp \"&$H182&\"'!$B$1:$B$200\"),0)),IF($F182=\"PY\",MATCH(\"Prior Year Adjustments\",INDIRECT(\"'Dental Rev-Exp \"&$H182&\"'!$A$8:$CA$8\"),0),MATCH(IF($F182=\"Q1\",\"JANUARY - MARCH (Q1)\",IF($F182=\"Q2\",\"APRIL - JUNE (Q2)\",IF($F182=\"Q3\",\"JULY - SEPTEMBER (Q3)\",IF($F182=\"Q4\",\"OCTOBER - DECEMBER (Q4)\",0)))),INDIRECT(\"'Dental Rev-Exp \"&$H182&\"'!$A$7:$CA$7\"),0)+MATCH(N$1,INDIRECT(\"'Dental Rev-Exp \"&$H182&\"'!$D$8:$CA$8\"),0)-1)))","v":{"v":0,"d":"$0.00"}},{"v":0,"d":"$0.00"},{"v":0,"d":"$0.00"},{"v":0,"d":"$0.00"},{"v":0,"d":"$0.00"},{"v":0,"d":"$0.00"},"ASR-Dental_Financial_Report_SMMC_03.21.23","2023-03-21","Unaudited"]
["Dental","DEF","Default",1900,"1900-01-01","Q1","1900-03-31","Region 1","Operating Revenue","Capitation","Capitation","1.1","Capitation",{"v":0,"d":"$0.00"},{"v":0,"d":"$0.00"},{"v":0,"d":"$0.00"},{"v":0,"d":"$0.00"},{"v":0,"d":"$0.00"},{"v":0,"d":"$0.00"},"ASR-Dental_Financial_Report_SMMC_03.21.23","2023-03-21","Unaudited"]
["Dental","DEF","Default",1900,"1900-01-01","Q1","1900-03-31","Region 1","Operating Revenue","Other Revenue","Other Revenue - 9010","1.2","ACA § 9010 related payments",{"v":0,"d":"$0.00"},{"v":0,"d":"$0.00"},{"v":0,"d":"$0.00"},{"v":0,"d":"$0.00"},{"v":0,"d":"$0.00"},{"v":0,"d":"$0.00"},"ASR-Dental_Financial_Report_SMMC_03.21.23","2023-03-21","Unaudited"]
["Dental","DEF","Default",1900,"1900-01-01","Q1","1900-03-31","Region 1","Operating Revenue","Other Revenue","Other Revenue","1.3","Other Revenue",{"v":0,"d":"$0.00"},{"v":0,"d":"$0.00"},{"v":0,"d":"$0.00"},{"v":0,"d":"$0.00"},{"v":0,"d":"$0.00"},{"v":0,"d":"$0.00"},"ASR-Dental_Financial_Report_SMMC_03.21.23","2023-03-21","Unaudited"]
["Dental","DEF","Default",1900,"1900-01-01","Q1","1900-03-31","Region 1","Operating Expense","Medical Expense","Dental Services","2.1","Dental Services Diagnostic",{"v":0,"d":"$0.00"},{"v":0,"d":"$0.00"},{"v":0,"d":"$0.00"},{"v":0,"d":"$0.00"},{"v":0,"d":"$0.00"},{"v":0,"d":"$0.00"},"ASR-Dental_Financial_Report_SMMC_03.21.23","2023-03-21","Unaudited"]
["Dental","DEF","Default",1900,"1900-01-01","Q1","1900-03-31","Region 1","Operating Expense","Medical Expense","Dental Services",2.2,"Dental Services Preventive",{"v":0,"d":"$0.00"},{"v":0,"d":"$0.00"},{"v":0,"d":"$0.00"},{"v":0,"d":"$0.00"},{"v":0,"d":"$0.00"},{"v":0,"d":"$0.00"},"ASR-Dental_Financial_Report_SMMC_03.21.23","2023-03-21","Unaudited"]
["Dental","DEF","Default",1900,"1900-01-01","Q1","1900-03-31","Region 1","Operating Expense","Medical Expense","Dental Services","2.3","Dental Services Restorative",{"v":0,"d":"$0.00"},{"v":0,"d":"$0.00"},{"v":0,"d":"$0.00"},{"v":0,"d":"$0.00"},{"v":0,"d":"$0.00"},{"v":0,"d":"$0.00"},"ASR-Dental_Financial_Report_SMMC_03.21.23","2023-03-21","Unaudited"]
["Dental","DEF","Default",1900,"1900-01-01","Q1","1900-03-31","Region 1","Operating Expense","Medical Expense","Dental Services","2.4","Dental Services Endodontics",{"v":0,"d":"$0.00"},{"v":0,"d":"$0.00"},{"v":0,"d":"$0.00"},{"v":0,"d":"$0.00"},{"v":0,"d":"$0.00"},{"v":0,"d":"$0.00"},"ASR-Dental_Financial_Report_SMMC_03.21.23","2023-03-21","Unaudited"]
["Dental","DEF","Default",1900,"1900-01-01","Q1","1900-03-31","Region 1","Operating Expense","Medical Expense","Dental Services","2.5","Dental Services Periodontics",{"v":0,"d":"$0.00"},{"v":0,"d":"$0.00"},{"v":0,"d":"$0.00"},{"v":0,"d":"$0.00"},{"v":0,"d":"$0.00"},{"v":0,"d":"$0.00"},"ASR-Dental_Financial_Report_SMMC_03.21.23","2023-03-21","Unaudited"]
["Dental","DEF","Default",1900,"1900-01-01","Q1","1900-03-31","Region 1","Operating Expense","Medical Expense","Dental Services","2.6","Dental Services Prosthodontics",{"v":0,"d":"$0.00"},{"v":0,"d":"$0.00"},{"v":0,"d":"$0.00"},{"v":0,"d":"$0.00"},{"v":0,"d":"$0.00"},{"v":0,"d":"$0.00"},"ASR-Dental_Financial_Report_SMMC_03.21.23","2023-03-21","Unaudited"]
["Dental","DEF","Default",1900,"1900-01-01","Q1","1900-03-31","Region 1","Operating Expense","Medical Expense","Dental Services","2.7","Dental Services Prosthodontics, fixed",{"$f":"IF(OR(AND($F192=\"PY\",N$1<>\"Prior Year\"),AND($F192<>\"PY\",N$1=\"Prior Year\")),0,INDEX(INDIRECT(\"'Dental Rev-Exp \"&$H192&\"'!$A$1:$CA$200\"),IF($J192=\"Member Months\",MATCH($J192,INDIRECT(\"'Dental Rev-Exp \"&$H192&\"'!$A$1:$A$200\"),0),MATCH($L192,INDIRECT(\"'Dental Rev-Exp \"&$H192&\"'!$B$1:$B$200\"),0)),IF($F192=\"PY\",MATCH(\"Prior Year Adjustments\",INDIRECT(\"'Dental Rev-Exp \"&$H192&\"'!$A$8:$CA$8\"),0),MATCH(IF($F192=\"Q1\",\"JANUARY - MARCH (Q1)\",IF($F192=\"Q2\",\"APRIL - JUNE (Q2)\",IF($F192=\"Q3\",\"JULY - SEPTEMBER (Q3)\",IF($F192=\"Q4\",\"OCTOBER - DECEMBER (Q4)\",0)))),INDIRECT(\"'Dental Rev-Exp \"&$H192&\"'!$A$7:$CA$7\"),0)+MATCH(N$1,INDIRECT(\"'Dental Rev-Exp \"&$H192&\"'!$D$8:$CA$8\"),0)-1)))","v":{"v":0,"d":"$0.00"}},{"v":0,"d":"$0.00"},{"v":0,"d":"$0.00"},{"v":0,"d":"$0.00"},{"v":0,"d":"$0.00"},{"v":0,"d":"$0.00"},"ASR-Dental_Financial_Report_SMMC_03.21.23","2023-03-21","Unaudited"]
["Dental","DEF","Default",1900,"1900-01-01","Q1","1900-03-31","Region 1","Operating Expense","Medical Expense","Dental Services","2.8","Dental Services Oral and Maxillofacial Surgery",{"v":0,"d":"$0.00"},{"v":0,"d":"$0.00"},{"v":0,"d":"$0.00"},{"v":0,"d":"$0.00"},{"v":0,"d":"$0.00"},{"v":0,"d":"$0.00"},"ASR-Dental_Financial_Report_SMMC_03.21.23","2023-03-21","Unaudited"]
["Dental","DEF","Default",1900,"1900-01-01","Q1","1900-03-31","Region 1","Operating Expense","Medical Expense","Dental Services","2.9","Dental Services Orthodontics",{"v":0,"d":"$0.00"},{"v":0,"d":"$0.00"},{"v":0,"d":"$0.00"},{"v":0,"d":"$0.00"},{"v":0,"d":"$0.00"},{"v":0,"d":"$0.00"},{"$f":"file_name","v":"ASR-Dental_Financial_Report_SMMC_03.21.23"},{"$f":"file_date","v":"2023-03-21"},{"$f":"status","v":"Unaudited"}]
["Dental","DEF","Default",1900,"1900-01-01","Q1","1900-03-31","Region 1","Operating Expense","Medical Expense","Dental Services","2.10","Dental Services Adjunctive General Services",{"v":0,"d":"$0.00"},{"v":0,"d":"$0.00"},{"v":0,"d":"$0.00"},{"v":0,"d":"$0.00"},{"v":0,"d":"$0.00"},{"v":0,"d":"$0.00"},"ASR-Dental_Financial_Report_SMMC_03.21.23","2023-03-21","Unaudited"]
["Dental","DEF","Default",1900,"1900-01-01","Q1","1900-03-31","Region 1","Operating Expense","Medical Expense","Dental Services","2.11","Dental Services Other",{"v":0,"d":"$0.00"},{"v":0,"d":"$0.00"},{"v":0,"d":"$0.00"},{"v":0,"d":"$0.00"},{"v":0,"d":"$0.00"},{"v":0,"d":"$0.00"},"ASR-Dental_Financial_Report_SMMC_03.21.23","2023-03-21","Unaudited"]
["Dental","DEF","Default",1900,"1900-01-01","Q1","1900-03-31","Region 1","Operating Expense","Medical Expense","Expanded Benefits","2.12","Dental Expanded Benefits",{"v":0,"d":"$0.00"},{"v":0,"d":"$0.00"},{"v":0,"d":"$0.00"},{"v":0,"d":"$0.00"},{"v":0,"d":"$0.00"},{"v":0,"d":"$0.00"},"ASR-Dental_Financial_Report_SMMC_03.21.23","2023-03-21","Unaudited"]
["Dental","DEF","Default",1900,"1900-01-01","Q1","1900-03-31","Region 1","Operating Expense","Medical Expense","Dental Services","2.13","Dental Services Paid through Subcapitation",{"v":0,"d":"$0.00"},{"v":0,"d":"$0.00"},{"v":0,"d":"$0.00"},{"v":0,"d":"$0.00"},{"v":0,"d":"$0.00"},{"v":0,"d":"$0.00"},"ASR-Dental_Financial_Report_SMMC_03.21.23","2023-03-21","Unaudited"]
["Dental","DEF","Default",1900,"1900-01-01","Q1","1900-03-31","Region 1","Operating Expense","Medical Expense","Dental Services","2.14","Ending IBNP for Dental Services",{"v":0,"d":"$0.00"},{"v":0,"d":"$0.00"},{"v":0,"d":"$0.00"},{"v":0,"d":"$0.00"},{"v":0,"d":"$0.00"},{"v":0,"d":"$0.00"},"ASR-Dental_Financial_Report_SMMC_03.21.23","2023-03-21","Unaudited"]
["Dental","DEF","Default",1900,"1900-01-01","Q1","1900-03-31","Region 1","Operating Expense","Medical Expense","Dental Services","2.15","Dental Settlements/AP",{"v":0,"d":"$0.00"},{"v":0,"d":"$0.00"},{"v":0,"d":"$0.00"},{"v":0,"d":"$0.00"},{"v":0,"d":"$0.00"},{"v":0,"d":"$0.00"},"ASR-Dental_Financial_Report_SMMC_03.21.23","2023-03-21","Unaudited"]
["Dental","DEF","Default",1900,"1900-01-01","Q1","1900-03-31","Region 1","Operating Expense","Medical Expense","Other Medical","3.5","TPL & Fraud/Abuse Recoveries",{"v":0,"d":"$0.00"},{"v":0,"d":"$0.00"},{"v":0,"d":"$0.00"},{"v":0,"d":"$0.00"},{"v":0,"d":"$0.00"},{"v":0,"d":"$0.00"},"ASR-Dental_Financial_Report_SMMC_03.21.23","2023-03-21","Unaudited"]
["Dental","DEF","Default",1900,"1900-01-01","Q1","1900-03-31","Region 1","Operating Expense","Medical Expense","Other Medical",3.6,"Premium Deficiency Reserve",{"$f":"IF(OR(AND($F202=\"PY\",N$1<>\"Prior Year\"),AND($F202<>\"PY\",N$1=\"Prior Year\")),0,INDEX(INDIRECT(\"'Dental Rev-Exp \"&$H202&\"'!$A$1:$CA$200\"),IF($J202=\"Member Months\",MATCH($J202,INDIRECT(\"'Dental Rev-Exp \"&$H202&\"'!$A$1:$A$200\"),0),MATCH($L202,INDIRECT(\"'Dental Rev-Exp \"&$H202&\"'!$B$1:$B$200\"),0)),IF($F202=\"PY\",MATCH(\"Prior Year Adjustments\",INDIRECT(\"'Dental Rev-Exp \"&$H202&\"'!$A$8:$CA$8\"),0),MATCH(IF($F202=\"Q1\",\"JANUARY - MARCH (Q1)\",IF($F202=\"Q2\",\"APRIL - JUNE (Q2)\",IF($F202=\"Q3\",\"JULY - SEPTEMBER (Q3)\",IF($F202=\"Q4\",\"OCTOBER - DECEMBER (Q4)\",0)))),INDIRECT(\"'Dental Rev-Exp \"&$H202&\"'!$A$7:$CA$7\"),0)+MATCH(N$1,INDIRECT(\"'Dental Rev-Exp \"&$H202&\"'!$D$8:$CA$8\"),0)-1)))","v":{"v":0,"d":"$0.00"}},{"v":0,"d":"$0.00"},{"v":0,"d":"$0.00"},{"v":0,"d":"$0.00"},{"v":0,"d":"$0.00"},{"v":0,"d":"$0.00"},"ASR-Dental_Financial_Report_SMMC_03.21.23","2023-03-21","Unaudited"]
["Dental","DEF","Default",1900,"1900-01-01","Q1","1900-03-31","Region 1","Operating Expense","Medical Expense","Other Medical","3.8","Reinsurance Premiums",{"v":0,"d":"$0.00"},{"v":0,"d":"$0.00"},{"v":0,"d":"$0.00"},{"v":0,"d":"$0.00"},{"v":0,"d":"$0.00"},{"v":0,"d":"$0.00"},"ASR-Dental_Financial_Report_SMMC_03.21.23","2023-03-21","Unaudited"]
["Dental","DEF","Default",1900,"1900-01-01","Q1","1900-03-31","Region 1","Operating Expense","Medical Expense","Other Medical","3.9","Reinsurance Recoveries",{"v":0,"d":"$0.00"},{"v":0,"d":"$0.00"},{"v":0,"d":"$0.00"},{"v":0,"d":"$0.00"},{"v":0,"d":"$0.00"},{"v":0,"d":"$0.00"},"ASR-Dental_Financial_Report_SMMC_03.21.23","2023-03-21","Unaudited"]
["Dental","DEF","Default",1900,"1900-01-01","Q1","1900-03-31","Region 1","Operating Expense","Administrative Expense","Administrative","4.1","Salaries & Benefits",{"v":0,"d":"$0.00"},{"v":0,"d":"$0.00"},{"v":0,"d":"$0.00"},{"v":0,"d":"$0.00"},{"v":0,"d":"$0.00"},{"v":0,"d":"$0.00"},"ASR-Dental_Financial_Report_SMMC_03.21.23","2023-03-21","Unaudited"]
["Dental","DEF","Default",1900,"1900-01-01","Q1","1900-03-31","Region 1","Operating Expense","Administrative Expense","Administrative","4.2","Administrative Services",{"v":0,"d":"$0.00"},{"v":0,"d":"$0.00"},{"v":0,"d":"$0.00"},{"v":0,"d":"$0.00"},{"v":0,"d":"$0.00"},{"v":0,"d":"$0.00"},"ASR-Dental_Financial_Report_SMMC_03.21.23","2023-03-21","Unaudited"]
["Dental","DEF","Default",1900,"1900-01-01","Q1","1900-03-31","Region 1","Operating Expense","Administrative Expense","Administrative","4.3","Information Systems",{"v":0,"d":"$0.00"},{"v":0,"d":"$0.00"},{"v":0,"d":"$0.00"},{"v":0,"d":"$0.00"},{"v":0,"d":"$0.00"},{"v":0,"d":"$0.00"},"ASR-Dental_Financial_Report_SMMC_03.21.23","2023-03-21","Unaudited"]
["Dental","DEF","Default",1900,"1900-01-01","Q1","1900-03-31","Region 1","Operating Expense","Administrative Expense","Administrative","4.4","Marketing Expenses",{"v":0,"d":"$0.00"},{"v":0,"d":"$0.00"},{"v":0,"d":"$0.00"},{"v":0,"d":"$0.00"},{"v":0,"d":"$0.00"},{"v":0,"d":"$0.00"},"ASR-Dental_Financial_Report_SMMC_03.21.23","2023-03-21","Unaudited"]
["Dental","DEF","Default",1900,"1900-01-01","Q1","1900-03-31","Region 1","Operating Expense","Administrative Expense","Administrative","4.5","General  Administration",{"v":0,"d":"$0.00"},{"v":0,"d":"$0.00"},{"v":0,"d":"$0.00"},{"v":0,"d":"$0.00"},{"v":0,"d":"$0.00"},{"v":0,"d":"$0.00"},"ASR-Dental_Financial_Report_SMMC_03.21.23","2023-03-21","Unaudited"]
["Dental","DEF","Default",1900,"1900-01-01","Q1","1900-03-31","Region 1","Operating Expense","Administrative Expense","Administrative","4.6","Compliance/Regulatory",{"v":0,"d":"$0.00"},{"v":0,"d":"$0.00"},{"v":0,"d":"$0.00"},{"v":0,"d":"$0.00"},{"v":0,"d":"$0.00"},{"v":0,"d":"$0.00"},"ASR-Dental_Financial_Report_SMMC_03.21.23","2023-03-21","Unaudited"]
["Dental","DEF","Default",1900,"1900-01-01","Q1","1900-03-31","Region 1","Operating Expense","Taxes & Fees","Taxes & Fees","5.1","State Premium tax",{"v":0,"d":"$0.00"},{"v":0,"d":"$0.00"},{"v":0,"d":"$0.00"},{"v":0,"d":"$0.00"},{"v":0,"d":"$0.00"},{"v":0,"d":"$0.00"},"ASR-Dental_Financial_Report_SMMC_03.21.23","2023-03-21","Unaudited"]
["Dental","DEF","Default",1900,"1900-01-01","Q1","1900-03-31","Region 1","Operating Expense","Taxes & Fees","Taxes & Fees","5.2","Department of Insurance Assessments",{"$f":"IF(OR(AND($F212=\"PY\",N$1<>\"Prior Year\"),AND($F212<>\"PY\",N$1=\"Prior Year\")),0,INDEX(INDIRECT(\"'Dental Rev-Exp \"&$H212&\"'!$A$1:$CA$200\"),IF($J212=\"Member Months\",MATCH($J212,INDIRECT(\"'Dental Rev-Exp \"&$H212&\"'!$A$1:$A$200\"),0),MATCH($L212,INDIRECT(\"'Dental Rev-Exp \"&$H212&\"'!$B$1:$B$200\"),0)),IF($F212=\"PY\",MATCH(\"Prior Year Adjustments\",INDIRECT(\"'Dental Rev-Exp \"&$H212&\"'!$A$8:$CA$8\"),0),MATCH(IF($F212=\"Q1\",\"JANUARY - MARCH (Q1)\",IF($F212=\"Q2\",\"APRIL - JUNE (Q2)\",IF($F212=\"Q3\",\"JULY - SEPTEMBER (Q3)\",IF($F212=\"Q4\",\"OCTOBER - DECEMBER (Q4)\",0)))),INDIRECT(\"'Dental Rev-Exp \"&$H212&\"'!$A$7:$CA$7\"),0)+MATCH(N$1,INDIRECT(\"'Dental Rev-Exp \"&$H212&\"'!$D$8:$CA$8\"),0)-1)))","v":{"v":0,"d":"$0.00"}},{"v":0,"d":"$0.00"},{"v":0,"d":"$0.00"},{"v":0,"d":"$0.00"},{"v":0,"d":"$0.00"},{"v":0,"d":"$0.00"},"ASR-Dental_Financial_Report_SMMC_03.21.23","2023-03-21","Unaudited"]
["Dental","DEF","Default",1900,"1900-01-01","Q1","1900-03-31","Region 1","Operating Expense","Taxes & Fees","Taxes & Fees","5.3","Section 9010 Health Insurance Providers Fee",{"v":0,"d":"$0.00"},{"v":0,"d":"$0.00"},{"v":0,"d":"$0.00"},{"v":0,"d":"$0.00"},{"v":0,"d":"$0.00"},{"v":0,"d":"$0.00"},"ASR-Dental_Financial_Report_SMMC_03.21.23","2023-03-21","Unaudited"]
["Dental","DEF","Default",1900,"1900-01-01","Q1","1900-03-31","Region 1","Operating Expense","Taxes & Fees","Taxes & Fees","5.4","Other 1",{"v":0,"d":"$0.00"},{"v":0,"d":"$0.00"},{"v":0,"d":"$0.00"},{"v":0,"d":"$0.00"},{"v":0,"d":"$0.00"},{"v":0,"d":"$0.00"},"ASR-Dental_Financial_Report_SMMC_03.21.23","2023-03-21","Unaudited"]
["Dental","DEF","Default",1900,"1900-01-01","Q1","1900-03-31","Region 1","Operating Expense","Taxes & Fees","Taxes & Fees","5.5","Other 2",{"v":0,"d":"$0.00"},{"v":0,"d":"$0.00"},{"v":0,"d":"$0.00"},{"v":0,"d":"$0.00"},{"v":0,"d":"$0.00"},{"v":0,"d":"$0.00"},"ASR-Dental_Financial_Report_SMMC_03.21.23","2023-03-21","Unaudited"]
["Dental","DEF","Default",1900,"1900-01-01","Q1","1900-03-31","Region 1","Operating Expense","Taxes & Fees","Taxes & Fees","5.6","Other 3",{"v":0,"d":"$0.00"},{"v":0,"d":"$0.00"},{"v":0,"d":"$0.00"},{"v":0,"d":"$0.00"},{"v":0,"d":"$0.00"},{"v":0,"d":"$0.00"},"ASR-Dental_Financial_Report_SMMC_03.21.23","2023-03-21","Unaudited"]
["Dental","DEF","Default",1900,"1900-01-01","Q1","1900-03-31","Region 1","Non-Operating Expense","Income Tax Expense","Income Tax Expense","8.0","Income Tax Expense",{"v":0,"d":"$0.00"},{"v":0,"d":"$0.00"},{"v":0,"d":"$0.00"},{"v":0,"d":"$0.00"},{"v":0,"d":"$0.00"},{"v":0,"d":"$0.00"},"ASR-Dental_Financial_Report_SMMC_03.21.23","2023-03-21","Unaudited"]
["Dental","DEF","Default",1900,"1900-01-01","Q2","1900-06-30","Region 1","Member Months","Member Months","Member Months",null,"Member Months",{"v":0,"d":"$0.00"},{"v":0,"d":"$0.00"},{"v":0,"d":"$0.00"},{"v":0,"d":"$0.00"},{"v":0,"d":"$0.00"},{"v":0,"d":"$0.00"},"ASR-Dental_Financial_Report_SMMC_03.21.23","2023-03-21","Unaudited"]
["Dental","DEF","Default",1900,"1900-01-01","Q2","1900-06-30","Region 1","Operating Revenue","Capitation","Capitation","1.1","Capitation",{"v":0,"d":"$0.00"},{"v":0,"d":"$0.00"},{"v":0,"d":"$0.00"},{"v":0,"d":"$0.00"},{"v":0,"d":"$0.00"},{"v":0,"d":"$0.00"},"ASR-Dental_Financial_Report_SMMC_03.21.23","2023-03-21","Unaudited"]
["Dental","DEF","Default",1900,"1900-01-01","Q2","1900-06-30","Region 1","Operating Revenue","Other Revenue","Other Revenue - 9010","1.2","ACA § 9010 related payments",{"v":0,"d":"$0.00"},{"v":0,"d":"$0.00"},{"v":0,"d":"$0.00"},{"v":0,"d":"$0.00"},{"v":0,"d":"$0.00"},{"v":0,"d":"$0.00"},"ASR-Dental_Financial_Report_SMMC_03.21.23","2023-03-21","Unaudited"]
["Dental","DEF","Default",1900,"1900-01-01","Q2","1900-06-30","Region 1","Operating Revenue","Other Revenue","Other Revenue","1.3","Other Revenue",{"v":0,"d":"$0.00"},{"v":0,"d":"$0.00"},{"v":0,"d":"$0.00"},{"v":0,"d":"$0.00"},{"v":0,"d":"$0.00"},{"v":0,"d":"$0.00"},"ASR-Dental_Financial_Report_SMMC_03.21.23","2023-03-21","Unaudited"]
["Dental","DEF","Default",1900,"1900-01-01","Q2","1900-06-30","Region 1","Operating Expense","Medical Expense","Dental Services","2.1","Dental Services Diagnostic",{"$f":"IF(OR(AND($F222=\"PY\",N$1<>\"Prior Year\"),AND($F222<>\"PY\",N$1=\"Prior Year\")),0,INDEX(INDIRECT(\"'Dental Rev-Exp \"&$H222&\"'!$A$1:$CA$200\"),IF($J222=\"Member Months\",MATCH($J222,INDIRECT(\"'Dental Rev-Exp \"&$H222&\"'!$A$1:$A$200\"),0),MATCH($L222,INDIRECT(\"'Dental Rev-Exp \"&$H222&\"'!$B$1:$B$200\"),0)),IF($F222=\"PY\",MATCH(\"Prior Year Adjustments\",INDIRECT(\"'Dental Rev-Exp \"&$H222&\"'!$A$8:$CA$8\"),0),MATCH(IF($F222=\"Q1\",\"JANUARY - MARCH (Q1)\",IF($F222=\"Q2\",\"APRIL - JUNE (Q2)\",IF($F222=\"Q3\",\"JULY - SEPTEMBER (Q3)\",IF($F222=\"Q4\",\"OCTOBER - DECEMBER (Q4)\",0)))),INDIRECT(\"'Dental Rev-Exp \"&$H222&\"'!$A$7:$CA$7\"),0)+MATCH(N$1,INDIRECT(\"'Dental Rev-Exp \"&$H222&\"'!$D$8:$CA$8\"),0)-1)))","v":{"v":0,"d":"$0.00"}},{"v":0,"d":"$0.00"},{"v":0,"d":"$0.00"},{"v":0,"d":"$0.00"},{"v":0,"d":"$0.00"},{"v":0,"d":"$0.00"},"ASR-Dental_Financial_Report_SMMC_03.21.23","2023-03-21","Unaudited"]
["Dental","DEF","Default",1900,"1900-01-01","Q2","1900-06-30","Region 1","Operating Expense","Medical Expense","Dental Services",2.2,"Dental Services Preventive",{"v":0,"d":"$0.00"},{"v":0,"d":"$0.00"},{"v":0,"d":"$0.00"},{"v":0,"d":"$0.00"},{"v":0,"d":"$0.00"},{"v":0,"d":"$0.00"},"ASR-Dental_Financial_Report_SMMC_03.21.23","2023-03-21","Unaudited"]
["Dental","DEF","Default",1900,"1900-01-01","Q2","1900-06-30","Region 1","Operating Expense","Medical Expense","Dental Services","2.3","Dental Services Restorative",{"v":0,"d":"$0.00"},{"v":0,"d":"$0.00"},{"v":0,"d":"$0.00"},{"v":0,"d":"$0.00"},{"v":0,"d":"$0.00"},{"v":0,"d":"$0.00"},"ASR-Dental_Financial_Report_SMMC_03.21.23","2023-03-21","Unaudited"]
["Dental","DEF","Default",1900,"1900-01-01","Q2","1900-06-30","Region 1","Operating Expense","Medical Expense","Dental Services","2.4","Dental Services Endodontics",{"v":0,"d":"$0.00"},{"v":0,"d":"$0.00"},{"v":0,"d":"$0.00"},{"v":0,"d":"$0.00"},{"v":0,"d":"$0.00"},{"v":0,"d":"$0.00"},"ASR-Dental_Financial_Report_SMMC_03.21.23","2023-03-21","Unaudited"]
["Dental","DEF","Default",1900,"1900-01-01","Q2","1900-06-30","Region 1","Operating Expense","Medical Expense","Dental Services","2.5","Dental Services Periodontics",{"v":0,"d":"$0.00"},{"v":0,"d":"$0.00"},{"v":0,"d":"$0.00"},{"v":0,"d":"$0.00"},{"v":0,"d":"$0.00"},{"v":0,"d":"$0.00"},"ASR-Dental_Financial_Report_SMMC_03.21.23","2023-03-21","Unaudited"]
["Dental","DEF","Default",1900,"1900-01-01","Q2","1900-06-30","Region 1","Operating Expense","Medical Expense","Dental Services","2.6","Dental Services Prosthodontics",{"v":0,"d":"$0.00"},{"v":0,"d":"$0.00"},{"v":0,"d":"$0.00"},{"v":0,"d":"$0.00"},{"v":0,"d":"$0.00"},{"v":0,"d":"$0.00"},"ASR-Dental_Financial_Report_SMMC_03.21.23","2023-03-21","Unaudited"]
["Dental","DEF","Default",1900,"1900-01-01","Q2","1900-06-30","Region 1","Operating Expense","Medical Expense","Dental Services","2.7","Dental Services Prosthodontics, fixed",{"v":0,"d":"$0.00"},{"v":0,"d":"$0.00"},{"v":0,"d":"$0.00"},{"v":0,"d":"$0.00"},{"v":0,"d":"$0.00"},{"v":0,"d":"$0.00"},"ASR-Dental_Financial_Report_SMMC_03.21.23","2023-03-21","Unaudited"]
["Dental","DEF","Default",1900,"1900-01-01","Q2","1900-06-30","Region 1","Operating Expense","Medical Expense","Dental Services","2.8","Dental Services Oral and Maxillofacial Surgery",{"v":0,"d":"$0.00"},{"v":0,"d":"$0.00"},{"v":0,"d":"$0.00"},{"v":0,"d":"$0.00"},{"v":0,"d":"$0.00"},{"v":0,"d":"$0.00"},"ASR-Dental_Financial_Report_SMMC_03.21.23","2023-03-21","Unaudited"]
["Dental","DEF","Default",1900,"1900-01-01","Q2","1900-06-30","Region 1","Operating Expense","Medical Expense","Dental Services","2.9","Dental Services Orthodontics",{"v":0,"d":"$0.00"},{"v":0,"d":"$0.00"},{"v":0,"d":"$0.00"},{"v":0,"d":"$0.00"},{"v":0,"d":"$0.00"},{"v":0,"d":"$0.00"},"ASR-Dental_Financial_Report_SMMC_03.21.23","2023-03-21","Unaudited"]
["Dental","DEF","Default",1900,"1900-01-01","Q2","1900-06-30","Region 1","Operating Expense","Medical Expense","Dental Services","2.10","Dental Services Adjunctive General Services",{"v":0,"d":"$0.00"},{"v":0,"d":"$0.00"},{"v":0,"d":"$0.00"},{"v":0,"d":"$0.00"},{"v":0,"d":"$0.00"},{"v":0,"d":"$0.00"},"ASR-Dental_Financial_Report_SMMC_03.21.23","2023-03-21","Unaudited"]
["Dental","DEF","Default",1900,"1900-01-01","Q2","1900-06-30","Region 1","Operating Expense","Medical Expense","Dental Services","2.11","Dental Services Other",{"$f":"IF(OR(AND($F232=\"PY\",N$1<>\"Prior Year\"),AND($F232<>\"PY\",N$1=\"Prior Year\")),0,INDEX(INDIRECT(\"'Dental Rev-Exp \"&$H232&\"'!$A$1:$CA$200\"),IF($J232=\"Member Months\",MATCH($J232,INDIRECT(\"'Dental Rev-Exp \"&$H232&\"'!$A$1:$A$200\"),0),MATCH($L232,INDIRECT(\"'Dental Rev-Exp \"&$H232&\"'!$B$1:$B$200\"),0)),IF($F232=\"PY\",MATCH(\"Prior Year Adjustments\",INDIRECT(\"'Dental Rev-Exp \"&$H232&\"'!$A$8:$CA$8\"),0),MATCH(IF($F232=\"Q1\",\"JANUARY - MARCH (Q1)\",IF($F232=\"Q2\",\"APRIL - JUNE (Q2)\",IF($F232=\"Q3\",\"JULY - SEPTEMBER (Q3)\",IF($F232=\"Q4\",\"OCTOBER - DECEMBER (Q4)\",0)))),INDIRECT(\"'Dental Rev-Exp \"&$H232&\"'!$A$7:$CA$7\"),0)+MATCH(N$1,INDIRECT(\"'Dental Rev-Exp \"&$H232&\"'!$D$8:$CA$8\"),0)-1)))","v":{"v":0,"d":"$0.00"}},{"v":0,"d":"$0.00"},{"v":0,"d":"$0.00"},{"v":0,"d":"$0.00"},{"v":0,"d":"$0.00"},{"v":0,"d":"$0.00"},"ASR-Dental_Financial_Report_SMMC_03.21.23","2023-03-21","Unaudited"]
["Dental","DEF","Default",1900,"1900-01-01","Q2","1900-06-30","Region 1","Operating Expense","Medical Expense","Expanded Benefits","2.12","Dental Expanded Benefits",{"v":0,"d":"$0.00"},{"v":0,"d":"$0.00"},{"v":0,"d":"$0.00"},{"v":0,"d":"$0.00"},{"v":0,"d":"$0.00"},{"v":0,"d":"$0.00"},"ASR-Dental_Financial_Report_SMMC_03.21.23","2023-03-21","Unaudited"]
["Dental","DEF","Default",1900,"1900-01-01","Q2","1900-06-30","Region 1","Operating Expense","Medical Expense","Dental Services","2.13","Dental Services Paid through Subcapitation",{"v":0,"d":"$0.00"},{"v":0,"d":"$0.00"},{"v":0,"d":"$0.00"},{"v":0,"d":"$0.00"},{"v":0,"d":"$0.00"},{"v":0,"d":"$0.00"},"ASR-Dental_Financial_Report_SMMC_03.21.23","2023-03-21","Unaudited"]
["Dental","DEF","Default",1900,"1900-01-01","Q2","1900-06-30","Region 1","Operating Expense","Medical Expense","Dental Services","2.14","Ending IBNP for Dental Services",{"v":0,"d":"$0.00"},{"v":0,"d":"$0.00"},{"v":0,"d":"$0.00"},{"v":0,"d":"$0.00"},{"v":0,"d":"$0.00"},{"v":0,"d":"$0.00"},"ASR-Dental_Financial_Report_SMMC_03.21.23","2023-03-21","Unaudited"]
["Dental","DEF","Default",1900,"1900-01-01","Q2","1900-06-30","Region 1","Operating Expense","Medical Expense","Dental Services","2.15","Dental Settlements/AP",{"v":0,"d":"$0.00"},{"v":0,"d":"$0.00"},{"v":0,"d":"$0.00"},{"v":0,"d":"$0.00"},{"v":0,"d":"$0.00"},{"v":0,"d":"$0.00"},"ASR-Dental_Financial_Report_SMMC_03.21.23","2023-03-21","Unaudited"]
["Dental","DEF","Default",1900,"1900-01-01","Q2","1900-06-30","Region 1","Operating Expense","Medical Expense","Other Medical","3.5","TPL & Fraud/Abuse Recoveries",{"v":0,"d":"$0.00"},{"v":0,"d":"$0.00"},{"v":0,"d":"$0.00"},{"v":0,"d":"$0.00"},{"v":0,"d":"$0.00"},{"v":0,"d":"$0.00"},"ASR-Dental_Financial_Report_SMMC_03.21.23","2023-03-21","Unaudited"]
["Dental","DEF","Default",1900,"1900-01-01","Q2","1900-06-30","Region 1","Operating Expense","Medical Expense","Other Medical",3.6,"Premium Deficiency Reserve",{"v":0,"d":"$0.00"},{"v":0,"d":"$0.00"},{"v":0,"d":"$0.00"},{"v":0,"d":"$0.00"},{"v":0,"d":"$0.00"},{"v":0,"d":"$0.00"},"ASR-Dental_Financial_Report_SMMC_03.21.23","2023-03-21","Unaudited"]
["Dental","DEF","Default",1900,"1900-01-01","Q2","1900-06-30","Region 1","Operating Expense","Medical Expense","Other Medical","3.8","Reinsurance Premiums",{"v":0,"d":"$0.00"},{"v":0,"d":"$0.00"},{"v":0,"d":"$0.00"},{"v":0,"d":"$0.00"},{"v":0,"d":"$0.00"},{"v":0,"d":"$0.00"},"ASR-Dental_Financial_Report_SMMC_03.21.23","2023-03-21","Unaudited"]
["Dental","DEF","Default",1900,"1900-01-01","Q2","1900-06-30","Region 1","Operating Expense","Medical Expense","Other Medical","3.9","Reinsurance Recoveries",{"v":0,"d":"$0.00"},{"v":0,"d":"$0.00"},{"v":0,"d":"$0.00"},{"v":0,"d":"$0.00"},{"v":0,"d":"$0.00"},{"v":0,"d":"$0.00"},"ASR-Dental_Financial_Report_SMMC_03.21.23","2023-03-21","Unaudited"]
["Dental","DEF","Default",1900,"1900-01-01","Q2","1900-06-30","Region 1","Operating Expense","Administrative Expense","Administrative","4.1","Salaries & Benefits",{"v":0,"d":"$0.00"},{"v":0,"d":"$0.00"},{"v":0,"d":"$0.00"},{"v":0,"d":"$0.00"},{"v":0,"d":"$0.00"},{"v":0,"d":"$0.00"},"ASR-Dental_Financial_Report_SMMC_03.21.23","2023-03-21","Unaudited"]
["Dental","DEF","Default",1900,"1900-01-01","Q2","1900-06-30","Region 1","Operating Expense","Administrative Expense","Administrative","4.2","Administrative Services",{"$f":"IF(OR(AND($F242=\"PY\",N$1<>\"Prior Year\"),AND($F242<>\"PY\",N$1=\"Prior Year\")),0,INDEX(INDIRECT(\"'Dental Rev-Exp \"&$H242&\"'!$A$1:$CA$200\"),IF($J242=\"Member Months\",MATCH($J242,INDIRECT(\"'Dental Rev-Exp \"&$H242&\"'!$A$1:$A$200\"),0),MATCH($L242,INDIRECT(\"'Dental Rev-Exp \"&$H242&\"'!$B$1:$B$200\"),0)),IF($F242=\"PY\",MATCH(\"Prior Year Adjustments\",INDIRECT(\"'Dental Rev-Exp \"&$H242&\"'!$A$8:$CA$8\"),0),MATCH(IF($F242=\"Q1\",\"JANUARY - MARCH (Q1)\",IF($F242=\"Q2\",\"APRIL - JUNE (Q2)\",IF($F242=\"Q3\",\"JULY - SEPTEMBER (Q3)\",IF($F242=\"Q4\",\"OCTOBER - DECEMBER (Q4)\",0)))),INDIRECT(\"'Dental Rev-Exp \"&$H242&\"'!$A$7:$CA$7\"),0)+MATCH(N$1,INDIRECT(\"'Dental Rev-Exp \"&$H242&\"'!$D$8:$CA$8\"),0)-1)))","v":{"v":0,"d":"$0.00"}},{"v":0,"d":"$0.00"},{"v":0,"d":"$0.00"},{"v":0,"d":"$0.00"},{"v":0,"d":"$0.00"},{"v":0,"d":"$0.00"},"ASR-Dental_Financial_Report_SMMC_03.21.23","2023-03-21","Unaudited"]
["Dental","DEF","Default",1900,"1900-01-01","Q2","1900-06-30","Region 1","Operating Expense","Administrative Expense","Administrative","4.3","Information Systems",{"v":0,"d":"$0.00"},{"v":0,"d":"$0.00"},{"v":0,"d":"$0.00"},{"v":0,"d":"$0.00"},{"v":0,"d":"$0.00"},{"v":0,"d":"$0.00"},"ASR-Dental_Financial_Report_SMMC_03.21.23","2023-03-21","Unaudited"]
["Dental","DEF","Default",1900,"1900-01-01","Q2","1900-06-30","Region 1","Operating Expense","Administrative Expense","Administrative","4.4","Marketing Expenses",{"v":0,"d":"$0.00"},{"v":0,"d":"$0.00"},{"v":0,"d":"$0.00"},{"v":0,"d":"$0.00"},{"v":0,"d":"$0.00"},{"v":0,"d":"$0.00"},"ASR-Dental_Financial_Report_SMMC_03.21.23","2023-03-21","Unaudited"]
["Dental","DEF","Default",1900,"1900-01-01","Q2","1900-06-30","Region 1","Operating Expense","Administrative Expense","Administrative","4.5","General  Administration",{"v":0,"d":"$0.00"},{"v":0,"d":"$0.00"},{"v":0,"d":"$0.00"},{"v":0,"d":"$0.00"},{"v":0,"d":"$0.00"},{"v":0,"d":"$0.00"},"ASR-Dental_Financial_Report_SMMC_03.21.23","2023-03-21","Unaudited"]
["Dental","DEF","Default",1900,"1900-01-01","Q2","1900-06-30","Region 1","Operating Expense","Administrative Expense","Administrative","4.6","Compliance/Regulatory",{"v":0,"d":"$0.00"},{"v":0,"d":"$0.00"},{"v":0,"d":"$0.00"},{"v":0,"d":"$0.00"},{"v":0,"d":"$0.00"},{"v":0,"d":"$0.00"},"ASR-Dental_Financial_Report_SMMC_03.21.23","2023-03-21","Unaudited"]
["Dental","DEF","Default",1900,"1900-01-01","Q2","1900-06-30","Region 1","Operating Expense","Taxes & Fees","Taxes & Fees","5.1","State Premium tax",{"v":0,"d":"$0.00"},{"v":0,"d":"$0.00"},{"v":0,"d":"$0.00"},{"v":0,"d":"$0.00"},{"v":0,"d":"$0.00"},{"v":0,"d":"$0.00"},"ASR-Dental_Financial_Report_SMMC_03.21.23","2023-03-21","Unaudited"]
["Dental","DEF","Default",1900,"1900-01-01","Q2","1900-06-30","Region 1","Operating Expense","Taxes & Fees","Taxes & Fees","5.2","Department of Insurance Assessments",{"v":0,"d":"$0.00"},{"v":0,"d":"$0.00"},{"v":0,"d":"$0.00"},{"v":0,"d":"$0.00"},{"v":0,"d":"$0.00"},{"v":0,"d":"$0.00"},"ASR-Dental_Financial_Report_SMMC_03.21.23","2023-03-21","Unaudited"]
["Dental","DEF","Default",1900,"1900-01-01","Q2","1900-06-30","Region 1","Operating Expense","Taxes & Fees","Taxes & Fees","5.3","Section 9010 Health Insurance Providers Fee",{"v":0,"d":"$0.00"},{"v":0,"d":"$0.00"},{"v":0,"d":"$0.00"},{"v":0,"d":"$0.00"},{"v":0,"d":"$0.00"},{"v":0,"d":"$0.00"},"ASR-Dental_Financial_Report_SMMC_03.21.23","2023-03-21","Unaudited"]
["Dental","DEF","Default",1900,"1900-01-01","Q2","1900-06-30","Region 1","Operating Expense","Taxes & Fees","Taxes & Fees","5.4","Other 1",{"v":0,"d":"$0.00"},{"v":0,"d":"$0.00"},{"v":0,"d":"$0.00"},{"v":0,"d":"$0.00"},{"v":0,"d":"$0.00"},{"v":0,"d":"$0.00"},"ASR-Dental_Financial_Report_SMMC_03.21.23","2023-03-21","Unaudited"]
["Dental","DEF","Default",1900,"1900-01-01","Q2","1900-06-30","Region 1","Operating Expense","Taxes & Fees","Taxes & Fees","5.5","Other 2",{"v":0,"d":"$0.00"},{"v":0,"d":"$0.00"},{"v":0,"d":"$0.00"},{"v":0,"d":"$0.00"},{"v":0,"d":"$0.00"},{"v":0,"d":"$0.00"},"ASR-Dental_Financial_Report_SMMC_03.21.23","2023-03-21","Unaudited"]
["Dental","DEF","Default",1900,"1900-01-01","Q2","1900-06-30","Region 1","Operating Expense","Taxes & Fees","Taxes & Fees","5.6","Other 3",{"$f":"IF(OR(AND($F252=\"PY\",N$1<>\"Prior Year\"),AND($F252<>\"PY\",N$1=\"Prior Year\")),0,INDEX(INDIRECT(\"'Dental Rev-Exp \"&$H252&\"'!$A$1:$CA$200\"),IF($J252=\"Member Months\",MATCH($J252,INDIRECT(\"'Dental Rev-Exp \"&$H252&\"'!$A$1:$A$200\"),0),MATCH($L252,INDIRECT(\"'Dental Rev-Exp \"&$H252&\"'!$B$1:$B$200\"),0)),IF($F252=\"PY\",MATCH(\"Prior Year Adjustments\",INDIRECT(\"'Dental Rev-Exp \"&$H252&\"'!$A$8:$CA$8\"),0),MATCH(IF($F252=\"Q1\",\"JANUARY - MARCH (Q1)\",IF($F252=\"Q2\",\"APRIL - JUNE (Q2)\",IF($F252=\"Q3\",\"JULY - SEPTEMBER (Q3)\",IF($F252=\"Q4\",\"OCTOBER - DECEMBER (Q4)\",0)))),INDIRECT(\"'Dental Rev-Exp \"&$H252&\"'!$A$7:$CA$7\"),0)+MATCH(N$1,INDIRECT(\"'Dental Rev-Exp \"&$H252&\"'!$D$8:$CA$8\"),0)-1)))","v":{"v":0,"d":"$0.00"}},{"v":0,"d":"$0.00"},{"v":0,"d":"$0.00"},{"v":0,"d":"$0.00"},{"v":0,"d":"$0.00"},{"v":0,"d":"$0.00"},"ASR-Dental_Financial_Report_SMMC_03.21.23","2023-03-21","Unaudited"]
["Dental","DEF","Default",1900,"1900-01-01","Q2","1900-06-30","Region 1","Non-Operating Expense","Income Tax Expense","Income Tax Expense","8.0","Income Tax Expense",{"v":0,"d":"$0.00"},{"v":0,"d":"$0.00"},{"v":0,"d":"$0.00"},{"v":0,"d":"$0.00"},{"v":0,"d":"$0.00"},{"v":0,"d":"$0.00"},"ASR-Dental_Financial_Report_SMMC_03.21.23","2023-03-21","Unaudited"]
["Dental","DEF","Default",1900,"1900-01-01","Q3","1900-09-30","Region 1","Member Months","Member Months","Member Months",null,"Member Months",{"v":0,"d":"$0.00"},{"v":0,"d":"$0.00"},{"v":0,"d":"$0.00"},{"v":0,"d":"$0.00"},{"v":0,"d":"$0.00"},{"v":0,"d":"$0.00"},"ASR-Dental_Financial_Report_SMMC_03.21.23","2023-03-21","Unaudited"]
["Dental","DEF","Default",1900,"1900-01-01","Q3","1900-09-30","Region 1","Operating Revenue","Capitation","Capitation","1.1","Capitation",{"v":0,"d":"$0.00"},{"v":0,"d":"$0.00"},{"v":0,"d":"$0.00"},{"v":0,"d":"$0.00"},{"v":0,"d":"$0.00"},{"v":0,"d":"$0.00"},"ASR-Dental_Financial_Report_SMMC_03.21.23","2023-03-21","Unaudited"]
["Dental","DEF","Default",1900,"1900-01-01","Q3","1900-09-30","Region 1","Operating Revenue","Other Revenue","Other Revenue - 9010","1.2","ACA § 9010 related payments",{"v":0,"d":"$0.00"},{"v":0,"d":"$0.00"},{"v":0,"d":"$0.00"},{"v":0,"d":"$0.00"},{"v":0,"d":"$0.00"},{"v":0,"d":"$0.00"},"ASR-Dental_Financial_Report_SMMC_03.21.23","2023-03-21","Unaudited"]
["Dental","DEF","Default",1900,"1900-01-01","Q3","1900-09-30","Region 1","Operating Revenue","Other Revenue","Other Revenue","1.3","Other Revenue",{"v":0,"d":"$0.00"},{"v":0,"d":"$0.00"},{"v":0,"d":"$0.00"},{"v":0,"d":"$0.00"},{"v":0,"d":"$0.00"},{"v":0,"d":"$0.00"},"ASR-Dental_Financial_Report_SMMC_03.21.23","2023-03-21","Unaudited"]
["Dental","DEF","Default",1900,"1900-01-01","Q3","1900-09-30","Region 1","Operating Expense","Medical Expense","Dental Services","2.1","Dental Services Diagnostic",{"v":0,"d":"$0.00"},{"v":0,"d":"$0.00"},{"v":0,"d":"$0.00"},{"v":0,"d":"$0.00"},{"v":0,"d":"$0.00"},{"v":0,"d":"$0.00"},{"$f":"file_name","v":"ASR-Dental_Financial_Report_SMMC_03.21.23"},{"$f":"file_date","v":"2023-03-21"},{"$f":"status","v":"Unaudited"}]
["Dental","DEF","Default",1900,"1900-01-01","Q3","1900-09-30","Region 1","Operating Expense","Medical Expense","Dental Services",2.2,"Dental Services Preventive",{"v":0,"d":"$0.00"},{"v":0,"d":"$0.00"},{"v":0,"d":"$0.00"},{"v":0,"d":"$0.00"},{"v":0,"d":"$0.00"},{"v":0,"d":"$0.00"},"ASR-Dental_Financial_Report_SMMC_03.21.23","2023-03-21","Unaudited"]
["Dental","DEF","Default",1900,"1900-01-01","Q3","1900-09-30","Region 1","Operating Expense","Medical Expense","Dental Services","2.3","Dental Services Restorative",{"v":0,"d":"$0.00"},{"v":0,"d":"$0.00"},{"v":0,"d":"$0.00"},{"v":0,"d":"$0.00"},{"v":0,"d":"$0.00"},{"v":0,"d":"$0.00"},"ASR-Dental_Financial_Report_SMMC_03.21.23","2023-03-21","Unaudited"]
["Dental","DEF","Default",1900,"1900-01-01","Q3","1900-09-30","Region 1","Operating Expense","Medical Expense","Dental Services","2.4","Dental Services Endodontics",{"v":0,"d":"$0.00"},{"v":0,"d":"$0.00"},{"v":0,"d":"$0.00"},{"v":0,"d":"$0.00"},{"v":0,"d":"$0.00"},{"v":0,"d":"$0.00"},"ASR-Dental_Financial_Report_SMMC_03.21.23","2023-03-21","Unaudited"]
["Dental","DEF","Default",1900,"1900-01-01","Q3","1900-09-30","Region 1","Operating Expense","Medical Expense","Dental Services","2.5","Dental Services Periodontics",{"$f":"IF(OR(AND($F262=\"PY\",N$1<>\"Prior Year\"),AND($F262<>\"PY\",N$1=\"Prior Year\")),0,INDEX(INDIRECT(\"'Dental Rev-Exp \"&$H262&\"'!$A$1:$CA$200\"),IF($J262=\"Member Months\",MATCH($J262,INDIRECT(\"'Dental Rev-Exp \"&$H262&\"'!$A$1:$A$200\"),0),MATCH($L262,INDIRECT(\"'Dental Rev-Exp \"&$H262&\"'!$B$1:$B$200\"),0)),IF($F262=\"PY\",MATCH(\"Prior Year Adjustments\",INDIRECT(\"'Dental Rev-Exp \"&$H262&\"'!$A$8:$CA$8\"),0),MATCH(IF($F262=\"Q1\",\"JANUARY - MARCH (Q1)\",IF($F262=\"Q2\",\"APRIL - JUNE (Q2)\",IF($F262=\"Q3\",\"JULY - SEPTEMBER (Q3)\",IF($F262=\"Q4\",\"OCTOBER - DECEMBER (Q4)\",0)))),INDIRECT(\"'Dental Rev-Exp \"&$H262&\"'!$A$7:$CA$7\"),0)+MATCH(N$1,INDIRECT(\"'Dental Rev-Exp \"&$H262&\"'!$D$8:$CA$8\"),0)-1)))","v":{"v":0,"d":"$0.00"}},{"v":0,"d":"$0.00"},{"v":0,"d":"$0.00"},{"v":0,"d":"$0.00"},{"v":0,"d":"$0.00"},{"v":0,"d":"$0.00"},"ASR-Dental_Financial_Report_SMMC_03.21.23","2023-03-21","Unaudited"]
["Dental","DEF","Default",1900,"1900-01-01","Q3","1900-09-30","Region 1","Operating Expense","Medical Expense","Dental Services","2.6","Dental Services Prosthodontics",{"v":0,"d":"$0.00"},{"v":0,"d":"$0.00"},{"v":0,"d":"$0.00"},{"v":0,"d":"$0.00"},{"v":0,"d":"$0.00"},{"v":0,"d":"$0.00"},"ASR-Dental_Financial_Report_SMMC_03.21.23","2023-03-21","Unaudited"]
["Dental","DEF","Default",1900,"1900-01-01","Q3","1900-09-30","Region 1","Operating Expense","Medical Expense","Dental Services","2.7","Dental Services Prosthodontics, fixed",{"v":0,"d":"$0.00"},{"v":0,"d":"$0.00"},{"v":0,"d":"$0.00"},{"v":0,"d":"$0.00"},{"v":0,"d":"$0.00"},{"v":0,"d":"$0.00"},"ASR-Dental_Financial_Report_SMMC_03.21.23","2023-03-21","Unaudited"]
["Dental","DEF","Default",1900,"1900-01-01","Q3","1900-09-30","Region 1","Operating Expense","Medical Expense","Dental Services","2.8","Dental Services Oral and Maxillofacial Surgery",{"v":0,"d":"$0.00"},{"v":0,"d":"$0.00"},{"v":0,"d":"$0.00"},{"v":0,"d":"$0.00"},{"v":0,"d":"$0.00"},{"v":0,"d":"$0.00"},"ASR-Dental_Financial_Report_SMMC_03.21.23","2023-03-21","Unaudited"]
["Dental","DEF","Default",1900,"1900-01-01","Q3","1900-09-30","Region 1","Operating Expense","Medical Expense","Dental Services","2.9","Dental Services Orthodontics",{"v":0,"d":"$0.00"},{"v":0,"d":"$0.00"},{"v":0,"d":"$0.00"},{"v":0,"d":"$0.00"},{"v":0,"d":"$0.00"},{"v":0,"d":"$0.00"},"ASR-Dental_Financial_Report_SMMC_03.21.23","2023-03-21","Unaudited"]
["Dental","DEF","Default",1900,"1900-01-01","Q3","1900-09-30","Region 1","Operating Expense","Medical Expense","Dental Services","2.10","Dental Services Adjunctive General Services",{"v":0,"d":"$0.00"},{"v":0,"d":"$0.00"},{"v":0,"d":"$0.00"},{"v":0,"d":"$0.00"},{"v":0,"d":"$0.00"},{"v":0,"d":"$0.00"},"ASR-Dental_Financial_Report_SMMC_03.21.23","2023-03-21","Unaudited"]
["Dental","DEF","Default",1900,"1900-01-01","Q3","1900-09-30","Region 1","Operating Expense","Medical Expense","Dental Services","2.11","Dental Services Other",{"v":0,"d":"$0.00"},{"v":0,"d":"$0.00"},{"v":0,"d":"$0.00"},{"v":0,"d":"$0.00"},{"v":0,"d":"$0.00"},{"v":0,"d":"$0.00"},"ASR-Dental_Financial_Report_SMMC_03.21.23","2023-03-21","Unaudited"]
["Dental","DEF","Default",1900,"1900-01-01","Q3","1900-09-30","Region 1","Operating Expense","Medical Expense","Expanded Benefits","2.12","Dental Expanded Benefits",{"v":0,"d":"$0.00"},{"v":0,"d":"$0.00"},{"v":0,"d":"$0.00"},{"v":0,"d":"$0.00"},{"v":0,"d":"$0.00"},{"v":0,"d":"$0.00"},"ASR-Dental_Financial_Report_SMMC_03.21.23","2023-03-21","Unaudited"]
["Dental","DEF","Default",1900,"1900-01-01","Q3","1900-09-30","Region 1","Operating Expense","Medical Expense","Dental Services","2.13","Dental Services Paid through Subcapitation",{"v":0,"d":"$0.00"},{"v":0,"d":"$0.00"},{"v":0,"d":"$0.00"},{"v":0,"d":"$0.00"},{"v":0,"d":"$0.00"},{"v":0,"d":"$0.00"},"ASR-Dental_Financial_Report_SMMC_03.21.23","2023-03-21","Unaudited"]
["Dental","DEF","Default",1900,"1900-01-01","Q3","1900-09-30","Region 1","Operating Expense","Medical Expense","Dental Services","2.14","Ending IBNP for Dental Services",{"v":0,"d":"$0.00"},{"v":0,"d":"$0.00"},{"v":0,"d":"$0.00"},{"v":0,"d":"$0.00"},{"v":0,"d":"$0.00"},{"v":0,"d":"$0.00"},"ASR-Dental_Financial_Report_SMMC_03.21.23","2023-03-21","Unaudited"]
["Dental","DEF","Default",1900,"1900-01-01","Q3","1900-09-30","Region 1","Operating Expense","Medical Expense","Dental Services","2.15","Dental Settlements/AP",{"$f":"IF(OR(AND($F272=\"PY\",N$1<>\"Prior Year\"),AND($F272<>\"PY\",N$1=\"Prior Year\")),0,INDEX(INDIRECT(\"'Dental Rev-Exp \"&$H272&\"'!$A$1:$CA$200\"),IF($J272=\"Member Months\",MATCH($J272,INDIRECT(\"'Dental Rev-Exp \"&$H272&\"'!$A$1:$A$200\"),0),MATCH($L272,INDIRECT(\"'Dental Rev-Exp \"&$H272&\"'!$B$1:$B$200\"),0)),IF($F272=\"PY\",MATCH(\"Prior Year Adjustments\",INDIRECT(\"'Dental Rev-Exp \"&$H272&\"'!$A$8:$CA$8\"),0),MATCH(IF($F272=\"Q1\",\"JANUARY - MARCH (Q1)\",IF($F272=\"Q2\",\"APRIL - JUNE (Q2)\",IF($F272=\"Q3\",\"JULY - SEPTEMBER (Q3)\",IF($F272=\"Q4\",\"OCTOBER - DECEMBER (Q4)\",0)))),INDIRECT(\"'Dental Rev-Exp \"&$H272&\"'!$A$7:$CA$7\"),0)+MATCH(N$1,INDIRECT(\"'Dental Rev-Exp \"&$H272&\"'!$D$8:$CA$8\"),0)-1)))","v":{"v":0,"d":"$0.00"}},{"v":0,"d":"$0.00"},{"v":0,"d":"$0.00"},{"v":0,"d":"$0.00"},{"v":0,"d":"$0.00"},{"v":0,"d":"$0.00"},"ASR-Dental_Financial_Report_SMMC_03.21.23","2023-03-21","Unaudited"]
["Dental","DEF","Default",1900,"1900-01-01","Q3","1900-09-30","Region 1","Operating Expense","Medical Expense","Other Medical","3.5","TPL & Fraud/Abuse Recoveries",{"v":0,"d":"$0.00"},{"v":0,"d":"$0.00"},{"v":0,"d":"$0.00"},{"v":0,"d":"$0.00"},{"v":0,"d":"$0.00"},{"v":0,"d":"$0.00"},"ASR-Dental_Financial_Report_SMMC_03.21.23","2023-03-21","Unaudited"]
["Dental","DEF","Default",1900,"1900-01-01","Q3","1900-09-30","Region 1","Operating Expense","Medical Expense","Other Medical",3.6,"Premium Deficiency Reserve",{"v":0,"d":"$0.00"},{"v":0,"d":"$0.00"},{"v":0,"d":"$0.00"},{"v":0,"d":"$0.00"},{"v":0,"d":"$0.00"},{"v":0,"d":"$0.00"},"ASR-Dental_Financial_Report_SMMC_03.21.23","2023-03-21","Unaudited"]
["Dental","DEF","Default",1900,"1900-01-01","Q3","1900-09-30","Region 1","Operating Expense","Medical Expense","Other Medical","3.8","Reinsurance Premiums",{"v":0,"d":"$0.00"},{"v":0,"d":"$0.00"},{"v":0,"d":"$0.00"},{"v":0,"d":"$0.00"},{"v":0,"d":"$0.00"},{"v":0,"d":"$0.00"},"ASR-Dental_Financial_Report_SMMC_03.21.23","2023-03-21","Unaudited"]
["Dental","DEF","Default",1900,"1900-01-01","Q3","1900-09-30","Region 1","Operating Expense","Medical Expense","Other Medical","3.9","Reinsurance Recoveries",{"v":0,"d":"$0.00"},{"v":0,"d":"$0.00"},{"v":0,"d":"$0.00"},{"v":0,"d":"$0.00"},{"v":0,"d":"$0.00"},{"v":0,"d":"$0.00"},"ASR-Dental_Financial_Report_SMMC_03.21.23","2023-03-21","Unaudited"]
["Dental","DEF","Default",1900,"1900-01-01","Q3","1900-09-30","Region 1","Operating Expense","Administrative Expense","Administrative","4.1","Salaries & Benefits",{"v":0,"d":"$0.00"},{"v":0,"d":"$0.00"},{"v":0,"d":"$0.00"},{"v":0,"d":"$0.00"},{"v":0,"d":"$0.00"},{"v":0,"d":"$0.00"},"ASR-Dental_Financial_Report_SMMC_03.21.23","2023-03-21","Unaudited"]
["Dental","DEF","Default",1900,"1900-01-01","Q3","1900-09-30","Region 1","Operating Expense","Administrative Expense","Administrative","4.2","Administrative Services",{"v":0,"d":"$0.00"},{"v":0,"d":"$0.00"},{"v":0,"d":"$0.00"},{"v":0,"d":"$0.00"},{"v":0,"d":"$0.00"},{"v":0,"d":"$0.00"},"ASR-Dental_Financial_Report_SMMC_03.21.23","2023-03-21","Unaudited"]
["Dental","DEF","Default",1900,"1900-01-01","Q3","1900-09-30","Region 1","Operating Expense","Administrative Expense","Administrative","4.3","Information Systems",{"v":0,"d":"$0.00"},{"v":0,"d":"$0.00"},{"v":0,"d":"$0.00"},{"v":0,"d":"$0.00"},{"v":0,"d":"$0.00"},{"v":0,"d":"$0.00"},"ASR-Dental_Financial_Report_SMMC_03.21.23","2023-03-21","Unaudited"]
["Dental","DEF","Default",1900,"1900-01-01","Q3","1900-09-30","Region 1","Operating Expense","Administrative Expense","Administrative","4.4","Marketing Expenses",{"v":0,"d":"$0.00"},{"v":0,"d":"$0.00"},{"v":0,"d":"$0.00"},{"v":0,"d":"$0.00"},{"v":0,"d":"$0.00"},{"v":0,"d":"$0.00"},"ASR-Dental_Financial_Report_SMMC_03.21.23","2023-03-21","Unaudited"]
["Dental","DEF","Default",1900,"1900-01-01","Q3","1900-09-30","Region 1","Operating Expense","Administrative Expense","Administrative","4.5","General  Administration",{"v":0,"d":"$0.00"},{"v":0,"d":"$0.00"},{"v":0,"d":"$0.00"},{"v":0,"d":"$0.00"},{"v":0,"d":"$0.00"},{"v":0,"d":"$0.00"},"ASR-Dental_Financial_Report_SMMC_03.21.23","2023-03-21","Unaudited"]
["Dental","DEF","Default",1900,"1900-01-01","Q3","1900-09-30","Region 1","Operating Expense","Administrative Expense","Administrative","4.6","Compliance/Regulatory",{"$f":"IF(OR(AND($F282=\"PY\",N$1<>\"Prior Year\"),AND($F282<>\"PY\",N$1=\"Prior Year\")),0,INDEX(INDIRECT(\"'Dental Rev-Exp \"&$H282&\"'!$A$1:$CA$200\"),IF($J282=\"Member Months\",MATCH($J282,INDIRECT(\"'Dental Rev-Exp \"&$H282&\"'!$A$1:$A$200\"),0),MATCH($L282,INDIRECT(\"'Dental Rev-Exp \"&$H282&\"'!$B$1:$B$200\"),0)),IF($F282=\"PY\",MATCH(\"Prior Year Adjustments\",INDIRECT(\"'Dental Rev-Exp \"&$H282&\"'!$A$8:$CA$8\"),0),MATCH(IF($F282=\"Q1\",\"JANUARY - MARCH (Q1)\",IF($F282=\"Q2\",\"APRIL - JUNE (Q2)\",IF($F282=\"Q3\",\"JULY - SEPTEMBER (Q3)\",IF($F282=\"Q4\",\"OCTOBER - DECEMBER (Q4)\",0)))),INDIRECT(\"'Dental Rev-Exp \"&$H282&\"'!$A$7:$CA$7\"),0)+MATCH(N$1,INDIRECT(\"'Dental Rev-Exp \"&$H282&\"'!$D$8:$CA$8\"),0)-1)))","v":{"v":0,"d":"$0.00"}},{"v":0,"d":"$0.00"},{"v":0,"d":"$0.00"},{"v":0,"d":"$0.00"},{"v":0,"d":"$0.00"},{"v":0,"d":"$0.00"},"ASR-Dental_Financial_Report_SMMC_03.21.23","2023-03-21","Unaudited"]
["Dental","DEF","Default",1900,"1900-01-01","Q3","1900-09-30","Region 1","Operating Expense","Taxes & Fees","Taxes & Fees","5.1","State Premium tax",{"v":0,"d":"$0.00"},{"v":0,"d":"$0.00"},{"v":0,"d":"$0.00"},{"v":0,"d":"$0.00"},{"v":0,"d":"$0.00"},{"v":0,"d":"$0.00"},"ASR-Dental_Financial_Report_SMMC_03.21.23","2023-03-21","Unaudited"]
["Dental","DEF","Default",1900,"1900-01-01","Q3","1900-09-30","Region 1","Operating Expense","Taxes & Fees","Taxes & Fees","5.2","Department of Insurance Assessments",{"v":0,"d":"$0.00"},{"v":0,"d":"$0.00"},{"v":0,"d":"$0.00"},{"v":0,"d":"$0.00"},{"v":0,"d":"$0.00"},{"v":0,"d":"$0.00"},"ASR-Dental_Financial_Report_SMMC_03.21.23","2023-03-21","Unaudited"]
["Dental","DEF","Default",1900,"1900-01-01","Q3","1900-09-30","Region 1","Operating Expense","Taxes & Fees","Taxes & Fees","5.3","Section 9010 Health Insurance Providers Fee",{"v":0,"d":"$0.00"},{"v":0,"d":"$0.00"},{"v":0,"d":"$0.00"},{"v":0,"d":"$0.00"},{"v":0,"d":"$0.00"},{"v":0,"d":"$0.00"},"ASR-Dental_Financial_Report_SMMC_03.21.23","2023-03-21","Unaudited"]
["Dental","DEF","Default",1900,"1900-01-01","Q3","1900-09-30","Region 1","Operating Expense","Taxes & Fees","Taxes & Fees","5.4","Other 1",{"v":0,"d":"$0.00"},{"v":0,"d":"$0.00"},{"v":0,"d":"$0.00"},{"v":0,"d":"$0.00"},{"v":0,"d":"$0.00"},{"v":0,"d":"$0.00"},"ASR-Dental_Financial_Report_SMMC_03.21.23","2023-03-21","Unaudited"]
["Dental","DEF","Default",1900,"1900-01-01","Q3","1900-09-30","Region 1","Operating Expense","Taxes & Fees","Taxes & Fees","5.5","Other 2",{"v":0,"d":"$0.00"},{"v":0,"d":"$0.00"},{"v":0,"d":"$0.00"},{"v":0,"d":"$0.00"},{"v":0,"d":"$0.00"},{"v":0,"d":"$0.00"},"ASR-Dental_Financial_Report_SMMC_03.21.23","2023-03-21","Unaudited"]
["Dental","DEF","Default",1900,"1900-01-01","Q3","1900-09-30","Region 1","Operating Expense","Taxes & Fees","Taxes & Fees","5.6","Other 3",{"v":0,"d":"$0.00"},{"v":0,"d":"$0.00"},{"v":0,"d":"$0.00"},{"v":0,"d":"$0.00"},{"v":0,"d":"$0.00"},{"v":0,"d":"$0.00"},"ASR-Dental_Financial_Report_SMMC_03.21.23","2023-03-21","Unaudited"]
["Dental","DEF","Default",1900,"1900-01-01","Q3","1900-09-30","Region 1","Non-Operating Expense","Income Tax Expense","Income Tax Expense","8.0","Income Tax Expense",{"v":0,"d":"$0.00"},{"v":0,"d":"$0.00"},{"v":0,"d":"$0.00"},{"v":0,"d":"$0.00"},{"v":0,"d":"$0.00"},{"v":0,"d":"$0.00"},"ASR-Dental_Financial_Report_SMMC_03.21.23","2023-03-21","Unaudited"]
["Dental","DEF","Default",1900,"1900-01-01","Q4","1900-12-31","Region 1","Member Months","Member Months","Member Months",null,"Member Months",{"v":0,"d":"$0.00"},{"v":0,"d":"$0.00"},{"v":0,"d":"$0.00"},{"v":0,"d":"$0.00"},{"v":0,"d":"$0.00"},{"v":0,"d":"$0.00"},"ASR-Dental_Financial_Report_SMMC_03.21.23","2023-03-21","Unaudited"]
["Dental","DEF","Default",1900,"1900-01-01","Q4","1900-12-31","Region 1","Operating Revenue","Capitation","Capitation","1.1","Capitation",{"v":0,"d":"$0.00"},{"v":0,"d":"$0.00"},{"v":0,"d":"$0.00"},{"v":0,"d":"$0.00"},{"v":0,"d":"$0.00"},{"v":0,"d":"$0.00"},"ASR-Dental_Financial_Report_SMMC_03.21.23","2023-03-21","Unaudited"]
["Dental","DEF","Default",1900,"1900-01-01","Q4","1900-12-31","Region 1","Operating Revenue","Other Revenue","Other Revenue - 9010","1.2","ACA § 9010 related payments",{"$f":"IF(OR(AND($F292=\"PY\",N$1<>\"Prior Year\"),AND($F292<>\"PY\",N$1=\"Prior Year\")),0,INDEX(INDIRECT(\"'Dental Rev-Exp \"&$H292&\"'!$A$1:$CA$200\"),IF($J292=\"Member Months\",MATCH($J292,INDIRECT(\"'Dental Rev-Exp \"&$H292&\"'!$A$1:$A$200\"),0),MATCH($L292,INDIRECT(\"'Dental Rev-Exp \"&$H292&\"'!$B$1:$B$200\"),0)),IF($F292=\"PY\",MATCH(\"Prior Year Adjustments\",INDIRECT(\"'Dental Rev-Exp \"&$H292&\"'!$A$8:$CA$8\"),0),MATCH(IF($F292=\"Q1\",\"JANUARY - MARCH (Q1)\",IF($F292=\"Q2\",\"APRIL - JUNE (Q2)\",IF($F292=\"Q3\",\"JULY - SEPTEMBER (Q3)\",IF($F292=\"Q4\",\"OCTOBER - DECEMBER (Q4)\",0)))),INDIRECT(\"'Dental Rev-Exp \"&$H292&\"'!$A$7:$CA$7\"),0)+MATCH(N$1,INDIRECT(\"'Dental Rev-Exp \"&$H292&\"'!$D$8:$CA$8\"),0)-1)))","v":{"v":0,"d":"$0.00"}},{"v":0,"d":"$0.00"},{"v":0,"d":"$0.00"},{"v":0,"d":"$0.00"},{"v":0,"d":"$0.00"},{"v":0,"d":"$0.00"},"ASR-Dental_Financial_Report_SMMC_03.21.23","2023-03-21","Unaudited"]
["Dental","DEF","Default",1900,"1900-01-01","Q4","1900-12-31","Region 1","Operating Revenue","Other Revenue","Other Revenue","1.3","Other Revenue",{"v":0,"d":"$0.00"},{"v":0,"d":"$0.00"},{"v":0,"d":"$0.00"},{"v":0,"d":"$0.00"},{"v":0,"d":"$0.00"},{"v":0,"d":"$0.00"},"ASR-Dental_Financial_Report_SMMC_03.21.23","2023-03-21","Unaudited"]
["Dental","DEF","Default",1900,"1900-01-01","Q4","1900-12-31","Region 1","Operating Expense","Medical Expense","Dental Services","2.1","Dental Services Diagnostic",{"v":0,"d":"$0.00"},{"v":0,"d":"$0.00"},{"v":0,"d":"$0.00"},{"v":0,"d":"$0.00"},{"v":0,"d":"$0.00"},{"v":0,"d":"$0.00"},"ASR-Dental_Financial_Report_SMMC_03.21.23","2023-03-21","Unaudited"]
["Dental","DEF","Default",1900,"1900-01-01","Q4","1900-12-31","Region 1","Operating Expense","Medical Expense","Dental Services",2.2,"Dental Services Preventive",{"v":0,"d":"$0.00"},{"v":0,"d":"$0.00"},{"v":0,"d":"$0.00"},{"v":0,"d":"$0.00"},{"v":0,"d":"$0.00"},{"v":0,"d":"$0.00"},"ASR-Dental_Financial_Report_SMMC_03.21.23","2023-03-21","Unaudited"]
["Dental","DEF","Default",1900,"1900-01-01","Q4","1900-12-31","Region 1","Operating Expense","Medical Expense","Dental Services","2.3","Dental Services Restorative",{"v":0,"d":"$0.00"},{"v":0,"d":"$0.00"},{"v":0,"d":"$0.00"},{"v":0,"d":"$0.00"},{"v":0,"d":"$0.00"},{"v":0,"d":"$0.00"},"ASR-Dental_Financial_Report_SMMC_03.21.23","2023-03-21","Unaudited"]
["Dental","DEF","Default",1900,"1900-01-01","Q4","1900-12-31","Region 1","Operating Expense","Medical Expense","Dental Services","2.4","Dental Services Endodontics",{"v":0,"d":"$0.00"},{"v":0,"d":"$0.00"},{"v":0,"d":"$0.00"},{"v":0,"d":"$0.00"},{"v":0,"d":"$0.00"},{"v":0,"d":"$0.00"},"ASR-Dental_Financial_Report_SMMC_03.21.23","2023-03-21","Unaudited"]
["Dental","DEF","Default",1900,"1900-01-01","Q4","1900-12-31","Region 1","Operating Expense","Medical Expense","Dental Services","2.5","Dental Services Periodontics",{"v":0,"d":"$0.00"},{"v":0,"d":"$0.00"},{"v":0,"d":"$0.00"},{"v":0,"d":"$0.00"},{"v":0,"d":"$0.00"},{"v":0,"d":"$0.00"},"ASR-Dental_Financial_Report_SMMC_03.21.23","2023-03-21","Unaudited"]
["Dental","DEF","Default",1900,"1900-01-01","Q4","1900-12-31","Region 1","Operating Expense","Medical Expense","Dental Services","2.6","Dental Services Prosthodontics",{"v":0,"d":"$0.00"},{"v":0,"d":"$0.00"},{"v":0,"d":"$0.00"},{"v":0,"d":"$0.00"},{"v":0,"d":"$0.00"},{"v":0,"d":"$0.00"},"ASR-Dental_Financial_Report_SMMC_03.21.23","2023-03-21","Unaudited"]
["Dental","DEF","Default",1900,"1900-01-01","Q4","1900-12-31","Region 1","Operating Expense","Medical Expense","Dental Services","2.7","Dental Services Prosthodontics, fixed",{"v":0,"d":"$0.00"},{"v":0,"d":"$0.00"},{"v":0,"d":"$0.00"},{"v":0,"d":"$0.00"},{"v":0,"d":"$0.00"},{"v":0,"d":"$0.00"},"ASR-Dental_Financial_Report_SMMC_03.21.23","2023-03-21","Unaudited"]
["Dental","DEF","Default",1900,"1900-01-01","Q4","1900-12-31","Region 1","Operating Expense","Medical Expense","Dental Services","2.8","Dental Services Oral and Maxillofacial Surgery",{"v":0,"d":"$0.00"},{"v":0,"d":"$0.00"},{"v":0,"d":"$0.00"},{"v":0,"d":"$0.00"},{"v":0,"d":"$0.00"},{"v":0,"d":"$0.00"},"ASR-Dental_Financial_Report_SMMC_03.21.23","2023-03-21","Unaudited"]
["Dental","DEF","Default",1900,"1900-01-01","Q4","1900-12-31","Region 1","Operating Expense","Medical Expense","Dental Services","2.9","Dental Services Orthodontics",{"$f":"IF(OR(AND($F302=\"PY\",N$1<>\"Prior Year\"),AND($F302<>\"PY\",N$1=\"Prior Year\")),0,INDEX(INDIRECT(\"'Dental Rev-Exp \"&$H302&\"'!$A$1:$CA$200\"),IF($J302=\"Member Months\",MATCH($J302,INDIRECT(\"'Dental Rev-Exp \"&$H302&\"'!$A$1:$A$200\"),0),MATCH($L302,INDIRECT(\"'Dental Rev-Exp \"&$H302&\"'!$B$1:$B$200\"),0)),IF($F302=\"PY\",MATCH(\"Prior Year Adjustments\",INDIRECT(\"'Dental Rev-Exp \"&$H302&\"'!$A$8:$CA$8\"),0),MATCH(IF($F302=\"Q1\",\"JANUARY - MARCH (Q1)\",IF($F302=\"Q2\",\"APRIL - JUNE (Q2)\",IF($F302=\"Q3\",\"JULY - SEPTEMBER (Q3)\",IF($F302=\"Q4\",\"OCTOBER - DECEMBER (Q4)\",0)))),INDIRECT(\"'Dental Rev-Exp \"&$H302&\"'!$A$7:$CA$7\"),0)+MATCH(N$1,INDIRECT(\"'Dental Rev-Exp \"&$H302&\"'!$D$8:$CA$8\"),0)-1)))","v":{"v":0,"d":"$0.00"}},{"v":0,"d":"$0.00"},{"v":0,"d":"$0.00"},{"v":0,"d":"$0.00"},{"v":0,"d":"$0.00"},{"v":0,"d":"$0.00"},"ASR-Dental_Financial_Report_SMMC_03.21.23","2023-03-21","Unaudited"]
["Dental","DEF","Default",1900,"1900-01-01","Q4","1900-12-31","Region 1","Operating Expense","Medical Expense","Dental Services","2.10","Dental Services Adjunctive General Services",{"v":0,"d":"$0.00"},{"v":0,"d":"$0.00"},{"v":0,"d":"$0.00"},{"v":0,"d":"$0.00"},{"v":0,"d":"$0.00"},{"v":0,"d":"$0.00"},"ASR-Dental_Financial_Report_SMMC_03.21.23","2023-03-21","Unaudited"]
["Dental","DEF","Default",1900,"1900-01-01","Q4","1900-12-31","Region 1","Operating Expense","Medical Expense","Dental Services","2.11","Dental Services Other",{"v":0,"d":"$0.00"},{"v":0,"d":"$0.00"},{"v":0,"d":"$0.00"},{"v":0,"d":"$0.00"},{"v":0,"d":"$0.00"},{"v":0,"d":"$0.00"},"ASR-Dental_Financial_Report_SMMC_03.21.23","2023-03-21","Unaudited"]
["Dental","DEF","Default",1900,"1900-01-01","Q4","1900-12-31","Region 1","Operating Expense","Medical Expense","Expanded Benefits","2.12","Dental Expanded Benefits",{"v":0,"d":"$0.00"},{"v":0,"d":"$0.00"},{"v":0,"d":"$0.00"},{"v":0,"d":"$0.00"},{"v":0,"d":"$0.00"},{"v":0,"d":"$0.00"},"ASR-Dental_Financial_Report_SMMC_03.21.23","2023-03-21","Unaudited"]
["Dental","DEF","Default",1900,"1900-01-01","Q4","1900-12-31","Region 1","Operating Expense","Medical Expense","Dental Services","2.13","Dental Services Paid through Subcapitation",{"v":0,"d":"$0.00"},{"v":0,"d":"$0.00"},{"v":0,"d":"$0.00"},{"v":0,"d":"$0.00"},{"v":0,"d":"$0.00"},{"v":0,"d":"$0.00"},"ASR-Dental_Financial_Report_SMMC_03.21.23","2023-03-21","Unaudited"]
["Dental","DEF","Default",1900,"1900-01-01","Q4","1900-12-31","Region 1","Operating Expense","Medical Expense","Dental Services","2.14","Ending IBNP for Dental Services",{"v":0,"d":"$0.00"},{"v":0,"d":"$0.00"},{"v":0,"d":"$0.00"},{"v":0,"d":"$0.00"},{"v":0,"d":"$0.00"},{"v":0,"d":"$0.00"},"ASR-Dental_Financial_Report_SMMC_03.21.23","2023-03-21","Unaudited"]
["Dental","DEF","Default",1900,"1900-01-01","Q4","1900-12-31","Region 1","Operating Expense","Medical Expense","Dental Services","2.15","Dental Settlements/AP",{"v":0,"d":"$0.00"},{"v":0,"d":"$0.00"},{"v":0,"d":"$0.00"},{"v":0,"d":"$0.00"},{"v":0,"d":"$0.00"},{"v":0,"d":"$0.00"},"ASR-Dental_Financial_Report_SMMC_03.21.23","2023-03-21","Unaudited"]
["Dental","DEF","Default",1900,"1900-01-01","Q4","1900-12-31","Region 1","Operating Expense","Medical Expense","Other Medical","3.5","TPL & Fraud/Abuse Recoveries",{"v":0,"d":"$0.00"},{"v":0,"d":"$0.00"},{"v":0,"d":"$0.00"},{"v":0,"d":"$0.00"},{"v":0,"d":"$0.00"},{"v":0,"d":"$0.00"},"ASR-Dental_Financial_Report_SMMC_03.21.23","2023-03-21","Unaudited"]
["Dental","DEF","Default",1900,"1900-01-01","Q4","1900-12-31","Region 1","Operating Expense","Medical Expense","Other Medical",3.6,"Premium Deficiency Reserve",{"v":0,"d":"$0.00"},{"v":0,"d":"$0.00"},{"v":0,"d":"$0.00"},{"v":0,"d":"$0.00"},{"v":0,"d":"$0.00"},{"v":0,"d":"$0.00"},"ASR-Dental_Financial_Report_SMMC_03.21.23","2023-03-21","Unaudited"]
["Dental","DEF","Default",1900,"1900-01-01","Q4","1900-12-31","Region 1","Operating Expense","Medical Expense","Other Medical","3.8","Reinsurance Premiums",{"v":0,"d":"$0.00"},{"v":0,"d":"$0.00"},{"v":0,"d":"$0.00"},{"v":0,"d":"$0.00"},{"v":0,"d":"$0.00"},{"v":0,"d":"$0.00"},"ASR-Dental_Financial_Report_SMMC_03.21.23","2023-03-21","Unaudited"]
["Dental","DEF","Default",1900,"1900-01-01","Q4","1900-12-31","Region 1","Operating Expense","Medical Expense","Other Medical","3.9","Reinsurance Recoveries",{"$f":"IF(OR(AND($F312=\"PY\",N$1<>\"Prior Year\"),AND($F312<>\"PY\",N$1=\"Prior Year\")),0,INDEX(INDIRECT(\"'Dental Rev-Exp \"&$H312&\"'!$A$1:$CA$200\"),IF($J312=\"Member Months\",MATCH($J312,INDIRECT(\"'Dental Rev-Exp \"&$H312&\"'!$A$1:$A$200\"),0),MATCH($L312,INDIRECT(\"'Dental Rev-Exp \"&$H312&\"'!$B$1:$B$200\"),0)),IF($F312=\"PY\",MATCH(\"Prior Year Adjustments\",INDIRECT(\"'Dental Rev-Exp \"&$H312&\"'!$A$8:$CA$8\"),0),MATCH(IF($F312=\"Q1\",\"JANUARY - MARCH (Q1)\",IF($F312=\"Q2\",\"APRIL - JUNE (Q2)\",IF($F312=\"Q3\",\"JULY - SEPTEMBER (Q3)\",IF($F312=\"Q4\",\"OCTOBER - DECEMBER (Q4)\",0)))),INDIRECT(\"'Dental Rev-Exp \"&$H312&\"'!$A$7:$CA$7\"),0)+MATCH(N$1,INDIRECT(\"'Dental Rev-Exp \"&$H312&\"'!$D$8:$CA$8\"),0)-1)))","v":{"v":0,"d":"$0.00"}},{"v":0,"d":"$0.00"},{"v":0,"d":"$0.00"},{"v":0,"d":"$0.00"},{"v":0,"d":"$0.00"},{"v":0,"d":"$0.00"},"ASR-Dental_Financial_Report_SMMC_03.21.23","2023-03-21","Unaudited"]
["Dental","DEF","Default",1900,"1900-01-01","Q4","1900-12-31","Region 1","Operating Expense","Administrative Expense","Administrative","4.1","Salaries & Benefits",{"v":0,"d":"$0.00"},{"v":0,"d":"$0.00"},{"v":0,"d":"$0.00"},{"v":0,"d":"$0.00"},{"v":0,"d":"$0.00"},{"v":0,"d":"$0.00"},"ASR-Dental_Financial_Report_SMMC_03.21.23","2023-03-21","Unaudited"]
["Dental","DEF","Default",1900,"1900-01-01","Q4","1900-12-31","Region 1","Operating Expense","Administrative Expense","Administrative","4.2","Administrative Services",{"v":0,"d":"$0.00"},{"v":0,"d":"$0.00"},{"v":0,"d":"$0.00"},{"v":0,"d":"$0.00"},{"v":0,"d":"$0.00"},{"v":0,"d":"$0.00"},"ASR-Dental_Financial_Report_SMMC_03.21.23","2023-03-21","Unaudited"]
["Dental","DEF","Default",1900,"1900-01-01","Q4","1900-12-31","Region 1","Operating Expense","Administrative Expense","Administrative","4.3","Information Systems",{"v":0,"d":"$0.00"},{"v":0,"d":"$0.00"},{"v":0,"d":"$0.00"},{"v":0,"d":"$0.00"},{"v":0,"d":"$0.00"},{"v":0,"d":"$0.00"},"ASR-Dental_Financial_Report_SMMC_03.21.23","2023-03-21","Unaudited"]
["Dental","DEF","Default",1900,"1900-01-01","Q4","1900-12-31","Region 1","Operating Expense","Administrative Expense","Administrative","4.4","Marketing Expenses",{"v":0,"d":"$0.00"},{"v":0,"d":"$0.00"},{"v":0,"d":"$0.00"},{"v":0,"d":"$0.00"},{"v":0,"d":"$0.00"},{"v":0,"d":"$0.00"},"ASR-Dental_Financial_Report_SMMC_03.21.23","2023-03-21","Unaudited"]
["Dental","DEF","Default",1900,"1900-01-01","Q4","1900-12-31","Region 1","Operating Expense","Administrative Expense","Administrative","4.5","General  Administration",{"v":0,"d":"$0.00"},{"v":0,"d":"$0.00"},{"v":0,"d":"$0.00"},{"v":0,"d":"$0.00"},{"v":0,"d":"$0.00"},{"v":0,"d":"$0.00"},"ASR-Dental_Financial_Report_SMMC_03.21.23","2023-03-21","Unaudited"]
["Dental","DEF","Default",1900,"1900-01-01","Q4","1900-12-31","Region 1","Operating Expense","Administrative Expense","Administrative","4.6","Compliance/Regulatory",{"v":0,"d":"$0.00"},{"v":0,"d":"$0.00"},{"v":0,"d":"$0.00"},{"v":0,"d":"$0.00"},{"v":0,"d":"$0.00"},{"v":0,"d":"$0.00"},"ASR-Dental_Financial_Report_SMMC_03.21.23","2023-03-21","Unaudited"]
["Dental","DEF","Default",1900,"1900-01-01","Q4","1900-12-31","Region 1","Operating Expense","Taxes & Fees","Taxes & Fees","5.1","State Premium tax",{"v":0,"d":"$0.00"},{"v":0,"d":"$0.00"},{"v":0,"d":"$0.00"},{"v":0,"d":"$0.00"},{"v":0,"d":"$0.00"},{"v":0,"d":"$0.00"},"ASR-Dental_Financial_Report_SMMC_03.21.23","2023-03-21","Unaudited"]
["Dental","DEF","Default",1900,"1900-01-01","Q4","1900-12-31","Region 1","Operating Expense","Taxes & Fees","Taxes & Fees","5.2","Department of Insurance Assessments",{"v":0,"d":"$0.00"},{"v":0,"d":"$0.00"},{"v":0,"d":"$0.00"},{"v":0,"d":"$0.00"},{"v":0,"d":"$0.00"},{"v":0,"d":"$0.00"},"ASR-Dental_Financial_Report_SMMC_03.21.23","2023-03-21","Unaudited"]
["Dental","DEF","Default",1900,"1900-01-01","Q4","1900-12-31","Region 1","Operating Expense","Taxes & Fees","Taxes & Fees","5.3","Section 9010 Health Insurance Providers Fee",{"v":0,"d":"$0.00"},{"v":0,"d":"$0.00"},{"v":0,"d":"$0.00"},{"v":0,"d":"$0.00"},{"v":0,"d":"$0.00"},{"v":0,"d":"$0.00"},"ASR-Dental_Financial_Report_SMMC_03.21.23","2023-03-21","Unaudited"]
["Dental","DEF","Default",1900,"1900-01-01","Q4","1900-12-31","Region 1","Operating Expense","Taxes & Fees","Taxes & Fees","5.4","Other 1",{"$f":"IF(OR(AND($F322=\"PY\",N$1<>\"Prior Year\"),AND($F322<>\"PY\",N$1=\"Prior Year\")),0,INDEX(INDIRECT(\"'Dental Rev-Exp \"&$H322&\"'!$A$1:$CA$200\"),IF($J322=\"Member Months\",MATCH($J322,INDIRECT(\"'Dental Rev-Exp \"&$H322&\"'!$A$1:$A$200\"),0),MATCH($L322,INDIRECT(\"'Dental Rev-Exp \"&$H322&\"'!$B$1:$B$200\"),0)),IF($F322=\"PY\",MATCH(\"Prior Year Adjustments\",INDIRECT(\"'Dental Rev-Exp \"&$H322&\"'!$A$8:$CA$8\"),0),MATCH(IF($F322=\"Q1\",\"JANUARY - MARCH (Q1)\",IF($F322=\"Q2\",\"APRIL - JUNE (Q2)\",IF($F322=\"Q3\",\"JULY - SEPTEMBER (Q3)\",IF($F322=\"Q4\",\"OCTOBER - DECEMBER (Q4)\",0)))),INDIRECT(\"'Dental Rev-Exp \"&$H322&\"'!$A$7:$CA$7\"),0)+MATCH(N$1,INDIRECT(\"'Dental Rev-Exp \"&$H322&\"'!$D$8:$CA$8\"),0)-1)))","v":{"v":0,"d":"$0.00"}},{"v":0,"d":"$0.00"},{"v":0,"d":"$0.00"},{"v":0,"d":"$0.00"},{"v":0,"d":"$0.00"},{"v":0,"d":"$0.00"},{"$f":"file_name","v":"ASR-Dental_Financial_Report_SMMC_03.21.23"},{"$f":"file_date","v":"2023-03-21"},{"$f":"status","v":"Unaudited"}]
["Dental","DEF","Default",1900,"1900-01-01","Q4","1900-12-31","Region 1","Operating Expense","Taxes & Fees","Taxes & Fees","5.5","Other 2",{"v":0,"d":"$0.00"},{"v":0,"d":"$0.00"},{"v":0,"d":"$0.00"},{"v":0,"d":"$0.00"},{"v":0,"d":"$0.00"},{"v":0,"d":"$0.00"},"ASR-Dental_Financial_Report_SMMC_03.21.23","2023-03-21","Unaudited"]
["Dental","DEF","Default",1900,"1900-01-01","Q4","1900-12-31","Region 1","Operating Expense","Taxes & Fees","Taxes & Fees","5.6","Other 3",{"v":0,"d":"$0.00"},{"v":0,"d":"$0.00"},{"v":0,"d":"$0.00"},{"v":0,"d":"$0.00"},{"v":0,"d":"$0.00"},{"v":0,"d":"$0.00"},"ASR-Dental_Financial_Report_SMMC_03.21.23","2023-03-21","Unaudited"]
["Dental","DEF","Default",1900,"1900-01-01","Q4","1900-12-31","Region 1","Non-Operating Expense","Income Tax Expense","Income Tax Expense","8.0","Income Tax Expense",{"v":0,"d":"$0.00"},{"v":0,"d":"$0.00"},{"v":0,"d":"$0.00"},{"v":0,"d":"$0.00"},{"v":0,"d":"$0.00"},{"v":0,"d":"$0.00"},"ASR-Dental_Financial_Report_SMMC_03.21.23","2023-03-21","Unaudited"]
["Dental","DEF","Default",1900,"1900-01-01","PY","1/1/1800","Region 1","Member Months","Member Months","Member Months",null,"Member Months",{"v":0,"d":"$0.00"},{"v":0,"d":"$0.00"},{"v":0,"d":"$0.00"},{"v":0,"d":"$0.00"},{"v":0,"d":"$0.00"},{"v":0,"d":"$0.00"},"ASR-Dental_Financial_Report_SMMC_03.21.23","2023-03-21","Unaudited"]
["Dental","DEF","Default",1900,"1900-01-01","PY","1/1/1800","Region 1","Operating Revenue","Capitation","Capitation","1.1","Capitation",{"v":0,"d":"$0.00"},{"v":0,"d":"$0.00"},{"v":0,"d":"$0.00"},{"v":0,"d":"$0.00"},{"v":0,"d":"$0.00"},{"v":0,"d":"$0.00"},"ASR-Dental_Financial_Report_SMMC_03.21.23","2023-03-21","Unaudited"]
["Dental","DEF","Default",1900,"1900-01-01","PY","1/1/1800","Region 1","Operating Revenue","Other Revenue","Other Revenue - 9010","1.2","ACA § 9010 related payments",{"v":0,"d":"$0.00"},{"v":0,"d":"$0.00"},{"v":0,"d":"$0.00"},{"v":0,"d":"$0.00"},{"v":0,"d":"$0.00"},{"v":0,"d":"$0.00"},"ASR-Dental_Financial_Report_SMMC_03.21.23","2023-03-21","Unaudited"]
["Dental","DEF","Default",1900,"1900-01-01","PY","1/1/1800","Region 1","Operating Revenue","Other Revenue","Other Revenue","1.3","Other Revenue",{"v":0,"d":"$0.00"},{"v":0,"d":"$0.00"},{"v":0,"d":"$0.00"},{"v":0,"d":"$0.00"},{"v":0,"d":"$0.00"},{"v":0,"d":"$0.00"},"ASR-Dental_Financial_Report_SMMC_03.21.23","2023-03-21","Unaudited"]
["Dental","DEF","Default",1900,"1900-01-01","PY","1/1/1800","Region 1","Operating Expense","Medical Expense","Dental Services","2.1","Dental Services Diagnostic",{"v":0,"d":"$0.00"},{"v":0,"d":"$0.00"},{"v":0,"d":"$0.00"},{"v":0,"d":"$0.00"},{"v":0,"d":"$0.00"},{"v":0,"d":"$0.00"},"ASR-Dental_Financial_Report_SMMC_03.21.23","2023-03-21","Unaudited"]
["Dental","DEF","Default",1900,"1900-01-01","PY","1/1/1800","Region 1","Operating Expense","Medical Expense","Dental Services",2.2,"Dental Services Preventive",{"v":0,"d":"$0.00"},{"v":0,"d":"$0.00"},{"v":0,"d":"$0.00"},{"v":0,"d":"$0.00"},{"v":0,"d":"$0.00"},{"v":0,"d":"$0.00"},"ASR-Dental_Financial_Report_SMMC_03.21.23","2023-03-21","Unaudited"]
["Dental","DEF","Default",1900,"1900-01-01","PY","1/1/1800","Region 1","Operating Expense","Medical Expense","Dental Services","2.3","Dental Services Restorative",{"$f":"IF(OR(AND($F332=\"PY\",N$1<>\"Prior Year\"),AND($F332<>\"PY\",N$1=\"Prior Year\")),0,INDEX(INDIRECT(\"'Dental Rev-Exp \"&$H332&\"'!$A$1:$CA$200\"),IF($J332=\"Member Months\",MATCH($J332,INDIRECT(\"'Dental Rev-Exp \"&$H332&\"'!$A$1:$A$200\"),0),MATCH($L332,INDIRECT(\"'Dental Rev-Exp \"&$H332&\"'!$B$1:$B$200\"),0)),IF($F332=\"PY\",MATCH(\"Prior Year Adjustments\",INDIRECT(\"'Dental Rev-Exp \"&$H332&\"'!$A$8:$CA$8\"),0),MATCH(IF($F332=\"Q1\",\"JANUARY - MARCH (Q1)\",IF($F332=\"Q2\",\"APRIL - JUNE (Q2)\",IF($F332=\"Q3\",\"JULY - SEPTEMBER (Q3)\",IF($F332=\"Q4\",\"OCTOBER - DECEMBER (Q4)\",0)))),INDIRECT(\"'Dental Rev-Exp \"&$H332&\"'!$A$7:$CA$7\"),0)+MATCH(N$1,INDIRECT(\"'Dental Rev-Exp \"&$H332&\"'!$D$8:$CA$8\"),0)-1)))","v":{"v":0,"d":"$0.00"}},{"v":0,"d":"$0.00"},{"v":0,"d":"$0.00"},{"v":0,"d":"$0.00"},{"v":0,"d":"$0.00"},{"v":0,"d":"$0.00"},"ASR-Dental_Financial_Report_SMMC_03.21.23","2023-03-21","Unaudited"]
["Dental","DEF","Default",1900,"1900-01-01","PY","1/1/1800","Region 1","Operating Expense","Medical Expense","Dental Services","2.4","Dental Services Endodontics",{"v":0,"d":"$0.00"},{"v":0,"d":"$0.00"},{"v":0,"d":"$0.00"},{"v":0,"d":"$0.00"},{"v":0,"d":"$0.00"},{"v":0,"d":"$0.00"},"ASR-Dental_Financial_Report_SMMC_03.21.23","2023-03-21","Unaudited"]
["Dental","DEF","Default",1900,"1900-01-01","PY","1/1/1800","Region 1","Operating Expense","Medical Expense","Dental Services","2.5","Dental Services Periodontics",{"v":0,"d":"$0.00"},{"v":0,"d":"$0.00"},{"v":0,"d":"$0.00"},{"v":0,"d":"$0.00"},{"v":0,"d":"$0.00"},{"v":0,"d":"$0.00"},"ASR-Dental_Financial_Report_SMMC_03.21.23","2023-03-21","Unaudited"]
["Dental","DEF","Default",1900,"1900-01-01","PY","1/1/1800","Region 1","Operating Expense","Medical Expense","Dental Services","2.6","Dental Services Prosthodontics",{"v":0,"d":"$0.00"},{"v":0,"d":"$0.00"},{"v":0,"d":"$0.00"},{"v":0,"d":"$0.00"},{"v":0,"d":"$0.00"},{"v":0,"d":"$0.00"},"ASR-Dental_Financial_Report_SMMC_03.21.23","2023-03-21","Unaudited"]
["Dental","DEF","Default",1900,"1900-01-01","PY","1/1/1800","Region 1","Operating Expense","Medical Expense","Dental Services","2.7","Dental Services Prosthodontics, fixed",{"v":0,"d":"$0.00"},{"v":0,"d":"$0.00"},{"v":0,"d":"$0.00"},{"v":0,"d":"$0.00"},{"v":0,"d":"$0.00"},{"v":0,"d":"$0.00"},"ASR-Dental_Financial_Report_SMMC_03.21.23","2023-03-21","Unaudited"]
["Dental","DEF","Default",1900,"1900-01-01","PY","1/1/1800","Region 1","Operating Expense","Medical Expense","Dental Services","2.8","Dental Services Oral and Maxillofacial Surgery",{"v":0,"d":"$0.00"},{"v":0,"d":"$0.00"},{"v":0,"d":"$0.00"},{"v":0,"d":"$0.00"},{"v":0,"d":"$0.00"},{"v":0,"d":"$0.00"},"ASR-Dental_Financial_Report_SMMC_03.21.23","2023-03-21","Unaudited"]
["Dental","DEF","Default",1900,"1900-01-01","PY","1/1/1800","Region 1","Operating Expense","Medical Expense","Dental Services","2.9","Dental Services Orthodontics",{"v":0,"d":"$0.00"},{"v":0,"d":"$0.00"},{"v":0,"d":"$0.00"},{"v":0,"d":"$0.00"},{"v":0,"d":"$0.00"},{"v":0,"d":"$0.00"},"ASR-Dental_Financial_Report_SMMC_03.21.23","2023-03-21","Unaudited"]
["Dental","DEF","Default",1900,"1900-01-01","PY","1/1/1800","Region 1","Operating Expense","Medical Expense","Dental Services","2.10","Dental Services Adjunctive General Services",{"v":0,"d":"$0.00"},{"v":0,"d":"$0.00"},{"v":0,"d":"$0.00"},{"v":0,"d":"$0.00"},{"v":0,"d":"$0.00"},{"v":0,"d":"$0.00"},"ASR-Dental_Financial_Report_SMMC_03.21.23","2023-03-21","Unaudited"]
["Dental","DEF","Default",1900,"1900-01-01","PY","1/1/1800","Region 1","Operating Expense","Medical Expense","Dental Services","2.11","Dental Services Other",{"v":0,"d":"$0.00"},{"v":0,"d":"$0.00"},{"v":0,"d":"$0.00"},{"v":0,"d":"$0.00"},{"v":0,"d":"$0.00"},{"v":0,"d":"$0.00"},"ASR-Dental_Financial_Report_SMMC_03.21.23","2023-03-21","Unaudited"]
["Dental","DEF","Default",1900,"1900-01-01","PY","1/1/1800","Region 1","Operating Expense","Medical Expense","Expanded Benefits","2.12","Dental Expanded Benefits",{"v":0,"d":"$0.00"},{"v":0,"d":"$0.00"},{"v":0,"d":"$0.00"},{"v":0,"d":"$0.00"},{"v":0,"d":"$0.00"},{"v":0,"d":"$0.00"},"ASR-Dental_Financial_Report_SMMC_03.21.23","2023-03-21","Unaudited"]
["Dental","DEF","Default",1900,"1900-01-01","PY","1/1/1800","Region 1","Operating Expense","Medical Expense","Dental Services","2.13","Dental Services Paid through Subcapitation",{"$f":"IF(OR(AND($F342=\"PY\",N$1<>\"Prior Year\"),AND($F342<>\"PY\",N$1=\"Prior Year\")),0,INDEX(INDIRECT(\"'Dental Rev-Exp \"&$H342&\"'!$A$1:$CA$200\"),IF($J342=\"Member Months\",MATCH($J342,INDIRECT(\"'Dental Rev-Exp \"&$H342&\"'!$A$1:$A$200\"),0),MATCH($L342,INDIRECT(\"'Dental Rev-Exp \"&$H342&\"'!$B$1:$B$200\"),0)),IF($F342=\"PY\",MATCH(\"Prior Year Adjustments\",INDIRECT(\"'Dental Rev-Exp \"&$H342&\"'!$A$8:$CA$8\"),0),MATCH(IF($F342=\"Q1\",\"JANUARY - MARCH (Q1)\",IF($F342=\"Q2\",\"APRIL - JUNE (Q2)\",IF($F342=\"Q3\",\"JULY - SEPTEMBER (Q3)\",IF($F342=\"Q4\",\"OCTOBER - DECEMBER (Q4)\",0)))),INDIRECT(\"'Dental Rev-Exp \"&$H342&\"'!$A$7:$CA$7\"),0)+MATCH(N$1,INDIRECT(\"'Dental Rev-Exp \"&$H342&\"'!$D$8:$CA$8\"),0)-1)))","v":{"v":0,"d":"$0.00"}},{"v":0,"d":"$0.00"},{"v":0,"d":"$0.00"},{"v":0,"d":"$0.00"},{"v":0,"d":"$0.00"},{"v":0,"d":"$0.00"},"ASR-Dental_Financial_Report_SMMC_03.21.23","2023-03-21","Unaudited"]
["Dental","DEF","Default",1900,"1900-01-01","PY","1/1/1800","Region 1","Operating Expense","Medical Expense","Dental Services","2.14","Ending IBNP for Dental Services",{"v":0,"d":"$0.00"},{"v":0,"d":"$0.00"},{"v":0,"d":"$0.00"},{"v":0,"d":"$0.00"},{"v":0,"d":"$0.00"},{"v":0,"d":"$0.00"},"ASR-Dental_Financial_Report_SMMC_03.21.23","2023-03-21","Unaudited"]
["Dental","DEF","Default",1900,"1900-01-01","PY","1/1/1800","Region 1","Operating Expense","Medical Expense","Dental Services","2.15","Dental Settlements/AP",{"v":0,"d":"$0.00"},{"v":0,"d":"$0.00"},{"v":0,"d":"$0.00"},{"v":0,"d":"$0.00"},{"v":0,"d":"$0.00"},{"v":0,"d":"$0.00"},"ASR-Dental_Financial_Report_SMMC_03.21.23","2023-03-21","Unaudited"]
["Dental","DEF","Default",1900,"1900-01-01","PY","1/1/1800","Region 1","Operating Expense","Medical Expense","Other Medical","3.5","TPL & Fraud/Abuse Recoveries",{"v":0,"d":"$0.00"},{"v":0,"d":"$0.00"},{"v":0,"d":"$0.00"},{"v":0,"d":"$0.00"},{"v":0,"d":"$0.00"},{"v":0,"d":"$0.00"},"ASR-Dental_Financial_Report_SMMC_03.21.23","2023-03-21","Unaudited"]
["Dental","DEF","Default",1900,"1900-01-01","PY","1/1/1800","Region 1","Operating Expense","Medical Expense","Other Medical",3.6,"Premium Deficiency Reserve",{"v":0,"d":"$0.00"},{"v":0,"d":"$0.00"},{"v":0,"d":"$0.00"},{"v":0,"d":"$0.00"},{"v":0,"d":"$0.00"},{"v":0,"d":"$0.00"},"ASR-Dental_Financial_Report_SMMC_03.21.23","2023-03-21","Unaudited"]
["Dental","DEF","Default",1900,"1900-01-01","PY","1/1/1800","Region 1","Operating Expense","Medical Expense","Other Medical","3.8","Reinsurance Premiums",{"v":0,"d":"$0.00"},{"v":0,"d":"$0.00"},{"v":0,"d":"$0.00"},{"v":0,"d":"$0.00"},{"v":0,"d":"$0.00"},{"v":0,"d":"$0.00"},"ASR-Dental_Financial_Report_SMMC_03.21.23","2023-03-21","Unaudited"]
["Dental","DEF","Default",1900,"1900-01-01","PY","1/1/1800","Region 1","Operating Expense","Medical Expense","Other Medical","3.9","Reinsurance Recoveries",{"v":0,"d":"$0.00"},{"v":0,"d":"$0.00"},{"v":0,"d":"$0.00"},{"v":0,"d":"$0.00"},{"v":0,"d":"$0.00"},{"v":0,"d":"$0.00"},"ASR-Dental_Financial_Report_SMMC_03.21.23","2023-03-21","Unaudited"]
["Dental","DEF","Default",1900,"1900-01-01","PY","1/1/1800","Region 1","Operating Expense","Administrative Expense","Administrative","4.1","Salaries & Benefits",{"v":0,"d":"$0.00"},{"v":0,"d":"$0.00"},{"v":0,"d":"$0.00"},{"v":0,"d":"$0.00"},{"v":0,"d":"$0.00"},{"v":0,"d":"$0.00"},"ASR-Dental_Financial_Report_SMMC_03.21.23","2023-03-21","Unaudited"]
["Dental","DEF","Default",1900,"1900-01-01","PY","1/1/1800","Region 1","Operating Expense","Administrative Expense","Administrative","4.2","Administrative Services",{"v":0,"d":"$0.00"},{"v":0,"d":"$0.00"},{"v":0,"d":"$0.00"},{"v":0,"d":"$0.00"},{"v":0,"d":"$0.00"},{"v":0,"d":"$0.00"},"ASR-Dental_Financial_Report_SMMC_03.21.23","2023-03-21","Unaudited"]
["Dental","DEF","Default",1900,"1900-01-01","PY","1/1/1800","Region 1","Operating Expense","Administrative Expense","Administrative","4.3","Information Systems",{"v":0,"d":"$0.00"},{"v":0,"d":"$0.00"},{"v":0,"d":"$0.00"},{"v":0,"d":"$0.00"},{"v":0,"d":"$0.00"},{"v":0,"d":"$0.00"},"ASR-Dental_Financial_Report_SMMC_03.21.23","2023-03-21","Unaudited"]
["Dental","DEF","Default",1900,"1900-01-01","PY","1/1/1800","Region 1","Operating Expense","Administrative Expense","Administrative","4.4","Marketing Expenses",{"$f":"IF(OR(AND($F352=\"PY\",N$1<>\"Prior Year\"),AND($F352<>\"PY\",N$1=\"Prior Year\")),0,INDEX(INDIRECT(\"'Dental Rev-Exp \"&$H352&\"'!$A$1:$CA$200\"),IF($J352=\"Member Months\",MATCH($J352,INDIRECT(\"'Dental Rev-Exp \"&$H352&\"'!$A$1:$A$200\"),0),MATCH($L352,INDIRECT(\"'Dental Rev-Exp \"&$H352&\"'!$B$1:$B$200\"),0)),IF($F352=\"PY\",MATCH(\"Prior Year Adjustments\",INDIRECT(\"'Dental Rev-Exp \"&$H352&\"'!$A$8:$CA$8\"),0),MATCH(IF($F352=\"Q1\",\"JANUARY - MARCH (Q1)\",IF($F352=\"Q2\",\"APRIL - JUNE (Q2)\",IF($F352=\"Q3\",\"JULY - SEPTEMBER (Q3)\",IF($F352=\"Q4\",\"OCTOBER - DECEMBER (Q4)\",0)))),INDIRECT(\"'Dental Rev-Exp \"&$H352&\"'!$A$7:$CA$7\"),0)+MATCH(N$1,INDIRECT(\"'Dental Rev-Exp \"&$H352&\"'!$D$8:$CA$8\"),0)-1)))","v":{"v":0,"d":"$0.00"}},{"v":0,"d":"$0.00"},{"v":0,"d":"$0.00"},{"v":0,"d":"$0.00"},{"v":0,"d":"$0.00"},{"v":0,"d":"$0.00"},"ASR-Dental_Financial_Report_SMMC_03.21.23","2023-03-21","Unaudited"]
["Dental","DEF","Default",1900,"1900-01-01","PY","1/1/1800","Region 1","Operating Expense","Administrative Expense","Administrative","4.5","General  Administration",{"v":0,"d":"$0.00"},{"v":0,"d":"$0.00"},{"v":0,"d":"$0.00"},{"v":0,"d":"$0.00"},{"v":0,"d":"$0.00"},{"v":0,"d":"$0.00"},"ASR-Dental_Financial_Report_SMMC_03.21.23","2023-03-21","Unaudited"]
["Dental","DEF","Default",1900,"1900-01-01","PY","1/1/1800","Region 1","Operating Expense","Administrative Expense","Administrative","4.6","Compliance/Regulatory",{"v":0,"d":"$0.00"},{"v":0,"d":"$0.00"},{"v":0,"d":"$0.00"},{"v":0,"d":"$0.00"},{"v":0,"d":"$0.00"},{"v":0,"d":"$0.00"},"ASR-Dental_Financial_Report_SMMC_03.21.23","2023-03-21","Unaudited"]
["Dental","DEF","Default",1900,"1900-01-01","PY","1/1/1800","Region 1","Operating Expense","Taxes & Fees","Taxes & Fees","5.1","State Premium tax",{"v":0,"d":"$0.00"},{"v":0,"d":"$0.00"},{"v":0,"d":"$0.00"},{"v":0,"d":"$0.00"},{"v":0,"d":"$0.00"},{"v":0,"d":"$0.00"},"ASR-Dental_Financial_Report_SMMC_03.21.23","2023-03-21","Unaudited"]
["Dental","DEF","Default",1900,"1900-01-01","PY","1/1/1800","Region 1","Operating Expense","Taxes & Fees","Taxes & Fees","5.2","Department of Insurance Assessments",{"v":0,"d":"$0.00"},{"v":0,"d":"$0.00"},{"v":0,"d":"$0.00"},{"v":0,"d":"$0.00"},{"v":0,"d":"$0.00"},{"v":0,"d":"$0.00"},"ASR-Dental_Financial_Report_SMMC_03.21.23","2023-03-21","Unaudited"]
["Dental","DEF","Default",1900,"1900-01-01","PY","1/1/1800","Region 1","Operating Expense","Taxes & Fees","Taxes & Fees","5.3","Section 9010 Health Insurance Providers Fee",{"v":0,"d":"$0.00"},{"v":0,"d":"$0.00"},{"v":0,"d":"$0.00"},{"v":0,"d":"$0.00"},{"v":0,"d":"$0.00"},{"v":0,"d":"$0.00"},"ASR-Dental_Financial_Report_SMMC_03.21.23","2023-03-21","Unaudited"]
["Dental","DEF","Default",1900,"1900-01-01","PY","1/1/1800","Region 1","Operating Expense","Taxes & Fees","Taxes & Fees","5.4","Other 1",{"v":0,"d":"$0.00"},{"v":0,"d":"$0.00"},{"v":0,"d":"$0.00"},{"v":0,"d":"$0.00"},{"v":0,"d":"$0.00"},{"v":0,"d":"$0.00"},"ASR-Dental_Financial_Report_SMMC_03.21.23","2023-03-21","Unaudited"]
["Dental","DEF","Default",1900,"1900-01-01","PY","1/1/1800","Region 1","Operating Expense","Taxes & Fees","Taxes & Fees","5.5","Other 2",{"v":0,"d":"$0.00"},{"v":0,"d":"$0.00"},{"v":0,"d":"$0.00"},{"v":0,"d":"$0.00"},{"v":0,"d":"$0.00"},{"v":0,"d":"$0.00"},"ASR-Dental_Financial_Report_SMMC_03.21.23","2023-03-21","Unaudited"]
["Dental","DEF","Default",1900,"1900-01-01","PY","1/1/1800","Region 1","Operating Expense","Taxes & Fees","Taxes & Fees","5.6","Other 3",{"v":0,"d":"$0.00"},{"v":0,"d":"$0.00"},{"v":0,"d":"$0.00"},{"v":0,"d":"$0.00"},{"v":0,"d":"$0.00"},{"v":0,"d":"$0.00"},"ASR-Dental_Financial_Report_SMMC_03.21.23","2023-03-21","Unaudited"]
["Dental","DEF","Default",1900,"1900-01-01","PY","1/1/1800","Region 1","Non-Operating Expense","Income Tax Expense","Income Tax Expense","8.0","Income Tax Expense",{"v":0,"d":"$0.00"},{"v":0,"d":"$0.00"},{"v":0,"d":"$0.00"},{"v":0,"d":"$0.00"},{"v":0,"d":"$0.00"},{"v":0,"d":"$0.00"},"ASR-Dental_Financial_Report_SMMC_03.21.23","2023-03-21","Unaudited"]
["Dental","DEF","Default",1900,"1900-01-01","Q1","1900-03-31","Region 2","Member Months","Member Months","Member Months",null,"Member Months",{"$f":"IF(OR(AND($F362=\"PY\",N$1<>\"Prior Year\"),AND($F362<>\"PY\",N$1=\"Prior Year\")),0,INDEX(INDIRECT(\"'Dental Rev-Exp \"&$H362&\"'!$A$1:$CA$200\"),IF($J362=\"Member Months\",MATCH($J362,INDIRECT(\"'Dental Rev-Exp \"&$H362&\"'!$A$1:$A$200\"),0),MATCH($L362,INDIRECT(\"'Dental Rev-Exp \"&$H362&\"'!$B$1:$B$200\"),0)),IF($F362=\"PY\",MATCH(\"Prior Year Adjustments\",INDIRECT(\"'Dental Rev-Exp \"&$H362&\"'!$A$8:$CA$8\"),0),MATCH(IF($F362=\"Q1\",\"JANUARY - MARCH (Q1)\",IF($F362=\"Q2\",\"APRIL - JUNE (Q2)\",IF($F362=\"Q3\",\"JULY - SEPTEMBER (Q3)\",IF($F362=\"Q4\",\"OCTOBER - DECEMBER (Q4)\",0)))),INDIRECT(\"'Dental Rev-Exp \"&$H362&\"'!$A$7:$CA$7\"),0)+MATCH(N$1,INDIRECT(\"'Dental Rev-Exp \"&$H362&\"'!$D$8:$CA$8\"),0)-1)))","v":{"v":0,"d":"$0.00"}},{"v":0,"d":"$0.00"},{"v":0,"d":"$0.00"},{"v":0,"d":"$0.00"},{"v":0,"d":"$0.00"},{"v":0,"d":"$0.00"},"ASR-Dental_Financial_Report_SMMC_03.21.23","2023-03-21","Unaudited"]
["Dental","DEF","Default",1900,"1900-01-01","Q1","1900-03-31","Region 2","Operating Revenue","Capitation","Capitation","1.1","Capitation",{"v":0,"d":"$0.00"},{"v":0,"d":"$0.00"},{"v":0,"d":"$0.00"},{"v":0,"d":"$0.00"},{"v":0,"d":"$0.00"},{"v":0,"d":"$0.00"},"ASR-Dental_Financial_Report_SMMC_03.21.23","2023-03-21","Unaudited"]
["Dental","DEF","Default",1900,"1900-01-01","Q1","1900-03-31","Region 2","Operating Revenue","Other Revenue","Other Revenue - 9010","1.2","ACA § 9010 related payments",{"v":0,"d":"$0.00"},{"v":0,"d":"$0.00"},{"v":0,"d":"$0.00"},{"v":0,"d":"$0.00"},{"v":0,"d":"$0.00"},{"v":0,"d":"$0.00"},"ASR-Dental_Financial_Report_SMMC_03.21.23","2023-03-21","Unaudited"]
["Dental","DEF","Default",1900,"1900-01-01","Q1","1900-03-31","Region 2","Operating Revenue","Other Revenue","Other Revenue","1.3","Other Revenue",{"v":0,"d":"$0.00"},{"v":0,"d":"$0.00"},{"v":0,"d":"$0.00"},{"v":0,"d":"$0.00"},{"v":0,"d":"$0.00"},{"v":0,"d":"$0.00"},"ASR-Dental_Financial_Report_SMMC_03.21.23","2023-03-21","Unaudited"]
["Dental","DEF","Default",1900,"1900-01-01","Q1","1900-03-31","Region 2","Operating Expense","Medical Expense","Dental Services","2.1","Dental Services Diagnostic",{"v":0,"d":"$0.00"},{"v":0,"d":"$0.00"},{"v":0,"d":"$0.00"},{"v":0,"d":"$0.00"},{"v":0,"d":"$0.00"},{"v":0,"d":"$0.00"},"ASR-Dental_Financial_Report_SMMC_03.21.23","2023-03-21","Unaudited"]
["Dental","DEF","Default",1900,"1900-01-01","Q1","1900-03-31","Region 2","Operating Expense","Medical Expense","Dental Services",2.2,"Dental Services Preventive",{"v":0,"d":"$0.00"},{"v":0,"d":"$0.00"},{"v":0,"d":"$0.00"},{"v":0,"d":"$0.00"},{"v":0,"d":"$0.00"},{"v":0,"d":"$0.00"},"ASR-Dental_Financial_Report_SMMC_03.21.23","2023-03-21","Unaudited"]
["Dental","DEF","Default",1900,"1900-01-01","Q1","1900-03-31","Region 2","Operating Expense","Medical Expense","Dental Services","2.3","Dental Services Restorative",{"v":0,"d":"$0.00"},{"v":0,"d":"$0.00"},{"v":0,"d":"$0.00"},{"v":0,"d":"$0.00"},{"v":0,"d":"$0.00"},{"v":0,"d":"$0.00"},"ASR-Dental_Financial_Report_SMMC_03.21.23","2023-03-21","Unaudited"]
["Dental","DEF","Default",1900,"1900-01-01","Q1","1900-03-31","Region 2","Operating Expense","Medical Expense","Dental Services","2.4","Dental Services Endodontics",{"v":0,"d":"$0.00"},{"v":0,"d":"$0.00"},{"v":0,"d":"$0.00"},{"v":0,"d":"$0.00"},{"v":0,"d":"$0.00"},{"v":0,"d":"$0.00"},"ASR-Dental_Financial_Report_SMMC_03.21.23","2023-03-21","Unaudited"]
["Dental","DEF","Default",1900,"1900-01-01","Q1","1900-03-31","Region 2","Operating Expense","Medical Expense","Dental Services","2.5","Dental Services Periodontics",{"v":0,"d":"$0.00"},{"v":0,"d":"$0.00"},{"v":0,"d":"$0.00"},{"v":0,"d":"$0.00"},{"v":0,"d":"$0.00"},{"v":0,"d":"$0.00"},"ASR-Dental_Financial_Report_SMMC_03.21.23","2023-03-21","Unaudited"]
["Dental","DEF","Default",1900,"1900-01-01","Q1","1900-03-31","Region 2","Operating Expense","Medical Expense","Dental Services","2.6","Dental Services Prosthodontics",{"v":0,"d":"$0.00"},{"v":0,"d":"$0.00"},{"v":0,"d":"$0.00"},{"v":0,"d":"$0.00"},{"v":0,"d":"$0.00"},{"v":0,"d":"$0.00"},"ASR-Dental_Financial_Report_SMMC_03.21.23","2023-03-21","Unaudited"]
["Dental","DEF","Default",1900,"1900-01-01","Q1","1900-03-31","Region 2","Operating Expense","Medical Expense","Dental Services","2.7","Dental Services Prosthodontics, fixed",{"$f":"IF(OR(AND($F372=\"PY\",N$1<>\"Prior Year\"),AND($F372<>\"PY\",N$1=\"Prior Year\")),0,INDEX(INDIRECT(\"'Dental Rev-Exp \"&$H372&\"'!$A$1:$CA$200\"),IF($J372=\"Member Months\",MATCH($J372,INDIRECT(\"'Dental Rev-Exp \"&$H372&\"'!$A$1:$A$200\"),0),MATCH($L372,INDIRECT(\"'Dental Rev-Exp \"&$H372&\"'!$B$1:$B$200\"),0)),IF($F372=\"PY\",MATCH(\"Prior Year Adjustments\",INDIRECT(\"'Dental Rev-Exp \"&$H372&\"'!$A$8:$CA$8\"),0),MATCH(IF($F372=\"Q1\",\"JANUARY - MARCH (Q1)\",IF($F372=\"Q2\",\"APRIL - JUNE (Q2)\",IF($F372=\"Q3\",\"JULY - SEPTEMBER (Q3)\",IF($F372=\"Q4\",\"OCTOBER - DECEMBER (Q4)\",0)))),INDIRECT(\"'Dental Rev-Exp \"&$H372&\"'!$A$7:$CA$7\"),0)+MATCH(N$1,INDIRECT(\"'Dental Rev-Exp \"&$H372&\"'!$D$8:$CA$8\"),0)-1)))","v":{"v":0,"d":"$0.00"}},{"v":0,"d":"$0.00"},{"v":0,"d":"$0.00"},{"v":0,"d":"$0.00"},{"v":0,"d":"$0.00"},{"v":0,"d":"$0.00"},"ASR-Dental_Financial_Report_SMMC_03.21.23","2023-03-21","Unaudited"]
["Dental","DEF","Default",1900,"1900-01-01","Q1","1900-03-31","Region 2","Operating Expense","Medical Expense","Dental Services","2.8","Dental Services Oral and Maxillofacial Surgery",{"v":0,"d":"$0.00"},{"v":0,"d":"$0.00"},{"v":0,"d":"$0.00"},{"v":0,"d":"$0.00"},{"v":0,"d":"$0.00"},{"v":0,"d":"$0.00"},"ASR-Dental_Financial_Report_SMMC_03.21.23","2023-03-21","Unaudited"]
["Dental","DEF","Default",1900,"1900-01-01","Q1","1900-03-31","Region 2","Operating Expense","Medical Expense","Dental Services","2.9","Dental Services Orthodontics",{"v":0,"d":"$0.00"},{"v":0,"d":"$0.00"},{"v":0,"d":"$0.00"},{"v":0,"d":"$0.00"},{"v":0,"d":"$0.00"},{"v":0,"d":"$0.00"},"ASR-Dental_Financial_Report_SMMC_03.21.23","2023-03-21","Unaudited"]
["Dental","DEF","Default",1900,"1900-01-01","Q1","1900-03-31","Region 2","Operating Expense","Medical Expense","Dental Services","2.10","Dental Services Adjunctive General Services",{"v":0,"d":"$0.00"},{"v":0,"d":"$0.00"},{"v":0,"d":"$0.00"},{"v":0,"d":"$0.00"},{"v":0,"d":"$0.00"},{"v":0,"d":"$0.00"},"ASR-Dental_Financial_Report_SMMC_03.21.23","2023-03-21","Unaudited"]
["Dental","DEF","Default",1900,"1900-01-01","Q1","1900-03-31","Region 2","Operating Expense","Medical Expense","Dental Services","2.11","Dental Services Other",{"v":0,"d":"$0.00"},{"v":0,"d":"$0.00"},{"v":0,"d":"$0.00"},{"v":0,"d":"$0.00"},{"v":0,"d":"$0.00"},{"v":0,"d":"$0.00"},"ASR-Dental_Financial_Report_SMMC_03.21.23","2023-03-21","Unaudited"]
["Dental","DEF","Default",1900,"1900-01-01","Q1","1900-03-31","Region 2","Operating Expense","Medical Expense","Expanded Benefits","2.12","Dental Expanded Benefits",{"v":0,"d":"$0.00"},{"v":0,"d":"$0.00"},{"v":0,"d":"$0.00"},{"v":0,"d":"$0.00"},{"v":0,"d":"$0.00"},{"v":0,"d":"$0.00"},"ASR-Dental_Financial_Report_SMMC_03.21.23","2023-03-21","Unaudited"]
["Dental","DEF","Default",1900,"1900-01-01","Q1","1900-03-31","Region 2","Operating Expense","Medical Expense","Dental Services","2.13","Dental Services Paid through Subcapitation",{"v":0,"d":"$0.00"},{"v":0,"d":"$0.00"},{"v":0,"d":"$0.00"},{"v":0,"d":"$0.00"},{"v":0,"d":"$0.00"},{"v":0,"d":"$0.00"},"ASR-Dental_Financial_Report_SMMC_03.21.23","2023-03-21","Unaudited"]
["Dental","DEF","Default",1900,"1900-01-01","Q1","1900-03-31","Region 2","Operating Expense","Medical Expense","Dental Services","2.14","Ending IBNP for Dental Services",{"v":0,"d":"$0.00"},{"v":0,"d":"$0.00"},{"v":0,"d":"$0.00"},{"v":0,"d":"$0.00"},{"v":0,"d":"$0.00"},{"v":0,"d":"$0.00"},"ASR-Dental_Financial_Report_SMMC_03.21.23","2023-03-21","Unaudited"]
["Dental","DEF","Default",1900,"1900-01-01","Q1","1900-03-31","Region 2","Operating Expense","Medical Expense","Dental Services","2.15","Dental Settlements/AP",{"v":0,"d":"$0.00"},{"v":0,"d":"$0.00"},{"v":0,"d":"$0.00"},{"v":0,"d":"$0.00"},{"v":0,"d":"$0.00"},{"v":0,"d":"$0.00"},"ASR-Dental_Financial_Report_SMMC_03.21.23","2023-03-21","Unaudited"]
["Dental","DEF","Default",1900,"1900-01-01","Q1","1900-03-31","Region 2","Operating Expense","Medical Expense","Other Medical","3.5","TPL & Fraud/Abuse Recoveries",{"v":0,"d":"$0.00"},{"v":0,"d":"$0.00"},{"v":0,"d":"$0.00"},{"v":0,"d":"$0.00"},{"v":0,"d":"$0.00"},{"v":0,"d":"$0.00"},"ASR-Dental_Financial_Report_SMMC_03.21.23","2023-03-21","Unaudited"]
["Dental","DEF","Default",1900,"1900-01-01","Q1","1900-03-31","Region 2","Operating Expense","Medical Expense","Other Medical",3.6,"Premium Deficiency Reserve",{"$f":"IF(OR(AND($F382=\"PY\",N$1<>\"Prior Year\"),AND($F382<>\"PY\",N$1=\"Prior Year\")),0,INDEX(INDIRECT(\"'Dental Rev-Exp \"&$H382&\"'!$A$1:$CA$200\"),IF($J382=\"Member Months\",MATCH($J382,INDIRECT(\"'Dental Rev-Exp \"&$H382&\"'!$A$1:$A$200\"),0),MATCH($L382,INDIRECT(\"'Dental Rev-Exp \"&$H382&\"'!$B$1:$B$200\"),0)),IF($F382=\"PY\",MATCH(\"Prior Year Adjustments\",INDIRECT(\"'Dental Rev-Exp \"&$H382&\"'!$A$8:$CA$8\"),0),MATCH(IF($F382=\"Q1\",\"JANUARY - MARCH (Q1)\",IF($F382=\"Q2\",\"APRIL - JUNE (Q2)\",IF($F382=\"Q3\",\"JULY - SEPTEMBER (Q3)\",IF($F382=\"Q4\",\"OCTOBER - DECEMBER (Q4)\",0)))),INDIRECT(\"'Dental Rev-Exp \"&$H382&\"'!$A$7:$CA$7\"),0)+MATCH(N$1,INDIRECT(\"'Dental Rev-Exp \"&$H382&\"'!$D$8:$CA$8\"),0)-1)))","v":{"v":0,"d":"$0.00"}},{"v":0,"d":"$0.00"},{"v":0,"d":"$0.00"},{"v":0,"d":"$0.00"},{"v":0,"d":"$0.00"},{"v":0,"d":"$0.00"},"ASR-Dental_Financial_Report_SMMC_03.21.23","2023-03-21","Unaudited"]
["Dental","DEF","Default",1900,"1900-01-01","Q1","1900-03-31","Region 2","Operating Expense","Medical Expense","Other Medical","3.8","Reinsurance Premiums",{"v":0,"d":"$0.00"},{"v":0,"d":"$0.00"},{"v":0,"d":"$0.00"},{"v":0,"d":"$0.00"},{"v":0,"d":"$0.00"},{"v":0,"d":"$0.00"},"ASR-Dental_Financial_Report_SMMC_03.21.23","2023-03-21","Unaudited"]
["Dental","DEF","Default",1900,"1900-01-01","Q1","1900-03-31","Region 2","Operating Expense","Medical Expense","Other Medical","3.9","Reinsurance Recoveries",{"v":0,"d":"$0.00"},{"v":0,"d":"$0.00"},{"v":0,"d":"$0.00"},{"v":0,"d":"$0.00"},{"v":0,"d":"$0.00"},{"v":0,"d":"$0.00"},"ASR-Dental_Financial_Report_SMMC_03.21.23","2023-03-21","Unaudited"]
["Dental","DEF","Default",1900,"1900-01-01","Q1","1900-03-31","Region 2","Operating Expense","Administrative Expense","Administrative","4.1","Salaries & Benefits",{"v":0,"d":"$0.00"},{"v":0,"d":"$0.00"},{"v":0,"d":"$0.00"},{"v":0,"d":"$0.00"},{"v":0,"d":"$0.00"},{"v":0,"d":"$0.00"},"ASR-Dental_Financial_Report_SMMC_03.21.23","2023-03-21","Unaudited"]
["Dental","DEF","Default",1900,"1900-01-01","Q1","1900-03-31","Region 2","Operating Expense","Administrative Expense","Administrative","4.2","Administrative Services",{"v":0,"d":"$0.00"},{"v":0,"d":"$0.00"},{"v":0,"d":"$0.00"},{"v":0,"d":"$0.00"},{"v":0,"d":"$0.00"},{"v":0,"d":"$0.00"},{"$f":"file_name","v":"ASR-Dental_Financial_Report_SMMC_03.21.23"},{"$f":"file_date","v":"2023-03-21"},{"$f":"status","v":"Unaudited"}]
["Dental","DEF","Default",1900,"1900-01-01","Q1","1900-03-31","Region 2","Operating Expense","Administrative Expense","Administrative","4.3","Information Systems",{"v":0,"d":"$0.00"},{"v":0,"d":"$0.00"},{"v":0,"d":"$0.00"},{"v":0,"d":"$0.00"},{"v":0,"d":"$0.00"},{"v":0,"d":"$0.00"},"ASR-Dental_Financial_Report_SMMC_03.21.23","2023-03-21","Unaudited"]
["Dental","DEF","Default",1900,"1900-01-01","Q1","1900-03-31","Region 2","Operating Expense","Administrative Expense","Administrative","4.4","Marketing Expenses",{"v":0,"d":"$0.00"},{"v":0,"d":"$0.00"},{"v":0,"d":"$0.00"},{"v":0,"d":"$0.00"},{"v":0,"d":"$0.00"},{"v":0,"d":"$0.00"},"ASR-Dental_Financial_Report_SMMC_03.21.23","2023-03-21","Unaudited"]
["Dental","DEF","Default",1900,"1900-01-01","Q1","1900-03-31","Region 2","Operating Expense","Administrative Expense","Administrative","4.5","General  Administration",{"v":0,"d":"$0.00"},{"v":0,"d":"$0.00"},{"v":0,"d":"$0.00"},{"v":0,"d":"$0.00"},{"v":0,"d":"$0.00"},{"v":0,"d":"$0.00"},"ASR-Dental_Financial_Report_SMMC_03.21.23","2023-03-21","Unaudited"]
["Dental","DEF","Default",1900,"1900-01-01","Q1","1900-03-31","Region 2","Operating Expense","Administrative Expense","Administrative","4.6","Compliance/Regulatory",{"v":0,"d":"$0.00"},{"v":0,"d":"$0.00"},{"v":0,"d":"$0.00"},{"v":0,"d":"$0.00"},{"v":0,"d":"$0.00"},{"v":0,"d":"$0.00"},"ASR-Dental_Financial_Report_SMMC_03.21.23","2023-03-21","Unaudited"]
["Dental","DEF","Default",1900,"1900-01-01","Q1","1900-03-31","Region 2","Operating Expense","Taxes & Fees","Taxes & Fees","5.1","State Premium tax",{"v":0,"d":"$0.00"},{"v":0,"d":"$0.00"},{"v":0,"d":"$0.00"},{"v":0,"d":"$0.00"},{"v":0,"d":"$0.00"},{"v":0,"d":"$0.00"},"ASR-Dental_Financial_Report_SMMC_03.21.23","2023-03-21","Unaudited"]
["Dental","DEF","Default",1900,"1900-01-01","Q1","1900-03-31","Region 2","Operating Expense","Taxes & Fees","Taxes & Fees","5.2","Department of Insurance Assessments",{"$f":"IF(OR(AND($F392=\"PY\",N$1<>\"Prior Year\"),AND($F392<>\"PY\",N$1=\"Prior Year\")),0,INDEX(INDIRECT(\"'Dental Rev-Exp \"&$H392&\"'!$A$1:$CA$200\"),IF($J392=\"Member Months\",MATCH($J392,INDIRECT(\"'Dental Rev-Exp \"&$H392&\"'!$A$1:$A$200\"),0),MATCH($L392,INDIRECT(\"'Dental Rev-Exp \"&$H392&\"'!$B$1:$B$200\"),0)),IF($F392=\"PY\",MATCH(\"Prior Year Adjustments\",INDIRECT(\"'Dental Rev-Exp \"&$H392&\"'!$A$8:$CA$8\"),0),MATCH(IF($F392=\"Q1\",\"JANUARY - MARCH (Q1)\",IF($F392=\"Q2\",\"APRIL - JUNE (Q2)\",IF($F392=\"Q3\",\"JULY - SEPTEMBER (Q3)\",IF($F392=\"Q4\",\"OCTOBER - DECEMBER (Q4)\",0)))),INDIRECT(\"'Dental Rev-Exp \"&$H392&\"'!$A$7:$CA$7\"),0)+MATCH(N$1,INDIRECT(\"'Dental Rev-Exp \"&$H392&\"'!$D$8:$CA$8\"),0)-1)))","v":{"v":0,"d":"$0.00"}},{"v":0,"d":"$0.00"},{"v":0,"d":"$0.00"},{"v":0,"d":"$0.00"},{"v":0,"d":"$0.00"},{"v":0,"d":"$0.00"},"ASR-Dental_Financial_Report_SMMC_03.21.23","2023-03-21","Unaudited"]
["Dental","DEF","Default",1900,"1900-01-01","Q1","1900-03-31","Region 2","Operating Expense","Taxes & Fees","Taxes & Fees","5.3","Section 9010 Health Insurance Providers Fee",{"v":0,"d":"$0.00"},{"v":0,"d":"$0.00"},{"v":0,"d":"$0.00"},{"v":0,"d":"$0.00"},{"v":0,"d":"$0.00"},{"v":0,"d":"$0.00"},"ASR-Dental_Financial_Report_SMMC_03.21.23","2023-03-21","Unaudited"]
["Dental","DEF","Default",1900,"1900-01-01","Q1","1900-03-31","Region 2","Operating Expense","Taxes & Fees","Taxes & Fees","5.4","Other 1",{"v":0,"d":"$0.00"},{"v":0,"d":"$0.00"},{"v":0,"d":"$0.00"},{"v":0,"d":"$0.00"},{"v":0,"d":"$0.00"},{"v":0,"d":"$0.00"},"ASR-Dental_Financial_Report_SMMC_03.21.23","2023-03-21","Unaudited"]
["Dental","DEF","Default",1900,"1900-01-01","Q1","1900-03-31","Region 2","Operating Expense","Taxes & Fees","Taxes & Fees","5.5","Other 2",{"v":0,"d":"$0.00"},{"v":0,"d":"$0.00"},{"v":0,"d":"$0.00"},{"v":0,"d":"$0.00"},{"v":0,"d":"$0.00"},{"v":0,"d":"$0.00"},"ASR-Dental_Financial_Report_SMMC_03.21.23","2023-03-21","Unaudited"]
["Dental","DEF","Default",1900,"1900-01-01","Q1","1900-03-31","Region 2","Operating Expense","Taxes & Fees","Taxes & Fees","5.6","Other 3",{"v":0,"d":"$0.00"},{"v":0,"d":"$0.00"},{"v":0,"d":"$0.00"},{"v":0,"d":"$0.00"},{"v":0,"d":"$0.00"},{"v":0,"d":"$0.00"},"ASR-Dental_Financial_Report_SMMC_03.21.23","2023-03-21","Unaudited"]
["Dental","DEF","Default",1900,"1900-01-01","Q1","1900-03-31","Region 2","Non-Operating Expense","Income Tax Expense","Income Tax Expense","8.0","Income Tax Expense",{"v":0,"d":"$0.00"},{"v":0,"d":"$0.00"},{"v":0,"d":"$0.00"},{"v":0,"d":"$0.00"},{"v":0,"d":"$0.00"},{"v":0,"d":"$0.00"},"ASR-Dental_Financial_Report_SMMC_03.21.23","2023-03-21","Unaudited"]
["Dental","DEF","Default",1900,"1900-01-01","Q2","1900-06-30","Region 2","Member Months","Member Months","Member Months",null,"Member Months",{"v":0,"d":"$0.00"},{"v":0,"d":"$0.00"},{"v":0,"d":"$0.00"},{"v":0,"d":"$0.00"},{"v":0,"d":"$0.00"},{"v":0,"d":"$0.00"},"ASR-Dental_Financial_Report_SMMC_03.21.23","2023-03-21","Unaudited"]
["Dental","DEF","Default",1900,"1900-01-01","Q2","1900-06-30","Region 2","Operating Revenue","Capitation","Capitation","1.1","Capitation",{"v":0,"d":"$0.00"},{"v":0,"d":"$0.00"},{"v":0,"d":"$0.00"},{"v":0,"d":"$0.00"},{"v":0,"d":"$0.00"},{"v":0,"d":"$0.00"},"ASR-Dental_Financial_Report_SMMC_03.21.23","2023-03-21","Unaudited"]
["Dental","DEF","Default",1900,"1900-01-01","Q2","1900-06-30","Region 2","Operating Revenue","Other Revenue","Other Revenue - 9010","1.2","ACA § 9010 related payments",{"v":0,"d":"$0.00"},{"v":0,"d":"$0.00"},{"v":0,"d":"$0.00"},{"v":0,"d":"$0.00"},{"v":0,"d":"$0.00"},{"v":0,"d":"$0.00"},"ASR-Dental_Financial_Report_SMMC_03.21.23","2023-03-21","Unaudited"]
["Dental","DEF","Default",1900,"1900-01-01","Q2","1900-06-30","Region 2","Operating Revenue","Other Revenue","Other Revenue","1.3","Other Revenue",{"v":0,"d":"$0.00"},{"v":0,"d":"$0.00"},{"v":0,"d":"$0.00"},{"v":0,"d":"$0.00"},{"v":0,"d":"$0.00"},{"v":0,"d":"$0.00"},"ASR-Dental_Financial_Report_SMMC_03.21.23","2023-03-21","Unaudited"]
["Dental","DEF","Default",1900,"1900-01-01","Q2","1900-06-30","Region 2","Operating Expense","Medical Expense","Dental Services","2.1","Dental Services Diagnostic",{"$f":"IF(OR(AND($F402=\"PY\",N$1<>\"Prior Year\"),AND($F402<>\"PY\",N$1=\"Prior Year\")),0,INDEX(INDIRECT(\"'Dental Rev-Exp \"&$H402&\"'!$A$1:$CA$200\"),IF($J402=\"Member Months\",MATCH($J402,INDIRECT(\"'Dental Rev-Exp \"&$H402&\"'!$A$1:$A$200\"),0),MATCH($L402,INDIRECT(\"'Dental Rev-Exp \"&$H402&\"'!$B$1:$B$200\"),0)),IF($F402=\"PY\",MATCH(\"Prior Year Adjustments\",INDIRECT(\"'Dental Rev-Exp \"&$H402&\"'!$A$8:$CA$8\"),0),MATCH(IF($F402=\"Q1\",\"JANUARY - MARCH (Q1)\",IF($F402=\"Q2\",\"APRIL - JUNE (Q2)\",IF($F402=\"Q3\",\"JULY - SEPTEMBER (Q3)\",IF($F402=\"Q4\",\"OCTOBER - DECEMBER (Q4)\",0)))),INDIRECT(\"'Dental Rev-Exp \"&$H402&\"'!$A$7:$CA$7\"),0)+MATCH(N$1,INDIRECT(\"'Dental Rev-Exp \"&$H402&\"'!$D$8:$CA$8\"),0)-1)))","v":{"v":0,"d":"$0.00"}},{"v":0,"d":"$0.00"},{"v":0,"d":"$0.00"},{"v":0,"d":"$0.00"},{"v":0,"d":"$0.00"},{"v":0,"d":"$0.00"},"ASR-Dental_Financial_Report_SMMC_03.21.23","2023-03-21","Unaudited"]
["Dental","DEF","Default",1900,"1900-01-01","Q2","1900-06-30","Region 2","Operating Expense","Medical Expense","Dental Services",2.2,"Dental Services Preventive",{"v":0,"d":"$0.00"},{"v":0,"d":"$0.00"},{"v":0,"d":"$0.00"},{"v":0,"d":"$0.00"},{"v":0,"d":"$0.00"},{"v":0,"d":"$0.00"},"ASR-Dental_Financial_Report_SMMC_03.21.23","2023-03-21","Unaudited"]
["Dental","DEF","Default",1900,"1900-01-01","Q2","1900-06-30","Region 2","Operating Expense","Medical Expense","Dental Services","2.3","Dental Services Restorative",{"v":0,"d":"$0.00"},{"v":0,"d":"$0.00"},{"v":0,"d":"$0.00"},{"v":0,"d":"$0.00"},{"v":0,"d":"$0.00"},{"v":0,"d":"$0.00"},"ASR-Dental_Financial_Report_SMMC_03.21.23","2023-03-21","Unaudited"]
["Dental","DEF","Default",1900,"1900-01-01","Q2","1900-06-30","Region 2","Operating Expense","Medical Expense","Dental Services","2.4","Dental Services Endodontics",{"v":0,"d":"$0.00"},{"v":0,"d":"$0.00"},{"v":0,"d":"$0.00"},{"v":0,"d":"$0.00"},{"v":0,"d":"$0.00"},{"v":0,"d":"$0.00"},"ASR-Dental_Financial_Report_SMMC_03.21.23","2023-03-21","Unaudited"]
["Dental","DEF","Default",1900,"1900-01-01","Q2","1900-06-30","Region 2","Operating Expense","Medical Expense","Dental Services","2.5","Dental Services Periodontics",{"v":0,"d":"$0.00"},{"v":0,"d":"$0.00"},{"v":0,"d":"$0.00"},{"v":0,"d":"$0.00"},{"v":0,"d":"$0.00"},{"v":0,"d":"$0.00"},"ASR-Dental_Financial_Report_SMMC_03.21.23","2023-03-21","Unaudited"]
["Dental","DEF","Default",1900,"1900-01-01","Q2","1900-06-30","Region 2","Operating Expense","Medical Expense","Dental Services","2.6","Dental Services Prosthodontics",{"v":0,"d":"$0.00"},{"v":0,"d":"$0.00"},{"v":0,"d":"$0.00"},{"v":0,"d":"$0.00"},{"v":0,"d":"$0.00"},{"v":0,"d":"$0.00"},"ASR-Dental_Financial_Report_SMMC_03.21.23","2023-03-21","Unaudited"]
["Dental","DEF","Default",1900,"1900-01-01","Q2","1900-06-30","Region 2","Operating Expense","Medical Expense","Dental Services","2.7","Dental Services Prosthodontics, fixed",{"v":0,"d":"$0.00"},{"v":0,"d":"$0.00"},{"v":0,"d":"$0.00"},{"v":0,"d":"$0.00"},{"v":0,"d":"$0.00"},{"v":0,"d":"$0.00"},"ASR-Dental_Financial_Report_SMMC_03.21.23","2023-03-21","Unaudited"]
["Dental","DEF","Default",1900,"1900-01-01","Q2","1900-06-30","Region 2","Operating Expense","Medical Expense","Dental Services","2.8","Dental Services Oral and Maxillofacial Surgery",{"v":0,"d":"$0.00"},{"v":0,"d":"$0.00"},{"v":0,"d":"$0.00"},{"v":0,"d":"$0.00"},{"v":0,"d":"$0.00"},{"v":0,"d":"$0.00"},"ASR-Dental_Financial_Report_SMMC_03.21.23","2023-03-21","Unaudited"]
["Dental","DEF","Default",1900,"1900-01-01","Q2","1900-06-30","Region 2","Operating Expense","Medical Expense","Dental Services","2.9","Dental Services Orthodontics",{"v":0,"d":"$0.00"},{"v":0,"d":"$0.00"},{"v":0,"d":"$0.00"},{"v":0,"d":"$0.00"},{"v":0,"d":"$0.00"},{"v":0,"d":"$0.00"},"ASR-Dental_Financial_Report_SMMC_03.21.23","2023-03-21","Unaudited"]
["Dental","DEF","Default",1900,"1900-01-01","Q2","1900-06-30","Region 2","Operating Expense","Medical Expense","Dental Services","2.10","Dental Services Adjunctive General Services",{"v":0,"d":"$0.00"},{"v":0,"d":"$0.00"},{"v":0,"d":"$0.00"},{"v":0,"d":"$0.00"},{"v":0,"d":"$0.00"},{"v":0,"d":"$0.00"},"ASR-Dental_Financial_Report_SMMC_03.21.23","2023-03-21","Unaudited"]
["Dental","DEF","Default",1900,"1900-01-01","Q2","1900-06-30","Region 2","Operating Expense","Medical Expense","Dental Services","2.11","Dental Services Other",{"$f":"IF(OR(AND($F412=\"PY\",N$1<>\"Prior Year\"),AND($F412<>\"PY\",N$1=\"Prior Year\")),0,INDEX(INDIRECT(\"'Dental Rev-Exp \"&$H412&\"'!$A$1:$CA$200\"),IF($J412=\"Member Months\",MATCH($J412,INDIRECT(\"'Dental Rev-Exp \"&$H412&\"'!$A$1:$A$200\"),0),MATCH($L412,INDIRECT(\"'Dental Rev-Exp \"&$H412&\"'!$B$1:$B$200\"),0)),IF($F412=\"PY\",MATCH(\"Prior Year Adjustments\",INDIRECT(\"'Dental Rev-Exp \"&$H412&\"'!$A$8:$CA$8\"),0),MATCH(IF($F412=\"Q1\",\"JANUARY - MARCH (Q1)\",IF($F412=\"Q2\",\"APRIL - JUNE (Q2)\",IF($F412=\"Q3\",\"JULY - SEPTEMBER (Q3)\",IF($F412=\"Q4\",\"OCTOBER - DECEMBER (Q4)\",0)))),INDIRECT(\"'Dental Rev-Exp \"&$H412&\"'!$A$7:$CA$7\"),0)+MATCH(N$1,INDIRECT(\"'Dental Rev-Exp \"&$H412&\"'!$D$8:$CA$8\"),0)-1)))","v":{"v":0,"d":"$0.00"}},{"v":0,"d":"$0.00"},{"v":0,"d":"$0.00"},{"v":0,"d":"$0.00"},{"v":0,"d":"$0.00"},{"v":0,"d":"$0.00"},"ASR-Dental_Financial_Report_SMMC_03.21.23","2023-03-21","Unaudited"]
["Dental","DEF","Default",1900,"1900-01-01","Q2","1900-06-30","Region 2","Operating Expense","Medical Expense","Expanded Benefits","2.12","Dental Expanded Benefits",{"v":0,"d":"$0.00"},{"v":0,"d":"$0.00"},{"v":0,"d":"$0.00"},{"v":0,"d":"$0.00"},{"v":0,"d":"$0.00"},{"v":0,"d":"$0.00"},"ASR-Dental_Financial_Report_SMMC_03.21.23","2023-03-21","Unaudited"]
["Dental","DEF","Default",1900,"1900-01-01","Q2","1900-06-30","Region 2","Operating Expense","Medical Expense","Dental Services","2.13","Dental Services Paid through Subcapitation",{"v":0,"d":"$0.00"},{"v":0,"d":"$0.00"},{"v":0,"d":"$0.00"},{"v":0,"d":"$0.00"},{"v":0,"d":"$0.00"},{"v":0,"d":"$0.00"},"ASR-Dental_Financial_Report_SMMC_03.21.23","2023-03-21","Unaudited"]
["Dental","DEF","Default",1900,"1900-01-01","Q2","1900-06-30","Region 2","Operating Expense","Medical Expense","Dental Services","2.14","Ending IBNP for Dental Services",{"v":0,"d":"$0.00"},{"v":0,"d":"$0.00"},{"v":0,"d":"$0.00"},{"v":0,"d":"$0.00"},{"v":0,"d":"$0.00"},{"v":0,"d":"$0.00"},"ASR-Dental_Financial_Report_SMMC_03.21.23","2023-03-21","Unaudited"]
["Dental","DEF","Default",1900,"1900-01-01","Q2","1900-06-30","Region 2","Operating Expense","Medical Expense","Dental Services","2.15","Dental Settlements/AP",{"v":0,"d":"$0.00"},{"v":0,"d":"$0.00"},{"v":0,"d":"$0.00"},{"v":0,"d":"$0.00"},{"v":0,"d":"$0.00"},{"v":0,"d":"$0.00"},"ASR-Dental_Financial_Report_SMMC_03.21.23","2023-03-21","Unaudited"]
["Dental","DEF","Default",1900,"1900-01-01","Q2","1900-06-30","Region 2","Operating Expense","Medical Expense","Other Medical","3.5","TPL & Fraud/Abuse Recoveries",{"v":0,"d":"$0.00"},{"v":0,"d":"$0.00"},{"v":0,"d":"$0.00"},{"v":0,"d":"$0.00"},{"v":0,"d":"$0.00"},{"v":0,"d":"$0.00"},"ASR-Dental_Financial_Report_SMMC_03.21.23","2023-03-21","Unaudited"]
["Dental","DEF","Default",1900,"1900-01-01","Q2","1900-06-30","Region 2","Operating Expense","Medical Expense","Other Medical",3.6,"Premium Deficiency Reserve",{"v":0,"d":"$0.00"},{"v":0,"d":"$0.00"},{"v":0,"d":"$0.00"},{"v":0,"d":"$0.00"},{"v":0,"d":"$0.00"},{"v":0,"d":"$0.00"},"ASR-Dental_Financial_Report_SMMC_03.21.23","2023-03-21","Unaudited"]
["Dental","DEF","Default",1900,"1900-01-01","Q2","1900-06-30","Region 2","Operating Expense","Medical Expense","Other Medical","3.8","Reinsurance Premiums",{"v":0,"d":"$0.00"},{"v":0,"d":"$0.00"},{"v":0,"d":"$0.00"},{"v":0,"d":"$0.00"},{"v":0,"d":"$0.00"},{"v":0,"d":"$0.00"},"ASR-Dental_Financial_Report_SMMC_03.21.23","2023-03-21","Unaudited"]
["Dental","DEF","Default",1900,"1900-01-01","Q2","1900-06-30","Region 2","Operating Expense","Medical Expense","Other Medical","3.9","Reinsurance Recoveries",{"v":0,"d":"$0.00"},{"v":0,"d":"$0.00"},{"v":0,"d":"$0.00"},{"v":0,"d":"$0.00"},{"v":0,"d":"$0.00"},{"v":0,"d":"$0.00"},"ASR-Dental_Financial_Report_SMMC_03.21.23","2023-03-21","Unaudited"]
["Dental","DEF","Default",1900,"1900-01-01","Q2","1900-06-30","Region 2","Operating Expense","Administrative Expense","Administrative","4.1","Salaries & Benefits",{"v":0,"d":"$0.00"},{"v":0,"d":"$0.00"},{"v":0,"d":"$0.00"},{"v":0,"d":"$0.00"},{"v":0,"d":"$0.00"},{"v":0,"d":"$0.00"},"ASR-Dental_Financial_Report_SMMC_03.21.23","2023-03-21","Unaudited"]
["Dental","DEF","Default",1900,"1900-01-01","Q2","1900-06-30","Region 2","Operating Expense","Administrative Expense","Administrative","4.2","Administrative Services",{"$f":"IF(OR(AND($F422=\"PY\",N$1<>\"Prior Year\"),AND($F422<>\"PY\",N$1=\"Prior Year\")),0,INDEX(INDIRECT(\"'Dental Rev-Exp \"&$H422&\"'!$A$1:$CA$200\"),IF($J422=\"Member Months\",MATCH($J422,INDIRECT(\"'Dental Rev-Exp \"&$H422&\"'!$A$1:$A$200\"),0),MATCH($L422,INDIRECT(\"'Dental Rev-Exp \"&$H422&\"'!$B$1:$B$200\"),0)),IF($F422=\"PY\",MATCH(\"Prior Year Adjustments\",INDIRECT(\"'Dental Rev-Exp \"&$H422&\"'!$A$8:$CA$8\"),0),MATCH(IF($F422=\"Q1\",\"JANUARY - MARCH (Q1)\",IF($F422=\"Q2\",\"APRIL - JUNE (Q2)\",IF($F422=\"Q3\",\"JULY - SEPTEMBER (Q3)\",IF($F422=\"Q4\",\"OCTOBER - DECEMBER (Q4)\",0)))),INDIRECT(\"'Dental Rev-Exp \"&$H422&\"'!$A$7:$CA$7\"),0)+MATCH(N$1,INDIRECT(\"'Dental Rev-Exp \"&$H422&\"'!$D$8:$CA$8\"),0)-1)))","v":{"v":0,"d":"$0.00"}},{"v":0,"d":"$0.00"},{"v":0,"d":"$0.00"},{"v":0,"d":"$0.00"},{"v":0,"d":"$0.00"},{"v":0,"d":"$0.00"},"ASR-Dental_Financial_Report_SMMC_03.21.23","2023-03-21","Unaudited"]
["Dental","DEF","Default",1900,"1900-01-01","Q2","1900-06-30","Region 2","Operating Expense","Administrative Expense","Administrative","4.3","Information Systems",{"v":0,"d":"$0.00"},{"v":0,"d":"$0.00"},{"v":0,"d":"$0.00"},{"v":0,"d":"$0.00"},{"v":0,"d":"$0.00"},{"v":0,"d":"$0.00"},"ASR-Dental_Financial_Report_SMMC_03.21.23","2023-03-21","Unaudited"]
["Dental","DEF","Default",1900,"1900-01-01","Q2","1900-06-30","Region 2","Operating Expense","Administrative Expense","Administrative","4.4","Marketing Expenses",{"v":0,"d":"$0.00"},{"v":0,"d":"$0.00"},{"v":0,"d":"$0.00"},{"v":0,"d":"$0.00"},{"v":0,"d":"$0.00"},{"v":0,"d":"$0.00"},"ASR-Dental_Financial_Report_SMMC_03.21.23","2023-03-21","Unaudited"]
["Dental","DEF","Default",1900,"1900-01-01","Q2","1900-06-30","Region 2","Operating Expense","Administrative Expense","Administrative","4.5","General  Administration",{"v":0,"d":"$0.00"},{"v":0,"d":"$0.00"},{"v":0,"d":"$0.00"},{"v":0,"d":"$0.00"},{"v":0,"d":"$0.00"},{"v":0,"d":"$0.00"},"ASR-Dental_Financial_Report_SMMC_03.21.23","2023-03-21","Unaudited"]
["Dental","DEF","Default",1900,"1900-01-01","Q2","1900-06-30","Region 2","Operating Expense","Administrative Expense","Administrative","4.6","Compliance/Regulatory",{"v":0,"d":"$0.00"},{"v":0,"d":"$0.00"},{"v":0,"d":"$0.00"},{"v":0,"d":"$0.00"},{"v":0,"d":"$0.00"},{"v":0,"d":"$0.00"},"ASR-Dental_Financial_Report_SMMC_03.21.23","2023-03-21","Unaudited"]
["Dental","DEF","Default",1900,"1900-01-01","Q2","1900-06-30","Region 2","Operating Expense","Taxes & Fees","Taxes & Fees","5.1","State Premium tax",{"v":0,"d":"$0.00"},{"v":0,"d":"$0.00"},{"v":0,"d":"$0.00"},{"v":0,"d":"$0.00"},{"v":0,"d":"$0.00"},{"v":0,"d":"$0.00"},"ASR-Dental_Financial_Report_SMMC_03.21.23","2023-03-21","Unaudited"]
["Dental","DEF","Default",1900,"1900-01-01","Q2","1900-06-30","Region 2","Operating Expense","Taxes & Fees","Taxes & Fees","5.2","Department of Insurance Assessments",{"v":0,"d":"$0.00"},{"v":0,"d":"$0.00"},{"v":0,"d":"$0.00"},{"v":0,"d":"$0.00"},{"v":0,"d":"$0.00"},{"v":0,"d":"$0.00"},"ASR-Dental_Financial_Report_SMMC_03.21.23","2023-03-21","Unaudited"]
["Dental","DEF","Default",1900,"1900-01-01","Q2","1900-06-30","Region 2","Operating Expense","Taxes & Fees","Taxes & Fees","5.3","Section 9010 Health Insurance Providers Fee",{"v":0,"d":"$0.00"},{"v":0,"d":"$0.00"},{"v":0,"d":"$0.00"},{"v":0,"d":"$0.00"},{"v":0,"d":"$0.00"},{"v":0,"d":"$0.00"},"ASR-Dental_Financial_Report_SMMC_03.21.23","2023-03-21","Unaudited"]
["Dental","DEF","Default",1900,"1900-01-01","Q2","1900-06-30","Region 2","Operating Expense","Taxes & Fees","Taxes & Fees","5.4","Other 1",{"v":0,"d":"$0.00"},{"v":0,"d":"$0.00"},{"v":0,"d":"$0.00"},{"v":0,"d":"$0.00"},{"v":0,"d":"$0.00"},{"v":0,"d":"$0.00"},"ASR-Dental_Financial_Report_SMMC_03.21.23","2023-03-21","Unaudited"]
["Dental","DEF","Default",1900,"1900-01-01","Q2","1900-06-30","Region 2","Operating Expense","Taxes & Fees","Taxes & Fees","5.5","Other 2",{"v":0,"d":"$0.00"},{"v":0,"d":"$0.00"},{"v":0,"d":"$0.00"},{"v":0,"d":"$0.00"},{"v":0,"d":"$0.00"},{"v":0,"d":"$0.00"},"ASR-Dental_Financial_Report_SMMC_03.21.23","2023-03-21","Unaudited"]
["Dental","DEF","Default",1900,"1900-01-01","Q2","1900-06-30","Region 2","Operating Expense","Taxes & Fees","Taxes & Fees","5.6","Other 3",{"$f":"IF(OR(AND($F432=\"PY\",N$1<>\"Prior Year\"),AND($F432<>\"PY\",N$1=\"Prior Year\")),0,INDEX(INDIRECT(\"'Dental Rev-Exp \"&$H432&\"'!$A$1:$CA$200\"),IF($J432=\"Member Months\",MATCH($J432,INDIRECT(\"'Dental Rev-Exp \"&$H432&\"'!$A$1:$A$200\"),0),MATCH($L432,INDIRECT(\"'Dental Rev-Exp \"&$H432&\"'!$B$1:$B$200\"),0)),IF($F432=\"PY\",MATCH(\"Prior Year Adjustments\",INDIRECT(\"'Dental Rev-Exp \"&$H432&\"'!$A$8:$CA$8\"),0),MATCH(IF($F432=\"Q1\",\"JANUARY - MARCH (Q1)\",IF($F432=\"Q2\",\"APRIL - JUNE (Q2)\",IF($F432=\"Q3\",\"JULY - SEPTEMBER (Q3)\",IF($F432=\"Q4\",\"OCTOBER - DECEMBER (Q4)\",0)))),INDIRECT(\"'Dental Rev-Exp \"&$H432&\"'!$A$7:$CA$7\"),0)+MATCH(N$1,INDIRECT(\"'Dental Rev-Exp \"&$H432&\"'!$D$8:$CA$8\"),0)-1)))","v":{"v":0,"d":"$0.00"}},{"v":0,"d":"$0.00"},{"v":0,"d":"$0.00"},{"v":0,"d":"$0.00"},{"v":0,"d":"$0.00"},{"v":0,"d":"$0.00"},"ASR-Dental_Financial_Report_SMMC_03.21.23","2023-03-21","Unaudited"]
["Dental","DEF","Default",1900,"1900-01-01","Q2","1900-06-30","Region 2","Non-Operating Expense","Income Tax Expense","Income Tax Expense","8.0","Income Tax Expense",{"v":0,"d":"$0.00"},{"v":0,"d":"$0.00"},{"v":0,"d":"$0.00"},{"v":0,"d":"$0.00"},{"v":0,"d":"$0.00"},{"v":0,"d":"$0.00"},"ASR-Dental_Financial_Report_SMMC_03.21.23","2023-03-21","Unaudited"]
["Dental","DEF","Default",1900,"1900-01-01","Q3","1900-09-30","Region 2","Member Months","Member Months","Member Months",null,"Member Months",{"v":0,"d":"$0.00"},{"v":0,"d":"$0.00"},{"v":0,"d":"$0.00"},{"v":0,"d":"$0.00"},{"v":0,"d":"$0.00"},{"v":0,"d":"$0.00"},"ASR-Dental_Financial_Report_SMMC_03.21.23","2023-03-21","Unaudited"]
["Dental","DEF","Default",1900,"1900-01-01","Q3","1900-09-30","Region 2","Operating Revenue","Capitation","Capitation","1.1","Capitation",{"v":0,"d":"$0.00"},{"v":0,"d":"$0.00"},{"v":0,"d":"$0.00"},{"v":0,"d":"$0.00"},{"v":0,"d":"$0.00"},{"v":0,"d":"$0.00"},"ASR-Dental_Financial_Report_SMMC_03.21.23","2023-03-21","Unaudited"]
["Dental","DEF","Default",1900,"1900-01-01","Q3","1900-09-30","Region 2","Operating Revenue","Other Revenue","Other Revenue - 9010","1.2","ACA § 9010 related payments",{"v":0,"d":"$0.00"},{"v":0,"d":"$0.00"},{"v":0,"d":"$0.00"},{"v":0,"d":"$0.00"},{"v":0,"d":"$0.00"},{"v":0,"d":"$0.00"},"ASR-Dental_Financial_Report_SMMC_03.21.23","2023-03-21","Unaudited"]
["Dental","DEF","Default",1900,"1900-01-01","Q3","1900-09-30","Region 2","Operating Revenue","Other Revenue","Other Revenue","1.3","Other Revenue",{"v":0,"d":"$0.00"},{"v":0,"d":"$0.00"},{"v":0,"d":"$0.00"},{"v":0,"d":"$0.00"},{"v":0,"d":"$0.00"},{"v":0,"d":"$0.00"},"ASR-Dental_Financial_Report_SMMC_03.21.23","2023-03-21","Unaudited"]
["Dental","DEF","Default",1900,"1900-01-01","Q3","1900-09-30","Region 2","Operating Expense","Medical Expense","Dental Services","2.1","Dental Services Diagnostic",{"v":0,"d":"$0.00"},{"v":0,"d":"$0.00"},{"v":0,"d":"$0.00"},{"v":0,"d":"$0.00"},{"v":0,"d":"$0.00"},{"v":0,"d":"$0.00"},"ASR-Dental_Financial_Report_SMMC_03.21.23","2023-03-21","Unaudited"]
["Dental","DEF","Default",1900,"1900-01-01","Q3","1900-09-30","Region 2","Operating Expense","Medical Expense","Dental Services",2.2,"Dental Services Preventive",{"v":0,"d":"$0.00"},{"v":0,"d":"$0.00"},{"v":0,"d":"$0.00"},{"v":0,"d":"$0.00"},{"v":0,"d":"$0.00"},{"v":0,"d":"$0.00"},"ASR-Dental_Financial_Report_SMMC_03.21.23","2023-03-21","Unaudited"]
["Dental","DEF","Default",1900,"1900-01-01","Q3","1900-09-30","Region 2","Operating Expense","Medical Expense","Dental Services","2.3","Dental Services Restorative",{"v":0,"d":"$0.00"},{"v":0,"d":"$0.00"},{"v":0,"d":"$0.00"},{"v":0,"d":"$0.00"},{"v":0,"d":"$0.00"},{"v":0,"d":"$0.00"},"ASR-Dental_Financial_Report_SMMC_03.21.23","2023-03-21","Unaudited"]
["Dental","DEF","Default",1900,"1900-01-01","Q3","1900-09-30","Region 2","Operating Expense","Medical Expense","Dental Services","2.4","Dental Services Endodontics",{"v":0,"d":"$0.00"},{"v":0,"d":"$0.00"},{"v":0,"d":"$0.00"},{"v":0,"d":"$0.00"},{"v":0,"d":"$0.00"},{"v":0,"d":"$0.00"},"ASR-Dental_Financial_Report_SMMC_03.21.23","2023-03-21","Unaudited"]
["Dental","DEF","Default",1900,"1900-01-01","Q3","1900-09-30","Region 2","Operating Expense","Medical Expense","Dental Services","2.5","Dental Services Periodontics",{"$f":"IF(OR(AND($F442=\"PY\",N$1<>\"Prior Year\"),AND($F442<>\"PY\",N$1=\"Prior Year\")),0,INDEX(INDIRECT(\"'Dental Rev-Exp \"&$H442&\"'!$A$1:$CA$200\"),IF($J442=\"Member Months\",MATCH($J442,INDIRECT(\"'Dental Rev-Exp \"&$H442&\"'!$A$1:$A$200\"),0),MATCH($L442,INDIRECT(\"'Dental Rev-Exp \"&$H442&\"'!$B$1:$B$200\"),0)),IF($F442=\"PY\",MATCH(\"Prior Year Adjustments\",INDIRECT(\"'Dental Rev-Exp \"&$H442&\"'!$A$8:$CA$8\"),0),MATCH(IF($F442=\"Q1\",\"JANUARY - MARCH (Q1)\",IF($F442=\"Q2\",\"APRIL - JUNE (Q2)\",IF($F442=\"Q3\",\"JULY - SEPTEMBER (Q3)\",IF($F442=\"Q4\",\"OCTOBER - DECEMBER (Q4)\",0)))),INDIRECT(\"'Dental Rev-Exp \"&$H442&\"'!$A$7:$CA$7\"),0)+MATCH(N$1,INDIRECT(\"'Dental Rev-Exp \"&$H442&\"'!$D$8:$CA$8\"),0)-1)))","v":{"v":0,"d":"$0.00"}},{"v":0,"d":"$0.00"},{"v":0,"d":"$0.00"},{"v":0,"d":"$0.00"},{"v":0,"d":"$0.00"},{"v":0,"d":"$0.00"},"ASR-Dental_Financial_Report_SMMC_03.21.23","2023-03-21","Unaudited"]
["Dental","DEF","Default",1900,"1900-01-01","Q3","1900-09-30","Region 2","Operating Expense","Medical Expense","Dental Services","2.6","Dental Services Prosthodontics",{"v":0,"d":"$0.00"},{"v":0,"d":"$0.00"},{"v":0,"d":"$0.00"},{"v":0,"d":"$0.00"},{"v":0,"d":"$0.00"},{"v":0,"d":"$0.00"},"ASR-Dental_Financial_Report_SMMC_03.21.23","2023-03-21","Unaudited"]
["Dental","DEF","Default",1900,"1900-01-01","Q3","1900-09-30","Region 2","Operating Expense","Medical Expense","Dental Services","2.7","Dental Services Prosthodontics, fixed",{"v":0,"d":"$0.00"},{"v":0,"d":"$0.00"},{"v":0,"d":"$0.00"},{"v":0,"d":"$0.00"},{"v":0,"d":"$0.00"},{"v":0,"d":"$0.00"},"ASR-Dental_Financial_Report_SMMC_03.21.23","2023-03-21","Unaudited"]
["Dental","DEF","Default",1900,"1900-01-01","Q3","1900-09-30","Region 2","Operating Expense","Medical Expense","Dental Services","2.8","Dental Services Oral and Maxillofacial Surgery",{"v":0,"d":"$0.00"},{"v":0,"d":"$0.00"},{"v":0,"d":"$0.00"},{"v":0,"d":"$0.00"},{"v":0,"d":"$0.00"},{"v":0,"d":"$0.00"},"ASR-Dental_Financial_Report_SMMC_03.21.23","2023-03-21","Unaudited"]
["Dental","DEF","Default",1900,"1900-01-01","Q3","1900-09-30","Region 2","Operating Expense","Medical Expense","Dental Services","2.9","Dental Services Orthodontics",{"v":0,"d":"$0.00"},{"v":0,"d":"$0.00"},{"v":0,"d":"$0.00"},{"v":0,"d":"$0.00"},{"v":0,"d":"$0.00"},{"v":0,"d":"$0.00"},"ASR-Dental_Financial_Report_SMMC_03.21.23","2023-03-21","Unaudited"]
["Dental","DEF","Default",1900,"1900-01-01","Q3","1900-09-30","Region 2","Operating Expense","Medical Expense","Dental Services","2.10","Dental Services Adjunctive General Services",{"v":0,"d":"$0.00"},{"v":0,"d":"$0.00"},{"v":0,"d":"$0.00"},{"v":0,"d":"$0.00"},{"v":0,"d":"$0.00"},{"v":0,"d":"$0.00"},"ASR-Dental_Financial_Report_SMMC_03.21.23","2023-03-21","Unaudited"]
["Dental","DEF","Default",1900,"1900-01-01","Q3","1900-09-30","Region 2","Operating Expense","Medical Expense","Dental Services","2.11","Dental Services Other",{"v":0,"d":"$0.00"},{"v":0,"d":"$0.00"},{"v":0,"d":"$0.00"},{"v":0,"d":"$0.00"},{"v":0,"d":"$0.00"},{"v":0,"d":"$0.00"},"ASR-Dental_Financial_Report_SMMC_03.21.23","2023-03-21","Unaudited"]
["Dental","DEF","Default",1900,"1900-01-01","Q3","1900-09-30","Region 2","Operating Expense","Medical Expense","Expanded Benefits","2.12","Dental Expanded Benefits",{"v":0,"d":"$0.00"},{"v":0,"d":"$0.00"},{"v":0,"d":"$0.00"},{"v":0,"d":"$0.00"},{"v":0,"d":"$0.00"},{"v":0,"d":"$0.00"},"ASR-Dental_Financial_Report_SMMC_03.21.23","2023-03-21","Unaudited"]
["Dental","DEF","Default",1900,"1900-01-01","Q3","1900-09-30","Region 2","Operating Expense","Medical Expense","Dental Services","2.13","Dental Services Paid through Subcapitation",{"v":0,"d":"$0.00"},{"v":0,"d":"$0.00"},{"v":0,"d":"$0.00"},{"v":0,"d":"$0.00"},{"v":0,"d":"$0.00"},{"v":0,"d":"$0.00"},{"$f":"file_name","v":"ASR-Dental_Financial_Report_SMMC_03.21.23"},{"$f":"file_date","v":"2023-03-21"},{"$f":"status","v":"Unaudited"}]
["Dental","DEF","Default",1900,"1900-01-01","Q3","1900-09-30","Region 2","Operating Expense","Medical Expense","Dental Services","2.14","Ending IBNP for Dental Services",{"v":0,"d":"$0.00"},{"v":0,"d":"$0.00"},{"v":0,"d":"$0.00"},{"v":0,"d":"$0.00"},{"v":0,"d":"$0.00"},{"v":0,"d":"$0.00"},"ASR-Dental_Financial_Report_SMMC_03.21.23","2023-03-21","Unaudited"]
["Dental","DEF","Default",1900,"1900-01-01","Q3","1900-09-30","Region 2","Operating Expense","Medical Expense","Dental Services","2.15","Dental Settlements/AP",{"$f":"IF(OR(AND($F452=\"PY\",N$1<>\"Prior Year\"),AND($F452<>\"PY\",N$1=\"Prior Year\")),0,INDEX(INDIRECT(\"'Dental Rev-Exp \"&$H452&\"'!$A$1:$CA$200\"),IF($J452=\"Member Months\",MATCH($J452,INDIRECT(\"'Dental Rev-Exp \"&$H452&\"'!$A$1:$A$200\"),0),MATCH($L452,INDIRECT(\"'Dental Rev-Exp \"&$H452&\"'!$B$1:$B$200\"),0)),IF($F452=\"PY\",MATCH(\"Prior Year Adjustments\",INDIRECT(\"'Dental Rev-Exp \"&$H452&\"'!$A$8:$CA$8\"),0),MATCH(IF($F452=\"Q1\",\"JANUARY - MARCH (Q1)\",IF($F452=\"Q2\",\"APRIL - JUNE (Q2)\",IF($F452=\"Q3\",\"JULY - SEPTEMBER (Q3)\",IF($F452=\"Q4\",\"OCTOBER - DECEMBER (Q4)\",0)))),INDIRECT(\"'Dental Rev-Exp \"&$H452&\"'!$A$7:$CA$7\"),0)+MATCH(N$1,INDIRECT(\"'Dental Rev-Exp \"&$H452&\"'!$D$8:$CA$8\"),0)-1)))","v":{"v":0,"d":"$0.00"}},{"v":0,"d":"$0.00"},{"v":0,"d":"$0.00"},{"v":0,"d":"$0.00"},{"v":0,"d":"$0.00"},{"v":0,"d":"$0.00"},"ASR-Dental_Financial_Report_SMMC_03.21.23","2023-03-21","Unaudited"]
["Dental","DEF","Default",1900,"1900-01-01","Q3","1900-09-30","Region 2","Operating Expense","Medical Expense","Other Medical","3.5","TPL & Fraud/Abuse Recoveries",{"v":0,"d":"$0.00"},{"v":0,"d":"$0.00"},{"v":0,"d":"$0.00"},{"v":0,"d":"$0.00"},{"v":0,"d":"$0.00"},{"v":0,"d":"$0.00"},"ASR-Dental_Financial_Report_SMMC_03.21.23","2023-03-21","Unaudited"]
["Dental","DEF","Default",1900,"1900-01-01","Q3","1900-09-30","Region 2","Operating Expense","Medical Expense","Other Medical",3.6,"Premium Deficiency Reserve",{"v":0,"d":"$0.00"},{"v":0,"d":"$0.00"},{"v":0,"d":"$0.00"},{"v":0,"d":"$0.00"},{"v":0,"d":"$0.00"},{"v":0,"d":"$0.00"},"ASR-Dental_Financial_Report_SMMC_03.21.23","2023-03-21","Unaudited"]
["Dental","DEF","Default",1900,"1900-01-01","Q3","1900-09-30","Region 2","Operating Expense","Medical Expense","Other Medical","3.8","Reinsurance Premiums",{"v":0,"d":"$0.00"},{"v":0,"d":"$0.00"},{"v":0,"d":"$0.00"},{"v":0,"d":"$0.00"},{"v":0,"d":"$0.00"},{"v":0,"d":"$0.00"},"ASR-Dental_Financial_Report_SMMC_03.21.23","2023-03-21","Unaudited"]
["Dental","DEF","Default",1900,"1900-01-01","Q3","1900-09-30","Region 2","Operating Expense","Medical Expense","Other Medical","3.9","Reinsurance Recoveries",{"v":0,"d":"$0.00"},{"v":0,"d":"$0.00"},{"v":0,"d":"$0.00"},{"v":0,"d":"$0.00"},{"v":0,"d":"$0.00"},{"v":0,"d":"$0.00"},"ASR-Dental_Financial_Report_SMMC_03.21.23","2023-03-21","Unaudited"]
["Dental","DEF","Default",1900,"1900-01-01","Q3","1900-09-30","Region 2","Operating Expense","Administrative Expense","Administrative","4.1","Salaries & Benefits",{"v":0,"d":"$0.00"},{"v":0,"d":"$0.00"},{"v":0,"d":"$0.00"},{"v":0,"d":"$0.00"},{"v":0,"d":"$0.00"},{"v":0,"d":"$0.00"},"ASR-Dental_Financial_Report_SMMC_03.21.23","2023-03-21","Unaudited"]
["Dental","DEF","Default",1900,"1900-01-01","Q3","1900-09-30","Region 2","Operating Expense","Administrative Expense","Administrative","4.2","Administrative Services",{"v":0,"d":"$0.00"},{"v":0,"d":"$0.00"},{"v":0,"d":"$0.00"},{"v":0,"d":"$0.00"},{"v":0,"d":"$0.00"},{"v":0,"d":"$0.00"},"ASR-Dental_Financial_Report_SMMC_03.21.23","2023-03-21","Unaudited"]
["Dental","DEF","Default",1900,"1900-01-01","Q3","1900-09-30","Region 2","Operating Expense","Administrative Expense","Administrative","4.3","Information Systems",{"v":0,"d":"$0.00"},{"v":0,"d":"$0.00"},{"v":0,"d":"$0.00"},{"v":0,"d":"$0.00"},{"v":0,"d":"$0.00"},{"v":0,"d":"$0.00"},"ASR-Dental_Financial_Report_SMMC_03.21.23","2023-03-21","Unaudited"]
["Dental","DEF","Default",1900,"1900-01-01","Q3","1900-09-30","Region 2","Operating Expense","Administrative Expense","Administrative","4.4","Marketing Expenses",{"v":0,"d":"$0.00"},{"v":0,"d":"$0.00"},{"v":0,"d":"$0.00"},{"v":0,"d":"$0.00"},{"v":0,"d":"$0.00"},{"v":0,"d":"$0.00"},"ASR-Dental_Financial_Report_SMMC_03.21.23","2023-03-21","Unaudited"]
["Dental","DEF","Default",1900,"1900-01-01","Q3","1900-09-30","Region 2","Operating Expense","Administrative Expense","Administrative","4.5","General  Administration",{"v":0,"d":"$0.00"},{"v":0,"d":"$0.00"},{"v":0,"d":"$0.00"},{"v":0,"d":"$0.00"},{"v":0,"d":"$0.00"},{"v":0,"d":"$0.00"},"ASR-Dental_Financial_Report_SMMC_03.21.23","2023-03-21","Unaudited"]
["Dental","DEF","Default",1900,"1900-01-01","Q3","1900-09-30","Region 2","Operating Expense","Administrative Expense","Administrative","4.6","Compliance/Regulatory",{"$f":"IF(OR(AND($F462=\"PY\",N$1<>\"Prior Year\"),AND($F462<>\"PY\",N$1=\"Prior Year\")),0,INDEX(INDIRECT(\"'Dental Rev-Exp \"&$H462&\"'!$A$1:$CA$200\"),IF($J462=\"Member Months\",MATCH($J462,INDIRECT(\"'Dental Rev-Exp \"&$H462&\"'!$A$1:$A$200\"),0),MATCH($L462,INDIRECT(\"'Dental Rev-Exp \"&$H462&\"'!$B$1:$B$200\"),0)),IF($F462=\"PY\",MATCH(\"Prior Year Adjustments\",INDIRECT(\"'Dental Rev-Exp \"&$H462&\"'!$A$8:$CA$8\"),0),MATCH(IF($F462=\"Q1\",\"JANUARY - MARCH (Q1)\",IF($F462=\"Q2\",\"APRIL - JUNE (Q2)\",IF($F462=\"Q3\",\"JULY - SEPTEMBER (Q3)\",IF($F462=\"Q4\",\"OCTOBER - DECEMBER (Q4)\",0)))),INDIRECT(\"'Dental Rev-Exp \"&$H462&\"'!$A$7:$CA$7\"),0)+MATCH(N$1,INDIRECT(\"'Dental Rev-Exp \"&$H462&\"'!$D$8:$CA$8\"),0)-1)))","v":{"v":0,"d":"$0.00"}},{"v":0,"d":"$0.00"},{"v":0,"d":"$0.00"},{"v":0,"d":"$0.00"},{"v":0,"d":"$0.00"},{"v":0,"d":"$0.00"},"ASR-Dental_Financial_Report_SMMC_03.21.23","2023-03-21","Unaudited"]
["Dental","DEF","Default",1900,"1900-01-01","Q3","1900-09-30","Region 2","Operating Expense","Taxes & Fees","Taxes & Fees","5.1","State Premium tax",{"v":0,"d":"$0.00"},{"v":0,"d":"$0.00"},{"v":0,"d":"$0.00"},{"v":0,"d":"$0.00"},{"v":0,"d":"$0.00"},{"v":0,"d":"$0.00"},"ASR-Dental_Financial_Report_SMMC_03.21.23","2023-03-21","Unaudited"]
["Dental","DEF","Default",1900,"1900-01-01","Q3","1900-09-30","Region 2","Operating Expense","Taxes & Fees","Taxes & Fees","5.2","Department of Insurance Assessments",{"v":0,"d":"$0.00"},{"v":0,"d":"$0.00"},{"v":0,"d":"$0.00"},{"v":0,"d":"$0.00"},{"v":0,"d":"$0.00"},{"v":0,"d":"$0.00"},"ASR-Dental_Financial_Report_SMMC_03.21.23","2023-03-21","Unaudited"]
["Dental","DEF","Default",1900,"1900-01-01","Q3","1900-09-30","Region 2","Operating Expense","Taxes & Fees","Taxes & Fees","5.3","Section 9010 Health Insurance Providers Fee",{"v":0,"d":"$0.00"},{"v":0,"d":"$0.00"},{"v":0,"d":"$0.00"},{"v":0,"d":"$0.00"},{"v":0,"d":"$0.00"},{"v":0,"d":"$0.00"},"ASR-Dental_Financial_Report_SMMC_03.21.23","2023-03-21","Unaudited"]
["Dental","DEF","Default",1900,"1900-01-01","Q3","1900-09-30","Region 2","Operating Expense","Taxes & Fees","Taxes & Fees","5.4","Other 1",{"v":0,"d":"$0.00"},{"v":0,"d":"$0.00"},{"v":0,"d":"$0.00"},{"v":0,"d":"$0.00"},{"v":0,"d":"$0.00"},{"v":0,"d":"$0.00"},"ASR-Dental_Financial_Report_SMMC_03.21.23","2023-03-21","Unaudited"]
["Dental","DEF","Default",1900,"1900-01-01","Q3","1900-09-30","Region 2","Operating Expense","Taxes & Fees","Taxes & Fees","5.5","Other 2",{"v":0,"d":"$0.00"},{"v":0,"d":"$0.00"},{"v":0,"d":"$0.00"},{"v":0,"d":"$0.00"},{"v":0,"d":"$0.00"},{"v":0,"d":"$0.00"},"ASR-Dental_Financial_Report_SMMC_03.21.23","2023-03-21","Unaudited"]
["Dental","DEF","Default",1900,"1900-01-01","Q3","1900-09-30","Region 2","Operating Expense","Taxes & Fees","Taxes & Fees","5.6","Other 3",{"v":0,"d":"$0.00"},{"v":0,"d":"$0.00"},{"v":0,"d":"$0.00"},{"v":0,"d":"$0.00"},{"v":0,"d":"$0.00"},{"v":0,"d":"$0.00"},"ASR-Dental_Financial_Report_SMMC_03.21.23","2023-03-21","Unaudited"]
["Dental","DEF","Default",1900,"1900-01-01","Q3","1900-09-30","Region 2","Non-Operating Expense","Income Tax Expense","Income Tax Expense","8.0","Income Tax Expense",{"v":0,"d":"$0.00"},{"v":0,"d":"$0.00"},{"v":0,"d":"$0.00"},{"v":0,"d":"$0.00"},{"v":0,"d":"$0.00"},{"v":0,"d":"$0.00"},"ASR-Dental_Financial_Report_SMMC_03.21.23","2023-03-21","Unaudited"]
["Dental","DEF","Default",1900,"1900-01-01","Q4","1900-12-31","Region 2","Member Months","Member Months","Member Months",null,"Member Months",{"v":0,"d":"$0.00"},{"v":0,"d":"$0.00"},{"v":0,"d":"$0.00"},{"v":0,"d":"$0.00"},{"v":0,"d":"$0.00"},{"v":0,"d":"$0.00"},"ASR-Dental_Financial_Report_SMMC_03.21.23","2023-03-21","Unaudited"]
["Dental","DEF","Default",1900,"1900-01-01","Q4","1900-12-31","Region 2","Operating Revenue","Capitation","Capitation","1.1","Capitation",{"v":0,"d":"$0.00"},{"v":0,"d":"$0.00"},{"v":0,"d":"$0.00"},{"v":0,"d":"$0.00"},{"v":0,"d":"$0.00"},{"v":0,"d":"$0.00"},"ASR-Dental_Financial_Report_SMMC_03.21.23","2023-03-21","Unaudited"]
["Dental","DEF","Default",1900,"1900-01-01","Q4","1900-12-31","Region 2","Operating Revenue","Other Revenue","Other Revenue - 9010","1.2","ACA § 9010 related payments",{"$f":"IF(OR(AND($F472=\"PY\",N$1<>\"Prior Year\"),AND($F472<>\"PY\",N$1=\"Prior Year\")),0,INDEX(INDIRECT(\"'Dental Rev-Exp \"&$H472&\"'!$A$1:$CA$200\"),IF($J472=\"Member Months\",MATCH($J472,INDIRECT(\"'Dental Rev-Exp \"&$H472&\"'!$A$1:$A$200\"),0),MATCH($L472,INDIRECT(\"'Dental Rev-Exp \"&$H472&\"'!$B$1:$B$200\"),0)),IF($F472=\"PY\",MATCH(\"Prior Year Adjustments\",INDIRECT(\"'Dental Rev-Exp \"&$H472&\"'!$A$8:$CA$8\"),0),MATCH(IF($F472=\"Q1\",\"JANUARY - MARCH (Q1)\",IF($F472=\"Q2\",\"APRIL - JUNE (Q2)\",IF($F472=\"Q3\",\"JULY - SEPTEMBER (Q3)\",IF($F472=\"Q4\",\"OCTOBER - DECEMBER (Q4)\",0)))),INDIRECT(\"'Dental Rev-Exp \"&$H472&\"'!$A$7:$CA$7\"),0)+MATCH(N$1,INDIRECT(\"'Dental Rev-Exp \"&$H472&\"'!$D$8:$CA$8\"),0)-1)))","v":{"v":0,"d":"$0.00"}},{"v":0,"d":"$0.00"},{"v":0,"d":"$0.00"},{"v":0,"d":"$0.00"},{"v":0,"d":"$0.00"},{"v":0,"d":"$0.00"},"ASR-Dental_Financial_Report_SMMC_03.21.23","2023-03-21","Unaudited"]
["Dental","DEF","Default",1900,"1900-01-01","Q4","1900-12-31","Region 2","Operating Revenue","Other Revenue","Other Revenue","1.3","Other Revenue",{"v":0,"d":"$0.00"},{"v":0,"d":"$0.00"},{"v":0,"d":"$0.00"},{"v":0,"d":"$0.00"},{"v":0,"d":"$0.00"},{"v":0,"d":"$0.00"},"ASR-Dental_Financial_Report_SMMC_03.21.23","2023-03-21","Unaudited"]
["Dental","DEF","Default",1900,"1900-01-01","Q4","1900-12-31","Region 2","Operating Expense","Medical Expense","Dental Services","2.1","Dental Services Diagnostic",{"v":0,"d":"$0.00"},{"v":0,"d":"$0.00"},{"v":0,"d":"$0.00"},{"v":0,"d":"$0.00"},{"v":0,"d":"$0.00"},{"v":0,"d":"$0.00"},"ASR-Dental_Financial_Report_SMMC_03.21.23","2023-03-21","Unaudited"]
["Dental","DEF","Default",1900,"1900-01-01","Q4","1900-12-31","Region 2","Operating Expense","Medical Expense","Dental Services",2.2,"Dental Services Preventive",{"v":0,"d":"$0.00"},{"v":0,"d":"$0.00"},{"v":0,"d":"$0.00"},{"v":0,"d":"$0.00"},{"v":0,"d":"$0.00"},{"v":0,"d":"$0.00"},"ASR-Dental_Financial_Report_SMMC_03.21.23","2023-03-21","Unaudited"]
["Dental","DEF","Default",1900,"1900-01-01","Q4","1900-12-31","Region 2","Operating Expense","Medical Expense","Dental Services","2.3","Dental Services Restorative",{"v":0,"d":"$0.00"},{"v":0,"d":"$0.00"},{"v":0,"d":"$0.00"},{"v":0,"d":"$0.00"},{"v":0,"d":"$0.00"},{"v":0,"d":"$0.00"},"ASR-Dental_Financial_Report_SMMC_03.21.23","2023-03-21","Unaudited"]
["Dental","DEF","Default",1900,"1900-01-01","Q4","1900-12-31","Region 2","Operating Expense","Medical Expense","Dental Services","2.4","Dental Services Endodontics",{"v":0,"d":"$0.00"},{"v":0,"d":"$0.00"},{"v":0,"d":"$0.00"},{"v":0,"d":"$0.00"},{"v":0,"d":"$0.00"},{"v":0,"d":"$0.00"},"ASR-Dental_Financial_Report_SMMC_03.21.23","2023-03-21","Unaudited"]
["Dental","DEF","Default",1900,"1900-01-01","Q4","1900-12-31","Region 2","Operating Expense","Medical Expense","Dental Services","2.5","Dental Services Periodontics",{"v":0,"d":"$0.00"},{"v":0,"d":"$0.00"},{"v":0,"d":"$0.00"},{"v":0,"d":"$0.00"},{"v":0,"d":"$0.00"},{"v":0,"d":"$0.00"},"ASR-Dental_Financial_Report_SMMC_03.21.23","2023-03-21","Unaudited"]
["Dental","DEF","Default",1900,"1900-01-01","Q4","1900-12-31","Region 2","Operating Expense","Medical Expense","Dental Services","2.6","Dental Services Prosthodontics",{"v":0,"d":"$0.00"},{"v":0,"d":"$0.00"},{"v":0,"d":"$0.00"},{"v":0,"d":"$0.00"},{"v":0,"d":"$0.00"},{"v":0,"d":"$0.00"},"ASR-Dental_Financial_Report_SMMC_03.21.23","2023-03-21","Unaudited"]
["Dental","DEF","Default",1900,"1900-01-01","Q4","1900-12-31","Region 2","Operating Expense","Medical Expense","Dental Services","2.7","Dental Services Prosthodontics, fixed",{"v":0,"d":"$0.00"},{"v":0,"d":"$0.00"},{"v":0,"d":"$0.00"},{"v":0,"d":"$0.00"},{"v":0,"d":"$0.00"},{"v":0,"d":"$0.00"},"ASR-Dental_Financial_Report_SMMC_03.21.23","2023-03-21","Unaudited"]
["Dental","DEF","Default",1900,"1900-01-01","Q4","1900-12-31","Region 2","Operating Expense","Medical Expense","Dental Services","2.8","Dental Services Oral and Maxillofacial Surgery",{"v":0,"d":"$0.00"},{"v":0,"d":"$0.00"},{"v":0,"d":"$0.00"},{"v":0,"d":"$0.00"},{"v":0,"d":"$0.00"},{"v":0,"d":"$0.00"},"ASR-Dental_Financial_Report_SMMC_03.21.23","2023-03-21","Unaudited"]
["Dental","DEF","Default",1900,"1900-01-01","Q4","1900-12-31","Region 2","Operating Expense","Medical Expense","Dental Services","2.9","Dental Services Orthodontics",{"$f":"IF(OR(AND($F482=\"PY\",N$1<>\"Prior Year\"),AND($F482<>\"PY\",N$1=\"Prior Year\")),0,INDEX(INDIRECT(\"'Dental Rev-Exp \"&$H482&\"'!$A$1:$CA$200\"),IF($J482=\"Member Months\",MATCH($J482,INDIRECT(\"'Dental Rev-Exp \"&$H482&\"'!$A$1:$A$200\"),0),MATCH($L482,INDIRECT(\"'Dental Rev-Exp \"&$H482&\"'!$B$1:$B$200\"),0)),IF($F482=\"PY\",MATCH(\"Prior Year Adjustments\",INDIRECT(\"'Dental Rev-Exp \"&$H482&\"'!$A$8:$CA$8\"),0),MATCH(IF($F482=\"Q1\",\"JANUARY - MARCH (Q1)\",IF($F482=\"Q2\",\"APRIL - JUNE (Q2)\",IF($F482=\"Q3\",\"JULY - SEPTEMBER (Q3)\",IF($F482=\"Q4\",\"OCTOBER - DECEMBER (Q4)\",0)))),INDIRECT(\"'Dental Rev-Exp \"&$H482&\"'!$A$7:$CA$7\"),0)+MATCH(N$1,INDIRECT(\"'Dental Rev-Exp \"&$H482&\"'!$D$8:$CA$8\"),0)-1)))","v":{"v":0,"d":"$0.00"}},{"v":0,"d":"$0.00"},{"v":0,"d":"$0.00"},{"v":0,"d":"$0.00"},{"v":0,"d":"$0.00"},{"v":0,"d":"$0.00"},"ASR-Dental_Financial_Report_SMMC_03.21.23","2023-03-21","Unaudited"]
["Dental","DEF","Default",1900,"1900-01-01","Q4","1900-12-31","Region 2","Operating Expense","Medical Expense","Dental Services","2.10","Dental Services Adjunctive General Services",{"v":0,"d":"$0.00"},{"v":0,"d":"$0.00"},{"v":0,"d":"$0.00"},{"v":0,"d":"$0.00"},{"v":0,"d":"$0.00"},{"v":0,"d":"$0.00"},"ASR-Dental_Financial_Report_SMMC_03.21.23","2023-03-21","Unaudited"]
["Dental","DEF","Default",1900,"1900-01-01","Q4","1900-12-31","Region 2","Operating Expense","Medical Expense","Dental Services","2.11","Dental Services Other",{"v":0,"d":"$0.00"},{"v":0,"d":"$0.00"},{"v":0,"d":"$0.00"},{"v":0,"d":"$0.00"},{"v":0,"d":"$0.00"},{"v":0,"d":"$0.00"},"ASR-Dental_Financial_Report_SMMC_03.21.23","2023-03-21","Unaudited"]
["Dental","DEF","Default",1900,"1900-01-01","Q4","1900-12-31","Region 2","Operating Expense","Medical Expense","Expanded Benefits","2.12","Dental Expanded Benefits",{"v":0,"d":"$0.00"},{"v":0,"d":"$0.00"},{"v":0,"d":"$0.00"},{"v":0,"d":"$0.00"},{"v":0,"d":"$0.00"},{"v":0,"d":"$0.00"},"ASR-Dental_Financial_Report_SMMC_03.21.23","2023-03-21","Unaudited"]
["Dental","DEF","Default",1900,"1900-01-01","Q4","1900-12-31","Region 2","Operating Expense","Medical Expense","Dental Services","2.13","Dental Services Paid through Subcapitation",{"v":0,"d":"$0.00"},{"v":0,"d":"$0.00"},{"v":0,"d":"$0.00"},{"v":0,"d":"$0.00"},{"v":0,"d":"$0.00"},{"v":0,"d":"$0.00"},"ASR-Dental_Financial_Report_SMMC_03.21.23","2023-03-21","Unaudited"]
["Dental","DEF","Default",1900,"1900-01-01","Q4","1900-12-31","Region 2","Operating Expense","Medical Expense","Dental Services","2.14","Ending IBNP for Dental Services",{"v":0,"d":"$0.00"},{"v":0,"d":"$0.00"},{"v":0,"d":"$0.00"},{"v":0,"d":"$0.00"},{"v":0,"d":"$0.00"},{"v":0,"d":"$0.00"},"ASR-Dental_Financial_Report_SMMC_03.21.23","2023-03-21","Unaudited"]
["Dental","DEF","Default",1900,"1900-01-01","Q4","1900-12-31","Region 2","Operating Expense","Medical Expense","Dental Services","2.15","Dental Settlements/AP",{"v":0,"d":"$0.00"},{"v":0,"d":"$0.00"},{"v":0,"d":"$0.00"},{"v":0,"d":"$0.00"},{"v":0,"d":"$0.00"},{"v":0,"d":"$0.00"},"ASR-Dental_Financial_Report_SMMC_03.21.23","2023-03-21","Unaudited"]
["Dental","DEF","Default",1900,"1900-01-01","Q4","1900-12-31","Region 2","Operating Expense","Medical Expense","Other Medical","3.5","TPL & Fraud/Abuse Recoveries",{"v":0,"d":"$0.00"},{"v":0,"d":"$0.00"},{"v":0,"d":"$0.00"},{"v":0,"d":"$0.00"},{"v":0,"d":"$0.00"},{"v":0,"d":"$0.00"},"ASR-Dental_Financial_Report_SMMC_03.21.23","2023-03-21","Unaudited"]
["Dental","DEF","Default",1900,"1900-01-01","Q4","1900-12-31","Region 2","Operating Expense","Medical Expense","Other Medical",3.6,"Premium Deficiency Reserve",{"v":0,"d":"$0.00"},{"v":0,"d":"$0.00"},{"v":0,"d":"$0.00"},{"v":0,"d":"$0.00"},{"v":0,"d":"$0.00"},{"v":0,"d":"$0.00"},"ASR-Dental_Financial_Report_SMMC_03.21.23","2023-03-21","Unaudited"]
["Dental","DEF","Default",1900,"1900-01-01","Q4","1900-12-31","Region 2","Operating Expense","Medical Expense","Other Medical","3.8","Reinsurance Premiums",{"v":0,"d":"$0.00"},{"v":0,"d":"$0.00"},{"v":0,"d":"$0.00"},{"v":0,"d":"$0.00"},{"v":0,"d":"$0.00"},{"v":0,"d":"$0.00"},"ASR-Dental_Financial_Report_SMMC_03.21.23","2023-03-21","Unaudited"]
["Dental","DEF","Default",1900,"1900-01-01","Q4","1900-12-31","Region 2","Operating Expense","Medical Expense","Other Medical","3.9","Reinsurance Recoveries",{"$f":"IF(OR(AND($F492=\"PY\",N$1<>\"Prior Year\"),AND($F492<>\"PY\",N$1=\"Prior Year\")),0,INDEX(INDIRECT(\"'Dental Rev-Exp \"&$H492&\"'!$A$1:$CA$200\"),IF($J492=\"Member Months\",MATCH($J492,INDIRECT(\"'Dental Rev-Exp \"&$H492&\"'!$A$1:$A$200\"),0),MATCH($L492,INDIRECT(\"'Dental Rev-Exp \"&$H492&\"'!$B$1:$B$200\"),0)),IF($F492=\"PY\",MATCH(\"Prior Year Adjustments\",INDIRECT(\"'Dental Rev-Exp \"&$H492&\"'!$A$8:$CA$8\"),0),MATCH(IF($F492=\"Q1\",\"JANUARY - MARCH (Q1)\",IF($F492=\"Q2\",\"APRIL - JUNE (Q2)\",IF($F492=\"Q3\",\"JULY - SEPTEMBER (Q3)\",IF($F492=\"Q4\",\"OCTOBER - DECEMBER (Q4)\",0)))),INDIRECT(\"'Dental Rev-Exp \"&$H492&\"'!$A$7:$CA$7\"),0)+MATCH(N$1,INDIRECT(\"'Dental Rev-Exp \"&$H492&\"'!$D$8:$CA$8\"),0)-1)))","v":{"v":0,"d":"$0.00"}},{"v":0,"d":"$0.00"},{"v":0,"d":"$0.00"},{"v":0,"d":"$0.00"},{"v":0,"d":"$0.00"},{"v":0,"d":"$0.00"},"ASR-Dental_Financial_Report_SMMC_03.21.23","2023-03-21","Unaudited"]
["Dental","DEF","Default",1900,"1900-01-01","Q4","1900-12-31","Region 2","Operating Expense","Administrative Expense","Administrative","4.1","Salaries & Benefits",{"v":0,"d":"$0.00"},{"v":0,"d":"$0.00"},{"v":0,"d":"$0.00"},{"v":0,"d":"$0.00"},{"v":0,"d":"$0.00"},{"v":0,"d":"$0.00"},"ASR-Dental_Financial_Report_SMMC_03.21.23","2023-03-21","Unaudited"]
["Dental","DEF","Default",1900,"1900-01-01","Q4","1900-12-31","Region 2","Operating Expense","Administrative Expense","Administrative","4.2","Administrative Services",{"v":0,"d":"$0.00"},{"v":0,"d":"$0.00"},{"v":0,"d":"$0.00"},{"v":0,"d":"$0.00"},{"v":0,"d":"$0.00"},{"v":0,"d":"$0.00"},"ASR-Dental_Financial_Report_SMMC_03.21.23","2023-03-21","Unaudited"]
["Dental","DEF","Default",1900,"1900-01-01","Q4","1900-12-31","Region 2","Operating Expense","Administrative Expense","Administrative","4.3","Information Systems",{"v":0,"d":"$0.00"},{"v":0,"d":"$0.00"},{"v":0,"d":"$0.00"},{"v":0,"d":"$0.00"},{"v":0,"d":"$0.00"},{"v":0,"d":"$0.00"},"ASR-Dental_Financial_Report_SMMC_03.21.23","2023-03-21","Unaudited"]
["Dental","DEF","Default",1900,"1900-01-01","Q4","1900-12-31","Region 2","Operating Expense","Administrative Expense","Administrative","4.4","Marketing Expenses",{"v":0,"d":"$0.00"},{"v":0,"d":"$0.00"},{"v":0,"d":"$0.00"},{"v":0,"d":"$0.00"},{"v":0,"d":"$0.00"},{"v":0,"d":"$0.00"},"ASR-Dental_Financial_Report_SMMC_03.21.23","2023-03-21","Unaudited"]
["Dental","DEF","Default",1900,"1900-01-01","Q4","1900-12-31","Region 2","Operating Expense","Administrative Expense","Administrative","4.5","General  Administration",{"v":0,"d":"$0.00"},{"v":0,"d":"$0.00"},{"v":0,"d":"$0.00"},{"v":0,"d":"$0.00"},{"v":0,"d":"$0.00"},{"v":0,"d":"$0.00"},"ASR-Dental_Financial_Report_SMMC_03.21.23","2023-03-21","Unaudited"]
["Dental","DEF","Default",1900,"1900-01-01","Q4","1900-12-31","Region 2","Operating Expense","Administrative Expense","Administrative","4.6","Compliance/Regulatory",{"v":0,"d":"$0.00"},{"v":0,"d":"$0.00"},{"v":0,"d":"$0.00"},{"v":0,"d":"$0.00"},{"v":0,"d":"$0.00"},{"v":0,"d":"$0.00"},"ASR-Dental_Financial_Report_SMMC_03.21.23","2023-03-21","Unaudited"]
["Dental","DEF","Default",1900,"1900-01-01","Q4","1900-12-31","Region 2","Operating Expense","Taxes & Fees","Taxes & Fees","5.1","State Premium tax",{"v":0,"d":"$0.00"},{"v":0,"d":"$0.00"},{"v":0,"d":"$0.00"},{"v":0,"d":"$0.00"},{"v":0,"d":"$0.00"},{"v":0,"d":"$0.00"},"ASR-Dental_Financial_Report_SMMC_03.21.23","2023-03-21","Unaudited"]
["Dental","DEF","Default",1900,"1900-01-01","Q4","1900-12-31","Region 2","Operating Expense","Taxes & Fees","Taxes & Fees","5.2","Department of Insurance Assessments",{"v":0,"d":"$0.00"},{"v":0,"d":"$0.00"},{"v":0,"d":"$0.00"},{"v":0,"d":"$0.00"},{"v":0,"d":"$0.00"},{"v":0,"d":"$0.00"},"ASR-Dental_Financial_Report_SMMC_03.21.23","2023-03-21","Unaudited"]
["Dental","DEF","Default",1900,"1900-01-01","Q4","1900-12-31","Region 2","Operating Expense","Taxes & Fees","Taxes & Fees","5.3","Section 9010 Health Insurance Providers Fee",{"v":0,"d":"$0.00"},{"v":0,"d":"$0.00"},{"v":0,"d":"$0.00"},{"v":0,"d":"$0.00"},{"v":0,"d":"$0.00"},{"v":0,"d":"$0.00"},"ASR-Dental_Financial_Report_SMMC_03.21.23","2023-03-21","Unaudited"]
["Dental","DEF","Default",1900,"1900-01-01","Q4","1900-12-31","Region 2","Operating Expense","Taxes & Fees","Taxes & Fees","5.4","Other 1",{"$f":"IF(OR(AND($F502=\"PY\",N$1<>\"Prior Year\"),AND($F502<>\"PY\",N$1=\"Prior Year\")),0,INDEX(INDIRECT(\"'Dental Rev-Exp \"&$H502&\"'!$A$1:$CA$200\"),IF($J502=\"Member Months\",MATCH($J502,INDIRECT(\"'Dental Rev-Exp \"&$H502&\"'!$A$1:$A$200\"),0),MATCH($L502,INDIRECT(\"'Dental Rev-Exp \"&$H502&\"'!$B$1:$B$200\"),0)),IF($F502=\"PY\",MATCH(\"Prior Year Adjustments\",INDIRECT(\"'Dental Rev-Exp \"&$H502&\"'!$A$8:$CA$8\"),0),MATCH(IF($F502=\"Q1\",\"JANUARY - MARCH (Q1)\",IF($F502=\"Q2\",\"APRIL - JUNE (Q2)\",IF($F502=\"Q3\",\"JULY - SEPTEMBER (Q3)\",IF($F502=\"Q4\",\"OCTOBER - DECEMBER (Q4)\",0)))),INDIRECT(\"'Dental Rev-Exp \"&$H502&\"'!$A$7:$CA$7\"),0)+MATCH(N$1,INDIRECT(\"'Dental Rev-Exp \"&$H502&\"'!$D$8:$CA$8\"),0)-1)))","v":{"v":0,"d":"$0.00"}},{"v":0,"d":"$0.00"},{"v":0,"d":"$0.00"},{"v":0,"d":"$0.00"},{"v":0,"d":"$0.00"},{"v":0,"d":"$0.00"},"ASR-Dental_Financial_Report_SMMC_03.21.23","2023-03-21","Unaudited"]
["Dental","DEF","Default",1900,"1900-01-01","Q4","1900-12-31","Region 2","Operating Expense","Taxes & Fees","Taxes & Fees","5.5","Other 2",{"v":0,"d":"$0.00"},{"v":0,"d":"$0.00"},{"v":0,"d":"$0.00"},{"v":0,"d":"$0.00"},{"v":0,"d":"$0.00"},{"v":0,"d":"$0.00"},"ASR-Dental_Financial_Report_SMMC_03.21.23","2023-03-21","Unaudited"]
["Dental","DEF","Default",1900,"1900-01-01","Q4","1900-12-31","Region 2","Operating Expense","Taxes & Fees","Taxes & Fees","5.6","Other 3",{"v":0,"d":"$0.00"},{"v":0,"d":"$0.00"},{"v":0,"d":"$0.00"},{"v":0,"d":"$0.00"},{"v":0,"d":"$0.00"},{"v":0,"d":"$0.00"},"ASR-Dental_Financial_Report_SMMC_03.21.23","2023-03-21","Unaudited"]
["Dental","DEF","Default",1900,"1900-01-01","Q4","1900-12-31","Region 2","Non-Operating Expense","Income Tax Expense","Income Tax Expense","8.0","Income Tax Expense",{"v":0,"d":"$0.00"},{"v":0,"d":"$0.00"},{"v":0,"d":"$0.00"},{"v":0,"d":"$0.00"},{"v":0,"d":"$0.00"},{"v":0,"d":"$0.00"},"ASR-Dental_Financial_Report_SMMC_03.21.23","2023-03-21","Unaudited"]
["Dental","DEF","Default",1900,"1900-01-01","PY","1/1/1800","Region 2","Member Months","Member Months","Member Months",null,"Member Months",{"v":0,"d":"$0.00"},{"v":0,"d":"$0.00"},{"v":0,"d":"$0.00"},{"v":0,"d":"$0.00"},{"v":0,"d":"$0.00"},{"v":0,"d":"$0.00"},"ASR-Dental_Financial_Report_SMMC_03.21.23","2023-03-21","Unaudited"]
["Dental","DEF","Default",1900,"1900-01-01","PY","1/1/1800","Region 2","Operating Revenue","Capitation","Capitation","1.1","Capitation",{"v":0,"d":"$0.00"},{"v":0,"d":"$0.00"},{"v":0,"d":"$0.00"},{"v":0,"d":"$0.00"},{"v":0,"d":"$0.00"},{"v":0,"d":"$0.00"},"ASR-Dental_Financial_Report_SMMC_03.21.23","2023-03-21","Unaudited"]
["Dental","DEF","Default",1900,"1900-01-01","PY","1/1/1800","Region 2","Operating Revenue","Other Revenue","Other Revenue - 9010","1.2","ACA § 9010 related payments",{"v":0,"d":"$0.00"},{"v":0,"d":"$0.00"},{"v":0,"d":"$0.00"},{"v":0,"d":"$0.00"},{"v":0,"d":"$0.00"},{"v":0,"d":"$0.00"},"ASR-Dental_Financial_Report_SMMC_03.21.23","2023-03-21","Unaudited"]
["Dental","DEF","Default",1900,"1900-01-01","PY","1/1/1800","Region 2","Operating Revenue","Other Revenue","Other Revenue","1.3","Other Revenue",{"v":0,"d":"$0.00"},{"v":0,"d":"$0.00"},{"v":0,"d":"$0.00"},{"v":0,"d":"$0.00"},{"v":0,"d":"$0.00"},{"v":0,"d":"$0.00"},"ASR-Dental_Financial_Report_SMMC_03.21.23","2023-03-21","Unaudited"]
["Dental","DEF","Default",1900,"1900-01-01","PY","1/1/1800","Region 2","Operating Expense","Medical Expense","Dental Services","2.1","Dental Services Diagnostic",{"v":0,"d":"$0.00"},{"v":0,"d":"$0.00"},{"v":0,"d":"$0.00"},{"v":0,"d":"$0.00"},{"v":0,"d":"$0.00"},{"v":0,"d":"$0.00"},"ASR-Dental_Financial_Report_SMMC_03.21.23","2023-03-21","Unaudited"]
["Dental","DEF","Default",1900,"1900-01-01","PY","1/1/1800","Region 2","Operating Expense","Medical Expense","Dental Services",2.2,"Dental Services Preventive",{"v":0,"d":"$0.00"},{"v":0,"d":"$0.00"},{"v":0,"d":"$0.00"},{"v":0,"d":"$0.00"},{"v":0,"d":"$0.00"},{"v":0,"d":"$0.00"},"ASR-Dental_Financial_Report_SMMC_03.21.23","2023-03-21","Unaudited"]
["Dental","DEF","Default",1900,"1900-01-01","PY","1/1/1800","Region 2","Operating Expense","Medical Expense","Dental Services","2.3","Dental Services Restorative",{"$f":"IF(OR(AND($F512=\"PY\",N$1<>\"Prior Year\"),AND($F512<>\"PY\",N$1=\"Prior Year\")),0,INDEX(INDIRECT(\"'Dental Rev-Exp \"&$H512&\"'!$A$1:$CA$200\"),IF($J512=\"Member Months\",MATCH($J512,INDIRECT(\"'Dental Rev-Exp \"&$H512&\"'!$A$1:$A$200\"),0),MATCH($L512,INDIRECT(\"'Dental Rev-Exp \"&$H512&\"'!$B$1:$B$200\"),0)),IF($F512=\"PY\",MATCH(\"Prior Year Adjustments\",INDIRECT(\"'Dental Rev-Exp \"&$H512&\"'!$A$8:$CA$8\"),0),MATCH(IF($F512=\"Q1\",\"JANUARY - MARCH (Q1)\",IF($F512=\"Q2\",\"APRIL - JUNE (Q2)\",IF($F512=\"Q3\",\"JULY - SEPTEMBER (Q3)\",IF($F512=\"Q4\",\"OCTOBER - DECEMBER (Q4)\",0)))),INDIRECT(\"'Dental Rev-Exp \"&$H512&\"'!$A$7:$CA$7\"),0)+MATCH(N$1,INDIRECT(\"'Dental Rev-Exp \"&$H512&\"'!$D$8:$CA$8\"),0)-1)))","v":{"v":0,"d":"$0.00"}},{"v":0,"d":"$0.00"},{"v":0,"d":"$0.00"},{"v":0,"d":"$0.00"},{"v":0,"d":"$0.00"},{"v":0,"d":"$0.00"},"ASR-Dental_Financial_Report_SMMC_03.21.23","2023-03-21","Unaudited"]
["Dental","DEF","Default",1900,"1900-01-01","PY","1/1/1800","Region 2","Operating Expense","Medical Expense","Dental Services","2.4","Dental Services Endodontics",{"v":0,"d":"$0.00"},{"v":0,"d":"$0.00"},{"v":0,"d":"$0.00"},{"v":0,"d":"$0.00"},{"v":0,"d":"$0.00"},{"v":0,"d":"$0.00"},"ASR-Dental_Financial_Report_SMMC_03.21.23","2023-03-21","Unaudited"]
["Dental","DEF","Default",1900,"1900-01-01","PY","1/1/1800","Region 2","Operating Expense","Medical Expense","Dental Services","2.5","Dental Services Periodontics",{"v":0,"d":"$0.00"},{"v":0,"d":"$0.00"},{"v":0,"d":"$0.00"},{"v":0,"d":"$0.00"},{"v":0,"d":"$0.00"},{"v":0,"d":"$0.00"},{"$f":"file_name","v":"ASR-Dental_Financial_Report_SMMC_03.21.23"},{"$f":"file_date","v":"2023-03-21"},{"$f":"status","v":"Unaudited"}]
["Dental","DEF","Default",1900,"1900-01-01","PY","1/1/1800","Region 2","Operating Expense","Medical Expense","Dental Services","2.6","Dental Services Prosthodontics",{"v":0,"d":"$0.00"},{"v":0,"d":"$0.00"},{"v":0,"d":"$0.00"},{"v":0,"d":"$0.00"},{"v":0,"d":"$0.00"},{"v":0,"d":"$0.00"},"ASR-Dental_Financial_Report_SMMC_03.21.23","2023-03-21","Unaudited"]
["Dental","DEF","Default",1900,"1900-01-01","PY","1/1/1800","Region 2","Operating Expense","Medical Expense","Dental Services","2.7","Dental Services Prosthodontics, fixed",{"v":0,"d":"$0.00"},{"v":0,"d":"$0.00"},{"v":0,"d":"$0.00"},{"v":0,"d":"$0.00"},{"v":0,"d":"$0.00"},{"v":0,"d":"$0.00"},"ASR-Dental_Financial_Report_SMMC_03.21.23","2023-03-21","Unaudited"]
["Dental","DEF","Default",1900,"1900-01-01","PY","1/1/1800","Region 2","Operating Expense","Medical Expense","Dental Services","2.8","Dental Services Oral and Maxillofacial Surgery",{"v":0,"d":"$0.00"},{"v":0,"d":"$0.00"},{"v":0,"d":"$0.00"},{"v":0,"d":"$0.00"},{"v":0,"d":"$0.00"},{"v":0,"d":"$0.00"},"ASR-Dental_Financial_Report_SMMC_03.21.23","2023-03-21","Unaudited"]
["Dental","DEF","Default",1900,"1900-01-01","PY","1/1/1800","Region 2","Operating Expense","Medical Expense","Dental Services","2.9","Dental Services Orthodontics",{"v":0,"d":"$0.00"},{"v":0,"d":"$0.00"},{"v":0,"d":"$0.00"},{"v":0,"d":"$0.00"},{"v":0,"d":"$0.00"},{"v":0,"d":"$0.00"},"ASR-Dental_Financial_Report_SMMC_03.21.23","2023-03-21","Unaudited"]
["Dental","DEF","Default",1900,"1900-01-01","PY","1/1/1800","Region 2","Operating Expense","Medical Expense","Dental Services","2.10","Dental Services Adjunctive General Services",{"v":0,"d":"$0.00"},{"v":0,"d":"$0.00"},{"v":0,"d":"$0.00"},{"v":0,"d":"$0.00"},{"v":0,"d":"$0.00"},{"v":0,"d":"$0.00"},"ASR-Dental_Financial_Report_SMMC_03.21.23","2023-03-21","Unaudited"]
["Dental","DEF","Default",1900,"1900-01-01","PY","1/1/1800","Region 2","Operating Expense","Medical Expense","Dental Services","2.11","Dental Services Other",{"v":0,"d":"$0.00"},{"v":0,"d":"$0.00"},{"v":0,"d":"$0.00"},{"v":0,"d":"$0.00"},{"v":0,"d":"$0.00"},{"v":0,"d":"$0.00"},"ASR-Dental_Financial_Report_SMMC_03.21.23","2023-03-21","Unaudited"]
["Dental","DEF","Default",1900,"1900-01-01","PY","1/1/1800","Region 2","Operating Expense","Medical Expense","Expanded Benefits","2.12","Dental Expanded Benefits",{"v":0,"d":"$0.00"},{"v":0,"d":"$0.00"},{"v":0,"d":"$0.00"},{"v":0,"d":"$0.00"},{"v":0,"d":"$0.00"},{"v":0,"d":"$0.00"},"ASR-Dental_Financial_Report_SMMC_03.21.23","2023-03-21","Unaudited"]
["Dental","DEF","Default",1900,"1900-01-01","PY","1/1/1800","Region 2","Operating Expense","Medical Expense","Dental Services","2.13","Dental Services Paid through Subcapitation",{"$f":"IF(OR(AND($F522=\"PY\",N$1<>\"Prior Year\"),AND($F522<>\"PY\",N$1=\"Prior Year\")),0,INDEX(INDIRECT(\"'Dental Rev-Exp \"&$H522&\"'!$A$1:$CA$200\"),IF($J522=\"Member Months\",MATCH($J522,INDIRECT(\"'Dental Rev-Exp \"&$H522&\"'!$A$1:$A$200\"),0),MATCH($L522,INDIRECT(\"'Dental Rev-Exp \"&$H522&\"'!$B$1:$B$200\"),0)),IF($F522=\"PY\",MATCH(\"Prior Year Adjustments\",INDIRECT(\"'Dental Rev-Exp \"&$H522&\"'!$A$8:$CA$8\"),0),MATCH(IF($F522=\"Q1\",\"JANUARY - MARCH (Q1)\",IF($F522=\"Q2\",\"APRIL - JUNE (Q2)\",IF($F522=\"Q3\",\"JULY - SEPTEMBER (Q3)\",IF($F522=\"Q4\",\"OCTOBER - DECEMBER (Q4)\",0)))),INDIRECT(\"'Dental Rev-Exp \"&$H522&\"'!$A$7:$CA$7\"),0)+MATCH(N$1,INDIRECT(\"'Dental Rev-Exp \"&$H522&\"'!$D$8:$CA$8\"),0)-1)))","v":{"v":0,"d":"$0.00"}},{"v":0,"d":"$0.00"},{"v":0,"d":"$0.00"},{"v":0,"d":"$0.00"},{"v":0,"d":"$0.00"},{"v":0,"d":"$0.00"},"ASR-Dental_Financial_Report_SMMC_03.21.23","2023-03-21","Unaudited"]
["Dental","DEF","Default",1900,"1900-01-01","PY","1/1/1800","Region 2","Operating Expense","Medical Expense","Dental Services","2.14","Ending IBNP for Dental Services",{"v":0,"d":"$0.00"},{"v":0,"d":"$0.00"},{"v":0,"d":"$0.00"},{"v":0,"d":"$0.00"},{"v":0,"d":"$0.00"},{"v":0,"d":"$0.00"},"ASR-Dental_Financial_Report_SMMC_03.21.23","2023-03-21","Unaudited"]
["Dental","DEF","Default",1900,"1900-01-01","PY","1/1/1800","Region 2","Operating Expense","Medical Expense","Dental Services","2.15","Dental Settlements/AP",{"v":0,"d":"$0.00"},{"v":0,"d":"$0.00"},{"v":0,"d":"$0.00"},{"v":0,"d":"$0.00"},{"v":0,"d":"$0.00"},{"v":0,"d":"$0.00"},"ASR-Dental_Financial_Report_SMMC_03.21.23","2023-03-21","Unaudited"]
["Dental","DEF","Default",1900,"1900-01-01","PY","1/1/1800","Region 2","Operating Expense","Medical Expense","Other Medical","3.5","TPL & Fraud/Abuse Recoveries",{"v":0,"d":"$0.00"},{"v":0,"d":"$0.00"},{"v":0,"d":"$0.00"},{"v":0,"d":"$0.00"},{"v":0,"d":"$0.00"},{"v":0,"d":"$0.00"},"ASR-Dental_Financial_Report_SMMC_03.21.23","2023-03-21","Unaudited"]
["Dental","DEF","Default",1900,"1900-01-01","PY","1/1/1800","Region 2","Operating Expense","Medical Expense","Other Medical",3.6,"Premium Deficiency Reserve",{"v":0,"d":"$0.00"},{"v":0,"d":"$0.00"},{"v":0,"d":"$0.00"},{"v":0,"d":"$0.00"},{"v":0,"d":"$0.00"},{"v":0,"d":"$0.00"},"ASR-Dental_Financial_Report_SMMC_03.21.23","2023-03-21","Unaudited"]
["Dental","DEF","Default",1900,"1900-01-01","PY","1/1/1800","Region 2","Operating Expense","Medical Expense","Other Medical","3.8","Reinsurance Premiums",{"v":0,"d":"$0.00"},{"v":0,"d":"$0.00"},{"v":0,"d":"$0.00"},{"v":0,"d":"$0.00"},{"v":0,"d":"$0.00"},{"v":0,"d":"$0.00"},"ASR-Dental_Financial_Report_SMMC_03.21.23","2023-03-21","Unaudited"]
["Dental","DEF","Default",1900,"1900-01-01","PY","1/1/1800","Region 2","Operating Expense","Medical Expense","Other Medical","3.9","Reinsurance Recoveries",{"v":0,"d":"$0.00"},{"v":0,"d":"$0.00"},{"v":0,"d":"$0.00"},{"v":0,"d":"$0.00"},{"v":0,"d":"$0.00"},{"v":0,"d":"$0.00"},"ASR-Dental_Financial_Report_SMMC_03.21.23","2023-03-21","Unaudited"]
["Dental","DEF","Default",1900,"1900-01-01","PY","1/1/1800","Region 2","Operating Expense","Administrative Expense","Administrative","4.1","Salaries & Benefits",{"v":0,"d":"$0.00"},{"v":0,"d":"$0.00"},{"v":0,"d":"$0.00"},{"v":0,"d":"$0.00"},{"v":0,"d":"$0.00"},{"v":0,"d":"$0.00"},"ASR-Dental_Financial_Report_SMMC_03.21.23","2023-03-21","Unaudited"]
["Dental","DEF","Default",1900,"1900-01-01","PY","1/1/1800","Region 2","Operating Expense","Administrative Expense","Administrative","4.2","Administrative Services",{"v":0,"d":"$0.00"},{"v":0,"d":"$0.00"},{"v":0,"d":"$0.00"},{"v":0,"d":"$0.00"},{"v":0,"d":"$0.00"},{"v":0,"d":"$0.00"},"ASR-Dental_Financial_Report_SMMC_03.21.23","2023-03-21","Unaudited"]
["Dental","DEF","Default",1900,"1900-01-01","PY","1/1/1800","Region 2","Operating Expense","Administrative Expense","Administrative","4.3","Information Systems",{"v":0,"d":"$0.00"},{"v":0,"d":"$0.00"},{"v":0,"d":"$0.00"},{"v":0,"d":"$0.00"},{"v":0,"d":"$0.00"},{"v":0,"d":"$0.00"},"ASR-Dental_Financial_Report_SMMC_03.21.23","2023-03-21","Unaudited"]
["Dental","DEF","Default",1900,"1900-01-01","PY","1/1/1800","Region 2","Operating Expense","Administrative Expense","Administrative","4.4","Marketing Expenses",{"$f":"IF(OR(AND($F532=\"PY\",N$1<>\"Prior Year\"),AND($F532<>\"PY\",N$1=\"Prior Year\")),0,INDEX(INDIRECT(\"'Dental Rev-Exp \"&$H532&\"'!$A$1:$CA$200\"),IF($J532=\"Member Months\",MATCH($J532,INDIRECT(\"'Dental Rev-Exp \"&$H532&\"'!$A$1:$A$200\"),0),MATCH($L532,INDIRECT(\"'Dental Rev-Exp \"&$H532&\"'!$B$1:$B$200\"),0)),IF($F532=\"PY\",MATCH(\"Prior Year Adjustments\",INDIRECT(\"'Dental Rev-Exp \"&$H532&\"'!$A$8:$CA$8\"),0),MATCH(IF($F532=\"Q1\",\"JANUARY - MARCH (Q1)\",IF($F532=\"Q2\",\"APRIL - JUNE (Q2)\",IF($F532=\"Q3\",\"JULY - SEPTEMBER (Q3)\",IF($F532=\"Q4\",\"OCTOBER - DECEMBER (Q4)\",0)))),INDIRECT(\"'Dental Rev-Exp \"&$H532&\"'!$A$7:$CA$7\"),0)+MATCH(N$1,INDIRECT(\"'Dental Rev-Exp \"&$H532&\"'!$D$8:$CA$8\"),0)-1)))","v":{"v":0,"d":"$0.00"}},{"v":0,"d":"$0.00"},{"v":0,"d":"$0.00"},{"v":0,"d":"$0.00"},{"v":0,"d":"$0.00"},{"v":0,"d":"$0.00"},"ASR-Dental_Financial_Report_SMMC_03.21.23","2023-03-21","Unaudited"]
["Dental","DEF","Default",1900,"1900-01-01","PY","1/1/1800","Region 2","Operating Expense","Administrative Expense","Administrative","4.5","General  Administration",{"v":0,"d":"$0.00"},{"v":0,"d":"$0.00"},{"v":0,"d":"$0.00"},{"v":0,"d":"$0.00"},{"v":0,"d":"$0.00"},{"v":0,"d":"$0.00"},"ASR-Dental_Financial_Report_SMMC_03.21.23","2023-03-21","Unaudited"]
["Dental","DEF","Default",1900,"1900-01-01","PY","1/1/1800","Region 2","Operating Expense","Administrative Expense","Administrative","4.6","Compliance/Regulatory",{"v":0,"d":"$0.00"},{"v":0,"d":"$0.00"},{"v":0,"d":"$0.00"},{"v":0,"d":"$0.00"},{"v":0,"d":"$0.00"},{"v":0,"d":"$0.00"},"ASR-Dental_Financial_Report_SMMC_03.21.23","2023-03-21","Unaudited"]
["Dental","DEF","Default",1900,"1900-01-01","PY","1/1/1800","Region 2","Operating Expense","Taxes & Fees","Taxes & Fees","5.1","State Premium tax",{"v":0,"d":"$0.00"},{"v":0,"d":"$0.00"},{"v":0,"d":"$0.00"},{"v":0,"d":"$0.00"},{"v":0,"d":"$0.00"},{"v":0,"d":"$0.00"},"ASR-Dental_Financial_Report_SMMC_03.21.23","2023-03-21","Unaudited"]
["Dental","DEF","Default",1900,"1900-01-01","PY","1/1/1800","Region 2","Operating Expense","Taxes & Fees","Taxes & Fees","5.2","Department of Insurance Assessments",{"v":0,"d":"$0.00"},{"v":0,"d":"$0.00"},{"v":0,"d":"$0.00"},{"v":0,"d":"$0.00"},{"v":0,"d":"$0.00"},{"v":0,"d":"$0.00"},"ASR-Dental_Financial_Report_SMMC_03.21.23","2023-03-21","Unaudited"]
["Dental","DEF","Default",1900,"1900-01-01","PY","1/1/1800","Region 2","Operating Expense","Taxes & Fees","Taxes & Fees","5.3","Section 9010 Health Insurance Providers Fee",{"v":0,"d":"$0.00"},{"v":0,"d":"$0.00"},{"v":0,"d":"$0.00"},{"v":0,"d":"$0.00"},{"v":0,"d":"$0.00"},{"v":0,"d":"$0.00"},"ASR-Dental_Financial_Report_SMMC_03.21.23","2023-03-21","Unaudited"]
["Dental","DEF","Default",1900,"1900-01-01","PY","1/1/1800","Region 2","Operating Expense","Taxes & Fees","Taxes & Fees","5.4","Other 1",{"v":0,"d":"$0.00"},{"v":0,"d":"$0.00"},{"v":0,"d":"$0.00"},{"v":0,"d":"$0.00"},{"v":0,"d":"$0.00"},{"v":0,"d":"$0.00"},"ASR-Dental_Financial_Report_SMMC_03.21.23","2023-03-21","Unaudited"]
["Dental","DEF","Default",1900,"1900-01-01","PY","1/1/1800","Region 2","Operating Expense","Taxes & Fees","Taxes & Fees","5.5","Other 2",{"v":0,"d":"$0.00"},{"v":0,"d":"$0.00"},{"v":0,"d":"$0.00"},{"v":0,"d":"$0.00"},{"v":0,"d":"$0.00"},{"v":0,"d":"$0.00"},"ASR-Dental_Financial_Report_SMMC_03.21.23","2023-03-21","Unaudited"]
["Dental","DEF","Default",1900,"1900-01-01","PY","1/1/1800","Region 2","Operating Expense","Taxes & Fees","Taxes & Fees","5.6","Other 3",{"v":0,"d":"$0.00"},{"v":0,"d":"$0.00"},{"v":0,"d":"$0.00"},{"v":0,"d":"$0.00"},{"v":0,"d":"$0.00"},{"v":0,"d":"$0.00"},"ASR-Dental_Financial_Report_SMMC_03.21.23","2023-03-21","Unaudited"]
["Dental","DEF","Default",1900,"1900-01-01","PY","1/1/1800","Region 2","Non-Operating Expense","Income Tax Expense","Income Tax Expense","8.0","Income Tax Expense",{"v":0,"d":"$0.00"},{"v":0,"d":"$0.00"},{"v":0,"d":"$0.00"},{"v":0,"d":"$0.00"},{"v":0,"d":"$0.00"},{"v":0,"d":"$0.00"},"ASR-Dental_Financial_Report_SMMC_03.21.23","2023-03-21","Unaudited"]
["Dental","DEF","Default",1900,"1900-01-01","Q1","1900-03-31","Region 3","Member Months","Member Months","Member Months",null,"Member Months",{"$f":"IF(OR(AND($F542=\"PY\",N$1<>\"Prior Year\"),AND($F542<>\"PY\",N$1=\"Prior Year\")),0,INDEX(INDIRECT(\"'Dental Rev-Exp \"&$H542&\"'!$A$1:$CA$200\"),IF($J542=\"Member Months\",MATCH($J542,INDIRECT(\"'Dental Rev-Exp \"&$H542&\"'!$A$1:$A$200\"),0),MATCH($L542,INDIRECT(\"'Dental Rev-Exp \"&$H542&\"'!$B$1:$B$200\"),0)),IF($F542=\"PY\",MATCH(\"Prior Year Adjustments\",INDIRECT(\"'Dental Rev-Exp \"&$H542&\"'!$A$8:$CA$8\"),0),MATCH(IF($F542=\"Q1\",\"JANUARY - MARCH (Q1)\",IF($F542=\"Q2\",\"APRIL - JUNE (Q2)\",IF($F542=\"Q3\",\"JULY - SEPTEMBER (Q3)\",IF($F542=\"Q4\",\"OCTOBER - DECEMBER (Q4)\",0)))),INDIRECT(\"'Dental Rev-Exp \"&$H542&\"'!$A$7:$CA$7\"),0)+MATCH(N$1,INDIRECT(\"'Dental Rev-Exp \"&$H542&\"'!$D$8:$CA$8\"),0)-1)))","v":{"v":0,"d":"$0.00"}},{"v":0,"d":"$0.00"},{"v":0,"d":"$0.00"},{"v":0,"d":"$0.00"},{"v":0,"d":"$0.00"},{"v":0,"d":"$0.00"},"ASR-Dental_Financial_Report_SMMC_03.21.23","2023-03-21","Unaudited"]
["Dental","DEF","Default",1900,"1900-01-01","Q1","1900-03-31","Region 3","Operating Revenue","Capitation","Capitation","1.1","Capitation",{"v":0,"d":"$0.00"},{"v":0,"d":"$0.00"},{"v":0,"d":"$0.00"},{"v":0,"d":"$0.00"},{"v":0,"d":"$0.00"},{"v":0,"d":"$0.00"},"ASR-Dental_Financial_Report_SMMC_03.21.23","2023-03-21","Unaudited"]
["Dental","DEF","Default",1900,"1900-01-01","Q1","1900-03-31","Region 3","Operating Revenue","Other Revenue","Other Revenue - 9010","1.2","ACA § 9010 related payments",{"v":0,"d":"$0.00"},{"v":0,"d":"$0.00"},{"v":0,"d":"$0.00"},{"v":0,"d":"$0.00"},{"v":0,"d":"$0.00"},{"v":0,"d":"$0.00"},"ASR-Dental_Financial_Report_SMMC_03.21.23","2023-03-21","Unaudited"]
["Dental","DEF","Default",1900,"1900-01-01","Q1","1900-03-31","Region 3","Operating Revenue","Other Revenue","Other Revenue","1.3","Other Revenue",{"v":0,"d":"$0.00"},{"v":0,"d":"$0.00"},{"v":0,"d":"$0.00"},{"v":0,"d":"$0.00"},{"v":0,"d":"$0.00"},{"v":0,"d":"$0.00"},"ASR-Dental_Financial_Report_SMMC_03.21.23","2023-03-21","Unaudited"]
["Dental","DEF","Default",1900,"1900-01-01","Q1","1900-03-31","Region 3","Operating Expense","Medical Expense","Dental Services","2.1","Dental Services Diagnostic",{"v":0,"d":"$0.00"},{"v":0,"d":"$0.00"},{"v":0,"d":"$0.00"},{"v":0,"d":"$0.00"},{"v":0,"d":"$0.00"},{"v":0,"d":"$0.00"},"ASR-Dental_Financial_Report_SMMC_03.21.23","2023-03-21","Unaudited"]
["Dental","DEF","Default",1900,"1900-01-01","Q1","1900-03-31","Region 3","Operating Expense","Medical Expense","Dental Services",2.2,"Dental Services Preventive",{"v":0,"d":"$0.00"},{"v":0,"d":"$0.00"},{"v":0,"d":"$0.00"},{"v":0,"d":"$0.00"},{"v":0,"d":"$0.00"},{"v":0,"d":"$0.00"},"ASR-Dental_Financial_Report_SMMC_03.21.23","2023-03-21","Unaudited"]
["Dental","DEF","Default",1900,"1900-01-01","Q1","1900-03-31","Region 3","Operating Expense","Medical Expense","Dental Services","2.3","Dental Services Restorative",{"v":0,"d":"$0.00"},{"v":0,"d":"$0.00"},{"v":0,"d":"$0.00"},{"v":0,"d":"$0.00"},{"v":0,"d":"$0.00"},{"v":0,"d":"$0.00"},"ASR-Dental_Financial_Report_SMMC_03.21.23","2023-03-21","Unaudited"]
["Dental","DEF","Default",1900,"1900-01-01","Q1","1900-03-31","Region 3","Operating Expense","Medical Expense","Dental Services","2.4","Dental Services Endodontics",{"v":0,"d":"$0.00"},{"v":0,"d":"$0.00"},{"v":0,"d":"$0.00"},{"v":0,"d":"$0.00"},{"v":0,"d":"$0.00"},{"v":0,"d":"$0.00"},"ASR-Dental_Financial_Report_SMMC_03.21.23","2023-03-21","Unaudited"]
["Dental","DEF","Default",1900,"1900-01-01","Q1","1900-03-31","Region 3","Operating Expense","Medical Expense","Dental Services","2.5","Dental Services Periodontics",{"v":0,"d":"$0.00"},{"v":0,"d":"$0.00"},{"v":0,"d":"$0.00"},{"v":0,"d":"$0.00"},{"v":0,"d":"$0.00"},{"v":0,"d":"$0.00"},"ASR-Dental_Financial_Report_SMMC_03.21.23","2023-03-21","Unaudited"]
["Dental","DEF","Default",1900,"1900-01-01","Q1","1900-03-31","Region 3","Operating Expense","Medical Expense","Dental Services","2.6","Dental Services Prosthodontics",{"v":0,"d":"$0.00"},{"v":0,"d":"$0.00"},{"v":0,"d":"$0.00"},{"v":0,"d":"$0.00"},{"v":0,"d":"$0.00"},{"v":0,"d":"$0.00"},"ASR-Dental_Financial_Report_SMMC_03.21.23","2023-03-21","Unaudited"]
["Dental","DEF","Default",1900,"1900-01-01","Q1","1900-03-31","Region 3","Operating Expense","Medical Expense","Dental Services","2.7","Dental Services Prosthodontics, fixed",{"$f":"IF(OR(AND($F552=\"PY\",N$1<>\"Prior Year\"),AND($F552<>\"PY\",N$1=\"Prior Year\")),0,INDEX(INDIRECT(\"'Dental Rev-Exp \"&$H552&\"'!$A$1:$CA$200\"),IF($J552=\"Member Months\",MATCH($J552,INDIRECT(\"'Dental Rev-Exp \"&$H552&\"'!$A$1:$A$200\"),0),MATCH($L552,INDIRECT(\"'Dental Rev-Exp \"&$H552&\"'!$B$1:$B$200\"),0)),IF($F552=\"PY\",MATCH(\"Prior Year Adjustments\",INDIRECT(\"'Dental Rev-Exp \"&$H552&\"'!$A$8:$CA$8\"),0),MATCH(IF($F552=\"Q1\",\"JANUARY - MARCH (Q1)\",IF($F552=\"Q2\",\"APRIL - JUNE (Q2)\",IF($F552=\"Q3\",\"JULY - SEPTEMBER (Q3)\",IF($F552=\"Q4\",\"OCTOBER - DECEMBER (Q4)\",0)))),INDIRECT(\"'Dental Rev-Exp \"&$H552&\"'!$A$7:$CA$7\"),0)+MATCH(N$1,INDIRECT(\"'Dental Rev-Exp \"&$H552&\"'!$D$8:$CA$8\"),0)-1)))","v":{"v":0,"d":"$0.00"}},{"v":0,"d":"$0.00"},{"v":0,"d":"$0.00"},{"v":0,"d":"$0.00"},{"v":0,"d":"$0.00"},{"v":0,"d":"$0.00"},"ASR-Dental_Financial_Report_SMMC_03.21.23","2023-03-21","Unaudited"]
["Dental","DEF","Default",1900,"1900-01-01","Q1","1900-03-31","Region 3","Operating Expense","Medical Expense","Dental Services","2.8","Dental Services Oral and Maxillofacial Surgery",{"v":0,"d":"$0.00"},{"v":0,"d":"$0.00"},{"v":0,"d":"$0.00"},{"v":0,"d":"$0.00"},{"v":0,"d":"$0.00"},{"v":0,"d":"$0.00"},"ASR-Dental_Financial_Report_SMMC_03.21.23","2023-03-21","Unaudited"]
["Dental","DEF","Default",1900,"1900-01-01","Q1","1900-03-31","Region 3","Operating Expense","Medical Expense","Dental Services","2.9","Dental Services Orthodontics",{"v":0,"d":"$0.00"},{"v":0,"d":"$0.00"},{"v":0,"d":"$0.00"},{"v":0,"d":"$0.00"},{"v":0,"d":"$0.00"},{"v":0,"d":"$0.00"},"ASR-Dental_Financial_Report_SMMC_03.21.23","2023-03-21","Unaudited"]
["Dental","DEF","Default",1900,"1900-01-01","Q1","1900-03-31","Region 3","Operating Expense","Medical Expense","Dental Services","2.10","Dental Services Adjunctive General Services",{"v":0,"d":"$0.00"},{"v":0,"d":"$0.00"},{"v":0,"d":"$0.00"},{"v":0,"d":"$0.00"},{"v":0,"d":"$0.00"},{"v":0,"d":"$0.00"},"ASR-Dental_Financial_Report_SMMC_03.21.23","2023-03-21","Unaudited"]
["Dental","DEF","Default",1900,"1900-01-01","Q1","1900-03-31","Region 3","Operating Expense","Medical Expense","Dental Services","2.11","Dental Services Other",{"v":0,"d":"$0.00"},{"v":0,"d":"$0.00"},{"v":0,"d":"$0.00"},{"v":0,"d":"$0.00"},{"v":0,"d":"$0.00"},{"v":0,"d":"$0.00"},"ASR-Dental_Financial_Report_SMMC_03.21.23","2023-03-21","Unaudited"]
["Dental","DEF","Default",1900,"1900-01-01","Q1","1900-03-31","Region 3","Operating Expense","Medical Expense","Expanded Benefits","2.12","Dental Expanded Benefits",{"v":0,"d":"$0.00"},{"v":0,"d":"$0.00"},{"v":0,"d":"$0.00"},{"v":0,"d":"$0.00"},{"v":0,"d":"$0.00"},{"v":0,"d":"$0.00"},"ASR-Dental_Financial_Report_SMMC_03.21.23","2023-03-21","Unaudited"]
["Dental","DEF","Default",1900,"1900-01-01","Q1","1900-03-31","Region 3","Operating Expense","Medical Expense","Dental Services","2.13","Dental Services Paid through Subcapitation",{"v":0,"d":"$0.00"},{"v":0,"d":"$0.00"},{"v":0,"d":"$0.00"},{"v":0,"d":"$0.00"},{"v":0,"d":"$0.00"},{"v":0,"d":"$0.00"},"ASR-Dental_Financial_Report_SMMC_03.21.23","2023-03-21","Unaudited"]
["Dental","DEF","Default",1900,"1900-01-01","Q1","1900-03-31","Region 3","Operating Expense","Medical Expense","Dental Services","2.14","Ending IBNP for Dental Services",{"v":0,"d":"$0.00"},{"v":0,"d":"$0.00"},{"v":0,"d":"$0.00"},{"v":0,"d":"$0.00"},{"v":0,"d":"$0.00"},{"v":0,"d":"$0.00"},"ASR-Dental_Financial_Report_SMMC_03.21.23","2023-03-21","Unaudited"]
["Dental","DEF","Default",1900,"1900-01-01","Q1","1900-03-31","Region 3","Operating Expense","Medical Expense","Dental Services","2.15","Dental Settlements/AP",{"v":0,"d":"$0.00"},{"v":0,"d":"$0.00"},{"v":0,"d":"$0.00"},{"v":0,"d":"$0.00"},{"v":0,"d":"$0.00"},{"v":0,"d":"$0.00"},"ASR-Dental_Financial_Report_SMMC_03.21.23","2023-03-21","Unaudited"]
["Dental","DEF","Default",1900,"1900-01-01","Q1","1900-03-31","Region 3","Operating Expense","Medical Expense","Other Medical","3.5","TPL & Fraud/Abuse Recoveries",{"v":0,"d":"$0.00"},{"v":0,"d":"$0.00"},{"v":0,"d":"$0.00"},{"v":0,"d":"$0.00"},{"v":0,"d":"$0.00"},{"v":0,"d":"$0.00"},"ASR-Dental_Financial_Report_SMMC_03.21.23","2023-03-21","Unaudited"]
["Dental","DEF","Default",1900,"1900-01-01","Q1","1900-03-31","Region 3","Operating Expense","Medical Expense","Other Medical",3.6,"Premium Deficiency Reserve",{"$f":"IF(OR(AND($F562=\"PY\",N$1<>\"Prior Year\"),AND($F562<>\"PY\",N$1=\"Prior Year\")),0,INDEX(INDIRECT(\"'Dental Rev-Exp \"&$H562&\"'!$A$1:$CA$200\"),IF($J562=\"Member Months\",MATCH($J562,INDIRECT(\"'Dental Rev-Exp \"&$H562&\"'!$A$1:$A$200\"),0),MATCH($L562,INDIRECT(\"'Dental Rev-Exp \"&$H562&\"'!$B$1:$B$200\"),0)),IF($F562=\"PY\",MATCH(\"Prior Year Adjustments\",INDIRECT(\"'Dental Rev-Exp \"&$H562&\"'!$A$8:$CA$8\"),0),MATCH(IF($F562=\"Q1\",\"JANUARY - MARCH (Q1)\",IF($F562=\"Q2\",\"APRIL - JUNE (Q2)\",IF($F562=\"Q3\",\"JULY - SEPTEMBER (Q3)\",IF($F562=\"Q4\",\"OCTOBER - DECEMBER (Q4)\",0)))),INDIRECT(\"'Dental Rev-Exp \"&$H562&\"'!$A$7:$CA$7\"),0)+MATCH(N$1,INDIRECT(\"'Dental Rev-Exp \"&$H562&\"'!$D$8:$CA$8\"),0)-1)))","v":{"v":0,"d":"$0.00"}},{"v":0,"d":"$0.00"},{"v":0,"d":"$0.00"},{"v":0,"d":"$0.00"},{"v":0,"d":"$0.00"},{"v":0,"d":"$0.00"},"ASR-Dental_Financial_Report_SMMC_03.21.23","2023-03-21","Unaudited"]
["Dental","DEF","Default",1900,"1900-01-01","Q1","1900-03-31","Region 3","Operating Expense","Medical Expense","Other Medical","3.8","Reinsurance Premiums",{"v":0,"d":"$0.00"},{"v":0,"d":"$0.00"},{"v":0,"d":"$0.00"},{"v":0,"d":"$0.00"},{"v":0,"d":"$0.00"},{"v":0,"d":"$0.00"},"ASR-Dental_Financial_Report_SMMC_03.21.23","2023-03-21","Unaudited"]
["Dental","DEF","Default",1900,"1900-01-01","Q1","1900-03-31","Region 3","Operating Expense","Medical Expense","Other Medical","3.9","Reinsurance Recoveries",{"v":0,"d":"$0.00"},{"v":0,"d":"$0.00"},{"v":0,"d":"$0.00"},{"v":0,"d":"$0.00"},{"v":0,"d":"$0.00"},{"v":0,"d":"$0.00"},"ASR-Dental_Financial_Report_SMMC_03.21.23","2023-03-21","Unaudited"]
["Dental","DEF","Default",1900,"1900-01-01","Q1","1900-03-31","Region 3","Operating Expense","Administrative Expense","Administrative","4.1","Salaries & Benefits",{"v":0,"d":"$0.00"},{"v":0,"d":"$0.00"},{"v":0,"d":"$0.00"},{"v":0,"d":"$0.00"},{"v":0,"d":"$0.00"},{"v":0,"d":"$0.00"},"ASR-Dental_Financial_Report_SMMC_03.21.23","2023-03-21","Unaudited"]
["Dental","DEF","Default",1900,"1900-01-01","Q1","1900-03-31","Region 3","Operating Expense","Administrative Expense","Administrative","4.2","Administrative Services",{"v":0,"d":"$0.00"},{"v":0,"d":"$0.00"},{"v":0,"d":"$0.00"},{"v":0,"d":"$0.00"},{"v":0,"d":"$0.00"},{"v":0,"d":"$0.00"},"ASR-Dental_Financial_Report_SMMC_03.21.23","2023-03-21","Unaudited"]
["Dental","DEF","Default",1900,"1900-01-01","Q1","1900-03-31","Region 3","Operating Expense","Administrative Expense","Administrative","4.3","Information Systems",{"v":0,"d":"$0.00"},{"v":0,"d":"$0.00"},{"v":0,"d":"$0.00"},{"v":0,"d":"$0.00"},{"v":0,"d":"$0.00"},{"v":0,"d":"$0.00"},"ASR-Dental_Financial_Report_SMMC_03.21.23","2023-03-21","Unaudited"]
["Dental","DEF","Default",1900,"1900-01-01","Q1","1900-03-31","Region 3","Operating Expense","Administrative Expense","Administrative","4.4","Marketing Expenses",{"v":0,"d":"$0.00"},{"v":0,"d":"$0.00"},{"v":0,"d":"$0.00"},{"v":0,"d":"$0.00"},{"v":0,"d":"$0.00"},{"v":0,"d":"$0.00"},"ASR-Dental_Financial_Report_SMMC_03.21.23","2023-03-21","Unaudited"]
["Dental","DEF","Default",1900,"1900-01-01","Q1","1900-03-31","Region 3","Operating Expense","Administrative Expense","Administrative","4.5","General  Administration",{"v":0,"d":"$0.00"},{"v":0,"d":"$0.00"},{"v":0,"d":"$0.00"},{"v":0,"d":"$0.00"},{"v":0,"d":"$0.00"},{"v":0,"d":"$0.00"},"ASR-Dental_Financial_Report_SMMC_03.21.23","2023-03-21","Unaudited"]
["Dental","DEF","Default",1900,"1900-01-01","Q1","1900-03-31","Region 3","Operating Expense","Administrative Expense","Administrative","4.6","Compliance/Regulatory",{"v":0,"d":"$0.00"},{"v":0,"d":"$0.00"},{"v":0,"d":"$0.00"},{"v":0,"d":"$0.00"},{"v":0,"d":"$0.00"},{"v":0,"d":"$0.00"},"ASR-Dental_Financial_Report_SMMC_03.21.23","2023-03-21","Unaudited"]
["Dental","DEF","Default",1900,"1900-01-01","Q1","1900-03-31","Region 3","Operating Expense","Taxes & Fees","Taxes & Fees","5.1","State Premium tax",{"v":0,"d":"$0.00"},{"v":0,"d":"$0.00"},{"v":0,"d":"$0.00"},{"v":0,"d":"$0.00"},{"v":0,"d":"$0.00"},{"v":0,"d":"$0.00"},"ASR-Dental_Financial_Report_SMMC_03.21.23","2023-03-21","Unaudited"]
["Dental","DEF","Default",1900,"1900-01-01","Q1","1900-03-31","Region 3","Operating Expense","Taxes & Fees","Taxes & Fees","5.2","Department of Insurance Assessments",{"$f":"IF(OR(AND($F572=\"PY\",N$1<>\"Prior Year\"),AND($F572<>\"PY\",N$1=\"Prior Year\")),0,INDEX(INDIRECT(\"'Dental Rev-Exp \"&$H572&\"'!$A$1:$CA$200\"),IF($J572=\"Member Months\",MATCH($J572,INDIRECT(\"'Dental Rev-Exp \"&$H572&\"'!$A$1:$A$200\"),0),MATCH($L572,INDIRECT(\"'Dental Rev-Exp \"&$H572&\"'!$B$1:$B$200\"),0)),IF($F572=\"PY\",MATCH(\"Prior Year Adjustments\",INDIRECT(\"'Dental Rev-Exp \"&$H572&\"'!$A$8:$CA$8\"),0),MATCH(IF($F572=\"Q1\",\"JANUARY - MARCH (Q1)\",IF($F572=\"Q2\",\"APRIL - JUNE (Q2)\",IF($F572=\"Q3\",\"JULY - SEPTEMBER (Q3)\",IF($F572=\"Q4\",\"OCTOBER - DECEMBER (Q4)\",0)))),INDIRECT(\"'Dental Rev-Exp \"&$H572&\"'!$A$7:$CA$7\"),0)+MATCH(N$1,INDIRECT(\"'Dental Rev-Exp \"&$H572&\"'!$D$8:$CA$8\"),0)-1)))","v":{"v":0,"d":"$0.00"}},{"v":0,"d":"$0.00"},{"v":0,"d":"$0.00"},{"v":0,"d":"$0.00"},{"v":0,"d":"$0.00"},{"v":0,"d":"$0.00"},"ASR-Dental_Financial_Report_SMMC_03.21.23","2023-03-21","Unaudited"]
["Dental","DEF","Default",1900,"1900-01-01","Q1","1900-03-31","Region 3","Operating Expense","Taxes & Fees","Taxes & Fees","5.3","Section 9010 Health Insurance Providers Fee",{"v":0,"d":"$0.00"},{"v":0,"d":"$0.00"},{"v":0,"d":"$0.00"},{"v":0,"d":"$0.00"},{"v":0,"d":"$0.00"},{"v":0,"d":"$0.00"},"ASR-Dental_Financial_Report_SMMC_03.21.23","2023-03-21","Unaudited"]
["Dental","DEF","Default",1900,"1900-01-01","Q1","1900-03-31","Region 3","Operating Expense","Taxes & Fees","Taxes & Fees","5.4","Other 1",{"v":0,"d":"$0.00"},{"v":0,"d":"$0.00"},{"v":0,"d":"$0.00"},{"v":0,"d":"$0.00"},{"v":0,"d":"$0.00"},{"v":0,"d":"$0.00"},"ASR-Dental_Financial_Report_SMMC_03.21.23","2023-03-21","Unaudited"]
["Dental","DEF","Default",1900,"1900-01-01","Q1","1900-03-31","Region 3","Operating Expense","Taxes & Fees","Taxes & Fees","5.5","Other 2",{"v":0,"d":"$0.00"},{"v":0,"d":"$0.00"},{"v":0,"d":"$0.00"},{"v":0,"d":"$0.00"},{"v":0,"d":"$0.00"},{"v":0,"d":"$0.00"},"ASR-Dental_Financial_Report_SMMC_03.21.23","2023-03-21","Unaudited"]
["Dental","DEF","Default",1900,"1900-01-01","Q1","1900-03-31","Region 3","Operating Expense","Taxes & Fees","Taxes & Fees","5.6","Other 3",{"v":0,"d":"$0.00"},{"v":0,"d":"$0.00"},{"v":0,"d":"$0.00"},{"v":0,"d":"$0.00"},{"v":0,"d":"$0.00"},{"v":0,"d":"$0.00"},"ASR-Dental_Financial_Report_SMMC_03.21.23","2023-03-21","Unaudited"]
["Dental","DEF","Default",1900,"1900-01-01","Q1","1900-03-31","Region 3","Non-Operating Expense","Income Tax Expense","Income Tax Expense","8.0","Income Tax Expense",{"v":0,"d":"$0.00"},{"v":0,"d":"$0.00"},{"v":0,"d":"$0.00"},{"v":0,"d":"$0.00"},{"v":0,"d":"$0.00"},{"v":0,"d":"$0.00"},"ASR-Dental_Financial_Report_SMMC_03.21.23","2023-03-21","Unaudited"]
["Dental","DEF","Default",1900,"1900-01-01","Q2","1900-06-30","Region 3","Member Months","Member Months","Member Months",null,"Member Months",{"v":0,"d":"$0.00"},{"v":0,"d":"$0.00"},{"v":0,"d":"$0.00"},{"v":0,"d":"$0.00"},{"v":0,"d":"$0.00"},{"v":0,"d":"$0.00"},{"$f":"file_name","v":"ASR-Dental_Financial_Report_SMMC_03.21.23"},{"$f":"file_date","v":"2023-03-21"},{"$f":"status","v":"Unaudited"}]
["Dental","DEF","Default",1900,"1900-01-01","Q2","1900-06-30","Region 3","Operating Revenue","Capitation","Capitation","1.1","Capitation",{"v":0,"d":"$0.00"},{"v":0,"d":"$0.00"},{"v":0,"d":"$0.00"},{"v":0,"d":"$0.00"},{"v":0,"d":"$0.00"},{"v":0,"d":"$0.00"},"ASR-Dental_Financial_Report_SMMC_03.21.23","2023-03-21","Unaudited"]
["Dental","DEF","Default",1900,"1900-01-01","Q2","1900-06-30","Region 3","Operating Revenue","Other Revenue","Other Revenue - 9010","1.2","ACA § 9010 related payments",{"v":0,"d":"$0.00"},{"v":0,"d":"$0.00"},{"v":0,"d":"$0.00"},{"v":0,"d":"$0.00"},{"v":0,"d":"$0.00"},{"v":0,"d":"$0.00"},"ASR-Dental_Financial_Report_SMMC_03.21.23","2023-03-21","Unaudited"]
["Dental","DEF","Default",1900,"1900-01-01","Q2","1900-06-30","Region 3","Operating Revenue","Other Revenue","Other Revenue","1.3","Other Revenue",{"v":0,"d":"$0.00"},{"v":0,"d":"$0.00"},{"v":0,"d":"$0.00"},{"v":0,"d":"$0.00"},{"v":0,"d":"$0.00"},{"v":0,"d":"$0.00"},"ASR-Dental_Financial_Report_SMMC_03.21.23","2023-03-21","Unaudited"]
["Dental","DEF","Default",1900,"1900-01-01","Q2","1900-06-30","Region 3","Operating Expense","Medical Expense","Dental Services","2.1","Dental Services Diagnostic",{"$f":"IF(OR(AND($F582=\"PY\",N$1<>\"Prior Year\"),AND($F582<>\"PY\",N$1=\"Prior Year\")),0,INDEX(INDIRECT(\"'Dental Rev-Exp \"&$H582&\"'!$A$1:$CA$200\"),IF($J582=\"Member Months\",MATCH($J582,INDIRECT(\"'Dental Rev-Exp \"&$H582&\"'!$A$1:$A$200\"),0),MATCH($L582,INDIRECT(\"'Dental Rev-Exp \"&$H582&\"'!$B$1:$B$200\"),0)),IF($F582=\"PY\",MATCH(\"Prior Year Adjustments\",INDIRECT(\"'Dental Rev-Exp \"&$H582&\"'!$A$8:$CA$8\"),0),MATCH(IF($F582=\"Q1\",\"JANUARY - MARCH (Q1)\",IF($F582=\"Q2\",\"APRIL - JUNE (Q2)\",IF($F582=\"Q3\",\"JULY - SEPTEMBER (Q3)\",IF($F582=\"Q4\",\"OCTOBER - DECEMBER (Q4)\",0)))),INDIRECT(\"'Dental Rev-Exp \"&$H582&\"'!$A$7:$CA$7\"),0)+MATCH(N$1,INDIRECT(\"'Dental Rev-Exp \"&$H582&\"'!$D$8:$CA$8\"),0)-1)))","v":{"v":0,"d":"$0.00"}},{"v":0,"d":"$0.00"},{"v":0,"d":"$0.00"},{"v":0,"d":"$0.00"},{"v":0,"d":"$0.00"},{"v":0,"d":"$0.00"},"ASR-Dental_Financial_Report_SMMC_03.21.23","2023-03-21","Unaudited"]
["Dental","DEF","Default",1900,"1900-01-01","Q2","1900-06-30","Region 3","Operating Expense","Medical Expense","Dental Services",2.2,"Dental Services Preventive",{"v":0,"d":"$0.00"},{"v":0,"d":"$0.00"},{"v":0,"d":"$0.00"},{"v":0,"d":"$0.00"},{"v":0,"d":"$0.00"},{"v":0,"d":"$0.00"},"ASR-Dental_Financial_Report_SMMC_03.21.23","2023-03-21","Unaudited"]
["Dental","DEF","Default",1900,"1900-01-01","Q2","1900-06-30","Region 3","Operating Expense","Medical Expense","Dental Services","2.3","Dental Services Restorative",{"v":0,"d":"$0.00"},{"v":0,"d":"$0.00"},{"v":0,"d":"$0.00"},{"v":0,"d":"$0.00"},{"v":0,"d":"$0.00"},{"v":0,"d":"$0.00"},"ASR-Dental_Financial_Report_SMMC_03.21.23","2023-03-21","Unaudited"]
["Dental","DEF","Default",1900,"1900-01-01","Q2","1900-06-30","Region 3","Operating Expense","Medical Expense","Dental Services","2.4","Dental Services Endodontics",{"v":0,"d":"$0.00"},{"v":0,"d":"$0.00"},{"v":0,"d":"$0.00"},{"v":0,"d":"$0.00"},{"v":0,"d":"$0.00"},{"v":0,"d":"$0.00"},"ASR-Dental_Financial_Report_SMMC_03.21.23","2023-03-21","Unaudited"]
["Dental","DEF","Default",1900,"1900-01-01","Q2","1900-06-30","Region 3","Operating Expense","Medical Expense","Dental Services","2.5","Dental Services Periodontics",{"v":0,"d":"$0.00"},{"v":0,"d":"$0.00"},{"v":0,"d":"$0.00"},{"v":0,"d":"$0.00"},{"v":0,"d":"$0.00"},{"v":0,"d":"$0.00"},"ASR-Dental_Financial_Report_SMMC_03.21.23","2023-03-21","Unaudited"]
["Dental","DEF","Default",1900,"1900-01-01","Q2","1900-06-30","Region 3","Operating Expense","Medical Expense","Dental Services","2.6","Dental Services Prosthodontics",{"v":0,"d":"$0.00"},{"v":0,"d":"$0.00"},{"v":0,"d":"$0.00"},{"v":0,"d":"$0.00"},{"v":0,"d":"$0.00"},{"v":0,"d":"$0.00"},"ASR-Dental_Financial_Report_SMMC_03.21.23","2023-03-21","Unaudited"]
["Dental","DEF","Default",1900,"1900-01-01","Q2","1900-06-30","Region 3","Operating Expense","Medical Expense","Dental Services","2.7","Dental Services Prosthodontics, fixed",{"v":0,"d":"$0.00"},{"v":0,"d":"$0.00"},{"v":0,"d":"$0.00"},{"v":0,"d":"$0.00"},{"v":0,"d":"$0.00"},{"v":0,"d":"$0.00"},"ASR-Dental_Financial_Report_SMMC_03.21.23","2023-03-21","Unaudited"]
["Dental","DEF","Default",1900,"1900-01-01","Q2","1900-06-30","Region 3","Operating Expense","Medical Expense","Dental Services","2.8","Dental Services Oral and Maxillofacial Surgery",{"v":0,"d":"$0.00"},{"v":0,"d":"$0.00"},{"v":0,"d":"$0.00"},{"v":0,"d":"$0.00"},{"v":0,"d":"$0.00"},{"v":0,"d":"$0.00"},"ASR-Dental_Financial_Report_SMMC_03.21.23","2023-03-21","Unaudited"]
["Dental","DEF","Default",1900,"1900-01-01","Q2","1900-06-30","Region 3","Operating Expense","Medical Expense","Dental Services","2.9","Dental Services Orthodontics",{"v":0,"d":"$0.00"},{"v":0,"d":"$0.00"},{"v":0,"d":"$0.00"},{"v":0,"d":"$0.00"},{"v":0,"d":"$0.00"},{"v":0,"d":"$0.00"},"ASR-Dental_Financial_Report_SMMC_03.21.23","2023-03-21","Unaudited"]
["Dental","DEF","Default",1900,"1900-01-01","Q2","1900-06-30","Region 3","Operating Expense","Medical Expense","Dental Services","2.10","Dental Services Adjunctive General Services",{"v":0,"d":"$0.00"},{"v":0,"d":"$0.00"},{"v":0,"d":"$0.00"},{"v":0,"d":"$0.00"},{"v":0,"d":"$0.00"},{"v":0,"d":"$0.00"},"ASR-Dental_Financial_Report_SMMC_03.21.23","2023-03-21","Unaudited"]
["Dental","DEF","Default",1900,"1900-01-01","Q2","1900-06-30","Region 3","Operating Expense","Medical Expense","Dental Services","2.11","Dental Services Other",{"$f":"IF(OR(AND($F592=\"PY\",N$1<>\"Prior Year\"),AND($F592<>\"PY\",N$1=\"Prior Year\")),0,INDEX(INDIRECT(\"'Dental Rev-Exp \"&$H592&\"'!$A$1:$CA$200\"),IF($J592=\"Member Months\",MATCH($J592,INDIRECT(\"'Dental Rev-Exp \"&$H592&\"'!$A$1:$A$200\"),0),MATCH($L592,INDIRECT(\"'Dental Rev-Exp \"&$H592&\"'!$B$1:$B$200\"),0)),IF($F592=\"PY\",MATCH(\"Prior Year Adjustments\",INDIRECT(\"'Dental Rev-Exp \"&$H592&\"'!$A$8:$CA$8\"),0),MATCH(IF($F592=\"Q1\",\"JANUARY - MARCH (Q1)\",IF($F592=\"Q2\",\"APRIL - JUNE (Q2)\",IF($F592=\"Q3\",\"JULY - SEPTEMBER (Q3)\",IF($F592=\"Q4\",\"OCTOBER - DECEMBER (Q4)\",0)))),INDIRECT(\"'Dental Rev-Exp \"&$H592&\"'!$A$7:$CA$7\"),0)+MATCH(N$1,INDIRECT(\"'Dental Rev-Exp \"&$H592&\"'!$D$8:$CA$8\"),0)-1)))","v":{"v":0,"d":"$0.00"}},{"v":0,"d":"$0.00"},{"v":0,"d":"$0.00"},{"v":0,"d":"$0.00"},{"v":0,"d":"$0.00"},{"v":0,"d":"$0.00"},"ASR-Dental_Financial_Report_SMMC_03.21.23","2023-03-21","Unaudited"]
["Dental","DEF","Default",1900,"1900-01-01","Q2","1900-06-30","Region 3","Operating Expense","Medical Expense","Expanded Benefits","2.12","Dental Expanded Benefits",{"v":0,"d":"$0.00"},{"v":0,"d":"$0.00"},{"v":0,"d":"$0.00"},{"v":0,"d":"$0.00"},{"v":0,"d":"$0.00"},{"v":0,"d":"$0.00"},"ASR-Dental_Financial_Report_SMMC_03.21.23","2023-03-21","Unaudited"]
["Dental","DEF","Default",1900,"1900-01-01","Q2","1900-06-30","Region 3","Operating Expense","Medical Expense","Dental Services","2.13","Dental Services Paid through Subcapitation",{"v":0,"d":"$0.00"},{"v":0,"d":"$0.00"},{"v":0,"d":"$0.00"},{"v":0,"d":"$0.00"},{"v":0,"d":"$0.00"},{"v":0,"d":"$0.00"},"ASR-Dental_Financial_Report_SMMC_03.21.23","2023-03-21","Unaudited"]
["Dental","DEF","Default",1900,"1900-01-01","Q2","1900-06-30","Region 3","Operating Expense","Medical Expense","Dental Services","2.14","Ending IBNP for Dental Services",{"v":0,"d":"$0.00"},{"v":0,"d":"$0.00"},{"v":0,"d":"$0.00"},{"v":0,"d":"$0.00"},{"v":0,"d":"$0.00"},{"v":0,"d":"$0.00"},"ASR-Dental_Financial_Report_SMMC_03.21.23","2023-03-21","Unaudited"]
["Dental","DEF","Default",1900,"1900-01-01","Q2","1900-06-30","Region 3","Operating Expense","Medical Expense","Dental Services","2.15","Dental Settlements/AP",{"v":0,"d":"$0.00"},{"v":0,"d":"$0.00"},{"v":0,"d":"$0.00"},{"v":0,"d":"$0.00"},{"v":0,"d":"$0.00"},{"v":0,"d":"$0.00"},"ASR-Dental_Financial_Report_SMMC_03.21.23","2023-03-21","Unaudited"]
["Dental","DEF","Default",1900,"1900-01-01","Q2","1900-06-30","Region 3","Operating Expense","Medical Expense","Other Medical","3.5","TPL & Fraud/Abuse Recoveries",{"v":0,"d":"$0.00"},{"v":0,"d":"$0.00"},{"v":0,"d":"$0.00"},{"v":0,"d":"$0.00"},{"v":0,"d":"$0.00"},{"v":0,"d":"$0.00"},"ASR-Dental_Financial_Report_SMMC_03.21.23","2023-03-21","Unaudited"]
["Dental","DEF","Default",1900,"1900-01-01","Q2","1900-06-30","Region 3","Operating Expense","Medical Expense","Other Medical",3.6,"Premium Deficiency Reserve",{"v":0,"d":"$0.00"},{"v":0,"d":"$0.00"},{"v":0,"d":"$0.00"},{"v":0,"d":"$0.00"},{"v":0,"d":"$0.00"},{"v":0,"d":"$0.00"},"ASR-Dental_Financial_Report_SMMC_03.21.23","2023-03-21","Unaudited"]
["Dental","DEF","Default",1900,"1900-01-01","Q2","1900-06-30","Region 3","Operating Expense","Medical Expense","Other Medical","3.8","Reinsurance Premiums",{"v":0,"d":"$0.00"},{"v":0,"d":"$0.00"},{"v":0,"d":"$0.00"},{"v":0,"d":"$0.00"},{"v":0,"d":"$0.00"},{"v":0,"d":"$0.00"},"ASR-Dental_Financial_Report_SMMC_03.21.23","2023-03-21","Unaudited"]
["Dental","DEF","Default",1900,"1900-01-01","Q2","1900-06-30","Region 3","Operating Expense","Medical Expense","Other Medical","3.9","Reinsurance Recoveries",{"v":0,"d":"$0.00"},{"v":0,"d":"$0.00"},{"v":0,"d":"$0.00"},{"v":0,"d":"$0.00"},{"v":0,"d":"$0.00"},{"v":0,"d":"$0.00"},"ASR-Dental_Financial_Report_SMMC_03.21.23","2023-03-21","Unaudited"]
["Dental","DEF","Default",1900,"1900-01-01","Q2","1900-06-30","Region 3","Operating Expense","Administrative Expense","Administrative","4.1","Salaries & Benefits",{"v":0,"d":"$0.00"},{"v":0,"d":"$0.00"},{"v":0,"d":"$0.00"},{"v":0,"d":"$0.00"},{"v":0,"d":"$0.00"},{"v":0,"d":"$0.00"},"ASR-Dental_Financial_Report_SMMC_03.21.23","2023-03-21","Unaudited"]
["Dental","DEF","Default",1900,"1900-01-01","Q2","1900-06-30","Region 3","Operating Expense","Administrative Expense","Administrative","4.2","Administrative Services",{"$f":"IF(OR(AND($F602=\"PY\",N$1<>\"Prior Year\"),AND($F602<>\"PY\",N$1=\"Prior Year\")),0,INDEX(INDIRECT(\"'Dental Rev-Exp \"&$H602&\"'!$A$1:$CA$200\"),IF($J602=\"Member Months\",MATCH($J602,INDIRECT(\"'Dental Rev-Exp \"&$H602&\"'!$A$1:$A$200\"),0),MATCH($L602,INDIRECT(\"'Dental Rev-Exp \"&$H602&\"'!$B$1:$B$200\"),0)),IF($F602=\"PY\",MATCH(\"Prior Year Adjustments\",INDIRECT(\"'Dental Rev-Exp \"&$H602&\"'!$A$8:$CA$8\"),0),MATCH(IF($F602=\"Q1\",\"JANUARY - MARCH (Q1)\",IF($F602=\"Q2\",\"APRIL - JUNE (Q2)\",IF($F602=\"Q3\",\"JULY - SEPTEMBER (Q3)\",IF($F602=\"Q4\",\"OCTOBER - DECEMBER (Q4)\",0)))),INDIRECT(\"'Dental Rev-Exp \"&$H602&\"'!$A$7:$CA$7\"),0)+MATCH(N$1,INDIRECT(\"'Dental Rev-Exp \"&$H602&\"'!$D$8:$CA$8\"),0)-1)))","v":{"v":0,"d":"$0.00"}},{"v":0,"d":"$0.00"},{"v":0,"d":"$0.00"},{"v":0,"d":"$0.00"},{"v":0,"d":"$0.00"},{"v":0,"d":"$0.00"},"ASR-Dental_Financial_Report_SMMC_03.21.23","2023-03-21","Unaudited"]
["Dental","DEF","Default",1900,"1900-01-01","Q2","1900-06-30","Region 3","Operating Expense","Administrative Expense","Administrative","4.3","Information Systems",{"v":0,"d":"$0.00"},{"v":0,"d":"$0.00"},{"v":0,"d":"$0.00"},{"v":0,"d":"$0.00"},{"v":0,"d":"$0.00"},{"v":0,"d":"$0.00"},"ASR-Dental_Financial_Report_SMMC_03.21.23","2023-03-21","Unaudited"]
["Dental","DEF","Default",1900,"1900-01-01","Q2","1900-06-30","Region 3","Operating Expense","Administrative Expense","Administrative","4.4","Marketing Expenses",{"v":0,"d":"$0.00"},{"v":0,"d":"$0.00"},{"v":0,"d":"$0.00"},{"v":0,"d":"$0.00"},{"v":0,"d":"$0.00"},{"v":0,"d":"$0.00"},"ASR-Dental_Financial_Report_SMMC_03.21.23","2023-03-21","Unaudited"]
["Dental","DEF","Default",1900,"1900-01-01","Q2","1900-06-30","Region 3","Operating Expense","Administrative Expense","Administrative","4.5","General  Administration",{"v":0,"d":"$0.00"},{"v":0,"d":"$0.00"},{"v":0,"d":"$0.00"},{"v":0,"d":"$0.00"},{"v":0,"d":"$0.00"},{"v":0,"d":"$0.00"},"ASR-Dental_Financial_Report_SMMC_03.21.23","2023-03-21","Unaudited"]
["Dental","DEF","Default",1900,"1900-01-01","Q2","1900-06-30","Region 3","Operating Expense","Administrative Expense","Administrative","4.6","Compliance/Regulatory",{"v":0,"d":"$0.00"},{"v":0,"d":"$0.00"},{"v":0,"d":"$0.00"},{"v":0,"d":"$0.00"},{"v":0,"d":"$0.00"},{"v":0,"d":"$0.00"},"ASR-Dental_Financial_Report_SMMC_03.21.23","2023-03-21","Unaudited"]
["Dental","DEF","Default",1900,"1900-01-01","Q2","1900-06-30","Region 3","Operating Expense","Taxes & Fees","Taxes & Fees","5.1","State Premium tax",{"v":0,"d":"$0.00"},{"v":0,"d":"$0.00"},{"v":0,"d":"$0.00"},{"v":0,"d":"$0.00"},{"v":0,"d":"$0.00"},{"v":0,"d":"$0.00"},"ASR-Dental_Financial_Report_SMMC_03.21.23","2023-03-21","Unaudited"]
["Dental","DEF","Default",1900,"1900-01-01","Q2","1900-06-30","Region 3","Operating Expense","Taxes & Fees","Taxes & Fees","5.2","Department of Insurance Assessments",{"v":0,"d":"$0.00"},{"v":0,"d":"$0.00"},{"v":0,"d":"$0.00"},{"v":0,"d":"$0.00"},{"v":0,"d":"$0.00"},{"v":0,"d":"$0.00"},"ASR-Dental_Financial_Report_SMMC_03.21.23","2023-03-21","Unaudited"]
["Dental","DEF","Default",1900,"1900-01-01","Q2","1900-06-30","Region 3","Operating Expense","Taxes & Fees","Taxes & Fees","5.3","Section 9010 Health Insurance Providers Fee",{"v":0,"d":"$0.00"},{"v":0,"d":"$0.00"},{"v":0,"d":"$0.00"},{"v":0,"d":"$0.00"},{"v":0,"d":"$0.00"},{"v":0,"d":"$0.00"},"ASR-Dental_Financial_Report_SMMC_03.21.23","2023-03-21","Unaudited"]
["Dental","DEF","Default",1900,"1900-01-01","Q2","1900-06-30","Region 3","Operating Expense","Taxes & Fees","Taxes & Fees","5.4","Other 1",{"v":0,"d":"$0.00"},{"v":0,"d":"$0.00"},{"v":0,"d":"$0.00"},{"v":0,"d":"$0.00"},{"v":0,"d":"$0.00"},{"v":0,"d":"$0.00"},"ASR-Dental_Financial_Report_SMMC_03.21.23","2023-03-21","Unaudited"]
["Dental","DEF","Default",1900,"1900-01-01","Q2","1900-06-30","Region 3","Operating Expense","Taxes & Fees","Taxes & Fees","5.5","Other 2",{"v":0,"d":"$0.00"},{"v":0,"d":"$0.00"},{"v":0,"d":"$0.00"},{"v":0,"d":"$0.00"},{"v":0,"d":"$0.00"},{"v":0,"d":"$0.00"},"ASR-Dental_Financial_Report_SMMC_03.21.23","2023-03-21","Unaudited"]
["Dental","DEF","Default",1900,"1900-01-01","Q2","1900-06-30","Region 3","Operating Expense","Taxes & Fees","Taxes & Fees","5.6","Other 3",{"$f":"IF(OR(AND($F612=\"PY\",N$1<>\"Prior Year\"),AND($F612<>\"PY\",N$1=\"Prior Year\")),0,INDEX(INDIRECT(\"'Dental Rev-Exp \"&$H612&\"'!$A$1:$CA$200\"),IF($J612=\"Member Months\",MATCH($J612,INDIRECT(\"'Dental Rev-Exp \"&$H612&\"'!$A$1:$A$200\"),0),MATCH($L612,INDIRECT(\"'Dental Rev-Exp \"&$H612&\"'!$B$1:$B$200\"),0)),IF($F612=\"PY\",MATCH(\"Prior Year Adjustments\",INDIRECT(\"'Dental Rev-Exp \"&$H612&\"'!$A$8:$CA$8\"),0),MATCH(IF($F612=\"Q1\",\"JANUARY - MARCH (Q1)\",IF($F612=\"Q2\",\"APRIL - JUNE (Q2)\",IF($F612=\"Q3\",\"JULY - SEPTEMBER (Q3)\",IF($F612=\"Q4\",\"OCTOBER - DECEMBER (Q4)\",0)))),INDIRECT(\"'Dental Rev-Exp \"&$H612&\"'!$A$7:$CA$7\"),0)+MATCH(N$1,INDIRECT(\"'Dental Rev-Exp \"&$H612&\"'!$D$8:$CA$8\"),0)-1)))","v":{"v":0,"d":"$0.00"}},{"v":0,"d":"$0.00"},{"v":0,"d":"$0.00"},{"v":0,"d":"$0.00"},{"v":0,"d":"$0.00"},{"v":0,"d":"$0.00"},"ASR-Dental_Financial_Report_SMMC_03.21.23","2023-03-21","Unaudited"]
["Dental","DEF","Default",1900,"1900-01-01","Q2","1900-06-30","Region 3","Non-Operating Expense","Income Tax Expense","Income Tax Expense","8.0","Income Tax Expense",{"v":0,"d":"$0.00"},{"v":0,"d":"$0.00"},{"v":0,"d":"$0.00"},{"v":0,"d":"$0.00"},{"v":0,"d":"$0.00"},{"v":0,"d":"$0.00"},"ASR-Dental_Financial_Report_SMMC_03.21.23","2023-03-21","Unaudited"]
["Dental","DEF","Default",1900,"1900-01-01","Q3","1900-09-30","Region 3","Member Months","Member Months","Member Months",null,"Member Months",{"v":0,"d":"$0.00"},{"v":0,"d":"$0.00"},{"v":0,"d":"$0.00"},{"v":0,"d":"$0.00"},{"v":0,"d":"$0.00"},{"v":0,"d":"$0.00"},"ASR-Dental_Financial_Report_SMMC_03.21.23","2023-03-21","Unaudited"]
["Dental","DEF","Default",1900,"1900-01-01","Q3","1900-09-30","Region 3","Operating Revenue","Capitation","Capitation","1.1","Capitation",{"v":0,"d":"$0.00"},{"v":0,"d":"$0.00"},{"v":0,"d":"$0.00"},{"v":0,"d":"$0.00"},{"v":0,"d":"$0.00"},{"v":0,"d":"$0.00"},"ASR-Dental_Financial_Report_SMMC_03.21.23","2023-03-21","Unaudited"]
["Dental","DEF","Default",1900,"1900-01-01","Q3","1900-09-30","Region 3","Operating Revenue","Other Revenue","Other Revenue - 9010","1.2","ACA § 9010 related payments",{"v":0,"d":"$0.00"},{"v":0,"d":"$0.00"},{"v":0,"d":"$0.00"},{"v":0,"d":"$0.00"},{"v":0,"d":"$0.00"},{"v":0,"d":"$0.00"},"ASR-Dental_Financial_Report_SMMC_03.21.23","2023-03-21","Unaudited"]
["Dental","DEF","Default",1900,"1900-01-01","Q3","1900-09-30","Region 3","Operating Revenue","Other Revenue","Other Revenue","1.3","Other Revenue",{"v":0,"d":"$0.00"},{"v":0,"d":"$0.00"},{"v":0,"d":"$0.00"},{"v":0,"d":"$0.00"},{"v":0,"d":"$0.00"},{"v":0,"d":"$0.00"},"ASR-Dental_Financial_Report_SMMC_03.21.23","2023-03-21","Unaudited"]
["Dental","DEF","Default",1900,"1900-01-01","Q3","1900-09-30","Region 3","Operating Expense","Medical Expense","Dental Services","2.1","Dental Services Diagnostic",{"v":0,"d":"$0.00"},{"v":0,"d":"$0.00"},{"v":0,"d":"$0.00"},{"v":0,"d":"$0.00"},{"v":0,"d":"$0.00"},{"v":0,"d":"$0.00"},"ASR-Dental_Financial_Report_SMMC_03.21.23","2023-03-21","Unaudited"]
["Dental","DEF","Default",1900,"1900-01-01","Q3","1900-09-30","Region 3","Operating Expense","Medical Expense","Dental Services",2.2,"Dental Services Preventive",{"v":0,"d":"$0.00"},{"v":0,"d":"$0.00"},{"v":0,"d":"$0.00"},{"v":0,"d":"$0.00"},{"v":0,"d":"$0.00"},{"v":0,"d":"$0.00"},"ASR-Dental_Financial_Report_SMMC_03.21.23","2023-03-21","Unaudited"]
["Dental","DEF","Default",1900,"1900-01-01","Q3","1900-09-30","Region 3","Operating Expense","Medical Expense","Dental Services","2.3","Dental Services Restorative",{"v":0,"d":"$0.00"},{"v":0,"d":"$0.00"},{"v":0,"d":"$0.00"},{"v":0,"d":"$0.00"},{"v":0,"d":"$0.00"},{"v":0,"d":"$0.00"},"ASR-Dental_Financial_Report_SMMC_03.21.23","2023-03-21","Unaudited"]
["Dental","DEF","Default",1900,"1900-01-01","Q3","1900-09-30","Region 3","Operating Expense","Medical Expense","Dental Services","2.4","Dental Services Endodontics",{"v":0,"d":"$0.00"},{"v":0,"d":"$0.00"},{"v":0,"d":"$0.00"},{"v":0,"d":"$0.00"},{"v":0,"d":"$0.00"},{"v":0,"d":"$0.00"},"ASR-Dental_Financial_Report_SMMC_03.21.23","2023-03-21","Unaudited"]
["Dental","DEF","Default",1900,"1900-01-01","Q3","1900-09-30","Region 3","Operating Expense","Medical Expense","Dental Services","2.5","Dental Services Periodontics",{"$f":"IF(OR(AND($F622=\"PY\",N$1<>\"Prior Year\"),AND($F622<>\"PY\",N$1=\"Prior Year\")),0,INDEX(INDIRECT(\"'Dental Rev-Exp \"&$H622&\"'!$A$1:$CA$200\"),IF($J622=\"Member Months\",MATCH($J622,INDIRECT(\"'Dental Rev-Exp \"&$H622&\"'!$A$1:$A$200\"),0),MATCH($L622,INDIRECT(\"'Dental Rev-Exp \"&$H622&\"'!$B$1:$B$200\"),0)),IF($F622=\"PY\",MATCH(\"Prior Year Adjustments\",INDIRECT(\"'Dental Rev-Exp \"&$H622&\"'!$A$8:$CA$8\"),0),MATCH(IF($F622=\"Q1\",\"JANUARY - MARCH (Q1)\",IF($F622=\"Q2\",\"APRIL - JUNE (Q2)\",IF($F622=\"Q3\",\"JULY - SEPTEMBER (Q3)\",IF($F622=\"Q4\",\"OCTOBER - DECEMBER (Q4)\",0)))),INDIRECT(\"'Dental Rev-Exp \"&$H622&\"'!$A$7:$CA$7\"),0)+MATCH(N$1,INDIRECT(\"'Dental Rev-Exp \"&$H622&\"'!$D$8:$CA$8\"),0)-1)))","v":{"v":0,"d":"$0.00"}},{"v":0,"d":"$0.00"},{"v":0,"d":"$0.00"},{"v":0,"d":"$0.00"},{"v":0,"d":"$0.00"},{"v":0,"d":"$0.00"},"ASR-Dental_Financial_Report_SMMC_03.21.23","2023-03-21","Unaudited"]
["Dental","DEF","Default",1900,"1900-01-01","Q3","1900-09-30","Region 3","Operating Expense","Medical Expense","Dental Services","2.6","Dental Services Prosthodontics",{"v":0,"d":"$0.00"},{"v":0,"d":"$0.00"},{"v":0,"d":"$0.00"},{"v":0,"d":"$0.00"},{"v":0,"d":"$0.00"},{"v":0,"d":"$0.00"},"ASR-Dental_Financial_Report_SMMC_03.21.23","2023-03-21","Unaudited"]
["Dental","DEF","Default",1900,"1900-01-01","Q3","1900-09-30","Region 3","Operating Expense","Medical Expense","Dental Services","2.7","Dental Services Prosthodontics, fixed",{"v":0,"d":"$0.00"},{"v":0,"d":"$0.00"},{"v":0,"d":"$0.00"},{"v":0,"d":"$0.00"},{"v":0,"d":"$0.00"},{"v":0,"d":"$0.00"},"ASR-Dental_Financial_Report_SMMC_03.21.23","2023-03-21","Unaudited"]
["Dental","DEF","Default",1900,"1900-01-01","Q3","1900-09-30","Region 3","Operating Expense","Medical Expense","Dental Services","2.8","Dental Services Oral and Maxillofacial Surgery",{"v":0,"d":"$0.00"},{"v":0,"d":"$0.00"},{"v":0,"d":"$0.00"},{"v":0,"d":"$0.00"},{"v":0,"d":"$0.00"},{"v":0,"d":"$0.00"},"ASR-Dental_Financial_Report_SMMC_03.21.23","2023-03-21","Unaudited"]
["Dental","DEF","Default",1900,"1900-01-01","Q3","1900-09-30","Region 3","Operating Expense","Medical Expense","Dental Services","2.9","Dental Services Orthodontics",{"v":0,"d":"$0.00"},{"v":0,"d":"$0.00"},{"v":0,"d":"$0.00"},{"v":0,"d":"$0.00"},{"v":0,"d":"$0.00"},{"v":0,"d":"$0.00"},"ASR-Dental_Financial_Report_SMMC_03.21.23","2023-03-21","Unaudited"]
["Dental","DEF","Default",1900,"1900-01-01","Q3","1900-09-30","Region 3","Operating Expense","Medical Expense","Dental Services","2.10","Dental Services Adjunctive General Services",{"v":0,"d":"$0.00"},{"v":0,"d":"$0.00"},{"v":0,"d":"$0.00"},{"v":0,"d":"$0.00"},{"v":0,"d":"$0.00"},{"v":0,"d":"$0.00"},"ASR-Dental_Financial_Report_SMMC_03.21.23","2023-03-21","Unaudited"]
["Dental","DEF","Default",1900,"1900-01-01","Q3","1900-09-30","Region 3","Operating Expense","Medical Expense","Dental Services","2.11","Dental Services Other",{"v":0,"d":"$0.00"},{"v":0,"d":"$0.00"},{"v":0,"d":"$0.00"},{"v":0,"d":"$0.00"},{"v":0,"d":"$0.00"},{"v":0,"d":"$0.00"},"ASR-Dental_Financial_Report_SMMC_03.21.23","2023-03-21","Unaudited"]
["Dental","DEF","Default",1900,"1900-01-01","Q3","1900-09-30","Region 3","Operating Expense","Medical Expense","Expanded Benefits","2.12","Dental Expanded Benefits",{"v":0,"d":"$0.00"},{"v":0,"d":"$0.00"},{"v":0,"d":"$0.00"},{"v":0,"d":"$0.00"},{"v":0,"d":"$0.00"},{"v":0,"d":"$0.00"},"ASR-Dental_Financial_Report_SMMC_03.21.23","2023-03-21","Unaudited"]
["Dental","DEF","Default",1900,"1900-01-01","Q3","1900-09-30","Region 3","Operating Expense","Medical Expense","Dental Services","2.13","Dental Services Paid through Subcapitation",{"v":0,"d":"$0.00"},{"v":0,"d":"$0.00"},{"v":0,"d":"$0.00"},{"v":0,"d":"$0.00"},{"v":0,"d":"$0.00"},{"v":0,"d":"$0.00"},"ASR-Dental_Financial_Report_SMMC_03.21.23","2023-03-21","Unaudited"]
["Dental","DEF","Default",1900,"1900-01-01","Q3","1900-09-30","Region 3","Operating Expense","Medical Expense","Dental Services","2.14","Ending IBNP for Dental Services",{"v":0,"d":"$0.00"},{"v":0,"d":"$0.00"},{"v":0,"d":"$0.00"},{"v":0,"d":"$0.00"},{"v":0,"d":"$0.00"},{"v":0,"d":"$0.00"},"ASR-Dental_Financial_Report_SMMC_03.21.23","2023-03-21","Unaudited"]
["Dental","DEF","Default",1900,"1900-01-01","Q3","1900-09-30","Region 3","Operating Expense","Medical Expense","Dental Services","2.15","Dental Settlements/AP",{"$f":"IF(OR(AND($F632=\"PY\",N$1<>\"Prior Year\"),AND($F632<>\"PY\",N$1=\"Prior Year\")),0,INDEX(INDIRECT(\"'Dental Rev-Exp \"&$H632&\"'!$A$1:$CA$200\"),IF($J632=\"Member Months\",MATCH($J632,INDIRECT(\"'Dental Rev-Exp \"&$H632&\"'!$A$1:$A$200\"),0),MATCH($L632,INDIRECT(\"'Dental Rev-Exp \"&$H632&\"'!$B$1:$B$200\"),0)),IF($F632=\"PY\",MATCH(\"Prior Year Adjustments\",INDIRECT(\"'Dental Rev-Exp \"&$H632&\"'!$A$8:$CA$8\"),0),MATCH(IF($F632=\"Q1\",\"JANUARY - MARCH (Q1)\",IF($F632=\"Q2\",\"APRIL - JUNE (Q2)\",IF($F632=\"Q3\",\"JULY - SEPTEMBER (Q3)\",IF($F632=\"Q4\",\"OCTOBER - DECEMBER (Q4)\",0)))),INDIRECT(\"'Dental Rev-Exp \"&$H632&\"'!$A$7:$CA$7\"),0)+MATCH(N$1,INDIRECT(\"'Dental Rev-Exp \"&$H632&\"'!$D$8:$CA$8\"),0)-1)))","v":{"v":0,"d":"$0.00"}},{"v":0,"d":"$0.00"},{"v":0,"d":"$0.00"},{"v":0,"d":"$0.00"},{"v":0,"d":"$0.00"},{"v":0,"d":"$0.00"},"ASR-Dental_Financial_Report_SMMC_03.21.23","2023-03-21","Unaudited"]
["Dental","DEF","Default",1900,"1900-01-01","Q3","1900-09-30","Region 3","Operating Expense","Medical Expense","Other Medical","3.5","TPL & Fraud/Abuse Recoveries",{"v":0,"d":"$0.00"},{"v":0,"d":"$0.00"},{"v":0,"d":"$0.00"},{"v":0,"d":"$0.00"},{"v":0,"d":"$0.00"},{"v":0,"d":"$0.00"},"ASR-Dental_Financial_Report_SMMC_03.21.23","2023-03-21","Unaudited"]
["Dental","DEF","Default",1900,"1900-01-01","Q3","1900-09-30","Region 3","Operating Expense","Medical Expense","Other Medical",3.6,"Premium Deficiency Reserve",{"v":0,"d":"$0.00"},{"v":0,"d":"$0.00"},{"v":0,"d":"$0.00"},{"v":0,"d":"$0.00"},{"v":0,"d":"$0.00"},{"v":0,"d":"$0.00"},"ASR-Dental_Financial_Report_SMMC_03.21.23","2023-03-21","Unaudited"]
["Dental","DEF","Default",1900,"1900-01-01","Q3","1900-09-30","Region 3","Operating Expense","Medical Expense","Other Medical","3.8","Reinsurance Premiums",{"v":0,"d":"$0.00"},{"v":0,"d":"$0.00"},{"v":0,"d":"$0.00"},{"v":0,"d":"$0.00"},{"v":0,"d":"$0.00"},{"v":0,"d":"$0.00"},"ASR-Dental_Financial_Report_SMMC_03.21.23","2023-03-21","Unaudited"]
["Dental","DEF","Default",1900,"1900-01-01","Q3","1900-09-30","Region 3","Operating Expense","Medical Expense","Other Medical","3.9","Reinsurance Recoveries",{"v":0,"d":"$0.00"},{"v":0,"d":"$0.00"},{"v":0,"d":"$0.00"},{"v":0,"d":"$0.00"},{"v":0,"d":"$0.00"},{"v":0,"d":"$0.00"},"ASR-Dental_Financial_Report_SMMC_03.21.23","2023-03-21","Unaudited"]
["Dental","DEF","Default",1900,"1900-01-01","Q3","1900-09-30","Region 3","Operating Expense","Administrative Expense","Administrative","4.1","Salaries & Benefits",{"v":0,"d":"$0.00"},{"v":0,"d":"$0.00"},{"v":0,"d":"$0.00"},{"v":0,"d":"$0.00"},{"v":0,"d":"$0.00"},{"v":0,"d":"$0.00"},"ASR-Dental_Financial_Report_SMMC_03.21.23","2023-03-21","Unaudited"]
["Dental","DEF","Default",1900,"1900-01-01","Q3","1900-09-30","Region 3","Operating Expense","Administrative Expense","Administrative","4.2","Administrative Services",{"v":0,"d":"$0.00"},{"v":0,"d":"$0.00"},{"v":0,"d":"$0.00"},{"v":0,"d":"$0.00"},{"v":0,"d":"$0.00"},{"v":0,"d":"$0.00"},"ASR-Dental_Financial_Report_SMMC_03.21.23","2023-03-21","Unaudited"]
["Dental","DEF","Default",1900,"1900-01-01","Q3","1900-09-30","Region 3","Operating Expense","Administrative Expense","Administrative","4.3","Information Systems",{"v":0,"d":"$0.00"},{"v":0,"d":"$0.00"},{"v":0,"d":"$0.00"},{"v":0,"d":"$0.00"},{"v":0,"d":"$0.00"},{"v":0,"d":"$0.00"},"ASR-Dental_Financial_Report_SMMC_03.21.23","2023-03-21","Unaudited"]
["Dental","DEF","Default",1900,"1900-01-01","Q3","1900-09-30","Region 3","Operating Expense","Administrative Expense","Administrative","4.4","Marketing Expenses",{"v":0,"d":"$0.00"},{"v":0,"d":"$0.00"},{"v":0,"d":"$0.00"},{"v":0,"d":"$0.00"},{"v":0,"d":"$0.00"},{"v":0,"d":"$0.00"},"ASR-Dental_Financial_Report_SMMC_03.21.23","2023-03-21","Unaudited"]
["Dental","DEF","Default",1900,"1900-01-01","Q3","1900-09-30","Region 3","Operating Expense","Administrative Expense","Administrative","4.5","General  Administration",{"v":0,"d":"$0.00"},{"v":0,"d":"$0.00"},{"v":0,"d":"$0.00"},{"v":0,"d":"$0.00"},{"v":0,"d":"$0.00"},{"v":0,"d":"$0.00"},"ASR-Dental_Financial_Report_SMMC_03.21.23","2023-03-21","Unaudited"]
["Dental","DEF","Default",1900,"1900-01-01","Q3","1900-09-30","Region 3","Operating Expense","Administrative Expense","Administrative","4.6","Compliance/Regulatory",{"$f":"IF(OR(AND($F642=\"PY\",N$1<>\"Prior Year\"),AND($F642<>\"PY\",N$1=\"Prior Year\")),0,INDEX(INDIRECT(\"'Dental Rev-Exp \"&$H642&\"'!$A$1:$CA$200\"),IF($J642=\"Member Months\",MATCH($J642,INDIRECT(\"'Dental Rev-Exp \"&$H642&\"'!$A$1:$A$200\"),0),MATCH($L642,INDIRECT(\"'Dental Rev-Exp \"&$H642&\"'!$B$1:$B$200\"),0)),IF($F642=\"PY\",MATCH(\"Prior Year Adjustments\",INDIRECT(\"'Dental Rev-Exp \"&$H642&\"'!$A$8:$CA$8\"),0),MATCH(IF($F642=\"Q1\",\"JANUARY - MARCH (Q1)\",IF($F642=\"Q2\",\"APRIL - JUNE (Q2)\",IF($F642=\"Q3\",\"JULY - SEPTEMBER (Q3)\",IF($F642=\"Q4\",\"OCTOBER - DECEMBER (Q4)\",0)))),INDIRECT(\"'Dental Rev-Exp \"&$H642&\"'!$A$7:$CA$7\"),0)+MATCH(N$1,INDIRECT(\"'Dental Rev-Exp \"&$H642&\"'!$D$8:$CA$8\"),0)-1)))","v":{"v":0,"d":"$0.00"}},{"v":0,"d":"$0.00"},{"v":0,"d":"$0.00"},{"v":0,"d":"$0.00"},{"v":0,"d":"$0.00"},{"v":0,"d":"$0.00"},{"$f":"file_name","v":"ASR-Dental_Financial_Report_SMMC_03.21.23"},{"$f":"file_date","v":"2023-03-21"},{"$f":"status","v":"Unaudited"}]
["Dental","DEF","Default",1900,"1900-01-01","Q3","1900-09-30","Region 3","Operating Expense","Taxes & Fees","Taxes & Fees","5.1","State Premium tax",{"v":0,"d":"$0.00"},{"v":0,"d":"$0.00"},{"v":0,"d":"$0.00"},{"v":0,"d":"$0.00"},{"v":0,"d":"$0.00"},{"v":0,"d":"$0.00"},"ASR-Dental_Financial_Report_SMMC_03.21.23","2023-03-21","Unaudited"]
["Dental","DEF","Default",1900,"1900-01-01","Q3","1900-09-30","Region 3","Operating Expense","Taxes & Fees","Taxes & Fees","5.2","Department of Insurance Assessments",{"v":0,"d":"$0.00"},{"v":0,"d":"$0.00"},{"v":0,"d":"$0.00"},{"v":0,"d":"$0.00"},{"v":0,"d":"$0.00"},{"v":0,"d":"$0.00"},"ASR-Dental_Financial_Report_SMMC_03.21.23","2023-03-21","Unaudited"]
["Dental","DEF","Default",1900,"1900-01-01","Q3","1900-09-30","Region 3","Operating Expense","Taxes & Fees","Taxes & Fees","5.3","Section 9010 Health Insurance Providers Fee",{"v":0,"d":"$0.00"},{"v":0,"d":"$0.00"},{"v":0,"d":"$0.00"},{"v":0,"d":"$0.00"},{"v":0,"d":"$0.00"},{"v":0,"d":"$0.00"},"ASR-Dental_Financial_Report_SMMC_03.21.23","2023-03-21","Unaudited"]
["Dental","DEF","Default",1900,"1900-01-01","Q3","1900-09-30","Region 3","Operating Expense","Taxes & Fees","Taxes & Fees","5.4","Other 1",{"v":0,"d":"$0.00"},{"v":0,"d":"$0.00"},{"v":0,"d":"$0.00"},{"v":0,"d":"$0.00"},{"v":0,"d":"$0.00"},{"v":0,"d":"$0.00"},"ASR-Dental_Financial_Report_SMMC_03.21.23","2023-03-21","Unaudited"]
["Dental","DEF","Default",1900,"1900-01-01","Q3","1900-09-30","Region 3","Operating Expense","Taxes & Fees","Taxes & Fees","5.5","Other 2",{"v":0,"d":"$0.00"},{"v":0,"d":"$0.00"},{"v":0,"d":"$0.00"},{"v":0,"d":"$0.00"},{"v":0,"d":"$0.00"},{"v":0,"d":"$0.00"},"ASR-Dental_Financial_Report_SMMC_03.21.23","2023-03-21","Unaudited"]
["Dental","DEF","Default",1900,"1900-01-01","Q3","1900-09-30","Region 3","Operating Expense","Taxes & Fees","Taxes & Fees","5.6","Other 3",{"v":0,"d":"$0.00"},{"v":0,"d":"$0.00"},{"v":0,"d":"$0.00"},{"v":0,"d":"$0.00"},{"v":0,"d":"$0.00"},{"v":0,"d":"$0.00"},"ASR-Dental_Financial_Report_SMMC_03.21.23","2023-03-21","Unaudited"]
["Dental","DEF","Default",1900,"1900-01-01","Q3","1900-09-30","Region 3","Non-Operating Expense","Income Tax Expense","Income Tax Expense","8.0","Income Tax Expense",{"v":0,"d":"$0.00"},{"v":0,"d":"$0.00"},{"v":0,"d":"$0.00"},{"v":0,"d":"$0.00"},{"v":0,"d":"$0.00"},{"v":0,"d":"$0.00"},"ASR-Dental_Financial_Report_SMMC_03.21.23","2023-03-21","Unaudited"]
["Dental","DEF","Default",1900,"1900-01-01","Q4","1900-12-31","Region 3","Member Months","Member Months","Member Months",null,"Member Months",{"v":0,"d":"$0.00"},{"v":0,"d":"$0.00"},{"v":0,"d":"$0.00"},{"v":0,"d":"$0.00"},{"v":0,"d":"$0.00"},{"v":0,"d":"$0.00"},"ASR-Dental_Financial_Report_SMMC_03.21.23","2023-03-21","Unaudited"]
["Dental","DEF","Default",1900,"1900-01-01","Q4","1900-12-31","Region 3","Operating Revenue","Capitation","Capitation","1.1","Capitation",{"v":0,"d":"$0.00"},{"v":0,"d":"$0.00"},{"v":0,"d":"$0.00"},{"v":0,"d":"$0.00"},{"v":0,"d":"$0.00"},{"v":0,"d":"$0.00"},"ASR-Dental_Financial_Report_SMMC_03.21.23","2023-03-21","Unaudited"]
["Dental","DEF","Default",1900,"1900-01-01","Q4","1900-12-31","Region 3","Operating Revenue","Other Revenue","Other Revenue - 9010","1.2","ACA § 9010 related payments",{"$f":"IF(OR(AND($F652=\"PY\",N$1<>\"Prior Year\"),AND($F652<>\"PY\",N$1=\"Prior Year\")),0,INDEX(INDIRECT(\"'Dental Rev-Exp \"&$H652&\"'!$A$1:$CA$200\"),IF($J652=\"Member Months\",MATCH($J652,INDIRECT(\"'Dental Rev-Exp \"&$H652&\"'!$A$1:$A$200\"),0),MATCH($L652,INDIRECT(\"'Dental Rev-Exp \"&$H652&\"'!$B$1:$B$200\"),0)),IF($F652=\"PY\",MATCH(\"Prior Year Adjustments\",INDIRECT(\"'Dental Rev-Exp \"&$H652&\"'!$A$8:$CA$8\"),0),MATCH(IF($F652=\"Q1\",\"JANUARY - MARCH (Q1)\",IF($F652=\"Q2\",\"APRIL - JUNE (Q2)\",IF($F652=\"Q3\",\"JULY - SEPTEMBER (Q3)\",IF($F652=\"Q4\",\"OCTOBER - DECEMBER (Q4)\",0)))),INDIRECT(\"'Dental Rev-Exp \"&$H652&\"'!$A$7:$CA$7\"),0)+MATCH(N$1,INDIRECT(\"'Dental Rev-Exp \"&$H652&\"'!$D$8:$CA$8\"),0)-1)))","v":{"v":0,"d":"$0.00"}},{"v":0,"d":"$0.00"},{"v":0,"d":"$0.00"},{"v":0,"d":"$0.00"},{"v":0,"d":"$0.00"},{"v":0,"d":"$0.00"},"ASR-Dental_Financial_Report_SMMC_03.21.23","2023-03-21","Unaudited"]
["Dental","DEF","Default",1900,"1900-01-01","Q4","1900-12-31","Region 3","Operating Revenue","Other Revenue","Other Revenue","1.3","Other Revenue",{"v":0,"d":"$0.00"},{"v":0,"d":"$0.00"},{"v":0,"d":"$0.00"},{"v":0,"d":"$0.00"},{"v":0,"d":"$0.00"},{"v":0,"d":"$0.00"},"ASR-Dental_Financial_Report_SMMC_03.21.23","2023-03-21","Unaudited"]
["Dental","DEF","Default",1900,"1900-01-01","Q4","1900-12-31","Region 3","Operating Expense","Medical Expense","Dental Services","2.1","Dental Services Diagnostic",{"v":0,"d":"$0.00"},{"v":0,"d":"$0.00"},{"v":0,"d":"$0.00"},{"v":0,"d":"$0.00"},{"v":0,"d":"$0.00"},{"v":0,"d":"$0.00"},"ASR-Dental_Financial_Report_SMMC_03.21.23","2023-03-21","Unaudited"]
["Dental","DEF","Default",1900,"1900-01-01","Q4","1900-12-31","Region 3","Operating Expense","Medical Expense","Dental Services",2.2,"Dental Services Preventive",{"v":0,"d":"$0.00"},{"v":0,"d":"$0.00"},{"v":0,"d":"$0.00"},{"v":0,"d":"$0.00"},{"v":0,"d":"$0.00"},{"v":0,"d":"$0.00"},"ASR-Dental_Financial_Report_SMMC_03.21.23","2023-03-21","Unaudited"]
["Dental","DEF","Default",1900,"1900-01-01","Q4","1900-12-31","Region 3","Operating Expense","Medical Expense","Dental Services","2.3","Dental Services Restorative",{"v":0,"d":"$0.00"},{"v":0,"d":"$0.00"},{"v":0,"d":"$0.00"},{"v":0,"d":"$0.00"},{"v":0,"d":"$0.00"},{"v":0,"d":"$0.00"},"ASR-Dental_Financial_Report_SMMC_03.21.23","2023-03-21","Unaudited"]
["Dental","DEF","Default",1900,"1900-01-01","Q4","1900-12-31","Region 3","Operating Expense","Medical Expense","Dental Services","2.4","Dental Services Endodontics",{"v":0,"d":"$0.00"},{"v":0,"d":"$0.00"},{"v":0,"d":"$0.00"},{"v":0,"d":"$0.00"},{"v":0,"d":"$0.00"},{"v":0,"d":"$0.00"},"ASR-Dental_Financial_Report_SMMC_03.21.23","2023-03-21","Unaudited"]
["Dental","DEF","Default",1900,"1900-01-01","Q4","1900-12-31","Region 3","Operating Expense","Medical Expense","Dental Services","2.5","Dental Services Periodontics",{"v":0,"d":"$0.00"},{"v":0,"d":"$0.00"},{"v":0,"d":"$0.00"},{"v":0,"d":"$0.00"},{"v":0,"d":"$0.00"},{"v":0,"d":"$0.00"},"ASR-Dental_Financial_Report_SMMC_03.21.23","2023-03-21","Unaudited"]
["Dental","DEF","Default",1900,"1900-01-01","Q4","1900-12-31","Region 3","Operating Expense","Medical Expense","Dental Services","2.6","Dental Services Prosthodontics",{"v":0,"d":"$0.00"},{"v":0,"d":"$0.00"},{"v":0,"d":"$0.00"},{"v":0,"d":"$0.00"},{"v":0,"d":"$0.00"},{"v":0,"d":"$0.00"},"ASR-Dental_Financial_Report_SMMC_03.21.23","2023-03-21","Unaudited"]
["Dental","DEF","Default",1900,"1900-01-01","Q4","1900-12-31","Region 3","Operating Expense","Medical Expense","Dental Services","2.7","Dental Services Prosthodontics, fixed",{"v":0,"d":"$0.00"},{"v":0,"d":"$0.00"},{"v":0,"d":"$0.00"},{"v":0,"d":"$0.00"},{"v":0,"d":"$0.00"},{"v":0,"d":"$0.00"},"ASR-Dental_Financial_Report_SMMC_03.21.23","2023-03-21","Unaudited"]
["Dental","DEF","Default",1900,"1900-01-01","Q4","1900-12-31","Region 3","Operating Expense","Medical Expense","Dental Services","2.8","Dental Services Oral and Maxillofacial Surgery",{"v":0,"d":"$0.00"},{"v":0,"d":"$0.00"},{"v":0,"d":"$0.00"},{"v":0,"d":"$0.00"},{"v":0,"d":"$0.00"},{"v":0,"d":"$0.00"},"ASR-Dental_Financial_Report_SMMC_03.21.23","2023-03-21","Unaudited"]
["Dental","DEF","Default",1900,"1900-01-01","Q4","1900-12-31","Region 3","Operating Expense","Medical Expense","Dental Services","2.9","Dental Services Orthodontics",{"$f":"IF(OR(AND($F662=\"PY\",N$1<>\"Prior Year\"),AND($F662<>\"PY\",N$1=\"Prior Year\")),0,INDEX(INDIRECT(\"'Dental Rev-Exp \"&$H662&\"'!$A$1:$CA$200\"),IF($J662=\"Member Months\",MATCH($J662,INDIRECT(\"'Dental Rev-Exp \"&$H662&\"'!$A$1:$A$200\"),0),MATCH($L662,INDIRECT(\"'Dental Rev-Exp \"&$H662&\"'!$B$1:$B$200\"),0)),IF($F662=\"PY\",MATCH(\"Prior Year Adjustments\",INDIRECT(\"'Dental Rev-Exp \"&$H662&\"'!$A$8:$CA$8\"),0),MATCH(IF($F662=\"Q1\",\"JANUARY - MARCH (Q1)\",IF($F662=\"Q2\",\"APRIL - JUNE (Q2)\",IF($F662=\"Q3\",\"JULY - SEPTEMBER (Q3)\",IF($F662=\"Q4\",\"OCTOBER - DECEMBER (Q4)\",0)))),INDIRECT(\"'Dental Rev-Exp \"&$H662&\"'!$A$7:$CA$7\"),0)+MATCH(N$1,INDIRECT(\"'Dental Rev-Exp \"&$H662&\"'!$D$8:$CA$8\"),0)-1)))","v":{"v":0,"d":"$0.00"}},{"v":0,"d":"$0.00"},{"v":0,"d":"$0.00"},{"v":0,"d":"$0.00"},{"v":0,"d":"$0.00"},{"v":0,"d":"$0.00"},"ASR-Dental_Financial_Report_SMMC_03.21.23","2023-03-21","Unaudited"]
["Dental","DEF","Default",1900,"1900-01-01","Q4","1900-12-31","Region 3","Operating Expense","Medical Expense","Dental Services","2.10","Dental Services Adjunctive General Services",{"v":0,"d":"$0.00"},{"v":0,"d":"$0.00"},{"v":0,"d":"$0.00"},{"v":0,"d":"$0.00"},{"v":0,"d":"$0.00"},{"v":0,"d":"$0.00"},"ASR-Dental_Financial_Report_SMMC_03.21.23","2023-03-21","Unaudited"]
["Dental","DEF","Default",1900,"1900-01-01","Q4","1900-12-31","Region 3","Operating Expense","Medical Expense","Dental Services","2.11","Dental Services Other",{"v":0,"d":"$0.00"},{"v":0,"d":"$0.00"},{"v":0,"d":"$0.00"},{"v":0,"d":"$0.00"},{"v":0,"d":"$0.00"},{"v":0,"d":"$0.00"},"ASR-Dental_Financial_Report_SMMC_03.21.23","2023-03-21","Unaudited"]
["Dental","DEF","Default",1900,"1900-01-01","Q4","1900-12-31","Region 3","Operating Expense","Medical Expense","Expanded Benefits","2.12","Dental Expanded Benefits",{"v":0,"d":"$0.00"},{"v":0,"d":"$0.00"},{"v":0,"d":"$0.00"},{"v":0,"d":"$0.00"},{"v":0,"d":"$0.00"},{"v":0,"d":"$0.00"},"ASR-Dental_Financial_Report_SMMC_03.21.23","2023-03-21","Unaudited"]
["Dental","DEF","Default",1900,"1900-01-01","Q4","1900-12-31","Region 3","Operating Expense","Medical Expense","Dental Services","2.13","Dental Services Paid through Subcapitation",{"v":0,"d":"$0.00"},{"v":0,"d":"$0.00"},{"v":0,"d":"$0.00"},{"v":0,"d":"$0.00"},{"v":0,"d":"$0.00"},{"v":0,"d":"$0.00"},"ASR-Dental_Financial_Report_SMMC_03.21.23","2023-03-21","Unaudited"]
["Dental","DEF","Default",1900,"1900-01-01","Q4","1900-12-31","Region 3","Operating Expense","Medical Expense","Dental Services","2.14","Ending IBNP for Dental Services",{"v":0,"d":"$0.00"},{"v":0,"d":"$0.00"},{"v":0,"d":"$0.00"},{"v":0,"d":"$0.00"},{"v":0,"d":"$0.00"},{"v":0,"d":"$0.00"},"ASR-Dental_Financial_Report_SMMC_03.21.23","2023-03-21","Unaudited"]
["Dental","DEF","Default",1900,"1900-01-01","Q4","1900-12-31","Region 3","Operating Expense","Medical Expense","Dental Services","2.15","Dental Settlements/AP",{"v":0,"d":"$0.00"},{"v":0,"d":"$0.00"},{"v":0,"d":"$0.00"},{"v":0,"d":"$0.00"},{"v":0,"d":"$0.00"},{"v":0,"d":"$0.00"},"ASR-Dental_Financial_Report_SMMC_03.21.23","2023-03-21","Unaudited"]
["Dental","DEF","Default",1900,"1900-01-01","Q4","1900-12-31","Region 3","Operating Expense","Medical Expense","Other Medical","3.5","TPL & Fraud/Abuse Recoveries",{"v":0,"d":"$0.00"},{"v":0,"d":"$0.00"},{"v":0,"d":"$0.00"},{"v":0,"d":"$0.00"},{"v":0,"d":"$0.00"},{"v":0,"d":"$0.00"},"ASR-Dental_Financial_Report_SMMC_03.21.23","2023-03-21","Unaudited"]
["Dental","DEF","Default",1900,"1900-01-01","Q4","1900-12-31","Region 3","Operating Expense","Medical Expense","Other Medical",3.6,"Premium Deficiency Reserve",{"v":0,"d":"$0.00"},{"v":0,"d":"$0.00"},{"v":0,"d":"$0.00"},{"v":0,"d":"$0.00"},{"v":0,"d":"$0.00"},{"v":0,"d":"$0.00"},"ASR-Dental_Financial_Report_SMMC_03.21.23","2023-03-21","Unaudited"]
["Dental","DEF","Default",1900,"1900-01-01","Q4","1900-12-31","Region 3","Operating Expense","Medical Expense","Other Medical","3.8","Reinsurance Premiums",{"v":0,"d":"$0.00"},{"v":0,"d":"$0.00"},{"v":0,"d":"$0.00"},{"v":0,"d":"$0.00"},{"v":0,"d":"$0.00"},{"v":0,"d":"$0.00"},"ASR-Dental_Financial_Report_SMMC_03.21.23","2023-03-21","Unaudited"]
["Dental","DEF","Default",1900,"1900-01-01","Q4","1900-12-31","Region 3","Operating Expense","Medical Expense","Other Medical","3.9","Reinsurance Recoveries",{"$f":"IF(OR(AND($F672=\"PY\",N$1<>\"Prior Year\"),AND($F672<>\"PY\",N$1=\"Prior Year\")),0,INDEX(INDIRECT(\"'Dental Rev-Exp \"&$H672&\"'!$A$1:$CA$200\"),IF($J672=\"Member Months\",MATCH($J672,INDIRECT(\"'Dental Rev-Exp \"&$H672&\"'!$A$1:$A$200\"),0),MATCH($L672,INDIRECT(\"'Dental Rev-Exp \"&$H672&\"'!$B$1:$B$200\"),0)),IF($F672=\"PY\",MATCH(\"Prior Year Adjustments\",INDIRECT(\"'Dental Rev-Exp \"&$H672&\"'!$A$8:$CA$8\"),0),MATCH(IF($F672=\"Q1\",\"JANUARY - MARCH (Q1)\",IF($F672=\"Q2\",\"APRIL - JUNE (Q2)\",IF($F672=\"Q3\",\"JULY - SEPTEMBER (Q3)\",IF($F672=\"Q4\",\"OCTOBER - DECEMBER (Q4)\",0)))),INDIRECT(\"'Dental Rev-Exp \"&$H672&\"'!$A$7:$CA$7\"),0)+MATCH(N$1,INDIRECT(\"'Dental Rev-Exp \"&$H672&\"'!$D$8:$CA$8\"),0)-1)))","v":{"v":0,"d":"$0.00"}},{"v":0,"d":"$0.00"},{"v":0,"d":"$0.00"},{"v":0,"d":"$0.00"},{"v":0,"d":"$0.00"},{"v":0,"d":"$0.00"},"ASR-Dental_Financial_Report_SMMC_03.21.23","2023-03-21","Unaudited"]
["Dental","DEF","Default",1900,"1900-01-01","Q4","1900-12-31","Region 3","Operating Expense","Administrative Expense","Administrative","4.1","Salaries & Benefits",{"v":0,"d":"$0.00"},{"v":0,"d":"$0.00"},{"v":0,"d":"$0.00"},{"v":0,"d":"$0.00"},{"v":0,"d":"$0.00"},{"v":0,"d":"$0.00"},"ASR-Dental_Financial_Report_SMMC_03.21.23","2023-03-21","Unaudited"]
["Dental","DEF","Default",1900,"1900-01-01","Q4","1900-12-31","Region 3","Operating Expense","Administrative Expense","Administrative","4.2","Administrative Services",{"v":0,"d":"$0.00"},{"v":0,"d":"$0.00"},{"v":0,"d":"$0.00"},{"v":0,"d":"$0.00"},{"v":0,"d":"$0.00"},{"v":0,"d":"$0.00"},"ASR-Dental_Financial_Report_SMMC_03.21.23","2023-03-21","Unaudited"]
["Dental","DEF","Default",1900,"1900-01-01","Q4","1900-12-31","Region 3","Operating Expense","Administrative Expense","Administrative","4.3","Information Systems",{"v":0,"d":"$0.00"},{"v":0,"d":"$0.00"},{"v":0,"d":"$0.00"},{"v":0,"d":"$0.00"},{"v":0,"d":"$0.00"},{"v":0,"d":"$0.00"},"ASR-Dental_Financial_Report_SMMC_03.21.23","2023-03-21","Unaudited"]
["Dental","DEF","Default",1900,"1900-01-01","Q4","1900-12-31","Region 3","Operating Expense","Administrative Expense","Administrative","4.4","Marketing Expenses",{"v":0,"d":"$0.00"},{"v":0,"d":"$0.00"},{"v":0,"d":"$0.00"},{"v":0,"d":"$0.00"},{"v":0,"d":"$0.00"},{"v":0,"d":"$0.00"},"ASR-Dental_Financial_Report_SMMC_03.21.23","2023-03-21","Unaudited"]
["Dental","DEF","Default",1900,"1900-01-01","Q4","1900-12-31","Region 3","Operating Expense","Administrative Expense","Administrative","4.5","General  Administration",{"v":0,"d":"$0.00"},{"v":0,"d":"$0.00"},{"v":0,"d":"$0.00"},{"v":0,"d":"$0.00"},{"v":0,"d":"$0.00"},{"v":0,"d":"$0.00"},"ASR-Dental_Financial_Report_SMMC_03.21.23","2023-03-21","Unaudited"]
["Dental","DEF","Default",1900,"1900-01-01","Q4","1900-12-31","Region 3","Operating Expense","Administrative Expense","Administrative","4.6","Compliance/Regulatory",{"v":0,"d":"$0.00"},{"v":0,"d":"$0.00"},{"v":0,"d":"$0.00"},{"v":0,"d":"$0.00"},{"v":0,"d":"$0.00"},{"v":0,"d":"$0.00"},"ASR-Dental_Financial_Report_SMMC_03.21.23","2023-03-21","Unaudited"]
["Dental","DEF","Default",1900,"1900-01-01","Q4","1900-12-31","Region 3","Operating Expense","Taxes & Fees","Taxes & Fees","5.1","State Premium tax",{"v":0,"d":"$0.00"},{"v":0,"d":"$0.00"},{"v":0,"d":"$0.00"},{"v":0,"d":"$0.00"},{"v":0,"d":"$0.00"},{"v":0,"d":"$0.00"},"ASR-Dental_Financial_Report_SMMC_03.21.23","2023-03-21","Unaudited"]
["Dental","DEF","Default",1900,"1900-01-01","Q4","1900-12-31","Region 3","Operating Expense","Taxes & Fees","Taxes & Fees","5.2","Department of Insurance Assessments",{"v":0,"d":"$0.00"},{"v":0,"d":"$0.00"},{"v":0,"d":"$0.00"},{"v":0,"d":"$0.00"},{"v":0,"d":"$0.00"},{"v":0,"d":"$0.00"},"ASR-Dental_Financial_Report_SMMC_03.21.23","2023-03-21","Unaudited"]
["Dental","DEF","Default",1900,"1900-01-01","Q4","1900-12-31","Region 3","Operating Expense","Taxes & Fees","Taxes & Fees","5.3","Section 9010 Health Insurance Providers Fee",{"v":0,"d":"$0.00"},{"v":0,"d":"$0.00"},{"v":0,"d":"$0.00"},{"v":0,"d":"$0.00"},{"v":0,"d":"$0.00"},{"v":0,"d":"$0.00"},"ASR-Dental_Financial_Report_SMMC_03.21.23","2023-03-21","Unaudited"]
["Dental","DEF","Default",1900,"1900-01-01","Q4","1900-12-31","Region 3","Operating Expense","Taxes & Fees","Taxes & Fees","5.4","Other 1",{"$f":"IF(OR(AND($F682=\"PY\",N$1<>\"Prior Year\"),AND($F682<>\"PY\",N$1=\"Prior Year\")),0,INDEX(INDIRECT(\"'Dental Rev-Exp \"&$H682&\"'!$A$1:$CA$200\"),IF($J682=\"Member Months\",MATCH($J682,INDIRECT(\"'Dental Rev-Exp \"&$H682&\"'!$A$1:$A$200\"),0),MATCH($L682,INDIRECT(\"'Dental Rev-Exp \"&$H682&\"'!$B$1:$B$200\"),0)),IF($F682=\"PY\",MATCH(\"Prior Year Adjustments\",INDIRECT(\"'Dental Rev-Exp \"&$H682&\"'!$A$8:$CA$8\"),0),MATCH(IF($F682=\"Q1\",\"JANUARY - MARCH (Q1)\",IF($F682=\"Q2\",\"APRIL - JUNE (Q2)\",IF($F682=\"Q3\",\"JULY - SEPTEMBER (Q3)\",IF($F682=\"Q4\",\"OCTOBER - DECEMBER (Q4)\",0)))),INDIRECT(\"'Dental Rev-Exp \"&$H682&\"'!$A$7:$CA$7\"),0)+MATCH(N$1,INDIRECT(\"'Dental Rev-Exp \"&$H682&\"'!$D$8:$CA$8\"),0)-1)))","v":{"v":0,"d":"$0.00"}},{"v":0,"d":"$0.00"},{"v":0,"d":"$0.00"},{"v":0,"d":"$0.00"},{"v":0,"d":"$0.00"},{"v":0,"d":"$0.00"},"ASR-Dental_Financial_Report_SMMC_03.21.23","2023-03-21","Unaudited"]
["Dental","DEF","Default",1900,"1900-01-01","Q4","1900-12-31","Region 3","Operating Expense","Taxes & Fees","Taxes & Fees","5.5","Other 2",{"v":0,"d":"$0.00"},{"v":0,"d":"$0.00"},{"v":0,"d":"$0.00"},{"v":0,"d":"$0.00"},{"v":0,"d":"$0.00"},{"v":0,"d":"$0.00"},"ASR-Dental_Financial_Report_SMMC_03.21.23","2023-03-21","Unaudited"]
["Dental","DEF","Default",1900,"1900-01-01","Q4","1900-12-31","Region 3","Operating Expense","Taxes & Fees","Taxes & Fees","5.6","Other 3",{"v":0,"d":"$0.00"},{"v":0,"d":"$0.00"},{"v":0,"d":"$0.00"},{"v":0,"d":"$0.00"},{"v":0,"d":"$0.00"},{"v":0,"d":"$0.00"},"ASR-Dental_Financial_Report_SMMC_03.21.23","2023-03-21","Unaudited"]
["Dental","DEF","Default",1900,"1900-01-01","Q4","1900-12-31","Region 3","Non-Operating Expense","Income Tax Expense","Income Tax Expense","8.0","Income Tax Expense",{"v":0,"d":"$0.00"},{"v":0,"d":"$0.00"},{"v":0,"d":"$0.00"},{"v":0,"d":"$0.00"},{"v":0,"d":"$0.00"},{"v":0,"d":"$0.00"},"ASR-Dental_Financial_Report_SMMC_03.21.23","2023-03-21","Unaudited"]
["Dental","DEF","Default",1900,"1900-01-01","PY","1/1/1800","Region 3","Member Months","Member Months","Member Months",null,"Member Months",{"v":0,"d":"$0.00"},{"v":0,"d":"$0.00"},{"v":0,"d":"$0.00"},{"v":0,"d":"$0.00"},{"v":0,"d":"$0.00"},{"v":0,"d":"$0.00"},"ASR-Dental_Financial_Report_SMMC_03.21.23","2023-03-21","Unaudited"]
["Dental","DEF","Default",1900,"1900-01-01","PY","1/1/1800","Region 3","Operating Revenue","Capitation","Capitation","1.1","Capitation",{"v":0,"d":"$0.00"},{"v":0,"d":"$0.00"},{"v":0,"d":"$0.00"},{"v":0,"d":"$0.00"},{"v":0,"d":"$0.00"},{"v":0,"d":"$0.00"},"ASR-Dental_Financial_Report_SMMC_03.21.23","2023-03-21","Unaudited"]
["Dental","DEF","Default",1900,"1900-01-01","PY","1/1/1800","Region 3","Operating Revenue","Other Revenue","Other Revenue - 9010","1.2","ACA § 9010 related payments",{"v":0,"d":"$0.00"},{"v":0,"d":"$0.00"},{"v":0,"d":"$0.00"},{"v":0,"d":"$0.00"},{"v":0,"d":"$0.00"},{"v":0,"d":"$0.00"},"ASR-Dental_Financial_Report_SMMC_03.21.23","2023-03-21","Unaudited"]
["Dental","DEF","Default",1900,"1900-01-01","PY","1/1/1800","Region 3","Operating Revenue","Other Revenue","Other Revenue","1.3","Other Revenue",{"v":0,"d":"$0.00"},{"v":0,"d":"$0.00"},{"v":0,"d":"$0.00"},{"v":0,"d":"$0.00"},{"v":0,"d":"$0.00"},{"v":0,"d":"$0.00"},"ASR-Dental_Financial_Report_SMMC_03.21.23","2023-03-21","Unaudited"]
["Dental","DEF","Default",1900,"1900-01-01","PY","1/1/1800","Region 3","Operating Expense","Medical Expense","Dental Services","2.1","Dental Services Diagnostic",{"v":0,"d":"$0.00"},{"v":0,"d":"$0.00"},{"v":0,"d":"$0.00"},{"v":0,"d":"$0.00"},{"v":0,"d":"$0.00"},{"v":0,"d":"$0.00"},"ASR-Dental_Financial_Report_SMMC_03.21.23","2023-03-21","Unaudited"]
["Dental","DEF","Default",1900,"1900-01-01","PY","1/1/1800","Region 3","Operating Expense","Medical Expense","Dental Services",2.2,"Dental Services Preventive",{"v":0,"d":"$0.00"},{"v":0,"d":"$0.00"},{"v":0,"d":"$0.00"},{"v":0,"d":"$0.00"},{"v":0,"d":"$0.00"},{"v":0,"d":"$0.00"},"ASR-Dental_Financial_Report_SMMC_03.21.23","2023-03-21","Unaudited"]
["Dental","DEF","Default",1900,"1900-01-01","PY","1/1/1800","Region 3","Operating Expense","Medical Expense","Dental Services","2.3","Dental Services Restorative",{"$f":"IF(OR(AND($F692=\"PY\",N$1<>\"Prior Year\"),AND($F692<>\"PY\",N$1=\"Prior Year\")),0,INDEX(INDIRECT(\"'Dental Rev-Exp \"&$H692&\"'!$A$1:$CA$200\"),IF($J692=\"Member Months\",MATCH($J692,INDIRECT(\"'Dental Rev-Exp \"&$H692&\"'!$A$1:$A$200\"),0),MATCH($L692,INDIRECT(\"'Dental Rev-Exp \"&$H692&\"'!$B$1:$B$200\"),0)),IF($F692=\"PY\",MATCH(\"Prior Year Adjustments\",INDIRECT(\"'Dental Rev-Exp \"&$H692&\"'!$A$8:$CA$8\"),0),MATCH(IF($F692=\"Q1\",\"JANUARY - MARCH (Q1)\",IF($F692=\"Q2\",\"APRIL - JUNE (Q2)\",IF($F692=\"Q3\",\"JULY - SEPTEMBER (Q3)\",IF($F692=\"Q4\",\"OCTOBER - DECEMBER (Q4)\",0)))),INDIRECT(\"'Dental Rev-Exp \"&$H692&\"'!$A$7:$CA$7\"),0)+MATCH(N$1,INDIRECT(\"'Dental Rev-Exp \"&$H692&\"'!$D$8:$CA$8\"),0)-1)))","v":{"v":0,"d":"$0.00"}},{"v":0,"d":"$0.00"},{"v":0,"d":"$0.00"},{"v":0,"d":"$0.00"},{"v":0,"d":"$0.00"},{"v":0,"d":"$0.00"},"ASR-Dental_Financial_Report_SMMC_03.21.23","2023-03-21","Unaudited"]
["Dental","DEF","Default",1900,"1900-01-01","PY","1/1/1800","Region 3","Operating Expense","Medical Expense","Dental Services","2.4","Dental Services Endodontics",{"v":0,"d":"$0.00"},{"v":0,"d":"$0.00"},{"v":0,"d":"$0.00"},{"v":0,"d":"$0.00"},{"v":0,"d":"$0.00"},{"v":0,"d":"$0.00"},"ASR-Dental_Financial_Report_SMMC_03.21.23","2023-03-21","Unaudited"]
["Dental","DEF","Default",1900,"1900-01-01","PY","1/1/1800","Region 3","Operating Expense","Medical Expense","Dental Services","2.5","Dental Services Periodontics",{"v":0,"d":"$0.00"},{"v":0,"d":"$0.00"},{"v":0,"d":"$0.00"},{"v":0,"d":"$0.00"},{"v":0,"d":"$0.00"},{"v":0,"d":"$0.00"},"ASR-Dental_Financial_Report_SMMC_03.21.23","2023-03-21","Unaudited"]
["Dental","DEF","Default",1900,"1900-01-01","PY","1/1/1800","Region 3","Operating Expense","Medical Expense","Dental Services","2.6","Dental Services Prosthodontics",{"v":0,"d":"$0.00"},{"v":0,"d":"$0.00"},{"v":0,"d":"$0.00"},{"v":0,"d":"$0.00"},{"v":0,"d":"$0.00"},{"v":0,"d":"$0.00"},"ASR-Dental_Financial_Report_SMMC_03.21.23","2023-03-21","Unaudited"]
["Dental","DEF","Default",1900,"1900-01-01","PY","1/1/1800","Region 3","Operating Expense","Medical Expense","Dental Services","2.7","Dental Services Prosthodontics, fixed",{"v":0,"d":"$0.00"},{"v":0,"d":"$0.00"},{"v":0,"d":"$0.00"},{"v":0,"d":"$0.00"},{"v":0,"d":"$0.00"},{"v":0,"d":"$0.00"},"ASR-Dental_Financial_Report_SMMC_03.21.23","2023-03-21","Unaudited"]
["Dental","DEF","Default",1900,"1900-01-01","PY","1/1/1800","Region 3","Operating Expense","Medical Expense","Dental Services","2.8","Dental Services Oral and Maxillofacial Surgery",{"v":0,"d":"$0.00"},{"v":0,"d":"$0.00"},{"v":0,"d":"$0.00"},{"v":0,"d":"$0.00"},{"v":0,"d":"$0.00"},{"v":0,"d":"$0.00"},"ASR-Dental_Financial_Report_SMMC_03.21.23","2023-03-21","Unaudited"]
["Dental","DEF","Default",1900,"1900-01-01","PY","1/1/1800","Region 3","Operating Expense","Medical Expense","Dental Services","2.9","Dental Services Orthodontics",{"v":0,"d":"$0.00"},{"v":0,"d":"$0.00"},{"v":0,"d":"$0.00"},{"v":0,"d":"$0.00"},{"v":0,"d":"$0.00"},{"v":0,"d":"$0.00"},"ASR-Dental_Financial_Report_SMMC_03.21.23","2023-03-21","Unaudited"]
["Dental","DEF","Default",1900,"1900-01-01","PY","1/1/1800","Region 3","Operating Expense","Medical Expense","Dental Services","2.10","Dental Services Adjunctive General Services",{"v":0,"d":"$0.00"},{"v":0,"d":"$0.00"},{"v":0,"d":"$0.00"},{"v":0,"d":"$0.00"},{"v":0,"d":"$0.00"},{"v":0,"d":"$0.00"},"ASR-Dental_Financial_Report_SMMC_03.21.23","2023-03-21","Unaudited"]
["Dental","DEF","Default",1900,"1900-01-01","PY","1/1/1800","Region 3","Operating Expense","Medical Expense","Dental Services","2.11","Dental Services Other",{"v":0,"d":"$0.00"},{"v":0,"d":"$0.00"},{"v":0,"d":"$0.00"},{"v":0,"d":"$0.00"},{"v":0,"d":"$0.00"},{"v":0,"d":"$0.00"},"ASR-Dental_Financial_Report_SMMC_03.21.23","2023-03-21","Unaudited"]
["Dental","DEF","Default",1900,"1900-01-01","PY","1/1/1800","Region 3","Operating Expense","Medical Expense","Expanded Benefits","2.12","Dental Expanded Benefits",{"v":0,"d":"$0.00"},{"v":0,"d":"$0.00"},{"v":0,"d":"$0.00"},{"v":0,"d":"$0.00"},{"v":0,"d":"$0.00"},{"v":0,"d":"$0.00"},"ASR-Dental_Financial_Report_SMMC_03.21.23","2023-03-21","Unaudited"]
["Dental","DEF","Default",1900,"1900-01-01","PY","1/1/1800","Region 3","Operating Expense","Medical Expense","Dental Services","2.13","Dental Services Paid through Subcapitation",{"$f":"IF(OR(AND($F702=\"PY\",N$1<>\"Prior Year\"),AND($F702<>\"PY\",N$1=\"Prior Year\")),0,INDEX(INDIRECT(\"'Dental Rev-Exp \"&$H702&\"'!$A$1:$CA$200\"),IF($J702=\"Member Months\",MATCH($J702,INDIRECT(\"'Dental Rev-Exp \"&$H702&\"'!$A$1:$A$200\"),0),MATCH($L702,INDIRECT(\"'Dental Rev-Exp \"&$H702&\"'!$B$1:$B$200\"),0)),IF($F702=\"PY\",MATCH(\"Prior Year Adjustments\",INDIRECT(\"'Dental Rev-Exp \"&$H702&\"'!$A$8:$CA$8\"),0),MATCH(IF($F702=\"Q1\",\"JANUARY - MARCH (Q1)\",IF($F702=\"Q2\",\"APRIL - JUNE (Q2)\",IF($F702=\"Q3\",\"JULY - SEPTEMBER (Q3)\",IF($F702=\"Q4\",\"OCTOBER - DECEMBER (Q4)\",0)))),INDIRECT(\"'Dental Rev-Exp \"&$H702&\"'!$A$7:$CA$7\"),0)+MATCH(N$1,INDIRECT(\"'Dental Rev-Exp \"&$H702&\"'!$D$8:$CA$8\"),0)-1)))","v":{"v":0,"d":"$0.00"}},{"v":0,"d":"$0.00"},{"v":0,"d":"$0.00"},{"v":0,"d":"$0.00"},{"v":0,"d":"$0.00"},{"v":0,"d":"$0.00"},"ASR-Dental_Financial_Report_SMMC_03.21.23","2023-03-21","Unaudited"]
["Dental","DEF","Default",1900,"1900-01-01","PY","1/1/1800","Region 3","Operating Expense","Medical Expense","Dental Services","2.14","Ending IBNP for Dental Services",{"v":0,"d":"$0.00"},{"v":0,"d":"$0.00"},{"v":0,"d":"$0.00"},{"v":0,"d":"$0.00"},{"v":0,"d":"$0.00"},{"v":0,"d":"$0.00"},"ASR-Dental_Financial_Report_SMMC_03.21.23","2023-03-21","Unaudited"]
["Dental","DEF","Default",1900,"1900-01-01","PY","1/1/1800","Region 3","Operating Expense","Medical Expense","Dental Services","2.15","Dental Settlements/AP",{"v":0,"d":"$0.00"},{"v":0,"d":"$0.00"},{"v":0,"d":"$0.00"},{"v":0,"d":"$0.00"},{"v":0,"d":"$0.00"},{"v":0,"d":"$0.00"},"ASR-Dental_Financial_Report_SMMC_03.21.23","2023-03-21","Unaudited"]
["Dental","DEF","Default",1900,"1900-01-01","PY","1/1/1800","Region 3","Operating Expense","Medical Expense","Other Medical","3.5","TPL & Fraud/Abuse Recoveries",{"v":0,"d":"$0.00"},{"v":0,"d":"$0.00"},{"v":0,"d":"$0.00"},{"v":0,"d":"$0.00"},{"v":0,"d":"$0.00"},{"v":0,"d":"$0.00"},"ASR-Dental_Financial_Report_SMMC_03.21.23","2023-03-21","Unaudited"]
["Dental","DEF","Default",1900,"1900-01-01","PY","1/1/1800","Region 3","Operating Expense","Medical Expense","Other Medical",3.6,"Premium Deficiency Reserve",{"v":0,"d":"$0.00"},{"v":0,"d":"$0.00"},{"v":0,"d":"$0.00"},{"v":0,"d":"$0.00"},{"v":0,"d":"$0.00"},{"v":0,"d":"$0.00"},{"$f":"file_name","v":"ASR-Dental_Financial_Report_SMMC_03.21.23"},{"$f":"file_date","v":"2023-03-21"},{"$f":"status","v":"Unaudited"}]
["Dental","DEF","Default",1900,"1900-01-01","PY","1/1/1800","Region 3","Operating Expense","Medical Expense","Other Medical","3.8","Reinsurance Premiums",{"v":0,"d":"$0.00"},{"v":0,"d":"$0.00"},{"v":0,"d":"$0.00"},{"v":0,"d":"$0.00"},{"v":0,"d":"$0.00"},{"v":0,"d":"$0.00"},"ASR-Dental_Financial_Report_SMMC_03.21.23","2023-03-21","Unaudited"]
["Dental","DEF","Default",1900,"1900-01-01","PY","1/1/1800","Region 3","Operating Expense","Medical Expense","Other Medical","3.9","Reinsurance Recoveries",{"v":0,"d":"$0.00"},{"v":0,"d":"$0.00"},{"v":0,"d":"$0.00"},{"v":0,"d":"$0.00"},{"v":0,"d":"$0.00"},{"v":0,"d":"$0.00"},"ASR-Dental_Financial_Report_SMMC_03.21.23","2023-03-21","Unaudited"]
["Dental","DEF","Default",1900,"1900-01-01","PY","1/1/1800","Region 3","Operating Expense","Administrative Expense","Administrative","4.1","Salaries & Benefits",{"v":0,"d":"$0.00"},{"v":0,"d":"$0.00"},{"v":0,"d":"$0.00"},{"v":0,"d":"$0.00"},{"v":0,"d":"$0.00"},{"v":0,"d":"$0.00"},"ASR-Dental_Financial_Report_SMMC_03.21.23","2023-03-21","Unaudited"]
["Dental","DEF","Default",1900,"1900-01-01","PY","1/1/1800","Region 3","Operating Expense","Administrative Expense","Administrative","4.2","Administrative Services",{"v":0,"d":"$0.00"},{"v":0,"d":"$0.00"},{"v":0,"d":"$0.00"},{"v":0,"d":"$0.00"},{"v":0,"d":"$0.00"},{"v":0,"d":"$0.00"},"ASR-Dental_Financial_Report_SMMC_03.21.23","2023-03-21","Unaudited"]
["Dental","DEF","Default",1900,"1900-01-01","PY","1/1/1800","Region 3","Operating Expense","Administrative Expense","Administrative","4.3","Information Systems",{"v":0,"d":"$0.00"},{"v":0,"d":"$0.00"},{"v":0,"d":"$0.00"},{"v":0,"d":"$0.00"},{"v":0,"d":"$0.00"},{"v":0,"d":"$0.00"},"ASR-Dental_Financial_Report_SMMC_03.21.23","2023-03-21","Unaudited"]
["Dental","DEF","Default",1900,"1900-01-01","PY","1/1/1800","Region 3","Operating Expense","Administrative Expense","Administrative","4.4","Marketing Expenses",{"$f":"IF(OR(AND($F712=\"PY\",N$1<>\"Prior Year\"),AND($F712<>\"PY\",N$1=\"Prior Year\")),0,INDEX(INDIRECT(\"'Dental Rev-Exp \"&$H712&\"'!$A$1:$CA$200\"),IF($J712=\"Member Months\",MATCH($J712,INDIRECT(\"'Dental Rev-Exp \"&$H712&\"'!$A$1:$A$200\"),0),MATCH($L712,INDIRECT(\"'Dental Rev-Exp \"&$H712&\"'!$B$1:$B$200\"),0)),IF($F712=\"PY\",MATCH(\"Prior Year Adjustments\",INDIRECT(\"'Dental Rev-Exp \"&$H712&\"'!$A$8:$CA$8\"),0),MATCH(IF($F712=\"Q1\",\"JANUARY - MARCH (Q1)\",IF($F712=\"Q2\",\"APRIL - JUNE (Q2)\",IF($F712=\"Q3\",\"JULY - SEPTEMBER (Q3)\",IF($F712=\"Q4\",\"OCTOBER - DECEMBER (Q4)\",0)))),INDIRECT(\"'Dental Rev-Exp \"&$H712&\"'!$A$7:$CA$7\"),0)+MATCH(N$1,INDIRECT(\"'Dental Rev-Exp \"&$H712&\"'!$D$8:$CA$8\"),0)-1)))","v":{"v":0,"d":"$0.00"}},{"v":0,"d":"$0.00"},{"v":0,"d":"$0.00"},{"v":0,"d":"$0.00"},{"v":0,"d":"$0.00"},{"v":0,"d":"$0.00"},"ASR-Dental_Financial_Report_SMMC_03.21.23","2023-03-21","Unaudited"]
["Dental","DEF","Default",1900,"1900-01-01","PY","1/1/1800","Region 3","Operating Expense","Administrative Expense","Administrative","4.5","General  Administration",{"v":0,"d":"$0.00"},{"v":0,"d":"$0.00"},{"v":0,"d":"$0.00"},{"v":0,"d":"$0.00"},{"v":0,"d":"$0.00"},{"v":0,"d":"$0.00"},"ASR-Dental_Financial_Report_SMMC_03.21.23","2023-03-21","Unaudited"]
["Dental","DEF","Default",1900,"1900-01-01","PY","1/1/1800","Region 3","Operating Expense","Administrative Expense","Administrative","4.6","Compliance/Regulatory",{"v":0,"d":"$0.00"},{"v":0,"d":"$0.00"},{"v":0,"d":"$0.00"},{"v":0,"d":"$0.00"},{"v":0,"d":"$0.00"},{"v":0,"d":"$0.00"},"ASR-Dental_Financial_Report_SMMC_03.21.23","2023-03-21","Unaudited"]
["Dental","DEF","Default",1900,"1900-01-01","PY","1/1/1800","Region 3","Operating Expense","Taxes & Fees","Taxes & Fees","5.1","State Premium tax",{"v":0,"d":"$0.00"},{"v":0,"d":"$0.00"},{"v":0,"d":"$0.00"},{"v":0,"d":"$0.00"},{"v":0,"d":"$0.00"},{"v":0,"d":"$0.00"},"ASR-Dental_Financial_Report_SMMC_03.21.23","2023-03-21","Unaudited"]
["Dental","DEF","Default",1900,"1900-01-01","PY","1/1/1800","Region 3","Operating Expense","Taxes & Fees","Taxes & Fees","5.2","Department of Insurance Assessments",{"v":0,"d":"$0.00"},{"v":0,"d":"$0.00"},{"v":0,"d":"$0.00"},{"v":0,"d":"$0.00"},{"v":0,"d":"$0.00"},{"v":0,"d":"$0.00"},"ASR-Dental_Financial_Report_SMMC_03.21.23","2023-03-21","Unaudited"]
["Dental","DEF","Default",1900,"1900-01-01","PY","1/1/1800","Region 3","Operating Expense","Taxes & Fees","Taxes & Fees","5.3","Section 9010 Health Insurance Providers Fee",{"v":0,"d":"$0.00"},{"v":0,"d":"$0.00"},{"v":0,"d":"$0.00"},{"v":0,"d":"$0.00"},{"v":0,"d":"$0.00"},{"v":0,"d":"$0.00"},"ASR-Dental_Financial_Report_SMMC_03.21.23","2023-03-21","Unaudited"]
["Dental","DEF","Default",1900,"1900-01-01","PY","1/1/1800","Region 3","Operating Expense","Taxes & Fees","Taxes & Fees","5.4","Other 1",{"v":0,"d":"$0.00"},{"v":0,"d":"$0.00"},{"v":0,"d":"$0.00"},{"v":0,"d":"$0.00"},{"v":0,"d":"$0.00"},{"v":0,"d":"$0.00"},"ASR-Dental_Financial_Report_SMMC_03.21.23","2023-03-21","Unaudited"]
["Dental","DEF","Default",1900,"1900-01-01","PY","1/1/1800","Region 3","Operating Expense","Taxes & Fees","Taxes & Fees","5.5","Other 2",{"v":0,"d":"$0.00"},{"v":0,"d":"$0.00"},{"v":0,"d":"$0.00"},{"v":0,"d":"$0.00"},{"v":0,"d":"$0.00"},{"v":0,"d":"$0.00"},"ASR-Dental_Financial_Report_SMMC_03.21.23","2023-03-21","Unaudited"]
["Dental","DEF","Default",1900,"1900-01-01","PY","1/1/1800","Region 3","Operating Expense","Taxes & Fees","Taxes & Fees","5.6","Other 3",{"v":0,"d":"$0.00"},{"v":0,"d":"$0.00"},{"v":0,"d":"$0.00"},{"v":0,"d":"$0.00"},{"v":0,"d":"$0.00"},{"v":0,"d":"$0.00"},"ASR-Dental_Financial_Report_SMMC_03.21.23","2023-03-21","Unaudited"]
["Dental","DEF","Default",1900,"1900-01-01","PY","1/1/1800","Region 3","Non-Operating Expense","Income Tax Expense","Income Tax Expense","8.0","Income Tax Expense",{"v":0,"d":"$0.00"},{"v":0,"d":"$0.00"},{"v":0,"d":"$0.00"},{"v":0,"d":"$0.00"},{"v":0,"d":"$0.00"},{"v":0,"d":"$0.00"},"ASR-Dental_Financial_Report_SMMC_03.21.23","2023-03-21","Unaudited"]
["Dental","DEF","Default",1900,"1900-01-01","Q1","1900-03-31","Region 4","Member Months","Member Months","Member Months",null,"Member Months",{"$f":"IF(OR(AND($F722=\"PY\",N$1<>\"Prior Year\"),AND($F722<>\"PY\",N$1=\"Prior Year\")),0,INDEX(INDIRECT(\"'Dental Rev-Exp \"&$H722&\"'!$A$1:$CA$200\"),IF($J722=\"Member Months\",MATCH($J722,INDIRECT(\"'Dental Rev-Exp \"&$H722&\"'!$A$1:$A$200\"),0),MATCH($L722,INDIRECT(\"'Dental Rev-Exp \"&$H722&\"'!$B$1:$B$200\"),0)),IF($F722=\"PY\",MATCH(\"Prior Year Adjustments\",INDIRECT(\"'Dental Rev-Exp \"&$H722&\"'!$A$8:$CA$8\"),0),MATCH(IF($F722=\"Q1\",\"JANUARY - MARCH (Q1)\",IF($F722=\"Q2\",\"APRIL - JUNE (Q2)\",IF($F722=\"Q3\",\"JULY - SEPTEMBER (Q3)\",IF($F722=\"Q4\",\"OCTOBER - DECEMBER (Q4)\",0)))),INDIRECT(\"'Dental Rev-Exp \"&$H722&\"'!$A$7:$CA$7\"),0)+MATCH(N$1,INDIRECT(\"'Dental Rev-Exp \"&$H722&\"'!$D$8:$CA$8\"),0)-1)))","v":{"v":0,"d":"$0.00"}},{"v":0,"d":"$0.00"},{"v":0,"d":"$0.00"},{"v":0,"d":"$0.00"},{"v":0,"d":"$0.00"},{"v":0,"d":"$0.00"},"ASR-Dental_Financial_Report_SMMC_03.21.23","2023-03-21","Unaudited"]
["Dental","DEF","Default",1900,"1900-01-01","Q1","1900-03-31","Region 4","Operating Revenue","Capitation","Capitation","1.1","Capitation",{"v":0,"d":"$0.00"},{"v":0,"d":"$0.00"},{"v":0,"d":"$0.00"},{"v":0,"d":"$0.00"},{"v":0,"d":"$0.00"},{"v":0,"d":"$0.00"},"ASR-Dental_Financial_Report_SMMC_03.21.23","2023-03-21","Unaudited"]
["Dental","DEF","Default",1900,"1900-01-01","Q1","1900-03-31","Region 4","Operating Revenue","Other Revenue","Other Revenue - 9010","1.2","ACA § 9010 related payments",{"v":0,"d":"$0.00"},{"v":0,"d":"$0.00"},{"v":0,"d":"$0.00"},{"v":0,"d":"$0.00"},{"v":0,"d":"$0.00"},{"v":0,"d":"$0.00"},"ASR-Dental_Financial_Report_SMMC_03.21.23","2023-03-21","Unaudited"]
["Dental","DEF","Default",1900,"1900-01-01","Q1","1900-03-31","Region 4","Operating Revenue","Other Revenue","Other Revenue","1.3","Other Revenue",{"v":0,"d":"$0.00"},{"v":0,"d":"$0.00"},{"v":0,"d":"$0.00"},{"v":0,"d":"$0.00"},{"v":0,"d":"$0.00"},{"v":0,"d":"$0.00"},"ASR-Dental_Financial_Report_SMMC_03.21.23","2023-03-21","Unaudited"]
["Dental","DEF","Default",1900,"1900-01-01","Q1","1900-03-31","Region 4","Operating Expense","Medical Expense","Dental Services","2.1","Dental Services Diagnostic",{"v":0,"d":"$0.00"},{"v":0,"d":"$0.00"},{"v":0,"d":"$0.00"},{"v":0,"d":"$0.00"},{"v":0,"d":"$0.00"},{"v":0,"d":"$0.00"},"ASR-Dental_Financial_Report_SMMC_03.21.23","2023-03-21","Unaudited"]
["Dental","DEF","Default",1900,"1900-01-01","Q1","1900-03-31","Region 4","Operating Expense","Medical Expense","Dental Services",2.2,"Dental Services Preventive",{"v":0,"d":"$0.00"},{"v":0,"d":"$0.00"},{"v":0,"d":"$0.00"},{"v":0,"d":"$0.00"},{"v":0,"d":"$0.00"},{"v":0,"d":"$0.00"},"ASR-Dental_Financial_Report_SMMC_03.21.23","2023-03-21","Unaudited"]
["Dental","DEF","Default",1900,"1900-01-01","Q1","1900-03-31","Region 4","Operating Expense","Medical Expense","Dental Services","2.3","Dental Services Restorative",{"v":0,"d":"$0.00"},{"v":0,"d":"$0.00"},{"v":0,"d":"$0.00"},{"v":0,"d":"$0.00"},{"v":0,"d":"$0.00"},{"v":0,"d":"$0.00"},"ASR-Dental_Financial_Report_SMMC_03.21.23","2023-03-21","Unaudited"]
["Dental","DEF","Default",1900,"1900-01-01","Q1","1900-03-31","Region 4","Operating Expense","Medical Expense","Dental Services","2.4","Dental Services Endodontics",{"v":0,"d":"$0.00"},{"v":0,"d":"$0.00"},{"v":0,"d":"$0.00"},{"v":0,"d":"$0.00"},{"v":0,"d":"$0.00"},{"v":0,"d":"$0.00"},"ASR-Dental_Financial_Report_SMMC_03.21.23","2023-03-21","Unaudited"]
["Dental","DEF","Default",1900,"1900-01-01","Q1","1900-03-31","Region 4","Operating Expense","Medical Expense","Dental Services","2.5","Dental Services Periodontics",{"v":0,"d":"$0.00"},{"v":0,"d":"$0.00"},{"v":0,"d":"$0.00"},{"v":0,"d":"$0.00"},{"v":0,"d":"$0.00"},{"v":0,"d":"$0.00"},"ASR-Dental_Financial_Report_SMMC_03.21.23","2023-03-21","Unaudited"]
["Dental","DEF","Default",1900,"1900-01-01","Q1","1900-03-31","Region 4","Operating Expense","Medical Expense","Dental Services","2.6","Dental Services Prosthodontics",{"v":0,"d":"$0.00"},{"v":0,"d":"$0.00"},{"v":0,"d":"$0.00"},{"v":0,"d":"$0.00"},{"v":0,"d":"$0.00"},{"v":0,"d":"$0.00"},"ASR-Dental_Financial_Report_SMMC_03.21.23","2023-03-21","Unaudited"]
["Dental","DEF","Default",1900,"1900-01-01","Q1","1900-03-31","Region 4","Operating Expense","Medical Expense","Dental Services","2.7","Dental Services Prosthodontics, fixed",{"$f":"IF(OR(AND($F732=\"PY\",N$1<>\"Prior Year\"),AND($F732<>\"PY\",N$1=\"Prior Year\")),0,INDEX(INDIRECT(\"'Dental Rev-Exp \"&$H732&\"'!$A$1:$CA$200\"),IF($J732=\"Member Months\",MATCH($J732,INDIRECT(\"'Dental Rev-Exp \"&$H732&\"'!$A$1:$A$200\"),0),MATCH($L732,INDIRECT(\"'Dental Rev-Exp \"&$H732&\"'!$B$1:$B$200\"),0)),IF($F732=\"PY\",MATCH(\"Prior Year Adjustments\",INDIRECT(\"'Dental Rev-Exp \"&$H732&\"'!$A$8:$CA$8\"),0),MATCH(IF($F732=\"Q1\",\"JANUARY - MARCH (Q1)\",IF($F732=\"Q2\",\"APRIL - JUNE (Q2)\",IF($F732=\"Q3\",\"JULY - SEPTEMBER (Q3)\",IF($F732=\"Q4\",\"OCTOBER - DECEMBER (Q4)\",0)))),INDIRECT(\"'Dental Rev-Exp \"&$H732&\"'!$A$7:$CA$7\"),0)+MATCH(N$1,INDIRECT(\"'Dental Rev-Exp \"&$H732&\"'!$D$8:$CA$8\"),0)-1)))","v":{"v":0,"d":"$0.00"}},{"v":0,"d":"$0.00"},{"v":0,"d":"$0.00"},{"v":0,"d":"$0.00"},{"v":0,"d":"$0.00"},{"v":0,"d":"$0.00"},"ASR-Dental_Financial_Report_SMMC_03.21.23","2023-03-21","Unaudited"]
["Dental","DEF","Default",1900,"1900-01-01","Q1","1900-03-31","Region 4","Operating Expense","Medical Expense","Dental Services","2.8","Dental Services Oral and Maxillofacial Surgery",{"v":0,"d":"$0.00"},{"v":0,"d":"$0.00"},{"v":0,"d":"$0.00"},{"v":0,"d":"$0.00"},{"v":0,"d":"$0.00"},{"v":0,"d":"$0.00"},"ASR-Dental_Financial_Report_SMMC_03.21.23","2023-03-21","Unaudited"]
["Dental","DEF","Default",1900,"1900-01-01","Q1","1900-03-31","Region 4","Operating Expense","Medical Expense","Dental Services","2.9","Dental Services Orthodontics",{"v":0,"d":"$0.00"},{"v":0,"d":"$0.00"},{"v":0,"d":"$0.00"},{"v":0,"d":"$0.00"},{"v":0,"d":"$0.00"},{"v":0,"d":"$0.00"},"ASR-Dental_Financial_Report_SMMC_03.21.23","2023-03-21","Unaudited"]
["Dental","DEF","Default",1900,"1900-01-01","Q1","1900-03-31","Region 4","Operating Expense","Medical Expense","Dental Services","2.10","Dental Services Adjunctive General Services",{"v":0,"d":"$0.00"},{"v":0,"d":"$0.00"},{"v":0,"d":"$0.00"},{"v":0,"d":"$0.00"},{"v":0,"d":"$0.00"},{"v":0,"d":"$0.00"},"ASR-Dental_Financial_Report_SMMC_03.21.23","2023-03-21","Unaudited"]
["Dental","DEF","Default",1900,"1900-01-01","Q1","1900-03-31","Region 4","Operating Expense","Medical Expense","Dental Services","2.11","Dental Services Other",{"v":0,"d":"$0.00"},{"v":0,"d":"$0.00"},{"v":0,"d":"$0.00"},{"v":0,"d":"$0.00"},{"v":0,"d":"$0.00"},{"v":0,"d":"$0.00"},"ASR-Dental_Financial_Report_SMMC_03.21.23","2023-03-21","Unaudited"]
["Dental","DEF","Default",1900,"1900-01-01","Q1","1900-03-31","Region 4","Operating Expense","Medical Expense","Expanded Benefits","2.12","Dental Expanded Benefits",{"v":0,"d":"$0.00"},{"v":0,"d":"$0.00"},{"v":0,"d":"$0.00"},{"v":0,"d":"$0.00"},{"v":0,"d":"$0.00"},{"v":0,"d":"$0.00"},"ASR-Dental_Financial_Report_SMMC_03.21.23","2023-03-21","Unaudited"]
["Dental","DEF","Default",1900,"1900-01-01","Q1","1900-03-31","Region 4","Operating Expense","Medical Expense","Dental Services","2.13","Dental Services Paid through Subcapitation",{"v":0,"d":"$0.00"},{"v":0,"d":"$0.00"},{"v":0,"d":"$0.00"},{"v":0,"d":"$0.00"},{"v":0,"d":"$0.00"},{"v":0,"d":"$0.00"},"ASR-Dental_Financial_Report_SMMC_03.21.23","2023-03-21","Unaudited"]
["Dental","DEF","Default",1900,"1900-01-01","Q1","1900-03-31","Region 4","Operating Expense","Medical Expense","Dental Services","2.14","Ending IBNP for Dental Services",{"v":0,"d":"$0.00"},{"v":0,"d":"$0.00"},{"v":0,"d":"$0.00"},{"v":0,"d":"$0.00"},{"v":0,"d":"$0.00"},{"v":0,"d":"$0.00"},"ASR-Dental_Financial_Report_SMMC_03.21.23","2023-03-21","Unaudited"]
["Dental","DEF","Default",1900,"1900-01-01","Q1","1900-03-31","Region 4","Operating Expense","Medical Expense","Dental Services","2.15","Dental Settlements/AP",{"v":0,"d":"$0.00"},{"v":0,"d":"$0.00"},{"v":0,"d":"$0.00"},{"v":0,"d":"$0.00"},{"v":0,"d":"$0.00"},{"v":0,"d":"$0.00"},"ASR-Dental_Financial_Report_SMMC_03.21.23","2023-03-21","Unaudited"]
["Dental","DEF","Default",1900,"1900-01-01","Q1","1900-03-31","Region 4","Operating Expense","Medical Expense","Other Medical","3.5","TPL & Fraud/Abuse Recoveries",{"v":0,"d":"$0.00"},{"v":0,"d":"$0.00"},{"v":0,"d":"$0.00"},{"v":0,"d":"$0.00"},{"v":0,"d":"$0.00"},{"v":0,"d":"$0.00"},"ASR-Dental_Financial_Report_SMMC_03.21.23","2023-03-21","Unaudited"]
["Dental","DEF","Default",1900,"1900-01-01","Q1","1900-03-31","Region 4","Operating Expense","Medical Expense","Other Medical",3.6,"Premium Deficiency Reserve",{"$f":"IF(OR(AND($F742=\"PY\",N$1<>\"Prior Year\"),AND($F742<>\"PY\",N$1=\"Prior Year\")),0,INDEX(INDIRECT(\"'Dental Rev-Exp \"&$H742&\"'!$A$1:$CA$200\"),IF($J742=\"Member Months\",MATCH($J742,INDIRECT(\"'Dental Rev-Exp \"&$H742&\"'!$A$1:$A$200\"),0),MATCH($L742,INDIRECT(\"'Dental Rev-Exp \"&$H742&\"'!$B$1:$B$200\"),0)),IF($F742=\"PY\",MATCH(\"Prior Year Adjustments\",INDIRECT(\"'Dental Rev-Exp \"&$H742&\"'!$A$8:$CA$8\"),0),MATCH(IF($F742=\"Q1\",\"JANUARY - MARCH (Q1)\",IF($F742=\"Q2\",\"APRIL - JUNE (Q2)\",IF($F742=\"Q3\",\"JULY - SEPTEMBER (Q3)\",IF($F742=\"Q4\",\"OCTOBER - DECEMBER (Q4)\",0)))),INDIRECT(\"'Dental Rev-Exp \"&$H742&\"'!$A$7:$CA$7\"),0)+MATCH(N$1,INDIRECT(\"'Dental Rev-Exp \"&$H742&\"'!$D$8:$CA$8\"),0)-1)))","v":{"v":0,"d":"$0.00"}},{"v":0,"d":"$0.00"},{"v":0,"d":"$0.00"},{"v":0,"d":"$0.00"},{"v":0,"d":"$0.00"},{"v":0,"d":"$0.00"},"ASR-Dental_Financial_Report_SMMC_03.21.23","2023-03-21","Unaudited"]
["Dental","DEF","Default",1900,"1900-01-01","Q1","1900-03-31","Region 4","Operating Expense","Medical Expense","Other Medical","3.8","Reinsurance Premiums",{"v":0,"d":"$0.00"},{"v":0,"d":"$0.00"},{"v":0,"d":"$0.00"},{"v":0,"d":"$0.00"},{"v":0,"d":"$0.00"},{"v":0,"d":"$0.00"},"ASR-Dental_Financial_Report_SMMC_03.21.23","2023-03-21","Unaudited"]
["Dental","DEF","Default",1900,"1900-01-01","Q1","1900-03-31","Region 4","Operating Expense","Medical Expense","Other Medical","3.9","Reinsurance Recoveries",{"v":0,"d":"$0.00"},{"v":0,"d":"$0.00"},{"v":0,"d":"$0.00"},{"v":0,"d":"$0.00"},{"v":0,"d":"$0.00"},{"v":0,"d":"$0.00"},"ASR-Dental_Financial_Report_SMMC_03.21.23","2023-03-21","Unaudited"]
["Dental","DEF","Default",1900,"1900-01-01","Q1","1900-03-31","Region 4","Operating Expense","Administrative Expense","Administrative","4.1","Salaries & Benefits",{"v":0,"d":"$0.00"},{"v":0,"d":"$0.00"},{"v":0,"d":"$0.00"},{"v":0,"d":"$0.00"},{"v":0,"d":"$0.00"},{"v":0,"d":"$0.00"},"ASR-Dental_Financial_Report_SMMC_03.21.23","2023-03-21","Unaudited"]
["Dental","DEF","Default",1900,"1900-01-01","Q1","1900-03-31","Region 4","Operating Expense","Administrative Expense","Administrative","4.2","Administrative Services",{"v":0,"d":"$0.00"},{"v":0,"d":"$0.00"},{"v":0,"d":"$0.00"},{"v":0,"d":"$0.00"},{"v":0,"d":"$0.00"},{"v":0,"d":"$0.00"},"ASR-Dental_Financial_Report_SMMC_03.21.23","2023-03-21","Unaudited"]
["Dental","DEF","Default",1900,"1900-01-01","Q1","1900-03-31","Region 4","Operating Expense","Administrative Expense","Administrative","4.3","Information Systems",{"v":0,"d":"$0.00"},{"v":0,"d":"$0.00"},{"v":0,"d":"$0.00"},{"v":0,"d":"$0.00"},{"v":0,"d":"$0.00"},{"v":0,"d":"$0.00"},"ASR-Dental_Financial_Report_SMMC_03.21.23","2023-03-21","Unaudited"]
["Dental","DEF","Default",1900,"1900-01-01","Q1","1900-03-31","Region 4","Operating Expense","Administrative Expense","Administrative","4.4","Marketing Expenses",{"v":0,"d":"$0.00"},{"v":0,"d":"$0.00"},{"v":0,"d":"$0.00"},{"v":0,"d":"$0.00"},{"v":0,"d":"$0.00"},{"v":0,"d":"$0.00"},"ASR-Dental_Financial_Report_SMMC_03.21.23","2023-03-21","Unaudited"]
["Dental","DEF","Default",1900,"1900-01-01","Q1","1900-03-31","Region 4","Operating Expense","Administrative Expense","Administrative","4.5","General  Administration",{"v":0,"d":"$0.00"},{"v":0,"d":"$0.00"},{"v":0,"d":"$0.00"},{"v":0,"d":"$0.00"},{"v":0,"d":"$0.00"},{"v":0,"d":"$0.00"},"ASR-Dental_Financial_Report_SMMC_03.21.23","2023-03-21","Unaudited"]
["Dental","DEF","Default",1900,"1900-01-01","Q1","1900-03-31","Region 4","Operating Expense","Administrative Expense","Administrative","4.6","Compliance/Regulatory",{"v":0,"d":"$0.00"},{"v":0,"d":"$0.00"},{"v":0,"d":"$0.00"},{"v":0,"d":"$0.00"},{"v":0,"d":"$0.00"},{"v":0,"d":"$0.00"},"ASR-Dental_Financial_Report_SMMC_03.21.23","2023-03-21","Unaudited"]
["Dental","DEF","Default",1900,"1900-01-01","Q1","1900-03-31","Region 4","Operating Expense","Taxes & Fees","Taxes & Fees","5.1","State Premium tax",{"v":0,"d":"$0.00"},{"v":0,"d":"$0.00"},{"v":0,"d":"$0.00"},{"v":0,"d":"$0.00"},{"v":0,"d":"$0.00"},{"v":0,"d":"$0.00"},"ASR-Dental_Financial_Report_SMMC_03.21.23","2023-03-21","Unaudited"]
["Dental","DEF","Default",1900,"1900-01-01","Q1","1900-03-31","Region 4","Operating Expense","Taxes & Fees","Taxes & Fees","5.2","Department of Insurance Assessments",{"$f":"IF(OR(AND($F752=\"PY\",N$1<>\"Prior Year\"),AND($F752<>\"PY\",N$1=\"Prior Year\")),0,INDEX(INDIRECT(\"'Dental Rev-Exp \"&$H752&\"'!$A$1:$CA$200\"),IF($J752=\"Member Months\",MATCH($J752,INDIRECT(\"'Dental Rev-Exp \"&$H752&\"'!$A$1:$A$200\"),0),MATCH($L752,INDIRECT(\"'Dental Rev-Exp \"&$H752&\"'!$B$1:$B$200\"),0)),IF($F752=\"PY\",MATCH(\"Prior Year Adjustments\",INDIRECT(\"'Dental Rev-Exp \"&$H752&\"'!$A$8:$CA$8\"),0),MATCH(IF($F752=\"Q1\",\"JANUARY - MARCH (Q1)\",IF($F752=\"Q2\",\"APRIL - JUNE (Q2)\",IF($F752=\"Q3\",\"JULY - SEPTEMBER (Q3)\",IF($F752=\"Q4\",\"OCTOBER - DECEMBER (Q4)\",0)))),INDIRECT(\"'Dental Rev-Exp \"&$H752&\"'!$A$7:$CA$7\"),0)+MATCH(N$1,INDIRECT(\"'Dental Rev-Exp \"&$H752&\"'!$D$8:$CA$8\"),0)-1)))","v":{"v":0,"d":"$0.00"}},{"v":0,"d":"$0.00"},{"v":0,"d":"$0.00"},{"v":0,"d":"$0.00"},{"v":0,"d":"$0.00"},{"v":0,"d":"$0.00"},"ASR-Dental_Financial_Report_SMMC_03.21.23","2023-03-21","Unaudited"]
["Dental","DEF","Default",1900,"1900-01-01","Q1","1900-03-31","Region 4","Operating Expense","Taxes & Fees","Taxes & Fees","5.3","Section 9010 Health Insurance Providers Fee",{"v":0,"d":"$0.00"},{"v":0,"d":"$0.00"},{"v":0,"d":"$0.00"},{"v":0,"d":"$0.00"},{"v":0,"d":"$0.00"},{"v":0,"d":"$0.00"},"ASR-Dental_Financial_Report_SMMC_03.21.23","2023-03-21","Unaudited"]
["Dental","DEF","Default",1900,"1900-01-01","Q1","1900-03-31","Region 4","Operating Expense","Taxes & Fees","Taxes & Fees","5.4","Other 1",{"v":0,"d":"$0.00"},{"v":0,"d":"$0.00"},{"v":0,"d":"$0.00"},{"v":0,"d":"$0.00"},{"v":0,"d":"$0.00"},{"v":0,"d":"$0.00"},"ASR-Dental_Financial_Report_SMMC_03.21.23","2023-03-21","Unaudited"]
["Dental","DEF","Default",1900,"1900-01-01","Q1","1900-03-31","Region 4","Operating Expense","Taxes & Fees","Taxes & Fees","5.5","Other 2",{"v":0,"d":"$0.00"},{"v":0,"d":"$0.00"},{"v":0,"d":"$0.00"},{"v":0,"d":"$0.00"},{"v":0,"d":"$0.00"},{"v":0,"d":"$0.00"},"ASR-Dental_Financial_Report_SMMC_03.21.23","2023-03-21","Unaudited"]
["Dental","DEF","Default",1900,"1900-01-01","Q1","1900-03-31","Region 4","Operating Expense","Taxes & Fees","Taxes & Fees","5.6","Other 3",{"v":0,"d":"$0.00"},{"v":0,"d":"$0.00"},{"v":0,"d":"$0.00"},{"v":0,"d":"$0.00"},{"v":0,"d":"$0.00"},{"v":0,"d":"$0.00"},"ASR-Dental_Financial_Report_SMMC_03.21.23","2023-03-21","Unaudited"]
["Dental","DEF","Default",1900,"1900-01-01","Q1","1900-03-31","Region 4","Non-Operating Expense","Income Tax Expense","Income Tax Expense","8.0","Income Tax Expense",{"v":0,"d":"$0.00"},{"v":0,"d":"$0.00"},{"v":0,"d":"$0.00"},{"v":0,"d":"$0.00"},{"v":0,"d":"$0.00"},{"v":0,"d":"$0.00"},"ASR-Dental_Financial_Report_SMMC_03.21.23","2023-03-21","Unaudited"]
["Dental","DEF","Default",1900,"1900-01-01","Q2","1900-06-30","Region 4","Member Months","Member Months","Member Months",null,"Member Months",{"v":0,"d":"$0.00"},{"v":0,"d":"$0.00"},{"v":0,"d":"$0.00"},{"v":0,"d":"$0.00"},{"v":0,"d":"$0.00"},{"v":0,"d":"$0.00"},"ASR-Dental_Financial_Report_SMMC_03.21.23","2023-03-21","Unaudited"]
["Dental","DEF","Default",1900,"1900-01-01","Q2","1900-06-30","Region 4","Operating Revenue","Capitation","Capitation","1.1","Capitation",{"v":0,"d":"$0.00"},{"v":0,"d":"$0.00"},{"v":0,"d":"$0.00"},{"v":0,"d":"$0.00"},{"v":0,"d":"$0.00"},{"v":0,"d":"$0.00"},"ASR-Dental_Financial_Report_SMMC_03.21.23","2023-03-21","Unaudited"]
["Dental","DEF","Default",1900,"1900-01-01","Q2","1900-06-30","Region 4","Operating Revenue","Other Revenue","Other Revenue - 9010","1.2","ACA § 9010 related payments",{"v":0,"d":"$0.00"},{"v":0,"d":"$0.00"},{"v":0,"d":"$0.00"},{"v":0,"d":"$0.00"},{"v":0,"d":"$0.00"},{"v":0,"d":"$0.00"},"ASR-Dental_Financial_Report_SMMC_03.21.23","2023-03-21","Unaudited"]
["Dental","DEF","Default",1900,"1900-01-01","Q2","1900-06-30","Region 4","Operating Revenue","Other Revenue","Other Revenue","1.3","Other Revenue",{"v":0,"d":"$0.00"},{"v":0,"d":"$0.00"},{"v":0,"d":"$0.00"},{"v":0,"d":"$0.00"},{"v":0,"d":"$0.00"},{"v":0,"d":"$0.00"},"ASR-Dental_Financial_Report_SMMC_03.21.23","2023-03-21","Unaudited"]
["Dental","DEF","Default",1900,"1900-01-01","Q2","1900-06-30","Region 4","Operating Expense","Medical Expense","Dental Services","2.1","Dental Services Diagnostic",{"$f":"IF(OR(AND($F762=\"PY\",N$1<>\"Prior Year\"),AND($F762<>\"PY\",N$1=\"Prior Year\")),0,INDEX(INDIRECT(\"'Dental Rev-Exp \"&$H762&\"'!$A$1:$CA$200\"),IF($J762=\"Member Months\",MATCH($J762,INDIRECT(\"'Dental Rev-Exp \"&$H762&\"'!$A$1:$A$200\"),0),MATCH($L762,INDIRECT(\"'Dental Rev-Exp \"&$H762&\"'!$B$1:$B$200\"),0)),IF($F762=\"PY\",MATCH(\"Prior Year Adjustments\",INDIRECT(\"'Dental Rev-Exp \"&$H762&\"'!$A$8:$CA$8\"),0),MATCH(IF($F762=\"Q1\",\"JANUARY - MARCH (Q1)\",IF($F762=\"Q2\",\"APRIL - JUNE (Q2)\",IF($F762=\"Q3\",\"JULY - SEPTEMBER (Q3)\",IF($F762=\"Q4\",\"OCTOBER - DECEMBER (Q4)\",0)))),INDIRECT(\"'Dental Rev-Exp \"&$H762&\"'!$A$7:$CA$7\"),0)+MATCH(N$1,INDIRECT(\"'Dental Rev-Exp \"&$H762&\"'!$D$8:$CA$8\"),0)-1)))","v":{"v":0,"d":"$0.00"}},{"v":0,"d":"$0.00"},{"v":0,"d":"$0.00"},{"v":0,"d":"$0.00"},{"v":0,"d":"$0.00"},{"v":0,"d":"$0.00"},"ASR-Dental_Financial_Report_SMMC_03.21.23","2023-03-21","Unaudited"]
["Dental","DEF","Default",1900,"1900-01-01","Q2","1900-06-30","Region 4","Operating Expense","Medical Expense","Dental Services",2.2,"Dental Services Preventive",{"v":0,"d":"$0.00"},{"v":0,"d":"$0.00"},{"v":0,"d":"$0.00"},{"v":0,"d":"$0.00"},{"v":0,"d":"$0.00"},{"v":0,"d":"$0.00"},"ASR-Dental_Financial_Report_SMMC_03.21.23","2023-03-21","Unaudited"]
["Dental","DEF","Default",1900,"1900-01-01","Q2","1900-06-30","Region 4","Operating Expense","Medical Expense","Dental Services","2.3","Dental Services Restorative",{"v":0,"d":"$0.00"},{"v":0,"d":"$0.00"},{"v":0,"d":"$0.00"},{"v":0,"d":"$0.00"},{"v":0,"d":"$0.00"},{"v":0,"d":"$0.00"},"ASR-Dental_Financial_Report_SMMC_03.21.23","2023-03-21","Unaudited"]
["Dental","DEF","Default",1900,"1900-01-01","Q2","1900-06-30","Region 4","Operating Expense","Medical Expense","Dental Services","2.4","Dental Services Endodontics",{"v":0,"d":"$0.00"},{"v":0,"d":"$0.00"},{"v":0,"d":"$0.00"},{"v":0,"d":"$0.00"},{"v":0,"d":"$0.00"},{"v":0,"d":"$0.00"},"ASR-Dental_Financial_Report_SMMC_03.21.23","2023-03-21","Unaudited"]
["Dental","DEF","Default",1900,"1900-01-01","Q2","1900-06-30","Region 4","Operating Expense","Medical Expense","Dental Services","2.5","Dental Services Periodontics",{"v":0,"d":"$0.00"},{"v":0,"d":"$0.00"},{"v":0,"d":"$0.00"},{"v":0,"d":"$0.00"},{"v":0,"d":"$0.00"},{"v":0,"d":"$0.00"},"ASR-Dental_Financial_Report_SMMC_03.21.23","2023-03-21","Unaudited"]
["Dental","DEF","Default",1900,"1900-01-01","Q2","1900-06-30","Region 4","Operating Expense","Medical Expense","Dental Services","2.6","Dental Services Prosthodontics",{"v":0,"d":"$0.00"},{"v":0,"d":"$0.00"},{"v":0,"d":"$0.00"},{"v":0,"d":"$0.00"},{"v":0,"d":"$0.00"},{"v":0,"d":"$0.00"},"ASR-Dental_Financial_Report_SMMC_03.21.23","2023-03-21","Unaudited"]
["Dental","DEF","Default",1900,"1900-01-01","Q2","1900-06-30","Region 4","Operating Expense","Medical Expense","Dental Services","2.7","Dental Services Prosthodontics, fixed",{"v":0,"d":"$0.00"},{"v":0,"d":"$0.00"},{"v":0,"d":"$0.00"},{"v":0,"d":"$0.00"},{"v":0,"d":"$0.00"},{"v":0,"d":"$0.00"},"ASR-Dental_Financial_Report_SMMC_03.21.23","2023-03-21","Unaudited"]
["Dental","DEF","Default",1900,"1900-01-01","Q2","1900-06-30","Region 4","Operating Expense","Medical Expense","Dental Services","2.8","Dental Services Oral and Maxillofacial Surgery",{"v":0,"d":"$0.00"},{"v":0,"d":"$0.00"},{"v":0,"d":"$0.00"},{"v":0,"d":"$0.00"},{"v":0,"d":"$0.00"},{"v":0,"d":"$0.00"},"ASR-Dental_Financial_Report_SMMC_03.21.23","2023-03-21","Unaudited"]
["Dental","DEF","Default",1900,"1900-01-01","Q2","1900-06-30","Region 4","Operating Expense","Medical Expense","Dental Services","2.9","Dental Services Orthodontics",{"v":0,"d":"$0.00"},{"v":0,"d":"$0.00"},{"v":0,"d":"$0.00"},{"v":0,"d":"$0.00"},{"v":0,"d":"$0.00"},{"v":0,"d":"$0.00"},{"$f":"file_name","v":"ASR-Dental_Financial_Report_SMMC_03.21.23"},{"$f":"file_date","v":"2023-03-21"},{"$f":"status","v":"Unaudited"}]
["Dental","DEF","Default",1900,"1900-01-01","Q2","1900-06-30","Region 4","Operating Expense","Medical Expense","Dental Services","2.10","Dental Services Adjunctive General Services",{"v":0,"d":"$0.00"},{"v":0,"d":"$0.00"},{"v":0,"d":"$0.00"},{"v":0,"d":"$0.00"},{"v":0,"d":"$0.00"},{"v":0,"d":"$0.00"},"ASR-Dental_Financial_Report_SMMC_03.21.23","2023-03-21","Unaudited"]
["Dental","DEF","Default",1900,"1900-01-01","Q2","1900-06-30","Region 4","Operating Expense","Medical Expense","Dental Services","2.11","Dental Services Other",{"$f":"IF(OR(AND($F772=\"PY\",N$1<>\"Prior Year\"),AND($F772<>\"PY\",N$1=\"Prior Year\")),0,INDEX(INDIRECT(\"'Dental Rev-Exp \"&$H772&\"'!$A$1:$CA$200\"),IF($J772=\"Member Months\",MATCH($J772,INDIRECT(\"'Dental Rev-Exp \"&$H772&\"'!$A$1:$A$200\"),0),MATCH($L772,INDIRECT(\"'Dental Rev-Exp \"&$H772&\"'!$B$1:$B$200\"),0)),IF($F772=\"PY\",MATCH(\"Prior Year Adjustments\",INDIRECT(\"'Dental Rev-Exp \"&$H772&\"'!$A$8:$CA$8\"),0),MATCH(IF($F772=\"Q1\",\"JANUARY - MARCH (Q1)\",IF($F772=\"Q2\",\"APRIL - JUNE (Q2)\",IF($F772=\"Q3\",\"JULY - SEPTEMBER (Q3)\",IF($F772=\"Q4\",\"OCTOBER - DECEMBER (Q4)\",0)))),INDIRECT(\"'Dental Rev-Exp \"&$H772&\"'!$A$7:$CA$7\"),0)+MATCH(N$1,INDIRECT(\"'Dental Rev-Exp \"&$H772&\"'!$D$8:$CA$8\"),0)-1)))","v":{"v":0,"d":"$0.00"}},{"v":0,"d":"$0.00"},{"v":0,"d":"$0.00"},{"v":0,"d":"$0.00"},{"v":0,"d":"$0.00"},{"v":0,"d":"$0.00"},"ASR-Dental_Financial_Report_SMMC_03.21.23","2023-03-21","Unaudited"]
["Dental","DEF","Default",1900,"1900-01-01","Q2","1900-06-30","Region 4","Operating Expense","Medical Expense","Expanded Benefits","2.12","Dental Expanded Benefits",{"v":0,"d":"$0.00"},{"v":0,"d":"$0.00"},{"v":0,"d":"$0.00"},{"v":0,"d":"$0.00"},{"v":0,"d":"$0.00"},{"v":0,"d":"$0.00"},"ASR-Dental_Financial_Report_SMMC_03.21.23","2023-03-21","Unaudited"]
["Dental","DEF","Default",1900,"1900-01-01","Q2","1900-06-30","Region 4","Operating Expense","Medical Expense","Dental Services","2.13","Dental Services Paid through Subcapitation",{"v":0,"d":"$0.00"},{"v":0,"d":"$0.00"},{"v":0,"d":"$0.00"},{"v":0,"d":"$0.00"},{"v":0,"d":"$0.00"},{"v":0,"d":"$0.00"},"ASR-Dental_Financial_Report_SMMC_03.21.23","2023-03-21","Unaudited"]
["Dental","DEF","Default",1900,"1900-01-01","Q2","1900-06-30","Region 4","Operating Expense","Medical Expense","Dental Services","2.14","Ending IBNP for Dental Services",{"v":0,"d":"$0.00"},{"v":0,"d":"$0.00"},{"v":0,"d":"$0.00"},{"v":0,"d":"$0.00"},{"v":0,"d":"$0.00"},{"v":0,"d":"$0.00"},"ASR-Dental_Financial_Report_SMMC_03.21.23","2023-03-21","Unaudited"]
["Dental","DEF","Default",1900,"1900-01-01","Q2","1900-06-30","Region 4","Operating Expense","Medical Expense","Dental Services","2.15","Dental Settlements/AP",{"v":0,"d":"$0.00"},{"v":0,"d":"$0.00"},{"v":0,"d":"$0.00"},{"v":0,"d":"$0.00"},{"v":0,"d":"$0.00"},{"v":0,"d":"$0.00"},"ASR-Dental_Financial_Report_SMMC_03.21.23","2023-03-21","Unaudited"]
["Dental","DEF","Default",1900,"1900-01-01","Q2","1900-06-30","Region 4","Operating Expense","Medical Expense","Other Medical","3.5","TPL & Fraud/Abuse Recoveries",{"v":0,"d":"$0.00"},{"v":0,"d":"$0.00"},{"v":0,"d":"$0.00"},{"v":0,"d":"$0.00"},{"v":0,"d":"$0.00"},{"v":0,"d":"$0.00"},"ASR-Dental_Financial_Report_SMMC_03.21.23","2023-03-21","Unaudited"]
["Dental","DEF","Default",1900,"1900-01-01","Q2","1900-06-30","Region 4","Operating Expense","Medical Expense","Other Medical",3.6,"Premium Deficiency Reserve",{"v":0,"d":"$0.00"},{"v":0,"d":"$0.00"},{"v":0,"d":"$0.00"},{"v":0,"d":"$0.00"},{"v":0,"d":"$0.00"},{"v":0,"d":"$0.00"},"ASR-Dental_Financial_Report_SMMC_03.21.23","2023-03-21","Unaudited"]
["Dental","DEF","Default",1900,"1900-01-01","Q2","1900-06-30","Region 4","Operating Expense","Medical Expense","Other Medical","3.8","Reinsurance Premiums",{"v":0,"d":"$0.00"},{"v":0,"d":"$0.00"},{"v":0,"d":"$0.00"},{"v":0,"d":"$0.00"},{"v":0,"d":"$0.00"},{"v":0,"d":"$0.00"},"ASR-Dental_Financial_Report_SMMC_03.21.23","2023-03-21","Unaudited"]
["Dental","DEF","Default",1900,"1900-01-01","Q2","1900-06-30","Region 4","Operating Expense","Medical Expense","Other Medical","3.9","Reinsurance Recoveries",{"v":0,"d":"$0.00"},{"v":0,"d":"$0.00"},{"v":0,"d":"$0.00"},{"v":0,"d":"$0.00"},{"v":0,"d":"$0.00"},{"v":0,"d":"$0.00"},"ASR-Dental_Financial_Report_SMMC_03.21.23","2023-03-21","Unaudited"]
["Dental","DEF","Default",1900,"1900-01-01","Q2","1900-06-30","Region 4","Operating Expense","Administrative Expense","Administrative","4.1","Salaries & Benefits",{"v":0,"d":"$0.00"},{"v":0,"d":"$0.00"},{"v":0,"d":"$0.00"},{"v":0,"d":"$0.00"},{"v":0,"d":"$0.00"},{"v":0,"d":"$0.00"},"ASR-Dental_Financial_Report_SMMC_03.21.23","2023-03-21","Unaudited"]
["Dental","DEF","Default",1900,"1900-01-01","Q2","1900-06-30","Region 4","Operating Expense","Administrative Expense","Administrative","4.2","Administrative Services",{"$f":"IF(OR(AND($F782=\"PY\",N$1<>\"Prior Year\"),AND($F782<>\"PY\",N$1=\"Prior Year\")),0,INDEX(INDIRECT(\"'Dental Rev-Exp \"&$H782&\"'!$A$1:$CA$200\"),IF($J782=\"Member Months\",MATCH($J782,INDIRECT(\"'Dental Rev-Exp \"&$H782&\"'!$A$1:$A$200\"),0),MATCH($L782,INDIRECT(\"'Dental Rev-Exp \"&$H782&\"'!$B$1:$B$200\"),0)),IF($F782=\"PY\",MATCH(\"Prior Year Adjustments\",INDIRECT(\"'Dental Rev-Exp \"&$H782&\"'!$A$8:$CA$8\"),0),MATCH(IF($F782=\"Q1\",\"JANUARY - MARCH (Q1)\",IF($F782=\"Q2\",\"APRIL - JUNE (Q2)\",IF($F782=\"Q3\",\"JULY - SEPTEMBER (Q3)\",IF($F782=\"Q4\",\"OCTOBER - DECEMBER (Q4)\",0)))),INDIRECT(\"'Dental Rev-Exp \"&$H782&\"'!$A$7:$CA$7\"),0)+MATCH(N$1,INDIRECT(\"'Dental Rev-Exp \"&$H782&\"'!$D$8:$CA$8\"),0)-1)))","v":{"v":0,"d":"$0.00"}},{"v":0,"d":"$0.00"},{"v":0,"d":"$0.00"},{"v":0,"d":"$0.00"},{"v":0,"d":"$0.00"},{"v":0,"d":"$0.00"},"ASR-Dental_Financial_Report_SMMC_03.21.23","2023-03-21","Unaudited"]
["Dental","DEF","Default",1900,"1900-01-01","Q2","1900-06-30","Region 4","Operating Expense","Administrative Expense","Administrative","4.3","Information Systems",{"v":0,"d":"$0.00"},{"v":0,"d":"$0.00"},{"v":0,"d":"$0.00"},{"v":0,"d":"$0.00"},{"v":0,"d":"$0.00"},{"v":0,"d":"$0.00"},"ASR-Dental_Financial_Report_SMMC_03.21.23","2023-03-21","Unaudited"]
["Dental","DEF","Default",1900,"1900-01-01","Q2","1900-06-30","Region 4","Operating Expense","Administrative Expense","Administrative","4.4","Marketing Expenses",{"v":0,"d":"$0.00"},{"v":0,"d":"$0.00"},{"v":0,"d":"$0.00"},{"v":0,"d":"$0.00"},{"v":0,"d":"$0.00"},{"v":0,"d":"$0.00"},"ASR-Dental_Financial_Report_SMMC_03.21.23","2023-03-21","Unaudited"]
["Dental","DEF","Default",1900,"1900-01-01","Q2","1900-06-30","Region 4","Operating Expense","Administrative Expense","Administrative","4.5","General  Administration",{"v":0,"d":"$0.00"},{"v":0,"d":"$0.00"},{"v":0,"d":"$0.00"},{"v":0,"d":"$0.00"},{"v":0,"d":"$0.00"},{"v":0,"d":"$0.00"},"ASR-Dental_Financial_Report_SMMC_03.21.23","2023-03-21","Unaudited"]
["Dental","DEF","Default",1900,"1900-01-01","Q2","1900-06-30","Region 4","Operating Expense","Administrative Expense","Administrative","4.6","Compliance/Regulatory",{"v":0,"d":"$0.00"},{"v":0,"d":"$0.00"},{"v":0,"d":"$0.00"},{"v":0,"d":"$0.00"},{"v":0,"d":"$0.00"},{"v":0,"d":"$0.00"},"ASR-Dental_Financial_Report_SMMC_03.21.23","2023-03-21","Unaudited"]
["Dental","DEF","Default",1900,"1900-01-01","Q2","1900-06-30","Region 4","Operating Expense","Taxes & Fees","Taxes & Fees","5.1","State Premium tax",{"v":0,"d":"$0.00"},{"v":0,"d":"$0.00"},{"v":0,"d":"$0.00"},{"v":0,"d":"$0.00"},{"v":0,"d":"$0.00"},{"v":0,"d":"$0.00"},"ASR-Dental_Financial_Report_SMMC_03.21.23","2023-03-21","Unaudited"]
["Dental","DEF","Default",1900,"1900-01-01","Q2","1900-06-30","Region 4","Operating Expense","Taxes & Fees","Taxes & Fees","5.2","Department of Insurance Assessments",{"v":0,"d":"$0.00"},{"v":0,"d":"$0.00"},{"v":0,"d":"$0.00"},{"v":0,"d":"$0.00"},{"v":0,"d":"$0.00"},{"v":0,"d":"$0.00"},"ASR-Dental_Financial_Report_SMMC_03.21.23","2023-03-21","Unaudited"]
["Dental","DEF","Default",1900,"1900-01-01","Q2","1900-06-30","Region 4","Operating Expense","Taxes & Fees","Taxes & Fees","5.3","Section 9010 Health Insurance Providers Fee",{"v":0,"d":"$0.00"},{"v":0,"d":"$0.00"},{"v":0,"d":"$0.00"},{"v":0,"d":"$0.00"},{"v":0,"d":"$0.00"},{"v":0,"d":"$0.00"},"ASR-Dental_Financial_Report_SMMC_03.21.23","2023-03-21","Unaudited"]
["Dental","DEF","Default",1900,"1900-01-01","Q2","1900-06-30","Region 4","Operating Expense","Taxes & Fees","Taxes & Fees","5.4","Other 1",{"v":0,"d":"$0.00"},{"v":0,"d":"$0.00"},{"v":0,"d":"$0.00"},{"v":0,"d":"$0.00"},{"v":0,"d":"$0.00"},{"v":0,"d":"$0.00"},"ASR-Dental_Financial_Report_SMMC_03.21.23","2023-03-21","Unaudited"]
["Dental","DEF","Default",1900,"1900-01-01","Q2","1900-06-30","Region 4","Operating Expense","Taxes & Fees","Taxes & Fees","5.5","Other 2",{"v":0,"d":"$0.00"},{"v":0,"d":"$0.00"},{"v":0,"d":"$0.00"},{"v":0,"d":"$0.00"},{"v":0,"d":"$0.00"},{"v":0,"d":"$0.00"},"ASR-Dental_Financial_Report_SMMC_03.21.23","2023-03-21","Unaudited"]
["Dental","DEF","Default",1900,"1900-01-01","Q2","1900-06-30","Region 4","Operating Expense","Taxes & Fees","Taxes & Fees","5.6","Other 3",{"$f":"IF(OR(AND($F792=\"PY\",N$1<>\"Prior Year\"),AND($F792<>\"PY\",N$1=\"Prior Year\")),0,INDEX(INDIRECT(\"'Dental Rev-Exp \"&$H792&\"'!$A$1:$CA$200\"),IF($J792=\"Member Months\",MATCH($J792,INDIRECT(\"'Dental Rev-Exp \"&$H792&\"'!$A$1:$A$200\"),0),MATCH($L792,INDIRECT(\"'Dental Rev-Exp \"&$H792&\"'!$B$1:$B$200\"),0)),IF($F792=\"PY\",MATCH(\"Prior Year Adjustments\",INDIRECT(\"'Dental Rev-Exp \"&$H792&\"'!$A$8:$CA$8\"),0),MATCH(IF($F792=\"Q1\",\"JANUARY - MARCH (Q1)\",IF($F792=\"Q2\",\"APRIL - JUNE (Q2)\",IF($F792=\"Q3\",\"JULY - SEPTEMBER (Q3)\",IF($F792=\"Q4\",\"OCTOBER - DECEMBER (Q4)\",0)))),INDIRECT(\"'Dental Rev-Exp \"&$H792&\"'!$A$7:$CA$7\"),0)+MATCH(N$1,INDIRECT(\"'Dental Rev-Exp \"&$H792&\"'!$D$8:$CA$8\"),0)-1)))","v":{"v":0,"d":"$0.00"}},{"v":0,"d":"$0.00"},{"v":0,"d":"$0.00"},{"v":0,"d":"$0.00"},{"v":0,"d":"$0.00"},{"v":0,"d":"$0.00"},"ASR-Dental_Financial_Report_SMMC_03.21.23","2023-03-21","Unaudited"]
["Dental","DEF","Default",1900,"1900-01-01","Q2","1900-06-30","Region 4","Non-Operating Expense","Income Tax Expense","Income Tax Expense","8.0","Income Tax Expense",{"v":0,"d":"$0.00"},{"v":0,"d":"$0.00"},{"v":0,"d":"$0.00"},{"v":0,"d":"$0.00"},{"v":0,"d":"$0.00"},{"v":0,"d":"$0.00"},"ASR-Dental_Financial_Report_SMMC_03.21.23","2023-03-21","Unaudited"]
["Dental","DEF","Default",1900,"1900-01-01","Q3","1900-09-30","Region 4","Member Months","Member Months","Member Months",null,"Member Months",{"v":0,"d":"$0.00"},{"v":0,"d":"$0.00"},{"v":0,"d":"$0.00"},{"v":0,"d":"$0.00"},{"v":0,"d":"$0.00"},{"v":0,"d":"$0.00"},"ASR-Dental_Financial_Report_SMMC_03.21.23","2023-03-21","Unaudited"]
["Dental","DEF","Default",1900,"1900-01-01","Q3","1900-09-30","Region 4","Operating Revenue","Capitation","Capitation","1.1","Capitation",{"v":0,"d":"$0.00"},{"v":0,"d":"$0.00"},{"v":0,"d":"$0.00"},{"v":0,"d":"$0.00"},{"v":0,"d":"$0.00"},{"v":0,"d":"$0.00"},"ASR-Dental_Financial_Report_SMMC_03.21.23","2023-03-21","Unaudited"]
["Dental","DEF","Default",1900,"1900-01-01","Q3","1900-09-30","Region 4","Operating Revenue","Other Revenue","Other Revenue - 9010","1.2","ACA § 9010 related payments",{"v":0,"d":"$0.00"},{"v":0,"d":"$0.00"},{"v":0,"d":"$0.00"},{"v":0,"d":"$0.00"},{"v":0,"d":"$0.00"},{"v":0,"d":"$0.00"},"ASR-Dental_Financial_Report_SMMC_03.21.23","2023-03-21","Unaudited"]
["Dental","DEF","Default",1900,"1900-01-01","Q3","1900-09-30","Region 4","Operating Revenue","Other Revenue","Other Revenue","1.3","Other Revenue",{"v":0,"d":"$0.00"},{"v":0,"d":"$0.00"},{"v":0,"d":"$0.00"},{"v":0,"d":"$0.00"},{"v":0,"d":"$0.00"},{"v":0,"d":"$0.00"},"ASR-Dental_Financial_Report_SMMC_03.21.23","2023-03-21","Unaudited"]
["Dental","DEF","Default",1900,"1900-01-01","Q3","1900-09-30","Region 4","Operating Expense","Medical Expense","Dental Services","2.1","Dental Services Diagnostic",{"v":0,"d":"$0.00"},{"v":0,"d":"$0.00"},{"v":0,"d":"$0.00"},{"v":0,"d":"$0.00"},{"v":0,"d":"$0.00"},{"v":0,"d":"$0.00"},"ASR-Dental_Financial_Report_SMMC_03.21.23","2023-03-21","Unaudited"]
["Dental","DEF","Default",1900,"1900-01-01","Q3","1900-09-30","Region 4","Operating Expense","Medical Expense","Dental Services",2.2,"Dental Services Preventive",{"v":0,"d":"$0.00"},{"v":0,"d":"$0.00"},{"v":0,"d":"$0.00"},{"v":0,"d":"$0.00"},{"v":0,"d":"$0.00"},{"v":0,"d":"$0.00"},"ASR-Dental_Financial_Report_SMMC_03.21.23","2023-03-21","Unaudited"]
["Dental","DEF","Default",1900,"1900-01-01","Q3","1900-09-30","Region 4","Operating Expense","Medical Expense","Dental Services","2.3","Dental Services Restorative",{"v":0,"d":"$0.00"},{"v":0,"d":"$0.00"},{"v":0,"d":"$0.00"},{"v":0,"d":"$0.00"},{"v":0,"d":"$0.00"},{"v":0,"d":"$0.00"},"ASR-Dental_Financial_Report_SMMC_03.21.23","2023-03-21","Unaudited"]
["Dental","DEF","Default",1900,"1900-01-01","Q3","1900-09-30","Region 4","Operating Expense","Medical Expense","Dental Services","2.4","Dental Services Endodontics",{"v":0,"d":"$0.00"},{"v":0,"d":"$0.00"},{"v":0,"d":"$0.00"},{"v":0,"d":"$0.00"},{"v":0,"d":"$0.00"},{"v":0,"d":"$0.00"},"ASR-Dental_Financial_Report_SMMC_03.21.23","2023-03-21","Unaudited"]
["Dental","DEF","Default",1900,"1900-01-01","Q3","1900-09-30","Region 4","Operating Expense","Medical Expense","Dental Services","2.5","Dental Services Periodontics",{"$f":"IF(OR(AND($F802=\"PY\",N$1<>\"Prior Year\"),AND($F802<>\"PY\",N$1=\"Prior Year\")),0,INDEX(INDIRECT(\"'Dental Rev-Exp \"&$H802&\"'!$A$1:$CA$200\"),IF($J802=\"Member Months\",MATCH($J802,INDIRECT(\"'Dental Rev-Exp \"&$H802&\"'!$A$1:$A$200\"),0),MATCH($L802,INDIRECT(\"'Dental Rev-Exp \"&$H802&\"'!$B$1:$B$200\"),0)),IF($F802=\"PY\",MATCH(\"Prior Year Adjustments\",INDIRECT(\"'Dental Rev-Exp \"&$H802&\"'!$A$8:$CA$8\"),0),MATCH(IF($F802=\"Q1\",\"JANUARY - MARCH (Q1)\",IF($F802=\"Q2\",\"APRIL - JUNE (Q2)\",IF($F802=\"Q3\",\"JULY - SEPTEMBER (Q3)\",IF($F802=\"Q4\",\"OCTOBER - DECEMBER (Q4)\",0)))),INDIRECT(\"'Dental Rev-Exp \"&$H802&\"'!$A$7:$CA$7\"),0)+MATCH(N$1,INDIRECT(\"'Dental Rev-Exp \"&$H802&\"'!$D$8:$CA$8\"),0)-1)))","v":{"v":0,"d":"$0.00"}},{"v":0,"d":"$0.00"},{"v":0,"d":"$0.00"},{"v":0,"d":"$0.00"},{"v":0,"d":"$0.00"},{"v":0,"d":"$0.00"},"ASR-Dental_Financial_Report_SMMC_03.21.23","2023-03-21","Unaudited"]
["Dental","DEF","Default",1900,"1900-01-01","Q3","1900-09-30","Region 4","Operating Expense","Medical Expense","Dental Services","2.6","Dental Services Prosthodontics",{"v":0,"d":"$0.00"},{"v":0,"d":"$0.00"},{"v":0,"d":"$0.00"},{"v":0,"d":"$0.00"},{"v":0,"d":"$0.00"},{"v":0,"d":"$0.00"},"ASR-Dental_Financial_Report_SMMC_03.21.23","2023-03-21","Unaudited"]
["Dental","DEF","Default",1900,"1900-01-01","Q3","1900-09-30","Region 4","Operating Expense","Medical Expense","Dental Services","2.7","Dental Services Prosthodontics, fixed",{"v":0,"d":"$0.00"},{"v":0,"d":"$0.00"},{"v":0,"d":"$0.00"},{"v":0,"d":"$0.00"},{"v":0,"d":"$0.00"},{"v":0,"d":"$0.00"},"ASR-Dental_Financial_Report_SMMC_03.21.23","2023-03-21","Unaudited"]
["Dental","DEF","Default",1900,"1900-01-01","Q3","1900-09-30","Region 4","Operating Expense","Medical Expense","Dental Services","2.8","Dental Services Oral and Maxillofacial Surgery",{"v":0,"d":"$0.00"},{"v":0,"d":"$0.00"},{"v":0,"d":"$0.00"},{"v":0,"d":"$0.00"},{"v":0,"d":"$0.00"},{"v":0,"d":"$0.00"},"ASR-Dental_Financial_Report_SMMC_03.21.23","2023-03-21","Unaudited"]
["Dental","DEF","Default",1900,"1900-01-01","Q3","1900-09-30","Region 4","Operating Expense","Medical Expense","Dental Services","2.9","Dental Services Orthodontics",{"v":0,"d":"$0.00"},{"v":0,"d":"$0.00"},{"v":0,"d":"$0.00"},{"v":0,"d":"$0.00"},{"v":0,"d":"$0.00"},{"v":0,"d":"$0.00"},"ASR-Dental_Financial_Report_SMMC_03.21.23","2023-03-21","Unaudited"]
["Dental","DEF","Default",1900,"1900-01-01","Q3","1900-09-30","Region 4","Operating Expense","Medical Expense","Dental Services","2.10","Dental Services Adjunctive General Services",{"v":0,"d":"$0.00"},{"v":0,"d":"$0.00"},{"v":0,"d":"$0.00"},{"v":0,"d":"$0.00"},{"v":0,"d":"$0.00"},{"v":0,"d":"$0.00"},"ASR-Dental_Financial_Report_SMMC_03.21.23","2023-03-21","Unaudited"]
["Dental","DEF","Default",1900,"1900-01-01","Q3","1900-09-30","Region 4","Operating Expense","Medical Expense","Dental Services","2.11","Dental Services Other",{"v":0,"d":"$0.00"},{"v":0,"d":"$0.00"},{"v":0,"d":"$0.00"},{"v":0,"d":"$0.00"},{"v":0,"d":"$0.00"},{"v":0,"d":"$0.00"},"ASR-Dental_Financial_Report_SMMC_03.21.23","2023-03-21","Unaudited"]
["Dental","DEF","Default",1900,"1900-01-01","Q3","1900-09-30","Region 4","Operating Expense","Medical Expense","Expanded Benefits","2.12","Dental Expanded Benefits",{"v":0,"d":"$0.00"},{"v":0,"d":"$0.00"},{"v":0,"d":"$0.00"},{"v":0,"d":"$0.00"},{"v":0,"d":"$0.00"},{"v":0,"d":"$0.00"},"ASR-Dental_Financial_Report_SMMC_03.21.23","2023-03-21","Unaudited"]
["Dental","DEF","Default",1900,"1900-01-01","Q3","1900-09-30","Region 4","Operating Expense","Medical Expense","Dental Services","2.13","Dental Services Paid through Subcapitation",{"v":0,"d":"$0.00"},{"v":0,"d":"$0.00"},{"v":0,"d":"$0.00"},{"v":0,"d":"$0.00"},{"v":0,"d":"$0.00"},{"v":0,"d":"$0.00"},"ASR-Dental_Financial_Report_SMMC_03.21.23","2023-03-21","Unaudited"]
["Dental","DEF","Default",1900,"1900-01-01","Q3","1900-09-30","Region 4","Operating Expense","Medical Expense","Dental Services","2.14","Ending IBNP for Dental Services",{"v":0,"d":"$0.00"},{"v":0,"d":"$0.00"},{"v":0,"d":"$0.00"},{"v":0,"d":"$0.00"},{"v":0,"d":"$0.00"},{"v":0,"d":"$0.00"},"ASR-Dental_Financial_Report_SMMC_03.21.23","2023-03-21","Unaudited"]
["Dental","DEF","Default",1900,"1900-01-01","Q3","1900-09-30","Region 4","Operating Expense","Medical Expense","Dental Services","2.15","Dental Settlements/AP",{"$f":"IF(OR(AND($F812=\"PY\",N$1<>\"Prior Year\"),AND($F812<>\"PY\",N$1=\"Prior Year\")),0,INDEX(INDIRECT(\"'Dental Rev-Exp \"&$H812&\"'!$A$1:$CA$200\"),IF($J812=\"Member Months\",MATCH($J812,INDIRECT(\"'Dental Rev-Exp \"&$H812&\"'!$A$1:$A$200\"),0),MATCH($L812,INDIRECT(\"'Dental Rev-Exp \"&$H812&\"'!$B$1:$B$200\"),0)),IF($F812=\"PY\",MATCH(\"Prior Year Adjustments\",INDIRECT(\"'Dental Rev-Exp \"&$H812&\"'!$A$8:$CA$8\"),0),MATCH(IF($F812=\"Q1\",\"JANUARY - MARCH (Q1)\",IF($F812=\"Q2\",\"APRIL - JUNE (Q2)\",IF($F812=\"Q3\",\"JULY - SEPTEMBER (Q3)\",IF($F812=\"Q4\",\"OCTOBER - DECEMBER (Q4)\",0)))),INDIRECT(\"'Dental Rev-Exp \"&$H812&\"'!$A$7:$CA$7\"),0)+MATCH(N$1,INDIRECT(\"'Dental Rev-Exp \"&$H812&\"'!$D$8:$CA$8\"),0)-1)))","v":{"v":0,"d":"$0.00"}},{"v":0,"d":"$0.00"},{"v":0,"d":"$0.00"},{"v":0,"d":"$0.00"},{"v":0,"d":"$0.00"},{"v":0,"d":"$0.00"},"ASR-Dental_Financial_Report_SMMC_03.21.23","2023-03-21","Unaudited"]
["Dental","DEF","Default",1900,"1900-01-01","Q3","1900-09-30","Region 4","Operating Expense","Medical Expense","Other Medical","3.5","TPL & Fraud/Abuse Recoveries",{"v":0,"d":"$0.00"},{"v":0,"d":"$0.00"},{"v":0,"d":"$0.00"},{"v":0,"d":"$0.00"},{"v":0,"d":"$0.00"},{"v":0,"d":"$0.00"},"ASR-Dental_Financial_Report_SMMC_03.21.23","2023-03-21","Unaudited"]
["Dental","DEF","Default",1900,"1900-01-01","Q3","1900-09-30","Region 4","Operating Expense","Medical Expense","Other Medical",3.6,"Premium Deficiency Reserve",{"v":0,"d":"$0.00"},{"v":0,"d":"$0.00"},{"v":0,"d":"$0.00"},{"v":0,"d":"$0.00"},{"v":0,"d":"$0.00"},{"v":0,"d":"$0.00"},"ASR-Dental_Financial_Report_SMMC_03.21.23","2023-03-21","Unaudited"]
["Dental","DEF","Default",1900,"1900-01-01","Q3","1900-09-30","Region 4","Operating Expense","Medical Expense","Other Medical","3.8","Reinsurance Premiums",{"v":0,"d":"$0.00"},{"v":0,"d":"$0.00"},{"v":0,"d":"$0.00"},{"v":0,"d":"$0.00"},{"v":0,"d":"$0.00"},{"v":0,"d":"$0.00"},"ASR-Dental_Financial_Report_SMMC_03.21.23","2023-03-21","Unaudited"]
["Dental","DEF","Default",1900,"1900-01-01","Q3","1900-09-30","Region 4","Operating Expense","Medical Expense","Other Medical","3.9","Reinsurance Recoveries",{"v":0,"d":"$0.00"},{"v":0,"d":"$0.00"},{"v":0,"d":"$0.00"},{"v":0,"d":"$0.00"},{"v":0,"d":"$0.00"},{"v":0,"d":"$0.00"},"ASR-Dental_Financial_Report_SMMC_03.21.23","2023-03-21","Unaudited"]
["Dental","DEF","Default",1900,"1900-01-01","Q3","1900-09-30","Region 4","Operating Expense","Administrative Expense","Administrative","4.1","Salaries & Benefits",{"v":0,"d":"$0.00"},{"v":0,"d":"$0.00"},{"v":0,"d":"$0.00"},{"v":0,"d":"$0.00"},{"v":0,"d":"$0.00"},{"v":0,"d":"$0.00"},"ASR-Dental_Financial_Report_SMMC_03.21.23","2023-03-21","Unaudited"]
["Dental","DEF","Default",1900,"1900-01-01","Q3","1900-09-30","Region 4","Operating Expense","Administrative Expense","Administrative","4.2","Administrative Services",{"v":0,"d":"$0.00"},{"v":0,"d":"$0.00"},{"v":0,"d":"$0.00"},{"v":0,"d":"$0.00"},{"v":0,"d":"$0.00"},{"v":0,"d":"$0.00"},"ASR-Dental_Financial_Report_SMMC_03.21.23","2023-03-21","Unaudited"]
["Dental","DEF","Default",1900,"1900-01-01","Q3","1900-09-30","Region 4","Operating Expense","Administrative Expense","Administrative","4.3","Information Systems",{"v":0,"d":"$0.00"},{"v":0,"d":"$0.00"},{"v":0,"d":"$0.00"},{"v":0,"d":"$0.00"},{"v":0,"d":"$0.00"},{"v":0,"d":"$0.00"},"ASR-Dental_Financial_Report_SMMC_03.21.23","2023-03-21","Unaudited"]
["Dental","DEF","Default",1900,"1900-01-01","Q3","1900-09-30","Region 4","Operating Expense","Administrative Expense","Administrative","4.4","Marketing Expenses",{"v":0,"d":"$0.00"},{"v":0,"d":"$0.00"},{"v":0,"d":"$0.00"},{"v":0,"d":"$0.00"},{"v":0,"d":"$0.00"},{"v":0,"d":"$0.00"},"ASR-Dental_Financial_Report_SMMC_03.21.23","2023-03-21","Unaudited"]
["Dental","DEF","Default",1900,"1900-01-01","Q3","1900-09-30","Region 4","Operating Expense","Administrative Expense","Administrative","4.5","General  Administration",{"v":0,"d":"$0.00"},{"v":0,"d":"$0.00"},{"v":0,"d":"$0.00"},{"v":0,"d":"$0.00"},{"v":0,"d":"$0.00"},{"v":0,"d":"$0.00"},"ASR-Dental_Financial_Report_SMMC_03.21.23","2023-03-21","Unaudited"]
["Dental","DEF","Default",1900,"1900-01-01","Q3","1900-09-30","Region 4","Operating Expense","Administrative Expense","Administrative","4.6","Compliance/Regulatory",{"$f":"IF(OR(AND($F822=\"PY\",N$1<>\"Prior Year\"),AND($F822<>\"PY\",N$1=\"Prior Year\")),0,INDEX(INDIRECT(\"'Dental Rev-Exp \"&$H822&\"'!$A$1:$CA$200\"),IF($J822=\"Member Months\",MATCH($J822,INDIRECT(\"'Dental Rev-Exp \"&$H822&\"'!$A$1:$A$200\"),0),MATCH($L822,INDIRECT(\"'Dental Rev-Exp \"&$H822&\"'!$B$1:$B$200\"),0)),IF($F822=\"PY\",MATCH(\"Prior Year Adjustments\",INDIRECT(\"'Dental Rev-Exp \"&$H822&\"'!$A$8:$CA$8\"),0),MATCH(IF($F822=\"Q1\",\"JANUARY - MARCH (Q1)\",IF($F822=\"Q2\",\"APRIL - JUNE (Q2)\",IF($F822=\"Q3\",\"JULY - SEPTEMBER (Q3)\",IF($F822=\"Q4\",\"OCTOBER - DECEMBER (Q4)\",0)))),INDIRECT(\"'Dental Rev-Exp \"&$H822&\"'!$A$7:$CA$7\"),0)+MATCH(N$1,INDIRECT(\"'Dental Rev-Exp \"&$H822&\"'!$D$8:$CA$8\"),0)-1)))","v":{"v":0,"d":"$0.00"}},{"v":0,"d":"$0.00"},{"v":0,"d":"$0.00"},{"v":0,"d":"$0.00"},{"v":0,"d":"$0.00"},{"v":0,"d":"$0.00"},"ASR-Dental_Financial_Report_SMMC_03.21.23","2023-03-21","Unaudited"]
["Dental","DEF","Default",1900,"1900-01-01","Q3","1900-09-30","Region 4","Operating Expense","Taxes & Fees","Taxes & Fees","5.1","State Premium tax",{"v":0,"d":"$0.00"},{"v":0,"d":"$0.00"},{"v":0,"d":"$0.00"},{"v":0,"d":"$0.00"},{"v":0,"d":"$0.00"},{"v":0,"d":"$0.00"},"ASR-Dental_Financial_Report_SMMC_03.21.23","2023-03-21","Unaudited"]
["Dental","DEF","Default",1900,"1900-01-01","Q3","1900-09-30","Region 4","Operating Expense","Taxes & Fees","Taxes & Fees","5.2","Department of Insurance Assessments",{"v":0,"d":"$0.00"},{"v":0,"d":"$0.00"},{"v":0,"d":"$0.00"},{"v":0,"d":"$0.00"},{"v":0,"d":"$0.00"},{"v":0,"d":"$0.00"},"ASR-Dental_Financial_Report_SMMC_03.21.23","2023-03-21","Unaudited"]
["Dental","DEF","Default",1900,"1900-01-01","Q3","1900-09-30","Region 4","Operating Expense","Taxes & Fees","Taxes & Fees","5.3","Section 9010 Health Insurance Providers Fee",{"v":0,"d":"$0.00"},{"v":0,"d":"$0.00"},{"v":0,"d":"$0.00"},{"v":0,"d":"$0.00"},{"v":0,"d":"$0.00"},{"v":0,"d":"$0.00"},"ASR-Dental_Financial_Report_SMMC_03.21.23","2023-03-21","Unaudited"]
["Dental","DEF","Default",1900,"1900-01-01","Q3","1900-09-30","Region 4","Operating Expense","Taxes & Fees","Taxes & Fees","5.4","Other 1",{"v":0,"d":"$0.00"},{"v":0,"d":"$0.00"},{"v":0,"d":"$0.00"},{"v":0,"d":"$0.00"},{"v":0,"d":"$0.00"},{"v":0,"d":"$0.00"},"ASR-Dental_Financial_Report_SMMC_03.21.23","2023-03-21","Unaudited"]
["Dental","DEF","Default",1900,"1900-01-01","Q3","1900-09-30","Region 4","Operating Expense","Taxes & Fees","Taxes & Fees","5.5","Other 2",{"v":0,"d":"$0.00"},{"v":0,"d":"$0.00"},{"v":0,"d":"$0.00"},{"v":0,"d":"$0.00"},{"v":0,"d":"$0.00"},{"v":0,"d":"$0.00"},"ASR-Dental_Financial_Report_SMMC_03.21.23","2023-03-21","Unaudited"]
["Dental","DEF","Default",1900,"1900-01-01","Q3","1900-09-30","Region 4","Operating Expense","Taxes & Fees","Taxes & Fees","5.6","Other 3",{"v":0,"d":"$0.00"},{"v":0,"d":"$0.00"},{"v":0,"d":"$0.00"},{"v":0,"d":"$0.00"},{"v":0,"d":"$0.00"},{"v":0,"d":"$0.00"},"ASR-Dental_Financial_Report_SMMC_03.21.23","2023-03-21","Unaudited"]
["Dental","DEF","Default",1900,"1900-01-01","Q3","1900-09-30","Region 4","Non-Operating Expense","Income Tax Expense","Income Tax Expense","8.0","Income Tax Expense",{"v":0,"d":"$0.00"},{"v":0,"d":"$0.00"},{"v":0,"d":"$0.00"},{"v":0,"d":"$0.00"},{"v":0,"d":"$0.00"},{"v":0,"d":"$0.00"},"ASR-Dental_Financial_Report_SMMC_03.21.23","2023-03-21","Unaudited"]
["Dental","DEF","Default",1900,"1900-01-01","Q4","1900-12-31","Region 4","Member Months","Member Months","Member Months",null,"Member Months",{"v":0,"d":"$0.00"},{"v":0,"d":"$0.00"},{"v":0,"d":"$0.00"},{"v":0,"d":"$0.00"},{"v":0,"d":"$0.00"},{"v":0,"d":"$0.00"},"ASR-Dental_Financial_Report_SMMC_03.21.23","2023-03-21","Unaudited"]
["Dental","DEF","Default",1900,"1900-01-01","Q4","1900-12-31","Region 4","Operating Revenue","Capitation","Capitation","1.1","Capitation",{"v":0,"d":"$0.00"},{"v":0,"d":"$0.00"},{"v":0,"d":"$0.00"},{"v":0,"d":"$0.00"},{"v":0,"d":"$0.00"},{"v":0,"d":"$0.00"},"ASR-Dental_Financial_Report_SMMC_03.21.23","2023-03-21","Unaudited"]
["Dental","DEF","Default",1900,"1900-01-01","Q4","1900-12-31","Region 4","Operating Revenue","Other Revenue","Other Revenue - 9010","1.2","ACA § 9010 related payments",{"$f":"IF(OR(AND($F832=\"PY\",N$1<>\"Prior Year\"),AND($F832<>\"PY\",N$1=\"Prior Year\")),0,INDEX(INDIRECT(\"'Dental Rev-Exp \"&$H832&\"'!$A$1:$CA$200\"),IF($J832=\"Member Months\",MATCH($J832,INDIRECT(\"'Dental Rev-Exp \"&$H832&\"'!$A$1:$A$200\"),0),MATCH($L832,INDIRECT(\"'Dental Rev-Exp \"&$H832&\"'!$B$1:$B$200\"),0)),IF($F832=\"PY\",MATCH(\"Prior Year Adjustments\",INDIRECT(\"'Dental Rev-Exp \"&$H832&\"'!$A$8:$CA$8\"),0),MATCH(IF($F832=\"Q1\",\"JANUARY - MARCH (Q1)\",IF($F832=\"Q2\",\"APRIL - JUNE (Q2)\",IF($F832=\"Q3\",\"JULY - SEPTEMBER (Q3)\",IF($F832=\"Q4\",\"OCTOBER - DECEMBER (Q4)\",0)))),INDIRECT(\"'Dental Rev-Exp \"&$H832&\"'!$A$7:$CA$7\"),0)+MATCH(N$1,INDIRECT(\"'Dental Rev-Exp \"&$H832&\"'!$D$8:$CA$8\"),0)-1)))","v":{"v":0,"d":"$0.00"}},{"v":0,"d":"$0.00"},{"v":0,"d":"$0.00"},{"v":0,"d":"$0.00"},{"v":0,"d":"$0.00"},{"v":0,"d":"$0.00"},"ASR-Dental_Financial_Report_SMMC_03.21.23","2023-03-21","Unaudited"]
["Dental","DEF","Default",1900,"1900-01-01","Q4","1900-12-31","Region 4","Operating Revenue","Other Revenue","Other Revenue","1.3","Other Revenue",{"v":0,"d":"$0.00"},{"v":0,"d":"$0.00"},{"v":0,"d":"$0.00"},{"v":0,"d":"$0.00"},{"v":0,"d":"$0.00"},{"v":0,"d":"$0.00"},"ASR-Dental_Financial_Report_SMMC_03.21.23","2023-03-21","Unaudited"]
["Dental","DEF","Default",1900,"1900-01-01","Q4","1900-12-31","Region 4","Operating Expense","Medical Expense","Dental Services","2.1","Dental Services Diagnostic",{"v":0,"d":"$0.00"},{"v":0,"d":"$0.00"},{"v":0,"d":"$0.00"},{"v":0,"d":"$0.00"},{"v":0,"d":"$0.00"},{"v":0,"d":"$0.00"},{"$f":"file_name","v":"ASR-Dental_Financial_Report_SMMC_03.21.23"},{"$f":"file_date","v":"2023-03-21"},{"$f":"status","v":"Unaudited"}]
["Dental","DEF","Default",1900,"1900-01-01","Q4","1900-12-31","Region 4","Operating Expense","Medical Expense","Dental Services",2.2,"Dental Services Preventive",{"v":0,"d":"$0.00"},{"v":0,"d":"$0.00"},{"v":0,"d":"$0.00"},{"v":0,"d":"$0.00"},{"v":0,"d":"$0.00"},{"v":0,"d":"$0.00"},"ASR-Dental_Financial_Report_SMMC_03.21.23","2023-03-21","Unaudited"]
["Dental","DEF","Default",1900,"1900-01-01","Q4","1900-12-31","Region 4","Operating Expense","Medical Expense","Dental Services","2.3","Dental Services Restorative",{"v":0,"d":"$0.00"},{"v":0,"d":"$0.00"},{"v":0,"d":"$0.00"},{"v":0,"d":"$0.00"},{"v":0,"d":"$0.00"},{"v":0,"d":"$0.00"},"ASR-Dental_Financial_Report_SMMC_03.21.23","2023-03-21","Unaudited"]
["Dental","DEF","Default",1900,"1900-01-01","Q4","1900-12-31","Region 4","Operating Expense","Medical Expense","Dental Services","2.4","Dental Services Endodontics",{"v":0,"d":"$0.00"},{"v":0,"d":"$0.00"},{"v":0,"d":"$0.00"},{"v":0,"d":"$0.00"},{"v":0,"d":"$0.00"},{"v":0,"d":"$0.00"},"ASR-Dental_Financial_Report_SMMC_03.21.23","2023-03-21","Unaudited"]
["Dental","DEF","Default",1900,"1900-01-01","Q4","1900-12-31","Region 4","Operating Expense","Medical Expense","Dental Services","2.5","Dental Services Periodontics",{"v":0,"d":"$0.00"},{"v":0,"d":"$0.00"},{"v":0,"d":"$0.00"},{"v":0,"d":"$0.00"},{"v":0,"d":"$0.00"},{"v":0,"d":"$0.00"},"ASR-Dental_Financial_Report_SMMC_03.21.23","2023-03-21","Unaudited"]
["Dental","DEF","Default",1900,"1900-01-01","Q4","1900-12-31","Region 4","Operating Expense","Medical Expense","Dental Services","2.6","Dental Services Prosthodontics",{"v":0,"d":"$0.00"},{"v":0,"d":"$0.00"},{"v":0,"d":"$0.00"},{"v":0,"d":"$0.00"},{"v":0,"d":"$0.00"},{"v":0,"d":"$0.00"},"ASR-Dental_Financial_Report_SMMC_03.21.23","2023-03-21","Unaudited"]
["Dental","DEF","Default",1900,"1900-01-01","Q4","1900-12-31","Region 4","Operating Expense","Medical Expense","Dental Services","2.7","Dental Services Prosthodontics, fixed",{"v":0,"d":"$0.00"},{"v":0,"d":"$0.00"},{"v":0,"d":"$0.00"},{"v":0,"d":"$0.00"},{"v":0,"d":"$0.00"},{"v":0,"d":"$0.00"},"ASR-Dental_Financial_Report_SMMC_03.21.23","2023-03-21","Unaudited"]
["Dental","DEF","Default",1900,"1900-01-01","Q4","1900-12-31","Region 4","Operating Expense","Medical Expense","Dental Services","2.8","Dental Services Oral and Maxillofacial Surgery",{"v":0,"d":"$0.00"},{"v":0,"d":"$0.00"},{"v":0,"d":"$0.00"},{"v":0,"d":"$0.00"},{"v":0,"d":"$0.00"},{"v":0,"d":"$0.00"},"ASR-Dental_Financial_Report_SMMC_03.21.23","2023-03-21","Unaudited"]
["Dental","DEF","Default",1900,"1900-01-01","Q4","1900-12-31","Region 4","Operating Expense","Medical Expense","Dental Services","2.9","Dental Services Orthodontics",{"$f":"IF(OR(AND($F842=\"PY\",N$1<>\"Prior Year\"),AND($F842<>\"PY\",N$1=\"Prior Year\")),0,INDEX(INDIRECT(\"'Dental Rev-Exp \"&$H842&\"'!$A$1:$CA$200\"),IF($J842=\"Member Months\",MATCH($J842,INDIRECT(\"'Dental Rev-Exp \"&$H842&\"'!$A$1:$A$200\"),0),MATCH($L842,INDIRECT(\"'Dental Rev-Exp \"&$H842&\"'!$B$1:$B$200\"),0)),IF($F842=\"PY\",MATCH(\"Prior Year Adjustments\",INDIRECT(\"'Dental Rev-Exp \"&$H842&\"'!$A$8:$CA$8\"),0),MATCH(IF($F842=\"Q1\",\"JANUARY - MARCH (Q1)\",IF($F842=\"Q2\",\"APRIL - JUNE (Q2)\",IF($F842=\"Q3\",\"JULY - SEPTEMBER (Q3)\",IF($F842=\"Q4\",\"OCTOBER - DECEMBER (Q4)\",0)))),INDIRECT(\"'Dental Rev-Exp \"&$H842&\"'!$A$7:$CA$7\"),0)+MATCH(N$1,INDIRECT(\"'Dental Rev-Exp \"&$H842&\"'!$D$8:$CA$8\"),0)-1)))","v":{"v":0,"d":"$0.00"}},{"v":0,"d":"$0.00"},{"v":0,"d":"$0.00"},{"v":0,"d":"$0.00"},{"v":0,"d":"$0.00"},{"v":0,"d":"$0.00"},"ASR-Dental_Financial_Report_SMMC_03.21.23","2023-03-21","Unaudited"]
["Dental","DEF","Default",1900,"1900-01-01","Q4","1900-12-31","Region 4","Operating Expense","Medical Expense","Dental Services","2.10","Dental Services Adjunctive General Services",{"v":0,"d":"$0.00"},{"v":0,"d":"$0.00"},{"v":0,"d":"$0.00"},{"v":0,"d":"$0.00"},{"v":0,"d":"$0.00"},{"v":0,"d":"$0.00"},"ASR-Dental_Financial_Report_SMMC_03.21.23","2023-03-21","Unaudited"]
["Dental","DEF","Default",1900,"1900-01-01","Q4","1900-12-31","Region 4","Operating Expense","Medical Expense","Dental Services","2.11","Dental Services Other",{"v":0,"d":"$0.00"},{"v":0,"d":"$0.00"},{"v":0,"d":"$0.00"},{"v":0,"d":"$0.00"},{"v":0,"d":"$0.00"},{"v":0,"d":"$0.00"},"ASR-Dental_Financial_Report_SMMC_03.21.23","2023-03-21","Unaudited"]
["Dental","DEF","Default",1900,"1900-01-01","Q4","1900-12-31","Region 4","Operating Expense","Medical Expense","Expanded Benefits","2.12","Dental Expanded Benefits",{"v":0,"d":"$0.00"},{"v":0,"d":"$0.00"},{"v":0,"d":"$0.00"},{"v":0,"d":"$0.00"},{"v":0,"d":"$0.00"},{"v":0,"d":"$0.00"},"ASR-Dental_Financial_Report_SMMC_03.21.23","2023-03-21","Unaudited"]
["Dental","DEF","Default",1900,"1900-01-01","Q4","1900-12-31","Region 4","Operating Expense","Medical Expense","Dental Services","2.13","Dental Services Paid through Subcapitation",{"v":0,"d":"$0.00"},{"v":0,"d":"$0.00"},{"v":0,"d":"$0.00"},{"v":0,"d":"$0.00"},{"v":0,"d":"$0.00"},{"v":0,"d":"$0.00"},"ASR-Dental_Financial_Report_SMMC_03.21.23","2023-03-21","Unaudited"]
["Dental","DEF","Default",1900,"1900-01-01","Q4","1900-12-31","Region 4","Operating Expense","Medical Expense","Dental Services","2.14","Ending IBNP for Dental Services",{"v":0,"d":"$0.00"},{"v":0,"d":"$0.00"},{"v":0,"d":"$0.00"},{"v":0,"d":"$0.00"},{"v":0,"d":"$0.00"},{"v":0,"d":"$0.00"},"ASR-Dental_Financial_Report_SMMC_03.21.23","2023-03-21","Unaudited"]
["Dental","DEF","Default",1900,"1900-01-01","Q4","1900-12-31","Region 4","Operating Expense","Medical Expense","Dental Services","2.15","Dental Settlements/AP",{"v":0,"d":"$0.00"},{"v":0,"d":"$0.00"},{"v":0,"d":"$0.00"},{"v":0,"d":"$0.00"},{"v":0,"d":"$0.00"},{"v":0,"d":"$0.00"},"ASR-Dental_Financial_Report_SMMC_03.21.23","2023-03-21","Unaudited"]
["Dental","DEF","Default",1900,"1900-01-01","Q4","1900-12-31","Region 4","Operating Expense","Medical Expense","Other Medical","3.5","TPL & Fraud/Abuse Recoveries",{"v":0,"d":"$0.00"},{"v":0,"d":"$0.00"},{"v":0,"d":"$0.00"},{"v":0,"d":"$0.00"},{"v":0,"d":"$0.00"},{"v":0,"d":"$0.00"},"ASR-Dental_Financial_Report_SMMC_03.21.23","2023-03-21","Unaudited"]
["Dental","DEF","Default",1900,"1900-01-01","Q4","1900-12-31","Region 4","Operating Expense","Medical Expense","Other Medical",3.6,"Premium Deficiency Reserve",{"v":0,"d":"$0.00"},{"v":0,"d":"$0.00"},{"v":0,"d":"$0.00"},{"v":0,"d":"$0.00"},{"v":0,"d":"$0.00"},{"v":0,"d":"$0.00"},"ASR-Dental_Financial_Report_SMMC_03.21.23","2023-03-21","Unaudited"]
["Dental","DEF","Default",1900,"1900-01-01","Q4","1900-12-31","Region 4","Operating Expense","Medical Expense","Other Medical","3.8","Reinsurance Premiums",{"v":0,"d":"$0.00"},{"v":0,"d":"$0.00"},{"v":0,"d":"$0.00"},{"v":0,"d":"$0.00"},{"v":0,"d":"$0.00"},{"v":0,"d":"$0.00"},"ASR-Dental_Financial_Report_SMMC_03.21.23","2023-03-21","Unaudited"]
["Dental","DEF","Default",1900,"1900-01-01","Q4","1900-12-31","Region 4","Operating Expense","Medical Expense","Other Medical","3.9","Reinsurance Recoveries",{"$f":"IF(OR(AND($F852=\"PY\",N$1<>\"Prior Year\"),AND($F852<>\"PY\",N$1=\"Prior Year\")),0,INDEX(INDIRECT(\"'Dental Rev-Exp \"&$H852&\"'!$A$1:$CA$200\"),IF($J852=\"Member Months\",MATCH($J852,INDIRECT(\"'Dental Rev-Exp \"&$H852&\"'!$A$1:$A$200\"),0),MATCH($L852,INDIRECT(\"'Dental Rev-Exp \"&$H852&\"'!$B$1:$B$200\"),0)),IF($F852=\"PY\",MATCH(\"Prior Year Adjustments\",INDIRECT(\"'Dental Rev-Exp \"&$H852&\"'!$A$8:$CA$8\"),0),MATCH(IF($F852=\"Q1\",\"JANUARY - MARCH (Q1)\",IF($F852=\"Q2\",\"APRIL - JUNE (Q2)\",IF($F852=\"Q3\",\"JULY - SEPTEMBER (Q3)\",IF($F852=\"Q4\",\"OCTOBER - DECEMBER (Q4)\",0)))),INDIRECT(\"'Dental Rev-Exp \"&$H852&\"'!$A$7:$CA$7\"),0)+MATCH(N$1,INDIRECT(\"'Dental Rev-Exp \"&$H852&\"'!$D$8:$CA$8\"),0)-1)))","v":{"v":0,"d":"$0.00"}},{"v":0,"d":"$0.00"},{"v":0,"d":"$0.00"},{"v":0,"d":"$0.00"},{"v":0,"d":"$0.00"},{"v":0,"d":"$0.00"},"ASR-Dental_Financial_Report_SMMC_03.21.23","2023-03-21","Unaudited"]
["Dental","DEF","Default",1900,"1900-01-01","Q4","1900-12-31","Region 4","Operating Expense","Administrative Expense","Administrative","4.1","Salaries & Benefits",{"v":0,"d":"$0.00"},{"v":0,"d":"$0.00"},{"v":0,"d":"$0.00"},{"v":0,"d":"$0.00"},{"v":0,"d":"$0.00"},{"v":0,"d":"$0.00"},"ASR-Dental_Financial_Report_SMMC_03.21.23","2023-03-21","Unaudited"]
["Dental","DEF","Default",1900,"1900-01-01","Q4","1900-12-31","Region 4","Operating Expense","Administrative Expense","Administrative","4.2","Administrative Services",{"v":0,"d":"$0.00"},{"v":0,"d":"$0.00"},{"v":0,"d":"$0.00"},{"v":0,"d":"$0.00"},{"v":0,"d":"$0.00"},{"v":0,"d":"$0.00"},"ASR-Dental_Financial_Report_SMMC_03.21.23","2023-03-21","Unaudited"]
["Dental","DEF","Default",1900,"1900-01-01","Q4","1900-12-31","Region 4","Operating Expense","Administrative Expense","Administrative","4.3","Information Systems",{"v":0,"d":"$0.00"},{"v":0,"d":"$0.00"},{"v":0,"d":"$0.00"},{"v":0,"d":"$0.00"},{"v":0,"d":"$0.00"},{"v":0,"d":"$0.00"},"ASR-Dental_Financial_Report_SMMC_03.21.23","2023-03-21","Unaudited"]
["Dental","DEF","Default",1900,"1900-01-01","Q4","1900-12-31","Region 4","Operating Expense","Administrative Expense","Administrative","4.4","Marketing Expenses",{"v":0,"d":"$0.00"},{"v":0,"d":"$0.00"},{"v":0,"d":"$0.00"},{"v":0,"d":"$0.00"},{"v":0,"d":"$0.00"},{"v":0,"d":"$0.00"},"ASR-Dental_Financial_Report_SMMC_03.21.23","2023-03-21","Unaudited"]
["Dental","DEF","Default",1900,"1900-01-01","Q4","1900-12-31","Region 4","Operating Expense","Administrative Expense","Administrative","4.5","General  Administration",{"v":0,"d":"$0.00"},{"v":0,"d":"$0.00"},{"v":0,"d":"$0.00"},{"v":0,"d":"$0.00"},{"v":0,"d":"$0.00"},{"v":0,"d":"$0.00"},"ASR-Dental_Financial_Report_SMMC_03.21.23","2023-03-21","Unaudited"]
["Dental","DEF","Default",1900,"1900-01-01","Q4","1900-12-31","Region 4","Operating Expense","Administrative Expense","Administrative","4.6","Compliance/Regulatory",{"v":0,"d":"$0.00"},{"v":0,"d":"$0.00"},{"v":0,"d":"$0.00"},{"v":0,"d":"$0.00"},{"v":0,"d":"$0.00"},{"v":0,"d":"$0.00"},"ASR-Dental_Financial_Report_SMMC_03.21.23","2023-03-21","Unaudited"]
["Dental","DEF","Default",1900,"1900-01-01","Q4","1900-12-31","Region 4","Operating Expense","Taxes & Fees","Taxes & Fees","5.1","State Premium tax",{"v":0,"d":"$0.00"},{"v":0,"d":"$0.00"},{"v":0,"d":"$0.00"},{"v":0,"d":"$0.00"},{"v":0,"d":"$0.00"},{"v":0,"d":"$0.00"},"ASR-Dental_Financial_Report_SMMC_03.21.23","2023-03-21","Unaudited"]
["Dental","DEF","Default",1900,"1900-01-01","Q4","1900-12-31","Region 4","Operating Expense","Taxes & Fees","Taxes & Fees","5.2","Department of Insurance Assessments",{"v":0,"d":"$0.00"},{"v":0,"d":"$0.00"},{"v":0,"d":"$0.00"},{"v":0,"d":"$0.00"},{"v":0,"d":"$0.00"},{"v":0,"d":"$0.00"},"ASR-Dental_Financial_Report_SMMC_03.21.23","2023-03-21","Unaudited"]
["Dental","DEF","Default",1900,"1900-01-01","Q4","1900-12-31","Region 4","Operating Expense","Taxes & Fees","Taxes & Fees","5.3","Section 9010 Health Insurance Providers Fee",{"v":0,"d":"$0.00"},{"v":0,"d":"$0.00"},{"v":0,"d":"$0.00"},{"v":0,"d":"$0.00"},{"v":0,"d":"$0.00"},{"v":0,"d":"$0.00"},"ASR-Dental_Financial_Report_SMMC_03.21.23","2023-03-21","Unaudited"]
["Dental","DEF","Default",1900,"1900-01-01","Q4","1900-12-31","Region 4","Operating Expense","Taxes & Fees","Taxes & Fees","5.4","Other 1",{"$f":"IF(OR(AND($F862=\"PY\",N$1<>\"Prior Year\"),AND($F862<>\"PY\",N$1=\"Prior Year\")),0,INDEX(INDIRECT(\"'Dental Rev-Exp \"&$H862&\"'!$A$1:$CA$200\"),IF($J862=\"Member Months\",MATCH($J862,INDIRECT(\"'Dental Rev-Exp \"&$H862&\"'!$A$1:$A$200\"),0),MATCH($L862,INDIRECT(\"'Dental Rev-Exp \"&$H862&\"'!$B$1:$B$200\"),0)),IF($F862=\"PY\",MATCH(\"Prior Year Adjustments\",INDIRECT(\"'Dental Rev-Exp \"&$H862&\"'!$A$8:$CA$8\"),0),MATCH(IF($F862=\"Q1\",\"JANUARY - MARCH (Q1)\",IF($F862=\"Q2\",\"APRIL - JUNE (Q2)\",IF($F862=\"Q3\",\"JULY - SEPTEMBER (Q3)\",IF($F862=\"Q4\",\"OCTOBER - DECEMBER (Q4)\",0)))),INDIRECT(\"'Dental Rev-Exp \"&$H862&\"'!$A$7:$CA$7\"),0)+MATCH(N$1,INDIRECT(\"'Dental Rev-Exp \"&$H862&\"'!$D$8:$CA$8\"),0)-1)))","v":{"v":0,"d":"$0.00"}},{"v":0,"d":"$0.00"},{"v":0,"d":"$0.00"},{"v":0,"d":"$0.00"},{"v":0,"d":"$0.00"},{"v":0,"d":"$0.00"},"ASR-Dental_Financial_Report_SMMC_03.21.23","2023-03-21","Unaudited"]
["Dental","DEF","Default",1900,"1900-01-01","Q4","1900-12-31","Region 4","Operating Expense","Taxes & Fees","Taxes & Fees","5.5","Other 2",{"v":0,"d":"$0.00"},{"v":0,"d":"$0.00"},{"v":0,"d":"$0.00"},{"v":0,"d":"$0.00"},{"v":0,"d":"$0.00"},{"v":0,"d":"$0.00"},"ASR-Dental_Financial_Report_SMMC_03.21.23","2023-03-21","Unaudited"]
["Dental","DEF","Default",1900,"1900-01-01","Q4","1900-12-31","Region 4","Operating Expense","Taxes & Fees","Taxes & Fees","5.6","Other 3",{"v":0,"d":"$0.00"},{"v":0,"d":"$0.00"},{"v":0,"d":"$0.00"},{"v":0,"d":"$0.00"},{"v":0,"d":"$0.00"},{"v":0,"d":"$0.00"},"ASR-Dental_Financial_Report_SMMC_03.21.23","2023-03-21","Unaudited"]
["Dental","DEF","Default",1900,"1900-01-01","Q4","1900-12-31","Region 4","Non-Operating Expense","Income Tax Expense","Income Tax Expense","8.0","Income Tax Expense",{"v":0,"d":"$0.00"},{"v":0,"d":"$0.00"},{"v":0,"d":"$0.00"},{"v":0,"d":"$0.00"},{"v":0,"d":"$0.00"},{"v":0,"d":"$0.00"},"ASR-Dental_Financial_Report_SMMC_03.21.23","2023-03-21","Unaudited"]
["Dental","DEF","Default",1900,"1900-01-01","PY","1/1/1800","Region 4","Member Months","Member Months","Member Months",null,"Member Months",{"v":0,"d":"$0.00"},{"v":0,"d":"$0.00"},{"v":0,"d":"$0.00"},{"v":0,"d":"$0.00"},{"v":0,"d":"$0.00"},{"v":0,"d":"$0.00"},"ASR-Dental_Financial_Report_SMMC_03.21.23","2023-03-21","Unaudited"]
["Dental","DEF","Default",1900,"1900-01-01","PY","1/1/1800","Region 4","Operating Revenue","Capitation","Capitation","1.1","Capitation",{"v":0,"d":"$0.00"},{"v":0,"d":"$0.00"},{"v":0,"d":"$0.00"},{"v":0,"d":"$0.00"},{"v":0,"d":"$0.00"},{"v":0,"d":"$0.00"},"ASR-Dental_Financial_Report_SMMC_03.21.23","2023-03-21","Unaudited"]
["Dental","DEF","Default",1900,"1900-01-01","PY","1/1/1800","Region 4","Operating Revenue","Other Revenue","Other Revenue - 9010","1.2","ACA § 9010 related payments",{"v":0,"d":"$0.00"},{"v":0,"d":"$0.00"},{"v":0,"d":"$0.00"},{"v":0,"d":"$0.00"},{"v":0,"d":"$0.00"},{"v":0,"d":"$0.00"},"ASR-Dental_Financial_Report_SMMC_03.21.23","2023-03-21","Unaudited"]
["Dental","DEF","Default",1900,"1900-01-01","PY","1/1/1800","Region 4","Operating Revenue","Other Revenue","Other Revenue","1.3","Other Revenue",{"v":0,"d":"$0.00"},{"v":0,"d":"$0.00"},{"v":0,"d":"$0.00"},{"v":0,"d":"$0.00"},{"v":0,"d":"$0.00"},{"v":0,"d":"$0.00"},"ASR-Dental_Financial_Report_SMMC_03.21.23","2023-03-21","Unaudited"]
["Dental","DEF","Default",1900,"1900-01-01","PY","1/1/1800","Region 4","Operating Expense","Medical Expense","Dental Services","2.1","Dental Services Diagnostic",{"v":0,"d":"$0.00"},{"v":0,"d":"$0.00"},{"v":0,"d":"$0.00"},{"v":0,"d":"$0.00"},{"v":0,"d":"$0.00"},{"v":0,"d":"$0.00"},"ASR-Dental_Financial_Report_SMMC_03.21.23","2023-03-21","Unaudited"]
["Dental","DEF","Default",1900,"1900-01-01","PY","1/1/1800","Region 4","Operating Expense","Medical Expense","Dental Services",2.2,"Dental Services Preventive",{"v":0,"d":"$0.00"},{"v":0,"d":"$0.00"},{"v":0,"d":"$0.00"},{"v":0,"d":"$0.00"},{"v":0,"d":"$0.00"},{"v":0,"d":"$0.00"},"ASR-Dental_Financial_Report_SMMC_03.21.23","2023-03-21","Unaudited"]
["Dental","DEF","Default",1900,"1900-01-01","PY","1/1/1800","Region 4","Operating Expense","Medical Expense","Dental Services","2.3","Dental Services Restorative",{"$f":"IF(OR(AND($F872=\"PY\",N$1<>\"Prior Year\"),AND($F872<>\"PY\",N$1=\"Prior Year\")),0,INDEX(INDIRECT(\"'Dental Rev-Exp \"&$H872&\"'!$A$1:$CA$200\"),IF($J872=\"Member Months\",MATCH($J872,INDIRECT(\"'Dental Rev-Exp \"&$H872&\"'!$A$1:$A$200\"),0),MATCH($L872,INDIRECT(\"'Dental Rev-Exp \"&$H872&\"'!$B$1:$B$200\"),0)),IF($F872=\"PY\",MATCH(\"Prior Year Adjustments\",INDIRECT(\"'Dental Rev-Exp \"&$H872&\"'!$A$8:$CA$8\"),0),MATCH(IF($F872=\"Q1\",\"JANUARY - MARCH (Q1)\",IF($F872=\"Q2\",\"APRIL - JUNE (Q2)\",IF($F872=\"Q3\",\"JULY - SEPTEMBER (Q3)\",IF($F872=\"Q4\",\"OCTOBER - DECEMBER (Q4)\",0)))),INDIRECT(\"'Dental Rev-Exp \"&$H872&\"'!$A$7:$CA$7\"),0)+MATCH(N$1,INDIRECT(\"'Dental Rev-Exp \"&$H872&\"'!$D$8:$CA$8\"),0)-1)))","v":{"v":0,"d":"$0.00"}},{"v":0,"d":"$0.00"},{"v":0,"d":"$0.00"},{"v":0,"d":"$0.00"},{"v":0,"d":"$0.00"},{"v":0,"d":"$0.00"},"ASR-Dental_Financial_Report_SMMC_03.21.23","2023-03-21","Unaudited"]
["Dental","DEF","Default",1900,"1900-01-01","PY","1/1/1800","Region 4","Operating Expense","Medical Expense","Dental Services","2.4","Dental Services Endodontics",{"v":0,"d":"$0.00"},{"v":0,"d":"$0.00"},{"v":0,"d":"$0.00"},{"v":0,"d":"$0.00"},{"v":0,"d":"$0.00"},{"v":0,"d":"$0.00"},"ASR-Dental_Financial_Report_SMMC_03.21.23","2023-03-21","Unaudited"]
["Dental","DEF","Default",1900,"1900-01-01","PY","1/1/1800","Region 4","Operating Expense","Medical Expense","Dental Services","2.5","Dental Services Periodontics",{"v":0,"d":"$0.00"},{"v":0,"d":"$0.00"},{"v":0,"d":"$0.00"},{"v":0,"d":"$0.00"},{"v":0,"d":"$0.00"},{"v":0,"d":"$0.00"},"ASR-Dental_Financial_Report_SMMC_03.21.23","2023-03-21","Unaudited"]
["Dental","DEF","Default",1900,"1900-01-01","PY","1/1/1800","Region 4","Operating Expense","Medical Expense","Dental Services","2.6","Dental Services Prosthodontics",{"v":0,"d":"$0.00"},{"v":0,"d":"$0.00"},{"v":0,"d":"$0.00"},{"v":0,"d":"$0.00"},{"v":0,"d":"$0.00"},{"v":0,"d":"$0.00"},"ASR-Dental_Financial_Report_SMMC_03.21.23","2023-03-21","Unaudited"]
["Dental","DEF","Default",1900,"1900-01-01","PY","1/1/1800","Region 4","Operating Expense","Medical Expense","Dental Services","2.7","Dental Services Prosthodontics, fixed",{"v":0,"d":"$0.00"},{"v":0,"d":"$0.00"},{"v":0,"d":"$0.00"},{"v":0,"d":"$0.00"},{"v":0,"d":"$0.00"},{"v":0,"d":"$0.00"},"ASR-Dental_Financial_Report_SMMC_03.21.23","2023-03-21","Unaudited"]
["Dental","DEF","Default",1900,"1900-01-01","PY","1/1/1800","Region 4","Operating Expense","Medical Expense","Dental Services","2.8","Dental Services Oral and Maxillofacial Surgery",{"v":0,"d":"$0.00"},{"v":0,"d":"$0.00"},{"v":0,"d":"$0.00"},{"v":0,"d":"$0.00"},{"v":0,"d":"$0.00"},{"v":0,"d":"$0.00"},"ASR-Dental_Financial_Report_SMMC_03.21.23","2023-03-21","Unaudited"]
["Dental","DEF","Default",1900,"1900-01-01","PY","1/1/1800","Region 4","Operating Expense","Medical Expense","Dental Services","2.9","Dental Services Orthodontics",{"v":0,"d":"$0.00"},{"v":0,"d":"$0.00"},{"v":0,"d":"$0.00"},{"v":0,"d":"$0.00"},{"v":0,"d":"$0.00"},{"v":0,"d":"$0.00"},"ASR-Dental_Financial_Report_SMMC_03.21.23","2023-03-21","Unaudited"]
["Dental","DEF","Default",1900,"1900-01-01","PY","1/1/1800","Region 4","Operating Expense","Medical Expense","Dental Services","2.10","Dental Services Adjunctive General Services",{"v":0,"d":"$0.00"},{"v":0,"d":"$0.00"},{"v":0,"d":"$0.00"},{"v":0,"d":"$0.00"},{"v":0,"d":"$0.00"},{"v":0,"d":"$0.00"},"ASR-Dental_Financial_Report_SMMC_03.21.23","2023-03-21","Unaudited"]
["Dental","DEF","Default",1900,"1900-01-01","PY","1/1/1800","Region 4","Operating Expense","Medical Expense","Dental Services","2.11","Dental Services Other",{"v":0,"d":"$0.00"},{"v":0,"d":"$0.00"},{"v":0,"d":"$0.00"},{"v":0,"d":"$0.00"},{"v":0,"d":"$0.00"},{"v":0,"d":"$0.00"},"ASR-Dental_Financial_Report_SMMC_03.21.23","2023-03-21","Unaudited"]
["Dental","DEF","Default",1900,"1900-01-01","PY","1/1/1800","Region 4","Operating Expense","Medical Expense","Expanded Benefits","2.12","Dental Expanded Benefits",{"v":0,"d":"$0.00"},{"v":0,"d":"$0.00"},{"v":0,"d":"$0.00"},{"v":0,"d":"$0.00"},{"v":0,"d":"$0.00"},{"v":0,"d":"$0.00"},"ASR-Dental_Financial_Report_SMMC_03.21.23","2023-03-21","Unaudited"]
["Dental","DEF","Default",1900,"1900-01-01","PY","1/1/1800","Region 4","Operating Expense","Medical Expense","Dental Services","2.13","Dental Services Paid through Subcapitation",{"$f":"IF(OR(AND($F882=\"PY\",N$1<>\"Prior Year\"),AND($F882<>\"PY\",N$1=\"Prior Year\")),0,INDEX(INDIRECT(\"'Dental Rev-Exp \"&$H882&\"'!$A$1:$CA$200\"),IF($J882=\"Member Months\",MATCH($J882,INDIRECT(\"'Dental Rev-Exp \"&$H882&\"'!$A$1:$A$200\"),0),MATCH($L882,INDIRECT(\"'Dental Rev-Exp \"&$H882&\"'!$B$1:$B$200\"),0)),IF($F882=\"PY\",MATCH(\"Prior Year Adjustments\",INDIRECT(\"'Dental Rev-Exp \"&$H882&\"'!$A$8:$CA$8\"),0),MATCH(IF($F882=\"Q1\",\"JANUARY - MARCH (Q1)\",IF($F882=\"Q2\",\"APRIL - JUNE (Q2)\",IF($F882=\"Q3\",\"JULY - SEPTEMBER (Q3)\",IF($F882=\"Q4\",\"OCTOBER - DECEMBER (Q4)\",0)))),INDIRECT(\"'Dental Rev-Exp \"&$H882&\"'!$A$7:$CA$7\"),0)+MATCH(N$1,INDIRECT(\"'Dental Rev-Exp \"&$H882&\"'!$D$8:$CA$8\"),0)-1)))","v":{"v":0,"d":"$0.00"}},{"v":0,"d":"$0.00"},{"v":0,"d":"$0.00"},{"v":0,"d":"$0.00"},{"v":0,"d":"$0.00"},{"v":0,"d":"$0.00"},"ASR-Dental_Financial_Report_SMMC_03.21.23","2023-03-21","Unaudited"]
["Dental","DEF","Default",1900,"1900-01-01","PY","1/1/1800","Region 4","Operating Expense","Medical Expense","Dental Services","2.14","Ending IBNP for Dental Services",{"v":0,"d":"$0.00"},{"v":0,"d":"$0.00"},{"v":0,"d":"$0.00"},{"v":0,"d":"$0.00"},{"v":0,"d":"$0.00"},{"v":0,"d":"$0.00"},"ASR-Dental_Financial_Report_SMMC_03.21.23","2023-03-21","Unaudited"]
["Dental","DEF","Default",1900,"1900-01-01","PY","1/1/1800","Region 4","Operating Expense","Medical Expense","Dental Services","2.15","Dental Settlements/AP",{"v":0,"d":"$0.00"},{"v":0,"d":"$0.00"},{"v":0,"d":"$0.00"},{"v":0,"d":"$0.00"},{"v":0,"d":"$0.00"},{"v":0,"d":"$0.00"},"ASR-Dental_Financial_Report_SMMC_03.21.23","2023-03-21","Unaudited"]
["Dental","DEF","Default",1900,"1900-01-01","PY","1/1/1800","Region 4","Operating Expense","Medical Expense","Other Medical","3.5","TPL & Fraud/Abuse Recoveries",{"v":0,"d":"$0.00"},{"v":0,"d":"$0.00"},{"v":0,"d":"$0.00"},{"v":0,"d":"$0.00"},{"v":0,"d":"$0.00"},{"v":0,"d":"$0.00"},"ASR-Dental_Financial_Report_SMMC_03.21.23","2023-03-21","Unaudited"]
["Dental","DEF","Default",1900,"1900-01-01","PY","1/1/1800","Region 4","Operating Expense","Medical Expense","Other Medical",3.6,"Premium Deficiency Reserve",{"v":0,"d":"$0.00"},{"v":0,"d":"$0.00"},{"v":0,"d":"$0.00"},{"v":0,"d":"$0.00"},{"v":0,"d":"$0.00"},{"v":0,"d":"$0.00"},"ASR-Dental_Financial_Report_SMMC_03.21.23","2023-03-21","Unaudited"]
["Dental","DEF","Default",1900,"1900-01-01","PY","1/1/1800","Region 4","Operating Expense","Medical Expense","Other Medical","3.8","Reinsurance Premiums",{"v":0,"d":"$0.00"},{"v":0,"d":"$0.00"},{"v":0,"d":"$0.00"},{"v":0,"d":"$0.00"},{"v":0,"d":"$0.00"},{"v":0,"d":"$0.00"},"ASR-Dental_Financial_Report_SMMC_03.21.23","2023-03-21","Unaudited"]
["Dental","DEF","Default",1900,"1900-01-01","PY","1/1/1800","Region 4","Operating Expense","Medical Expense","Other Medical","3.9","Reinsurance Recoveries",{"v":0,"d":"$0.00"},{"v":0,"d":"$0.00"},{"v":0,"d":"$0.00"},{"v":0,"d":"$0.00"},{"v":0,"d":"$0.00"},{"v":0,"d":"$0.00"},"ASR-Dental_Financial_Report_SMMC_03.21.23","2023-03-21","Unaudited"]
["Dental","DEF","Default",1900,"1900-01-01","PY","1/1/1800","Region 4","Operating Expense","Administrative Expense","Administrative","4.1","Salaries & Benefits",{"v":0,"d":"$0.00"},{"v":0,"d":"$0.00"},{"v":0,"d":"$0.00"},{"v":0,"d":"$0.00"},{"v":0,"d":"$0.00"},{"v":0,"d":"$0.00"},"ASR-Dental_Financial_Report_SMMC_03.21.23","2023-03-21","Unaudited"]
["Dental","DEF","Default",1900,"1900-01-01","PY","1/1/1800","Region 4","Operating Expense","Administrative Expense","Administrative","4.2","Administrative Services",{"v":0,"d":"$0.00"},{"v":0,"d":"$0.00"},{"v":0,"d":"$0.00"},{"v":0,"d":"$0.00"},{"v":0,"d":"$0.00"},{"v":0,"d":"$0.00"},"ASR-Dental_Financial_Report_SMMC_03.21.23","2023-03-21","Unaudited"]
["Dental","DEF","Default",1900,"1900-01-01","PY","1/1/1800","Region 4","Operating Expense","Administrative Expense","Administrative","4.3","Information Systems",{"v":0,"d":"$0.00"},{"v":0,"d":"$0.00"},{"v":0,"d":"$0.00"},{"v":0,"d":"$0.00"},{"v":0,"d":"$0.00"},{"v":0,"d":"$0.00"},"ASR-Dental_Financial_Report_SMMC_03.21.23","2023-03-21","Unaudited"]
["Dental","DEF","Default",1900,"1900-01-01","PY","1/1/1800","Region 4","Operating Expense","Administrative Expense","Administrative","4.4","Marketing Expenses",{"$f":"IF(OR(AND($F892=\"PY\",N$1<>\"Prior Year\"),AND($F892<>\"PY\",N$1=\"Prior Year\")),0,INDEX(INDIRECT(\"'Dental Rev-Exp \"&$H892&\"'!$A$1:$CA$200\"),IF($J892=\"Member Months\",MATCH($J892,INDIRECT(\"'Dental Rev-Exp \"&$H892&\"'!$A$1:$A$200\"),0),MATCH($L892,INDIRECT(\"'Dental Rev-Exp \"&$H892&\"'!$B$1:$B$200\"),0)),IF($F892=\"PY\",MATCH(\"Prior Year Adjustments\",INDIRECT(\"'Dental Rev-Exp \"&$H892&\"'!$A$8:$CA$8\"),0),MATCH(IF($F892=\"Q1\",\"JANUARY - MARCH (Q1)\",IF($F892=\"Q2\",\"APRIL - JUNE (Q2)\",IF($F892=\"Q3\",\"JULY - SEPTEMBER (Q3)\",IF($F892=\"Q4\",\"OCTOBER - DECEMBER (Q4)\",0)))),INDIRECT(\"'Dental Rev-Exp \"&$H892&\"'!$A$7:$CA$7\"),0)+MATCH(N$1,INDIRECT(\"'Dental Rev-Exp \"&$H892&\"'!$D$8:$CA$8\"),0)-1)))","v":{"v":0,"d":"$0.00"}},{"v":0,"d":"$0.00"},{"v":0,"d":"$0.00"},{"v":0,"d":"$0.00"},{"v":0,"d":"$0.00"},{"v":0,"d":"$0.00"},"ASR-Dental_Financial_Report_SMMC_03.21.23","2023-03-21","Unaudited"]
["Dental","DEF","Default",1900,"1900-01-01","PY","1/1/1800","Region 4","Operating Expense","Administrative Expense","Administrative","4.5","General  Administration",{"v":0,"d":"$0.00"},{"v":0,"d":"$0.00"},{"v":0,"d":"$0.00"},{"v":0,"d":"$0.00"},{"v":0,"d":"$0.00"},{"v":0,"d":"$0.00"},"ASR-Dental_Financial_Report_SMMC_03.21.23","2023-03-21","Unaudited"]
["Dental","DEF","Default",1900,"1900-01-01","PY","1/1/1800","Region 4","Operating Expense","Administrative Expense","Administrative","4.6","Compliance/Regulatory",{"v":0,"d":"$0.00"},{"v":0,"d":"$0.00"},{"v":0,"d":"$0.00"},{"v":0,"d":"$0.00"},{"v":0,"d":"$0.00"},{"v":0,"d":"$0.00"},"ASR-Dental_Financial_Report_SMMC_03.21.23","2023-03-21","Unaudited"]
["Dental","DEF","Default",1900,"1900-01-01","PY","1/1/1800","Region 4","Operating Expense","Taxes & Fees","Taxes & Fees","5.1","State Premium tax",{"v":0,"d":"$0.00"},{"v":0,"d":"$0.00"},{"v":0,"d":"$0.00"},{"v":0,"d":"$0.00"},{"v":0,"d":"$0.00"},{"v":0,"d":"$0.00"},"ASR-Dental_Financial_Report_SMMC_03.21.23","2023-03-21","Unaudited"]
["Dental","DEF","Default",1900,"1900-01-01","PY","1/1/1800","Region 4","Operating Expense","Taxes & Fees","Taxes & Fees","5.2","Department of Insurance Assessments",{"v":0,"d":"$0.00"},{"v":0,"d":"$0.00"},{"v":0,"d":"$0.00"},{"v":0,"d":"$0.00"},{"v":0,"d":"$0.00"},{"v":0,"d":"$0.00"},"ASR-Dental_Financial_Report_SMMC_03.21.23","2023-03-21","Unaudited"]
["Dental","DEF","Default",1900,"1900-01-01","PY","1/1/1800","Region 4","Operating Expense","Taxes & Fees","Taxes & Fees","5.3","Section 9010 Health Insurance Providers Fee",{"v":0,"d":"$0.00"},{"v":0,"d":"$0.00"},{"v":0,"d":"$0.00"},{"v":0,"d":"$0.00"},{"v":0,"d":"$0.00"},{"v":0,"d":"$0.00"},"ASR-Dental_Financial_Report_SMMC_03.21.23","2023-03-21","Unaudited"]
["Dental","DEF","Default",1900,"1900-01-01","PY","1/1/1800","Region 4","Operating Expense","Taxes & Fees","Taxes & Fees","5.4","Other 1",{"v":0,"d":"$0.00"},{"v":0,"d":"$0.00"},{"v":0,"d":"$0.00"},{"v":0,"d":"$0.00"},{"v":0,"d":"$0.00"},{"v":0,"d":"$0.00"},{"$f":"file_name","v":"ASR-Dental_Financial_Report_SMMC_03.21.23"},{"$f":"file_date","v":"2023-03-21"},{"$f":"status","v":"Unaudited"}]
["Dental","DEF","Default",1900,"1900-01-01","PY","1/1/1800","Region 4","Operating Expense","Taxes & Fees","Taxes & Fees","5.5","Other 2",{"v":0,"d":"$0.00"},{"v":0,"d":"$0.00"},{"v":0,"d":"$0.00"},{"v":0,"d":"$0.00"},{"v":0,"d":"$0.00"},{"v":0,"d":"$0.00"},"ASR-Dental_Financial_Report_SMMC_03.21.23","2023-03-21","Unaudited"]
["Dental","DEF","Default",1900,"1900-01-01","PY","1/1/1800","Region 4","Operating Expense","Taxes & Fees","Taxes & Fees","5.6","Other 3",{"v":0,"d":"$0.00"},{"v":0,"d":"$0.00"},{"v":0,"d":"$0.00"},{"v":0,"d":"$0.00"},{"v":0,"d":"$0.00"},{"v":0,"d":"$0.00"},"ASR-Dental_Financial_Report_SMMC_03.21.23","2023-03-21","Unaudited"]
["Dental","DEF","Default",1900,"1900-01-01","PY","1/1/1800","Region 4","Non-Operating Expense","Income Tax Expense","Income Tax Expense","8.0","Income Tax Expense",{"v":0,"d":"$0.00"},{"v":0,"d":"$0.00"},{"v":0,"d":"$0.00"},{"v":0,"d":"$0.00"},{"v":0,"d":"$0.00"},{"v":0,"d":"$0.00"},"ASR-Dental_Financial_Report_SMMC_03.21.23","2023-03-21","Unaudited"]
["Dental","DEF","Default",1900,"1900-01-01","Q1","1900-03-31","Region 5","Member Months","Member Months","Member Months",null,"Member Months",{"$f":"IF(OR(AND($F902=\"PY\",N$1<>\"Prior Year\"),AND($F902<>\"PY\",N$1=\"Prior Year\")),0,INDEX(INDIRECT(\"'Dental Rev-Exp \"&$H902&\"'!$A$1:$CA$200\"),IF($J902=\"Member Months\",MATCH($J902,INDIRECT(\"'Dental Rev-Exp \"&$H902&\"'!$A$1:$A$200\"),0),MATCH($L902,INDIRECT(\"'Dental Rev-Exp \"&$H902&\"'!$B$1:$B$200\"),0)),IF($F902=\"PY\",MATCH(\"Prior Year Adjustments\",INDIRECT(\"'Dental Rev-Exp \"&$H902&\"'!$A$8:$CA$8\"),0),MATCH(IF($F902=\"Q1\",\"JANUARY - MARCH (Q1)\",IF($F902=\"Q2\",\"APRIL - JUNE (Q2)\",IF($F902=\"Q3\",\"JULY - SEPTEMBER (Q3)\",IF($F902=\"Q4\",\"OCTOBER - DECEMBER (Q4)\",0)))),INDIRECT(\"'Dental Rev-Exp \"&$H902&\"'!$A$7:$CA$7\"),0)+MATCH(N$1,INDIRECT(\"'Dental Rev-Exp \"&$H902&\"'!$D$8:$CA$8\"),0)-1)))","v":{"v":0,"d":"$0.00"}},{"v":0,"d":"$0.00"},{"v":0,"d":"$0.00"},{"v":0,"d":"$0.00"},{"v":0,"d":"$0.00"},{"v":0,"d":"$0.00"},"ASR-Dental_Financial_Report_SMMC_03.21.23","2023-03-21","Unaudited"]
["Dental","DEF","Default",1900,"1900-01-01","Q1","1900-03-31","Region 5","Operating Revenue","Capitation","Capitation","1.1","Capitation",{"v":0,"d":"$0.00"},{"v":0,"d":"$0.00"},{"v":0,"d":"$0.00"},{"v":0,"d":"$0.00"},{"v":0,"d":"$0.00"},{"v":0,"d":"$0.00"},"ASR-Dental_Financial_Report_SMMC_03.21.23","2023-03-21","Unaudited"]
["Dental","DEF","Default",1900,"1900-01-01","Q1","1900-03-31","Region 5","Operating Revenue","Other Revenue","Other Revenue - 9010","1.2","ACA § 9010 related payments",{"v":0,"d":"$0.00"},{"v":0,"d":"$0.00"},{"v":0,"d":"$0.00"},{"v":0,"d":"$0.00"},{"v":0,"d":"$0.00"},{"v":0,"d":"$0.00"},"ASR-Dental_Financial_Report_SMMC_03.21.23","2023-03-21","Unaudited"]
["Dental","DEF","Default",1900,"1900-01-01","Q1","1900-03-31","Region 5","Operating Revenue","Other Revenue","Other Revenue","1.3","Other Revenue",{"v":0,"d":"$0.00"},{"v":0,"d":"$0.00"},{"v":0,"d":"$0.00"},{"v":0,"d":"$0.00"},{"v":0,"d":"$0.00"},{"v":0,"d":"$0.00"},"ASR-Dental_Financial_Report_SMMC_03.21.23","2023-03-21","Unaudited"]
["Dental","DEF","Default",1900,"1900-01-01","Q1","1900-03-31","Region 5","Operating Expense","Medical Expense","Dental Services","2.1","Dental Services Diagnostic",{"v":0,"d":"$0.00"},{"v":0,"d":"$0.00"},{"v":0,"d":"$0.00"},{"v":0,"d":"$0.00"},{"v":0,"d":"$0.00"},{"v":0,"d":"$0.00"},"ASR-Dental_Financial_Report_SMMC_03.21.23","2023-03-21","Unaudited"]
["Dental","DEF","Default",1900,"1900-01-01","Q1","1900-03-31","Region 5","Operating Expense","Medical Expense","Dental Services",2.2,"Dental Services Preventive",{"v":0,"d":"$0.00"},{"v":0,"d":"$0.00"},{"v":0,"d":"$0.00"},{"v":0,"d":"$0.00"},{"v":0,"d":"$0.00"},{"v":0,"d":"$0.00"},"ASR-Dental_Financial_Report_SMMC_03.21.23","2023-03-21","Unaudited"]
["Dental","DEF","Default",1900,"1900-01-01","Q1","1900-03-31","Region 5","Operating Expense","Medical Expense","Dental Services","2.3","Dental Services Restorative",{"v":0,"d":"$0.00"},{"v":0,"d":"$0.00"},{"v":0,"d":"$0.00"},{"v":0,"d":"$0.00"},{"v":0,"d":"$0.00"},{"v":0,"d":"$0.00"},"ASR-Dental_Financial_Report_SMMC_03.21.23","2023-03-21","Unaudited"]
["Dental","DEF","Default",1900,"1900-01-01","Q1","1900-03-31","Region 5","Operating Expense","Medical Expense","Dental Services","2.4","Dental Services Endodontics",{"v":0,"d":"$0.00"},{"v":0,"d":"$0.00"},{"v":0,"d":"$0.00"},{"v":0,"d":"$0.00"},{"v":0,"d":"$0.00"},{"v":0,"d":"$0.00"},"ASR-Dental_Financial_Report_SMMC_03.21.23","2023-03-21","Unaudited"]
["Dental","DEF","Default",1900,"1900-01-01","Q1","1900-03-31","Region 5","Operating Expense","Medical Expense","Dental Services","2.5","Dental Services Periodontics",{"v":0,"d":"$0.00"},{"v":0,"d":"$0.00"},{"v":0,"d":"$0.00"},{"v":0,"d":"$0.00"},{"v":0,"d":"$0.00"},{"v":0,"d":"$0.00"},"ASR-Dental_Financial_Report_SMMC_03.21.23","2023-03-21","Unaudited"]
["Dental","DEF","Default",1900,"1900-01-01","Q1","1900-03-31","Region 5","Operating Expense","Medical Expense","Dental Services","2.6","Dental Services Prosthodontics",{"v":0,"d":"$0.00"},{"v":0,"d":"$0.00"},{"v":0,"d":"$0.00"},{"v":0,"d":"$0.00"},{"v":0,"d":"$0.00"},{"v":0,"d":"$0.00"},"ASR-Dental_Financial_Report_SMMC_03.21.23","2023-03-21","Unaudited"]
["Dental","DEF","Default",1900,"1900-01-01","Q1","1900-03-31","Region 5","Operating Expense","Medical Expense","Dental Services","2.7","Dental Services Prosthodontics, fixed",{"$f":"IF(OR(AND($F912=\"PY\",N$1<>\"Prior Year\"),AND($F912<>\"PY\",N$1=\"Prior Year\")),0,INDEX(INDIRECT(\"'Dental Rev-Exp \"&$H912&\"'!$A$1:$CA$200\"),IF($J912=\"Member Months\",MATCH($J912,INDIRECT(\"'Dental Rev-Exp \"&$H912&\"'!$A$1:$A$200\"),0),MATCH($L912,INDIRECT(\"'Dental Rev-Exp \"&$H912&\"'!$B$1:$B$200\"),0)),IF($F912=\"PY\",MATCH(\"Prior Year Adjustments\",INDIRECT(\"'Dental Rev-Exp \"&$H912&\"'!$A$8:$CA$8\"),0),MATCH(IF($F912=\"Q1\",\"JANUARY - MARCH (Q1)\",IF($F912=\"Q2\",\"APRIL - JUNE (Q2)\",IF($F912=\"Q3\",\"JULY - SEPTEMBER (Q3)\",IF($F912=\"Q4\",\"OCTOBER - DECEMBER (Q4)\",0)))),INDIRECT(\"'Dental Rev-Exp \"&$H912&\"'!$A$7:$CA$7\"),0)+MATCH(N$1,INDIRECT(\"'Dental Rev-Exp \"&$H912&\"'!$D$8:$CA$8\"),0)-1)))","v":{"v":0,"d":"$0.00"}},{"v":0,"d":"$0.00"},{"v":0,"d":"$0.00"},{"v":0,"d":"$0.00"},{"v":0,"d":"$0.00"},{"v":0,"d":"$0.00"},"ASR-Dental_Financial_Report_SMMC_03.21.23","2023-03-21","Unaudited"]
["Dental","DEF","Default",1900,"1900-01-01","Q1","1900-03-31","Region 5","Operating Expense","Medical Expense","Dental Services","2.8","Dental Services Oral and Maxillofacial Surgery",{"v":0,"d":"$0.00"},{"v":0,"d":"$0.00"},{"v":0,"d":"$0.00"},{"v":0,"d":"$0.00"},{"v":0,"d":"$0.00"},{"v":0,"d":"$0.00"},"ASR-Dental_Financial_Report_SMMC_03.21.23","2023-03-21","Unaudited"]
["Dental","DEF","Default",1900,"1900-01-01","Q1","1900-03-31","Region 5","Operating Expense","Medical Expense","Dental Services","2.9","Dental Services Orthodontics",{"v":0,"d":"$0.00"},{"v":0,"d":"$0.00"},{"v":0,"d":"$0.00"},{"v":0,"d":"$0.00"},{"v":0,"d":"$0.00"},{"v":0,"d":"$0.00"},"ASR-Dental_Financial_Report_SMMC_03.21.23","2023-03-21","Unaudited"]
["Dental","DEF","Default",1900,"1900-01-01","Q1","1900-03-31","Region 5","Operating Expense","Medical Expense","Dental Services","2.10","Dental Services Adjunctive General Services",{"v":0,"d":"$0.00"},{"v":0,"d":"$0.00"},{"v":0,"d":"$0.00"},{"v":0,"d":"$0.00"},{"v":0,"d":"$0.00"},{"v":0,"d":"$0.00"},"ASR-Dental_Financial_Report_SMMC_03.21.23","2023-03-21","Unaudited"]
["Dental","DEF","Default",1900,"1900-01-01","Q1","1900-03-31","Region 5","Operating Expense","Medical Expense","Dental Services","2.11","Dental Services Other",{"v":0,"d":"$0.00"},{"v":0,"d":"$0.00"},{"v":0,"d":"$0.00"},{"v":0,"d":"$0.00"},{"v":0,"d":"$0.00"},{"v":0,"d":"$0.00"},"ASR-Dental_Financial_Report_SMMC_03.21.23","2023-03-21","Unaudited"]
["Dental","DEF","Default",1900,"1900-01-01","Q1","1900-03-31","Region 5","Operating Expense","Medical Expense","Expanded Benefits","2.12","Dental Expanded Benefits",{"v":0,"d":"$0.00"},{"v":0,"d":"$0.00"},{"v":0,"d":"$0.00"},{"v":0,"d":"$0.00"},{"v":0,"d":"$0.00"},{"v":0,"d":"$0.00"},"ASR-Dental_Financial_Report_SMMC_03.21.23","2023-03-21","Unaudited"]
["Dental","DEF","Default",1900,"1900-01-01","Q1","1900-03-31","Region 5","Operating Expense","Medical Expense","Dental Services","2.13","Dental Services Paid through Subcapitation",{"v":0,"d":"$0.00"},{"v":0,"d":"$0.00"},{"v":0,"d":"$0.00"},{"v":0,"d":"$0.00"},{"v":0,"d":"$0.00"},{"v":0,"d":"$0.00"},"ASR-Dental_Financial_Report_SMMC_03.21.23","2023-03-21","Unaudited"]
["Dental","DEF","Default",1900,"1900-01-01","Q1","1900-03-31","Region 5","Operating Expense","Medical Expense","Dental Services","2.14","Ending IBNP for Dental Services",{"v":0,"d":"$0.00"},{"v":0,"d":"$0.00"},{"v":0,"d":"$0.00"},{"v":0,"d":"$0.00"},{"v":0,"d":"$0.00"},{"v":0,"d":"$0.00"},"ASR-Dental_Financial_Report_SMMC_03.21.23","2023-03-21","Unaudited"]
["Dental","DEF","Default",1900,"1900-01-01","Q1","1900-03-31","Region 5","Operating Expense","Medical Expense","Dental Services","2.15","Dental Settlements/AP",{"v":0,"d":"$0.00"},{"v":0,"d":"$0.00"},{"v":0,"d":"$0.00"},{"v":0,"d":"$0.00"},{"v":0,"d":"$0.00"},{"v":0,"d":"$0.00"},"ASR-Dental_Financial_Report_SMMC_03.21.23","2023-03-21","Unaudited"]
["Dental","DEF","Default",1900,"1900-01-01","Q1","1900-03-31","Region 5","Operating Expense","Medical Expense","Other Medical","3.5","TPL & Fraud/Abuse Recoveries",{"v":0,"d":"$0.00"},{"v":0,"d":"$0.00"},{"v":0,"d":"$0.00"},{"v":0,"d":"$0.00"},{"v":0,"d":"$0.00"},{"v":0,"d":"$0.00"},"ASR-Dental_Financial_Report_SMMC_03.21.23","2023-03-21","Unaudited"]
["Dental","DEF","Default",1900,"1900-01-01","Q1","1900-03-31","Region 5","Operating Expense","Medical Expense","Other Medical",3.6,"Premium Deficiency Reserve",{"$f":"IF(OR(AND($F922=\"PY\",N$1<>\"Prior Year\"),AND($F922<>\"PY\",N$1=\"Prior Year\")),0,INDEX(INDIRECT(\"'Dental Rev-Exp \"&$H922&\"'!$A$1:$CA$200\"),IF($J922=\"Member Months\",MATCH($J922,INDIRECT(\"'Dental Rev-Exp \"&$H922&\"'!$A$1:$A$200\"),0),MATCH($L922,INDIRECT(\"'Dental Rev-Exp \"&$H922&\"'!$B$1:$B$200\"),0)),IF($F922=\"PY\",MATCH(\"Prior Year Adjustments\",INDIRECT(\"'Dental Rev-Exp \"&$H922&\"'!$A$8:$CA$8\"),0),MATCH(IF($F922=\"Q1\",\"JANUARY - MARCH (Q1)\",IF($F922=\"Q2\",\"APRIL - JUNE (Q2)\",IF($F922=\"Q3\",\"JULY - SEPTEMBER (Q3)\",IF($F922=\"Q4\",\"OCTOBER - DECEMBER (Q4)\",0)))),INDIRECT(\"'Dental Rev-Exp \"&$H922&\"'!$A$7:$CA$7\"),0)+MATCH(N$1,INDIRECT(\"'Dental Rev-Exp \"&$H922&\"'!$D$8:$CA$8\"),0)-1)))","v":{"v":0,"d":"$0.00"}},{"v":0,"d":"$0.00"},{"v":0,"d":"$0.00"},{"v":0,"d":"$0.00"},{"v":0,"d":"$0.00"},{"v":0,"d":"$0.00"},"ASR-Dental_Financial_Report_SMMC_03.21.23","2023-03-21","Unaudited"]
["Dental","DEF","Default",1900,"1900-01-01","Q1","1900-03-31","Region 5","Operating Expense","Medical Expense","Other Medical","3.8","Reinsurance Premiums",{"v":0,"d":"$0.00"},{"v":0,"d":"$0.00"},{"v":0,"d":"$0.00"},{"v":0,"d":"$0.00"},{"v":0,"d":"$0.00"},{"v":0,"d":"$0.00"},"ASR-Dental_Financial_Report_SMMC_03.21.23","2023-03-21","Unaudited"]
["Dental","DEF","Default",1900,"1900-01-01","Q1","1900-03-31","Region 5","Operating Expense","Medical Expense","Other Medical","3.9","Reinsurance Recoveries",{"v":0,"d":"$0.00"},{"v":0,"d":"$0.00"},{"v":0,"d":"$0.00"},{"v":0,"d":"$0.00"},{"v":0,"d":"$0.00"},{"v":0,"d":"$0.00"},"ASR-Dental_Financial_Report_SMMC_03.21.23","2023-03-21","Unaudited"]
["Dental","DEF","Default",1900,"1900-01-01","Q1","1900-03-31","Region 5","Operating Expense","Administrative Expense","Administrative","4.1","Salaries & Benefits",{"v":0,"d":"$0.00"},{"v":0,"d":"$0.00"},{"v":0,"d":"$0.00"},{"v":0,"d":"$0.00"},{"v":0,"d":"$0.00"},{"v":0,"d":"$0.00"},"ASR-Dental_Financial_Report_SMMC_03.21.23","2023-03-21","Unaudited"]
["Dental","DEF","Default",1900,"1900-01-01","Q1","1900-03-31","Region 5","Operating Expense","Administrative Expense","Administrative","4.2","Administrative Services",{"v":0,"d":"$0.00"},{"v":0,"d":"$0.00"},{"v":0,"d":"$0.00"},{"v":0,"d":"$0.00"},{"v":0,"d":"$0.00"},{"v":0,"d":"$0.00"},"ASR-Dental_Financial_Report_SMMC_03.21.23","2023-03-21","Unaudited"]
["Dental","DEF","Default",1900,"1900-01-01","Q1","1900-03-31","Region 5","Operating Expense","Administrative Expense","Administrative","4.3","Information Systems",{"v":0,"d":"$0.00"},{"v":0,"d":"$0.00"},{"v":0,"d":"$0.00"},{"v":0,"d":"$0.00"},{"v":0,"d":"$0.00"},{"v":0,"d":"$0.00"},"ASR-Dental_Financial_Report_SMMC_03.21.23","2023-03-21","Unaudited"]
["Dental","DEF","Default",1900,"1900-01-01","Q1","1900-03-31","Region 5","Operating Expense","Administrative Expense","Administrative","4.4","Marketing Expenses",{"v":0,"d":"$0.00"},{"v":0,"d":"$0.00"},{"v":0,"d":"$0.00"},{"v":0,"d":"$0.00"},{"v":0,"d":"$0.00"},{"v":0,"d":"$0.00"},"ASR-Dental_Financial_Report_SMMC_03.21.23","2023-03-21","Unaudited"]
["Dental","DEF","Default",1900,"1900-01-01","Q1","1900-03-31","Region 5","Operating Expense","Administrative Expense","Administrative","4.5","General  Administration",{"v":0,"d":"$0.00"},{"v":0,"d":"$0.00"},{"v":0,"d":"$0.00"},{"v":0,"d":"$0.00"},{"v":0,"d":"$0.00"},{"v":0,"d":"$0.00"},"ASR-Dental_Financial_Report_SMMC_03.21.23","2023-03-21","Unaudited"]
["Dental","DEF","Default",1900,"1900-01-01","Q1","1900-03-31","Region 5","Operating Expense","Administrative Expense","Administrative","4.6","Compliance/Regulatory",{"v":0,"d":"$0.00"},{"v":0,"d":"$0.00"},{"v":0,"d":"$0.00"},{"v":0,"d":"$0.00"},{"v":0,"d":"$0.00"},{"v":0,"d":"$0.00"},"ASR-Dental_Financial_Report_SMMC_03.21.23","2023-03-21","Unaudited"]
["Dental","DEF","Default",1900,"1900-01-01","Q1","1900-03-31","Region 5","Operating Expense","Taxes & Fees","Taxes & Fees","5.1","State Premium tax",{"v":0,"d":"$0.00"},{"v":0,"d":"$0.00"},{"v":0,"d":"$0.00"},{"v":0,"d":"$0.00"},{"v":0,"d":"$0.00"},{"v":0,"d":"$0.00"},"ASR-Dental_Financial_Report_SMMC_03.21.23","2023-03-21","Unaudited"]
["Dental","DEF","Default",1900,"1900-01-01","Q1","1900-03-31","Region 5","Operating Expense","Taxes & Fees","Taxes & Fees","5.2","Department of Insurance Assessments",{"$f":"IF(OR(AND($F932=\"PY\",N$1<>\"Prior Year\"),AND($F932<>\"PY\",N$1=\"Prior Year\")),0,INDEX(INDIRECT(\"'Dental Rev-Exp \"&$H932&\"'!$A$1:$CA$200\"),IF($J932=\"Member Months\",MATCH($J932,INDIRECT(\"'Dental Rev-Exp \"&$H932&\"'!$A$1:$A$200\"),0),MATCH($L932,INDIRECT(\"'Dental Rev-Exp \"&$H932&\"'!$B$1:$B$200\"),0)),IF($F932=\"PY\",MATCH(\"Prior Year Adjustments\",INDIRECT(\"'Dental Rev-Exp \"&$H932&\"'!$A$8:$CA$8\"),0),MATCH(IF($F932=\"Q1\",\"JANUARY - MARCH (Q1)\",IF($F932=\"Q2\",\"APRIL - JUNE (Q2)\",IF($F932=\"Q3\",\"JULY - SEPTEMBER (Q3)\",IF($F932=\"Q4\",\"OCTOBER - DECEMBER (Q4)\",0)))),INDIRECT(\"'Dental Rev-Exp \"&$H932&\"'!$A$7:$CA$7\"),0)+MATCH(N$1,INDIRECT(\"'Dental Rev-Exp \"&$H932&\"'!$D$8:$CA$8\"),0)-1)))","v":{"v":0,"d":"$0.00"}},{"v":0,"d":"$0.00"},{"v":0,"d":"$0.00"},{"v":0,"d":"$0.00"},{"v":0,"d":"$0.00"},{"v":0,"d":"$0.00"},"ASR-Dental_Financial_Report_SMMC_03.21.23","2023-03-21","Unaudited"]
["Dental","DEF","Default",1900,"1900-01-01","Q1","1900-03-31","Region 5","Operating Expense","Taxes & Fees","Taxes & Fees","5.3","Section 9010 Health Insurance Providers Fee",{"v":0,"d":"$0.00"},{"v":0,"d":"$0.00"},{"v":0,"d":"$0.00"},{"v":0,"d":"$0.00"},{"v":0,"d":"$0.00"},{"v":0,"d":"$0.00"},"ASR-Dental_Financial_Report_SMMC_03.21.23","2023-03-21","Unaudited"]
["Dental","DEF","Default",1900,"1900-01-01","Q1","1900-03-31","Region 5","Operating Expense","Taxes & Fees","Taxes & Fees","5.4","Other 1",{"v":0,"d":"$0.00"},{"v":0,"d":"$0.00"},{"v":0,"d":"$0.00"},{"v":0,"d":"$0.00"},{"v":0,"d":"$0.00"},{"v":0,"d":"$0.00"},"ASR-Dental_Financial_Report_SMMC_03.21.23","2023-03-21","Unaudited"]
["Dental","DEF","Default",1900,"1900-01-01","Q1","1900-03-31","Region 5","Operating Expense","Taxes & Fees","Taxes & Fees","5.5","Other 2",{"v":0,"d":"$0.00"},{"v":0,"d":"$0.00"},{"v":0,"d":"$0.00"},{"v":0,"d":"$0.00"},{"v":0,"d":"$0.00"},{"v":0,"d":"$0.00"},"ASR-Dental_Financial_Report_SMMC_03.21.23","2023-03-21","Unaudited"]
["Dental","DEF","Default",1900,"1900-01-01","Q1","1900-03-31","Region 5","Operating Expense","Taxes & Fees","Taxes & Fees","5.6","Other 3",{"v":0,"d":"$0.00"},{"v":0,"d":"$0.00"},{"v":0,"d":"$0.00"},{"v":0,"d":"$0.00"},{"v":0,"d":"$0.00"},{"v":0,"d":"$0.00"},"ASR-Dental_Financial_Report_SMMC_03.21.23","2023-03-21","Unaudited"]
["Dental","DEF","Default",1900,"1900-01-01","Q1","1900-03-31","Region 5","Non-Operating Expense","Income Tax Expense","Income Tax Expense","8.0","Income Tax Expense",{"v":0,"d":"$0.00"},{"v":0,"d":"$0.00"},{"v":0,"d":"$0.00"},{"v":0,"d":"$0.00"},{"v":0,"d":"$0.00"},{"v":0,"d":"$0.00"},"ASR-Dental_Financial_Report_SMMC_03.21.23","2023-03-21","Unaudited"]
["Dental","DEF","Default",1900,"1900-01-01","Q2","1900-06-30","Region 5","Member Months","Member Months","Member Months",null,"Member Months",{"v":0,"d":"$0.00"},{"v":0,"d":"$0.00"},{"v":0,"d":"$0.00"},{"v":0,"d":"$0.00"},{"v":0,"d":"$0.00"},{"v":0,"d":"$0.00"},"ASR-Dental_Financial_Report_SMMC_03.21.23","2023-03-21","Unaudited"]
["Dental","DEF","Default",1900,"1900-01-01","Q2","1900-06-30","Region 5","Operating Revenue","Capitation","Capitation","1.1","Capitation",{"v":0,"d":"$0.00"},{"v":0,"d":"$0.00"},{"v":0,"d":"$0.00"},{"v":0,"d":"$0.00"},{"v":0,"d":"$0.00"},{"v":0,"d":"$0.00"},"ASR-Dental_Financial_Report_SMMC_03.21.23","2023-03-21","Unaudited"]
["Dental","DEF","Default",1900,"1900-01-01","Q2","1900-06-30","Region 5","Operating Revenue","Other Revenue","Other Revenue - 9010","1.2","ACA § 9010 related payments",{"v":0,"d":"$0.00"},{"v":0,"d":"$0.00"},{"v":0,"d":"$0.00"},{"v":0,"d":"$0.00"},{"v":0,"d":"$0.00"},{"v":0,"d":"$0.00"},"ASR-Dental_Financial_Report_SMMC_03.21.23","2023-03-21","Unaudited"]
["Dental","DEF","Default",1900,"1900-01-01","Q2","1900-06-30","Region 5","Operating Revenue","Other Revenue","Other Revenue","1.3","Other Revenue",{"v":0,"d":"$0.00"},{"v":0,"d":"$0.00"},{"v":0,"d":"$0.00"},{"v":0,"d":"$0.00"},{"v":0,"d":"$0.00"},{"v":0,"d":"$0.00"},"ASR-Dental_Financial_Report_SMMC_03.21.23","2023-03-21","Unaudited"]
["Dental","DEF","Default",1900,"1900-01-01","Q2","1900-06-30","Region 5","Operating Expense","Medical Expense","Dental Services","2.1","Dental Services Diagnostic",{"$f":"IF(OR(AND($F942=\"PY\",N$1<>\"Prior Year\"),AND($F942<>\"PY\",N$1=\"Prior Year\")),0,INDEX(INDIRECT(\"'Dental Rev-Exp \"&$H942&\"'!$A$1:$CA$200\"),IF($J942=\"Member Months\",MATCH($J942,INDIRECT(\"'Dental Rev-Exp \"&$H942&\"'!$A$1:$A$200\"),0),MATCH($L942,INDIRECT(\"'Dental Rev-Exp \"&$H942&\"'!$B$1:$B$200\"),0)),IF($F942=\"PY\",MATCH(\"Prior Year Adjustments\",INDIRECT(\"'Dental Rev-Exp \"&$H942&\"'!$A$8:$CA$8\"),0),MATCH(IF($F942=\"Q1\",\"JANUARY - MARCH (Q1)\",IF($F942=\"Q2\",\"APRIL - JUNE (Q2)\",IF($F942=\"Q3\",\"JULY - SEPTEMBER (Q3)\",IF($F942=\"Q4\",\"OCTOBER - DECEMBER (Q4)\",0)))),INDIRECT(\"'Dental Rev-Exp \"&$H942&\"'!$A$7:$CA$7\"),0)+MATCH(N$1,INDIRECT(\"'Dental Rev-Exp \"&$H942&\"'!$D$8:$CA$8\"),0)-1)))","v":{"v":0,"d":"$0.00"}},{"v":0,"d":"$0.00"},{"v":0,"d":"$0.00"},{"v":0,"d":"$0.00"},{"v":0,"d":"$0.00"},{"v":0,"d":"$0.00"},"ASR-Dental_Financial_Report_SMMC_03.21.23","2023-03-21","Unaudited"]
["Dental","DEF","Default",1900,"1900-01-01","Q2","1900-06-30","Region 5","Operating Expense","Medical Expense","Dental Services",2.2,"Dental Services Preventive",{"v":0,"d":"$0.00"},{"v":0,"d":"$0.00"},{"v":0,"d":"$0.00"},{"v":0,"d":"$0.00"},{"v":0,"d":"$0.00"},{"v":0,"d":"$0.00"},"ASR-Dental_Financial_Report_SMMC_03.21.23","2023-03-21","Unaudited"]
["Dental","DEF","Default",1900,"1900-01-01","Q2","1900-06-30","Region 5","Operating Expense","Medical Expense","Dental Services","2.3","Dental Services Restorative",{"v":0,"d":"$0.00"},{"v":0,"d":"$0.00"},{"v":0,"d":"$0.00"},{"v":0,"d":"$0.00"},{"v":0,"d":"$0.00"},{"v":0,"d":"$0.00"},"ASR-Dental_Financial_Report_SMMC_03.21.23","2023-03-21","Unaudited"]
["Dental","DEF","Default",1900,"1900-01-01","Q2","1900-06-30","Region 5","Operating Expense","Medical Expense","Dental Services","2.4","Dental Services Endodontics",{"v":0,"d":"$0.00"},{"v":0,"d":"$0.00"},{"v":0,"d":"$0.00"},{"v":0,"d":"$0.00"},{"v":0,"d":"$0.00"},{"v":0,"d":"$0.00"},"ASR-Dental_Financial_Report_SMMC_03.21.23","2023-03-21","Unaudited"]
["Dental","DEF","Default",1900,"1900-01-01","Q2","1900-06-30","Region 5","Operating Expense","Medical Expense","Dental Services","2.5","Dental Services Periodontics",{"v":0,"d":"$0.00"},{"v":0,"d":"$0.00"},{"v":0,"d":"$0.00"},{"v":0,"d":"$0.00"},{"v":0,"d":"$0.00"},{"v":0,"d":"$0.00"},"ASR-Dental_Financial_Report_SMMC_03.21.23","2023-03-21","Unaudited"]
["Dental","DEF","Default",1900,"1900-01-01","Q2","1900-06-30","Region 5","Operating Expense","Medical Expense","Dental Services","2.6","Dental Services Prosthodontics",{"v":0,"d":"$0.00"},{"v":0,"d":"$0.00"},{"v":0,"d":"$0.00"},{"v":0,"d":"$0.00"},{"v":0,"d":"$0.00"},{"v":0,"d":"$0.00"},"ASR-Dental_Financial_Report_SMMC_03.21.23","2023-03-21","Unaudited"]
["Dental","DEF","Default",1900,"1900-01-01","Q2","1900-06-30","Region 5","Operating Expense","Medical Expense","Dental Services","2.7","Dental Services Prosthodontics, fixed",{"v":0,"d":"$0.00"},{"v":0,"d":"$0.00"},{"v":0,"d":"$0.00"},{"v":0,"d":"$0.00"},{"v":0,"d":"$0.00"},{"v":0,"d":"$0.00"},"ASR-Dental_Financial_Report_SMMC_03.21.23","2023-03-21","Unaudited"]
["Dental","DEF","Default",1900,"1900-01-01","Q2","1900-06-30","Region 5","Operating Expense","Medical Expense","Dental Services","2.8","Dental Services Oral and Maxillofacial Surgery",{"v":0,"d":"$0.00"},{"v":0,"d":"$0.00"},{"v":0,"d":"$0.00"},{"v":0,"d":"$0.00"},{"v":0,"d":"$0.00"},{"v":0,"d":"$0.00"},"ASR-Dental_Financial_Report_SMMC_03.21.23","2023-03-21","Unaudited"]
["Dental","DEF","Default",1900,"1900-01-01","Q2","1900-06-30","Region 5","Operating Expense","Medical Expense","Dental Services","2.9","Dental Services Orthodontics",{"v":0,"d":"$0.00"},{"v":0,"d":"$0.00"},{"v":0,"d":"$0.00"},{"v":0,"d":"$0.00"},{"v":0,"d":"$0.00"},{"v":0,"d":"$0.00"},"ASR-Dental_Financial_Report_SMMC_03.21.23","2023-03-21","Unaudited"]
["Dental","DEF","Default",1900,"1900-01-01","Q2","1900-06-30","Region 5","Operating Expense","Medical Expense","Dental Services","2.10","Dental Services Adjunctive General Services",{"v":0,"d":"$0.00"},{"v":0,"d":"$0.00"},{"v":0,"d":"$0.00"},{"v":0,"d":"$0.00"},{"v":0,"d":"$0.00"},{"v":0,"d":"$0.00"},"ASR-Dental_Financial_Report_SMMC_03.21.23","2023-03-21","Unaudited"]
["Dental","DEF","Default",1900,"1900-01-01","Q2","1900-06-30","Region 5","Operating Expense","Medical Expense","Dental Services","2.11","Dental Services Other",{"$f":"IF(OR(AND($F952=\"PY\",N$1<>\"Prior Year\"),AND($F952<>\"PY\",N$1=\"Prior Year\")),0,INDEX(INDIRECT(\"'Dental Rev-Exp \"&$H952&\"'!$A$1:$CA$200\"),IF($J952=\"Member Months\",MATCH($J952,INDIRECT(\"'Dental Rev-Exp \"&$H952&\"'!$A$1:$A$200\"),0),MATCH($L952,INDIRECT(\"'Dental Rev-Exp \"&$H952&\"'!$B$1:$B$200\"),0)),IF($F952=\"PY\",MATCH(\"Prior Year Adjustments\",INDIRECT(\"'Dental Rev-Exp \"&$H952&\"'!$A$8:$CA$8\"),0),MATCH(IF($F952=\"Q1\",\"JANUARY - MARCH (Q1)\",IF($F952=\"Q2\",\"APRIL - JUNE (Q2)\",IF($F952=\"Q3\",\"JULY - SEPTEMBER (Q3)\",IF($F952=\"Q4\",\"OCTOBER - DECEMBER (Q4)\",0)))),INDIRECT(\"'Dental Rev-Exp \"&$H952&\"'!$A$7:$CA$7\"),0)+MATCH(N$1,INDIRECT(\"'Dental Rev-Exp \"&$H952&\"'!$D$8:$CA$8\"),0)-1)))","v":{"v":0,"d":"$0.00"}},{"v":0,"d":"$0.00"},{"v":0,"d":"$0.00"},{"v":0,"d":"$0.00"},{"v":0,"d":"$0.00"},{"v":0,"d":"$0.00"},"ASR-Dental_Financial_Report_SMMC_03.21.23","2023-03-21","Unaudited"]
["Dental","DEF","Default",1900,"1900-01-01","Q2","1900-06-30","Region 5","Operating Expense","Medical Expense","Expanded Benefits","2.12","Dental Expanded Benefits",{"v":0,"d":"$0.00"},{"v":0,"d":"$0.00"},{"v":0,"d":"$0.00"},{"v":0,"d":"$0.00"},{"v":0,"d":"$0.00"},{"v":0,"d":"$0.00"},"ASR-Dental_Financial_Report_SMMC_03.21.23","2023-03-21","Unaudited"]
["Dental","DEF","Default",1900,"1900-01-01","Q2","1900-06-30","Region 5","Operating Expense","Medical Expense","Dental Services","2.13","Dental Services Paid through Subcapitation",{"v":0,"d":"$0.00"},{"v":0,"d":"$0.00"},{"v":0,"d":"$0.00"},{"v":0,"d":"$0.00"},{"v":0,"d":"$0.00"},{"v":0,"d":"$0.00"},"ASR-Dental_Financial_Report_SMMC_03.21.23","2023-03-21","Unaudited"]
["Dental","DEF","Default",1900,"1900-01-01","Q2","1900-06-30","Region 5","Operating Expense","Medical Expense","Dental Services","2.14","Ending IBNP for Dental Services",{"v":0,"d":"$0.00"},{"v":0,"d":"$0.00"},{"v":0,"d":"$0.00"},{"v":0,"d":"$0.00"},{"v":0,"d":"$0.00"},{"v":0,"d":"$0.00"},"ASR-Dental_Financial_Report_SMMC_03.21.23","2023-03-21","Unaudited"]
["Dental","DEF","Default",1900,"1900-01-01","Q2","1900-06-30","Region 5","Operating Expense","Medical Expense","Dental Services","2.15","Dental Settlements/AP",{"v":0,"d":"$0.00"},{"v":0,"d":"$0.00"},{"v":0,"d":"$0.00"},{"v":0,"d":"$0.00"},{"v":0,"d":"$0.00"},{"v":0,"d":"$0.00"},"ASR-Dental_Financial_Report_SMMC_03.21.23","2023-03-21","Unaudited"]
["Dental","DEF","Default",1900,"1900-01-01","Q2","1900-06-30","Region 5","Operating Expense","Medical Expense","Other Medical","3.5","TPL & Fraud/Abuse Recoveries",{"v":0,"d":"$0.00"},{"v":0,"d":"$0.00"},{"v":0,"d":"$0.00"},{"v":0,"d":"$0.00"},{"v":0,"d":"$0.00"},{"v":0,"d":"$0.00"},"ASR-Dental_Financial_Report_SMMC_03.21.23","2023-03-21","Unaudited"]
["Dental","DEF","Default",1900,"1900-01-01","Q2","1900-06-30","Region 5","Operating Expense","Medical Expense","Other Medical",3.6,"Premium Deficiency Reserve",{"v":0,"d":"$0.00"},{"v":0,"d":"$0.00"},{"v":0,"d":"$0.00"},{"v":0,"d":"$0.00"},{"v":0,"d":"$0.00"},{"v":0,"d":"$0.00"},"ASR-Dental_Financial_Report_SMMC_03.21.23","2023-03-21","Unaudited"]
["Dental","DEF","Default",1900,"1900-01-01","Q2","1900-06-30","Region 5","Operating Expense","Medical Expense","Other Medical","3.8","Reinsurance Premiums",{"v":0,"d":"$0.00"},{"v":0,"d":"$0.00"},{"v":0,"d":"$0.00"},{"v":0,"d":"$0.00"},{"v":0,"d":"$0.00"},{"v":0,"d":"$0.00"},"ASR-Dental_Financial_Report_SMMC_03.21.23","2023-03-21","Unaudited"]
["Dental","DEF","Default",1900,"1900-01-01","Q2","1900-06-30","Region 5","Operating Expense","Medical Expense","Other Medical","3.9","Reinsurance Recoveries",{"v":0,"d":"$0.00"},{"v":0,"d":"$0.00"},{"v":0,"d":"$0.00"},{"v":0,"d":"$0.00"},{"v":0,"d":"$0.00"},{"v":0,"d":"$0.00"},"ASR-Dental_Financial_Report_SMMC_03.21.23","2023-03-21","Unaudited"]
["Dental","DEF","Default",1900,"1900-01-01","Q2","1900-06-30","Region 5","Operating Expense","Administrative Expense","Administrative","4.1","Salaries & Benefits",{"v":0,"d":"$0.00"},{"v":0,"d":"$0.00"},{"v":0,"d":"$0.00"},{"v":0,"d":"$0.00"},{"v":0,"d":"$0.00"},{"v":0,"d":"$0.00"},"ASR-Dental_Financial_Report_SMMC_03.21.23","2023-03-21","Unaudited"]
["Dental","DEF","Default",1900,"1900-01-01","Q2","1900-06-30","Region 5","Operating Expense","Administrative Expense","Administrative","4.2","Administrative Services",{"$f":"IF(OR(AND($F962=\"PY\",N$1<>\"Prior Year\"),AND($F962<>\"PY\",N$1=\"Prior Year\")),0,INDEX(INDIRECT(\"'Dental Rev-Exp \"&$H962&\"'!$A$1:$CA$200\"),IF($J962=\"Member Months\",MATCH($J962,INDIRECT(\"'Dental Rev-Exp \"&$H962&\"'!$A$1:$A$200\"),0),MATCH($L962,INDIRECT(\"'Dental Rev-Exp \"&$H962&\"'!$B$1:$B$200\"),0)),IF($F962=\"PY\",MATCH(\"Prior Year Adjustments\",INDIRECT(\"'Dental Rev-Exp \"&$H962&\"'!$A$8:$CA$8\"),0),MATCH(IF($F962=\"Q1\",\"JANUARY - MARCH (Q1)\",IF($F962=\"Q2\",\"APRIL - JUNE (Q2)\",IF($F962=\"Q3\",\"JULY - SEPTEMBER (Q3)\",IF($F962=\"Q4\",\"OCTOBER - DECEMBER (Q4)\",0)))),INDIRECT(\"'Dental Rev-Exp \"&$H962&\"'!$A$7:$CA$7\"),0)+MATCH(N$1,INDIRECT(\"'Dental Rev-Exp \"&$H962&\"'!$D$8:$CA$8\"),0)-1)))","v":{"v":0,"d":"$0.00"}},{"v":0,"d":"$0.00"},{"v":0,"d":"$0.00"},{"v":0,"d":"$0.00"},{"v":0,"d":"$0.00"},{"v":0,"d":"$0.00"},{"$f":"file_name","v":"ASR-Dental_Financial_Report_SMMC_03.21.23"},{"$f":"file_date","v":"2023-03-21"},{"$f":"status","v":"Unaudited"}]
["Dental","DEF","Default",1900,"1900-01-01","Q2","1900-06-30","Region 5","Operating Expense","Administrative Expense","Administrative","4.3","Information Systems",{"v":0,"d":"$0.00"},{"v":0,"d":"$0.00"},{"v":0,"d":"$0.00"},{"v":0,"d":"$0.00"},{"v":0,"d":"$0.00"},{"v":0,"d":"$0.00"},"ASR-Dental_Financial_Report_SMMC_03.21.23","2023-03-21","Unaudited"]
["Dental","DEF","Default",1900,"1900-01-01","Q2","1900-06-30","Region 5","Operating Expense","Administrative Expense","Administrative","4.4","Marketing Expenses",{"v":0,"d":"$0.00"},{"v":0,"d":"$0.00"},{"v":0,"d":"$0.00"},{"v":0,"d":"$0.00"},{"v":0,"d":"$0.00"},{"v":0,"d":"$0.00"},"ASR-Dental_Financial_Report_SMMC_03.21.23","2023-03-21","Unaudited"]
["Dental","DEF","Default",1900,"1900-01-01","Q2","1900-06-30","Region 5","Operating Expense","Administrative Expense","Administrative","4.5","General  Administration",{"v":0,"d":"$0.00"},{"v":0,"d":"$0.00"},{"v":0,"d":"$0.00"},{"v":0,"d":"$0.00"},{"v":0,"d":"$0.00"},{"v":0,"d":"$0.00"},"ASR-Dental_Financial_Report_SMMC_03.21.23","2023-03-21","Unaudited"]
["Dental","DEF","Default",1900,"1900-01-01","Q2","1900-06-30","Region 5","Operating Expense","Administrative Expense","Administrative","4.6","Compliance/Regulatory",{"v":0,"d":"$0.00"},{"v":0,"d":"$0.00"},{"v":0,"d":"$0.00"},{"v":0,"d":"$0.00"},{"v":0,"d":"$0.00"},{"v":0,"d":"$0.00"},"ASR-Dental_Financial_Report_SMMC_03.21.23","2023-03-21","Unaudited"]
["Dental","DEF","Default",1900,"1900-01-01","Q2","1900-06-30","Region 5","Operating Expense","Taxes & Fees","Taxes & Fees","5.1","State Premium tax",{"v":0,"d":"$0.00"},{"v":0,"d":"$0.00"},{"v":0,"d":"$0.00"},{"v":0,"d":"$0.00"},{"v":0,"d":"$0.00"},{"v":0,"d":"$0.00"},"ASR-Dental_Financial_Report_SMMC_03.21.23","2023-03-21","Unaudited"]
["Dental","DEF","Default",1900,"1900-01-01","Q2","1900-06-30","Region 5","Operating Expense","Taxes & Fees","Taxes & Fees","5.2","Department of Insurance Assessments",{"v":0,"d":"$0.00"},{"v":0,"d":"$0.00"},{"v":0,"d":"$0.00"},{"v":0,"d":"$0.00"},{"v":0,"d":"$0.00"},{"v":0,"d":"$0.00"},"ASR-Dental_Financial_Report_SMMC_03.21.23","2023-03-21","Unaudited"]
["Dental","DEF","Default",1900,"1900-01-01","Q2","1900-06-30","Region 5","Operating Expense","Taxes & Fees","Taxes & Fees","5.3","Section 9010 Health Insurance Providers Fee",{"v":0,"d":"$0.00"},{"v":0,"d":"$0.00"},{"v":0,"d":"$0.00"},{"v":0,"d":"$0.00"},{"v":0,"d":"$0.00"},{"v":0,"d":"$0.00"},"ASR-Dental_Financial_Report_SMMC_03.21.23","2023-03-21","Unaudited"]
["Dental","DEF","Default",1900,"1900-01-01","Q2","1900-06-30","Region 5","Operating Expense","Taxes & Fees","Taxes & Fees","5.4","Other 1",{"v":0,"d":"$0.00"},{"v":0,"d":"$0.00"},{"v":0,"d":"$0.00"},{"v":0,"d":"$0.00"},{"v":0,"d":"$0.00"},{"v":0,"d":"$0.00"},"ASR-Dental_Financial_Report_SMMC_03.21.23","2023-03-21","Unaudited"]
["Dental","DEF","Default",1900,"1900-01-01","Q2","1900-06-30","Region 5","Operating Expense","Taxes & Fees","Taxes & Fees","5.5","Other 2",{"v":0,"d":"$0.00"},{"v":0,"d":"$0.00"},{"v":0,"d":"$0.00"},{"v":0,"d":"$0.00"},{"v":0,"d":"$0.00"},{"v":0,"d":"$0.00"},"ASR-Dental_Financial_Report_SMMC_03.21.23","2023-03-21","Unaudited"]
["Dental","DEF","Default",1900,"1900-01-01","Q2","1900-06-30","Region 5","Operating Expense","Taxes & Fees","Taxes & Fees","5.6","Other 3",{"$f":"IF(OR(AND($F972=\"PY\",N$1<>\"Prior Year\"),AND($F972<>\"PY\",N$1=\"Prior Year\")),0,INDEX(INDIRECT(\"'Dental Rev-Exp \"&$H972&\"'!$A$1:$CA$200\"),IF($J972=\"Member Months\",MATCH($J972,INDIRECT(\"'Dental Rev-Exp \"&$H972&\"'!$A$1:$A$200\"),0),MATCH($L972,INDIRECT(\"'Dental Rev-Exp \"&$H972&\"'!$B$1:$B$200\"),0)),IF($F972=\"PY\",MATCH(\"Prior Year Adjustments\",INDIRECT(\"'Dental Rev-Exp \"&$H972&\"'!$A$8:$CA$8\"),0),MATCH(IF($F972=\"Q1\",\"JANUARY - MARCH (Q1)\",IF($F972=\"Q2\",\"APRIL - JUNE (Q2)\",IF($F972=\"Q3\",\"JULY - SEPTEMBER (Q3)\",IF($F972=\"Q4\",\"OCTOBER - DECEMBER (Q4)\",0)))),INDIRECT(\"'Dental Rev-Exp \"&$H972&\"'!$A$7:$CA$7\"),0)+MATCH(N$1,INDIRECT(\"'Dental Rev-Exp \"&$H972&\"'!$D$8:$CA$8\"),0)-1)))","v":{"v":0,"d":"$0.00"}},{"v":0,"d":"$0.00"},{"v":0,"d":"$0.00"},{"v":0,"d":"$0.00"},{"v":0,"d":"$0.00"},{"v":0,"d":"$0.00"},"ASR-Dental_Financial_Report_SMMC_03.21.23","2023-03-21","Unaudited"]
["Dental","DEF","Default",1900,"1900-01-01","Q2","1900-06-30","Region 5","Non-Operating Expense","Income Tax Expense","Income Tax Expense","8.0","Income Tax Expense",{"v":0,"d":"$0.00"},{"v":0,"d":"$0.00"},{"v":0,"d":"$0.00"},{"v":0,"d":"$0.00"},{"v":0,"d":"$0.00"},{"v":0,"d":"$0.00"},"ASR-Dental_Financial_Report_SMMC_03.21.23","2023-03-21","Unaudited"]
["Dental","DEF","Default",1900,"1900-01-01","Q3","1900-09-30","Region 5","Member Months","Member Months","Member Months",null,"Member Months",{"v":0,"d":"$0.00"},{"v":0,"d":"$0.00"},{"v":0,"d":"$0.00"},{"v":0,"d":"$0.00"},{"v":0,"d":"$0.00"},{"v":0,"d":"$0.00"},"ASR-Dental_Financial_Report_SMMC_03.21.23","2023-03-21","Unaudited"]
["Dental","DEF","Default",1900,"1900-01-01","Q3","1900-09-30","Region 5","Operating Revenue","Capitation","Capitation","1.1","Capitation",{"v":0,"d":"$0.00"},{"v":0,"d":"$0.00"},{"v":0,"d":"$0.00"},{"v":0,"d":"$0.00"},{"v":0,"d":"$0.00"},{"v":0,"d":"$0.00"},"ASR-Dental_Financial_Report_SMMC_03.21.23","2023-03-21","Unaudited"]
["Dental","DEF","Default",1900,"1900-01-01","Q3","1900-09-30","Region 5","Operating Revenue","Other Revenue","Other Revenue - 9010","1.2","ACA § 9010 related payments",{"v":0,"d":"$0.00"},{"v":0,"d":"$0.00"},{"v":0,"d":"$0.00"},{"v":0,"d":"$0.00"},{"v":0,"d":"$0.00"},{"v":0,"d":"$0.00"},"ASR-Dental_Financial_Report_SMMC_03.21.23","2023-03-21","Unaudited"]
["Dental","DEF","Default",1900,"1900-01-01","Q3","1900-09-30","Region 5","Operating Revenue","Other Revenue","Other Revenue","1.3","Other Revenue",{"v":0,"d":"$0.00"},{"v":0,"d":"$0.00"},{"v":0,"d":"$0.00"},{"v":0,"d":"$0.00"},{"v":0,"d":"$0.00"},{"v":0,"d":"$0.00"},"ASR-Dental_Financial_Report_SMMC_03.21.23","2023-03-21","Unaudited"]
["Dental","DEF","Default",1900,"1900-01-01","Q3","1900-09-30","Region 5","Operating Expense","Medical Expense","Dental Services","2.1","Dental Services Diagnostic",{"v":0,"d":"$0.00"},{"v":0,"d":"$0.00"},{"v":0,"d":"$0.00"},{"v":0,"d":"$0.00"},{"v":0,"d":"$0.00"},{"v":0,"d":"$0.00"},"ASR-Dental_Financial_Report_SMMC_03.21.23","2023-03-21","Unaudited"]
["Dental","DEF","Default",1900,"1900-01-01","Q3","1900-09-30","Region 5","Operating Expense","Medical Expense","Dental Services",2.2,"Dental Services Preventive",{"v":0,"d":"$0.00"},{"v":0,"d":"$0.00"},{"v":0,"d":"$0.00"},{"v":0,"d":"$0.00"},{"v":0,"d":"$0.00"},{"v":0,"d":"$0.00"},"ASR-Dental_Financial_Report_SMMC_03.21.23","2023-03-21","Unaudited"]
["Dental","DEF","Default",1900,"1900-01-01","Q3","1900-09-30","Region 5","Operating Expense","Medical Expense","Dental Services","2.3","Dental Services Restorative",{"v":0,"d":"$0.00"},{"v":0,"d":"$0.00"},{"v":0,"d":"$0.00"},{"v":0,"d":"$0.00"},{"v":0,"d":"$0.00"},{"v":0,"d":"$0.00"},"ASR-Dental_Financial_Report_SMMC_03.21.23","2023-03-21","Unaudited"]
["Dental","DEF","Default",1900,"1900-01-01","Q3","1900-09-30","Region 5","Operating Expense","Medical Expense","Dental Services","2.4","Dental Services Endodontics",{"v":0,"d":"$0.00"},{"v":0,"d":"$0.00"},{"v":0,"d":"$0.00"},{"v":0,"d":"$0.00"},{"v":0,"d":"$0.00"},{"v":0,"d":"$0.00"},"ASR-Dental_Financial_Report_SMMC_03.21.23","2023-03-21","Unaudited"]
["Dental","DEF","Default",1900,"1900-01-01","Q3","1900-09-30","Region 5","Operating Expense","Medical Expense","Dental Services","2.5","Dental Services Periodontics",{"$f":"IF(OR(AND($F982=\"PY\",N$1<>\"Prior Year\"),AND($F982<>\"PY\",N$1=\"Prior Year\")),0,INDEX(INDIRECT(\"'Dental Rev-Exp \"&$H982&\"'!$A$1:$CA$200\"),IF($J982=\"Member Months\",MATCH($J982,INDIRECT(\"'Dental Rev-Exp \"&$H982&\"'!$A$1:$A$200\"),0),MATCH($L982,INDIRECT(\"'Dental Rev-Exp \"&$H982&\"'!$B$1:$B$200\"),0)),IF($F982=\"PY\",MATCH(\"Prior Year Adjustments\",INDIRECT(\"'Dental Rev-Exp \"&$H982&\"'!$A$8:$CA$8\"),0),MATCH(IF($F982=\"Q1\",\"JANUARY - MARCH (Q1)\",IF($F982=\"Q2\",\"APRIL - JUNE (Q2)\",IF($F982=\"Q3\",\"JULY - SEPTEMBER (Q3)\",IF($F982=\"Q4\",\"OCTOBER - DECEMBER (Q4)\",0)))),INDIRECT(\"'Dental Rev-Exp \"&$H982&\"'!$A$7:$CA$7\"),0)+MATCH(N$1,INDIRECT(\"'Dental Rev-Exp \"&$H982&\"'!$D$8:$CA$8\"),0)-1)))","v":{"v":0,"d":"$0.00"}},{"v":0,"d":"$0.00"},{"v":0,"d":"$0.00"},{"v":0,"d":"$0.00"},{"v":0,"d":"$0.00"},{"v":0,"d":"$0.00"},"ASR-Dental_Financial_Report_SMMC_03.21.23","2023-03-21","Unaudited"]
["Dental","DEF","Default",1900,"1900-01-01","Q3","1900-09-30","Region 5","Operating Expense","Medical Expense","Dental Services","2.6","Dental Services Prosthodontics",{"v":0,"d":"$0.00"},{"v":0,"d":"$0.00"},{"v":0,"d":"$0.00"},{"v":0,"d":"$0.00"},{"v":0,"d":"$0.00"},{"v":0,"d":"$0.00"},"ASR-Dental_Financial_Report_SMMC_03.21.23","2023-03-21","Unaudited"]
["Dental","DEF","Default",1900,"1900-01-01","Q3","1900-09-30","Region 5","Operating Expense","Medical Expense","Dental Services","2.7","Dental Services Prosthodontics, fixed",{"v":0,"d":"$0.00"},{"v":0,"d":"$0.00"},{"v":0,"d":"$0.00"},{"v":0,"d":"$0.00"},{"v":0,"d":"$0.00"},{"v":0,"d":"$0.00"},"ASR-Dental_Financial_Report_SMMC_03.21.23","2023-03-21","Unaudited"]
["Dental","DEF","Default",1900,"1900-01-01","Q3","1900-09-30","Region 5","Operating Expense","Medical Expense","Dental Services","2.8","Dental Services Oral and Maxillofacial Surgery",{"v":0,"d":"$0.00"},{"v":0,"d":"$0.00"},{"v":0,"d":"$0.00"},{"v":0,"d":"$0.00"},{"v":0,"d":"$0.00"},{"v":0,"d":"$0.00"},"ASR-Dental_Financial_Report_SMMC_03.21.23","2023-03-21","Unaudited"]
["Dental","DEF","Default",1900,"1900-01-01","Q3","1900-09-30","Region 5","Operating Expense","Medical Expense","Dental Services","2.9","Dental Services Orthodontics",{"v":0,"d":"$0.00"},{"v":0,"d":"$0.00"},{"v":0,"d":"$0.00"},{"v":0,"d":"$0.00"},{"v":0,"d":"$0.00"},{"v":0,"d":"$0.00"},"ASR-Dental_Financial_Report_SMMC_03.21.23","2023-03-21","Unaudited"]
["Dental","DEF","Default",1900,"1900-01-01","Q3","1900-09-30","Region 5","Operating Expense","Medical Expense","Dental Services","2.10","Dental Services Adjunctive General Services",{"v":0,"d":"$0.00"},{"v":0,"d":"$0.00"},{"v":0,"d":"$0.00"},{"v":0,"d":"$0.00"},{"v":0,"d":"$0.00"},{"v":0,"d":"$0.00"},"ASR-Dental_Financial_Report_SMMC_03.21.23","2023-03-21","Unaudited"]
["Dental","DEF","Default",1900,"1900-01-01","Q3","1900-09-30","Region 5","Operating Expense","Medical Expense","Dental Services","2.11","Dental Services Other",{"v":0,"d":"$0.00"},{"v":0,"d":"$0.00"},{"v":0,"d":"$0.00"},{"v":0,"d":"$0.00"},{"v":0,"d":"$0.00"},{"v":0,"d":"$0.00"},"ASR-Dental_Financial_Report_SMMC_03.21.23","2023-03-21","Unaudited"]
["Dental","DEF","Default",1900,"1900-01-01","Q3","1900-09-30","Region 5","Operating Expense","Medical Expense","Expanded Benefits","2.12","Dental Expanded Benefits",{"v":0,"d":"$0.00"},{"v":0,"d":"$0.00"},{"v":0,"d":"$0.00"},{"v":0,"d":"$0.00"},{"v":0,"d":"$0.00"},{"v":0,"d":"$0.00"},"ASR-Dental_Financial_Report_SMMC_03.21.23","2023-03-21","Unaudited"]
["Dental","DEF","Default",1900,"1900-01-01","Q3","1900-09-30","Region 5","Operating Expense","Medical Expense","Dental Services","2.13","Dental Services Paid through Subcapitation",{"v":0,"d":"$0.00"},{"v":0,"d":"$0.00"},{"v":0,"d":"$0.00"},{"v":0,"d":"$0.00"},{"v":0,"d":"$0.00"},{"v":0,"d":"$0.00"},"ASR-Dental_Financial_Report_SMMC_03.21.23","2023-03-21","Unaudited"]
["Dental","DEF","Default",1900,"1900-01-01","Q3","1900-09-30","Region 5","Operating Expense","Medical Expense","Dental Services","2.14","Ending IBNP for Dental Services",{"v":0,"d":"$0.00"},{"v":0,"d":"$0.00"},{"v":0,"d":"$0.00"},{"v":0,"d":"$0.00"},{"v":0,"d":"$0.00"},{"v":0,"d":"$0.00"},"ASR-Dental_Financial_Report_SMMC_03.21.23","2023-03-21","Unaudited"]
["Dental","DEF","Default",1900,"1900-01-01","Q3","1900-09-30","Region 5","Operating Expense","Medical Expense","Dental Services","2.15","Dental Settlements/AP",{"$f":"IF(OR(AND($F992=\"PY\",N$1<>\"Prior Year\"),AND($F992<>\"PY\",N$1=\"Prior Year\")),0,INDEX(INDIRECT(\"'Dental Rev-Exp \"&$H992&\"'!$A$1:$CA$200\"),IF($J992=\"Member Months\",MATCH($J992,INDIRECT(\"'Dental Rev-Exp \"&$H992&\"'!$A$1:$A$200\"),0),MATCH($L992,INDIRECT(\"'Dental Rev-Exp \"&$H992&\"'!$B$1:$B$200\"),0)),IF($F992=\"PY\",MATCH(\"Prior Year Adjustments\",INDIRECT(\"'Dental Rev-Exp \"&$H992&\"'!$A$8:$CA$8\"),0),MATCH(IF($F992=\"Q1\",\"JANUARY - MARCH (Q1)\",IF($F992=\"Q2\",\"APRIL - JUNE (Q2)\",IF($F992=\"Q3\",\"JULY - SEPTEMBER (Q3)\",IF($F992=\"Q4\",\"OCTOBER - DECEMBER (Q4)\",0)))),INDIRECT(\"'Dental Rev-Exp \"&$H992&\"'!$A$7:$CA$7\"),0)+MATCH(N$1,INDIRECT(\"'Dental Rev-Exp \"&$H992&\"'!$D$8:$CA$8\"),0)-1)))","v":{"v":0,"d":"$0.00"}},{"v":0,"d":"$0.00"},{"v":0,"d":"$0.00"},{"v":0,"d":"$0.00"},{"v":0,"d":"$0.00"},{"v":0,"d":"$0.00"},"ASR-Dental_Financial_Report_SMMC_03.21.23","2023-03-21","Unaudited"]
["Dental","DEF","Default",1900,"1900-01-01","Q3","1900-09-30","Region 5","Operating Expense","Medical Expense","Other Medical","3.5","TPL & Fraud/Abuse Recoveries",{"v":0,"d":"$0.00"},{"v":0,"d":"$0.00"},{"v":0,"d":"$0.00"},{"v":0,"d":"$0.00"},{"v":0,"d":"$0.00"},{"v":0,"d":"$0.00"},"ASR-Dental_Financial_Report_SMMC_03.21.23","2023-03-21","Unaudited"]
["Dental","DEF","Default",1900,"1900-01-01","Q3","1900-09-30","Region 5","Operating Expense","Medical Expense","Other Medical",3.6,"Premium Deficiency Reserve",{"v":0,"d":"$0.00"},{"v":0,"d":"$0.00"},{"v":0,"d":"$0.00"},{"v":0,"d":"$0.00"},{"v":0,"d":"$0.00"},{"v":0,"d":"$0.00"},"ASR-Dental_Financial_Report_SMMC_03.21.23","2023-03-21","Unaudited"]
["Dental","DEF","Default",1900,"1900-01-01","Q3","1900-09-30","Region 5","Operating Expense","Medical Expense","Other Medical","3.8","Reinsurance Premiums",{"v":0,"d":"$0.00"},{"v":0,"d":"$0.00"},{"v":0,"d":"$0.00"},{"v":0,"d":"$0.00"},{"v":0,"d":"$0.00"},{"v":0,"d":"$0.00"},"ASR-Dental_Financial_Report_SMMC_03.21.23","2023-03-21","Unaudited"]
["Dental","DEF","Default",1900,"1900-01-01","Q3","1900-09-30","Region 5","Operating Expense","Medical Expense","Other Medical","3.9","Reinsurance Recoveries",{"v":0,"d":"$0.00"},{"v":0,"d":"$0.00"},{"v":0,"d":"$0.00"},{"v":0,"d":"$0.00"},{"v":0,"d":"$0.00"},{"v":0,"d":"$0.00"},"ASR-Dental_Financial_Report_SMMC_03.21.23","2023-03-21","Unaudited"]
["Dental","DEF","Default",1900,"1900-01-01","Q3","1900-09-30","Region 5","Operating Expense","Administrative Expense","Administrative","4.1","Salaries & Benefits",{"v":0,"d":"$0.00"},{"v":0,"d":"$0.00"},{"v":0,"d":"$0.00"},{"v":0,"d":"$0.00"},{"v":0,"d":"$0.00"},{"v":0,"d":"$0.00"},"ASR-Dental_Financial_Report_SMMC_03.21.23","2023-03-21","Unaudited"]
["Dental","DEF","Default",1900,"1900-01-01","Q3","1900-09-30","Region 5","Operating Expense","Administrative Expense","Administrative","4.2","Administrative Services",{"v":0,"d":"$0.00"},{"v":0,"d":"$0.00"},{"v":0,"d":"$0.00"},{"v":0,"d":"$0.00"},{"v":0,"d":"$0.00"},{"v":0,"d":"$0.00"},"ASR-Dental_Financial_Report_SMMC_03.21.23","2023-03-21","Unaudited"]
["Dental","DEF","Default",1900,"1900-01-01","Q3","1900-09-30","Region 5","Operating Expense","Administrative Expense","Administrative","4.3","Information Systems",{"v":0,"d":"$0.00"},{"v":0,"d":"$0.00"},{"v":0,"d":"$0.00"},{"v":0,"d":"$0.00"},{"v":0,"d":"$0.00"},{"v":0,"d":"$0.00"},"ASR-Dental_Financial_Report_SMMC_03.21.23","2023-03-21","Unaudited"]
["Dental","DEF","Default",1900,"1900-01-01","Q3","1900-09-30","Region 5","Operating Expense","Administrative Expense","Administrative","4.4","Marketing Expenses",{"v":0,"d":"$0.00"},{"v":0,"d":"$0.00"},{"v":0,"d":"$0.00"},{"v":0,"d":"$0.00"},{"v":0,"d":"$0.00"},{"v":0,"d":"$0.00"},"ASR-Dental_Financial_Report_SMMC_03.21.23","2023-03-21","Unaudited"]
["Dental","DEF","Default",1900,"1900-01-01","Q3","1900-09-30","Region 5","Operating Expense","Administrative Expense","Administrative","4.5","General  Administration",{"v":0,"d":"$0.00"},{"v":0,"d":"$0.00"},{"v":0,"d":"$0.00"},{"v":0,"d":"$0.00"},{"v":0,"d":"$0.00"},{"v":0,"d":"$0.00"},"ASR-Dental_Financial_Report_SMMC_03.21.23","2023-03-21","Unaudited"]
["Dental","DEF","Default",1900,"1900-01-01","Q3","1900-09-30","Region 5","Operating Expense","Administrative Expense","Administrative","4.6","Compliance/Regulatory",{"$f":"IF(OR(AND($F1002=\"PY\",N$1<>\"Prior Year\"),AND($F1002<>\"PY\",N$1=\"Prior Year\")),0,INDEX(INDIRECT(\"'Dental Rev-Exp \"&$H1002&\"'!$A$1:$CA$200\"),IF($J1002=\"Member Months\",MATCH($J1002,INDIRECT(\"'Dental Rev-Exp \"&$H1002&\"'!$A$1:$A$200\"),0),MATCH($L1002,INDIRECT(\"'Dental Rev-Exp \"&$H1002&\"'!$B$1:$B$200\"),0)),IF($F1002=\"PY\",MATCH(\"Prior Year Adjustments\",INDIRECT(\"'Dental Rev-Exp \"&$H1002&\"'!$A$8:$CA$8\"),0),MATCH(IF($F1002=\"Q1\",\"JANUARY - MARCH (Q1)\",IF($F1002=\"Q2\",\"APRIL - JUNE (Q2)\",IF($F1002=\"Q3\",\"JULY - SEPTEMBER (Q3)\",IF($F1002=\"Q4\",\"OCTOBER - DECEMBER (Q4)\",0)))),INDIRECT(\"'Dental Rev-Exp \"&$H1002&\"'!$A$7:$CA$7\"),0)+MATCH(N$1,INDIRECT(\"'Dental Rev-Exp \"&$H1002&\"'!$D$8:$CA$8\"),0)-1)))","v":{"v":0,"d":"$0.00"}},{"v":0,"d":"$0.00"},{"v":0,"d":"$0.00"},{"v":0,"d":"$0.00"},{"v":0,"d":"$0.00"},{"v":0,"d":"$0.00"},"ASR-Dental_Financial_Report_SMMC_03.21.23","2023-03-21","Unaudited"]
["Dental","DEF","Default",1900,"1900-01-01","Q3","1900-09-30","Region 5","Operating Expense","Taxes & Fees","Taxes & Fees","5.1","State Premium tax",{"v":0,"d":"$0.00"},{"v":0,"d":"$0.00"},{"v":0,"d":"$0.00"},{"v":0,"d":"$0.00"},{"v":0,"d":"$0.00"},{"v":0,"d":"$0.00"},"ASR-Dental_Financial_Report_SMMC_03.21.23","2023-03-21","Unaudited"]
["Dental","DEF","Default",1900,"1900-01-01","Q3","1900-09-30","Region 5","Operating Expense","Taxes & Fees","Taxes & Fees","5.2","Department of Insurance Assessments",{"v":0,"d":"$0.00"},{"v":0,"d":"$0.00"},{"v":0,"d":"$0.00"},{"v":0,"d":"$0.00"},{"v":0,"d":"$0.00"},{"v":0,"d":"$0.00"},"ASR-Dental_Financial_Report_SMMC_03.21.23","2023-03-21","Unaudited"]
["Dental","DEF","Default",1900,"1900-01-01","Q3","1900-09-30","Region 5","Operating Expense","Taxes & Fees","Taxes & Fees","5.3","Section 9010 Health Insurance Providers Fee",{"v":0,"d":"$0.00"},{"v":0,"d":"$0.00"},{"v":0,"d":"$0.00"},{"v":0,"d":"$0.00"},{"v":0,"d":"$0.00"},{"v":0,"d":"$0.00"},"ASR-Dental_Financial_Report_SMMC_03.21.23","2023-03-21","Unaudited"]
["Dental","DEF","Default",1900,"1900-01-01","Q3","1900-09-30","Region 5","Operating Expense","Taxes & Fees","Taxes & Fees","5.4","Other 1",{"v":0,"d":"$0.00"},{"v":0,"d":"$0.00"},{"v":0,"d":"$0.00"},{"v":0,"d":"$0.00"},{"v":0,"d":"$0.00"},{"v":0,"d":"$0.00"},"ASR-Dental_Financial_Report_SMMC_03.21.23","2023-03-21","Unaudited"]
["Dental","DEF","Default",1900,"1900-01-01","Q3","1900-09-30","Region 5","Operating Expense","Taxes & Fees","Taxes & Fees","5.5","Other 2",{"v":0,"d":"$0.00"},{"v":0,"d":"$0.00"},{"v":0,"d":"$0.00"},{"v":0,"d":"$0.00"},{"v":0,"d":"$0.00"},{"v":0,"d":"$0.00"},"ASR-Dental_Financial_Report_SMMC_03.21.23","2023-03-21","Unaudited"]
["Dental","DEF","Default",1900,"1900-01-01","Q3","1900-09-30","Region 5","Operating Expense","Taxes & Fees","Taxes & Fees","5.6","Other 3",{"v":0,"d":"$0.00"},{"v":0,"d":"$0.00"},{"v":0,"d":"$0.00"},{"v":0,"d":"$0.00"},{"v":0,"d":"$0.00"},{"v":0,"d":"$0.00"},"ASR-Dental_Financial_Report_SMMC_03.21.23","2023-03-21","Unaudited"]
["Dental","DEF","Default",1900,"1900-01-01","Q3","1900-09-30","Region 5","Non-Operating Expense","Income Tax Expense","Income Tax Expense","8.0","Income Tax Expense",{"v":0,"d":"$0.00"},{"v":0,"d":"$0.00"},{"v":0,"d":"$0.00"},{"v":0,"d":"$0.00"},{"v":0,"d":"$0.00"},{"v":0,"d":"$0.00"},"ASR-Dental_Financial_Report_SMMC_03.21.23","2023-03-21","Unaudited"]
["Dental","DEF","Default",1900,"1900-01-01","Q4","1900-12-31","Region 5","Member Months","Member Months","Member Months",null,"Member Months",{"v":0,"d":"$0.00"},{"v":0,"d":"$0.00"},{"v":0,"d":"$0.00"},{"v":0,"d":"$0.00"},{"v":0,"d":"$0.00"},{"v":0,"d":"$0.00"},"ASR-Dental_Financial_Report_SMMC_03.21.23","2023-03-21","Unaudited"]
["Dental","DEF","Default",1900,"1900-01-01","Q4","1900-12-31","Region 5","Operating Revenue","Capitation","Capitation","1.1","Capitation",{"v":0,"d":"$0.00"},{"v":0,"d":"$0.00"},{"v":0,"d":"$0.00"},{"v":0,"d":"$0.00"},{"v":0,"d":"$0.00"},{"v":0,"d":"$0.00"},"ASR-Dental_Financial_Report_SMMC_03.21.23","2023-03-21","Unaudited"]
["Dental","DEF","Default",1900,"1900-01-01","Q4","1900-12-31","Region 5","Operating Revenue","Other Revenue","Other Revenue - 9010","1.2","ACA § 9010 related payments",{"$f":"IF(OR(AND($F1012=\"PY\",N$1<>\"Prior Year\"),AND($F1012<>\"PY\",N$1=\"Prior Year\")),0,INDEX(INDIRECT(\"'Dental Rev-Exp \"&$H1012&\"'!$A$1:$CA$200\"),IF($J1012=\"Member Months\",MATCH($J1012,INDIRECT(\"'Dental Rev-Exp \"&$H1012&\"'!$A$1:$A$200\"),0),MATCH($L1012,INDIRECT(\"'Dental Rev-Exp \"&$H1012&\"'!$B$1:$B$200\"),0)),IF($F1012=\"PY\",MATCH(\"Prior Year Adjustments\",INDIRECT(\"'Dental Rev-Exp \"&$H1012&\"'!$A$8:$CA$8\"),0),MATCH(IF($F1012=\"Q1\",\"JANUARY - MARCH (Q1)\",IF($F1012=\"Q2\",\"APRIL - JUNE (Q2)\",IF($F1012=\"Q3\",\"JULY - SEPTEMBER (Q3)\",IF($F1012=\"Q4\",\"OCTOBER - DECEMBER (Q4)\",0)))),INDIRECT(\"'Dental Rev-Exp \"&$H1012&\"'!$A$7:$CA$7\"),0)+MATCH(N$1,INDIRECT(\"'Dental Rev-Exp \"&$H1012&\"'!$D$8:$CA$8\"),0)-1)))","v":{"v":0,"d":"$0.00"}},{"v":0,"d":"$0.00"},{"v":0,"d":"$0.00"},{"v":0,"d":"$0.00"},{"v":0,"d":"$0.00"},{"v":0,"d":"$0.00"},"ASR-Dental_Financial_Report_SMMC_03.21.23","2023-03-21","Unaudited"]
["Dental","DEF","Default",1900,"1900-01-01","Q4","1900-12-31","Region 5","Operating Revenue","Other Revenue","Other Revenue","1.3","Other Revenue",{"v":0,"d":"$0.00"},{"v":0,"d":"$0.00"},{"v":0,"d":"$0.00"},{"v":0,"d":"$0.00"},{"v":0,"d":"$0.00"},{"v":0,"d":"$0.00"},"ASR-Dental_Financial_Report_SMMC_03.21.23","2023-03-21","Unaudited"]
["Dental","DEF","Default",1900,"1900-01-01","Q4","1900-12-31","Region 5","Operating Expense","Medical Expense","Dental Services","2.1","Dental Services Diagnostic",{"v":0,"d":"$0.00"},{"v":0,"d":"$0.00"},{"v":0,"d":"$0.00"},{"v":0,"d":"$0.00"},{"v":0,"d":"$0.00"},{"v":0,"d":"$0.00"},"ASR-Dental_Financial_Report_SMMC_03.21.23","2023-03-21","Unaudited"]
["Dental","DEF","Default",1900,"1900-01-01","Q4","1900-12-31","Region 5","Operating Expense","Medical Expense","Dental Services",2.2,"Dental Services Preventive",{"v":0,"d":"$0.00"},{"v":0,"d":"$0.00"},{"v":0,"d":"$0.00"},{"v":0,"d":"$0.00"},{"v":0,"d":"$0.00"},{"v":0,"d":"$0.00"},"ASR-Dental_Financial_Report_SMMC_03.21.23","2023-03-21","Unaudited"]
["Dental","DEF","Default",1900,"1900-01-01","Q4","1900-12-31","Region 5","Operating Expense","Medical Expense","Dental Services","2.3","Dental Services Restorative",{"v":0,"d":"$0.00"},{"v":0,"d":"$0.00"},{"v":0,"d":"$0.00"},{"v":0,"d":"$0.00"},{"v":0,"d":"$0.00"},{"v":0,"d":"$0.00"},"ASR-Dental_Financial_Report_SMMC_03.21.23","2023-03-21","Unaudited"]
["Dental","DEF","Default",1900,"1900-01-01","Q4","1900-12-31","Region 5","Operating Expense","Medical Expense","Dental Services","2.4","Dental Services Endodontics",{"v":0,"d":"$0.00"},{"v":0,"d":"$0.00"},{"v":0,"d":"$0.00"},{"v":0,"d":"$0.00"},{"v":0,"d":"$0.00"},{"v":0,"d":"$0.00"},"ASR-Dental_Financial_Report_SMMC_03.21.23","2023-03-21","Unaudited"]
["Dental","DEF","Default",1900,"1900-01-01","Q4","1900-12-31","Region 5","Operating Expense","Medical Expense","Dental Services","2.5","Dental Services Periodontics",{"v":0,"d":"$0.00"},{"v":0,"d":"$0.00"},{"v":0,"d":"$0.00"},{"v":0,"d":"$0.00"},{"v":0,"d":"$0.00"},{"v":0,"d":"$0.00"},"ASR-Dental_Financial_Report_SMMC_03.21.23","2023-03-21","Unaudited"]
["Dental","DEF","Default",1900,"1900-01-01","Q4","1900-12-31","Region 5","Operating Expense","Medical Expense","Dental Services","2.6","Dental Services Prosthodontics",{"v":0,"d":"$0.00"},{"v":0,"d":"$0.00"},{"v":0,"d":"$0.00"},{"v":0,"d":"$0.00"},{"v":0,"d":"$0.00"},{"v":0,"d":"$0.00"},"ASR-Dental_Financial_Report_SMMC_03.21.23","2023-03-21","Unaudited"]
["Dental","DEF","Default",1900,"1900-01-01","Q4","1900-12-31","Region 5","Operating Expense","Medical Expense","Dental Services","2.7","Dental Services Prosthodontics, fixed",{"v":0,"d":"$0.00"},{"v":0,"d":"$0.00"},{"v":0,"d":"$0.00"},{"v":0,"d":"$0.00"},{"v":0,"d":"$0.00"},{"v":0,"d":"$0.00"},"ASR-Dental_Financial_Report_SMMC_03.21.23","2023-03-21","Unaudited"]
["Dental","DEF","Default",1900,"1900-01-01","Q4","1900-12-31","Region 5","Operating Expense","Medical Expense","Dental Services","2.8","Dental Services Oral and Maxillofacial Surgery",{"v":0,"d":"$0.00"},{"v":0,"d":"$0.00"},{"v":0,"d":"$0.00"},{"v":0,"d":"$0.00"},{"v":0,"d":"$0.00"},{"v":0,"d":"$0.00"},"ASR-Dental_Financial_Report_SMMC_03.21.23","2023-03-21","Unaudited"]
["Dental","DEF","Default",1900,"1900-01-01","Q4","1900-12-31","Region 5","Operating Expense","Medical Expense","Dental Services","2.9","Dental Services Orthodontics",{"$f":"IF(OR(AND($F1022=\"PY\",N$1<>\"Prior Year\"),AND($F1022<>\"PY\",N$1=\"Prior Year\")),0,INDEX(INDIRECT(\"'Dental Rev-Exp \"&$H1022&\"'!$A$1:$CA$200\"),IF($J1022=\"Member Months\",MATCH($J1022,INDIRECT(\"'Dental Rev-Exp \"&$H1022&\"'!$A$1:$A$200\"),0),MATCH($L1022,INDIRECT(\"'Dental Rev-Exp \"&$H1022&\"'!$B$1:$B$200\"),0)),IF($F1022=\"PY\",MATCH(\"Prior Year Adjustments\",INDIRECT(\"'Dental Rev-Exp \"&$H1022&\"'!$A$8:$CA$8\"),0),MATCH(IF($F1022=\"Q1\",\"JANUARY - MARCH (Q1)\",IF($F1022=\"Q2\",\"APRIL - JUNE (Q2)\",IF($F1022=\"Q3\",\"JULY - SEPTEMBER (Q3)\",IF($F1022=\"Q4\",\"OCTOBER - DECEMBER (Q4)\",0)))),INDIRECT(\"'Dental Rev-Exp \"&$H1022&\"'!$A$7:$CA$7\"),0)+MATCH(N$1,INDIRECT(\"'Dental Rev-Exp \"&$H1022&\"'!$D$8:$CA$8\"),0)-1)))","v":{"v":0,"d":"$0.00"}},{"v":0,"d":"$0.00"},{"v":0,"d":"$0.00"},{"v":0,"d":"$0.00"},{"v":0,"d":"$0.00"},{"v":0,"d":"$0.00"},"ASR-Dental_Financial_Report_SMMC_03.21.23","2023-03-21","Unaudited"]
["Dental","DEF","Default",1900,"1900-01-01","Q4","1900-12-31","Region 5","Operating Expense","Medical Expense","Dental Services","2.10","Dental Services Adjunctive General Services",{"v":0,"d":"$0.00"},{"v":0,"d":"$0.00"},{"v":0,"d":"$0.00"},{"v":0,"d":"$0.00"},{"v":0,"d":"$0.00"},{"v":0,"d":"$0.00"},"ASR-Dental_Financial_Report_SMMC_03.21.23","2023-03-21","Unaudited"]
["Dental","DEF","Default",1900,"1900-01-01","Q4","1900-12-31","Region 5","Operating Expense","Medical Expense","Dental Services","2.11","Dental Services Other",{"v":0,"d":"$0.00"},{"v":0,"d":"$0.00"},{"v":0,"d":"$0.00"},{"v":0,"d":"$0.00"},{"v":0,"d":"$0.00"},{"v":0,"d":"$0.00"},"ASR-Dental_Financial_Report_SMMC_03.21.23","2023-03-21","Unaudited"]
["Dental","DEF","Default",1900,"1900-01-01","Q4","1900-12-31","Region 5","Operating Expense","Medical Expense","Expanded Benefits","2.12","Dental Expanded Benefits",{"v":0,"d":"$0.00"},{"v":0,"d":"$0.00"},{"v":0,"d":"$0.00"},{"v":0,"d":"$0.00"},{"v":0,"d":"$0.00"},{"v":0,"d":"$0.00"},"ASR-Dental_Financial_Report_SMMC_03.21.23","2023-03-21","Unaudited"]
["Dental","DEF","Default",1900,"1900-01-01","Q4","1900-12-31","Region 5","Operating Expense","Medical Expense","Dental Services","2.13","Dental Services Paid through Subcapitation",{"v":0,"d":"$0.00"},{"v":0,"d":"$0.00"},{"v":0,"d":"$0.00"},{"v":0,"d":"$0.00"},{"v":0,"d":"$0.00"},{"v":0,"d":"$0.00"},{"$f":"file_name","v":"ASR-Dental_Financial_Report_SMMC_03.21.23"},{"$f":"file_date","v":"2023-03-21"},{"$f":"status","v":"Unaudited"}]
["Dental","DEF","Default",1900,"1900-01-01","Q4","1900-12-31","Region 5","Operating Expense","Medical Expense","Dental Services","2.14","Ending IBNP for Dental Services",{"v":0,"d":"$0.00"},{"v":0,"d":"$0.00"},{"v":0,"d":"$0.00"},{"v":0,"d":"$0.00"},{"v":0,"d":"$0.00"},{"v":0,"d":"$0.00"},"ASR-Dental_Financial_Report_SMMC_03.21.23","2023-03-21","Unaudited"]
["Dental","DEF","Default",1900,"1900-01-01","Q4","1900-12-31","Region 5","Operating Expense","Medical Expense","Dental Services","2.15","Dental Settlements/AP",{"v":0,"d":"$0.00"},{"v":0,"d":"$0.00"},{"v":0,"d":"$0.00"},{"v":0,"d":"$0.00"},{"v":0,"d":"$0.00"},{"v":0,"d":"$0.00"},"ASR-Dental_Financial_Report_SMMC_03.21.23","2023-03-21","Unaudited"]
["Dental","DEF","Default",1900,"1900-01-01","Q4","1900-12-31","Region 5","Operating Expense","Medical Expense","Other Medical","3.5","TPL & Fraud/Abuse Recoveries",{"v":0,"d":"$0.00"},{"v":0,"d":"$0.00"},{"v":0,"d":"$0.00"},{"v":0,"d":"$0.00"},{"v":0,"d":"$0.00"},{"v":0,"d":"$0.00"},"ASR-Dental_Financial_Report_SMMC_03.21.23","2023-03-21","Unaudited"]
["Dental","DEF","Default",1900,"1900-01-01","Q4","1900-12-31","Region 5","Operating Expense","Medical Expense","Other Medical",3.6,"Premium Deficiency Reserve",{"v":0,"d":"$0.00"},{"v":0,"d":"$0.00"},{"v":0,"d":"$0.00"},{"v":0,"d":"$0.00"},{"v":0,"d":"$0.00"},{"v":0,"d":"$0.00"},"ASR-Dental_Financial_Report_SMMC_03.21.23","2023-03-21","Unaudited"]
["Dental","DEF","Default",1900,"1900-01-01","Q4","1900-12-31","Region 5","Operating Expense","Medical Expense","Other Medical","3.8","Reinsurance Premiums",{"v":0,"d":"$0.00"},{"v":0,"d":"$0.00"},{"v":0,"d":"$0.00"},{"v":0,"d":"$0.00"},{"v":0,"d":"$0.00"},{"v":0,"d":"$0.00"},"ASR-Dental_Financial_Report_SMMC_03.21.23","2023-03-21","Unaudited"]
["Dental","DEF","Default",1900,"1900-01-01","Q4","1900-12-31","Region 5","Operating Expense","Medical Expense","Other Medical","3.9","Reinsurance Recoveries",{"$f":"IF(OR(AND($F1032=\"PY\",N$1<>\"Prior Year\"),AND($F1032<>\"PY\",N$1=\"Prior Year\")),0,INDEX(INDIRECT(\"'Dental Rev-Exp \"&$H1032&\"'!$A$1:$CA$200\"),IF($J1032=\"Member Months\",MATCH($J1032,INDIRECT(\"'Dental Rev-Exp \"&$H1032&\"'!$A$1:$A$200\"),0),MATCH($L1032,INDIRECT(\"'Dental Rev-Exp \"&$H1032&\"'!$B$1:$B$200\"),0)),IF($F1032=\"PY\",MATCH(\"Prior Year Adjustments\",INDIRECT(\"'Dental Rev-Exp \"&$H1032&\"'!$A$8:$CA$8\"),0),MATCH(IF($F1032=\"Q1\",\"JANUARY - MARCH (Q1)\",IF($F1032=\"Q2\",\"APRIL - JUNE (Q2)\",IF($F1032=\"Q3\",\"JULY - SEPTEMBER (Q3)\",IF($F1032=\"Q4\",\"OCTOBER - DECEMBER (Q4)\",0)))),INDIRECT(\"'Dental Rev-Exp \"&$H1032&\"'!$A$7:$CA$7\"),0)+MATCH(N$1,INDIRECT(\"'Dental Rev-Exp \"&$H1032&\"'!$D$8:$CA$8\"),0)-1)))","v":{"v":0,"d":"$0.00"}},{"v":0,"d":"$0.00"},{"v":0,"d":"$0.00"},{"v":0,"d":"$0.00"},{"v":0,"d":"$0.00"},{"v":0,"d":"$0.00"},"ASR-Dental_Financial_Report_SMMC_03.21.23","2023-03-21","Unaudited"]
["Dental","DEF","Default",1900,"1900-01-01","Q4","1900-12-31","Region 5","Operating Expense","Administrative Expense","Administrative","4.1","Salaries & Benefits",{"v":0,"d":"$0.00"},{"v":0,"d":"$0.00"},{"v":0,"d":"$0.00"},{"v":0,"d":"$0.00"},{"v":0,"d":"$0.00"},{"v":0,"d":"$0.00"},"ASR-Dental_Financial_Report_SMMC_03.21.23","2023-03-21","Unaudited"]
["Dental","DEF","Default",1900,"1900-01-01","Q4","1900-12-31","Region 5","Operating Expense","Administrative Expense","Administrative","4.2","Administrative Services",{"v":0,"d":"$0.00"},{"v":0,"d":"$0.00"},{"v":0,"d":"$0.00"},{"v":0,"d":"$0.00"},{"v":0,"d":"$0.00"},{"v":0,"d":"$0.00"},"ASR-Dental_Financial_Report_SMMC_03.21.23","2023-03-21","Unaudited"]
["Dental","DEF","Default",1900,"1900-01-01","Q4","1900-12-31","Region 5","Operating Expense","Administrative Expense","Administrative","4.3","Information Systems",{"v":0,"d":"$0.00"},{"v":0,"d":"$0.00"},{"v":0,"d":"$0.00"},{"v":0,"d":"$0.00"},{"v":0,"d":"$0.00"},{"v":0,"d":"$0.00"},"ASR-Dental_Financial_Report_SMMC_03.21.23","2023-03-21","Unaudited"]
["Dental","DEF","Default",1900,"1900-01-01","Q4","1900-12-31","Region 5","Operating Expense","Administrative Expense","Administrative","4.4","Marketing Expenses",{"v":0,"d":"$0.00"},{"v":0,"d":"$0.00"},{"v":0,"d":"$0.00"},{"v":0,"d":"$0.00"},{"v":0,"d":"$0.00"},{"v":0,"d":"$0.00"},"ASR-Dental_Financial_Report_SMMC_03.21.23","2023-03-21","Unaudited"]
["Dental","DEF","Default",1900,"1900-01-01","Q4","1900-12-31","Region 5","Operating Expense","Administrative Expense","Administrative","4.5","General  Administration",{"v":0,"d":"$0.00"},{"v":0,"d":"$0.00"},{"v":0,"d":"$0.00"},{"v":0,"d":"$0.00"},{"v":0,"d":"$0.00"},{"v":0,"d":"$0.00"},"ASR-Dental_Financial_Report_SMMC_03.21.23","2023-03-21","Unaudited"]
["Dental","DEF","Default",1900,"1900-01-01","Q4","1900-12-31","Region 5","Operating Expense","Administrative Expense","Administrative","4.6","Compliance/Regulatory",{"v":0,"d":"$0.00"},{"v":0,"d":"$0.00"},{"v":0,"d":"$0.00"},{"v":0,"d":"$0.00"},{"v":0,"d":"$0.00"},{"v":0,"d":"$0.00"},"ASR-Dental_Financial_Report_SMMC_03.21.23","2023-03-21","Unaudited"]
["Dental","DEF","Default",1900,"1900-01-01","Q4","1900-12-31","Region 5","Operating Expense","Taxes & Fees","Taxes & Fees","5.1","State Premium tax",{"v":0,"d":"$0.00"},{"v":0,"d":"$0.00"},{"v":0,"d":"$0.00"},{"v":0,"d":"$0.00"},{"v":0,"d":"$0.00"},{"v":0,"d":"$0.00"},"ASR-Dental_Financial_Report_SMMC_03.21.23","2023-03-21","Unaudited"]
["Dental","DEF","Default",1900,"1900-01-01","Q4","1900-12-31","Region 5","Operating Expense","Taxes & Fees","Taxes & Fees","5.2","Department of Insurance Assessments",{"v":0,"d":"$0.00"},{"v":0,"d":"$0.00"},{"v":0,"d":"$0.00"},{"v":0,"d":"$0.00"},{"v":0,"d":"$0.00"},{"v":0,"d":"$0.00"},"ASR-Dental_Financial_Report_SMMC_03.21.23","2023-03-21","Unaudited"]
["Dental","DEF","Default",1900,"1900-01-01","Q4","1900-12-31","Region 5","Operating Expense","Taxes & Fees","Taxes & Fees","5.3","Section 9010 Health Insurance Providers Fee",{"v":0,"d":"$0.00"},{"v":0,"d":"$0.00"},{"v":0,"d":"$0.00"},{"v":0,"d":"$0.00"},{"v":0,"d":"$0.00"},{"v":0,"d":"$0.00"},"ASR-Dental_Financial_Report_SMMC_03.21.23","2023-03-21","Unaudited"]
["Dental","DEF","Default",1900,"1900-01-01","Q4","1900-12-31","Region 5","Operating Expense","Taxes & Fees","Taxes & Fees","5.4","Other 1",{"$f":"IF(OR(AND($F1042=\"PY\",N$1<>\"Prior Year\"),AND($F1042<>\"PY\",N$1=\"Prior Year\")),0,INDEX(INDIRECT(\"'Dental Rev-Exp \"&$H1042&\"'!$A$1:$CA$200\"),IF($J1042=\"Member Months\",MATCH($J1042,INDIRECT(\"'Dental Rev-Exp \"&$H1042&\"'!$A$1:$A$200\"),0),MATCH($L1042,INDIRECT(\"'Dental Rev-Exp \"&$H1042&\"'!$B$1:$B$200\"),0)),IF($F1042=\"PY\",MATCH(\"Prior Year Adjustments\",INDIRECT(\"'Dental Rev-Exp \"&$H1042&\"'!$A$8:$CA$8\"),0),MATCH(IF($F1042=\"Q1\",\"JANUARY - MARCH (Q1)\",IF($F1042=\"Q2\",\"APRIL - JUNE (Q2)\",IF($F1042=\"Q3\",\"JULY - SEPTEMBER (Q3)\",IF($F1042=\"Q4\",\"OCTOBER - DECEMBER (Q4)\",0)))),INDIRECT(\"'Dental Rev-Exp \"&$H1042&\"'!$A$7:$CA$7\"),0)+MATCH(N$1,INDIRECT(\"'Dental Rev-Exp \"&$H1042&\"'!$D$8:$CA$8\"),0)-1)))","v":{"v":0,"d":"$0.00"}},{"v":0,"d":"$0.00"},{"v":0,"d":"$0.00"},{"v":0,"d":"$0.00"},{"v":0,"d":"$0.00"},{"v":0,"d":"$0.00"},"ASR-Dental_Financial_Report_SMMC_03.21.23","2023-03-21","Unaudited"]
["Dental","DEF","Default",1900,"1900-01-01","Q4","1900-12-31","Region 5","Operating Expense","Taxes & Fees","Taxes & Fees","5.5","Other 2",{"v":0,"d":"$0.00"},{"v":0,"d":"$0.00"},{"v":0,"d":"$0.00"},{"v":0,"d":"$0.00"},{"v":0,"d":"$0.00"},{"v":0,"d":"$0.00"},"ASR-Dental_Financial_Report_SMMC_03.21.23","2023-03-21","Unaudited"]
["Dental","DEF","Default",1900,"1900-01-01","Q4","1900-12-31","Region 5","Operating Expense","Taxes & Fees","Taxes & Fees","5.6","Other 3",{"v":0,"d":"$0.00"},{"v":0,"d":"$0.00"},{"v":0,"d":"$0.00"},{"v":0,"d":"$0.00"},{"v":0,"d":"$0.00"},{"v":0,"d":"$0.00"},"ASR-Dental_Financial_Report_SMMC_03.21.23","2023-03-21","Unaudited"]
["Dental","DEF","Default",1900,"1900-01-01","Q4","1900-12-31","Region 5","Non-Operating Expense","Income Tax Expense","Income Tax Expense","8.0","Income Tax Expense",{"v":0,"d":"$0.00"},{"v":0,"d":"$0.00"},{"v":0,"d":"$0.00"},{"v":0,"d":"$0.00"},{"v":0,"d":"$0.00"},{"v":0,"d":"$0.00"},"ASR-Dental_Financial_Report_SMMC_03.21.23","2023-03-21","Unaudited"]
["Dental","DEF","Default",1900,"1900-01-01","PY","1/1/1800","Region 5","Member Months","Member Months","Member Months",null,"Member Months",{"v":0,"d":"$0.00"},{"v":0,"d":"$0.00"},{"v":0,"d":"$0.00"},{"v":0,"d":"$0.00"},{"v":0,"d":"$0.00"},{"v":0,"d":"$0.00"},"ASR-Dental_Financial_Report_SMMC_03.21.23","2023-03-21","Unaudited"]
["Dental","DEF","Default",1900,"1900-01-01","PY","1/1/1800","Region 5","Operating Revenue","Capitation","Capitation","1.1","Capitation",{"v":0,"d":"$0.00"},{"v":0,"d":"$0.00"},{"v":0,"d":"$0.00"},{"v":0,"d":"$0.00"},{"v":0,"d":"$0.00"},{"v":0,"d":"$0.00"},"ASR-Dental_Financial_Report_SMMC_03.21.23","2023-03-21","Unaudited"]
["Dental","DEF","Default",1900,"1900-01-01","PY","1/1/1800","Region 5","Operating Revenue","Other Revenue","Other Revenue - 9010","1.2","ACA § 9010 related payments",{"v":0,"d":"$0.00"},{"v":0,"d":"$0.00"},{"v":0,"d":"$0.00"},{"v":0,"d":"$0.00"},{"v":0,"d":"$0.00"},{"v":0,"d":"$0.00"},"ASR-Dental_Financial_Report_SMMC_03.21.23","2023-03-21","Unaudited"]
["Dental","DEF","Default",1900,"1900-01-01","PY","1/1/1800","Region 5","Operating Revenue","Other Revenue","Other Revenue","1.3","Other Revenue",{"v":0,"d":"$0.00"},{"v":0,"d":"$0.00"},{"v":0,"d":"$0.00"},{"v":0,"d":"$0.00"},{"v":0,"d":"$0.00"},{"v":0,"d":"$0.00"},"ASR-Dental_Financial_Report_SMMC_03.21.23","2023-03-21","Unaudited"]
["Dental","DEF","Default",1900,"1900-01-01","PY","1/1/1800","Region 5","Operating Expense","Medical Expense","Dental Services","2.1","Dental Services Diagnostic",{"v":0,"d":"$0.00"},{"v":0,"d":"$0.00"},{"v":0,"d":"$0.00"},{"v":0,"d":"$0.00"},{"v":0,"d":"$0.00"},{"v":0,"d":"$0.00"},"ASR-Dental_Financial_Report_SMMC_03.21.23","2023-03-21","Unaudited"]
["Dental","DEF","Default",1900,"1900-01-01","PY","1/1/1800","Region 5","Operating Expense","Medical Expense","Dental Services",2.2,"Dental Services Preventive",{"v":0,"d":"$0.00"},{"v":0,"d":"$0.00"},{"v":0,"d":"$0.00"},{"v":0,"d":"$0.00"},{"v":0,"d":"$0.00"},{"v":0,"d":"$0.00"},"ASR-Dental_Financial_Report_SMMC_03.21.23","2023-03-21","Unaudited"]
["Dental","DEF","Default",1900,"1900-01-01","PY","1/1/1800","Region 5","Operating Expense","Medical Expense","Dental Services","2.3","Dental Services Restorative",{"$f":"IF(OR(AND($F1052=\"PY\",N$1<>\"Prior Year\"),AND($F1052<>\"PY\",N$1=\"Prior Year\")),0,INDEX(INDIRECT(\"'Dental Rev-Exp \"&$H1052&\"'!$A$1:$CA$200\"),IF($J1052=\"Member Months\",MATCH($J1052,INDIRECT(\"'Dental Rev-Exp \"&$H1052&\"'!$A$1:$A$200\"),0),MATCH($L1052,INDIRECT(\"'Dental Rev-Exp \"&$H1052&\"'!$B$1:$B$200\"),0)),IF($F1052=\"PY\",MATCH(\"Prior Year Adjustments\",INDIRECT(\"'Dental Rev-Exp \"&$H1052&\"'!$A$8:$CA$8\"),0),MATCH(IF($F1052=\"Q1\",\"JANUARY - MARCH (Q1)\",IF($F1052=\"Q2\",\"APRIL - JUNE (Q2)\",IF($F1052=\"Q3\",\"JULY - SEPTEMBER (Q3)\",IF($F1052=\"Q4\",\"OCTOBER - DECEMBER (Q4)\",0)))),INDIRECT(\"'Dental Rev-Exp \"&$H1052&\"'!$A$7:$CA$7\"),0)+MATCH(N$1,INDIRECT(\"'Dental Rev-Exp \"&$H1052&\"'!$D$8:$CA$8\"),0)-1)))","v":{"v":0,"d":"$0.00"}},{"v":0,"d":"$0.00"},{"v":0,"d":"$0.00"},{"v":0,"d":"$0.00"},{"v":0,"d":"$0.00"},{"v":0,"d":"$0.00"},"ASR-Dental_Financial_Report_SMMC_03.21.23","2023-03-21","Unaudited"]
["Dental","DEF","Default",1900,"1900-01-01","PY","1/1/1800","Region 5","Operating Expense","Medical Expense","Dental Services","2.4","Dental Services Endodontics",{"v":0,"d":"$0.00"},{"v":0,"d":"$0.00"},{"v":0,"d":"$0.00"},{"v":0,"d":"$0.00"},{"v":0,"d":"$0.00"},{"v":0,"d":"$0.00"},"ASR-Dental_Financial_Report_SMMC_03.21.23","2023-03-21","Unaudited"]
["Dental","DEF","Default",1900,"1900-01-01","PY","1/1/1800","Region 5","Operating Expense","Medical Expense","Dental Services","2.5","Dental Services Periodontics",{"v":0,"d":"$0.00"},{"v":0,"d":"$0.00"},{"v":0,"d":"$0.00"},{"v":0,"d":"$0.00"},{"v":0,"d":"$0.00"},{"v":0,"d":"$0.00"},"ASR-Dental_Financial_Report_SMMC_03.21.23","2023-03-21","Unaudited"]
["Dental","DEF","Default",1900,"1900-01-01","PY","1/1/1800","Region 5","Operating Expense","Medical Expense","Dental Services","2.6","Dental Services Prosthodontics",{"v":0,"d":"$0.00"},{"v":0,"d":"$0.00"},{"v":0,"d":"$0.00"},{"v":0,"d":"$0.00"},{"v":0,"d":"$0.00"},{"v":0,"d":"$0.00"},"ASR-Dental_Financial_Report_SMMC_03.21.23","2023-03-21","Unaudited"]
["Dental","DEF","Default",1900,"1900-01-01","PY","1/1/1800","Region 5","Operating Expense","Medical Expense","Dental Services","2.7","Dental Services Prosthodontics, fixed",{"v":0,"d":"$0.00"},{"v":0,"d":"$0.00"},{"v":0,"d":"$0.00"},{"v":0,"d":"$0.00"},{"v":0,"d":"$0.00"},{"v":0,"d":"$0.00"},"ASR-Dental_Financial_Report_SMMC_03.21.23","2023-03-21","Unaudited"]
["Dental","DEF","Default",1900,"1900-01-01","PY","1/1/1800","Region 5","Operating Expense","Medical Expense","Dental Services","2.8","Dental Services Oral and Maxillofacial Surgery",{"v":0,"d":"$0.00"},{"v":0,"d":"$0.00"},{"v":0,"d":"$0.00"},{"v":0,"d":"$0.00"},{"v":0,"d":"$0.00"},{"v":0,"d":"$0.00"},"ASR-Dental_Financial_Report_SMMC_03.21.23","2023-03-21","Unaudited"]
["Dental","DEF","Default",1900,"1900-01-01","PY","1/1/1800","Region 5","Operating Expense","Medical Expense","Dental Services","2.9","Dental Services Orthodontics",{"v":0,"d":"$0.00"},{"v":0,"d":"$0.00"},{"v":0,"d":"$0.00"},{"v":0,"d":"$0.00"},{"v":0,"d":"$0.00"},{"v":0,"d":"$0.00"},"ASR-Dental_Financial_Report_SMMC_03.21.23","2023-03-21","Unaudited"]
["Dental","DEF","Default",1900,"1900-01-01","PY","1/1/1800","Region 5","Operating Expense","Medical Expense","Dental Services","2.10","Dental Services Adjunctive General Services",{"v":0,"d":"$0.00"},{"v":0,"d":"$0.00"},{"v":0,"d":"$0.00"},{"v":0,"d":"$0.00"},{"v":0,"d":"$0.00"},{"v":0,"d":"$0.00"},"ASR-Dental_Financial_Report_SMMC_03.21.23","2023-03-21","Unaudited"]
["Dental","DEF","Default",1900,"1900-01-01","PY","1/1/1800","Region 5","Operating Expense","Medical Expense","Dental Services","2.11","Dental Services Other",{"v":0,"d":"$0.00"},{"v":0,"d":"$0.00"},{"v":0,"d":"$0.00"},{"v":0,"d":"$0.00"},{"v":0,"d":"$0.00"},{"v":0,"d":"$0.00"},"ASR-Dental_Financial_Report_SMMC_03.21.23","2023-03-21","Unaudited"]
["Dental","DEF","Default",1900,"1900-01-01","PY","1/1/1800","Region 5","Operating Expense","Medical Expense","Expanded Benefits","2.12","Dental Expanded Benefits",{"v":0,"d":"$0.00"},{"v":0,"d":"$0.00"},{"v":0,"d":"$0.00"},{"v":0,"d":"$0.00"},{"v":0,"d":"$0.00"},{"v":0,"d":"$0.00"},"ASR-Dental_Financial_Report_SMMC_03.21.23","2023-03-21","Unaudited"]
["Dental","DEF","Default",1900,"1900-01-01","PY","1/1/1800","Region 5","Operating Expense","Medical Expense","Dental Services","2.13","Dental Services Paid through Subcapitation",{"$f":"IF(OR(AND($F1062=\"PY\",N$1<>\"Prior Year\"),AND($F1062<>\"PY\",N$1=\"Prior Year\")),0,INDEX(INDIRECT(\"'Dental Rev-Exp \"&$H1062&\"'!$A$1:$CA$200\"),IF($J1062=\"Member Months\",MATCH($J1062,INDIRECT(\"'Dental Rev-Exp \"&$H1062&\"'!$A$1:$A$200\"),0),MATCH($L1062,INDIRECT(\"'Dental Rev-Exp \"&$H1062&\"'!$B$1:$B$200\"),0)),IF($F1062=\"PY\",MATCH(\"Prior Year Adjustments\",INDIRECT(\"'Dental Rev-Exp \"&$H1062&\"'!$A$8:$CA$8\"),0),MATCH(IF($F1062=\"Q1\",\"JANUARY - MARCH (Q1)\",IF($F1062=\"Q2\",\"APRIL - JUNE (Q2)\",IF($F1062=\"Q3\",\"JULY - SEPTEMBER (Q3)\",IF($F1062=\"Q4\",\"OCTOBER - DECEMBER (Q4)\",0)))),INDIRECT(\"'Dental Rev-Exp \"&$H1062&\"'!$A$7:$CA$7\"),0)+MATCH(N$1,INDIRECT(\"'Dental Rev-Exp \"&$H1062&\"'!$D$8:$CA$8\"),0)-1)))","v":{"v":0,"d":"$0.00"}},{"v":0,"d":"$0.00"},{"v":0,"d":"$0.00"},{"v":0,"d":"$0.00"},{"v":0,"d":"$0.00"},{"v":0,"d":"$0.00"},"ASR-Dental_Financial_Report_SMMC_03.21.23","2023-03-21","Unaudited"]
["Dental","DEF","Default",1900,"1900-01-01","PY","1/1/1800","Region 5","Operating Expense","Medical Expense","Dental Services","2.14","Ending IBNP for Dental Services",{"v":0,"d":"$0.00"},{"v":0,"d":"$0.00"},{"v":0,"d":"$0.00"},{"v":0,"d":"$0.00"},{"v":0,"d":"$0.00"},{"v":0,"d":"$0.00"},"ASR-Dental_Financial_Report_SMMC_03.21.23","2023-03-21","Unaudited"]
["Dental","DEF","Default",1900,"1900-01-01","PY","1/1/1800","Region 5","Operating Expense","Medical Expense","Dental Services","2.15","Dental Settlements/AP",{"v":0,"d":"$0.00"},{"v":0,"d":"$0.00"},{"v":0,"d":"$0.00"},{"v":0,"d":"$0.00"},{"v":0,"d":"$0.00"},{"v":0,"d":"$0.00"},"ASR-Dental_Financial_Report_SMMC_03.21.23","2023-03-21","Unaudited"]
["Dental","DEF","Default",1900,"1900-01-01","PY","1/1/1800","Region 5","Operating Expense","Medical Expense","Other Medical","3.5","TPL & Fraud/Abuse Recoveries",{"v":0,"d":"$0.00"},{"v":0,"d":"$0.00"},{"v":0,"d":"$0.00"},{"v":0,"d":"$0.00"},{"v":0,"d":"$0.00"},{"v":0,"d":"$0.00"},"ASR-Dental_Financial_Report_SMMC_03.21.23","2023-03-21","Unaudited"]
["Dental","DEF","Default",1900,"1900-01-01","PY","1/1/1800","Region 5","Operating Expense","Medical Expense","Other Medical",3.6,"Premium Deficiency Reserve",{"v":0,"d":"$0.00"},{"v":0,"d":"$0.00"},{"v":0,"d":"$0.00"},{"v":0,"d":"$0.00"},{"v":0,"d":"$0.00"},{"v":0,"d":"$0.00"},"ASR-Dental_Financial_Report_SMMC_03.21.23","2023-03-21","Unaudited"]
["Dental","DEF","Default",1900,"1900-01-01","PY","1/1/1800","Region 5","Operating Expense","Medical Expense","Other Medical","3.8","Reinsurance Premiums",{"v":0,"d":"$0.00"},{"v":0,"d":"$0.00"},{"v":0,"d":"$0.00"},{"v":0,"d":"$0.00"},{"v":0,"d":"$0.00"},{"v":0,"d":"$0.00"},"ASR-Dental_Financial_Report_SMMC_03.21.23","2023-03-21","Unaudited"]
["Dental","DEF","Default",1900,"1900-01-01","PY","1/1/1800","Region 5","Operating Expense","Medical Expense","Other Medical","3.9","Reinsurance Recoveries",{"v":0,"d":"$0.00"},{"v":0,"d":"$0.00"},{"v":0,"d":"$0.00"},{"v":0,"d":"$0.00"},{"v":0,"d":"$0.00"},{"v":0,"d":"$0.00"},"ASR-Dental_Financial_Report_SMMC_03.21.23","2023-03-21","Unaudited"]
["Dental","DEF","Default",1900,"1900-01-01","PY","1/1/1800","Region 5","Operating Expense","Administrative Expense","Administrative","4.1","Salaries & Benefits",{"v":0,"d":"$0.00"},{"v":0,"d":"$0.00"},{"v":0,"d":"$0.00"},{"v":0,"d":"$0.00"},{"v":0,"d":"$0.00"},{"v":0,"d":"$0.00"},"ASR-Dental_Financial_Report_SMMC_03.21.23","2023-03-21","Unaudited"]
["Dental","DEF","Default",1900,"1900-01-01","PY","1/1/1800","Region 5","Operating Expense","Administrative Expense","Administrative","4.2","Administrative Services",{"v":0,"d":"$0.00"},{"v":0,"d":"$0.00"},{"v":0,"d":"$0.00"},{"v":0,"d":"$0.00"},{"v":0,"d":"$0.00"},{"v":0,"d":"$0.00"},"ASR-Dental_Financial_Report_SMMC_03.21.23","2023-03-21","Unaudited"]
["Dental","DEF","Default",1900,"1900-01-01","PY","1/1/1800","Region 5","Operating Expense","Administrative Expense","Administrative","4.3","Information Systems",{"v":0,"d":"$0.00"},{"v":0,"d":"$0.00"},{"v":0,"d":"$0.00"},{"v":0,"d":"$0.00"},{"v":0,"d":"$0.00"},{"v":0,"d":"$0.00"},"ASR-Dental_Financial_Report_SMMC_03.21.23","2023-03-21","Unaudited"]
["Dental","DEF","Default",1900,"1900-01-01","PY","1/1/1800","Region 5","Operating Expense","Administrative Expense","Administrative","4.4","Marketing Expenses",{"$f":"IF(OR(AND($F1072=\"PY\",N$1<>\"Prior Year\"),AND($F1072<>\"PY\",N$1=\"Prior Year\")),0,INDEX(INDIRECT(\"'Dental Rev-Exp \"&$H1072&\"'!$A$1:$CA$200\"),IF($J1072=\"Member Months\",MATCH($J1072,INDIRECT(\"'Dental Rev-Exp \"&$H1072&\"'!$A$1:$A$200\"),0),MATCH($L1072,INDIRECT(\"'Dental Rev-Exp \"&$H1072&\"'!$B$1:$B$200\"),0)),IF($F1072=\"PY\",MATCH(\"Prior Year Adjustments\",INDIRECT(\"'Dental Rev-Exp \"&$H1072&\"'!$A$8:$CA$8\"),0),MATCH(IF($F1072=\"Q1\",\"JANUARY - MARCH (Q1)\",IF($F1072=\"Q2\",\"APRIL - JUNE (Q2)\",IF($F1072=\"Q3\",\"JULY - SEPTEMBER (Q3)\",IF($F1072=\"Q4\",\"OCTOBER - DECEMBER (Q4)\",0)))),INDIRECT(\"'Dental Rev-Exp \"&$H1072&\"'!$A$7:$CA$7\"),0)+MATCH(N$1,INDIRECT(\"'Dental Rev-Exp \"&$H1072&\"'!$D$8:$CA$8\"),0)-1)))","v":{"v":0,"d":"$0.00"}},{"v":0,"d":"$0.00"},{"v":0,"d":"$0.00"},{"v":0,"d":"$0.00"},{"v":0,"d":"$0.00"},{"v":0,"d":"$0.00"},"ASR-Dental_Financial_Report_SMMC_03.21.23","2023-03-21","Unaudited"]
["Dental","DEF","Default",1900,"1900-01-01","PY","1/1/1800","Region 5","Operating Expense","Administrative Expense","Administrative","4.5","General  Administration",{"v":0,"d":"$0.00"},{"v":0,"d":"$0.00"},{"v":0,"d":"$0.00"},{"v":0,"d":"$0.00"},{"v":0,"d":"$0.00"},{"v":0,"d":"$0.00"},"ASR-Dental_Financial_Report_SMMC_03.21.23","2023-03-21","Unaudited"]
["Dental","DEF","Default",1900,"1900-01-01","PY","1/1/1800","Region 5","Operating Expense","Administrative Expense","Administrative","4.6","Compliance/Regulatory",{"v":0,"d":"$0.00"},{"v":0,"d":"$0.00"},{"v":0,"d":"$0.00"},{"v":0,"d":"$0.00"},{"v":0,"d":"$0.00"},{"v":0,"d":"$0.00"},"ASR-Dental_Financial_Report_SMMC_03.21.23","2023-03-21","Unaudited"]
["Dental","DEF","Default",1900,"1900-01-01","PY","1/1/1800","Region 5","Operating Expense","Taxes & Fees","Taxes & Fees","5.1","State Premium tax",{"v":0,"d":"$0.00"},{"v":0,"d":"$0.00"},{"v":0,"d":"$0.00"},{"v":0,"d":"$0.00"},{"v":0,"d":"$0.00"},{"v":0,"d":"$0.00"},"ASR-Dental_Financial_Report_SMMC_03.21.23","2023-03-21","Unaudited"]
["Dental","DEF","Default",1900,"1900-01-01","PY","1/1/1800","Region 5","Operating Expense","Taxes & Fees","Taxes & Fees","5.2","Department of Insurance Assessments",{"v":0,"d":"$0.00"},{"v":0,"d":"$0.00"},{"v":0,"d":"$0.00"},{"v":0,"d":"$0.00"},{"v":0,"d":"$0.00"},{"v":0,"d":"$0.00"},"ASR-Dental_Financial_Report_SMMC_03.21.23","2023-03-21","Unaudited"]
["Dental","DEF","Default",1900,"1900-01-01","PY","1/1/1800","Region 5","Operating Expense","Taxes & Fees","Taxes & Fees","5.3","Section 9010 Health Insurance Providers Fee",{"v":0,"d":"$0.00"},{"v":0,"d":"$0.00"},{"v":0,"d":"$0.00"},{"v":0,"d":"$0.00"},{"v":0,"d":"$0.00"},{"v":0,"d":"$0.00"},"ASR-Dental_Financial_Report_SMMC_03.21.23","2023-03-21","Unaudited"]
["Dental","DEF","Default",1900,"1900-01-01","PY","1/1/1800","Region 5","Operating Expense","Taxes & Fees","Taxes & Fees","5.4","Other 1",{"v":0,"d":"$0.00"},{"v":0,"d":"$0.00"},{"v":0,"d":"$0.00"},{"v":0,"d":"$0.00"},{"v":0,"d":"$0.00"},{"v":0,"d":"$0.00"},"ASR-Dental_Financial_Report_SMMC_03.21.23","2023-03-21","Unaudited"]
["Dental","DEF","Default",1900,"1900-01-01","PY","1/1/1800","Region 5","Operating Expense","Taxes & Fees","Taxes & Fees","5.5","Other 2",{"v":0,"d":"$0.00"},{"v":0,"d":"$0.00"},{"v":0,"d":"$0.00"},{"v":0,"d":"$0.00"},{"v":0,"d":"$0.00"},{"v":0,"d":"$0.00"},"ASR-Dental_Financial_Report_SMMC_03.21.23","2023-03-21","Unaudited"]
["Dental","DEF","Default",1900,"1900-01-01","PY","1/1/1800","Region 5","Operating Expense","Taxes & Fees","Taxes & Fees","5.6","Other 3",{"v":0,"d":"$0.00"},{"v":0,"d":"$0.00"},{"v":0,"d":"$0.00"},{"v":0,"d":"$0.00"},{"v":0,"d":"$0.00"},{"v":0,"d":"$0.00"},"ASR-Dental_Financial_Report_SMMC_03.21.23","2023-03-21","Unaudited"]
["Dental","DEF","Default",1900,"1900-01-01","PY","1/1/1800","Region 5","Non-Operating Expense","Income Tax Expense","Income Tax Expense","8.0","Income Tax Expense",{"v":0,"d":"$0.00"},{"v":0,"d":"$0.00"},{"v":0,"d":"$0.00"},{"v":0,"d":"$0.00"},{"v":0,"d":"$0.00"},{"v":0,"d":"$0.00"},"ASR-Dental_Financial_Report_SMMC_03.21.23","2023-03-21","Unaudited"]
["Dental","DEF","Default",1900,"1900-01-01","Q1","1900-03-31","Region 6","Member Months","Member Months","Member Months",null,"Member Months",{"$f":"IF(OR(AND($F1082=\"PY\",N$1<>\"Prior Year\"),AND($F1082<>\"PY\",N$1=\"Prior Year\")),0,INDEX(INDIRECT(\"'Dental Rev-Exp \"&$H1082&\"'!$A$1:$CA$200\"),IF($J1082=\"Member Months\",MATCH($J1082,INDIRECT(\"'Dental Rev-Exp \"&$H1082&\"'!$A$1:$A$200\"),0),MATCH($L1082,INDIRECT(\"'Dental Rev-Exp \"&$H1082&\"'!$B$1:$B$200\"),0)),IF($F1082=\"PY\",MATCH(\"Prior Year Adjustments\",INDIRECT(\"'Dental Rev-Exp \"&$H1082&\"'!$A$8:$CA$8\"),0),MATCH(IF($F1082=\"Q1\",\"JANUARY - MARCH (Q1)\",IF($F1082=\"Q2\",\"APRIL - JUNE (Q2)\",IF($F1082=\"Q3\",\"JULY - SEPTEMBER (Q3)\",IF($F1082=\"Q4\",\"OCTOBER - DECEMBER (Q4)\",0)))),INDIRECT(\"'Dental Rev-Exp \"&$H1082&\"'!$A$7:$CA$7\"),0)+MATCH(N$1,INDIRECT(\"'Dental Rev-Exp \"&$H1082&\"'!$D$8:$CA$8\"),0)-1)))","v":{"v":0,"d":"$0.00"}},{"v":0,"d":"$0.00"},{"v":0,"d":"$0.00"},{"v":0,"d":"$0.00"},{"v":0,"d":"$0.00"},{"v":0,"d":"$0.00"},"ASR-Dental_Financial_Report_SMMC_03.21.23","2023-03-21","Unaudited"]
["Dental","DEF","Default",1900,"1900-01-01","Q1","1900-03-31","Region 6","Operating Revenue","Capitation","Capitation","1.1","Capitation",{"v":0,"d":"$0.00"},{"v":0,"d":"$0.00"},{"v":0,"d":"$0.00"},{"v":0,"d":"$0.00"},{"v":0,"d":"$0.00"},{"v":0,"d":"$0.00"},"ASR-Dental_Financial_Report_SMMC_03.21.23","2023-03-21","Unaudited"]
["Dental","DEF","Default",1900,"1900-01-01","Q1","1900-03-31","Region 6","Operating Revenue","Other Revenue","Other Revenue - 9010","1.2","ACA § 9010 related payments",{"v":0,"d":"$0.00"},{"v":0,"d":"$0.00"},{"v":0,"d":"$0.00"},{"v":0,"d":"$0.00"},{"v":0,"d":"$0.00"},{"v":0,"d":"$0.00"},"ASR-Dental_Financial_Report_SMMC_03.21.23","2023-03-21","Unaudited"]
["Dental","DEF","Default",1900,"1900-01-01","Q1","1900-03-31","Region 6","Operating Revenue","Other Revenue","Other Revenue","1.3","Other Revenue",{"v":0,"d":"$0.00"},{"v":0,"d":"$0.00"},{"v":0,"d":"$0.00"},{"v":0,"d":"$0.00"},{"v":0,"d":"$0.00"},{"v":0,"d":"$0.00"},"ASR-Dental_Financial_Report_SMMC_03.21.23","2023-03-21","Unaudited"]
["Dental","DEF","Default",1900,"1900-01-01","Q1","1900-03-31","Region 6","Operating Expense","Medical Expense","Dental Services","2.1","Dental Services Diagnostic",{"v":0,"d":"$0.00"},{"v":0,"d":"$0.00"},{"v":0,"d":"$0.00"},{"v":0,"d":"$0.00"},{"v":0,"d":"$0.00"},{"v":0,"d":"$0.00"},"ASR-Dental_Financial_Report_SMMC_03.21.23","2023-03-21","Unaudited"]
["Dental","DEF","Default",1900,"1900-01-01","Q1","1900-03-31","Region 6","Operating Expense","Medical Expense","Dental Services",2.2,"Dental Services Preventive",{"v":0,"d":"$0.00"},{"v":0,"d":"$0.00"},{"v":0,"d":"$0.00"},{"v":0,"d":"$0.00"},{"v":0,"d":"$0.00"},{"v":0,"d":"$0.00"},"ASR-Dental_Financial_Report_SMMC_03.21.23","2023-03-21","Unaudited"]
["Dental","DEF","Default",1900,"1900-01-01","Q1","1900-03-31","Region 6","Operating Expense","Medical Expense","Dental Services","2.3","Dental Services Restorative",{"v":0,"d":"$0.00"},{"v":0,"d":"$0.00"},{"v":0,"d":"$0.00"},{"v":0,"d":"$0.00"},{"v":0,"d":"$0.00"},{"v":0,"d":"$0.00"},"ASR-Dental_Financial_Report_SMMC_03.21.23","2023-03-21","Unaudited"]
["Dental","DEF","Default",1900,"1900-01-01","Q1","1900-03-31","Region 6","Operating Expense","Medical Expense","Dental Services","2.4","Dental Services Endodontics",{"v":0,"d":"$0.00"},{"v":0,"d":"$0.00"},{"v":0,"d":"$0.00"},{"v":0,"d":"$0.00"},{"v":0,"d":"$0.00"},{"v":0,"d":"$0.00"},"ASR-Dental_Financial_Report_SMMC_03.21.23","2023-03-21","Unaudited"]
["Dental","DEF","Default",1900,"1900-01-01","Q1","1900-03-31","Region 6","Operating Expense","Medical Expense","Dental Services","2.5","Dental Services Periodontics",{"v":0,"d":"$0.00"},{"v":0,"d":"$0.00"},{"v":0,"d":"$0.00"},{"v":0,"d":"$0.00"},{"v":0,"d":"$0.00"},{"v":0,"d":"$0.00"},{"$f":"file_name","v":"ASR-Dental_Financial_Report_SMMC_03.21.23"},{"$f":"file_date","v":"2023-03-21"},{"$f":"status","v":"Unaudited"}]
["Dental","DEF","Default",1900,"1900-01-01","Q1","1900-03-31","Region 6","Operating Expense","Medical Expense","Dental Services","2.6","Dental Services Prosthodontics",{"v":0,"d":"$0.00"},{"v":0,"d":"$0.00"},{"v":0,"d":"$0.00"},{"v":0,"d":"$0.00"},{"v":0,"d":"$0.00"},{"v":0,"d":"$0.00"},"ASR-Dental_Financial_Report_SMMC_03.21.23","2023-03-21","Unaudited"]
["Dental","DEF","Default",1900,"1900-01-01","Q1","1900-03-31","Region 6","Operating Expense","Medical Expense","Dental Services","2.7","Dental Services Prosthodontics, fixed",{"$f":"IF(OR(AND($F1092=\"PY\",N$1<>\"Prior Year\"),AND($F1092<>\"PY\",N$1=\"Prior Year\")),0,INDEX(INDIRECT(\"'Dental Rev-Exp \"&$H1092&\"'!$A$1:$CA$200\"),IF($J1092=\"Member Months\",MATCH($J1092,INDIRECT(\"'Dental Rev-Exp \"&$H1092&\"'!$A$1:$A$200\"),0),MATCH($L1092,INDIRECT(\"'Dental Rev-Exp \"&$H1092&\"'!$B$1:$B$200\"),0)),IF($F1092=\"PY\",MATCH(\"Prior Year Adjustments\",INDIRECT(\"'Dental Rev-Exp \"&$H1092&\"'!$A$8:$CA$8\"),0),MATCH(IF($F1092=\"Q1\",\"JANUARY - MARCH (Q1)\",IF($F1092=\"Q2\",\"APRIL - JUNE (Q2)\",IF($F1092=\"Q3\",\"JULY - SEPTEMBER (Q3)\",IF($F1092=\"Q4\",\"OCTOBER - DECEMBER (Q4)\",0)))),INDIRECT(\"'Dental Rev-Exp \"&$H1092&\"'!$A$7:$CA$7\"),0)+MATCH(N$1,INDIRECT(\"'Dental Rev-Exp \"&$H1092&\"'!$D$8:$CA$8\"),0)-1)))","v":{"v":0,"d":"$0.00"}},{"v":0,"d":"$0.00"},{"v":0,"d":"$0.00"},{"v":0,"d":"$0.00"},{"v":0,"d":"$0.00"},{"v":0,"d":"$0.00"},"ASR-Dental_Financial_Report_SMMC_03.21.23","2023-03-21","Unaudited"]
["Dental","DEF","Default",1900,"1900-01-01","Q1","1900-03-31","Region 6","Operating Expense","Medical Expense","Dental Services","2.8","Dental Services Oral and Maxillofacial Surgery",{"v":0,"d":"$0.00"},{"v":0,"d":"$0.00"},{"v":0,"d":"$0.00"},{"v":0,"d":"$0.00"},{"v":0,"d":"$0.00"},{"v":0,"d":"$0.00"},"ASR-Dental_Financial_Report_SMMC_03.21.23","2023-03-21","Unaudited"]
["Dental","DEF","Default",1900,"1900-01-01","Q1","1900-03-31","Region 6","Operating Expense","Medical Expense","Dental Services","2.9","Dental Services Orthodontics",{"v":0,"d":"$0.00"},{"v":0,"d":"$0.00"},{"v":0,"d":"$0.00"},{"v":0,"d":"$0.00"},{"v":0,"d":"$0.00"},{"v":0,"d":"$0.00"},"ASR-Dental_Financial_Report_SMMC_03.21.23","2023-03-21","Unaudited"]
["Dental","DEF","Default",1900,"1900-01-01","Q1","1900-03-31","Region 6","Operating Expense","Medical Expense","Dental Services","2.10","Dental Services Adjunctive General Services",{"v":0,"d":"$0.00"},{"v":0,"d":"$0.00"},{"v":0,"d":"$0.00"},{"v":0,"d":"$0.00"},{"v":0,"d":"$0.00"},{"v":0,"d":"$0.00"},"ASR-Dental_Financial_Report_SMMC_03.21.23","2023-03-21","Unaudited"]
["Dental","DEF","Default",1900,"1900-01-01","Q1","1900-03-31","Region 6","Operating Expense","Medical Expense","Dental Services","2.11","Dental Services Other",{"v":0,"d":"$0.00"},{"v":0,"d":"$0.00"},{"v":0,"d":"$0.00"},{"v":0,"d":"$0.00"},{"v":0,"d":"$0.00"},{"v":0,"d":"$0.00"},"ASR-Dental_Financial_Report_SMMC_03.21.23","2023-03-21","Unaudited"]
["Dental","DEF","Default",1900,"1900-01-01","Q1","1900-03-31","Region 6","Operating Expense","Medical Expense","Expanded Benefits","2.12","Dental Expanded Benefits",{"v":0,"d":"$0.00"},{"v":0,"d":"$0.00"},{"v":0,"d":"$0.00"},{"v":0,"d":"$0.00"},{"v":0,"d":"$0.00"},{"v":0,"d":"$0.00"},"ASR-Dental_Financial_Report_SMMC_03.21.23","2023-03-21","Unaudited"]
["Dental","DEF","Default",1900,"1900-01-01","Q1","1900-03-31","Region 6","Operating Expense","Medical Expense","Dental Services","2.13","Dental Services Paid through Subcapitation",{"v":0,"d":"$0.00"},{"v":0,"d":"$0.00"},{"v":0,"d":"$0.00"},{"v":0,"d":"$0.00"},{"v":0,"d":"$0.00"},{"v":0,"d":"$0.00"},"ASR-Dental_Financial_Report_SMMC_03.21.23","2023-03-21","Unaudited"]
["Dental","DEF","Default",1900,"1900-01-01","Q1","1900-03-31","Region 6","Operating Expense","Medical Expense","Dental Services","2.14","Ending IBNP for Dental Services",{"v":0,"d":"$0.00"},{"v":0,"d":"$0.00"},{"v":0,"d":"$0.00"},{"v":0,"d":"$0.00"},{"v":0,"d":"$0.00"},{"v":0,"d":"$0.00"},"ASR-Dental_Financial_Report_SMMC_03.21.23","2023-03-21","Unaudited"]
["Dental","DEF","Default",1900,"1900-01-01","Q1","1900-03-31","Region 6","Operating Expense","Medical Expense","Dental Services","2.15","Dental Settlements/AP",{"v":0,"d":"$0.00"},{"v":0,"d":"$0.00"},{"v":0,"d":"$0.00"},{"v":0,"d":"$0.00"},{"v":0,"d":"$0.00"},{"v":0,"d":"$0.00"},"ASR-Dental_Financial_Report_SMMC_03.21.23","2023-03-21","Unaudited"]
["Dental","DEF","Default",1900,"1900-01-01","Q1","1900-03-31","Region 6","Operating Expense","Medical Expense","Other Medical","3.5","TPL & Fraud/Abuse Recoveries",{"v":0,"d":"$0.00"},{"v":0,"d":"$0.00"},{"v":0,"d":"$0.00"},{"v":0,"d":"$0.00"},{"v":0,"d":"$0.00"},{"v":0,"d":"$0.00"},"ASR-Dental_Financial_Report_SMMC_03.21.23","2023-03-21","Unaudited"]
["Dental","DEF","Default",1900,"1900-01-01","Q1","1900-03-31","Region 6","Operating Expense","Medical Expense","Other Medical",3.6,"Premium Deficiency Reserve",{"$f":"IF(OR(AND($F1102=\"PY\",N$1<>\"Prior Year\"),AND($F1102<>\"PY\",N$1=\"Prior Year\")),0,INDEX(INDIRECT(\"'Dental Rev-Exp \"&$H1102&\"'!$A$1:$CA$200\"),IF($J1102=\"Member Months\",MATCH($J1102,INDIRECT(\"'Dental Rev-Exp \"&$H1102&\"'!$A$1:$A$200\"),0),MATCH($L1102,INDIRECT(\"'Dental Rev-Exp \"&$H1102&\"'!$B$1:$B$200\"),0)),IF($F1102=\"PY\",MATCH(\"Prior Year Adjustments\",INDIRECT(\"'Dental Rev-Exp \"&$H1102&\"'!$A$8:$CA$8\"),0),MATCH(IF($F1102=\"Q1\",\"JANUARY - MARCH (Q1)\",IF($F1102=\"Q2\",\"APRIL - JUNE (Q2)\",IF($F1102=\"Q3\",\"JULY - SEPTEMBER (Q3)\",IF($F1102=\"Q4\",\"OCTOBER - DECEMBER (Q4)\",0)))),INDIRECT(\"'Dental Rev-Exp \"&$H1102&\"'!$A$7:$CA$7\"),0)+MATCH(N$1,INDIRECT(\"'Dental Rev-Exp \"&$H1102&\"'!$D$8:$CA$8\"),0)-1)))","v":{"v":0,"d":"$0.00"}},{"v":0,"d":"$0.00"},{"v":0,"d":"$0.00"},{"v":0,"d":"$0.00"},{"v":0,"d":"$0.00"},{"v":0,"d":"$0.00"},"ASR-Dental_Financial_Report_SMMC_03.21.23","2023-03-21","Unaudited"]
["Dental","DEF","Default",1900,"1900-01-01","Q1","1900-03-31","Region 6","Operating Expense","Medical Expense","Other Medical","3.8","Reinsurance Premiums",{"v":0,"d":"$0.00"},{"v":0,"d":"$0.00"},{"v":0,"d":"$0.00"},{"v":0,"d":"$0.00"},{"v":0,"d":"$0.00"},{"v":0,"d":"$0.00"},"ASR-Dental_Financial_Report_SMMC_03.21.23","2023-03-21","Unaudited"]
["Dental","DEF","Default",1900,"1900-01-01","Q1","1900-03-31","Region 6","Operating Expense","Medical Expense","Other Medical","3.9","Reinsurance Recoveries",{"v":0,"d":"$0.00"},{"v":0,"d":"$0.00"},{"v":0,"d":"$0.00"},{"v":0,"d":"$0.00"},{"v":0,"d":"$0.00"},{"v":0,"d":"$0.00"},"ASR-Dental_Financial_Report_SMMC_03.21.23","2023-03-21","Unaudited"]
["Dental","DEF","Default",1900,"1900-01-01","Q1","1900-03-31","Region 6","Operating Expense","Administrative Expense","Administrative","4.1","Salaries & Benefits",{"v":0,"d":"$0.00"},{"v":0,"d":"$0.00"},{"v":0,"d":"$0.00"},{"v":0,"d":"$0.00"},{"v":0,"d":"$0.00"},{"v":0,"d":"$0.00"},"ASR-Dental_Financial_Report_SMMC_03.21.23","2023-03-21","Unaudited"]
["Dental","DEF","Default",1900,"1900-01-01","Q1","1900-03-31","Region 6","Operating Expense","Administrative Expense","Administrative","4.2","Administrative Services",{"v":0,"d":"$0.00"},{"v":0,"d":"$0.00"},{"v":0,"d":"$0.00"},{"v":0,"d":"$0.00"},{"v":0,"d":"$0.00"},{"v":0,"d":"$0.00"},"ASR-Dental_Financial_Report_SMMC_03.21.23","2023-03-21","Unaudited"]
["Dental","DEF","Default",1900,"1900-01-01","Q1","1900-03-31","Region 6","Operating Expense","Administrative Expense","Administrative","4.3","Information Systems",{"v":0,"d":"$0.00"},{"v":0,"d":"$0.00"},{"v":0,"d":"$0.00"},{"v":0,"d":"$0.00"},{"v":0,"d":"$0.00"},{"v":0,"d":"$0.00"},"ASR-Dental_Financial_Report_SMMC_03.21.23","2023-03-21","Unaudited"]
["Dental","DEF","Default",1900,"1900-01-01","Q1","1900-03-31","Region 6","Operating Expense","Administrative Expense","Administrative","4.4","Marketing Expenses",{"v":0,"d":"$0.00"},{"v":0,"d":"$0.00"},{"v":0,"d":"$0.00"},{"v":0,"d":"$0.00"},{"v":0,"d":"$0.00"},{"v":0,"d":"$0.00"},"ASR-Dental_Financial_Report_SMMC_03.21.23","2023-03-21","Unaudited"]
["Dental","DEF","Default",1900,"1900-01-01","Q1","1900-03-31","Region 6","Operating Expense","Administrative Expense","Administrative","4.5","General  Administration",{"v":0,"d":"$0.00"},{"v":0,"d":"$0.00"},{"v":0,"d":"$0.00"},{"v":0,"d":"$0.00"},{"v":0,"d":"$0.00"},{"v":0,"d":"$0.00"},"ASR-Dental_Financial_Report_SMMC_03.21.23","2023-03-21","Unaudited"]
["Dental","DEF","Default",1900,"1900-01-01","Q1","1900-03-31","Region 6","Operating Expense","Administrative Expense","Administrative","4.6","Compliance/Regulatory",{"v":0,"d":"$0.00"},{"v":0,"d":"$0.00"},{"v":0,"d":"$0.00"},{"v":0,"d":"$0.00"},{"v":0,"d":"$0.00"},{"v":0,"d":"$0.00"},"ASR-Dental_Financial_Report_SMMC_03.21.23","2023-03-21","Unaudited"]
["Dental","DEF","Default",1900,"1900-01-01","Q1","1900-03-31","Region 6","Operating Expense","Taxes & Fees","Taxes & Fees","5.1","State Premium tax",{"v":0,"d":"$0.00"},{"v":0,"d":"$0.00"},{"v":0,"d":"$0.00"},{"v":0,"d":"$0.00"},{"v":0,"d":"$0.00"},{"v":0,"d":"$0.00"},"ASR-Dental_Financial_Report_SMMC_03.21.23","2023-03-21","Unaudited"]
["Dental","DEF","Default",1900,"1900-01-01","Q1","1900-03-31","Region 6","Operating Expense","Taxes & Fees","Taxes & Fees","5.2","Department of Insurance Assessments",{"$f":"IF(OR(AND($F1112=\"PY\",N$1<>\"Prior Year\"),AND($F1112<>\"PY\",N$1=\"Prior Year\")),0,INDEX(INDIRECT(\"'Dental Rev-Exp \"&$H1112&\"'!$A$1:$CA$200\"),IF($J1112=\"Member Months\",MATCH($J1112,INDIRECT(\"'Dental Rev-Exp \"&$H1112&\"'!$A$1:$A$200\"),0),MATCH($L1112,INDIRECT(\"'Dental Rev-Exp \"&$H1112&\"'!$B$1:$B$200\"),0)),IF($F1112=\"PY\",MATCH(\"Prior Year Adjustments\",INDIRECT(\"'Dental Rev-Exp \"&$H1112&\"'!$A$8:$CA$8\"),0),MATCH(IF($F1112=\"Q1\",\"JANUARY - MARCH (Q1)\",IF($F1112=\"Q2\",\"APRIL - JUNE (Q2)\",IF($F1112=\"Q3\",\"JULY - SEPTEMBER (Q3)\",IF($F1112=\"Q4\",\"OCTOBER - DECEMBER (Q4)\",0)))),INDIRECT(\"'Dental Rev-Exp \"&$H1112&\"'!$A$7:$CA$7\"),0)+MATCH(N$1,INDIRECT(\"'Dental Rev-Exp \"&$H1112&\"'!$D$8:$CA$8\"),0)-1)))","v":{"v":0,"d":"$0.00"}},{"v":0,"d":"$0.00"},{"v":0,"d":"$0.00"},{"v":0,"d":"$0.00"},{"v":0,"d":"$0.00"},{"v":0,"d":"$0.00"},"ASR-Dental_Financial_Report_SMMC_03.21.23","2023-03-21","Unaudited"]
["Dental","DEF","Default",1900,"1900-01-01","Q1","1900-03-31","Region 6","Operating Expense","Taxes & Fees","Taxes & Fees","5.3","Section 9010 Health Insurance Providers Fee",{"v":0,"d":"$0.00"},{"v":0,"d":"$0.00"},{"v":0,"d":"$0.00"},{"v":0,"d":"$0.00"},{"v":0,"d":"$0.00"},{"v":0,"d":"$0.00"},"ASR-Dental_Financial_Report_SMMC_03.21.23","2023-03-21","Unaudited"]
["Dental","DEF","Default",1900,"1900-01-01","Q1","1900-03-31","Region 6","Operating Expense","Taxes & Fees","Taxes & Fees","5.4","Other 1",{"v":0,"d":"$0.00"},{"v":0,"d":"$0.00"},{"v":0,"d":"$0.00"},{"v":0,"d":"$0.00"},{"v":0,"d":"$0.00"},{"v":0,"d":"$0.00"},"ASR-Dental_Financial_Report_SMMC_03.21.23","2023-03-21","Unaudited"]
["Dental","DEF","Default",1900,"1900-01-01","Q1","1900-03-31","Region 6","Operating Expense","Taxes & Fees","Taxes & Fees","5.5","Other 2",{"v":0,"d":"$0.00"},{"v":0,"d":"$0.00"},{"v":0,"d":"$0.00"},{"v":0,"d":"$0.00"},{"v":0,"d":"$0.00"},{"v":0,"d":"$0.00"},"ASR-Dental_Financial_Report_SMMC_03.21.23","2023-03-21","Unaudited"]
["Dental","DEF","Default",1900,"1900-01-01","Q1","1900-03-31","Region 6","Operating Expense","Taxes & Fees","Taxes & Fees","5.6","Other 3",{"v":0,"d":"$0.00"},{"v":0,"d":"$0.00"},{"v":0,"d":"$0.00"},{"v":0,"d":"$0.00"},{"v":0,"d":"$0.00"},{"v":0,"d":"$0.00"},"ASR-Dental_Financial_Report_SMMC_03.21.23","2023-03-21","Unaudited"]
["Dental","DEF","Default",1900,"1900-01-01","Q1","1900-03-31","Region 6","Non-Operating Expense","Income Tax Expense","Income Tax Expense","8.0","Income Tax Expense",{"v":0,"d":"$0.00"},{"v":0,"d":"$0.00"},{"v":0,"d":"$0.00"},{"v":0,"d":"$0.00"},{"v":0,"d":"$0.00"},{"v":0,"d":"$0.00"},"ASR-Dental_Financial_Report_SMMC_03.21.23","2023-03-21","Unaudited"]
["Dental","DEF","Default",1900,"1900-01-01","Q2","1900-06-30","Region 6","Member Months","Member Months","Member Months",null,"Member Months",{"v":0,"d":"$0.00"},{"v":0,"d":"$0.00"},{"v":0,"d":"$0.00"},{"v":0,"d":"$0.00"},{"v":0,"d":"$0.00"},{"v":0,"d":"$0.00"},"ASR-Dental_Financial_Report_SMMC_03.21.23","2023-03-21","Unaudited"]
["Dental","DEF","Default",1900,"1900-01-01","Q2","1900-06-30","Region 6","Operating Revenue","Capitation","Capitation","1.1","Capitation",{"v":0,"d":"$0.00"},{"v":0,"d":"$0.00"},{"v":0,"d":"$0.00"},{"v":0,"d":"$0.00"},{"v":0,"d":"$0.00"},{"v":0,"d":"$0.00"},"ASR-Dental_Financial_Report_SMMC_03.21.23","2023-03-21","Unaudited"]
["Dental","DEF","Default",1900,"1900-01-01","Q2","1900-06-30","Region 6","Operating Revenue","Other Revenue","Other Revenue - 9010","1.2","ACA § 9010 related payments",{"v":0,"d":"$0.00"},{"v":0,"d":"$0.00"},{"v":0,"d":"$0.00"},{"v":0,"d":"$0.00"},{"v":0,"d":"$0.00"},{"v":0,"d":"$0.00"},"ASR-Dental_Financial_Report_SMMC_03.21.23","2023-03-21","Unaudited"]
["Dental","DEF","Default",1900,"1900-01-01","Q2","1900-06-30","Region 6","Operating Revenue","Other Revenue","Other Revenue","1.3","Other Revenue",{"v":0,"d":"$0.00"},{"v":0,"d":"$0.00"},{"v":0,"d":"$0.00"},{"v":0,"d":"$0.00"},{"v":0,"d":"$0.00"},{"v":0,"d":"$0.00"},"ASR-Dental_Financial_Report_SMMC_03.21.23","2023-03-21","Unaudited"]
["Dental","DEF","Default",1900,"1900-01-01","Q2","1900-06-30","Region 6","Operating Expense","Medical Expense","Dental Services","2.1","Dental Services Diagnostic",{"$f":"IF(OR(AND($F1122=\"PY\",N$1<>\"Prior Year\"),AND($F1122<>\"PY\",N$1=\"Prior Year\")),0,INDEX(INDIRECT(\"'Dental Rev-Exp \"&$H1122&\"'!$A$1:$CA$200\"),IF($J1122=\"Member Months\",MATCH($J1122,INDIRECT(\"'Dental Rev-Exp \"&$H1122&\"'!$A$1:$A$200\"),0),MATCH($L1122,INDIRECT(\"'Dental Rev-Exp \"&$H1122&\"'!$B$1:$B$200\"),0)),IF($F1122=\"PY\",MATCH(\"Prior Year Adjustments\",INDIRECT(\"'Dental Rev-Exp \"&$H1122&\"'!$A$8:$CA$8\"),0),MATCH(IF($F1122=\"Q1\",\"JANUARY - MARCH (Q1)\",IF($F1122=\"Q2\",\"APRIL - JUNE (Q2)\",IF($F1122=\"Q3\",\"JULY - SEPTEMBER (Q3)\",IF($F1122=\"Q4\",\"OCTOBER - DECEMBER (Q4)\",0)))),INDIRECT(\"'Dental Rev-Exp \"&$H1122&\"'!$A$7:$CA$7\"),0)+MATCH(N$1,INDIRECT(\"'Dental Rev-Exp \"&$H1122&\"'!$D$8:$CA$8\"),0)-1)))","v":{"v":0,"d":"$0.00"}},{"v":0,"d":"$0.00"},{"v":0,"d":"$0.00"},{"v":0,"d":"$0.00"},{"v":0,"d":"$0.00"},{"v":0,"d":"$0.00"},"ASR-Dental_Financial_Report_SMMC_03.21.23","2023-03-21","Unaudited"]
["Dental","DEF","Default",1900,"1900-01-01","Q2","1900-06-30","Region 6","Operating Expense","Medical Expense","Dental Services",2.2,"Dental Services Preventive",{"v":0,"d":"$0.00"},{"v":0,"d":"$0.00"},{"v":0,"d":"$0.00"},{"v":0,"d":"$0.00"},{"v":0,"d":"$0.00"},{"v":0,"d":"$0.00"},"ASR-Dental_Financial_Report_SMMC_03.21.23","2023-03-21","Unaudited"]
["Dental","DEF","Default",1900,"1900-01-01","Q2","1900-06-30","Region 6","Operating Expense","Medical Expense","Dental Services","2.3","Dental Services Restorative",{"v":0,"d":"$0.00"},{"v":0,"d":"$0.00"},{"v":0,"d":"$0.00"},{"v":0,"d":"$0.00"},{"v":0,"d":"$0.00"},{"v":0,"d":"$0.00"},"ASR-Dental_Financial_Report_SMMC_03.21.23","2023-03-21","Unaudited"]
["Dental","DEF","Default",1900,"1900-01-01","Q2","1900-06-30","Region 6","Operating Expense","Medical Expense","Dental Services","2.4","Dental Services Endodontics",{"v":0,"d":"$0.00"},{"v":0,"d":"$0.00"},{"v":0,"d":"$0.00"},{"v":0,"d":"$0.00"},{"v":0,"d":"$0.00"},{"v":0,"d":"$0.00"},"ASR-Dental_Financial_Report_SMMC_03.21.23","2023-03-21","Unaudited"]
["Dental","DEF","Default",1900,"1900-01-01","Q2","1900-06-30","Region 6","Operating Expense","Medical Expense","Dental Services","2.5","Dental Services Periodontics",{"v":0,"d":"$0.00"},{"v":0,"d":"$0.00"},{"v":0,"d":"$0.00"},{"v":0,"d":"$0.00"},{"v":0,"d":"$0.00"},{"v":0,"d":"$0.00"},"ASR-Dental_Financial_Report_SMMC_03.21.23","2023-03-21","Unaudited"]
["Dental","DEF","Default",1900,"1900-01-01","Q2","1900-06-30","Region 6","Operating Expense","Medical Expense","Dental Services","2.6","Dental Services Prosthodontics",{"v":0,"d":"$0.00"},{"v":0,"d":"$0.00"},{"v":0,"d":"$0.00"},{"v":0,"d":"$0.00"},{"v":0,"d":"$0.00"},{"v":0,"d":"$0.00"},"ASR-Dental_Financial_Report_SMMC_03.21.23","2023-03-21","Unaudited"]
["Dental","DEF","Default",1900,"1900-01-01","Q2","1900-06-30","Region 6","Operating Expense","Medical Expense","Dental Services","2.7","Dental Services Prosthodontics, fixed",{"v":0,"d":"$0.00"},{"v":0,"d":"$0.00"},{"v":0,"d":"$0.00"},{"v":0,"d":"$0.00"},{"v":0,"d":"$0.00"},{"v":0,"d":"$0.00"},"ASR-Dental_Financial_Report_SMMC_03.21.23","2023-03-21","Unaudited"]
["Dental","DEF","Default",1900,"1900-01-01","Q2","1900-06-30","Region 6","Operating Expense","Medical Expense","Dental Services","2.8","Dental Services Oral and Maxillofacial Surgery",{"v":0,"d":"$0.00"},{"v":0,"d":"$0.00"},{"v":0,"d":"$0.00"},{"v":0,"d":"$0.00"},{"v":0,"d":"$0.00"},{"v":0,"d":"$0.00"},"ASR-Dental_Financial_Report_SMMC_03.21.23","2023-03-21","Unaudited"]
["Dental","DEF","Default",1900,"1900-01-01","Q2","1900-06-30","Region 6","Operating Expense","Medical Expense","Dental Services","2.9","Dental Services Orthodontics",{"v":0,"d":"$0.00"},{"v":0,"d":"$0.00"},{"v":0,"d":"$0.00"},{"v":0,"d":"$0.00"},{"v":0,"d":"$0.00"},{"v":0,"d":"$0.00"},"ASR-Dental_Financial_Report_SMMC_03.21.23","2023-03-21","Unaudited"]
["Dental","DEF","Default",1900,"1900-01-01","Q2","1900-06-30","Region 6","Operating Expense","Medical Expense","Dental Services","2.10","Dental Services Adjunctive General Services",{"v":0,"d":"$0.00"},{"v":0,"d":"$0.00"},{"v":0,"d":"$0.00"},{"v":0,"d":"$0.00"},{"v":0,"d":"$0.00"},{"v":0,"d":"$0.00"},"ASR-Dental_Financial_Report_SMMC_03.21.23","2023-03-21","Unaudited"]
["Dental","DEF","Default",1900,"1900-01-01","Q2","1900-06-30","Region 6","Operating Expense","Medical Expense","Dental Services","2.11","Dental Services Other",{"$f":"IF(OR(AND($F1132=\"PY\",N$1<>\"Prior Year\"),AND($F1132<>\"PY\",N$1=\"Prior Year\")),0,INDEX(INDIRECT(\"'Dental Rev-Exp \"&$H1132&\"'!$A$1:$CA$200\"),IF($J1132=\"Member Months\",MATCH($J1132,INDIRECT(\"'Dental Rev-Exp \"&$H1132&\"'!$A$1:$A$200\"),0),MATCH($L1132,INDIRECT(\"'Dental Rev-Exp \"&$H1132&\"'!$B$1:$B$200\"),0)),IF($F1132=\"PY\",MATCH(\"Prior Year Adjustments\",INDIRECT(\"'Dental Rev-Exp \"&$H1132&\"'!$A$8:$CA$8\"),0),MATCH(IF($F1132=\"Q1\",\"JANUARY - MARCH (Q1)\",IF($F1132=\"Q2\",\"APRIL - JUNE (Q2)\",IF($F1132=\"Q3\",\"JULY - SEPTEMBER (Q3)\",IF($F1132=\"Q4\",\"OCTOBER - DECEMBER (Q4)\",0)))),INDIRECT(\"'Dental Rev-Exp \"&$H1132&\"'!$A$7:$CA$7\"),0)+MATCH(N$1,INDIRECT(\"'Dental Rev-Exp \"&$H1132&\"'!$D$8:$CA$8\"),0)-1)))","v":{"v":0,"d":"$0.00"}},{"v":0,"d":"$0.00"},{"v":0,"d":"$0.00"},{"v":0,"d":"$0.00"},{"v":0,"d":"$0.00"},{"v":0,"d":"$0.00"},"ASR-Dental_Financial_Report_SMMC_03.21.23","2023-03-21","Unaudited"]
["Dental","DEF","Default",1900,"1900-01-01","Q2","1900-06-30","Region 6","Operating Expense","Medical Expense","Expanded Benefits","2.12","Dental Expanded Benefits",{"v":0,"d":"$0.00"},{"v":0,"d":"$0.00"},{"v":0,"d":"$0.00"},{"v":0,"d":"$0.00"},{"v":0,"d":"$0.00"},{"v":0,"d":"$0.00"},"ASR-Dental_Financial_Report_SMMC_03.21.23","2023-03-21","Unaudited"]
["Dental","DEF","Default",1900,"1900-01-01","Q2","1900-06-30","Region 6","Operating Expense","Medical Expense","Dental Services","2.13","Dental Services Paid through Subcapitation",{"v":0,"d":"$0.00"},{"v":0,"d":"$0.00"},{"v":0,"d":"$0.00"},{"v":0,"d":"$0.00"},{"v":0,"d":"$0.00"},{"v":0,"d":"$0.00"},"ASR-Dental_Financial_Report_SMMC_03.21.23","2023-03-21","Unaudited"]
["Dental","DEF","Default",1900,"1900-01-01","Q2","1900-06-30","Region 6","Operating Expense","Medical Expense","Dental Services","2.14","Ending IBNP for Dental Services",{"v":0,"d":"$0.00"},{"v":0,"d":"$0.00"},{"v":0,"d":"$0.00"},{"v":0,"d":"$0.00"},{"v":0,"d":"$0.00"},{"v":0,"d":"$0.00"},"ASR-Dental_Financial_Report_SMMC_03.21.23","2023-03-21","Unaudited"]
["Dental","DEF","Default",1900,"1900-01-01","Q2","1900-06-30","Region 6","Operating Expense","Medical Expense","Dental Services","2.15","Dental Settlements/AP",{"v":0,"d":"$0.00"},{"v":0,"d":"$0.00"},{"v":0,"d":"$0.00"},{"v":0,"d":"$0.00"},{"v":0,"d":"$0.00"},{"v":0,"d":"$0.00"},"ASR-Dental_Financial_Report_SMMC_03.21.23","2023-03-21","Unaudited"]
["Dental","DEF","Default",1900,"1900-01-01","Q2","1900-06-30","Region 6","Operating Expense","Medical Expense","Other Medical","3.5","TPL & Fraud/Abuse Recoveries",{"v":0,"d":"$0.00"},{"v":0,"d":"$0.00"},{"v":0,"d":"$0.00"},{"v":0,"d":"$0.00"},{"v":0,"d":"$0.00"},{"v":0,"d":"$0.00"},"ASR-Dental_Financial_Report_SMMC_03.21.23","2023-03-21","Unaudited"]
["Dental","DEF","Default",1900,"1900-01-01","Q2","1900-06-30","Region 6","Operating Expense","Medical Expense","Other Medical",3.6,"Premium Deficiency Reserve",{"v":0,"d":"$0.00"},{"v":0,"d":"$0.00"},{"v":0,"d":"$0.00"},{"v":0,"d":"$0.00"},{"v":0,"d":"$0.00"},{"v":0,"d":"$0.00"},"ASR-Dental_Financial_Report_SMMC_03.21.23","2023-03-21","Unaudited"]
["Dental","DEF","Default",1900,"1900-01-01","Q2","1900-06-30","Region 6","Operating Expense","Medical Expense","Other Medical","3.8","Reinsurance Premiums",{"v":0,"d":"$0.00"},{"v":0,"d":"$0.00"},{"v":0,"d":"$0.00"},{"v":0,"d":"$0.00"},{"v":0,"d":"$0.00"},{"v":0,"d":"$0.00"},"ASR-Dental_Financial_Report_SMMC_03.21.23","2023-03-21","Unaudited"]
["Dental","DEF","Default",1900,"1900-01-01","Q2","1900-06-30","Region 6","Operating Expense","Medical Expense","Other Medical","3.9","Reinsurance Recoveries",{"v":0,"d":"$0.00"},{"v":0,"d":"$0.00"},{"v":0,"d":"$0.00"},{"v":0,"d":"$0.00"},{"v":0,"d":"$0.00"},{"v":0,"d":"$0.00"},"ASR-Dental_Financial_Report_SMMC_03.21.23","2023-03-21","Unaudited"]
["Dental","DEF","Default",1900,"1900-01-01","Q2","1900-06-30","Region 6","Operating Expense","Administrative Expense","Administrative","4.1","Salaries & Benefits",{"v":0,"d":"$0.00"},{"v":0,"d":"$0.00"},{"v":0,"d":"$0.00"},{"v":0,"d":"$0.00"},{"v":0,"d":"$0.00"},{"v":0,"d":"$0.00"},"ASR-Dental_Financial_Report_SMMC_03.21.23","2023-03-21","Unaudited"]
["Dental","DEF","Default",1900,"1900-01-01","Q2","1900-06-30","Region 6","Operating Expense","Administrative Expense","Administrative","4.2","Administrative Services",{"$f":"IF(OR(AND($F1142=\"PY\",N$1<>\"Prior Year\"),AND($F1142<>\"PY\",N$1=\"Prior Year\")),0,INDEX(INDIRECT(\"'Dental Rev-Exp \"&$H1142&\"'!$A$1:$CA$200\"),IF($J1142=\"Member Months\",MATCH($J1142,INDIRECT(\"'Dental Rev-Exp \"&$H1142&\"'!$A$1:$A$200\"),0),MATCH($L1142,INDIRECT(\"'Dental Rev-Exp \"&$H1142&\"'!$B$1:$B$200\"),0)),IF($F1142=\"PY\",MATCH(\"Prior Year Adjustments\",INDIRECT(\"'Dental Rev-Exp \"&$H1142&\"'!$A$8:$CA$8\"),0),MATCH(IF($F1142=\"Q1\",\"JANUARY - MARCH (Q1)\",IF($F1142=\"Q2\",\"APRIL - JUNE (Q2)\",IF($F1142=\"Q3\",\"JULY - SEPTEMBER (Q3)\",IF($F1142=\"Q4\",\"OCTOBER - DECEMBER (Q4)\",0)))),INDIRECT(\"'Dental Rev-Exp \"&$H1142&\"'!$A$7:$CA$7\"),0)+MATCH(N$1,INDIRECT(\"'Dental Rev-Exp \"&$H1142&\"'!$D$8:$CA$8\"),0)-1)))","v":{"v":0,"d":"$0.00"}},{"v":0,"d":"$0.00"},{"v":0,"d":"$0.00"},{"v":0,"d":"$0.00"},{"v":0,"d":"$0.00"},{"v":0,"d":"$0.00"},"ASR-Dental_Financial_Report_SMMC_03.21.23","2023-03-21","Unaudited"]
["Dental","DEF","Default",1900,"1900-01-01","Q2","1900-06-30","Region 6","Operating Expense","Administrative Expense","Administrative","4.3","Information Systems",{"v":0,"d":"$0.00"},{"v":0,"d":"$0.00"},{"v":0,"d":"$0.00"},{"v":0,"d":"$0.00"},{"v":0,"d":"$0.00"},{"v":0,"d":"$0.00"},"ASR-Dental_Financial_Report_SMMC_03.21.23","2023-03-21","Unaudited"]
["Dental","DEF","Default",1900,"1900-01-01","Q2","1900-06-30","Region 6","Operating Expense","Administrative Expense","Administrative","4.4","Marketing Expenses",{"v":0,"d":"$0.00"},{"v":0,"d":"$0.00"},{"v":0,"d":"$0.00"},{"v":0,"d":"$0.00"},{"v":0,"d":"$0.00"},{"v":0,"d":"$0.00"},"ASR-Dental_Financial_Report_SMMC_03.21.23","2023-03-21","Unaudited"]
["Dental","DEF","Default",1900,"1900-01-01","Q2","1900-06-30","Region 6","Operating Expense","Administrative Expense","Administrative","4.5","General  Administration",{"v":0,"d":"$0.00"},{"v":0,"d":"$0.00"},{"v":0,"d":"$0.00"},{"v":0,"d":"$0.00"},{"v":0,"d":"$0.00"},{"v":0,"d":"$0.00"},"ASR-Dental_Financial_Report_SMMC_03.21.23","2023-03-21","Unaudited"]
["Dental","DEF","Default",1900,"1900-01-01","Q2","1900-06-30","Region 6","Operating Expense","Administrative Expense","Administrative","4.6","Compliance/Regulatory",{"v":0,"d":"$0.00"},{"v":0,"d":"$0.00"},{"v":0,"d":"$0.00"},{"v":0,"d":"$0.00"},{"v":0,"d":"$0.00"},{"v":0,"d":"$0.00"},"ASR-Dental_Financial_Report_SMMC_03.21.23","2023-03-21","Unaudited"]
["Dental","DEF","Default",1900,"1900-01-01","Q2","1900-06-30","Region 6","Operating Expense","Taxes & Fees","Taxes & Fees","5.1","State Premium tax",{"v":0,"d":"$0.00"},{"v":0,"d":"$0.00"},{"v":0,"d":"$0.00"},{"v":0,"d":"$0.00"},{"v":0,"d":"$0.00"},{"v":0,"d":"$0.00"},"ASR-Dental_Financial_Report_SMMC_03.21.23","2023-03-21","Unaudited"]
["Dental","DEF","Default",1900,"1900-01-01","Q2","1900-06-30","Region 6","Operating Expense","Taxes & Fees","Taxes & Fees","5.2","Department of Insurance Assessments",{"v":0,"d":"$0.00"},{"v":0,"d":"$0.00"},{"v":0,"d":"$0.00"},{"v":0,"d":"$0.00"},{"v":0,"d":"$0.00"},{"v":0,"d":"$0.00"},"ASR-Dental_Financial_Report_SMMC_03.21.23","2023-03-21","Unaudited"]
["Dental","DEF","Default",1900,"1900-01-01","Q2","1900-06-30","Region 6","Operating Expense","Taxes & Fees","Taxes & Fees","5.3","Section 9010 Health Insurance Providers Fee",{"v":0,"d":"$0.00"},{"v":0,"d":"$0.00"},{"v":0,"d":"$0.00"},{"v":0,"d":"$0.00"},{"v":0,"d":"$0.00"},{"v":0,"d":"$0.00"},"ASR-Dental_Financial_Report_SMMC_03.21.23","2023-03-21","Unaudited"]
["Dental","DEF","Default",1900,"1900-01-01","Q2","1900-06-30","Region 6","Operating Expense","Taxes & Fees","Taxes & Fees","5.4","Other 1",{"v":0,"d":"$0.00"},{"v":0,"d":"$0.00"},{"v":0,"d":"$0.00"},{"v":0,"d":"$0.00"},{"v":0,"d":"$0.00"},{"v":0,"d":"$0.00"},"ASR-Dental_Financial_Report_SMMC_03.21.23","2023-03-21","Unaudited"]
["Dental","DEF","Default",1900,"1900-01-01","Q2","1900-06-30","Region 6","Operating Expense","Taxes & Fees","Taxes & Fees","5.5","Other 2",{"v":0,"d":"$0.00"},{"v":0,"d":"$0.00"},{"v":0,"d":"$0.00"},{"v":0,"d":"$0.00"},{"v":0,"d":"$0.00"},{"v":0,"d":"$0.00"},"ASR-Dental_Financial_Report_SMMC_03.21.23","2023-03-21","Unaudited"]
["Dental","DEF","Default",1900,"1900-01-01","Q2","1900-06-30","Region 6","Operating Expense","Taxes & Fees","Taxes & Fees","5.6","Other 3",{"$f":"IF(OR(AND($F1152=\"PY\",N$1<>\"Prior Year\"),AND($F1152<>\"PY\",N$1=\"Prior Year\")),0,INDEX(INDIRECT(\"'Dental Rev-Exp \"&$H1152&\"'!$A$1:$CA$200\"),IF($J1152=\"Member Months\",MATCH($J1152,INDIRECT(\"'Dental Rev-Exp \"&$H1152&\"'!$A$1:$A$200\"),0),MATCH($L1152,INDIRECT(\"'Dental Rev-Exp \"&$H1152&\"'!$B$1:$B$200\"),0)),IF($F1152=\"PY\",MATCH(\"Prior Year Adjustments\",INDIRECT(\"'Dental Rev-Exp \"&$H1152&\"'!$A$8:$CA$8\"),0),MATCH(IF($F1152=\"Q1\",\"JANUARY - MARCH (Q1)\",IF($F1152=\"Q2\",\"APRIL - JUNE (Q2)\",IF($F1152=\"Q3\",\"JULY - SEPTEMBER (Q3)\",IF($F1152=\"Q4\",\"OCTOBER - DECEMBER (Q4)\",0)))),INDIRECT(\"'Dental Rev-Exp \"&$H1152&\"'!$A$7:$CA$7\"),0)+MATCH(N$1,INDIRECT(\"'Dental Rev-Exp \"&$H1152&\"'!$D$8:$CA$8\"),0)-1)))","v":{"v":0,"d":"$0.00"}},{"v":0,"d":"$0.00"},{"v":0,"d":"$0.00"},{"v":0,"d":"$0.00"},{"v":0,"d":"$0.00"},{"v":0,"d":"$0.00"},"ASR-Dental_Financial_Report_SMMC_03.21.23","2023-03-21","Unaudited"]
["Dental","DEF","Default",1900,"1900-01-01","Q2","1900-06-30","Region 6","Non-Operating Expense","Income Tax Expense","Income Tax Expense","8.0","Income Tax Expense",{"v":0,"d":"$0.00"},{"v":0,"d":"$0.00"},{"v":0,"d":"$0.00"},{"v":0,"d":"$0.00"},{"v":0,"d":"$0.00"},{"v":0,"d":"$0.00"},"ASR-Dental_Financial_Report_SMMC_03.21.23","2023-03-21","Unaudited"]
["Dental","DEF","Default",1900,"1900-01-01","Q3","1900-09-30","Region 6","Member Months","Member Months","Member Months",null,"Member Months",{"v":0,"d":"$0.00"},{"v":0,"d":"$0.00"},{"v":0,"d":"$0.00"},{"v":0,"d":"$0.00"},{"v":0,"d":"$0.00"},{"v":0,"d":"$0.00"},{"$f":"file_name","v":"ASR-Dental_Financial_Report_SMMC_03.21.23"},{"$f":"file_date","v":"2023-03-21"},{"$f":"status","v":"Unaudited"}]
["Dental","DEF","Default",1900,"1900-01-01","Q3","1900-09-30","Region 6","Operating Revenue","Capitation","Capitation","1.1","Capitation",{"v":0,"d":"$0.00"},{"v":0,"d":"$0.00"},{"v":0,"d":"$0.00"},{"v":0,"d":"$0.00"},{"v":0,"d":"$0.00"},{"v":0,"d":"$0.00"},"ASR-Dental_Financial_Report_SMMC_03.21.23","2023-03-21","Unaudited"]
["Dental","DEF","Default",1900,"1900-01-01","Q3","1900-09-30","Region 6","Operating Revenue","Other Revenue","Other Revenue - 9010","1.2","ACA § 9010 related payments",{"v":0,"d":"$0.00"},{"v":0,"d":"$0.00"},{"v":0,"d":"$0.00"},{"v":0,"d":"$0.00"},{"v":0,"d":"$0.00"},{"v":0,"d":"$0.00"},"ASR-Dental_Financial_Report_SMMC_03.21.23","2023-03-21","Unaudited"]
["Dental","DEF","Default",1900,"1900-01-01","Q3","1900-09-30","Region 6","Operating Revenue","Other Revenue","Other Revenue","1.3","Other Revenue",{"v":0,"d":"$0.00"},{"v":0,"d":"$0.00"},{"v":0,"d":"$0.00"},{"v":0,"d":"$0.00"},{"v":0,"d":"$0.00"},{"v":0,"d":"$0.00"},"ASR-Dental_Financial_Report_SMMC_03.21.23","2023-03-21","Unaudited"]
["Dental","DEF","Default",1900,"1900-01-01","Q3","1900-09-30","Region 6","Operating Expense","Medical Expense","Dental Services","2.1","Dental Services Diagnostic",{"v":0,"d":"$0.00"},{"v":0,"d":"$0.00"},{"v":0,"d":"$0.00"},{"v":0,"d":"$0.00"},{"v":0,"d":"$0.00"},{"v":0,"d":"$0.00"},"ASR-Dental_Financial_Report_SMMC_03.21.23","2023-03-21","Unaudited"]
["Dental","DEF","Default",1900,"1900-01-01","Q3","1900-09-30","Region 6","Operating Expense","Medical Expense","Dental Services",2.2,"Dental Services Preventive",{"v":0,"d":"$0.00"},{"v":0,"d":"$0.00"},{"v":0,"d":"$0.00"},{"v":0,"d":"$0.00"},{"v":0,"d":"$0.00"},{"v":0,"d":"$0.00"},"ASR-Dental_Financial_Report_SMMC_03.21.23","2023-03-21","Unaudited"]
["Dental","DEF","Default",1900,"1900-01-01","Q3","1900-09-30","Region 6","Operating Expense","Medical Expense","Dental Services","2.3","Dental Services Restorative",{"v":0,"d":"$0.00"},{"v":0,"d":"$0.00"},{"v":0,"d":"$0.00"},{"v":0,"d":"$0.00"},{"v":0,"d":"$0.00"},{"v":0,"d":"$0.00"},"ASR-Dental_Financial_Report_SMMC_03.21.23","2023-03-21","Unaudited"]
["Dental","DEF","Default",1900,"1900-01-01","Q3","1900-09-30","Region 6","Operating Expense","Medical Expense","Dental Services","2.4","Dental Services Endodontics",{"v":0,"d":"$0.00"},{"v":0,"d":"$0.00"},{"v":0,"d":"$0.00"},{"v":0,"d":"$0.00"},{"v":0,"d":"$0.00"},{"v":0,"d":"$0.00"},"ASR-Dental_Financial_Report_SMMC_03.21.23","2023-03-21","Unaudited"]
["Dental","DEF","Default",1900,"1900-01-01","Q3","1900-09-30","Region 6","Operating Expense","Medical Expense","Dental Services","2.5","Dental Services Periodontics",{"$f":"IF(OR(AND($F1162=\"PY\",N$1<>\"Prior Year\"),AND($F1162<>\"PY\",N$1=\"Prior Year\")),0,INDEX(INDIRECT(\"'Dental Rev-Exp \"&$H1162&\"'!$A$1:$CA$200\"),IF($J1162=\"Member Months\",MATCH($J1162,INDIRECT(\"'Dental Rev-Exp \"&$H1162&\"'!$A$1:$A$200\"),0),MATCH($L1162,INDIRECT(\"'Dental Rev-Exp \"&$H1162&\"'!$B$1:$B$200\"),0)),IF($F1162=\"PY\",MATCH(\"Prior Year Adjustments\",INDIRECT(\"'Dental Rev-Exp \"&$H1162&\"'!$A$8:$CA$8\"),0),MATCH(IF($F1162=\"Q1\",\"JANUARY - MARCH (Q1)\",IF($F1162=\"Q2\",\"APRIL - JUNE (Q2)\",IF($F1162=\"Q3\",\"JULY - SEPTEMBER (Q3)\",IF($F1162=\"Q4\",\"OCTOBER - DECEMBER (Q4)\",0)))),INDIRECT(\"'Dental Rev-Exp \"&$H1162&\"'!$A$7:$CA$7\"),0)+MATCH(N$1,INDIRECT(\"'Dental Rev-Exp \"&$H1162&\"'!$D$8:$CA$8\"),0)-1)))","v":{"v":0,"d":"$0.00"}},{"v":0,"d":"$0.00"},{"v":0,"d":"$0.00"},{"v":0,"d":"$0.00"},{"v":0,"d":"$0.00"},{"v":0,"d":"$0.00"},"ASR-Dental_Financial_Report_SMMC_03.21.23","2023-03-21","Unaudited"]
["Dental","DEF","Default",1900,"1900-01-01","Q3","1900-09-30","Region 6","Operating Expense","Medical Expense","Dental Services","2.6","Dental Services Prosthodontics",{"v":0,"d":"$0.00"},{"v":0,"d":"$0.00"},{"v":0,"d":"$0.00"},{"v":0,"d":"$0.00"},{"v":0,"d":"$0.00"},{"v":0,"d":"$0.00"},"ASR-Dental_Financial_Report_SMMC_03.21.23","2023-03-21","Unaudited"]
["Dental","DEF","Default",1900,"1900-01-01","Q3","1900-09-30","Region 6","Operating Expense","Medical Expense","Dental Services","2.7","Dental Services Prosthodontics, fixed",{"v":0,"d":"$0.00"},{"v":0,"d":"$0.00"},{"v":0,"d":"$0.00"},{"v":0,"d":"$0.00"},{"v":0,"d":"$0.00"},{"v":0,"d":"$0.00"},"ASR-Dental_Financial_Report_SMMC_03.21.23","2023-03-21","Unaudited"]
["Dental","DEF","Default",1900,"1900-01-01","Q3","1900-09-30","Region 6","Operating Expense","Medical Expense","Dental Services","2.8","Dental Services Oral and Maxillofacial Surgery",{"v":0,"d":"$0.00"},{"v":0,"d":"$0.00"},{"v":0,"d":"$0.00"},{"v":0,"d":"$0.00"},{"v":0,"d":"$0.00"},{"v":0,"d":"$0.00"},"ASR-Dental_Financial_Report_SMMC_03.21.23","2023-03-21","Unaudited"]
["Dental","DEF","Default",1900,"1900-01-01","Q3","1900-09-30","Region 6","Operating Expense","Medical Expense","Dental Services","2.9","Dental Services Orthodontics",{"v":0,"d":"$0.00"},{"v":0,"d":"$0.00"},{"v":0,"d":"$0.00"},{"v":0,"d":"$0.00"},{"v":0,"d":"$0.00"},{"v":0,"d":"$0.00"},"ASR-Dental_Financial_Report_SMMC_03.21.23","2023-03-21","Unaudited"]
["Dental","DEF","Default",1900,"1900-01-01","Q3","1900-09-30","Region 6","Operating Expense","Medical Expense","Dental Services","2.10","Dental Services Adjunctive General Services",{"v":0,"d":"$0.00"},{"v":0,"d":"$0.00"},{"v":0,"d":"$0.00"},{"v":0,"d":"$0.00"},{"v":0,"d":"$0.00"},{"v":0,"d":"$0.00"},"ASR-Dental_Financial_Report_SMMC_03.21.23","2023-03-21","Unaudited"]
["Dental","DEF","Default",1900,"1900-01-01","Q3","1900-09-30","Region 6","Operating Expense","Medical Expense","Dental Services","2.11","Dental Services Other",{"v":0,"d":"$0.00"},{"v":0,"d":"$0.00"},{"v":0,"d":"$0.00"},{"v":0,"d":"$0.00"},{"v":0,"d":"$0.00"},{"v":0,"d":"$0.00"},"ASR-Dental_Financial_Report_SMMC_03.21.23","2023-03-21","Unaudited"]
["Dental","DEF","Default",1900,"1900-01-01","Q3","1900-09-30","Region 6","Operating Expense","Medical Expense","Expanded Benefits","2.12","Dental Expanded Benefits",{"v":0,"d":"$0.00"},{"v":0,"d":"$0.00"},{"v":0,"d":"$0.00"},{"v":0,"d":"$0.00"},{"v":0,"d":"$0.00"},{"v":0,"d":"$0.00"},"ASR-Dental_Financial_Report_SMMC_03.21.23","2023-03-21","Unaudited"]
["Dental","DEF","Default",1900,"1900-01-01","Q3","1900-09-30","Region 6","Operating Expense","Medical Expense","Dental Services","2.13","Dental Services Paid through Subcapitation",{"v":0,"d":"$0.00"},{"v":0,"d":"$0.00"},{"v":0,"d":"$0.00"},{"v":0,"d":"$0.00"},{"v":0,"d":"$0.00"},{"v":0,"d":"$0.00"},"ASR-Dental_Financial_Report_SMMC_03.21.23","2023-03-21","Unaudited"]
["Dental","DEF","Default",1900,"1900-01-01","Q3","1900-09-30","Region 6","Operating Expense","Medical Expense","Dental Services","2.14","Ending IBNP for Dental Services",{"v":0,"d":"$0.00"},{"v":0,"d":"$0.00"},{"v":0,"d":"$0.00"},{"v":0,"d":"$0.00"},{"v":0,"d":"$0.00"},{"v":0,"d":"$0.00"},"ASR-Dental_Financial_Report_SMMC_03.21.23","2023-03-21","Unaudited"]
["Dental","DEF","Default",1900,"1900-01-01","Q3","1900-09-30","Region 6","Operating Expense","Medical Expense","Dental Services","2.15","Dental Settlements/AP",{"$f":"IF(OR(AND($F1172=\"PY\",N$1<>\"Prior Year\"),AND($F1172<>\"PY\",N$1=\"Prior Year\")),0,INDEX(INDIRECT(\"'Dental Rev-Exp \"&$H1172&\"'!$A$1:$CA$200\"),IF($J1172=\"Member Months\",MATCH($J1172,INDIRECT(\"'Dental Rev-Exp \"&$H1172&\"'!$A$1:$A$200\"),0),MATCH($L1172,INDIRECT(\"'Dental Rev-Exp \"&$H1172&\"'!$B$1:$B$200\"),0)),IF($F1172=\"PY\",MATCH(\"Prior Year Adjustments\",INDIRECT(\"'Dental Rev-Exp \"&$H1172&\"'!$A$8:$CA$8\"),0),MATCH(IF($F1172=\"Q1\",\"JANUARY - MARCH (Q1)\",IF($F1172=\"Q2\",\"APRIL - JUNE (Q2)\",IF($F1172=\"Q3\",\"JULY - SEPTEMBER (Q3)\",IF($F1172=\"Q4\",\"OCTOBER - DECEMBER (Q4)\",0)))),INDIRECT(\"'Dental Rev-Exp \"&$H1172&\"'!$A$7:$CA$7\"),0)+MATCH(N$1,INDIRECT(\"'Dental Rev-Exp \"&$H1172&\"'!$D$8:$CA$8\"),0)-1)))","v":{"v":0,"d":"$0.00"}},{"v":0,"d":"$0.00"},{"v":0,"d":"$0.00"},{"v":0,"d":"$0.00"},{"v":0,"d":"$0.00"},{"v":0,"d":"$0.00"},"ASR-Dental_Financial_Report_SMMC_03.21.23","2023-03-21","Unaudited"]
["Dental","DEF","Default",1900,"1900-01-01","Q3","1900-09-30","Region 6","Operating Expense","Medical Expense","Other Medical","3.5","TPL & Fraud/Abuse Recoveries",{"v":0,"d":"$0.00"},{"v":0,"d":"$0.00"},{"v":0,"d":"$0.00"},{"v":0,"d":"$0.00"},{"v":0,"d":"$0.00"},{"v":0,"d":"$0.00"},"ASR-Dental_Financial_Report_SMMC_03.21.23","2023-03-21","Unaudited"]
["Dental","DEF","Default",1900,"1900-01-01","Q3","1900-09-30","Region 6","Operating Expense","Medical Expense","Other Medical",3.6,"Premium Deficiency Reserve",{"v":0,"d":"$0.00"},{"v":0,"d":"$0.00"},{"v":0,"d":"$0.00"},{"v":0,"d":"$0.00"},{"v":0,"d":"$0.00"},{"v":0,"d":"$0.00"},"ASR-Dental_Financial_Report_SMMC_03.21.23","2023-03-21","Unaudited"]
["Dental","DEF","Default",1900,"1900-01-01","Q3","1900-09-30","Region 6","Operating Expense","Medical Expense","Other Medical","3.8","Reinsurance Premiums",{"v":0,"d":"$0.00"},{"v":0,"d":"$0.00"},{"v":0,"d":"$0.00"},{"v":0,"d":"$0.00"},{"v":0,"d":"$0.00"},{"v":0,"d":"$0.00"},"ASR-Dental_Financial_Report_SMMC_03.21.23","2023-03-21","Unaudited"]
["Dental","DEF","Default",1900,"1900-01-01","Q3","1900-09-30","Region 6","Operating Expense","Medical Expense","Other Medical","3.9","Reinsurance Recoveries",{"v":0,"d":"$0.00"},{"v":0,"d":"$0.00"},{"v":0,"d":"$0.00"},{"v":0,"d":"$0.00"},{"v":0,"d":"$0.00"},{"v":0,"d":"$0.00"},"ASR-Dental_Financial_Report_SMMC_03.21.23","2023-03-21","Unaudited"]
["Dental","DEF","Default",1900,"1900-01-01","Q3","1900-09-30","Region 6","Operating Expense","Administrative Expense","Administrative","4.1","Salaries & Benefits",{"v":0,"d":"$0.00"},{"v":0,"d":"$0.00"},{"v":0,"d":"$0.00"},{"v":0,"d":"$0.00"},{"v":0,"d":"$0.00"},{"v":0,"d":"$0.00"},"ASR-Dental_Financial_Report_SMMC_03.21.23","2023-03-21","Unaudited"]
["Dental","DEF","Default",1900,"1900-01-01","Q3","1900-09-30","Region 6","Operating Expense","Administrative Expense","Administrative","4.2","Administrative Services",{"v":0,"d":"$0.00"},{"v":0,"d":"$0.00"},{"v":0,"d":"$0.00"},{"v":0,"d":"$0.00"},{"v":0,"d":"$0.00"},{"v":0,"d":"$0.00"},"ASR-Dental_Financial_Report_SMMC_03.21.23","2023-03-21","Unaudited"]
["Dental","DEF","Default",1900,"1900-01-01","Q3","1900-09-30","Region 6","Operating Expense","Administrative Expense","Administrative","4.3","Information Systems",{"v":0,"d":"$0.00"},{"v":0,"d":"$0.00"},{"v":0,"d":"$0.00"},{"v":0,"d":"$0.00"},{"v":0,"d":"$0.00"},{"v":0,"d":"$0.00"},"ASR-Dental_Financial_Report_SMMC_03.21.23","2023-03-21","Unaudited"]
["Dental","DEF","Default",1900,"1900-01-01","Q3","1900-09-30","Region 6","Operating Expense","Administrative Expense","Administrative","4.4","Marketing Expenses",{"v":0,"d":"$0.00"},{"v":0,"d":"$0.00"},{"v":0,"d":"$0.00"},{"v":0,"d":"$0.00"},{"v":0,"d":"$0.00"},{"v":0,"d":"$0.00"},"ASR-Dental_Financial_Report_SMMC_03.21.23","2023-03-21","Unaudited"]
["Dental","DEF","Default",1900,"1900-01-01","Q3","1900-09-30","Region 6","Operating Expense","Administrative Expense","Administrative","4.5","General  Administration",{"v":0,"d":"$0.00"},{"v":0,"d":"$0.00"},{"v":0,"d":"$0.00"},{"v":0,"d":"$0.00"},{"v":0,"d":"$0.00"},{"v":0,"d":"$0.00"},"ASR-Dental_Financial_Report_SMMC_03.21.23","2023-03-21","Unaudited"]
["Dental","DEF","Default",1900,"1900-01-01","Q3","1900-09-30","Region 6","Operating Expense","Administrative Expense","Administrative","4.6","Compliance/Regulatory",{"$f":"IF(OR(AND($F1182=\"PY\",N$1<>\"Prior Year\"),AND($F1182<>\"PY\",N$1=\"Prior Year\")),0,INDEX(INDIRECT(\"'Dental Rev-Exp \"&$H1182&\"'!$A$1:$CA$200\"),IF($J1182=\"Member Months\",MATCH($J1182,INDIRECT(\"'Dental Rev-Exp \"&$H1182&\"'!$A$1:$A$200\"),0),MATCH($L1182,INDIRECT(\"'Dental Rev-Exp \"&$H1182&\"'!$B$1:$B$200\"),0)),IF($F1182=\"PY\",MATCH(\"Prior Year Adjustments\",INDIRECT(\"'Dental Rev-Exp \"&$H1182&\"'!$A$8:$CA$8\"),0),MATCH(IF($F1182=\"Q1\",\"JANUARY - MARCH (Q1)\",IF($F1182=\"Q2\",\"APRIL - JUNE (Q2)\",IF($F1182=\"Q3\",\"JULY - SEPTEMBER (Q3)\",IF($F1182=\"Q4\",\"OCTOBER - DECEMBER (Q4)\",0)))),INDIRECT(\"'Dental Rev-Exp \"&$H1182&\"'!$A$7:$CA$7\"),0)+MATCH(N$1,INDIRECT(\"'Dental Rev-Exp \"&$H1182&\"'!$D$8:$CA$8\"),0)-1)))","v":{"v":0,"d":"$0.00"}},{"v":0,"d":"$0.00"},{"v":0,"d":"$0.00"},{"v":0,"d":"$0.00"},{"v":0,"d":"$0.00"},{"v":0,"d":"$0.00"},"ASR-Dental_Financial_Report_SMMC_03.21.23","2023-03-21","Unaudited"]
["Dental","DEF","Default",1900,"1900-01-01","Q3","1900-09-30","Region 6","Operating Expense","Taxes & Fees","Taxes & Fees","5.1","State Premium tax",{"v":0,"d":"$0.00"},{"v":0,"d":"$0.00"},{"v":0,"d":"$0.00"},{"v":0,"d":"$0.00"},{"v":0,"d":"$0.00"},{"v":0,"d":"$0.00"},"ASR-Dental_Financial_Report_SMMC_03.21.23","2023-03-21","Unaudited"]
["Dental","DEF","Default",1900,"1900-01-01","Q3","1900-09-30","Region 6","Operating Expense","Taxes & Fees","Taxes & Fees","5.2","Department of Insurance Assessments",{"v":0,"d":"$0.00"},{"v":0,"d":"$0.00"},{"v":0,"d":"$0.00"},{"v":0,"d":"$0.00"},{"v":0,"d":"$0.00"},{"v":0,"d":"$0.00"},"ASR-Dental_Financial_Report_SMMC_03.21.23","2023-03-21","Unaudited"]
["Dental","DEF","Default",1900,"1900-01-01","Q3","1900-09-30","Region 6","Operating Expense","Taxes & Fees","Taxes & Fees","5.3","Section 9010 Health Insurance Providers Fee",{"v":0,"d":"$0.00"},{"v":0,"d":"$0.00"},{"v":0,"d":"$0.00"},{"v":0,"d":"$0.00"},{"v":0,"d":"$0.00"},{"v":0,"d":"$0.00"},"ASR-Dental_Financial_Report_SMMC_03.21.23","2023-03-21","Unaudited"]
["Dental","DEF","Default",1900,"1900-01-01","Q3","1900-09-30","Region 6","Operating Expense","Taxes & Fees","Taxes & Fees","5.4","Other 1",{"v":0,"d":"$0.00"},{"v":0,"d":"$0.00"},{"v":0,"d":"$0.00"},{"v":0,"d":"$0.00"},{"v":0,"d":"$0.00"},{"v":0,"d":"$0.00"},"ASR-Dental_Financial_Report_SMMC_03.21.23","2023-03-21","Unaudited"]
["Dental","DEF","Default",1900,"1900-01-01","Q3","1900-09-30","Region 6","Operating Expense","Taxes & Fees","Taxes & Fees","5.5","Other 2",{"v":0,"d":"$0.00"},{"v":0,"d":"$0.00"},{"v":0,"d":"$0.00"},{"v":0,"d":"$0.00"},{"v":0,"d":"$0.00"},{"v":0,"d":"$0.00"},"ASR-Dental_Financial_Report_SMMC_03.21.23","2023-03-21","Unaudited"]
["Dental","DEF","Default",1900,"1900-01-01","Q3","1900-09-30","Region 6","Operating Expense","Taxes & Fees","Taxes & Fees","5.6","Other 3",{"v":0,"d":"$0.00"},{"v":0,"d":"$0.00"},{"v":0,"d":"$0.00"},{"v":0,"d":"$0.00"},{"v":0,"d":"$0.00"},{"v":0,"d":"$0.00"},"ASR-Dental_Financial_Report_SMMC_03.21.23","2023-03-21","Unaudited"]
["Dental","DEF","Default",1900,"1900-01-01","Q3","1900-09-30","Region 6","Non-Operating Expense","Income Tax Expense","Income Tax Expense","8.0","Income Tax Expense",{"v":0,"d":"$0.00"},{"v":0,"d":"$0.00"},{"v":0,"d":"$0.00"},{"v":0,"d":"$0.00"},{"v":0,"d":"$0.00"},{"v":0,"d":"$0.00"},"ASR-Dental_Financial_Report_SMMC_03.21.23","2023-03-21","Unaudited"]
["Dental","DEF","Default",1900,"1900-01-01","Q4","1900-12-31","Region 6","Member Months","Member Months","Member Months",null,"Member Months",{"v":0,"d":"$0.00"},{"v":0,"d":"$0.00"},{"v":0,"d":"$0.00"},{"v":0,"d":"$0.00"},{"v":0,"d":"$0.00"},{"v":0,"d":"$0.00"},"ASR-Dental_Financial_Report_SMMC_03.21.23","2023-03-21","Unaudited"]
["Dental","DEF","Default",1900,"1900-01-01","Q4","1900-12-31","Region 6","Operating Revenue","Capitation","Capitation","1.1","Capitation",{"v":0,"d":"$0.00"},{"v":0,"d":"$0.00"},{"v":0,"d":"$0.00"},{"v":0,"d":"$0.00"},{"v":0,"d":"$0.00"},{"v":0,"d":"$0.00"},"ASR-Dental_Financial_Report_SMMC_03.21.23","2023-03-21","Unaudited"]
["Dental","DEF","Default",1900,"1900-01-01","Q4","1900-12-31","Region 6","Operating Revenue","Other Revenue","Other Revenue - 9010","1.2","ACA § 9010 related payments",{"$f":"IF(OR(AND($F1192=\"PY\",N$1<>\"Prior Year\"),AND($F1192<>\"PY\",N$1=\"Prior Year\")),0,INDEX(INDIRECT(\"'Dental Rev-Exp \"&$H1192&\"'!$A$1:$CA$200\"),IF($J1192=\"Member Months\",MATCH($J1192,INDIRECT(\"'Dental Rev-Exp \"&$H1192&\"'!$A$1:$A$200\"),0),MATCH($L1192,INDIRECT(\"'Dental Rev-Exp \"&$H1192&\"'!$B$1:$B$200\"),0)),IF($F1192=\"PY\",MATCH(\"Prior Year Adjustments\",INDIRECT(\"'Dental Rev-Exp \"&$H1192&\"'!$A$8:$CA$8\"),0),MATCH(IF($F1192=\"Q1\",\"JANUARY - MARCH (Q1)\",IF($F1192=\"Q2\",\"APRIL - JUNE (Q2)\",IF($F1192=\"Q3\",\"JULY - SEPTEMBER (Q3)\",IF($F1192=\"Q4\",\"OCTOBER - DECEMBER (Q4)\",0)))),INDIRECT(\"'Dental Rev-Exp \"&$H1192&\"'!$A$7:$CA$7\"),0)+MATCH(N$1,INDIRECT(\"'Dental Rev-Exp \"&$H1192&\"'!$D$8:$CA$8\"),0)-1)))","v":{"v":0,"d":"$0.00"}},{"v":0,"d":"$0.00"},{"v":0,"d":"$0.00"},{"v":0,"d":"$0.00"},{"v":0,"d":"$0.00"},{"v":0,"d":"$0.00"},"ASR-Dental_Financial_Report_SMMC_03.21.23","2023-03-21","Unaudited"]
["Dental","DEF","Default",1900,"1900-01-01","Q4","1900-12-31","Region 6","Operating Revenue","Other Revenue","Other Revenue","1.3","Other Revenue",{"v":0,"d":"$0.00"},{"v":0,"d":"$0.00"},{"v":0,"d":"$0.00"},{"v":0,"d":"$0.00"},{"v":0,"d":"$0.00"},{"v":0,"d":"$0.00"},"ASR-Dental_Financial_Report_SMMC_03.21.23","2023-03-21","Unaudited"]
["Dental","DEF","Default",1900,"1900-01-01","Q4","1900-12-31","Region 6","Operating Expense","Medical Expense","Dental Services","2.1","Dental Services Diagnostic",{"v":0,"d":"$0.00"},{"v":0,"d":"$0.00"},{"v":0,"d":"$0.00"},{"v":0,"d":"$0.00"},{"v":0,"d":"$0.00"},{"v":0,"d":"$0.00"},"ASR-Dental_Financial_Report_SMMC_03.21.23","2023-03-21","Unaudited"]
["Dental","DEF","Default",1900,"1900-01-01","Q4","1900-12-31","Region 6","Operating Expense","Medical Expense","Dental Services",2.2,"Dental Services Preventive",{"v":0,"d":"$0.00"},{"v":0,"d":"$0.00"},{"v":0,"d":"$0.00"},{"v":0,"d":"$0.00"},{"v":0,"d":"$0.00"},{"v":0,"d":"$0.00"},"ASR-Dental_Financial_Report_SMMC_03.21.23","2023-03-21","Unaudited"]
["Dental","DEF","Default",1900,"1900-01-01","Q4","1900-12-31","Region 6","Operating Expense","Medical Expense","Dental Services","2.3","Dental Services Restorative",{"v":0,"d":"$0.00"},{"v":0,"d":"$0.00"},{"v":0,"d":"$0.00"},{"v":0,"d":"$0.00"},{"v":0,"d":"$0.00"},{"v":0,"d":"$0.00"},"ASR-Dental_Financial_Report_SMMC_03.21.23","2023-03-21","Unaudited"]
["Dental","DEF","Default",1900,"1900-01-01","Q4","1900-12-31","Region 6","Operating Expense","Medical Expense","Dental Services","2.4","Dental Services Endodontics",{"v":0,"d":"$0.00"},{"v":0,"d":"$0.00"},{"v":0,"d":"$0.00"},{"v":0,"d":"$0.00"},{"v":0,"d":"$0.00"},{"v":0,"d":"$0.00"},"ASR-Dental_Financial_Report_SMMC_03.21.23","2023-03-21","Unaudited"]
["Dental","DEF","Default",1900,"1900-01-01","Q4","1900-12-31","Region 6","Operating Expense","Medical Expense","Dental Services","2.5","Dental Services Periodontics",{"v":0,"d":"$0.00"},{"v":0,"d":"$0.00"},{"v":0,"d":"$0.00"},{"v":0,"d":"$0.00"},{"v":0,"d":"$0.00"},{"v":0,"d":"$0.00"},"ASR-Dental_Financial_Report_SMMC_03.21.23","2023-03-21","Unaudited"]
["Dental","DEF","Default",1900,"1900-01-01","Q4","1900-12-31","Region 6","Operating Expense","Medical Expense","Dental Services","2.6","Dental Services Prosthodontics",{"v":0,"d":"$0.00"},{"v":0,"d":"$0.00"},{"v":0,"d":"$0.00"},{"v":0,"d":"$0.00"},{"v":0,"d":"$0.00"},{"v":0,"d":"$0.00"},"ASR-Dental_Financial_Report_SMMC_03.21.23","2023-03-21","Unaudited"]
["Dental","DEF","Default",1900,"1900-01-01","Q4","1900-12-31","Region 6","Operating Expense","Medical Expense","Dental Services","2.7","Dental Services Prosthodontics, fixed",{"v":0,"d":"$0.00"},{"v":0,"d":"$0.00"},{"v":0,"d":"$0.00"},{"v":0,"d":"$0.00"},{"v":0,"d":"$0.00"},{"v":0,"d":"$0.00"},"ASR-Dental_Financial_Report_SMMC_03.21.23","2023-03-21","Unaudited"]
["Dental","DEF","Default",1900,"1900-01-01","Q4","1900-12-31","Region 6","Operating Expense","Medical Expense","Dental Services","2.8","Dental Services Oral and Maxillofacial Surgery",{"v":0,"d":"$0.00"},{"v":0,"d":"$0.00"},{"v":0,"d":"$0.00"},{"v":0,"d":"$0.00"},{"v":0,"d":"$0.00"},{"v":0,"d":"$0.00"},"ASR-Dental_Financial_Report_SMMC_03.21.23","2023-03-21","Unaudited"]
["Dental","DEF","Default",1900,"1900-01-01","Q4","1900-12-31","Region 6","Operating Expense","Medical Expense","Dental Services","2.9","Dental Services Orthodontics",{"$f":"IF(OR(AND($F1202=\"PY\",N$1<>\"Prior Year\"),AND($F1202<>\"PY\",N$1=\"Prior Year\")),0,INDEX(INDIRECT(\"'Dental Rev-Exp \"&$H1202&\"'!$A$1:$CA$200\"),IF($J1202=\"Member Months\",MATCH($J1202,INDIRECT(\"'Dental Rev-Exp \"&$H1202&\"'!$A$1:$A$200\"),0),MATCH($L1202,INDIRECT(\"'Dental Rev-Exp \"&$H1202&\"'!$B$1:$B$200\"),0)),IF($F1202=\"PY\",MATCH(\"Prior Year Adjustments\",INDIRECT(\"'Dental Rev-Exp \"&$H1202&\"'!$A$8:$CA$8\"),0),MATCH(IF($F1202=\"Q1\",\"JANUARY - MARCH (Q1)\",IF($F1202=\"Q2\",\"APRIL - JUNE (Q2)\",IF($F1202=\"Q3\",\"JULY - SEPTEMBER (Q3)\",IF($F1202=\"Q4\",\"OCTOBER - DECEMBER (Q4)\",0)))),INDIRECT(\"'Dental Rev-Exp \"&$H1202&\"'!$A$7:$CA$7\"),0)+MATCH(N$1,INDIRECT(\"'Dental Rev-Exp \"&$H1202&\"'!$D$8:$CA$8\"),0)-1)))","v":{"v":0,"d":"$0.00"}},{"v":0,"d":"$0.00"},{"v":0,"d":"$0.00"},{"v":0,"d":"$0.00"},{"v":0,"d":"$0.00"},{"v":0,"d":"$0.00"},"ASR-Dental_Financial_Report_SMMC_03.21.23","2023-03-21","Unaudited"]
["Dental","DEF","Default",1900,"1900-01-01","Q4","1900-12-31","Region 6","Operating Expense","Medical Expense","Dental Services","2.10","Dental Services Adjunctive General Services",{"v":0,"d":"$0.00"},{"v":0,"d":"$0.00"},{"v":0,"d":"$0.00"},{"v":0,"d":"$0.00"},{"v":0,"d":"$0.00"},{"v":0,"d":"$0.00"},"ASR-Dental_Financial_Report_SMMC_03.21.23","2023-03-21","Unaudited"]
["Dental","DEF","Default",1900,"1900-01-01","Q4","1900-12-31","Region 6","Operating Expense","Medical Expense","Dental Services","2.11","Dental Services Other",{"v":0,"d":"$0.00"},{"v":0,"d":"$0.00"},{"v":0,"d":"$0.00"},{"v":0,"d":"$0.00"},{"v":0,"d":"$0.00"},{"v":0,"d":"$0.00"},"ASR-Dental_Financial_Report_SMMC_03.21.23","2023-03-21","Unaudited"]
["Dental","DEF","Default",1900,"1900-01-01","Q4","1900-12-31","Region 6","Operating Expense","Medical Expense","Expanded Benefits","2.12","Dental Expanded Benefits",{"v":0,"d":"$0.00"},{"v":0,"d":"$0.00"},{"v":0,"d":"$0.00"},{"v":0,"d":"$0.00"},{"v":0,"d":"$0.00"},{"v":0,"d":"$0.00"},"ASR-Dental_Financial_Report_SMMC_03.21.23","2023-03-21","Unaudited"]
["Dental","DEF","Default",1900,"1900-01-01","Q4","1900-12-31","Region 6","Operating Expense","Medical Expense","Dental Services","2.13","Dental Services Paid through Subcapitation",{"v":0,"d":"$0.00"},{"v":0,"d":"$0.00"},{"v":0,"d":"$0.00"},{"v":0,"d":"$0.00"},{"v":0,"d":"$0.00"},{"v":0,"d":"$0.00"},"ASR-Dental_Financial_Report_SMMC_03.21.23","2023-03-21","Unaudited"]
["Dental","DEF","Default",1900,"1900-01-01","Q4","1900-12-31","Region 6","Operating Expense","Medical Expense","Dental Services","2.14","Ending IBNP for Dental Services",{"v":0,"d":"$0.00"},{"v":0,"d":"$0.00"},{"v":0,"d":"$0.00"},{"v":0,"d":"$0.00"},{"v":0,"d":"$0.00"},{"v":0,"d":"$0.00"},"ASR-Dental_Financial_Report_SMMC_03.21.23","2023-03-21","Unaudited"]
["Dental","DEF","Default",1900,"1900-01-01","Q4","1900-12-31","Region 6","Operating Expense","Medical Expense","Dental Services","2.15","Dental Settlements/AP",{"v":0,"d":"$0.00"},{"v":0,"d":"$0.00"},{"v":0,"d":"$0.00"},{"v":0,"d":"$0.00"},{"v":0,"d":"$0.00"},{"v":0,"d":"$0.00"},"ASR-Dental_Financial_Report_SMMC_03.21.23","2023-03-21","Unaudited"]
["Dental","DEF","Default",1900,"1900-01-01","Q4","1900-12-31","Region 6","Operating Expense","Medical Expense","Other Medical","3.5","TPL & Fraud/Abuse Recoveries",{"v":0,"d":"$0.00"},{"v":0,"d":"$0.00"},{"v":0,"d":"$0.00"},{"v":0,"d":"$0.00"},{"v":0,"d":"$0.00"},{"v":0,"d":"$0.00"},"ASR-Dental_Financial_Report_SMMC_03.21.23","2023-03-21","Unaudited"]
["Dental","DEF","Default",1900,"1900-01-01","Q4","1900-12-31","Region 6","Operating Expense","Medical Expense","Other Medical",3.6,"Premium Deficiency Reserve",{"v":0,"d":"$0.00"},{"v":0,"d":"$0.00"},{"v":0,"d":"$0.00"},{"v":0,"d":"$0.00"},{"v":0,"d":"$0.00"},{"v":0,"d":"$0.00"},"ASR-Dental_Financial_Report_SMMC_03.21.23","2023-03-21","Unaudited"]
["Dental","DEF","Default",1900,"1900-01-01","Q4","1900-12-31","Region 6","Operating Expense","Medical Expense","Other Medical","3.8","Reinsurance Premiums",{"v":0,"d":"$0.00"},{"v":0,"d":"$0.00"},{"v":0,"d":"$0.00"},{"v":0,"d":"$0.00"},{"v":0,"d":"$0.00"},{"v":0,"d":"$0.00"},"ASR-Dental_Financial_Report_SMMC_03.21.23","2023-03-21","Unaudited"]
["Dental","DEF","Default",1900,"1900-01-01","Q4","1900-12-31","Region 6","Operating Expense","Medical Expense","Other Medical","3.9","Reinsurance Recoveries",{"$f":"IF(OR(AND($F1212=\"PY\",N$1<>\"Prior Year\"),AND($F1212<>\"PY\",N$1=\"Prior Year\")),0,INDEX(INDIRECT(\"'Dental Rev-Exp \"&$H1212&\"'!$A$1:$CA$200\"),IF($J1212=\"Member Months\",MATCH($J1212,INDIRECT(\"'Dental Rev-Exp \"&$H1212&\"'!$A$1:$A$200\"),0),MATCH($L1212,INDIRECT(\"'Dental Rev-Exp \"&$H1212&\"'!$B$1:$B$200\"),0)),IF($F1212=\"PY\",MATCH(\"Prior Year Adjustments\",INDIRECT(\"'Dental Rev-Exp \"&$H1212&\"'!$A$8:$CA$8\"),0),MATCH(IF($F1212=\"Q1\",\"JANUARY - MARCH (Q1)\",IF($F1212=\"Q2\",\"APRIL - JUNE (Q2)\",IF($F1212=\"Q3\",\"JULY - SEPTEMBER (Q3)\",IF($F1212=\"Q4\",\"OCTOBER - DECEMBER (Q4)\",0)))),INDIRECT(\"'Dental Rev-Exp \"&$H1212&\"'!$A$7:$CA$7\"),0)+MATCH(N$1,INDIRECT(\"'Dental Rev-Exp \"&$H1212&\"'!$D$8:$CA$8\"),0)-1)))","v":{"v":0,"d":"$0.00"}},{"v":0,"d":"$0.00"},{"v":0,"d":"$0.00"},{"v":0,"d":"$0.00"},{"v":0,"d":"$0.00"},{"v":0,"d":"$0.00"},"ASR-Dental_Financial_Report_SMMC_03.21.23","2023-03-21","Unaudited"]
["Dental","DEF","Default",1900,"1900-01-01","Q4","1900-12-31","Region 6","Operating Expense","Administrative Expense","Administrative","4.1","Salaries & Benefits",{"v":0,"d":"$0.00"},{"v":0,"d":"$0.00"},{"v":0,"d":"$0.00"},{"v":0,"d":"$0.00"},{"v":0,"d":"$0.00"},{"v":0,"d":"$0.00"},"ASR-Dental_Financial_Report_SMMC_03.21.23","2023-03-21","Unaudited"]
["Dental","DEF","Default",1900,"1900-01-01","Q4","1900-12-31","Region 6","Operating Expense","Administrative Expense","Administrative","4.2","Administrative Services",{"v":0,"d":"$0.00"},{"v":0,"d":"$0.00"},{"v":0,"d":"$0.00"},{"v":0,"d":"$0.00"},{"v":0,"d":"$0.00"},{"v":0,"d":"$0.00"},"ASR-Dental_Financial_Report_SMMC_03.21.23","2023-03-21","Unaudited"]
["Dental","DEF","Default",1900,"1900-01-01","Q4","1900-12-31","Region 6","Operating Expense","Administrative Expense","Administrative","4.3","Information Systems",{"v":0,"d":"$0.00"},{"v":0,"d":"$0.00"},{"v":0,"d":"$0.00"},{"v":0,"d":"$0.00"},{"v":0,"d":"$0.00"},{"v":0,"d":"$0.00"},"ASR-Dental_Financial_Report_SMMC_03.21.23","2023-03-21","Unaudited"]
["Dental","DEF","Default",1900,"1900-01-01","Q4","1900-12-31","Region 6","Operating Expense","Administrative Expense","Administrative","4.4","Marketing Expenses",{"v":0,"d":"$0.00"},{"v":0,"d":"$0.00"},{"v":0,"d":"$0.00"},{"v":0,"d":"$0.00"},{"v":0,"d":"$0.00"},{"v":0,"d":"$0.00"},"ASR-Dental_Financial_Report_SMMC_03.21.23","2023-03-21","Unaudited"]
["Dental","DEF","Default",1900,"1900-01-01","Q4","1900-12-31","Region 6","Operating Expense","Administrative Expense","Administrative","4.5","General  Administration",{"v":0,"d":"$0.00"},{"v":0,"d":"$0.00"},{"v":0,"d":"$0.00"},{"v":0,"d":"$0.00"},{"v":0,"d":"$0.00"},{"v":0,"d":"$0.00"},"ASR-Dental_Financial_Report_SMMC_03.21.23","2023-03-21","Unaudited"]
["Dental","DEF","Default",1900,"1900-01-01","Q4","1900-12-31","Region 6","Operating Expense","Administrative Expense","Administrative","4.6","Compliance/Regulatory",{"v":0,"d":"$0.00"},{"v":0,"d":"$0.00"},{"v":0,"d":"$0.00"},{"v":0,"d":"$0.00"},{"v":0,"d":"$0.00"},{"v":0,"d":"$0.00"},{"$f":"file_name","v":"ASR-Dental_Financial_Report_SMMC_03.21.23"},{"$f":"file_date","v":"2023-03-21"},{"$f":"status","v":"Unaudited"}]
["Dental","DEF","Default",1900,"1900-01-01","Q4","1900-12-31","Region 6","Operating Expense","Taxes & Fees","Taxes & Fees","5.1","State Premium tax",{"v":0,"d":"$0.00"},{"v":0,"d":"$0.00"},{"v":0,"d":"$0.00"},{"v":0,"d":"$0.00"},{"v":0,"d":"$0.00"},{"v":0,"d":"$0.00"},"ASR-Dental_Financial_Report_SMMC_03.21.23","2023-03-21","Unaudited"]
["Dental","DEF","Default",1900,"1900-01-01","Q4","1900-12-31","Region 6","Operating Expense","Taxes & Fees","Taxes & Fees","5.2","Department of Insurance Assessments",{"v":0,"d":"$0.00"},{"v":0,"d":"$0.00"},{"v":0,"d":"$0.00"},{"v":0,"d":"$0.00"},{"v":0,"d":"$0.00"},{"v":0,"d":"$0.00"},"ASR-Dental_Financial_Report_SMMC_03.21.23","2023-03-21","Unaudited"]
["Dental","DEF","Default",1900,"1900-01-01","Q4","1900-12-31","Region 6","Operating Expense","Taxes & Fees","Taxes & Fees","5.3","Section 9010 Health Insurance Providers Fee",{"v":0,"d":"$0.00"},{"v":0,"d":"$0.00"},{"v":0,"d":"$0.00"},{"v":0,"d":"$0.00"},{"v":0,"d":"$0.00"},{"v":0,"d":"$0.00"},"ASR-Dental_Financial_Report_SMMC_03.21.23","2023-03-21","Unaudited"]
["Dental","DEF","Default",1900,"1900-01-01","Q4","1900-12-31","Region 6","Operating Expense","Taxes & Fees","Taxes & Fees","5.4","Other 1",{"$f":"IF(OR(AND($F1222=\"PY\",N$1<>\"Prior Year\"),AND($F1222<>\"PY\",N$1=\"Prior Year\")),0,INDEX(INDIRECT(\"'Dental Rev-Exp \"&$H1222&\"'!$A$1:$CA$200\"),IF($J1222=\"Member Months\",MATCH($J1222,INDIRECT(\"'Dental Rev-Exp \"&$H1222&\"'!$A$1:$A$200\"),0),MATCH($L1222,INDIRECT(\"'Dental Rev-Exp \"&$H1222&\"'!$B$1:$B$200\"),0)),IF($F1222=\"PY\",MATCH(\"Prior Year Adjustments\",INDIRECT(\"'Dental Rev-Exp \"&$H1222&\"'!$A$8:$CA$8\"),0),MATCH(IF($F1222=\"Q1\",\"JANUARY - MARCH (Q1)\",IF($F1222=\"Q2\",\"APRIL - JUNE (Q2)\",IF($F1222=\"Q3\",\"JULY - SEPTEMBER (Q3)\",IF($F1222=\"Q4\",\"OCTOBER - DECEMBER (Q4)\",0)))),INDIRECT(\"'Dental Rev-Exp \"&$H1222&\"'!$A$7:$CA$7\"),0)+MATCH(N$1,INDIRECT(\"'Dental Rev-Exp \"&$H1222&\"'!$D$8:$CA$8\"),0)-1)))","v":{"v":0,"d":"$0.00"}},{"v":0,"d":"$0.00"},{"v":0,"d":"$0.00"},{"v":0,"d":"$0.00"},{"v":0,"d":"$0.00"},{"v":0,"d":"$0.00"},"ASR-Dental_Financial_Report_SMMC_03.21.23","2023-03-21","Unaudited"]
["Dental","DEF","Default",1900,"1900-01-01","Q4","1900-12-31","Region 6","Operating Expense","Taxes & Fees","Taxes & Fees","5.5","Other 2",{"v":0,"d":"$0.00"},{"v":0,"d":"$0.00"},{"v":0,"d":"$0.00"},{"v":0,"d":"$0.00"},{"v":0,"d":"$0.00"},{"v":0,"d":"$0.00"},"ASR-Dental_Financial_Report_SMMC_03.21.23","2023-03-21","Unaudited"]
["Dental","DEF","Default",1900,"1900-01-01","Q4","1900-12-31","Region 6","Operating Expense","Taxes & Fees","Taxes & Fees","5.6","Other 3",{"v":0,"d":"$0.00"},{"v":0,"d":"$0.00"},{"v":0,"d":"$0.00"},{"v":0,"d":"$0.00"},{"v":0,"d":"$0.00"},{"v":0,"d":"$0.00"},"ASR-Dental_Financial_Report_SMMC_03.21.23","2023-03-21","Unaudited"]
["Dental","DEF","Default",1900,"1900-01-01","Q4","1900-12-31","Region 6","Non-Operating Expense","Income Tax Expense","Income Tax Expense","8.0","Income Tax Expense",{"v":0,"d":"$0.00"},{"v":0,"d":"$0.00"},{"v":0,"d":"$0.00"},{"v":0,"d":"$0.00"},{"v":0,"d":"$0.00"},{"v":0,"d":"$0.00"},"ASR-Dental_Financial_Report_SMMC_03.21.23","2023-03-21","Unaudited"]
["Dental","DEF","Default",1900,"1900-01-01","PY","1/1/1800","Region 6","Member Months","Member Months","Member Months",null,"Member Months",{"v":0,"d":"$0.00"},{"v":0,"d":"$0.00"},{"v":0,"d":"$0.00"},{"v":0,"d":"$0.00"},{"v":0,"d":"$0.00"},{"v":0,"d":"$0.00"},"ASR-Dental_Financial_Report_SMMC_03.21.23","2023-03-21","Unaudited"]
["Dental","DEF","Default",1900,"1900-01-01","PY","1/1/1800","Region 6","Operating Revenue","Capitation","Capitation","1.1","Capitation",{"v":0,"d":"$0.00"},{"v":0,"d":"$0.00"},{"v":0,"d":"$0.00"},{"v":0,"d":"$0.00"},{"v":0,"d":"$0.00"},{"v":0,"d":"$0.00"},"ASR-Dental_Financial_Report_SMMC_03.21.23","2023-03-21","Unaudited"]
["Dental","DEF","Default",1900,"1900-01-01","PY","1/1/1800","Region 6","Operating Revenue","Other Revenue","Other Revenue - 9010","1.2","ACA § 9010 related payments",{"v":0,"d":"$0.00"},{"v":0,"d":"$0.00"},{"v":0,"d":"$0.00"},{"v":0,"d":"$0.00"},{"v":0,"d":"$0.00"},{"v":0,"d":"$0.00"},"ASR-Dental_Financial_Report_SMMC_03.21.23","2023-03-21","Unaudited"]
["Dental","DEF","Default",1900,"1900-01-01","PY","1/1/1800","Region 6","Operating Revenue","Other Revenue","Other Revenue","1.3","Other Revenue",{"v":0,"d":"$0.00"},{"v":0,"d":"$0.00"},{"v":0,"d":"$0.00"},{"v":0,"d":"$0.00"},{"v":0,"d":"$0.00"},{"v":0,"d":"$0.00"},"ASR-Dental_Financial_Report_SMMC_03.21.23","2023-03-21","Unaudited"]
["Dental","DEF","Default",1900,"1900-01-01","PY","1/1/1800","Region 6","Operating Expense","Medical Expense","Dental Services","2.1","Dental Services Diagnostic",{"v":0,"d":"$0.00"},{"v":0,"d":"$0.00"},{"v":0,"d":"$0.00"},{"v":0,"d":"$0.00"},{"v":0,"d":"$0.00"},{"v":0,"d":"$0.00"},"ASR-Dental_Financial_Report_SMMC_03.21.23","2023-03-21","Unaudited"]
["Dental","DEF","Default",1900,"1900-01-01","PY","1/1/1800","Region 6","Operating Expense","Medical Expense","Dental Services",2.2,"Dental Services Preventive",{"v":0,"d":"$0.00"},{"v":0,"d":"$0.00"},{"v":0,"d":"$0.00"},{"v":0,"d":"$0.00"},{"v":0,"d":"$0.00"},{"v":0,"d":"$0.00"},"ASR-Dental_Financial_Report_SMMC_03.21.23","2023-03-21","Unaudited"]
["Dental","DEF","Default",1900,"1900-01-01","PY","1/1/1800","Region 6","Operating Expense","Medical Expense","Dental Services","2.3","Dental Services Restorative",{"$f":"IF(OR(AND($F1232=\"PY\",N$1<>\"Prior Year\"),AND($F1232<>\"PY\",N$1=\"Prior Year\")),0,INDEX(INDIRECT(\"'Dental Rev-Exp \"&$H1232&\"'!$A$1:$CA$200\"),IF($J1232=\"Member Months\",MATCH($J1232,INDIRECT(\"'Dental Rev-Exp \"&$H1232&\"'!$A$1:$A$200\"),0),MATCH($L1232,INDIRECT(\"'Dental Rev-Exp \"&$H1232&\"'!$B$1:$B$200\"),0)),IF($F1232=\"PY\",MATCH(\"Prior Year Adjustments\",INDIRECT(\"'Dental Rev-Exp \"&$H1232&\"'!$A$8:$CA$8\"),0),MATCH(IF($F1232=\"Q1\",\"JANUARY - MARCH (Q1)\",IF($F1232=\"Q2\",\"APRIL - JUNE (Q2)\",IF($F1232=\"Q3\",\"JULY - SEPTEMBER (Q3)\",IF($F1232=\"Q4\",\"OCTOBER - DECEMBER (Q4)\",0)))),INDIRECT(\"'Dental Rev-Exp \"&$H1232&\"'!$A$7:$CA$7\"),0)+MATCH(N$1,INDIRECT(\"'Dental Rev-Exp \"&$H1232&\"'!$D$8:$CA$8\"),0)-1)))","v":{"v":0,"d":"$0.00"}},{"v":0,"d":"$0.00"},{"v":0,"d":"$0.00"},{"v":0,"d":"$0.00"},{"v":0,"d":"$0.00"},{"v":0,"d":"$0.00"},"ASR-Dental_Financial_Report_SMMC_03.21.23","2023-03-21","Unaudited"]
["Dental","DEF","Default",1900,"1900-01-01","PY","1/1/1800","Region 6","Operating Expense","Medical Expense","Dental Services","2.4","Dental Services Endodontics",{"v":0,"d":"$0.00"},{"v":0,"d":"$0.00"},{"v":0,"d":"$0.00"},{"v":0,"d":"$0.00"},{"v":0,"d":"$0.00"},{"v":0,"d":"$0.00"},"ASR-Dental_Financial_Report_SMMC_03.21.23","2023-03-21","Unaudited"]
["Dental","DEF","Default",1900,"1900-01-01","PY","1/1/1800","Region 6","Operating Expense","Medical Expense","Dental Services","2.5","Dental Services Periodontics",{"v":0,"d":"$0.00"},{"v":0,"d":"$0.00"},{"v":0,"d":"$0.00"},{"v":0,"d":"$0.00"},{"v":0,"d":"$0.00"},{"v":0,"d":"$0.00"},"ASR-Dental_Financial_Report_SMMC_03.21.23","2023-03-21","Unaudited"]
["Dental","DEF","Default",1900,"1900-01-01","PY","1/1/1800","Region 6","Operating Expense","Medical Expense","Dental Services","2.6","Dental Services Prosthodontics",{"v":0,"d":"$0.00"},{"v":0,"d":"$0.00"},{"v":0,"d":"$0.00"},{"v":0,"d":"$0.00"},{"v":0,"d":"$0.00"},{"v":0,"d":"$0.00"},"ASR-Dental_Financial_Report_SMMC_03.21.23","2023-03-21","Unaudited"]
["Dental","DEF","Default",1900,"1900-01-01","PY","1/1/1800","Region 6","Operating Expense","Medical Expense","Dental Services","2.7","Dental Services Prosthodontics, fixed",{"v":0,"d":"$0.00"},{"v":0,"d":"$0.00"},{"v":0,"d":"$0.00"},{"v":0,"d":"$0.00"},{"v":0,"d":"$0.00"},{"v":0,"d":"$0.00"},"ASR-Dental_Financial_Report_SMMC_03.21.23","2023-03-21","Unaudited"]
["Dental","DEF","Default",1900,"1900-01-01","PY","1/1/1800","Region 6","Operating Expense","Medical Expense","Dental Services","2.8","Dental Services Oral and Maxillofacial Surgery",{"v":0,"d":"$0.00"},{"v":0,"d":"$0.00"},{"v":0,"d":"$0.00"},{"v":0,"d":"$0.00"},{"v":0,"d":"$0.00"},{"v":0,"d":"$0.00"},"ASR-Dental_Financial_Report_SMMC_03.21.23","2023-03-21","Unaudited"]
["Dental","DEF","Default",1900,"1900-01-01","PY","1/1/1800","Region 6","Operating Expense","Medical Expense","Dental Services","2.9","Dental Services Orthodontics",{"v":0,"d":"$0.00"},{"v":0,"d":"$0.00"},{"v":0,"d":"$0.00"},{"v":0,"d":"$0.00"},{"v":0,"d":"$0.00"},{"v":0,"d":"$0.00"},"ASR-Dental_Financial_Report_SMMC_03.21.23","2023-03-21","Unaudited"]
["Dental","DEF","Default",1900,"1900-01-01","PY","1/1/1800","Region 6","Operating Expense","Medical Expense","Dental Services","2.10","Dental Services Adjunctive General Services",{"v":0,"d":"$0.00"},{"v":0,"d":"$0.00"},{"v":0,"d":"$0.00"},{"v":0,"d":"$0.00"},{"v":0,"d":"$0.00"},{"v":0,"d":"$0.00"},"ASR-Dental_Financial_Report_SMMC_03.21.23","2023-03-21","Unaudited"]
["Dental","DEF","Default",1900,"1900-01-01","PY","1/1/1800","Region 6","Operating Expense","Medical Expense","Dental Services","2.11","Dental Services Other",{"v":0,"d":"$0.00"},{"v":0,"d":"$0.00"},{"v":0,"d":"$0.00"},{"v":0,"d":"$0.00"},{"v":0,"d":"$0.00"},{"v":0,"d":"$0.00"},"ASR-Dental_Financial_Report_SMMC_03.21.23","2023-03-21","Unaudited"]
["Dental","DEF","Default",1900,"1900-01-01","PY","1/1/1800","Region 6","Operating Expense","Medical Expense","Expanded Benefits","2.12","Dental Expanded Benefits",{"v":0,"d":"$0.00"},{"v":0,"d":"$0.00"},{"v":0,"d":"$0.00"},{"v":0,"d":"$0.00"},{"v":0,"d":"$0.00"},{"v":0,"d":"$0.00"},"ASR-Dental_Financial_Report_SMMC_03.21.23","2023-03-21","Unaudited"]
["Dental","DEF","Default",1900,"1900-01-01","PY","1/1/1800","Region 6","Operating Expense","Medical Expense","Dental Services","2.13","Dental Services Paid through Subcapitation",{"$f":"IF(OR(AND($F1242=\"PY\",N$1<>\"Prior Year\"),AND($F1242<>\"PY\",N$1=\"Prior Year\")),0,INDEX(INDIRECT(\"'Dental Rev-Exp \"&$H1242&\"'!$A$1:$CA$200\"),IF($J1242=\"Member Months\",MATCH($J1242,INDIRECT(\"'Dental Rev-Exp \"&$H1242&\"'!$A$1:$A$200\"),0),MATCH($L1242,INDIRECT(\"'Dental Rev-Exp \"&$H1242&\"'!$B$1:$B$200\"),0)),IF($F1242=\"PY\",MATCH(\"Prior Year Adjustments\",INDIRECT(\"'Dental Rev-Exp \"&$H1242&\"'!$A$8:$CA$8\"),0),MATCH(IF($F1242=\"Q1\",\"JANUARY - MARCH (Q1)\",IF($F1242=\"Q2\",\"APRIL - JUNE (Q2)\",IF($F1242=\"Q3\",\"JULY - SEPTEMBER (Q3)\",IF($F1242=\"Q4\",\"OCTOBER - DECEMBER (Q4)\",0)))),INDIRECT(\"'Dental Rev-Exp \"&$H1242&\"'!$A$7:$CA$7\"),0)+MATCH(N$1,INDIRECT(\"'Dental Rev-Exp \"&$H1242&\"'!$D$8:$CA$8\"),0)-1)))","v":{"v":0,"d":"$0.00"}},{"v":0,"d":"$0.00"},{"v":0,"d":"$0.00"},{"v":0,"d":"$0.00"},{"v":0,"d":"$0.00"},{"v":0,"d":"$0.00"},"ASR-Dental_Financial_Report_SMMC_03.21.23","2023-03-21","Unaudited"]
["Dental","DEF","Default",1900,"1900-01-01","PY","1/1/1800","Region 6","Operating Expense","Medical Expense","Dental Services","2.14","Ending IBNP for Dental Services",{"v":0,"d":"$0.00"},{"v":0,"d":"$0.00"},{"v":0,"d":"$0.00"},{"v":0,"d":"$0.00"},{"v":0,"d":"$0.00"},{"v":0,"d":"$0.00"},"ASR-Dental_Financial_Report_SMMC_03.21.23","2023-03-21","Unaudited"]
["Dental","DEF","Default",1900,"1900-01-01","PY","1/1/1800","Region 6","Operating Expense","Medical Expense","Dental Services","2.15","Dental Settlements/AP",{"v":0,"d":"$0.00"},{"v":0,"d":"$0.00"},{"v":0,"d":"$0.00"},{"v":0,"d":"$0.00"},{"v":0,"d":"$0.00"},{"v":0,"d":"$0.00"},"ASR-Dental_Financial_Report_SMMC_03.21.23","2023-03-21","Unaudited"]
["Dental","DEF","Default",1900,"1900-01-01","PY","1/1/1800","Region 6","Operating Expense","Medical Expense","Other Medical","3.5","TPL & Fraud/Abuse Recoveries",{"v":0,"d":"$0.00"},{"v":0,"d":"$0.00"},{"v":0,"d":"$0.00"},{"v":0,"d":"$0.00"},{"v":0,"d":"$0.00"},{"v":0,"d":"$0.00"},"ASR-Dental_Financial_Report_SMMC_03.21.23","2023-03-21","Unaudited"]
["Dental","DEF","Default",1900,"1900-01-01","PY","1/1/1800","Region 6","Operating Expense","Medical Expense","Other Medical",3.6,"Premium Deficiency Reserve",{"v":0,"d":"$0.00"},{"v":0,"d":"$0.00"},{"v":0,"d":"$0.00"},{"v":0,"d":"$0.00"},{"v":0,"d":"$0.00"},{"v":0,"d":"$0.00"},"ASR-Dental_Financial_Report_SMMC_03.21.23","2023-03-21","Unaudited"]
["Dental","DEF","Default",1900,"1900-01-01","PY","1/1/1800","Region 6","Operating Expense","Medical Expense","Other Medical","3.8","Reinsurance Premiums",{"v":0,"d":"$0.00"},{"v":0,"d":"$0.00"},{"v":0,"d":"$0.00"},{"v":0,"d":"$0.00"},{"v":0,"d":"$0.00"},{"v":0,"d":"$0.00"},"ASR-Dental_Financial_Report_SMMC_03.21.23","2023-03-21","Unaudited"]
["Dental","DEF","Default",1900,"1900-01-01","PY","1/1/1800","Region 6","Operating Expense","Medical Expense","Other Medical","3.9","Reinsurance Recoveries",{"v":0,"d":"$0.00"},{"v":0,"d":"$0.00"},{"v":0,"d":"$0.00"},{"v":0,"d":"$0.00"},{"v":0,"d":"$0.00"},{"v":0,"d":"$0.00"},"ASR-Dental_Financial_Report_SMMC_03.21.23","2023-03-21","Unaudited"]
["Dental","DEF","Default",1900,"1900-01-01","PY","1/1/1800","Region 6","Operating Expense","Administrative Expense","Administrative","4.1","Salaries & Benefits",{"v":0,"d":"$0.00"},{"v":0,"d":"$0.00"},{"v":0,"d":"$0.00"},{"v":0,"d":"$0.00"},{"v":0,"d":"$0.00"},{"v":0,"d":"$0.00"},"ASR-Dental_Financial_Report_SMMC_03.21.23","2023-03-21","Unaudited"]
["Dental","DEF","Default",1900,"1900-01-01","PY","1/1/1800","Region 6","Operating Expense","Administrative Expense","Administrative","4.2","Administrative Services",{"v":0,"d":"$0.00"},{"v":0,"d":"$0.00"},{"v":0,"d":"$0.00"},{"v":0,"d":"$0.00"},{"v":0,"d":"$0.00"},{"v":0,"d":"$0.00"},"ASR-Dental_Financial_Report_SMMC_03.21.23","2023-03-21","Unaudited"]
["Dental","DEF","Default",1900,"1900-01-01","PY","1/1/1800","Region 6","Operating Expense","Administrative Expense","Administrative","4.3","Information Systems",{"v":0,"d":"$0.00"},{"v":0,"d":"$0.00"},{"v":0,"d":"$0.00"},{"v":0,"d":"$0.00"},{"v":0,"d":"$0.00"},{"v":0,"d":"$0.00"},"ASR-Dental_Financial_Report_SMMC_03.21.23","2023-03-21","Unaudited"]
["Dental","DEF","Default",1900,"1900-01-01","PY","1/1/1800","Region 6","Operating Expense","Administrative Expense","Administrative","4.4","Marketing Expenses",{"$f":"IF(OR(AND($F1252=\"PY\",N$1<>\"Prior Year\"),AND($F1252<>\"PY\",N$1=\"Prior Year\")),0,INDEX(INDIRECT(\"'Dental Rev-Exp \"&$H1252&\"'!$A$1:$CA$200\"),IF($J1252=\"Member Months\",MATCH($J1252,INDIRECT(\"'Dental Rev-Exp \"&$H1252&\"'!$A$1:$A$200\"),0),MATCH($L1252,INDIRECT(\"'Dental Rev-Exp \"&$H1252&\"'!$B$1:$B$200\"),0)),IF($F1252=\"PY\",MATCH(\"Prior Year Adjustments\",INDIRECT(\"'Dental Rev-Exp \"&$H1252&\"'!$A$8:$CA$8\"),0),MATCH(IF($F1252=\"Q1\",\"JANUARY - MARCH (Q1)\",IF($F1252=\"Q2\",\"APRIL - JUNE (Q2)\",IF($F1252=\"Q3\",\"JULY - SEPTEMBER (Q3)\",IF($F1252=\"Q4\",\"OCTOBER - DECEMBER (Q4)\",0)))),INDIRECT(\"'Dental Rev-Exp \"&$H1252&\"'!$A$7:$CA$7\"),0)+MATCH(N$1,INDIRECT(\"'Dental Rev-Exp \"&$H1252&\"'!$D$8:$CA$8\"),0)-1)))","v":{"v":0,"d":"$0.00"}},{"v":0,"d":"$0.00"},{"v":0,"d":"$0.00"},{"v":0,"d":"$0.00"},{"v":0,"d":"$0.00"},{"v":0,"d":"$0.00"},"ASR-Dental_Financial_Report_SMMC_03.21.23","2023-03-21","Unaudited"]
["Dental","DEF","Default",1900,"1900-01-01","PY","1/1/1800","Region 6","Operating Expense","Administrative Expense","Administrative","4.5","General  Administration",{"v":0,"d":"$0.00"},{"v":0,"d":"$0.00"},{"v":0,"d":"$0.00"},{"v":0,"d":"$0.00"},{"v":0,"d":"$0.00"},{"v":0,"d":"$0.00"},"ASR-Dental_Financial_Report_SMMC_03.21.23","2023-03-21","Unaudited"]
["Dental","DEF","Default",1900,"1900-01-01","PY","1/1/1800","Region 6","Operating Expense","Administrative Expense","Administrative","4.6","Compliance/Regulatory",{"v":0,"d":"$0.00"},{"v":0,"d":"$0.00"},{"v":0,"d":"$0.00"},{"v":0,"d":"$0.00"},{"v":0,"d":"$0.00"},{"v":0,"d":"$0.00"},"ASR-Dental_Financial_Report_SMMC_03.21.23","2023-03-21","Unaudited"]
["Dental","DEF","Default",1900,"1900-01-01","PY","1/1/1800","Region 6","Operating Expense","Taxes & Fees","Taxes & Fees","5.1","State Premium tax",{"v":0,"d":"$0.00"},{"v":0,"d":"$0.00"},{"v":0,"d":"$0.00"},{"v":0,"d":"$0.00"},{"v":0,"d":"$0.00"},{"v":0,"d":"$0.00"},"ASR-Dental_Financial_Report_SMMC_03.21.23","2023-03-21","Unaudited"]
["Dental","DEF","Default",1900,"1900-01-01","PY","1/1/1800","Region 6","Operating Expense","Taxes & Fees","Taxes & Fees","5.2","Department of Insurance Assessments",{"v":0,"d":"$0.00"},{"v":0,"d":"$0.00"},{"v":0,"d":"$0.00"},{"v":0,"d":"$0.00"},{"v":0,"d":"$0.00"},{"v":0,"d":"$0.00"},"ASR-Dental_Financial_Report_SMMC_03.21.23","2023-03-21","Unaudited"]
["Dental","DEF","Default",1900,"1900-01-01","PY","1/1/1800","Region 6","Operating Expense","Taxes & Fees","Taxes & Fees","5.3","Section 9010 Health Insurance Providers Fee",{"v":0,"d":"$0.00"},{"v":0,"d":"$0.00"},{"v":0,"d":"$0.00"},{"v":0,"d":"$0.00"},{"v":0,"d":"$0.00"},{"v":0,"d":"$0.00"},"ASR-Dental_Financial_Report_SMMC_03.21.23","2023-03-21","Unaudited"]
["Dental","DEF","Default",1900,"1900-01-01","PY","1/1/1800","Region 6","Operating Expense","Taxes & Fees","Taxes & Fees","5.4","Other 1",{"v":0,"d":"$0.00"},{"v":0,"d":"$0.00"},{"v":0,"d":"$0.00"},{"v":0,"d":"$0.00"},{"v":0,"d":"$0.00"},{"v":0,"d":"$0.00"},"ASR-Dental_Financial_Report_SMMC_03.21.23","2023-03-21","Unaudited"]
["Dental","DEF","Default",1900,"1900-01-01","PY","1/1/1800","Region 6","Operating Expense","Taxes & Fees","Taxes & Fees","5.5","Other 2",{"v":0,"d":"$0.00"},{"v":0,"d":"$0.00"},{"v":0,"d":"$0.00"},{"v":0,"d":"$0.00"},{"v":0,"d":"$0.00"},{"v":0,"d":"$0.00"},"ASR-Dental_Financial_Report_SMMC_03.21.23","2023-03-21","Unaudited"]
["Dental","DEF","Default",1900,"1900-01-01","PY","1/1/1800","Region 6","Operating Expense","Taxes & Fees","Taxes & Fees","5.6","Other 3",{"v":0,"d":"$0.00"},{"v":0,"d":"$0.00"},{"v":0,"d":"$0.00"},{"v":0,"d":"$0.00"},{"v":0,"d":"$0.00"},{"v":0,"d":"$0.00"},"ASR-Dental_Financial_Report_SMMC_03.21.23","2023-03-21","Unaudited"]
["Dental","DEF","Default",1900,"1900-01-01","PY","1/1/1800","Region 6","Non-Operating Expense","Income Tax Expense","Income Tax Expense","8.0","Income Tax Expense",{"v":0,"d":"$0.00"},{"v":0,"d":"$0.00"},{"v":0,"d":"$0.00"},{"v":0,"d":"$0.00"},{"v":0,"d":"$0.00"},{"v":0,"d":"$0.00"},"ASR-Dental_Financial_Report_SMMC_03.21.23","2023-03-21","Unaudited"]
["Dental","DEF","Default",1900,"1900-01-01","Q1","1900-03-31","Region 7","Member Months","Member Months","Member Months",null,"Member Months",{"$f":"IF(OR(AND($F1262=\"PY\",N$1<>\"Prior Year\"),AND($F1262<>\"PY\",N$1=\"Prior Year\")),0,INDEX(INDIRECT(\"'Dental Rev-Exp \"&$H1262&\"'!$A$1:$CA$200\"),IF($J1262=\"Member Months\",MATCH($J1262,INDIRECT(\"'Dental Rev-Exp \"&$H1262&\"'!$A$1:$A$200\"),0),MATCH($L1262,INDIRECT(\"'Dental Rev-Exp \"&$H1262&\"'!$B$1:$B$200\"),0)),IF($F1262=\"PY\",MATCH(\"Prior Year Adjustments\",INDIRECT(\"'Dental Rev-Exp \"&$H1262&\"'!$A$8:$CA$8\"),0),MATCH(IF($F1262=\"Q1\",\"JANUARY - MARCH (Q1)\",IF($F1262=\"Q2\",\"APRIL - JUNE (Q2)\",IF($F1262=\"Q3\",\"JULY - SEPTEMBER (Q3)\",IF($F1262=\"Q4\",\"OCTOBER - DECEMBER (Q4)\",0)))),INDIRECT(\"'Dental Rev-Exp \"&$H1262&\"'!$A$7:$CA$7\"),0)+MATCH(N$1,INDIRECT(\"'Dental Rev-Exp \"&$H1262&\"'!$D$8:$CA$8\"),0)-1)))","v":{"v":0,"d":"$0.00"}},{"v":0,"d":"$0.00"},{"v":0,"d":"$0.00"},{"v":0,"d":"$0.00"},{"v":0,"d":"$0.00"},{"v":0,"d":"$0.00"},"ASR-Dental_Financial_Report_SMMC_03.21.23","2023-03-21","Unaudited"]
["Dental","DEF","Default",1900,"1900-01-01","Q1","1900-03-31","Region 7","Operating Revenue","Capitation","Capitation","1.1","Capitation",{"v":0,"d":"$0.00"},{"v":0,"d":"$0.00"},{"v":0,"d":"$0.00"},{"v":0,"d":"$0.00"},{"v":0,"d":"$0.00"},{"v":0,"d":"$0.00"},"ASR-Dental_Financial_Report_SMMC_03.21.23","2023-03-21","Unaudited"]
["Dental","DEF","Default",1900,"1900-01-01","Q1","1900-03-31","Region 7","Operating Revenue","Other Revenue","Other Revenue - 9010","1.2","ACA § 9010 related payments",{"v":0,"d":"$0.00"},{"v":0,"d":"$0.00"},{"v":0,"d":"$0.00"},{"v":0,"d":"$0.00"},{"v":0,"d":"$0.00"},{"v":0,"d":"$0.00"},"ASR-Dental_Financial_Report_SMMC_03.21.23","2023-03-21","Unaudited"]
["Dental","DEF","Default",1900,"1900-01-01","Q1","1900-03-31","Region 7","Operating Revenue","Other Revenue","Other Revenue","1.3","Other Revenue",{"v":0,"d":"$0.00"},{"v":0,"d":"$0.00"},{"v":0,"d":"$0.00"},{"v":0,"d":"$0.00"},{"v":0,"d":"$0.00"},{"v":0,"d":"$0.00"},"ASR-Dental_Financial_Report_SMMC_03.21.23","2023-03-21","Unaudited"]
["Dental","DEF","Default",1900,"1900-01-01","Q1","1900-03-31","Region 7","Operating Expense","Medical Expense","Dental Services","2.1","Dental Services Diagnostic",{"v":0,"d":"$0.00"},{"v":0,"d":"$0.00"},{"v":0,"d":"$0.00"},{"v":0,"d":"$0.00"},{"v":0,"d":"$0.00"},{"v":0,"d":"$0.00"},"ASR-Dental_Financial_Report_SMMC_03.21.23","2023-03-21","Unaudited"]
["Dental","DEF","Default",1900,"1900-01-01","Q1","1900-03-31","Region 7","Operating Expense","Medical Expense","Dental Services",2.2,"Dental Services Preventive",{"v":0,"d":"$0.00"},{"v":0,"d":"$0.00"},{"v":0,"d":"$0.00"},{"v":0,"d":"$0.00"},{"v":0,"d":"$0.00"},{"v":0,"d":"$0.00"},"ASR-Dental_Financial_Report_SMMC_03.21.23","2023-03-21","Unaudited"]
["Dental","DEF","Default",1900,"1900-01-01","Q1","1900-03-31","Region 7","Operating Expense","Medical Expense","Dental Services","2.3","Dental Services Restorative",{"v":0,"d":"$0.00"},{"v":0,"d":"$0.00"},{"v":0,"d":"$0.00"},{"v":0,"d":"$0.00"},{"v":0,"d":"$0.00"},{"v":0,"d":"$0.00"},"ASR-Dental_Financial_Report_SMMC_03.21.23","2023-03-21","Unaudited"]
["Dental","DEF","Default",1900,"1900-01-01","Q1","1900-03-31","Region 7","Operating Expense","Medical Expense","Dental Services","2.4","Dental Services Endodontics",{"v":0,"d":"$0.00"},{"v":0,"d":"$0.00"},{"v":0,"d":"$0.00"},{"v":0,"d":"$0.00"},{"v":0,"d":"$0.00"},{"v":0,"d":"$0.00"},"ASR-Dental_Financial_Report_SMMC_03.21.23","2023-03-21","Unaudited"]
["Dental","DEF","Default",1900,"1900-01-01","Q1","1900-03-31","Region 7","Operating Expense","Medical Expense","Dental Services","2.5","Dental Services Periodontics",{"v":0,"d":"$0.00"},{"v":0,"d":"$0.00"},{"v":0,"d":"$0.00"},{"v":0,"d":"$0.00"},{"v":0,"d":"$0.00"},{"v":0,"d":"$0.00"},"ASR-Dental_Financial_Report_SMMC_03.21.23","2023-03-21","Unaudited"]
["Dental","DEF","Default",1900,"1900-01-01","Q1","1900-03-31","Region 7","Operating Expense","Medical Expense","Dental Services","2.6","Dental Services Prosthodontics",{"v":0,"d":"$0.00"},{"v":0,"d":"$0.00"},{"v":0,"d":"$0.00"},{"v":0,"d":"$0.00"},{"v":0,"d":"$0.00"},{"v":0,"d":"$0.00"},"ASR-Dental_Financial_Report_SMMC_03.21.23","2023-03-21","Unaudited"]
["Dental","DEF","Default",1900,"1900-01-01","Q1","1900-03-31","Region 7","Operating Expense","Medical Expense","Dental Services","2.7","Dental Services Prosthodontics, fixed",{"$f":"IF(OR(AND($F1272=\"PY\",N$1<>\"Prior Year\"),AND($F1272<>\"PY\",N$1=\"Prior Year\")),0,INDEX(INDIRECT(\"'Dental Rev-Exp \"&$H1272&\"'!$A$1:$CA$200\"),IF($J1272=\"Member Months\",MATCH($J1272,INDIRECT(\"'Dental Rev-Exp \"&$H1272&\"'!$A$1:$A$200\"),0),MATCH($L1272,INDIRECT(\"'Dental Rev-Exp \"&$H1272&\"'!$B$1:$B$200\"),0)),IF($F1272=\"PY\",MATCH(\"Prior Year Adjustments\",INDIRECT(\"'Dental Rev-Exp \"&$H1272&\"'!$A$8:$CA$8\"),0),MATCH(IF($F1272=\"Q1\",\"JANUARY - MARCH (Q1)\",IF($F1272=\"Q2\",\"APRIL - JUNE (Q2)\",IF($F1272=\"Q3\",\"JULY - SEPTEMBER (Q3)\",IF($F1272=\"Q4\",\"OCTOBER - DECEMBER (Q4)\",0)))),INDIRECT(\"'Dental Rev-Exp \"&$H1272&\"'!$A$7:$CA$7\"),0)+MATCH(N$1,INDIRECT(\"'Dental Rev-Exp \"&$H1272&\"'!$D$8:$CA$8\"),0)-1)))","v":{"v":0,"d":"$0.00"}},{"v":0,"d":"$0.00"},{"v":0,"d":"$0.00"},{"v":0,"d":"$0.00"},{"v":0,"d":"$0.00"},{"v":0,"d":"$0.00"},"ASR-Dental_Financial_Report_SMMC_03.21.23","2023-03-21","Unaudited"]
["Dental","DEF","Default",1900,"1900-01-01","Q1","1900-03-31","Region 7","Operating Expense","Medical Expense","Dental Services","2.8","Dental Services Oral and Maxillofacial Surgery",{"v":0,"d":"$0.00"},{"v":0,"d":"$0.00"},{"v":0,"d":"$0.00"},{"v":0,"d":"$0.00"},{"v":0,"d":"$0.00"},{"v":0,"d":"$0.00"},"ASR-Dental_Financial_Report_SMMC_03.21.23","2023-03-21","Unaudited"]
["Dental","DEF","Default",1900,"1900-01-01","Q1","1900-03-31","Region 7","Operating Expense","Medical Expense","Dental Services","2.9","Dental Services Orthodontics",{"v":0,"d":"$0.00"},{"v":0,"d":"$0.00"},{"v":0,"d":"$0.00"},{"v":0,"d":"$0.00"},{"v":0,"d":"$0.00"},{"v":0,"d":"$0.00"},"ASR-Dental_Financial_Report_SMMC_03.21.23","2023-03-21","Unaudited"]
["Dental","DEF","Default",1900,"1900-01-01","Q1","1900-03-31","Region 7","Operating Expense","Medical Expense","Dental Services","2.10","Dental Services Adjunctive General Services",{"v":0,"d":"$0.00"},{"v":0,"d":"$0.00"},{"v":0,"d":"$0.00"},{"v":0,"d":"$0.00"},{"v":0,"d":"$0.00"},{"v":0,"d":"$0.00"},"ASR-Dental_Financial_Report_SMMC_03.21.23","2023-03-21","Unaudited"]
["Dental","DEF","Default",1900,"1900-01-01","Q1","1900-03-31","Region 7","Operating Expense","Medical Expense","Dental Services","2.11","Dental Services Other",{"v":0,"d":"$0.00"},{"v":0,"d":"$0.00"},{"v":0,"d":"$0.00"},{"v":0,"d":"$0.00"},{"v":0,"d":"$0.00"},{"v":0,"d":"$0.00"},"ASR-Dental_Financial_Report_SMMC_03.21.23","2023-03-21","Unaudited"]
["Dental","DEF","Default",1900,"1900-01-01","Q1","1900-03-31","Region 7","Operating Expense","Medical Expense","Expanded Benefits","2.12","Dental Expanded Benefits",{"v":0,"d":"$0.00"},{"v":0,"d":"$0.00"},{"v":0,"d":"$0.00"},{"v":0,"d":"$0.00"},{"v":0,"d":"$0.00"},{"v":0,"d":"$0.00"},"ASR-Dental_Financial_Report_SMMC_03.21.23","2023-03-21","Unaudited"]
["Dental","DEF","Default",1900,"1900-01-01","Q1","1900-03-31","Region 7","Operating Expense","Medical Expense","Dental Services","2.13","Dental Services Paid through Subcapitation",{"v":0,"d":"$0.00"},{"v":0,"d":"$0.00"},{"v":0,"d":"$0.00"},{"v":0,"d":"$0.00"},{"v":0,"d":"$0.00"},{"v":0,"d":"$0.00"},"ASR-Dental_Financial_Report_SMMC_03.21.23","2023-03-21","Unaudited"]
["Dental","DEF","Default",1900,"1900-01-01","Q1","1900-03-31","Region 7","Operating Expense","Medical Expense","Dental Services","2.14","Ending IBNP for Dental Services",{"v":0,"d":"$0.00"},{"v":0,"d":"$0.00"},{"v":0,"d":"$0.00"},{"v":0,"d":"$0.00"},{"v":0,"d":"$0.00"},{"v":0,"d":"$0.00"},"ASR-Dental_Financial_Report_SMMC_03.21.23","2023-03-21","Unaudited"]
["Dental","DEF","Default",1900,"1900-01-01","Q1","1900-03-31","Region 7","Operating Expense","Medical Expense","Dental Services","2.15","Dental Settlements/AP",{"v":0,"d":"$0.00"},{"v":0,"d":"$0.00"},{"v":0,"d":"$0.00"},{"v":0,"d":"$0.00"},{"v":0,"d":"$0.00"},{"v":0,"d":"$0.00"},"ASR-Dental_Financial_Report_SMMC_03.21.23","2023-03-21","Unaudited"]
["Dental","DEF","Default",1900,"1900-01-01","Q1","1900-03-31","Region 7","Operating Expense","Medical Expense","Other Medical","3.5","TPL & Fraud/Abuse Recoveries",{"v":0,"d":"$0.00"},{"v":0,"d":"$0.00"},{"v":0,"d":"$0.00"},{"v":0,"d":"$0.00"},{"v":0,"d":"$0.00"},{"v":0,"d":"$0.00"},"ASR-Dental_Financial_Report_SMMC_03.21.23","2023-03-21","Unaudited"]
["Dental","DEF","Default",1900,"1900-01-01","Q1","1900-03-31","Region 7","Operating Expense","Medical Expense","Other Medical",3.6,"Premium Deficiency Reserve",{"$f":"IF(OR(AND($F1282=\"PY\",N$1<>\"Prior Year\"),AND($F1282<>\"PY\",N$1=\"Prior Year\")),0,INDEX(INDIRECT(\"'Dental Rev-Exp \"&$H1282&\"'!$A$1:$CA$200\"),IF($J1282=\"Member Months\",MATCH($J1282,INDIRECT(\"'Dental Rev-Exp \"&$H1282&\"'!$A$1:$A$200\"),0),MATCH($L1282,INDIRECT(\"'Dental Rev-Exp \"&$H1282&\"'!$B$1:$B$200\"),0)),IF($F1282=\"PY\",MATCH(\"Prior Year Adjustments\",INDIRECT(\"'Dental Rev-Exp \"&$H1282&\"'!$A$8:$CA$8\"),0),MATCH(IF($F1282=\"Q1\",\"JANUARY - MARCH (Q1)\",IF($F1282=\"Q2\",\"APRIL - JUNE (Q2)\",IF($F1282=\"Q3\",\"JULY - SEPTEMBER (Q3)\",IF($F1282=\"Q4\",\"OCTOBER - DECEMBER (Q4)\",0)))),INDIRECT(\"'Dental Rev-Exp \"&$H1282&\"'!$A$7:$CA$7\"),0)+MATCH(N$1,INDIRECT(\"'Dental Rev-Exp \"&$H1282&\"'!$D$8:$CA$8\"),0)-1)))","v":{"v":0,"d":"$0.00"}},{"v":0,"d":"$0.00"},{"v":0,"d":"$0.00"},{"v":0,"d":"$0.00"},{"v":0,"d":"$0.00"},{"v":0,"d":"$0.00"},{"$f":"file_name","v":"ASR-Dental_Financial_Report_SMMC_03.21.23"},{"$f":"file_date","v":"2023-03-21"},{"$f":"status","v":"Unaudited"}]
["Dental","DEF","Default",1900,"1900-01-01","Q1","1900-03-31","Region 7","Operating Expense","Medical Expense","Other Medical","3.8","Reinsurance Premiums",{"v":0,"d":"$0.00"},{"v":0,"d":"$0.00"},{"v":0,"d":"$0.00"},{"v":0,"d":"$0.00"},{"v":0,"d":"$0.00"},{"v":0,"d":"$0.00"},"ASR-Dental_Financial_Report_SMMC_03.21.23","2023-03-21","Unaudited"]
["Dental","DEF","Default",1900,"1900-01-01","Q1","1900-03-31","Region 7","Operating Expense","Medical Expense","Other Medical","3.9","Reinsurance Recoveries",{"v":0,"d":"$0.00"},{"v":0,"d":"$0.00"},{"v":0,"d":"$0.00"},{"v":0,"d":"$0.00"},{"v":0,"d":"$0.00"},{"v":0,"d":"$0.00"},"ASR-Dental_Financial_Report_SMMC_03.21.23","2023-03-21","Unaudited"]
["Dental","DEF","Default",1900,"1900-01-01","Q1","1900-03-31","Region 7","Operating Expense","Administrative Expense","Administrative","4.1","Salaries & Benefits",{"v":0,"d":"$0.00"},{"v":0,"d":"$0.00"},{"v":0,"d":"$0.00"},{"v":0,"d":"$0.00"},{"v":0,"d":"$0.00"},{"v":0,"d":"$0.00"},"ASR-Dental_Financial_Report_SMMC_03.21.23","2023-03-21","Unaudited"]
["Dental","DEF","Default",1900,"1900-01-01","Q1","1900-03-31","Region 7","Operating Expense","Administrative Expense","Administrative","4.2","Administrative Services",{"v":0,"d":"$0.00"},{"v":0,"d":"$0.00"},{"v":0,"d":"$0.00"},{"v":0,"d":"$0.00"},{"v":0,"d":"$0.00"},{"v":0,"d":"$0.00"},"ASR-Dental_Financial_Report_SMMC_03.21.23","2023-03-21","Unaudited"]
["Dental","DEF","Default",1900,"1900-01-01","Q1","1900-03-31","Region 7","Operating Expense","Administrative Expense","Administrative","4.3","Information Systems",{"v":0,"d":"$0.00"},{"v":0,"d":"$0.00"},{"v":0,"d":"$0.00"},{"v":0,"d":"$0.00"},{"v":0,"d":"$0.00"},{"v":0,"d":"$0.00"},"ASR-Dental_Financial_Report_SMMC_03.21.23","2023-03-21","Unaudited"]
["Dental","DEF","Default",1900,"1900-01-01","Q1","1900-03-31","Region 7","Operating Expense","Administrative Expense","Administrative","4.4","Marketing Expenses",{"v":0,"d":"$0.00"},{"v":0,"d":"$0.00"},{"v":0,"d":"$0.00"},{"v":0,"d":"$0.00"},{"v":0,"d":"$0.00"},{"v":0,"d":"$0.00"},"ASR-Dental_Financial_Report_SMMC_03.21.23","2023-03-21","Unaudited"]
["Dental","DEF","Default",1900,"1900-01-01","Q1","1900-03-31","Region 7","Operating Expense","Administrative Expense","Administrative","4.5","General  Administration",{"v":0,"d":"$0.00"},{"v":0,"d":"$0.00"},{"v":0,"d":"$0.00"},{"v":0,"d":"$0.00"},{"v":0,"d":"$0.00"},{"v":0,"d":"$0.00"},"ASR-Dental_Financial_Report_SMMC_03.21.23","2023-03-21","Unaudited"]
["Dental","DEF","Default",1900,"1900-01-01","Q1","1900-03-31","Region 7","Operating Expense","Administrative Expense","Administrative","4.6","Compliance/Regulatory",{"v":0,"d":"$0.00"},{"v":0,"d":"$0.00"},{"v":0,"d":"$0.00"},{"v":0,"d":"$0.00"},{"v":0,"d":"$0.00"},{"v":0,"d":"$0.00"},"ASR-Dental_Financial_Report_SMMC_03.21.23","2023-03-21","Unaudited"]
["Dental","DEF","Default",1900,"1900-01-01","Q1","1900-03-31","Region 7","Operating Expense","Taxes & Fees","Taxes & Fees","5.1","State Premium tax",{"v":0,"d":"$0.00"},{"v":0,"d":"$0.00"},{"v":0,"d":"$0.00"},{"v":0,"d":"$0.00"},{"v":0,"d":"$0.00"},{"v":0,"d":"$0.00"},"ASR-Dental_Financial_Report_SMMC_03.21.23","2023-03-21","Unaudited"]
["Dental","DEF","Default",1900,"1900-01-01","Q1","1900-03-31","Region 7","Operating Expense","Taxes & Fees","Taxes & Fees","5.2","Department of Insurance Assessments",{"$f":"IF(OR(AND($F1292=\"PY\",N$1<>\"Prior Year\"),AND($F1292<>\"PY\",N$1=\"Prior Year\")),0,INDEX(INDIRECT(\"'Dental Rev-Exp \"&$H1292&\"'!$A$1:$CA$200\"),IF($J1292=\"Member Months\",MATCH($J1292,INDIRECT(\"'Dental Rev-Exp \"&$H1292&\"'!$A$1:$A$200\"),0),MATCH($L1292,INDIRECT(\"'Dental Rev-Exp \"&$H1292&\"'!$B$1:$B$200\"),0)),IF($F1292=\"PY\",MATCH(\"Prior Year Adjustments\",INDIRECT(\"'Dental Rev-Exp \"&$H1292&\"'!$A$8:$CA$8\"),0),MATCH(IF($F1292=\"Q1\",\"JANUARY - MARCH (Q1)\",IF($F1292=\"Q2\",\"APRIL - JUNE (Q2)\",IF($F1292=\"Q3\",\"JULY - SEPTEMBER (Q3)\",IF($F1292=\"Q4\",\"OCTOBER - DECEMBER (Q4)\",0)))),INDIRECT(\"'Dental Rev-Exp \"&$H1292&\"'!$A$7:$CA$7\"),0)+MATCH(N$1,INDIRECT(\"'Dental Rev-Exp \"&$H1292&\"'!$D$8:$CA$8\"),0)-1)))","v":{"v":0,"d":"$0.00"}},{"v":0,"d":"$0.00"},{"v":0,"d":"$0.00"},{"v":0,"d":"$0.00"},{"v":0,"d":"$0.00"},{"v":0,"d":"$0.00"},"ASR-Dental_Financial_Report_SMMC_03.21.23","2023-03-21","Unaudited"]
["Dental","DEF","Default",1900,"1900-01-01","Q1","1900-03-31","Region 7","Operating Expense","Taxes & Fees","Taxes & Fees","5.3","Section 9010 Health Insurance Providers Fee",{"v":0,"d":"$0.00"},{"v":0,"d":"$0.00"},{"v":0,"d":"$0.00"},{"v":0,"d":"$0.00"},{"v":0,"d":"$0.00"},{"v":0,"d":"$0.00"},"ASR-Dental_Financial_Report_SMMC_03.21.23","2023-03-21","Unaudited"]
["Dental","DEF","Default",1900,"1900-01-01","Q1","1900-03-31","Region 7","Operating Expense","Taxes & Fees","Taxes & Fees","5.4","Other 1",{"v":0,"d":"$0.00"},{"v":0,"d":"$0.00"},{"v":0,"d":"$0.00"},{"v":0,"d":"$0.00"},{"v":0,"d":"$0.00"},{"v":0,"d":"$0.00"},"ASR-Dental_Financial_Report_SMMC_03.21.23","2023-03-21","Unaudited"]
["Dental","DEF","Default",1900,"1900-01-01","Q1","1900-03-31","Region 7","Operating Expense","Taxes & Fees","Taxes & Fees","5.5","Other 2",{"v":0,"d":"$0.00"},{"v":0,"d":"$0.00"},{"v":0,"d":"$0.00"},{"v":0,"d":"$0.00"},{"v":0,"d":"$0.00"},{"v":0,"d":"$0.00"},"ASR-Dental_Financial_Report_SMMC_03.21.23","2023-03-21","Unaudited"]
["Dental","DEF","Default",1900,"1900-01-01","Q1","1900-03-31","Region 7","Operating Expense","Taxes & Fees","Taxes & Fees","5.6","Other 3",{"v":0,"d":"$0.00"},{"v":0,"d":"$0.00"},{"v":0,"d":"$0.00"},{"v":0,"d":"$0.00"},{"v":0,"d":"$0.00"},{"v":0,"d":"$0.00"},"ASR-Dental_Financial_Report_SMMC_03.21.23","2023-03-21","Unaudited"]
["Dental","DEF","Default",1900,"1900-01-01","Q1","1900-03-31","Region 7","Non-Operating Expense","Income Tax Expense","Income Tax Expense","8.0","Income Tax Expense",{"v":0,"d":"$0.00"},{"v":0,"d":"$0.00"},{"v":0,"d":"$0.00"},{"v":0,"d":"$0.00"},{"v":0,"d":"$0.00"},{"v":0,"d":"$0.00"},"ASR-Dental_Financial_Report_SMMC_03.21.23","2023-03-21","Unaudited"]
["Dental","DEF","Default",1900,"1900-01-01","Q2","1900-06-30","Region 7","Member Months","Member Months","Member Months",null,"Member Months",{"v":0,"d":"$0.00"},{"v":0,"d":"$0.00"},{"v":0,"d":"$0.00"},{"v":0,"d":"$0.00"},{"v":0,"d":"$0.00"},{"v":0,"d":"$0.00"},"ASR-Dental_Financial_Report_SMMC_03.21.23","2023-03-21","Unaudited"]
["Dental","DEF","Default",1900,"1900-01-01","Q2","1900-06-30","Region 7","Operating Revenue","Capitation","Capitation","1.1","Capitation",{"v":0,"d":"$0.00"},{"v":0,"d":"$0.00"},{"v":0,"d":"$0.00"},{"v":0,"d":"$0.00"},{"v":0,"d":"$0.00"},{"v":0,"d":"$0.00"},"ASR-Dental_Financial_Report_SMMC_03.21.23","2023-03-21","Unaudited"]
["Dental","DEF","Default",1900,"1900-01-01","Q2","1900-06-30","Region 7","Operating Revenue","Other Revenue","Other Revenue - 9010","1.2","ACA § 9010 related payments",{"v":0,"d":"$0.00"},{"v":0,"d":"$0.00"},{"v":0,"d":"$0.00"},{"v":0,"d":"$0.00"},{"v":0,"d":"$0.00"},{"v":0,"d":"$0.00"},"ASR-Dental_Financial_Report_SMMC_03.21.23","2023-03-21","Unaudited"]
["Dental","DEF","Default",1900,"1900-01-01","Q2","1900-06-30","Region 7","Operating Revenue","Other Revenue","Other Revenue","1.3","Other Revenue",{"v":0,"d":"$0.00"},{"v":0,"d":"$0.00"},{"v":0,"d":"$0.00"},{"v":0,"d":"$0.00"},{"v":0,"d":"$0.00"},{"v":0,"d":"$0.00"},"ASR-Dental_Financial_Report_SMMC_03.21.23","2023-03-21","Unaudited"]
["Dental","DEF","Default",1900,"1900-01-01","Q2","1900-06-30","Region 7","Operating Expense","Medical Expense","Dental Services","2.1","Dental Services Diagnostic",{"$f":"IF(OR(AND($F1302=\"PY\",N$1<>\"Prior Year\"),AND($F1302<>\"PY\",N$1=\"Prior Year\")),0,INDEX(INDIRECT(\"'Dental Rev-Exp \"&$H1302&\"'!$A$1:$CA$200\"),IF($J1302=\"Member Months\",MATCH($J1302,INDIRECT(\"'Dental Rev-Exp \"&$H1302&\"'!$A$1:$A$200\"),0),MATCH($L1302,INDIRECT(\"'Dental Rev-Exp \"&$H1302&\"'!$B$1:$B$200\"),0)),IF($F1302=\"PY\",MATCH(\"Prior Year Adjustments\",INDIRECT(\"'Dental Rev-Exp \"&$H1302&\"'!$A$8:$CA$8\"),0),MATCH(IF($F1302=\"Q1\",\"JANUARY - MARCH (Q1)\",IF($F1302=\"Q2\",\"APRIL - JUNE (Q2)\",IF($F1302=\"Q3\",\"JULY - SEPTEMBER (Q3)\",IF($F1302=\"Q4\",\"OCTOBER - DECEMBER (Q4)\",0)))),INDIRECT(\"'Dental Rev-Exp \"&$H1302&\"'!$A$7:$CA$7\"),0)+MATCH(N$1,INDIRECT(\"'Dental Rev-Exp \"&$H1302&\"'!$D$8:$CA$8\"),0)-1)))","v":{"v":0,"d":"$0.00"}},{"v":0,"d":"$0.00"},{"v":0,"d":"$0.00"},{"v":0,"d":"$0.00"},{"v":0,"d":"$0.00"},{"v":0,"d":"$0.00"},"ASR-Dental_Financial_Report_SMMC_03.21.23","2023-03-21","Unaudited"]
["Dental","DEF","Default",1900,"1900-01-01","Q2","1900-06-30","Region 7","Operating Expense","Medical Expense","Dental Services",2.2,"Dental Services Preventive",{"v":0,"d":"$0.00"},{"v":0,"d":"$0.00"},{"v":0,"d":"$0.00"},{"v":0,"d":"$0.00"},{"v":0,"d":"$0.00"},{"v":0,"d":"$0.00"},"ASR-Dental_Financial_Report_SMMC_03.21.23","2023-03-21","Unaudited"]
["Dental","DEF","Default",1900,"1900-01-01","Q2","1900-06-30","Region 7","Operating Expense","Medical Expense","Dental Services","2.3","Dental Services Restorative",{"v":0,"d":"$0.00"},{"v":0,"d":"$0.00"},{"v":0,"d":"$0.00"},{"v":0,"d":"$0.00"},{"v":0,"d":"$0.00"},{"v":0,"d":"$0.00"},"ASR-Dental_Financial_Report_SMMC_03.21.23","2023-03-21","Unaudited"]
["Dental","DEF","Default",1900,"1900-01-01","Q2","1900-06-30","Region 7","Operating Expense","Medical Expense","Dental Services","2.4","Dental Services Endodontics",{"v":0,"d":"$0.00"},{"v":0,"d":"$0.00"},{"v":0,"d":"$0.00"},{"v":0,"d":"$0.00"},{"v":0,"d":"$0.00"},{"v":0,"d":"$0.00"},"ASR-Dental_Financial_Report_SMMC_03.21.23","2023-03-21","Unaudited"]
["Dental","DEF","Default",1900,"1900-01-01","Q2","1900-06-30","Region 7","Operating Expense","Medical Expense","Dental Services","2.5","Dental Services Periodontics",{"v":0,"d":"$0.00"},{"v":0,"d":"$0.00"},{"v":0,"d":"$0.00"},{"v":0,"d":"$0.00"},{"v":0,"d":"$0.00"},{"v":0,"d":"$0.00"},"ASR-Dental_Financial_Report_SMMC_03.21.23","2023-03-21","Unaudited"]
["Dental","DEF","Default",1900,"1900-01-01","Q2","1900-06-30","Region 7","Operating Expense","Medical Expense","Dental Services","2.6","Dental Services Prosthodontics",{"v":0,"d":"$0.00"},{"v":0,"d":"$0.00"},{"v":0,"d":"$0.00"},{"v":0,"d":"$0.00"},{"v":0,"d":"$0.00"},{"v":0,"d":"$0.00"},"ASR-Dental_Financial_Report_SMMC_03.21.23","2023-03-21","Unaudited"]
["Dental","DEF","Default",1900,"1900-01-01","Q2","1900-06-30","Region 7","Operating Expense","Medical Expense","Dental Services","2.7","Dental Services Prosthodontics, fixed",{"v":0,"d":"$0.00"},{"v":0,"d":"$0.00"},{"v":0,"d":"$0.00"},{"v":0,"d":"$0.00"},{"v":0,"d":"$0.00"},{"v":0,"d":"$0.00"},"ASR-Dental_Financial_Report_SMMC_03.21.23","2023-03-21","Unaudited"]
["Dental","DEF","Default",1900,"1900-01-01","Q2","1900-06-30","Region 7","Operating Expense","Medical Expense","Dental Services","2.8","Dental Services Oral and Maxillofacial Surgery",{"v":0,"d":"$0.00"},{"v":0,"d":"$0.00"},{"v":0,"d":"$0.00"},{"v":0,"d":"$0.00"},{"v":0,"d":"$0.00"},{"v":0,"d":"$0.00"},"ASR-Dental_Financial_Report_SMMC_03.21.23","2023-03-21","Unaudited"]
["Dental","DEF","Default",1900,"1900-01-01","Q2","1900-06-30","Region 7","Operating Expense","Medical Expense","Dental Services","2.9","Dental Services Orthodontics",{"v":0,"d":"$0.00"},{"v":0,"d":"$0.00"},{"v":0,"d":"$0.00"},{"v":0,"d":"$0.00"},{"v":0,"d":"$0.00"},{"v":0,"d":"$0.00"},"ASR-Dental_Financial_Report_SMMC_03.21.23","2023-03-21","Unaudited"]
["Dental","DEF","Default",1900,"1900-01-01","Q2","1900-06-30","Region 7","Operating Expense","Medical Expense","Dental Services","2.10","Dental Services Adjunctive General Services",{"v":0,"d":"$0.00"},{"v":0,"d":"$0.00"},{"v":0,"d":"$0.00"},{"v":0,"d":"$0.00"},{"v":0,"d":"$0.00"},{"v":0,"d":"$0.00"},"ASR-Dental_Financial_Report_SMMC_03.21.23","2023-03-21","Unaudited"]
["Dental","DEF","Default",1900,"1900-01-01","Q2","1900-06-30","Region 7","Operating Expense","Medical Expense","Dental Services","2.11","Dental Services Other",{"$f":"IF(OR(AND($F1312=\"PY\",N$1<>\"Prior Year\"),AND($F1312<>\"PY\",N$1=\"Prior Year\")),0,INDEX(INDIRECT(\"'Dental Rev-Exp \"&$H1312&\"'!$A$1:$CA$200\"),IF($J1312=\"Member Months\",MATCH($J1312,INDIRECT(\"'Dental Rev-Exp \"&$H1312&\"'!$A$1:$A$200\"),0),MATCH($L1312,INDIRECT(\"'Dental Rev-Exp \"&$H1312&\"'!$B$1:$B$200\"),0)),IF($F1312=\"PY\",MATCH(\"Prior Year Adjustments\",INDIRECT(\"'Dental Rev-Exp \"&$H1312&\"'!$A$8:$CA$8\"),0),MATCH(IF($F1312=\"Q1\",\"JANUARY - MARCH (Q1)\",IF($F1312=\"Q2\",\"APRIL - JUNE (Q2)\",IF($F1312=\"Q3\",\"JULY - SEPTEMBER (Q3)\",IF($F1312=\"Q4\",\"OCTOBER - DECEMBER (Q4)\",0)))),INDIRECT(\"'Dental Rev-Exp \"&$H1312&\"'!$A$7:$CA$7\"),0)+MATCH(N$1,INDIRECT(\"'Dental Rev-Exp \"&$H1312&\"'!$D$8:$CA$8\"),0)-1)))","v":{"v":0,"d":"$0.00"}},{"v":0,"d":"$0.00"},{"v":0,"d":"$0.00"},{"v":0,"d":"$0.00"},{"v":0,"d":"$0.00"},{"v":0,"d":"$0.00"},"ASR-Dental_Financial_Report_SMMC_03.21.23","2023-03-21","Unaudited"]
["Dental","DEF","Default",1900,"1900-01-01","Q2","1900-06-30","Region 7","Operating Expense","Medical Expense","Expanded Benefits","2.12","Dental Expanded Benefits",{"v":0,"d":"$0.00"},{"v":0,"d":"$0.00"},{"v":0,"d":"$0.00"},{"v":0,"d":"$0.00"},{"v":0,"d":"$0.00"},{"v":0,"d":"$0.00"},"ASR-Dental_Financial_Report_SMMC_03.21.23","2023-03-21","Unaudited"]
["Dental","DEF","Default",1900,"1900-01-01","Q2","1900-06-30","Region 7","Operating Expense","Medical Expense","Dental Services","2.13","Dental Services Paid through Subcapitation",{"v":0,"d":"$0.00"},{"v":0,"d":"$0.00"},{"v":0,"d":"$0.00"},{"v":0,"d":"$0.00"},{"v":0,"d":"$0.00"},{"v":0,"d":"$0.00"},"ASR-Dental_Financial_Report_SMMC_03.21.23","2023-03-21","Unaudited"]
["Dental","DEF","Default",1900,"1900-01-01","Q2","1900-06-30","Region 7","Operating Expense","Medical Expense","Dental Services","2.14","Ending IBNP for Dental Services",{"v":0,"d":"$0.00"},{"v":0,"d":"$0.00"},{"v":0,"d":"$0.00"},{"v":0,"d":"$0.00"},{"v":0,"d":"$0.00"},{"v":0,"d":"$0.00"},"ASR-Dental_Financial_Report_SMMC_03.21.23","2023-03-21","Unaudited"]
["Dental","DEF","Default",1900,"1900-01-01","Q2","1900-06-30","Region 7","Operating Expense","Medical Expense","Dental Services","2.15","Dental Settlements/AP",{"v":0,"d":"$0.00"},{"v":0,"d":"$0.00"},{"v":0,"d":"$0.00"},{"v":0,"d":"$0.00"},{"v":0,"d":"$0.00"},{"v":0,"d":"$0.00"},"ASR-Dental_Financial_Report_SMMC_03.21.23","2023-03-21","Unaudited"]
["Dental","DEF","Default",1900,"1900-01-01","Q2","1900-06-30","Region 7","Operating Expense","Medical Expense","Other Medical","3.5","TPL & Fraud/Abuse Recoveries",{"v":0,"d":"$0.00"},{"v":0,"d":"$0.00"},{"v":0,"d":"$0.00"},{"v":0,"d":"$0.00"},{"v":0,"d":"$0.00"},{"v":0,"d":"$0.00"},"ASR-Dental_Financial_Report_SMMC_03.21.23","2023-03-21","Unaudited"]
["Dental","DEF","Default",1900,"1900-01-01","Q2","1900-06-30","Region 7","Operating Expense","Medical Expense","Other Medical",3.6,"Premium Deficiency Reserve",{"v":0,"d":"$0.00"},{"v":0,"d":"$0.00"},{"v":0,"d":"$0.00"},{"v":0,"d":"$0.00"},{"v":0,"d":"$0.00"},{"v":0,"d":"$0.00"},"ASR-Dental_Financial_Report_SMMC_03.21.23","2023-03-21","Unaudited"]
["Dental","DEF","Default",1900,"1900-01-01","Q2","1900-06-30","Region 7","Operating Expense","Medical Expense","Other Medical","3.8","Reinsurance Premiums",{"v":0,"d":"$0.00"},{"v":0,"d":"$0.00"},{"v":0,"d":"$0.00"},{"v":0,"d":"$0.00"},{"v":0,"d":"$0.00"},{"v":0,"d":"$0.00"},"ASR-Dental_Financial_Report_SMMC_03.21.23","2023-03-21","Unaudited"]
["Dental","DEF","Default",1900,"1900-01-01","Q2","1900-06-30","Region 7","Operating Expense","Medical Expense","Other Medical","3.9","Reinsurance Recoveries",{"v":0,"d":"$0.00"},{"v":0,"d":"$0.00"},{"v":0,"d":"$0.00"},{"v":0,"d":"$0.00"},{"v":0,"d":"$0.00"},{"v":0,"d":"$0.00"},"ASR-Dental_Financial_Report_SMMC_03.21.23","2023-03-21","Unaudited"]
["Dental","DEF","Default",1900,"1900-01-01","Q2","1900-06-30","Region 7","Operating Expense","Administrative Expense","Administrative","4.1","Salaries & Benefits",{"v":0,"d":"$0.00"},{"v":0,"d":"$0.00"},{"v":0,"d":"$0.00"},{"v":0,"d":"$0.00"},{"v":0,"d":"$0.00"},{"v":0,"d":"$0.00"},"ASR-Dental_Financial_Report_SMMC_03.21.23","2023-03-21","Unaudited"]
["Dental","DEF","Default",1900,"1900-01-01","Q2","1900-06-30","Region 7","Operating Expense","Administrative Expense","Administrative","4.2","Administrative Services",{"$f":"IF(OR(AND($F1322=\"PY\",N$1<>\"Prior Year\"),AND($F1322<>\"PY\",N$1=\"Prior Year\")),0,INDEX(INDIRECT(\"'Dental Rev-Exp \"&$H1322&\"'!$A$1:$CA$200\"),IF($J1322=\"Member Months\",MATCH($J1322,INDIRECT(\"'Dental Rev-Exp \"&$H1322&\"'!$A$1:$A$200\"),0),MATCH($L1322,INDIRECT(\"'Dental Rev-Exp \"&$H1322&\"'!$B$1:$B$200\"),0)),IF($F1322=\"PY\",MATCH(\"Prior Year Adjustments\",INDIRECT(\"'Dental Rev-Exp \"&$H1322&\"'!$A$8:$CA$8\"),0),MATCH(IF($F1322=\"Q1\",\"JANUARY - MARCH (Q1)\",IF($F1322=\"Q2\",\"APRIL - JUNE (Q2)\",IF($F1322=\"Q3\",\"JULY - SEPTEMBER (Q3)\",IF($F1322=\"Q4\",\"OCTOBER - DECEMBER (Q4)\",0)))),INDIRECT(\"'Dental Rev-Exp \"&$H1322&\"'!$A$7:$CA$7\"),0)+MATCH(N$1,INDIRECT(\"'Dental Rev-Exp \"&$H1322&\"'!$D$8:$CA$8\"),0)-1)))","v":{"v":0,"d":"$0.00"}},{"v":0,"d":"$0.00"},{"v":0,"d":"$0.00"},{"v":0,"d":"$0.00"},{"v":0,"d":"$0.00"},{"v":0,"d":"$0.00"},"ASR-Dental_Financial_Report_SMMC_03.21.23","2023-03-21","Unaudited"]
["Dental","DEF","Default",1900,"1900-01-01","Q2","1900-06-30","Region 7","Operating Expense","Administrative Expense","Administrative","4.3","Information Systems",{"v":0,"d":"$0.00"},{"v":0,"d":"$0.00"},{"v":0,"d":"$0.00"},{"v":0,"d":"$0.00"},{"v":0,"d":"$0.00"},{"v":0,"d":"$0.00"},"ASR-Dental_Financial_Report_SMMC_03.21.23","2023-03-21","Unaudited"]
["Dental","DEF","Default",1900,"1900-01-01","Q2","1900-06-30","Region 7","Operating Expense","Administrative Expense","Administrative","4.4","Marketing Expenses",{"v":0,"d":"$0.00"},{"v":0,"d":"$0.00"},{"v":0,"d":"$0.00"},{"v":0,"d":"$0.00"},{"v":0,"d":"$0.00"},{"v":0,"d":"$0.00"},"ASR-Dental_Financial_Report_SMMC_03.21.23","2023-03-21","Unaudited"]
["Dental","DEF","Default",1900,"1900-01-01","Q2","1900-06-30","Region 7","Operating Expense","Administrative Expense","Administrative","4.5","General  Administration",{"v":0,"d":"$0.00"},{"v":0,"d":"$0.00"},{"v":0,"d":"$0.00"},{"v":0,"d":"$0.00"},{"v":0,"d":"$0.00"},{"v":0,"d":"$0.00"},"ASR-Dental_Financial_Report_SMMC_03.21.23","2023-03-21","Unaudited"]
["Dental","DEF","Default",1900,"1900-01-01","Q2","1900-06-30","Region 7","Operating Expense","Administrative Expense","Administrative","4.6","Compliance/Regulatory",{"v":0,"d":"$0.00"},{"v":0,"d":"$0.00"},{"v":0,"d":"$0.00"},{"v":0,"d":"$0.00"},{"v":0,"d":"$0.00"},{"v":0,"d":"$0.00"},"ASR-Dental_Financial_Report_SMMC_03.21.23","2023-03-21","Unaudited"]
["Dental","DEF","Default",1900,"1900-01-01","Q2","1900-06-30","Region 7","Operating Expense","Taxes & Fees","Taxes & Fees","5.1","State Premium tax",{"v":0,"d":"$0.00"},{"v":0,"d":"$0.00"},{"v":0,"d":"$0.00"},{"v":0,"d":"$0.00"},{"v":0,"d":"$0.00"},{"v":0,"d":"$0.00"},"ASR-Dental_Financial_Report_SMMC_03.21.23","2023-03-21","Unaudited"]
["Dental","DEF","Default",1900,"1900-01-01","Q2","1900-06-30","Region 7","Operating Expense","Taxes & Fees","Taxes & Fees","5.2","Department of Insurance Assessments",{"v":0,"d":"$0.00"},{"v":0,"d":"$0.00"},{"v":0,"d":"$0.00"},{"v":0,"d":"$0.00"},{"v":0,"d":"$0.00"},{"v":0,"d":"$0.00"},"ASR-Dental_Financial_Report_SMMC_03.21.23","2023-03-21","Unaudited"]
["Dental","DEF","Default",1900,"1900-01-01","Q2","1900-06-30","Region 7","Operating Expense","Taxes & Fees","Taxes & Fees","5.3","Section 9010 Health Insurance Providers Fee",{"v":0,"d":"$0.00"},{"v":0,"d":"$0.00"},{"v":0,"d":"$0.00"},{"v":0,"d":"$0.00"},{"v":0,"d":"$0.00"},{"v":0,"d":"$0.00"},"ASR-Dental_Financial_Report_SMMC_03.21.23","2023-03-21","Unaudited"]
["Dental","DEF","Default",1900,"1900-01-01","Q2","1900-06-30","Region 7","Operating Expense","Taxes & Fees","Taxes & Fees","5.4","Other 1",{"v":0,"d":"$0.00"},{"v":0,"d":"$0.00"},{"v":0,"d":"$0.00"},{"v":0,"d":"$0.00"},{"v":0,"d":"$0.00"},{"v":0,"d":"$0.00"},"ASR-Dental_Financial_Report_SMMC_03.21.23","2023-03-21","Unaudited"]
["Dental","DEF","Default",1900,"1900-01-01","Q2","1900-06-30","Region 7","Operating Expense","Taxes & Fees","Taxes & Fees","5.5","Other 2",{"v":0,"d":"$0.00"},{"v":0,"d":"$0.00"},{"v":0,"d":"$0.00"},{"v":0,"d":"$0.00"},{"v":0,"d":"$0.00"},{"v":0,"d":"$0.00"},"ASR-Dental_Financial_Report_SMMC_03.21.23","2023-03-21","Unaudited"]
["Dental","DEF","Default",1900,"1900-01-01","Q2","1900-06-30","Region 7","Operating Expense","Taxes & Fees","Taxes & Fees","5.6","Other 3",{"$f":"IF(OR(AND($F1332=\"PY\",N$1<>\"Prior Year\"),AND($F1332<>\"PY\",N$1=\"Prior Year\")),0,INDEX(INDIRECT(\"'Dental Rev-Exp \"&$H1332&\"'!$A$1:$CA$200\"),IF($J1332=\"Member Months\",MATCH($J1332,INDIRECT(\"'Dental Rev-Exp \"&$H1332&\"'!$A$1:$A$200\"),0),MATCH($L1332,INDIRECT(\"'Dental Rev-Exp \"&$H1332&\"'!$B$1:$B$200\"),0)),IF($F1332=\"PY\",MATCH(\"Prior Year Adjustments\",INDIRECT(\"'Dental Rev-Exp \"&$H1332&\"'!$A$8:$CA$8\"),0),MATCH(IF($F1332=\"Q1\",\"JANUARY - MARCH (Q1)\",IF($F1332=\"Q2\",\"APRIL - JUNE (Q2)\",IF($F1332=\"Q3\",\"JULY - SEPTEMBER (Q3)\",IF($F1332=\"Q4\",\"OCTOBER - DECEMBER (Q4)\",0)))),INDIRECT(\"'Dental Rev-Exp \"&$H1332&\"'!$A$7:$CA$7\"),0)+MATCH(N$1,INDIRECT(\"'Dental Rev-Exp \"&$H1332&\"'!$D$8:$CA$8\"),0)-1)))","v":{"v":0,"d":"$0.00"}},{"v":0,"d":"$0.00"},{"v":0,"d":"$0.00"},{"v":0,"d":"$0.00"},{"v":0,"d":"$0.00"},{"v":0,"d":"$0.00"},"ASR-Dental_Financial_Report_SMMC_03.21.23","2023-03-21","Unaudited"]
["Dental","DEF","Default",1900,"1900-01-01","Q2","1900-06-30","Region 7","Non-Operating Expense","Income Tax Expense","Income Tax Expense","8.0","Income Tax Expense",{"v":0,"d":"$0.00"},{"v":0,"d":"$0.00"},{"v":0,"d":"$0.00"},{"v":0,"d":"$0.00"},{"v":0,"d":"$0.00"},{"v":0,"d":"$0.00"},"ASR-Dental_Financial_Report_SMMC_03.21.23","2023-03-21","Unaudited"]
["Dental","DEF","Default",1900,"1900-01-01","Q3","1900-09-30","Region 7","Member Months","Member Months","Member Months",null,"Member Months",{"v":0,"d":"$0.00"},{"v":0,"d":"$0.00"},{"v":0,"d":"$0.00"},{"v":0,"d":"$0.00"},{"v":0,"d":"$0.00"},{"v":0,"d":"$0.00"},"ASR-Dental_Financial_Report_SMMC_03.21.23","2023-03-21","Unaudited"]
["Dental","DEF","Default",1900,"1900-01-01","Q3","1900-09-30","Region 7","Operating Revenue","Capitation","Capitation","1.1","Capitation",{"v":0,"d":"$0.00"},{"v":0,"d":"$0.00"},{"v":0,"d":"$0.00"},{"v":0,"d":"$0.00"},{"v":0,"d":"$0.00"},{"v":0,"d":"$0.00"},"ASR-Dental_Financial_Report_SMMC_03.21.23","2023-03-21","Unaudited"]
["Dental","DEF","Default",1900,"1900-01-01","Q3","1900-09-30","Region 7","Operating Revenue","Other Revenue","Other Revenue - 9010","1.2","ACA § 9010 related payments",{"v":0,"d":"$0.00"},{"v":0,"d":"$0.00"},{"v":0,"d":"$0.00"},{"v":0,"d":"$0.00"},{"v":0,"d":"$0.00"},{"v":0,"d":"$0.00"},"ASR-Dental_Financial_Report_SMMC_03.21.23","2023-03-21","Unaudited"]
["Dental","DEF","Default",1900,"1900-01-01","Q3","1900-09-30","Region 7","Operating Revenue","Other Revenue","Other Revenue","1.3","Other Revenue",{"v":0,"d":"$0.00"},{"v":0,"d":"$0.00"},{"v":0,"d":"$0.00"},{"v":0,"d":"$0.00"},{"v":0,"d":"$0.00"},{"v":0,"d":"$0.00"},"ASR-Dental_Financial_Report_SMMC_03.21.23","2023-03-21","Unaudited"]
["Dental","DEF","Default",1900,"1900-01-01","Q3","1900-09-30","Region 7","Operating Expense","Medical Expense","Dental Services","2.1","Dental Services Diagnostic",{"v":0,"d":"$0.00"},{"v":0,"d":"$0.00"},{"v":0,"d":"$0.00"},{"v":0,"d":"$0.00"},{"v":0,"d":"$0.00"},{"v":0,"d":"$0.00"},"ASR-Dental_Financial_Report_SMMC_03.21.23","2023-03-21","Unaudited"]
["Dental","DEF","Default",1900,"1900-01-01","Q3","1900-09-30","Region 7","Operating Expense","Medical Expense","Dental Services",2.2,"Dental Services Preventive",{"v":0,"d":"$0.00"},{"v":0,"d":"$0.00"},{"v":0,"d":"$0.00"},{"v":0,"d":"$0.00"},{"v":0,"d":"$0.00"},{"v":0,"d":"$0.00"},"ASR-Dental_Financial_Report_SMMC_03.21.23","2023-03-21","Unaudited"]
["Dental","DEF","Default",1900,"1900-01-01","Q3","1900-09-30","Region 7","Operating Expense","Medical Expense","Dental Services","2.3","Dental Services Restorative",{"v":0,"d":"$0.00"},{"v":0,"d":"$0.00"},{"v":0,"d":"$0.00"},{"v":0,"d":"$0.00"},{"v":0,"d":"$0.00"},{"v":0,"d":"$0.00"},"ASR-Dental_Financial_Report_SMMC_03.21.23","2023-03-21","Unaudited"]
["Dental","DEF","Default",1900,"1900-01-01","Q3","1900-09-30","Region 7","Operating Expense","Medical Expense","Dental Services","2.4","Dental Services Endodontics",{"v":0,"d":"$0.00"},{"v":0,"d":"$0.00"},{"v":0,"d":"$0.00"},{"v":0,"d":"$0.00"},{"v":0,"d":"$0.00"},{"v":0,"d":"$0.00"},"ASR-Dental_Financial_Report_SMMC_03.21.23","2023-03-21","Unaudited"]
["Dental","DEF","Default",1900,"1900-01-01","Q3","1900-09-30","Region 7","Operating Expense","Medical Expense","Dental Services","2.5","Dental Services Periodontics",{"$f":"IF(OR(AND($F1342=\"PY\",N$1<>\"Prior Year\"),AND($F1342<>\"PY\",N$1=\"Prior Year\")),0,INDEX(INDIRECT(\"'Dental Rev-Exp \"&$H1342&\"'!$A$1:$CA$200\"),IF($J1342=\"Member Months\",MATCH($J1342,INDIRECT(\"'Dental Rev-Exp \"&$H1342&\"'!$A$1:$A$200\"),0),MATCH($L1342,INDIRECT(\"'Dental Rev-Exp \"&$H1342&\"'!$B$1:$B$200\"),0)),IF($F1342=\"PY\",MATCH(\"Prior Year Adjustments\",INDIRECT(\"'Dental Rev-Exp \"&$H1342&\"'!$A$8:$CA$8\"),0),MATCH(IF($F1342=\"Q1\",\"JANUARY - MARCH (Q1)\",IF($F1342=\"Q2\",\"APRIL - JUNE (Q2)\",IF($F1342=\"Q3\",\"JULY - SEPTEMBER (Q3)\",IF($F1342=\"Q4\",\"OCTOBER - DECEMBER (Q4)\",0)))),INDIRECT(\"'Dental Rev-Exp \"&$H1342&\"'!$A$7:$CA$7\"),0)+MATCH(N$1,INDIRECT(\"'Dental Rev-Exp \"&$H1342&\"'!$D$8:$CA$8\"),0)-1)))","v":{"v":0,"d":"$0.00"}},{"v":0,"d":"$0.00"},{"v":0,"d":"$0.00"},{"v":0,"d":"$0.00"},{"v":0,"d":"$0.00"},{"v":0,"d":"$0.00"},"ASR-Dental_Financial_Report_SMMC_03.21.23","2023-03-21","Unaudited"]
["Dental","DEF","Default",1900,"1900-01-01","Q3","1900-09-30","Region 7","Operating Expense","Medical Expense","Dental Services","2.6","Dental Services Prosthodontics",{"v":0,"d":"$0.00"},{"v":0,"d":"$0.00"},{"v":0,"d":"$0.00"},{"v":0,"d":"$0.00"},{"v":0,"d":"$0.00"},{"v":0,"d":"$0.00"},"ASR-Dental_Financial_Report_SMMC_03.21.23","2023-03-21","Unaudited"]
["Dental","DEF","Default",1900,"1900-01-01","Q3","1900-09-30","Region 7","Operating Expense","Medical Expense","Dental Services","2.7","Dental Services Prosthodontics, fixed",{"v":0,"d":"$0.00"},{"v":0,"d":"$0.00"},{"v":0,"d":"$0.00"},{"v":0,"d":"$0.00"},{"v":0,"d":"$0.00"},{"v":0,"d":"$0.00"},"ASR-Dental_Financial_Report_SMMC_03.21.23","2023-03-21","Unaudited"]
["Dental","DEF","Default",1900,"1900-01-01","Q3","1900-09-30","Region 7","Operating Expense","Medical Expense","Dental Services","2.8","Dental Services Oral and Maxillofacial Surgery",{"v":0,"d":"$0.00"},{"v":0,"d":"$0.00"},{"v":0,"d":"$0.00"},{"v":0,"d":"$0.00"},{"v":0,"d":"$0.00"},{"v":0,"d":"$0.00"},"ASR-Dental_Financial_Report_SMMC_03.21.23","2023-03-21","Unaudited"]
["Dental","DEF","Default",1900,"1900-01-01","Q3","1900-09-30","Region 7","Operating Expense","Medical Expense","Dental Services","2.9","Dental Services Orthodontics",{"v":0,"d":"$0.00"},{"v":0,"d":"$0.00"},{"v":0,"d":"$0.00"},{"v":0,"d":"$0.00"},{"v":0,"d":"$0.00"},{"v":0,"d":"$0.00"},{"$f":"file_name","v":"ASR-Dental_Financial_Report_SMMC_03.21.23"},{"$f":"file_date","v":"2023-03-21"},{"$f":"status","v":"Unaudited"}]
["Dental","DEF","Default",1900,"1900-01-01","Q3","1900-09-30","Region 7","Operating Expense","Medical Expense","Dental Services","2.10","Dental Services Adjunctive General Services",{"v":0,"d":"$0.00"},{"v":0,"d":"$0.00"},{"v":0,"d":"$0.00"},{"v":0,"d":"$0.00"},{"v":0,"d":"$0.00"},{"v":0,"d":"$0.00"},"ASR-Dental_Financial_Report_SMMC_03.21.23","2023-03-21","Unaudited"]
["Dental","DEF","Default",1900,"1900-01-01","Q3","1900-09-30","Region 7","Operating Expense","Medical Expense","Dental Services","2.11","Dental Services Other",{"v":0,"d":"$0.00"},{"v":0,"d":"$0.00"},{"v":0,"d":"$0.00"},{"v":0,"d":"$0.00"},{"v":0,"d":"$0.00"},{"v":0,"d":"$0.00"},"ASR-Dental_Financial_Report_SMMC_03.21.23","2023-03-21","Unaudited"]
["Dental","DEF","Default",1900,"1900-01-01","Q3","1900-09-30","Region 7","Operating Expense","Medical Expense","Expanded Benefits","2.12","Dental Expanded Benefits",{"v":0,"d":"$0.00"},{"v":0,"d":"$0.00"},{"v":0,"d":"$0.00"},{"v":0,"d":"$0.00"},{"v":0,"d":"$0.00"},{"v":0,"d":"$0.00"},"ASR-Dental_Financial_Report_SMMC_03.21.23","2023-03-21","Unaudited"]
["Dental","DEF","Default",1900,"1900-01-01","Q3","1900-09-30","Region 7","Operating Expense","Medical Expense","Dental Services","2.13","Dental Services Paid through Subcapitation",{"v":0,"d":"$0.00"},{"v":0,"d":"$0.00"},{"v":0,"d":"$0.00"},{"v":0,"d":"$0.00"},{"v":0,"d":"$0.00"},{"v":0,"d":"$0.00"},"ASR-Dental_Financial_Report_SMMC_03.21.23","2023-03-21","Unaudited"]
["Dental","DEF","Default",1900,"1900-01-01","Q3","1900-09-30","Region 7","Operating Expense","Medical Expense","Dental Services","2.14","Ending IBNP for Dental Services",{"v":0,"d":"$0.00"},{"v":0,"d":"$0.00"},{"v":0,"d":"$0.00"},{"v":0,"d":"$0.00"},{"v":0,"d":"$0.00"},{"v":0,"d":"$0.00"},"ASR-Dental_Financial_Report_SMMC_03.21.23","2023-03-21","Unaudited"]
["Dental","DEF","Default",1900,"1900-01-01","Q3","1900-09-30","Region 7","Operating Expense","Medical Expense","Dental Services","2.15","Dental Settlements/AP",{"$f":"IF(OR(AND($F1352=\"PY\",N$1<>\"Prior Year\"),AND($F1352<>\"PY\",N$1=\"Prior Year\")),0,INDEX(INDIRECT(\"'Dental Rev-Exp \"&$H1352&\"'!$A$1:$CA$200\"),IF($J1352=\"Member Months\",MATCH($J1352,INDIRECT(\"'Dental Rev-Exp \"&$H1352&\"'!$A$1:$A$200\"),0),MATCH($L1352,INDIRECT(\"'Dental Rev-Exp \"&$H1352&\"'!$B$1:$B$200\"),0)),IF($F1352=\"PY\",MATCH(\"Prior Year Adjustments\",INDIRECT(\"'Dental Rev-Exp \"&$H1352&\"'!$A$8:$CA$8\"),0),MATCH(IF($F1352=\"Q1\",\"JANUARY - MARCH (Q1)\",IF($F1352=\"Q2\",\"APRIL - JUNE (Q2)\",IF($F1352=\"Q3\",\"JULY - SEPTEMBER (Q3)\",IF($F1352=\"Q4\",\"OCTOBER - DECEMBER (Q4)\",0)))),INDIRECT(\"'Dental Rev-Exp \"&$H1352&\"'!$A$7:$CA$7\"),0)+MATCH(N$1,INDIRECT(\"'Dental Rev-Exp \"&$H1352&\"'!$D$8:$CA$8\"),0)-1)))","v":{"v":0,"d":"$0.00"}},{"v":0,"d":"$0.00"},{"v":0,"d":"$0.00"},{"v":0,"d":"$0.00"},{"v":0,"d":"$0.00"},{"v":0,"d":"$0.00"},"ASR-Dental_Financial_Report_SMMC_03.21.23","2023-03-21","Unaudited"]
["Dental","DEF","Default",1900,"1900-01-01","Q3","1900-09-30","Region 7","Operating Expense","Medical Expense","Other Medical","3.5","TPL & Fraud/Abuse Recoveries",{"v":0,"d":"$0.00"},{"v":0,"d":"$0.00"},{"v":0,"d":"$0.00"},{"v":0,"d":"$0.00"},{"v":0,"d":"$0.00"},{"v":0,"d":"$0.00"},"ASR-Dental_Financial_Report_SMMC_03.21.23","2023-03-21","Unaudited"]
["Dental","DEF","Default",1900,"1900-01-01","Q3","1900-09-30","Region 7","Operating Expense","Medical Expense","Other Medical",3.6,"Premium Deficiency Reserve",{"v":0,"d":"$0.00"},{"v":0,"d":"$0.00"},{"v":0,"d":"$0.00"},{"v":0,"d":"$0.00"},{"v":0,"d":"$0.00"},{"v":0,"d":"$0.00"},"ASR-Dental_Financial_Report_SMMC_03.21.23","2023-03-21","Unaudited"]
["Dental","DEF","Default",1900,"1900-01-01","Q3","1900-09-30","Region 7","Operating Expense","Medical Expense","Other Medical","3.8","Reinsurance Premiums",{"v":0,"d":"$0.00"},{"v":0,"d":"$0.00"},{"v":0,"d":"$0.00"},{"v":0,"d":"$0.00"},{"v":0,"d":"$0.00"},{"v":0,"d":"$0.00"},"ASR-Dental_Financial_Report_SMMC_03.21.23","2023-03-21","Unaudited"]
["Dental","DEF","Default",1900,"1900-01-01","Q3","1900-09-30","Region 7","Operating Expense","Medical Expense","Other Medical","3.9","Reinsurance Recoveries",{"v":0,"d":"$0.00"},{"v":0,"d":"$0.00"},{"v":0,"d":"$0.00"},{"v":0,"d":"$0.00"},{"v":0,"d":"$0.00"},{"v":0,"d":"$0.00"},"ASR-Dental_Financial_Report_SMMC_03.21.23","2023-03-21","Unaudited"]
["Dental","DEF","Default",1900,"1900-01-01","Q3","1900-09-30","Region 7","Operating Expense","Administrative Expense","Administrative","4.1","Salaries & Benefits",{"v":0,"d":"$0.00"},{"v":0,"d":"$0.00"},{"v":0,"d":"$0.00"},{"v":0,"d":"$0.00"},{"v":0,"d":"$0.00"},{"v":0,"d":"$0.00"},"ASR-Dental_Financial_Report_SMMC_03.21.23","2023-03-21","Unaudited"]
["Dental","DEF","Default",1900,"1900-01-01","Q3","1900-09-30","Region 7","Operating Expense","Administrative Expense","Administrative","4.2","Administrative Services",{"v":0,"d":"$0.00"},{"v":0,"d":"$0.00"},{"v":0,"d":"$0.00"},{"v":0,"d":"$0.00"},{"v":0,"d":"$0.00"},{"v":0,"d":"$0.00"},"ASR-Dental_Financial_Report_SMMC_03.21.23","2023-03-21","Unaudited"]
["Dental","DEF","Default",1900,"1900-01-01","Q3","1900-09-30","Region 7","Operating Expense","Administrative Expense","Administrative","4.3","Information Systems",{"v":0,"d":"$0.00"},{"v":0,"d":"$0.00"},{"v":0,"d":"$0.00"},{"v":0,"d":"$0.00"},{"v":0,"d":"$0.00"},{"v":0,"d":"$0.00"},"ASR-Dental_Financial_Report_SMMC_03.21.23","2023-03-21","Unaudited"]
["Dental","DEF","Default",1900,"1900-01-01","Q3","1900-09-30","Region 7","Operating Expense","Administrative Expense","Administrative","4.4","Marketing Expenses",{"v":0,"d":"$0.00"},{"v":0,"d":"$0.00"},{"v":0,"d":"$0.00"},{"v":0,"d":"$0.00"},{"v":0,"d":"$0.00"},{"v":0,"d":"$0.00"},"ASR-Dental_Financial_Report_SMMC_03.21.23","2023-03-21","Unaudited"]
["Dental","DEF","Default",1900,"1900-01-01","Q3","1900-09-30","Region 7","Operating Expense","Administrative Expense","Administrative","4.5","General  Administration",{"v":0,"d":"$0.00"},{"v":0,"d":"$0.00"},{"v":0,"d":"$0.00"},{"v":0,"d":"$0.00"},{"v":0,"d":"$0.00"},{"v":0,"d":"$0.00"},"ASR-Dental_Financial_Report_SMMC_03.21.23","2023-03-21","Unaudited"]
["Dental","DEF","Default",1900,"1900-01-01","Q3","1900-09-30","Region 7","Operating Expense","Administrative Expense","Administrative","4.6","Compliance/Regulatory",{"$f":"IF(OR(AND($F1362=\"PY\",N$1<>\"Prior Year\"),AND($F1362<>\"PY\",N$1=\"Prior Year\")),0,INDEX(INDIRECT(\"'Dental Rev-Exp \"&$H1362&\"'!$A$1:$CA$200\"),IF($J1362=\"Member Months\",MATCH($J1362,INDIRECT(\"'Dental Rev-Exp \"&$H1362&\"'!$A$1:$A$200\"),0),MATCH($L1362,INDIRECT(\"'Dental Rev-Exp \"&$H1362&\"'!$B$1:$B$200\"),0)),IF($F1362=\"PY\",MATCH(\"Prior Year Adjustments\",INDIRECT(\"'Dental Rev-Exp \"&$H1362&\"'!$A$8:$CA$8\"),0),MATCH(IF($F1362=\"Q1\",\"JANUARY - MARCH (Q1)\",IF($F1362=\"Q2\",\"APRIL - JUNE (Q2)\",IF($F1362=\"Q3\",\"JULY - SEPTEMBER (Q3)\",IF($F1362=\"Q4\",\"OCTOBER - DECEMBER (Q4)\",0)))),INDIRECT(\"'Dental Rev-Exp \"&$H1362&\"'!$A$7:$CA$7\"),0)+MATCH(N$1,INDIRECT(\"'Dental Rev-Exp \"&$H1362&\"'!$D$8:$CA$8\"),0)-1)))","v":{"v":0,"d":"$0.00"}},{"v":0,"d":"$0.00"},{"v":0,"d":"$0.00"},{"v":0,"d":"$0.00"},{"v":0,"d":"$0.00"},{"v":0,"d":"$0.00"},"ASR-Dental_Financial_Report_SMMC_03.21.23","2023-03-21","Unaudited"]
["Dental","DEF","Default",1900,"1900-01-01","Q3","1900-09-30","Region 7","Operating Expense","Taxes & Fees","Taxes & Fees","5.1","State Premium tax",{"v":0,"d":"$0.00"},{"v":0,"d":"$0.00"},{"v":0,"d":"$0.00"},{"v":0,"d":"$0.00"},{"v":0,"d":"$0.00"},{"v":0,"d":"$0.00"},"ASR-Dental_Financial_Report_SMMC_03.21.23","2023-03-21","Unaudited"]
["Dental","DEF","Default",1900,"1900-01-01","Q3","1900-09-30","Region 7","Operating Expense","Taxes & Fees","Taxes & Fees","5.2","Department of Insurance Assessments",{"v":0,"d":"$0.00"},{"v":0,"d":"$0.00"},{"v":0,"d":"$0.00"},{"v":0,"d":"$0.00"},{"v":0,"d":"$0.00"},{"v":0,"d":"$0.00"},"ASR-Dental_Financial_Report_SMMC_03.21.23","2023-03-21","Unaudited"]
["Dental","DEF","Default",1900,"1900-01-01","Q3","1900-09-30","Region 7","Operating Expense","Taxes & Fees","Taxes & Fees","5.3","Section 9010 Health Insurance Providers Fee",{"v":0,"d":"$0.00"},{"v":0,"d":"$0.00"},{"v":0,"d":"$0.00"},{"v":0,"d":"$0.00"},{"v":0,"d":"$0.00"},{"v":0,"d":"$0.00"},"ASR-Dental_Financial_Report_SMMC_03.21.23","2023-03-21","Unaudited"]
["Dental","DEF","Default",1900,"1900-01-01","Q3","1900-09-30","Region 7","Operating Expense","Taxes & Fees","Taxes & Fees","5.4","Other 1",{"v":0,"d":"$0.00"},{"v":0,"d":"$0.00"},{"v":0,"d":"$0.00"},{"v":0,"d":"$0.00"},{"v":0,"d":"$0.00"},{"v":0,"d":"$0.00"},"ASR-Dental_Financial_Report_SMMC_03.21.23","2023-03-21","Unaudited"]
["Dental","DEF","Default",1900,"1900-01-01","Q3","1900-09-30","Region 7","Operating Expense","Taxes & Fees","Taxes & Fees","5.5","Other 2",{"v":0,"d":"$0.00"},{"v":0,"d":"$0.00"},{"v":0,"d":"$0.00"},{"v":0,"d":"$0.00"},{"v":0,"d":"$0.00"},{"v":0,"d":"$0.00"},"ASR-Dental_Financial_Report_SMMC_03.21.23","2023-03-21","Unaudited"]
["Dental","DEF","Default",1900,"1900-01-01","Q3","1900-09-30","Region 7","Operating Expense","Taxes & Fees","Taxes & Fees","5.6","Other 3",{"v":0,"d":"$0.00"},{"v":0,"d":"$0.00"},{"v":0,"d":"$0.00"},{"v":0,"d":"$0.00"},{"v":0,"d":"$0.00"},{"v":0,"d":"$0.00"},"ASR-Dental_Financial_Report_SMMC_03.21.23","2023-03-21","Unaudited"]
["Dental","DEF","Default",1900,"1900-01-01","Q3","1900-09-30","Region 7","Non-Operating Expense","Income Tax Expense","Income Tax Expense","8.0","Income Tax Expense",{"v":0,"d":"$0.00"},{"v":0,"d":"$0.00"},{"v":0,"d":"$0.00"},{"v":0,"d":"$0.00"},{"v":0,"d":"$0.00"},{"v":0,"d":"$0.00"},"ASR-Dental_Financial_Report_SMMC_03.21.23","2023-03-21","Unaudited"]
["Dental","DEF","Default",1900,"1900-01-01","Q4","1900-12-31","Region 7","Member Months","Member Months","Member Months",null,"Member Months",{"v":0,"d":"$0.00"},{"v":0,"d":"$0.00"},{"v":0,"d":"$0.00"},{"v":0,"d":"$0.00"},{"v":0,"d":"$0.00"},{"v":0,"d":"$0.00"},"ASR-Dental_Financial_Report_SMMC_03.21.23","2023-03-21","Unaudited"]
["Dental","DEF","Default",1900,"1900-01-01","Q4","1900-12-31","Region 7","Operating Revenue","Capitation","Capitation","1.1","Capitation",{"v":0,"d":"$0.00"},{"v":0,"d":"$0.00"},{"v":0,"d":"$0.00"},{"v":0,"d":"$0.00"},{"v":0,"d":"$0.00"},{"v":0,"d":"$0.00"},"ASR-Dental_Financial_Report_SMMC_03.21.23","2023-03-21","Unaudited"]
["Dental","DEF","Default",1900,"1900-01-01","Q4","1900-12-31","Region 7","Operating Revenue","Other Revenue","Other Revenue - 9010","1.2","ACA § 9010 related payments",{"$f":"IF(OR(AND($F1372=\"PY\",N$1<>\"Prior Year\"),AND($F1372<>\"PY\",N$1=\"Prior Year\")),0,INDEX(INDIRECT(\"'Dental Rev-Exp \"&$H1372&\"'!$A$1:$CA$200\"),IF($J1372=\"Member Months\",MATCH($J1372,INDIRECT(\"'Dental Rev-Exp \"&$H1372&\"'!$A$1:$A$200\"),0),MATCH($L1372,INDIRECT(\"'Dental Rev-Exp \"&$H1372&\"'!$B$1:$B$200\"),0)),IF($F1372=\"PY\",MATCH(\"Prior Year Adjustments\",INDIRECT(\"'Dental Rev-Exp \"&$H1372&\"'!$A$8:$CA$8\"),0),MATCH(IF($F1372=\"Q1\",\"JANUARY - MARCH (Q1)\",IF($F1372=\"Q2\",\"APRIL - JUNE (Q2)\",IF($F1372=\"Q3\",\"JULY - SEPTEMBER (Q3)\",IF($F1372=\"Q4\",\"OCTOBER - DECEMBER (Q4)\",0)))),INDIRECT(\"'Dental Rev-Exp \"&$H1372&\"'!$A$7:$CA$7\"),0)+MATCH(N$1,INDIRECT(\"'Dental Rev-Exp \"&$H1372&\"'!$D$8:$CA$8\"),0)-1)))","v":{"v":0,"d":"$0.00"}},{"v":0,"d":"$0.00"},{"v":0,"d":"$0.00"},{"v":0,"d":"$0.00"},{"v":0,"d":"$0.00"},{"v":0,"d":"$0.00"},"ASR-Dental_Financial_Report_SMMC_03.21.23","2023-03-21","Unaudited"]
["Dental","DEF","Default",1900,"1900-01-01","Q4","1900-12-31","Region 7","Operating Revenue","Other Revenue","Other Revenue","1.3","Other Revenue",{"v":0,"d":"$0.00"},{"v":0,"d":"$0.00"},{"v":0,"d":"$0.00"},{"v":0,"d":"$0.00"},{"v":0,"d":"$0.00"},{"v":0,"d":"$0.00"},"ASR-Dental_Financial_Report_SMMC_03.21.23","2023-03-21","Unaudited"]
["Dental","DEF","Default",1900,"1900-01-01","Q4","1900-12-31","Region 7","Operating Expense","Medical Expense","Dental Services","2.1","Dental Services Diagnostic",{"v":0,"d":"$0.00"},{"v":0,"d":"$0.00"},{"v":0,"d":"$0.00"},{"v":0,"d":"$0.00"},{"v":0,"d":"$0.00"},{"v":0,"d":"$0.00"},"ASR-Dental_Financial_Report_SMMC_03.21.23","2023-03-21","Unaudited"]
["Dental","DEF","Default",1900,"1900-01-01","Q4","1900-12-31","Region 7","Operating Expense","Medical Expense","Dental Services",2.2,"Dental Services Preventive",{"v":0,"d":"$0.00"},{"v":0,"d":"$0.00"},{"v":0,"d":"$0.00"},{"v":0,"d":"$0.00"},{"v":0,"d":"$0.00"},{"v":0,"d":"$0.00"},"ASR-Dental_Financial_Report_SMMC_03.21.23","2023-03-21","Unaudited"]
["Dental","DEF","Default",1900,"1900-01-01","Q4","1900-12-31","Region 7","Operating Expense","Medical Expense","Dental Services","2.3","Dental Services Restorative",{"v":0,"d":"$0.00"},{"v":0,"d":"$0.00"},{"v":0,"d":"$0.00"},{"v":0,"d":"$0.00"},{"v":0,"d":"$0.00"},{"v":0,"d":"$0.00"},"ASR-Dental_Financial_Report_SMMC_03.21.23","2023-03-21","Unaudited"]
["Dental","DEF","Default",1900,"1900-01-01","Q4","1900-12-31","Region 7","Operating Expense","Medical Expense","Dental Services","2.4","Dental Services Endodontics",{"v":0,"d":"$0.00"},{"v":0,"d":"$0.00"},{"v":0,"d":"$0.00"},{"v":0,"d":"$0.00"},{"v":0,"d":"$0.00"},{"v":0,"d":"$0.00"},"ASR-Dental_Financial_Report_SMMC_03.21.23","2023-03-21","Unaudited"]
["Dental","DEF","Default",1900,"1900-01-01","Q4","1900-12-31","Region 7","Operating Expense","Medical Expense","Dental Services","2.5","Dental Services Periodontics",{"v":0,"d":"$0.00"},{"v":0,"d":"$0.00"},{"v":0,"d":"$0.00"},{"v":0,"d":"$0.00"},{"v":0,"d":"$0.00"},{"v":0,"d":"$0.00"},"ASR-Dental_Financial_Report_SMMC_03.21.23","2023-03-21","Unaudited"]
["Dental","DEF","Default",1900,"1900-01-01","Q4","1900-12-31","Region 7","Operating Expense","Medical Expense","Dental Services","2.6","Dental Services Prosthodontics",{"v":0,"d":"$0.00"},{"v":0,"d":"$0.00"},{"v":0,"d":"$0.00"},{"v":0,"d":"$0.00"},{"v":0,"d":"$0.00"},{"v":0,"d":"$0.00"},"ASR-Dental_Financial_Report_SMMC_03.21.23","2023-03-21","Unaudited"]
["Dental","DEF","Default",1900,"1900-01-01","Q4","1900-12-31","Region 7","Operating Expense","Medical Expense","Dental Services","2.7","Dental Services Prosthodontics, fixed",{"v":0,"d":"$0.00"},{"v":0,"d":"$0.00"},{"v":0,"d":"$0.00"},{"v":0,"d":"$0.00"},{"v":0,"d":"$0.00"},{"v":0,"d":"$0.00"},"ASR-Dental_Financial_Report_SMMC_03.21.23","2023-03-21","Unaudited"]
["Dental","DEF","Default",1900,"1900-01-01","Q4","1900-12-31","Region 7","Operating Expense","Medical Expense","Dental Services","2.8","Dental Services Oral and Maxillofacial Surgery",{"v":0,"d":"$0.00"},{"v":0,"d":"$0.00"},{"v":0,"d":"$0.00"},{"v":0,"d":"$0.00"},{"v":0,"d":"$0.00"},{"v":0,"d":"$0.00"},"ASR-Dental_Financial_Report_SMMC_03.21.23","2023-03-21","Unaudited"]
["Dental","DEF","Default",1900,"1900-01-01","Q4","1900-12-31","Region 7","Operating Expense","Medical Expense","Dental Services","2.9","Dental Services Orthodontics",{"$f":"IF(OR(AND($F1382=\"PY\",N$1<>\"Prior Year\"),AND($F1382<>\"PY\",N$1=\"Prior Year\")),0,INDEX(INDIRECT(\"'Dental Rev-Exp \"&$H1382&\"'!$A$1:$CA$200\"),IF($J1382=\"Member Months\",MATCH($J1382,INDIRECT(\"'Dental Rev-Exp \"&$H1382&\"'!$A$1:$A$200\"),0),MATCH($L1382,INDIRECT(\"'Dental Rev-Exp \"&$H1382&\"'!$B$1:$B$200\"),0)),IF($F1382=\"PY\",MATCH(\"Prior Year Adjustments\",INDIRECT(\"'Dental Rev-Exp \"&$H1382&\"'!$A$8:$CA$8\"),0),MATCH(IF($F1382=\"Q1\",\"JANUARY - MARCH (Q1)\",IF($F1382=\"Q2\",\"APRIL - JUNE (Q2)\",IF($F1382=\"Q3\",\"JULY - SEPTEMBER (Q3)\",IF($F1382=\"Q4\",\"OCTOBER - DECEMBER (Q4)\",0)))),INDIRECT(\"'Dental Rev-Exp \"&$H1382&\"'!$A$7:$CA$7\"),0)+MATCH(N$1,INDIRECT(\"'Dental Rev-Exp \"&$H1382&\"'!$D$8:$CA$8\"),0)-1)))","v":{"v":0,"d":"$0.00"}},{"v":0,"d":"$0.00"},{"v":0,"d":"$0.00"},{"v":0,"d":"$0.00"},{"v":0,"d":"$0.00"},{"v":0,"d":"$0.00"},"ASR-Dental_Financial_Report_SMMC_03.21.23","2023-03-21","Unaudited"]
["Dental","DEF","Default",1900,"1900-01-01","Q4","1900-12-31","Region 7","Operating Expense","Medical Expense","Dental Services","2.10","Dental Services Adjunctive General Services",{"v":0,"d":"$0.00"},{"v":0,"d":"$0.00"},{"v":0,"d":"$0.00"},{"v":0,"d":"$0.00"},{"v":0,"d":"$0.00"},{"v":0,"d":"$0.00"},"ASR-Dental_Financial_Report_SMMC_03.21.23","2023-03-21","Unaudited"]
["Dental","DEF","Default",1900,"1900-01-01","Q4","1900-12-31","Region 7","Operating Expense","Medical Expense","Dental Services","2.11","Dental Services Other",{"v":0,"d":"$0.00"},{"v":0,"d":"$0.00"},{"v":0,"d":"$0.00"},{"v":0,"d":"$0.00"},{"v":0,"d":"$0.00"},{"v":0,"d":"$0.00"},"ASR-Dental_Financial_Report_SMMC_03.21.23","2023-03-21","Unaudited"]
["Dental","DEF","Default",1900,"1900-01-01","Q4","1900-12-31","Region 7","Operating Expense","Medical Expense","Expanded Benefits","2.12","Dental Expanded Benefits",{"v":0,"d":"$0.00"},{"v":0,"d":"$0.00"},{"v":0,"d":"$0.00"},{"v":0,"d":"$0.00"},{"v":0,"d":"$0.00"},{"v":0,"d":"$0.00"},"ASR-Dental_Financial_Report_SMMC_03.21.23","2023-03-21","Unaudited"]
["Dental","DEF","Default",1900,"1900-01-01","Q4","1900-12-31","Region 7","Operating Expense","Medical Expense","Dental Services","2.13","Dental Services Paid through Subcapitation",{"v":0,"d":"$0.00"},{"v":0,"d":"$0.00"},{"v":0,"d":"$0.00"},{"v":0,"d":"$0.00"},{"v":0,"d":"$0.00"},{"v":0,"d":"$0.00"},"ASR-Dental_Financial_Report_SMMC_03.21.23","2023-03-21","Unaudited"]
["Dental","DEF","Default",1900,"1900-01-01","Q4","1900-12-31","Region 7","Operating Expense","Medical Expense","Dental Services","2.14","Ending IBNP for Dental Services",{"v":0,"d":"$0.00"},{"v":0,"d":"$0.00"},{"v":0,"d":"$0.00"},{"v":0,"d":"$0.00"},{"v":0,"d":"$0.00"},{"v":0,"d":"$0.00"},"ASR-Dental_Financial_Report_SMMC_03.21.23","2023-03-21","Unaudited"]
["Dental","DEF","Default",1900,"1900-01-01","Q4","1900-12-31","Region 7","Operating Expense","Medical Expense","Dental Services","2.15","Dental Settlements/AP",{"v":0,"d":"$0.00"},{"v":0,"d":"$0.00"},{"v":0,"d":"$0.00"},{"v":0,"d":"$0.00"},{"v":0,"d":"$0.00"},{"v":0,"d":"$0.00"},"ASR-Dental_Financial_Report_SMMC_03.21.23","2023-03-21","Unaudited"]
["Dental","DEF","Default",1900,"1900-01-01","Q4","1900-12-31","Region 7","Operating Expense","Medical Expense","Other Medical","3.5","TPL & Fraud/Abuse Recoveries",{"v":0,"d":"$0.00"},{"v":0,"d":"$0.00"},{"v":0,"d":"$0.00"},{"v":0,"d":"$0.00"},{"v":0,"d":"$0.00"},{"v":0,"d":"$0.00"},"ASR-Dental_Financial_Report_SMMC_03.21.23","2023-03-21","Unaudited"]
["Dental","DEF","Default",1900,"1900-01-01","Q4","1900-12-31","Region 7","Operating Expense","Medical Expense","Other Medical",3.6,"Premium Deficiency Reserve",{"v":0,"d":"$0.00"},{"v":0,"d":"$0.00"},{"v":0,"d":"$0.00"},{"v":0,"d":"$0.00"},{"v":0,"d":"$0.00"},{"v":0,"d":"$0.00"},"ASR-Dental_Financial_Report_SMMC_03.21.23","2023-03-21","Unaudited"]
["Dental","DEF","Default",1900,"1900-01-01","Q4","1900-12-31","Region 7","Operating Expense","Medical Expense","Other Medical","3.8","Reinsurance Premiums",{"v":0,"d":"$0.00"},{"v":0,"d":"$0.00"},{"v":0,"d":"$0.00"},{"v":0,"d":"$0.00"},{"v":0,"d":"$0.00"},{"v":0,"d":"$0.00"},"ASR-Dental_Financial_Report_SMMC_03.21.23","2023-03-21","Unaudited"]
["Dental","DEF","Default",1900,"1900-01-01","Q4","1900-12-31","Region 7","Operating Expense","Medical Expense","Other Medical","3.9","Reinsurance Recoveries",{"$f":"IF(OR(AND($F1392=\"PY\",N$1<>\"Prior Year\"),AND($F1392<>\"PY\",N$1=\"Prior Year\")),0,INDEX(INDIRECT(\"'Dental Rev-Exp \"&$H1392&\"'!$A$1:$CA$200\"),IF($J1392=\"Member Months\",MATCH($J1392,INDIRECT(\"'Dental Rev-Exp \"&$H1392&\"'!$A$1:$A$200\"),0),MATCH($L1392,INDIRECT(\"'Dental Rev-Exp \"&$H1392&\"'!$B$1:$B$200\"),0)),IF($F1392=\"PY\",MATCH(\"Prior Year Adjustments\",INDIRECT(\"'Dental Rev-Exp \"&$H1392&\"'!$A$8:$CA$8\"),0),MATCH(IF($F1392=\"Q1\",\"JANUARY - MARCH (Q1)\",IF($F1392=\"Q2\",\"APRIL - JUNE (Q2)\",IF($F1392=\"Q3\",\"JULY - SEPTEMBER (Q3)\",IF($F1392=\"Q4\",\"OCTOBER - DECEMBER (Q4)\",0)))),INDIRECT(\"'Dental Rev-Exp \"&$H1392&\"'!$A$7:$CA$7\"),0)+MATCH(N$1,INDIRECT(\"'Dental Rev-Exp \"&$H1392&\"'!$D$8:$CA$8\"),0)-1)))","v":{"v":0,"d":"$0.00"}},{"v":0,"d":"$0.00"},{"v":0,"d":"$0.00"},{"v":0,"d":"$0.00"},{"v":0,"d":"$0.00"},{"v":0,"d":"$0.00"},"ASR-Dental_Financial_Report_SMMC_03.21.23","2023-03-21","Unaudited"]
["Dental","DEF","Default",1900,"1900-01-01","Q4","1900-12-31","Region 7","Operating Expense","Administrative Expense","Administrative","4.1","Salaries & Benefits",{"v":0,"d":"$0.00"},{"v":0,"d":"$0.00"},{"v":0,"d":"$0.00"},{"v":0,"d":"$0.00"},{"v":0,"d":"$0.00"},{"v":0,"d":"$0.00"},"ASR-Dental_Financial_Report_SMMC_03.21.23","2023-03-21","Unaudited"]
["Dental","DEF","Default",1900,"1900-01-01","Q4","1900-12-31","Region 7","Operating Expense","Administrative Expense","Administrative","4.2","Administrative Services",{"v":0,"d":"$0.00"},{"v":0,"d":"$0.00"},{"v":0,"d":"$0.00"},{"v":0,"d":"$0.00"},{"v":0,"d":"$0.00"},{"v":0,"d":"$0.00"},"ASR-Dental_Financial_Report_SMMC_03.21.23","2023-03-21","Unaudited"]
["Dental","DEF","Default",1900,"1900-01-01","Q4","1900-12-31","Region 7","Operating Expense","Administrative Expense","Administrative","4.3","Information Systems",{"v":0,"d":"$0.00"},{"v":0,"d":"$0.00"},{"v":0,"d":"$0.00"},{"v":0,"d":"$0.00"},{"v":0,"d":"$0.00"},{"v":0,"d":"$0.00"},"ASR-Dental_Financial_Report_SMMC_03.21.23","2023-03-21","Unaudited"]
["Dental","DEF","Default",1900,"1900-01-01","Q4","1900-12-31","Region 7","Operating Expense","Administrative Expense","Administrative","4.4","Marketing Expenses",{"v":0,"d":"$0.00"},{"v":0,"d":"$0.00"},{"v":0,"d":"$0.00"},{"v":0,"d":"$0.00"},{"v":0,"d":"$0.00"},{"v":0,"d":"$0.00"},"ASR-Dental_Financial_Report_SMMC_03.21.23","2023-03-21","Unaudited"]
["Dental","DEF","Default",1900,"1900-01-01","Q4","1900-12-31","Region 7","Operating Expense","Administrative Expense","Administrative","4.5","General  Administration",{"v":0,"d":"$0.00"},{"v":0,"d":"$0.00"},{"v":0,"d":"$0.00"},{"v":0,"d":"$0.00"},{"v":0,"d":"$0.00"},{"v":0,"d":"$0.00"},"ASR-Dental_Financial_Report_SMMC_03.21.23","2023-03-21","Unaudited"]
["Dental","DEF","Default",1900,"1900-01-01","Q4","1900-12-31","Region 7","Operating Expense","Administrative Expense","Administrative","4.6","Compliance/Regulatory",{"v":0,"d":"$0.00"},{"v":0,"d":"$0.00"},{"v":0,"d":"$0.00"},{"v":0,"d":"$0.00"},{"v":0,"d":"$0.00"},{"v":0,"d":"$0.00"},"ASR-Dental_Financial_Report_SMMC_03.21.23","2023-03-21","Unaudited"]
["Dental","DEF","Default",1900,"1900-01-01","Q4","1900-12-31","Region 7","Operating Expense","Taxes & Fees","Taxes & Fees","5.1","State Premium tax",{"v":0,"d":"$0.00"},{"v":0,"d":"$0.00"},{"v":0,"d":"$0.00"},{"v":0,"d":"$0.00"},{"v":0,"d":"$0.00"},{"v":0,"d":"$0.00"},"ASR-Dental_Financial_Report_SMMC_03.21.23","2023-03-21","Unaudited"]
["Dental","DEF","Default",1900,"1900-01-01","Q4","1900-12-31","Region 7","Operating Expense","Taxes & Fees","Taxes & Fees","5.2","Department of Insurance Assessments",{"v":0,"d":"$0.00"},{"v":0,"d":"$0.00"},{"v":0,"d":"$0.00"},{"v":0,"d":"$0.00"},{"v":0,"d":"$0.00"},{"v":0,"d":"$0.00"},"ASR-Dental_Financial_Report_SMMC_03.21.23","2023-03-21","Unaudited"]
["Dental","DEF","Default",1900,"1900-01-01","Q4","1900-12-31","Region 7","Operating Expense","Taxes & Fees","Taxes & Fees","5.3","Section 9010 Health Insurance Providers Fee",{"v":0,"d":"$0.00"},{"v":0,"d":"$0.00"},{"v":0,"d":"$0.00"},{"v":0,"d":"$0.00"},{"v":0,"d":"$0.00"},{"v":0,"d":"$0.00"},"ASR-Dental_Financial_Report_SMMC_03.21.23","2023-03-21","Unaudited"]
["Dental","DEF","Default",1900,"1900-01-01","Q4","1900-12-31","Region 7","Operating Expense","Taxes & Fees","Taxes & Fees","5.4","Other 1",{"$f":"IF(OR(AND($F1402=\"PY\",N$1<>\"Prior Year\"),AND($F1402<>\"PY\",N$1=\"Prior Year\")),0,INDEX(INDIRECT(\"'Dental Rev-Exp \"&$H1402&\"'!$A$1:$CA$200\"),IF($J1402=\"Member Months\",MATCH($J1402,INDIRECT(\"'Dental Rev-Exp \"&$H1402&\"'!$A$1:$A$200\"),0),MATCH($L1402,INDIRECT(\"'Dental Rev-Exp \"&$H1402&\"'!$B$1:$B$200\"),0)),IF($F1402=\"PY\",MATCH(\"Prior Year Adjustments\",INDIRECT(\"'Dental Rev-Exp \"&$H1402&\"'!$A$8:$CA$8\"),0),MATCH(IF($F1402=\"Q1\",\"JANUARY - MARCH (Q1)\",IF($F1402=\"Q2\",\"APRIL - JUNE (Q2)\",IF($F1402=\"Q3\",\"JULY - SEPTEMBER (Q3)\",IF($F1402=\"Q4\",\"OCTOBER - DECEMBER (Q4)\",0)))),INDIRECT(\"'Dental Rev-Exp \"&$H1402&\"'!$A$7:$CA$7\"),0)+MATCH(N$1,INDIRECT(\"'Dental Rev-Exp \"&$H1402&\"'!$D$8:$CA$8\"),0)-1)))","v":{"v":0,"d":"$0.00"}},{"v":0,"d":"$0.00"},{"v":0,"d":"$0.00"},{"v":0,"d":"$0.00"},{"v":0,"d":"$0.00"},{"v":0,"d":"$0.00"},"ASR-Dental_Financial_Report_SMMC_03.21.23","2023-03-21","Unaudited"]
["Dental","DEF","Default",1900,"1900-01-01","Q4","1900-12-31","Region 7","Operating Expense","Taxes & Fees","Taxes & Fees","5.5","Other 2",{"v":0,"d":"$0.00"},{"v":0,"d":"$0.00"},{"v":0,"d":"$0.00"},{"v":0,"d":"$0.00"},{"v":0,"d":"$0.00"},{"v":0,"d":"$0.00"},"ASR-Dental_Financial_Report_SMMC_03.21.23","2023-03-21","Unaudited"]
["Dental","DEF","Default",1900,"1900-01-01","Q4","1900-12-31","Region 7","Operating Expense","Taxes & Fees","Taxes & Fees","5.6","Other 3",{"v":0,"d":"$0.00"},{"v":0,"d":"$0.00"},{"v":0,"d":"$0.00"},{"v":0,"d":"$0.00"},{"v":0,"d":"$0.00"},{"v":0,"d":"$0.00"},"ASR-Dental_Financial_Report_SMMC_03.21.23","2023-03-21","Unaudited"]
["Dental","DEF","Default",1900,"1900-01-01","Q4","1900-12-31","Region 7","Non-Operating Expense","Income Tax Expense","Income Tax Expense","8.0","Income Tax Expense",{"v":0,"d":"$0.00"},{"v":0,"d":"$0.00"},{"v":0,"d":"$0.00"},{"v":0,"d":"$0.00"},{"v":0,"d":"$0.00"},{"v":0,"d":"$0.00"},"ASR-Dental_Financial_Report_SMMC_03.21.23","2023-03-21","Unaudited"]
["Dental","DEF","Default",1900,"1900-01-01","PY","1/1/1800","Region 7","Member Months","Member Months","Member Months",null,"Member Months",{"v":0,"d":"$0.00"},{"v":0,"d":"$0.00"},{"v":0,"d":"$0.00"},{"v":0,"d":"$0.00"},{"v":0,"d":"$0.00"},{"v":0,"d":"$0.00"},"ASR-Dental_Financial_Report_SMMC_03.21.23","2023-03-21","Unaudited"]
["Dental","DEF","Default",1900,"1900-01-01","PY","1/1/1800","Region 7","Operating Revenue","Capitation","Capitation","1.1","Capitation",{"v":0,"d":"$0.00"},{"v":0,"d":"$0.00"},{"v":0,"d":"$0.00"},{"v":0,"d":"$0.00"},{"v":0,"d":"$0.00"},{"v":0,"d":"$0.00"},"ASR-Dental_Financial_Report_SMMC_03.21.23","2023-03-21","Unaudited"]
["Dental","DEF","Default",1900,"1900-01-01","PY","1/1/1800","Region 7","Operating Revenue","Other Revenue","Other Revenue - 9010","1.2","ACA § 9010 related payments",{"v":0,"d":"$0.00"},{"v":0,"d":"$0.00"},{"v":0,"d":"$0.00"},{"v":0,"d":"$0.00"},{"v":0,"d":"$0.00"},{"v":0,"d":"$0.00"},"ASR-Dental_Financial_Report_SMMC_03.21.23","2023-03-21","Unaudited"]
["Dental","DEF","Default",1900,"1900-01-01","PY","1/1/1800","Region 7","Operating Revenue","Other Revenue","Other Revenue","1.3","Other Revenue",{"v":0,"d":"$0.00"},{"v":0,"d":"$0.00"},{"v":0,"d":"$0.00"},{"v":0,"d":"$0.00"},{"v":0,"d":"$0.00"},{"v":0,"d":"$0.00"},"ASR-Dental_Financial_Report_SMMC_03.21.23","2023-03-21","Unaudited"]
["Dental","DEF","Default",1900,"1900-01-01","PY","1/1/1800","Region 7","Operating Expense","Medical Expense","Dental Services","2.1","Dental Services Diagnostic",{"v":0,"d":"$0.00"},{"v":0,"d":"$0.00"},{"v":0,"d":"$0.00"},{"v":0,"d":"$0.00"},{"v":0,"d":"$0.00"},{"v":0,"d":"$0.00"},{"$f":"file_name","v":"ASR-Dental_Financial_Report_SMMC_03.21.23"},{"$f":"file_date","v":"2023-03-21"},{"$f":"status","v":"Unaudited"}]
["Dental","DEF","Default",1900,"1900-01-01","PY","1/1/1800","Region 7","Operating Expense","Medical Expense","Dental Services",2.2,"Dental Services Preventive",{"v":0,"d":"$0.00"},{"v":0,"d":"$0.00"},{"v":0,"d":"$0.00"},{"v":0,"d":"$0.00"},{"v":0,"d":"$0.00"},{"v":0,"d":"$0.00"},"ASR-Dental_Financial_Report_SMMC_03.21.23","2023-03-21","Unaudited"]
["Dental","DEF","Default",1900,"1900-01-01","PY","1/1/1800","Region 7","Operating Expense","Medical Expense","Dental Services","2.3","Dental Services Restorative",{"$f":"IF(OR(AND($F1412=\"PY\",N$1<>\"Prior Year\"),AND($F1412<>\"PY\",N$1=\"Prior Year\")),0,INDEX(INDIRECT(\"'Dental Rev-Exp \"&$H1412&\"'!$A$1:$CA$200\"),IF($J1412=\"Member Months\",MATCH($J1412,INDIRECT(\"'Dental Rev-Exp \"&$H1412&\"'!$A$1:$A$200\"),0),MATCH($L1412,INDIRECT(\"'Dental Rev-Exp \"&$H1412&\"'!$B$1:$B$200\"),0)),IF($F1412=\"PY\",MATCH(\"Prior Year Adjustments\",INDIRECT(\"'Dental Rev-Exp \"&$H1412&\"'!$A$8:$CA$8\"),0),MATCH(IF($F1412=\"Q1\",\"JANUARY - MARCH (Q1)\",IF($F1412=\"Q2\",\"APRIL - JUNE (Q2)\",IF($F1412=\"Q3\",\"JULY - SEPTEMBER (Q3)\",IF($F1412=\"Q4\",\"OCTOBER - DECEMBER (Q4)\",0)))),INDIRECT(\"'Dental Rev-Exp \"&$H1412&\"'!$A$7:$CA$7\"),0)+MATCH(N$1,INDIRECT(\"'Dental Rev-Exp \"&$H1412&\"'!$D$8:$CA$8\"),0)-1)))","v":{"v":0,"d":"$0.00"}},{"v":0,"d":"$0.00"},{"v":0,"d":"$0.00"},{"v":0,"d":"$0.00"},{"v":0,"d":"$0.00"},{"v":0,"d":"$0.00"},"ASR-Dental_Financial_Report_SMMC_03.21.23","2023-03-21","Unaudited"]
["Dental","DEF","Default",1900,"1900-01-01","PY","1/1/1800","Region 7","Operating Expense","Medical Expense","Dental Services","2.4","Dental Services Endodontics",{"v":0,"d":"$0.00"},{"v":0,"d":"$0.00"},{"v":0,"d":"$0.00"},{"v":0,"d":"$0.00"},{"v":0,"d":"$0.00"},{"v":0,"d":"$0.00"},"ASR-Dental_Financial_Report_SMMC_03.21.23","2023-03-21","Unaudited"]
["Dental","DEF","Default",1900,"1900-01-01","PY","1/1/1800","Region 7","Operating Expense","Medical Expense","Dental Services","2.5","Dental Services Periodontics",{"v":0,"d":"$0.00"},{"v":0,"d":"$0.00"},{"v":0,"d":"$0.00"},{"v":0,"d":"$0.00"},{"v":0,"d":"$0.00"},{"v":0,"d":"$0.00"},"ASR-Dental_Financial_Report_SMMC_03.21.23","2023-03-21","Unaudited"]
["Dental","DEF","Default",1900,"1900-01-01","PY","1/1/1800","Region 7","Operating Expense","Medical Expense","Dental Services","2.6","Dental Services Prosthodontics",{"v":0,"d":"$0.00"},{"v":0,"d":"$0.00"},{"v":0,"d":"$0.00"},{"v":0,"d":"$0.00"},{"v":0,"d":"$0.00"},{"v":0,"d":"$0.00"},"ASR-Dental_Financial_Report_SMMC_03.21.23","2023-03-21","Unaudited"]
["Dental","DEF","Default",1900,"1900-01-01","PY","1/1/1800","Region 7","Operating Expense","Medical Expense","Dental Services","2.7","Dental Services Prosthodontics, fixed",{"v":0,"d":"$0.00"},{"v":0,"d":"$0.00"},{"v":0,"d":"$0.00"},{"v":0,"d":"$0.00"},{"v":0,"d":"$0.00"},{"v":0,"d":"$0.00"},"ASR-Dental_Financial_Report_SMMC_03.21.23","2023-03-21","Unaudited"]
["Dental","DEF","Default",1900,"1900-01-01","PY","1/1/1800","Region 7","Operating Expense","Medical Expense","Dental Services","2.8","Dental Services Oral and Maxillofacial Surgery",{"v":0,"d":"$0.00"},{"v":0,"d":"$0.00"},{"v":0,"d":"$0.00"},{"v":0,"d":"$0.00"},{"v":0,"d":"$0.00"},{"v":0,"d":"$0.00"},"ASR-Dental_Financial_Report_SMMC_03.21.23","2023-03-21","Unaudited"]
["Dental","DEF","Default",1900,"1900-01-01","PY","1/1/1800","Region 7","Operating Expense","Medical Expense","Dental Services","2.9","Dental Services Orthodontics",{"v":0,"d":"$0.00"},{"v":0,"d":"$0.00"},{"v":0,"d":"$0.00"},{"v":0,"d":"$0.00"},{"v":0,"d":"$0.00"},{"v":0,"d":"$0.00"},"ASR-Dental_Financial_Report_SMMC_03.21.23","2023-03-21","Unaudited"]
["Dental","DEF","Default",1900,"1900-01-01","PY","1/1/1800","Region 7","Operating Expense","Medical Expense","Dental Services","2.10","Dental Services Adjunctive General Services",{"v":0,"d":"$0.00"},{"v":0,"d":"$0.00"},{"v":0,"d":"$0.00"},{"v":0,"d":"$0.00"},{"v":0,"d":"$0.00"},{"v":0,"d":"$0.00"},"ASR-Dental_Financial_Report_SMMC_03.21.23","2023-03-21","Unaudited"]
["Dental","DEF","Default",1900,"1900-01-01","PY","1/1/1800","Region 7","Operating Expense","Medical Expense","Dental Services","2.11","Dental Services Other",{"v":0,"d":"$0.00"},{"v":0,"d":"$0.00"},{"v":0,"d":"$0.00"},{"v":0,"d":"$0.00"},{"v":0,"d":"$0.00"},{"v":0,"d":"$0.00"},"ASR-Dental_Financial_Report_SMMC_03.21.23","2023-03-21","Unaudited"]
["Dental","DEF","Default",1900,"1900-01-01","PY","1/1/1800","Region 7","Operating Expense","Medical Expense","Expanded Benefits","2.12","Dental Expanded Benefits",{"v":0,"d":"$0.00"},{"v":0,"d":"$0.00"},{"v":0,"d":"$0.00"},{"v":0,"d":"$0.00"},{"v":0,"d":"$0.00"},{"v":0,"d":"$0.00"},"ASR-Dental_Financial_Report_SMMC_03.21.23","2023-03-21","Unaudited"]
["Dental","DEF","Default",1900,"1900-01-01","PY","1/1/1800","Region 7","Operating Expense","Medical Expense","Dental Services","2.13","Dental Services Paid through Subcapitation",{"$f":"IF(OR(AND($F1422=\"PY\",N$1<>\"Prior Year\"),AND($F1422<>\"PY\",N$1=\"Prior Year\")),0,INDEX(INDIRECT(\"'Dental Rev-Exp \"&$H1422&\"'!$A$1:$CA$200\"),IF($J1422=\"Member Months\",MATCH($J1422,INDIRECT(\"'Dental Rev-Exp \"&$H1422&\"'!$A$1:$A$200\"),0),MATCH($L1422,INDIRECT(\"'Dental Rev-Exp \"&$H1422&\"'!$B$1:$B$200\"),0)),IF($F1422=\"PY\",MATCH(\"Prior Year Adjustments\",INDIRECT(\"'Dental Rev-Exp \"&$H1422&\"'!$A$8:$CA$8\"),0),MATCH(IF($F1422=\"Q1\",\"JANUARY - MARCH (Q1)\",IF($F1422=\"Q2\",\"APRIL - JUNE (Q2)\",IF($F1422=\"Q3\",\"JULY - SEPTEMBER (Q3)\",IF($F1422=\"Q4\",\"OCTOBER - DECEMBER (Q4)\",0)))),INDIRECT(\"'Dental Rev-Exp \"&$H1422&\"'!$A$7:$CA$7\"),0)+MATCH(N$1,INDIRECT(\"'Dental Rev-Exp \"&$H1422&\"'!$D$8:$CA$8\"),0)-1)))","v":{"v":0,"d":"$0.00"}},{"v":0,"d":"$0.00"},{"v":0,"d":"$0.00"},{"v":0,"d":"$0.00"},{"v":0,"d":"$0.00"},{"v":0,"d":"$0.00"},"ASR-Dental_Financial_Report_SMMC_03.21.23","2023-03-21","Unaudited"]
["Dental","DEF","Default",1900,"1900-01-01","PY","1/1/1800","Region 7","Operating Expense","Medical Expense","Dental Services","2.14","Ending IBNP for Dental Services",{"v":0,"d":"$0.00"},{"v":0,"d":"$0.00"},{"v":0,"d":"$0.00"},{"v":0,"d":"$0.00"},{"v":0,"d":"$0.00"},{"v":0,"d":"$0.00"},"ASR-Dental_Financial_Report_SMMC_03.21.23","2023-03-21","Unaudited"]
["Dental","DEF","Default",1900,"1900-01-01","PY","1/1/1800","Region 7","Operating Expense","Medical Expense","Dental Services","2.15","Dental Settlements/AP",{"v":0,"d":"$0.00"},{"v":0,"d":"$0.00"},{"v":0,"d":"$0.00"},{"v":0,"d":"$0.00"},{"v":0,"d":"$0.00"},{"v":0,"d":"$0.00"},"ASR-Dental_Financial_Report_SMMC_03.21.23","2023-03-21","Unaudited"]
["Dental","DEF","Default",1900,"1900-01-01","PY","1/1/1800","Region 7","Operating Expense","Medical Expense","Other Medical","3.5","TPL & Fraud/Abuse Recoveries",{"v":0,"d":"$0.00"},{"v":0,"d":"$0.00"},{"v":0,"d":"$0.00"},{"v":0,"d":"$0.00"},{"v":0,"d":"$0.00"},{"v":0,"d":"$0.00"},"ASR-Dental_Financial_Report_SMMC_03.21.23","2023-03-21","Unaudited"]
["Dental","DEF","Default",1900,"1900-01-01","PY","1/1/1800","Region 7","Operating Expense","Medical Expense","Other Medical",3.6,"Premium Deficiency Reserve",{"v":0,"d":"$0.00"},{"v":0,"d":"$0.00"},{"v":0,"d":"$0.00"},{"v":0,"d":"$0.00"},{"v":0,"d":"$0.00"},{"v":0,"d":"$0.00"},"ASR-Dental_Financial_Report_SMMC_03.21.23","2023-03-21","Unaudited"]
["Dental","DEF","Default",1900,"1900-01-01","PY","1/1/1800","Region 7","Operating Expense","Medical Expense","Other Medical","3.8","Reinsurance Premiums",{"v":0,"d":"$0.00"},{"v":0,"d":"$0.00"},{"v":0,"d":"$0.00"},{"v":0,"d":"$0.00"},{"v":0,"d":"$0.00"},{"v":0,"d":"$0.00"},"ASR-Dental_Financial_Report_SMMC_03.21.23","2023-03-21","Unaudited"]
["Dental","DEF","Default",1900,"1900-01-01","PY","1/1/1800","Region 7","Operating Expense","Medical Expense","Other Medical","3.9","Reinsurance Recoveries",{"v":0,"d":"$0.00"},{"v":0,"d":"$0.00"},{"v":0,"d":"$0.00"},{"v":0,"d":"$0.00"},{"v":0,"d":"$0.00"},{"v":0,"d":"$0.00"},"ASR-Dental_Financial_Report_SMMC_03.21.23","2023-03-21","Unaudited"]
["Dental","DEF","Default",1900,"1900-01-01","PY","1/1/1800","Region 7","Operating Expense","Administrative Expense","Administrative","4.1","Salaries & Benefits",{"v":0,"d":"$0.00"},{"v":0,"d":"$0.00"},{"v":0,"d":"$0.00"},{"v":0,"d":"$0.00"},{"v":0,"d":"$0.00"},{"v":0,"d":"$0.00"},"ASR-Dental_Financial_Report_SMMC_03.21.23","2023-03-21","Unaudited"]
["Dental","DEF","Default",1900,"1900-01-01","PY","1/1/1800","Region 7","Operating Expense","Administrative Expense","Administrative","4.2","Administrative Services",{"v":0,"d":"$0.00"},{"v":0,"d":"$0.00"},{"v":0,"d":"$0.00"},{"v":0,"d":"$0.00"},{"v":0,"d":"$0.00"},{"v":0,"d":"$0.00"},"ASR-Dental_Financial_Report_SMMC_03.21.23","2023-03-21","Unaudited"]
["Dental","DEF","Default",1900,"1900-01-01","PY","1/1/1800","Region 7","Operating Expense","Administrative Expense","Administrative","4.3","Information Systems",{"v":0,"d":"$0.00"},{"v":0,"d":"$0.00"},{"v":0,"d":"$0.00"},{"v":0,"d":"$0.00"},{"v":0,"d":"$0.00"},{"v":0,"d":"$0.00"},"ASR-Dental_Financial_Report_SMMC_03.21.23","2023-03-21","Unaudited"]
["Dental","DEF","Default",1900,"1900-01-01","PY","1/1/1800","Region 7","Operating Expense","Administrative Expense","Administrative","4.4","Marketing Expenses",{"$f":"IF(OR(AND($F1432=\"PY\",N$1<>\"Prior Year\"),AND($F1432<>\"PY\",N$1=\"Prior Year\")),0,INDEX(INDIRECT(\"'Dental Rev-Exp \"&$H1432&\"'!$A$1:$CA$200\"),IF($J1432=\"Member Months\",MATCH($J1432,INDIRECT(\"'Dental Rev-Exp \"&$H1432&\"'!$A$1:$A$200\"),0),MATCH($L1432,INDIRECT(\"'Dental Rev-Exp \"&$H1432&\"'!$B$1:$B$200\"),0)),IF($F1432=\"PY\",MATCH(\"Prior Year Adjustments\",INDIRECT(\"'Dental Rev-Exp \"&$H1432&\"'!$A$8:$CA$8\"),0),MATCH(IF($F1432=\"Q1\",\"JANUARY - MARCH (Q1)\",IF($F1432=\"Q2\",\"APRIL - JUNE (Q2)\",IF($F1432=\"Q3\",\"JULY - SEPTEMBER (Q3)\",IF($F1432=\"Q4\",\"OCTOBER - DECEMBER (Q4)\",0)))),INDIRECT(\"'Dental Rev-Exp \"&$H1432&\"'!$A$7:$CA$7\"),0)+MATCH(N$1,INDIRECT(\"'Dental Rev-Exp \"&$H1432&\"'!$D$8:$CA$8\"),0)-1)))","v":{"v":0,"d":"$0.00"}},{"v":0,"d":"$0.00"},{"v":0,"d":"$0.00"},{"v":0,"d":"$0.00"},{"v":0,"d":"$0.00"},{"v":0,"d":"$0.00"},"ASR-Dental_Financial_Report_SMMC_03.21.23","2023-03-21","Unaudited"]
["Dental","DEF","Default",1900,"1900-01-01","PY","1/1/1800","Region 7","Operating Expense","Administrative Expense","Administrative","4.5","General  Administration",{"v":0,"d":"$0.00"},{"v":0,"d":"$0.00"},{"v":0,"d":"$0.00"},{"v":0,"d":"$0.00"},{"v":0,"d":"$0.00"},{"v":0,"d":"$0.00"},"ASR-Dental_Financial_Report_SMMC_03.21.23","2023-03-21","Unaudited"]
["Dental","DEF","Default",1900,"1900-01-01","PY","1/1/1800","Region 7","Operating Expense","Administrative Expense","Administrative","4.6","Compliance/Regulatory",{"v":0,"d":"$0.00"},{"v":0,"d":"$0.00"},{"v":0,"d":"$0.00"},{"v":0,"d":"$0.00"},{"v":0,"d":"$0.00"},{"v":0,"d":"$0.00"},"ASR-Dental_Financial_Report_SMMC_03.21.23","2023-03-21","Unaudited"]
["Dental","DEF","Default",1900,"1900-01-01","PY","1/1/1800","Region 7","Operating Expense","Taxes & Fees","Taxes & Fees","5.1","State Premium tax",{"v":0,"d":"$0.00"},{"v":0,"d":"$0.00"},{"v":0,"d":"$0.00"},{"v":0,"d":"$0.00"},{"v":0,"d":"$0.00"},{"v":0,"d":"$0.00"},"ASR-Dental_Financial_Report_SMMC_03.21.23","2023-03-21","Unaudited"]
["Dental","DEF","Default",1900,"1900-01-01","PY","1/1/1800","Region 7","Operating Expense","Taxes & Fees","Taxes & Fees","5.2","Department of Insurance Assessments",{"v":0,"d":"$0.00"},{"v":0,"d":"$0.00"},{"v":0,"d":"$0.00"},{"v":0,"d":"$0.00"},{"v":0,"d":"$0.00"},{"v":0,"d":"$0.00"},"ASR-Dental_Financial_Report_SMMC_03.21.23","2023-03-21","Unaudited"]
["Dental","DEF","Default",1900,"1900-01-01","PY","1/1/1800","Region 7","Operating Expense","Taxes & Fees","Taxes & Fees","5.3","Section 9010 Health Insurance Providers Fee",{"v":0,"d":"$0.00"},{"v":0,"d":"$0.00"},{"v":0,"d":"$0.00"},{"v":0,"d":"$0.00"},{"v":0,"d":"$0.00"},{"v":0,"d":"$0.00"},"ASR-Dental_Financial_Report_SMMC_03.21.23","2023-03-21","Unaudited"]
["Dental","DEF","Default",1900,"1900-01-01","PY","1/1/1800","Region 7","Operating Expense","Taxes & Fees","Taxes & Fees","5.4","Other 1",{"v":0,"d":"$0.00"},{"v":0,"d":"$0.00"},{"v":0,"d":"$0.00"},{"v":0,"d":"$0.00"},{"v":0,"d":"$0.00"},{"v":0,"d":"$0.00"},"ASR-Dental_Financial_Report_SMMC_03.21.23","2023-03-21","Unaudited"]
["Dental","DEF","Default",1900,"1900-01-01","PY","1/1/1800","Region 7","Operating Expense","Taxes & Fees","Taxes & Fees","5.5","Other 2",{"v":0,"d":"$0.00"},{"v":0,"d":"$0.00"},{"v":0,"d":"$0.00"},{"v":0,"d":"$0.00"},{"v":0,"d":"$0.00"},{"v":0,"d":"$0.00"},"ASR-Dental_Financial_Report_SMMC_03.21.23","2023-03-21","Unaudited"]
["Dental","DEF","Default",1900,"1900-01-01","PY","1/1/1800","Region 7","Operating Expense","Taxes & Fees","Taxes & Fees","5.6","Other 3",{"v":0,"d":"$0.00"},{"v":0,"d":"$0.00"},{"v":0,"d":"$0.00"},{"v":0,"d":"$0.00"},{"v":0,"d":"$0.00"},{"v":0,"d":"$0.00"},"ASR-Dental_Financial_Report_SMMC_03.21.23","2023-03-21","Unaudited"]
["Dental","DEF","Default",1900,"1900-01-01","PY","1/1/1800","Region 7","Non-Operating Expense","Income Tax Expense","Income Tax Expense","8.0","Income Tax Expense",{"v":0,"d":"$0.00"},{"v":0,"d":"$0.00"},{"v":0,"d":"$0.00"},{"v":0,"d":"$0.00"},{"v":0,"d":"$0.00"},{"v":0,"d":"$0.00"},"ASR-Dental_Financial_Report_SMMC_03.21.23","2023-03-21","Unaudited"]
["Dental","DEF","Default",1900,"1900-01-01","Q1","1900-03-31","Region 8","Member Months","Member Months","Member Months",null,"Member Months",{"$f":"IF(OR(AND($F1442=\"PY\",N$1<>\"Prior Year\"),AND($F1442<>\"PY\",N$1=\"Prior Year\")),0,INDEX(INDIRECT(\"'Dental Rev-Exp \"&$H1442&\"'!$A$1:$CA$200\"),IF($J1442=\"Member Months\",MATCH($J1442,INDIRECT(\"'Dental Rev-Exp \"&$H1442&\"'!$A$1:$A$200\"),0),MATCH($L1442,INDIRECT(\"'Dental Rev-Exp \"&$H1442&\"'!$B$1:$B$200\"),0)),IF($F1442=\"PY\",MATCH(\"Prior Year Adjustments\",INDIRECT(\"'Dental Rev-Exp \"&$H1442&\"'!$A$8:$CA$8\"),0),MATCH(IF($F1442=\"Q1\",\"JANUARY - MARCH (Q1)\",IF($F1442=\"Q2\",\"APRIL - JUNE (Q2)\",IF($F1442=\"Q3\",\"JULY - SEPTEMBER (Q3)\",IF($F1442=\"Q4\",\"OCTOBER - DECEMBER (Q4)\",0)))),INDIRECT(\"'Dental Rev-Exp \"&$H1442&\"'!$A$7:$CA$7\"),0)+MATCH(N$1,INDIRECT(\"'Dental Rev-Exp \"&$H1442&\"'!$D$8:$CA$8\"),0)-1)))","v":{"v":0,"d":"$0.00"}},{"v":0,"d":"$0.00"},{"v":0,"d":"$0.00"},{"v":0,"d":"$0.00"},{"v":0,"d":"$0.00"},{"v":0,"d":"$0.00"},"ASR-Dental_Financial_Report_SMMC_03.21.23","2023-03-21","Unaudited"]
["Dental","DEF","Default",1900,"1900-01-01","Q1","1900-03-31","Region 8","Operating Revenue","Capitation","Capitation","1.1","Capitation",{"v":0,"d":"$0.00"},{"v":0,"d":"$0.00"},{"v":0,"d":"$0.00"},{"v":0,"d":"$0.00"},{"v":0,"d":"$0.00"},{"v":0,"d":"$0.00"},"ASR-Dental_Financial_Report_SMMC_03.21.23","2023-03-21","Unaudited"]
["Dental","DEF","Default",1900,"1900-01-01","Q1","1900-03-31","Region 8","Operating Revenue","Other Revenue","Other Revenue - 9010","1.2","ACA § 9010 related payments",{"v":0,"d":"$0.00"},{"v":0,"d":"$0.00"},{"v":0,"d":"$0.00"},{"v":0,"d":"$0.00"},{"v":0,"d":"$0.00"},{"v":0,"d":"$0.00"},"ASR-Dental_Financial_Report_SMMC_03.21.23","2023-03-21","Unaudited"]
["Dental","DEF","Default",1900,"1900-01-01","Q1","1900-03-31","Region 8","Operating Revenue","Other Revenue","Other Revenue","1.3","Other Revenue",{"v":0,"d":"$0.00"},{"v":0,"d":"$0.00"},{"v":0,"d":"$0.00"},{"v":0,"d":"$0.00"},{"v":0,"d":"$0.00"},{"v":0,"d":"$0.00"},"ASR-Dental_Financial_Report_SMMC_03.21.23","2023-03-21","Unaudited"]
["Dental","DEF","Default",1900,"1900-01-01","Q1","1900-03-31","Region 8","Operating Expense","Medical Expense","Dental Services","2.1","Dental Services Diagnostic",{"v":0,"d":"$0.00"},{"v":0,"d":"$0.00"},{"v":0,"d":"$0.00"},{"v":0,"d":"$0.00"},{"v":0,"d":"$0.00"},{"v":0,"d":"$0.00"},"ASR-Dental_Financial_Report_SMMC_03.21.23","2023-03-21","Unaudited"]
["Dental","DEF","Default",1900,"1900-01-01","Q1","1900-03-31","Region 8","Operating Expense","Medical Expense","Dental Services",2.2,"Dental Services Preventive",{"v":0,"d":"$0.00"},{"v":0,"d":"$0.00"},{"v":0,"d":"$0.00"},{"v":0,"d":"$0.00"},{"v":0,"d":"$0.00"},{"v":0,"d":"$0.00"},"ASR-Dental_Financial_Report_SMMC_03.21.23","2023-03-21","Unaudited"]
["Dental","DEF","Default",1900,"1900-01-01","Q1","1900-03-31","Region 8","Operating Expense","Medical Expense","Dental Services","2.3","Dental Services Restorative",{"v":0,"d":"$0.00"},{"v":0,"d":"$0.00"},{"v":0,"d":"$0.00"},{"v":0,"d":"$0.00"},{"v":0,"d":"$0.00"},{"v":0,"d":"$0.00"},"ASR-Dental_Financial_Report_SMMC_03.21.23","2023-03-21","Unaudited"]
["Dental","DEF","Default",1900,"1900-01-01","Q1","1900-03-31","Region 8","Operating Expense","Medical Expense","Dental Services","2.4","Dental Services Endodontics",{"v":0,"d":"$0.00"},{"v":0,"d":"$0.00"},{"v":0,"d":"$0.00"},{"v":0,"d":"$0.00"},{"v":0,"d":"$0.00"},{"v":0,"d":"$0.00"},"ASR-Dental_Financial_Report_SMMC_03.21.23","2023-03-21","Unaudited"]
["Dental","DEF","Default",1900,"1900-01-01","Q1","1900-03-31","Region 8","Operating Expense","Medical Expense","Dental Services","2.5","Dental Services Periodontics",{"v":0,"d":"$0.00"},{"v":0,"d":"$0.00"},{"v":0,"d":"$0.00"},{"v":0,"d":"$0.00"},{"v":0,"d":"$0.00"},{"v":0,"d":"$0.00"},"ASR-Dental_Financial_Report_SMMC_03.21.23","2023-03-21","Unaudited"]
["Dental","DEF","Default",1900,"1900-01-01","Q1","1900-03-31","Region 8","Operating Expense","Medical Expense","Dental Services","2.6","Dental Services Prosthodontics",{"v":0,"d":"$0.00"},{"v":0,"d":"$0.00"},{"v":0,"d":"$0.00"},{"v":0,"d":"$0.00"},{"v":0,"d":"$0.00"},{"v":0,"d":"$0.00"},"ASR-Dental_Financial_Report_SMMC_03.21.23","2023-03-21","Unaudited"]
["Dental","DEF","Default",1900,"1900-01-01","Q1","1900-03-31","Region 8","Operating Expense","Medical Expense","Dental Services","2.7","Dental Services Prosthodontics, fixed",{"$f":"IF(OR(AND($F1452=\"PY\",N$1<>\"Prior Year\"),AND($F1452<>\"PY\",N$1=\"Prior Year\")),0,INDEX(INDIRECT(\"'Dental Rev-Exp \"&$H1452&\"'!$A$1:$CA$200\"),IF($J1452=\"Member Months\",MATCH($J1452,INDIRECT(\"'Dental Rev-Exp \"&$H1452&\"'!$A$1:$A$200\"),0),MATCH($L1452,INDIRECT(\"'Dental Rev-Exp \"&$H1452&\"'!$B$1:$B$200\"),0)),IF($F1452=\"PY\",MATCH(\"Prior Year Adjustments\",INDIRECT(\"'Dental Rev-Exp \"&$H1452&\"'!$A$8:$CA$8\"),0),MATCH(IF($F1452=\"Q1\",\"JANUARY - MARCH (Q1)\",IF($F1452=\"Q2\",\"APRIL - JUNE (Q2)\",IF($F1452=\"Q3\",\"JULY - SEPTEMBER (Q3)\",IF($F1452=\"Q4\",\"OCTOBER - DECEMBER (Q4)\",0)))),INDIRECT(\"'Dental Rev-Exp \"&$H1452&\"'!$A$7:$CA$7\"),0)+MATCH(N$1,INDIRECT(\"'Dental Rev-Exp \"&$H1452&\"'!$D$8:$CA$8\"),0)-1)))","v":{"v":0,"d":"$0.00"}},{"v":0,"d":"$0.00"},{"v":0,"d":"$0.00"},{"v":0,"d":"$0.00"},{"v":0,"d":"$0.00"},{"v":0,"d":"$0.00"},"ASR-Dental_Financial_Report_SMMC_03.21.23","2023-03-21","Unaudited"]
["Dental","DEF","Default",1900,"1900-01-01","Q1","1900-03-31","Region 8","Operating Expense","Medical Expense","Dental Services","2.8","Dental Services Oral and Maxillofacial Surgery",{"v":0,"d":"$0.00"},{"v":0,"d":"$0.00"},{"v":0,"d":"$0.00"},{"v":0,"d":"$0.00"},{"v":0,"d":"$0.00"},{"v":0,"d":"$0.00"},"ASR-Dental_Financial_Report_SMMC_03.21.23","2023-03-21","Unaudited"]
["Dental","DEF","Default",1900,"1900-01-01","Q1","1900-03-31","Region 8","Operating Expense","Medical Expense","Dental Services","2.9","Dental Services Orthodontics",{"v":0,"d":"$0.00"},{"v":0,"d":"$0.00"},{"v":0,"d":"$0.00"},{"v":0,"d":"$0.00"},{"v":0,"d":"$0.00"},{"v":0,"d":"$0.00"},"ASR-Dental_Financial_Report_SMMC_03.21.23","2023-03-21","Unaudited"]
["Dental","DEF","Default",1900,"1900-01-01","Q1","1900-03-31","Region 8","Operating Expense","Medical Expense","Dental Services","2.10","Dental Services Adjunctive General Services",{"v":0,"d":"$0.00"},{"v":0,"d":"$0.00"},{"v":0,"d":"$0.00"},{"v":0,"d":"$0.00"},{"v":0,"d":"$0.00"},{"v":0,"d":"$0.00"},"ASR-Dental_Financial_Report_SMMC_03.21.23","2023-03-21","Unaudited"]
["Dental","DEF","Default",1900,"1900-01-01","Q1","1900-03-31","Region 8","Operating Expense","Medical Expense","Dental Services","2.11","Dental Services Other",{"v":0,"d":"$0.00"},{"v":0,"d":"$0.00"},{"v":0,"d":"$0.00"},{"v":0,"d":"$0.00"},{"v":0,"d":"$0.00"},{"v":0,"d":"$0.00"},"ASR-Dental_Financial_Report_SMMC_03.21.23","2023-03-21","Unaudited"]
["Dental","DEF","Default",1900,"1900-01-01","Q1","1900-03-31","Region 8","Operating Expense","Medical Expense","Expanded Benefits","2.12","Dental Expanded Benefits",{"v":0,"d":"$0.00"},{"v":0,"d":"$0.00"},{"v":0,"d":"$0.00"},{"v":0,"d":"$0.00"},{"v":0,"d":"$0.00"},{"v":0,"d":"$0.00"},"ASR-Dental_Financial_Report_SMMC_03.21.23","2023-03-21","Unaudited"]
["Dental","DEF","Default",1900,"1900-01-01","Q1","1900-03-31","Region 8","Operating Expense","Medical Expense","Dental Services","2.13","Dental Services Paid through Subcapitation",{"v":0,"d":"$0.00"},{"v":0,"d":"$0.00"},{"v":0,"d":"$0.00"},{"v":0,"d":"$0.00"},{"v":0,"d":"$0.00"},{"v":0,"d":"$0.00"},"ASR-Dental_Financial_Report_SMMC_03.21.23","2023-03-21","Unaudited"]
["Dental","DEF","Default",1900,"1900-01-01","Q1","1900-03-31","Region 8","Operating Expense","Medical Expense","Dental Services","2.14","Ending IBNP for Dental Services",{"v":0,"d":"$0.00"},{"v":0,"d":"$0.00"},{"v":0,"d":"$0.00"},{"v":0,"d":"$0.00"},{"v":0,"d":"$0.00"},{"v":0,"d":"$0.00"},"ASR-Dental_Financial_Report_SMMC_03.21.23","2023-03-21","Unaudited"]
["Dental","DEF","Default",1900,"1900-01-01","Q1","1900-03-31","Region 8","Operating Expense","Medical Expense","Dental Services","2.15","Dental Settlements/AP",{"v":0,"d":"$0.00"},{"v":0,"d":"$0.00"},{"v":0,"d":"$0.00"},{"v":0,"d":"$0.00"},{"v":0,"d":"$0.00"},{"v":0,"d":"$0.00"},"ASR-Dental_Financial_Report_SMMC_03.21.23","2023-03-21","Unaudited"]
["Dental","DEF","Default",1900,"1900-01-01","Q1","1900-03-31","Region 8","Operating Expense","Medical Expense","Other Medical","3.5","TPL & Fraud/Abuse Recoveries",{"v":0,"d":"$0.00"},{"v":0,"d":"$0.00"},{"v":0,"d":"$0.00"},{"v":0,"d":"$0.00"},{"v":0,"d":"$0.00"},{"v":0,"d":"$0.00"},"ASR-Dental_Financial_Report_SMMC_03.21.23","2023-03-21","Unaudited"]
["Dental","DEF","Default",1900,"1900-01-01","Q1","1900-03-31","Region 8","Operating Expense","Medical Expense","Other Medical",3.6,"Premium Deficiency Reserve",{"$f":"IF(OR(AND($F1462=\"PY\",N$1<>\"Prior Year\"),AND($F1462<>\"PY\",N$1=\"Prior Year\")),0,INDEX(INDIRECT(\"'Dental Rev-Exp \"&$H1462&\"'!$A$1:$CA$200\"),IF($J1462=\"Member Months\",MATCH($J1462,INDIRECT(\"'Dental Rev-Exp \"&$H1462&\"'!$A$1:$A$200\"),0),MATCH($L1462,INDIRECT(\"'Dental Rev-Exp \"&$H1462&\"'!$B$1:$B$200\"),0)),IF($F1462=\"PY\",MATCH(\"Prior Year Adjustments\",INDIRECT(\"'Dental Rev-Exp \"&$H1462&\"'!$A$8:$CA$8\"),0),MATCH(IF($F1462=\"Q1\",\"JANUARY - MARCH (Q1)\",IF($F1462=\"Q2\",\"APRIL - JUNE (Q2)\",IF($F1462=\"Q3\",\"JULY - SEPTEMBER (Q3)\",IF($F1462=\"Q4\",\"OCTOBER - DECEMBER (Q4)\",0)))),INDIRECT(\"'Dental Rev-Exp \"&$H1462&\"'!$A$7:$CA$7\"),0)+MATCH(N$1,INDIRECT(\"'Dental Rev-Exp \"&$H1462&\"'!$D$8:$CA$8\"),0)-1)))","v":{"v":0,"d":"$0.00"}},{"v":0,"d":"$0.00"},{"v":0,"d":"$0.00"},{"v":0,"d":"$0.00"},{"v":0,"d":"$0.00"},{"v":0,"d":"$0.00"},"ASR-Dental_Financial_Report_SMMC_03.21.23","2023-03-21","Unaudited"]
["Dental","DEF","Default",1900,"1900-01-01","Q1","1900-03-31","Region 8","Operating Expense","Medical Expense","Other Medical","3.8","Reinsurance Premiums",{"v":0,"d":"$0.00"},{"v":0,"d":"$0.00"},{"v":0,"d":"$0.00"},{"v":0,"d":"$0.00"},{"v":0,"d":"$0.00"},{"v":0,"d":"$0.00"},"ASR-Dental_Financial_Report_SMMC_03.21.23","2023-03-21","Unaudited"]
["Dental","DEF","Default",1900,"1900-01-01","Q1","1900-03-31","Region 8","Operating Expense","Medical Expense","Other Medical","3.9","Reinsurance Recoveries",{"v":0,"d":"$0.00"},{"v":0,"d":"$0.00"},{"v":0,"d":"$0.00"},{"v":0,"d":"$0.00"},{"v":0,"d":"$0.00"},{"v":0,"d":"$0.00"},"ASR-Dental_Financial_Report_SMMC_03.21.23","2023-03-21","Unaudited"]
["Dental","DEF","Default",1900,"1900-01-01","Q1","1900-03-31","Region 8","Operating Expense","Administrative Expense","Administrative","4.1","Salaries & Benefits",{"v":0,"d":"$0.00"},{"v":0,"d":"$0.00"},{"v":0,"d":"$0.00"},{"v":0,"d":"$0.00"},{"v":0,"d":"$0.00"},{"v":0,"d":"$0.00"},"ASR-Dental_Financial_Report_SMMC_03.21.23","2023-03-21","Unaudited"]
["Dental","DEF","Default",1900,"1900-01-01","Q1","1900-03-31","Region 8","Operating Expense","Administrative Expense","Administrative","4.2","Administrative Services",{"v":0,"d":"$0.00"},{"v":0,"d":"$0.00"},{"v":0,"d":"$0.00"},{"v":0,"d":"$0.00"},{"v":0,"d":"$0.00"},{"v":0,"d":"$0.00"},"ASR-Dental_Financial_Report_SMMC_03.21.23","2023-03-21","Unaudited"]
["Dental","DEF","Default",1900,"1900-01-01","Q1","1900-03-31","Region 8","Operating Expense","Administrative Expense","Administrative","4.3","Information Systems",{"v":0,"d":"$0.00"},{"v":0,"d":"$0.00"},{"v":0,"d":"$0.00"},{"v":0,"d":"$0.00"},{"v":0,"d":"$0.00"},{"v":0,"d":"$0.00"},"ASR-Dental_Financial_Report_SMMC_03.21.23","2023-03-21","Unaudited"]
["Dental","DEF","Default",1900,"1900-01-01","Q1","1900-03-31","Region 8","Operating Expense","Administrative Expense","Administrative","4.4","Marketing Expenses",{"v":0,"d":"$0.00"},{"v":0,"d":"$0.00"},{"v":0,"d":"$0.00"},{"v":0,"d":"$0.00"},{"v":0,"d":"$0.00"},{"v":0,"d":"$0.00"},"ASR-Dental_Financial_Report_SMMC_03.21.23","2023-03-21","Unaudited"]
["Dental","DEF","Default",1900,"1900-01-01","Q1","1900-03-31","Region 8","Operating Expense","Administrative Expense","Administrative","4.5","General  Administration",{"v":0,"d":"$0.00"},{"v":0,"d":"$0.00"},{"v":0,"d":"$0.00"},{"v":0,"d":"$0.00"},{"v":0,"d":"$0.00"},{"v":0,"d":"$0.00"},"ASR-Dental_Financial_Report_SMMC_03.21.23","2023-03-21","Unaudited"]
["Dental","DEF","Default",1900,"1900-01-01","Q1","1900-03-31","Region 8","Operating Expense","Administrative Expense","Administrative","4.6","Compliance/Regulatory",{"v":0,"d":"$0.00"},{"v":0,"d":"$0.00"},{"v":0,"d":"$0.00"},{"v":0,"d":"$0.00"},{"v":0,"d":"$0.00"},{"v":0,"d":"$0.00"},"ASR-Dental_Financial_Report_SMMC_03.21.23","2023-03-21","Unaudited"]
["Dental","DEF","Default",1900,"1900-01-01","Q1","1900-03-31","Region 8","Operating Expense","Taxes & Fees","Taxes & Fees","5.1","State Premium tax",{"v":0,"d":"$0.00"},{"v":0,"d":"$0.00"},{"v":0,"d":"$0.00"},{"v":0,"d":"$0.00"},{"v":0,"d":"$0.00"},{"v":0,"d":"$0.00"},"ASR-Dental_Financial_Report_SMMC_03.21.23","2023-03-21","Unaudited"]
["Dental","DEF","Default",1900,"1900-01-01","Q1","1900-03-31","Region 8","Operating Expense","Taxes & Fees","Taxes & Fees","5.2","Department of Insurance Assessments",{"$f":"IF(OR(AND($F1472=\"PY\",N$1<>\"Prior Year\"),AND($F1472<>\"PY\",N$1=\"Prior Year\")),0,INDEX(INDIRECT(\"'Dental Rev-Exp \"&$H1472&\"'!$A$1:$CA$200\"),IF($J1472=\"Member Months\",MATCH($J1472,INDIRECT(\"'Dental Rev-Exp \"&$H1472&\"'!$A$1:$A$200\"),0),MATCH($L1472,INDIRECT(\"'Dental Rev-Exp \"&$H1472&\"'!$B$1:$B$200\"),0)),IF($F1472=\"PY\",MATCH(\"Prior Year Adjustments\",INDIRECT(\"'Dental Rev-Exp \"&$H1472&\"'!$A$8:$CA$8\"),0),MATCH(IF($F1472=\"Q1\",\"JANUARY - MARCH (Q1)\",IF($F1472=\"Q2\",\"APRIL - JUNE (Q2)\",IF($F1472=\"Q3\",\"JULY - SEPTEMBER (Q3)\",IF($F1472=\"Q4\",\"OCTOBER - DECEMBER (Q4)\",0)))),INDIRECT(\"'Dental Rev-Exp \"&$H1472&\"'!$A$7:$CA$7\"),0)+MATCH(N$1,INDIRECT(\"'Dental Rev-Exp \"&$H1472&\"'!$D$8:$CA$8\"),0)-1)))","v":{"v":0,"d":"$0.00"}},{"v":0,"d":"$0.00"},{"v":0,"d":"$0.00"},{"v":0,"d":"$0.00"},{"v":0,"d":"$0.00"},{"v":0,"d":"$0.00"},"ASR-Dental_Financial_Report_SMMC_03.21.23","2023-03-21","Unaudited"]
["Dental","DEF","Default",1900,"1900-01-01","Q1","1900-03-31","Region 8","Operating Expense","Taxes & Fees","Taxes & Fees","5.3","Section 9010 Health Insurance Providers Fee",{"v":0,"d":"$0.00"},{"v":0,"d":"$0.00"},{"v":0,"d":"$0.00"},{"v":0,"d":"$0.00"},{"v":0,"d":"$0.00"},{"v":0,"d":"$0.00"},"ASR-Dental_Financial_Report_SMMC_03.21.23","2023-03-21","Unaudited"]
["Dental","DEF","Default",1900,"1900-01-01","Q1","1900-03-31","Region 8","Operating Expense","Taxes & Fees","Taxes & Fees","5.4","Other 1",{"v":0,"d":"$0.00"},{"v":0,"d":"$0.00"},{"v":0,"d":"$0.00"},{"v":0,"d":"$0.00"},{"v":0,"d":"$0.00"},{"v":0,"d":"$0.00"},{"$f":"file_name","v":"ASR-Dental_Financial_Report_SMMC_03.21.23"},{"$f":"file_date","v":"2023-03-21"},{"$f":"status","v":"Unaudited"}]
["Dental","DEF","Default",1900,"1900-01-01","Q1","1900-03-31","Region 8","Operating Expense","Taxes & Fees","Taxes & Fees","5.5","Other 2",{"v":0,"d":"$0.00"},{"v":0,"d":"$0.00"},{"v":0,"d":"$0.00"},{"v":0,"d":"$0.00"},{"v":0,"d":"$0.00"},{"v":0,"d":"$0.00"},"ASR-Dental_Financial_Report_SMMC_03.21.23","2023-03-21","Unaudited"]
["Dental","DEF","Default",1900,"1900-01-01","Q1","1900-03-31","Region 8","Operating Expense","Taxes & Fees","Taxes & Fees","5.6","Other 3",{"v":0,"d":"$0.00"},{"v":0,"d":"$0.00"},{"v":0,"d":"$0.00"},{"v":0,"d":"$0.00"},{"v":0,"d":"$0.00"},{"v":0,"d":"$0.00"},"ASR-Dental_Financial_Report_SMMC_03.21.23","2023-03-21","Unaudited"]
["Dental","DEF","Default",1900,"1900-01-01","Q1","1900-03-31","Region 8","Non-Operating Expense","Income Tax Expense","Income Tax Expense","8.0","Income Tax Expense",{"v":0,"d":"$0.00"},{"v":0,"d":"$0.00"},{"v":0,"d":"$0.00"},{"v":0,"d":"$0.00"},{"v":0,"d":"$0.00"},{"v":0,"d":"$0.00"},"ASR-Dental_Financial_Report_SMMC_03.21.23","2023-03-21","Unaudited"]
["Dental","DEF","Default",1900,"1900-01-01","Q2","1900-06-30","Region 8","Member Months","Member Months","Member Months",null,"Member Months",{"v":0,"d":"$0.00"},{"v":0,"d":"$0.00"},{"v":0,"d":"$0.00"},{"v":0,"d":"$0.00"},{"v":0,"d":"$0.00"},{"v":0,"d":"$0.00"},"ASR-Dental_Financial_Report_SMMC_03.21.23","2023-03-21","Unaudited"]
["Dental","DEF","Default",1900,"1900-01-01","Q2","1900-06-30","Region 8","Operating Revenue","Capitation","Capitation","1.1","Capitation",{"v":0,"d":"$0.00"},{"v":0,"d":"$0.00"},{"v":0,"d":"$0.00"},{"v":0,"d":"$0.00"},{"v":0,"d":"$0.00"},{"v":0,"d":"$0.00"},"ASR-Dental_Financial_Report_SMMC_03.21.23","2023-03-21","Unaudited"]
["Dental","DEF","Default",1900,"1900-01-01","Q2","1900-06-30","Region 8","Operating Revenue","Other Revenue","Other Revenue - 9010","1.2","ACA § 9010 related payments",{"v":0,"d":"$0.00"},{"v":0,"d":"$0.00"},{"v":0,"d":"$0.00"},{"v":0,"d":"$0.00"},{"v":0,"d":"$0.00"},{"v":0,"d":"$0.00"},"ASR-Dental_Financial_Report_SMMC_03.21.23","2023-03-21","Unaudited"]
["Dental","DEF","Default",1900,"1900-01-01","Q2","1900-06-30","Region 8","Operating Revenue","Other Revenue","Other Revenue","1.3","Other Revenue",{"v":0,"d":"$0.00"},{"v":0,"d":"$0.00"},{"v":0,"d":"$0.00"},{"v":0,"d":"$0.00"},{"v":0,"d":"$0.00"},{"v":0,"d":"$0.00"},"ASR-Dental_Financial_Report_SMMC_03.21.23","2023-03-21","Unaudited"]
["Dental","DEF","Default",1900,"1900-01-01","Q2","1900-06-30","Region 8","Operating Expense","Medical Expense","Dental Services","2.1","Dental Services Diagnostic",{"$f":"IF(OR(AND($F1482=\"PY\",N$1<>\"Prior Year\"),AND($F1482<>\"PY\",N$1=\"Prior Year\")),0,INDEX(INDIRECT(\"'Dental Rev-Exp \"&$H1482&\"'!$A$1:$CA$200\"),IF($J1482=\"Member Months\",MATCH($J1482,INDIRECT(\"'Dental Rev-Exp \"&$H1482&\"'!$A$1:$A$200\"),0),MATCH($L1482,INDIRECT(\"'Dental Rev-Exp \"&$H1482&\"'!$B$1:$B$200\"),0)),IF($F1482=\"PY\",MATCH(\"Prior Year Adjustments\",INDIRECT(\"'Dental Rev-Exp \"&$H1482&\"'!$A$8:$CA$8\"),0),MATCH(IF($F1482=\"Q1\",\"JANUARY - MARCH (Q1)\",IF($F1482=\"Q2\",\"APRIL - JUNE (Q2)\",IF($F1482=\"Q3\",\"JULY - SEPTEMBER (Q3)\",IF($F1482=\"Q4\",\"OCTOBER - DECEMBER (Q4)\",0)))),INDIRECT(\"'Dental Rev-Exp \"&$H1482&\"'!$A$7:$CA$7\"),0)+MATCH(N$1,INDIRECT(\"'Dental Rev-Exp \"&$H1482&\"'!$D$8:$CA$8\"),0)-1)))","v":{"v":0,"d":"$0.00"}},{"v":0,"d":"$0.00"},{"v":0,"d":"$0.00"},{"v":0,"d":"$0.00"},{"v":0,"d":"$0.00"},{"v":0,"d":"$0.00"},"ASR-Dental_Financial_Report_SMMC_03.21.23","2023-03-21","Unaudited"]
["Dental","DEF","Default",1900,"1900-01-01","Q2","1900-06-30","Region 8","Operating Expense","Medical Expense","Dental Services",2.2,"Dental Services Preventive",{"v":0,"d":"$0.00"},{"v":0,"d":"$0.00"},{"v":0,"d":"$0.00"},{"v":0,"d":"$0.00"},{"v":0,"d":"$0.00"},{"v":0,"d":"$0.00"},"ASR-Dental_Financial_Report_SMMC_03.21.23","2023-03-21","Unaudited"]
["Dental","DEF","Default",1900,"1900-01-01","Q2","1900-06-30","Region 8","Operating Expense","Medical Expense","Dental Services","2.3","Dental Services Restorative",{"v":0,"d":"$0.00"},{"v":0,"d":"$0.00"},{"v":0,"d":"$0.00"},{"v":0,"d":"$0.00"},{"v":0,"d":"$0.00"},{"v":0,"d":"$0.00"},"ASR-Dental_Financial_Report_SMMC_03.21.23","2023-03-21","Unaudited"]
["Dental","DEF","Default",1900,"1900-01-01","Q2","1900-06-30","Region 8","Operating Expense","Medical Expense","Dental Services","2.4","Dental Services Endodontics",{"v":0,"d":"$0.00"},{"v":0,"d":"$0.00"},{"v":0,"d":"$0.00"},{"v":0,"d":"$0.00"},{"v":0,"d":"$0.00"},{"v":0,"d":"$0.00"},"ASR-Dental_Financial_Report_SMMC_03.21.23","2023-03-21","Unaudited"]
["Dental","DEF","Default",1900,"1900-01-01","Q2","1900-06-30","Region 8","Operating Expense","Medical Expense","Dental Services","2.5","Dental Services Periodontics",{"v":0,"d":"$0.00"},{"v":0,"d":"$0.00"},{"v":0,"d":"$0.00"},{"v":0,"d":"$0.00"},{"v":0,"d":"$0.00"},{"v":0,"d":"$0.00"},"ASR-Dental_Financial_Report_SMMC_03.21.23","2023-03-21","Unaudited"]
["Dental","DEF","Default",1900,"1900-01-01","Q2","1900-06-30","Region 8","Operating Expense","Medical Expense","Dental Services","2.6","Dental Services Prosthodontics",{"v":0,"d":"$0.00"},{"v":0,"d":"$0.00"},{"v":0,"d":"$0.00"},{"v":0,"d":"$0.00"},{"v":0,"d":"$0.00"},{"v":0,"d":"$0.00"},"ASR-Dental_Financial_Report_SMMC_03.21.23","2023-03-21","Unaudited"]
["Dental","DEF","Default",1900,"1900-01-01","Q2","1900-06-30","Region 8","Operating Expense","Medical Expense","Dental Services","2.7","Dental Services Prosthodontics, fixed",{"v":0,"d":"$0.00"},{"v":0,"d":"$0.00"},{"v":0,"d":"$0.00"},{"v":0,"d":"$0.00"},{"v":0,"d":"$0.00"},{"v":0,"d":"$0.00"},"ASR-Dental_Financial_Report_SMMC_03.21.23","2023-03-21","Unaudited"]
["Dental","DEF","Default",1900,"1900-01-01","Q2","1900-06-30","Region 8","Operating Expense","Medical Expense","Dental Services","2.8","Dental Services Oral and Maxillofacial Surgery",{"v":0,"d":"$0.00"},{"v":0,"d":"$0.00"},{"v":0,"d":"$0.00"},{"v":0,"d":"$0.00"},{"v":0,"d":"$0.00"},{"v":0,"d":"$0.00"},"ASR-Dental_Financial_Report_SMMC_03.21.23","2023-03-21","Unaudited"]
["Dental","DEF","Default",1900,"1900-01-01","Q2","1900-06-30","Region 8","Operating Expense","Medical Expense","Dental Services","2.9","Dental Services Orthodontics",{"v":0,"d":"$0.00"},{"v":0,"d":"$0.00"},{"v":0,"d":"$0.00"},{"v":0,"d":"$0.00"},{"v":0,"d":"$0.00"},{"v":0,"d":"$0.00"},"ASR-Dental_Financial_Report_SMMC_03.21.23","2023-03-21","Unaudited"]
["Dental","DEF","Default",1900,"1900-01-01","Q2","1900-06-30","Region 8","Operating Expense","Medical Expense","Dental Services","2.10","Dental Services Adjunctive General Services",{"v":0,"d":"$0.00"},{"v":0,"d":"$0.00"},{"v":0,"d":"$0.00"},{"v":0,"d":"$0.00"},{"v":0,"d":"$0.00"},{"v":0,"d":"$0.00"},"ASR-Dental_Financial_Report_SMMC_03.21.23","2023-03-21","Unaudited"]
["Dental","DEF","Default",1900,"1900-01-01","Q2","1900-06-30","Region 8","Operating Expense","Medical Expense","Dental Services","2.11","Dental Services Other",{"$f":"IF(OR(AND($F1492=\"PY\",N$1<>\"Prior Year\"),AND($F1492<>\"PY\",N$1=\"Prior Year\")),0,INDEX(INDIRECT(\"'Dental Rev-Exp \"&$H1492&\"'!$A$1:$CA$200\"),IF($J1492=\"Member Months\",MATCH($J1492,INDIRECT(\"'Dental Rev-Exp \"&$H1492&\"'!$A$1:$A$200\"),0),MATCH($L1492,INDIRECT(\"'Dental Rev-Exp \"&$H1492&\"'!$B$1:$B$200\"),0)),IF($F1492=\"PY\",MATCH(\"Prior Year Adjustments\",INDIRECT(\"'Dental Rev-Exp \"&$H1492&\"'!$A$8:$CA$8\"),0),MATCH(IF($F1492=\"Q1\",\"JANUARY - MARCH (Q1)\",IF($F1492=\"Q2\",\"APRIL - JUNE (Q2)\",IF($F1492=\"Q3\",\"JULY - SEPTEMBER (Q3)\",IF($F1492=\"Q4\",\"OCTOBER - DECEMBER (Q4)\",0)))),INDIRECT(\"'Dental Rev-Exp \"&$H1492&\"'!$A$7:$CA$7\"),0)+MATCH(N$1,INDIRECT(\"'Dental Rev-Exp \"&$H1492&\"'!$D$8:$CA$8\"),0)-1)))","v":{"v":0,"d":"$0.00"}},{"v":0,"d":"$0.00"},{"v":0,"d":"$0.00"},{"v":0,"d":"$0.00"},{"v":0,"d":"$0.00"},{"v":0,"d":"$0.00"},"ASR-Dental_Financial_Report_SMMC_03.21.23","2023-03-21","Unaudited"]
["Dental","DEF","Default",1900,"1900-01-01","Q2","1900-06-30","Region 8","Operating Expense","Medical Expense","Expanded Benefits","2.12","Dental Expanded Benefits",{"v":0,"d":"$0.00"},{"v":0,"d":"$0.00"},{"v":0,"d":"$0.00"},{"v":0,"d":"$0.00"},{"v":0,"d":"$0.00"},{"v":0,"d":"$0.00"},"ASR-Dental_Financial_Report_SMMC_03.21.23","2023-03-21","Unaudited"]
["Dental","DEF","Default",1900,"1900-01-01","Q2","1900-06-30","Region 8","Operating Expense","Medical Expense","Dental Services","2.13","Dental Services Paid through Subcapitation",{"v":0,"d":"$0.00"},{"v":0,"d":"$0.00"},{"v":0,"d":"$0.00"},{"v":0,"d":"$0.00"},{"v":0,"d":"$0.00"},{"v":0,"d":"$0.00"},"ASR-Dental_Financial_Report_SMMC_03.21.23","2023-03-21","Unaudited"]
["Dental","DEF","Default",1900,"1900-01-01","Q2","1900-06-30","Region 8","Operating Expense","Medical Expense","Dental Services","2.14","Ending IBNP for Dental Services",{"v":0,"d":"$0.00"},{"v":0,"d":"$0.00"},{"v":0,"d":"$0.00"},{"v":0,"d":"$0.00"},{"v":0,"d":"$0.00"},{"v":0,"d":"$0.00"},"ASR-Dental_Financial_Report_SMMC_03.21.23","2023-03-21","Unaudited"]
["Dental","DEF","Default",1900,"1900-01-01","Q2","1900-06-30","Region 8","Operating Expense","Medical Expense","Dental Services","2.15","Dental Settlements/AP",{"v":0,"d":"$0.00"},{"v":0,"d":"$0.00"},{"v":0,"d":"$0.00"},{"v":0,"d":"$0.00"},{"v":0,"d":"$0.00"},{"v":0,"d":"$0.00"},"ASR-Dental_Financial_Report_SMMC_03.21.23","2023-03-21","Unaudited"]
["Dental","DEF","Default",1900,"1900-01-01","Q2","1900-06-30","Region 8","Operating Expense","Medical Expense","Other Medical","3.5","TPL & Fraud/Abuse Recoveries",{"v":0,"d":"$0.00"},{"v":0,"d":"$0.00"},{"v":0,"d":"$0.00"},{"v":0,"d":"$0.00"},{"v":0,"d":"$0.00"},{"v":0,"d":"$0.00"},"ASR-Dental_Financial_Report_SMMC_03.21.23","2023-03-21","Unaudited"]
["Dental","DEF","Default",1900,"1900-01-01","Q2","1900-06-30","Region 8","Operating Expense","Medical Expense","Other Medical",3.6,"Premium Deficiency Reserve",{"v":0,"d":"$0.00"},{"v":0,"d":"$0.00"},{"v":0,"d":"$0.00"},{"v":0,"d":"$0.00"},{"v":0,"d":"$0.00"},{"v":0,"d":"$0.00"},"ASR-Dental_Financial_Report_SMMC_03.21.23","2023-03-21","Unaudited"]
["Dental","DEF","Default",1900,"1900-01-01","Q2","1900-06-30","Region 8","Operating Expense","Medical Expense","Other Medical","3.8","Reinsurance Premiums",{"v":0,"d":"$0.00"},{"v":0,"d":"$0.00"},{"v":0,"d":"$0.00"},{"v":0,"d":"$0.00"},{"v":0,"d":"$0.00"},{"v":0,"d":"$0.00"},"ASR-Dental_Financial_Report_SMMC_03.21.23","2023-03-21","Unaudited"]
["Dental","DEF","Default",1900,"1900-01-01","Q2","1900-06-30","Region 8","Operating Expense","Medical Expense","Other Medical","3.9","Reinsurance Recoveries",{"v":0,"d":"$0.00"},{"v":0,"d":"$0.00"},{"v":0,"d":"$0.00"},{"v":0,"d":"$0.00"},{"v":0,"d":"$0.00"},{"v":0,"d":"$0.00"},"ASR-Dental_Financial_Report_SMMC_03.21.23","2023-03-21","Unaudited"]
["Dental","DEF","Default",1900,"1900-01-01","Q2","1900-06-30","Region 8","Operating Expense","Administrative Expense","Administrative","4.1","Salaries & Benefits",{"v":0,"d":"$0.00"},{"v":0,"d":"$0.00"},{"v":0,"d":"$0.00"},{"v":0,"d":"$0.00"},{"v":0,"d":"$0.00"},{"v":0,"d":"$0.00"},"ASR-Dental_Financial_Report_SMMC_03.21.23","2023-03-21","Unaudited"]
["Dental","DEF","Default",1900,"1900-01-01","Q2","1900-06-30","Region 8","Operating Expense","Administrative Expense","Administrative","4.2","Administrative Services",{"$f":"IF(OR(AND($F1502=\"PY\",N$1<>\"Prior Year\"),AND($F1502<>\"PY\",N$1=\"Prior Year\")),0,INDEX(INDIRECT(\"'Dental Rev-Exp \"&$H1502&\"'!$A$1:$CA$200\"),IF($J1502=\"Member Months\",MATCH($J1502,INDIRECT(\"'Dental Rev-Exp \"&$H1502&\"'!$A$1:$A$200\"),0),MATCH($L1502,INDIRECT(\"'Dental Rev-Exp \"&$H1502&\"'!$B$1:$B$200\"),0)),IF($F1502=\"PY\",MATCH(\"Prior Year Adjustments\",INDIRECT(\"'Dental Rev-Exp \"&$H1502&\"'!$A$8:$CA$8\"),0),MATCH(IF($F1502=\"Q1\",\"JANUARY - MARCH (Q1)\",IF($F1502=\"Q2\",\"APRIL - JUNE (Q2)\",IF($F1502=\"Q3\",\"JULY - SEPTEMBER (Q3)\",IF($F1502=\"Q4\",\"OCTOBER - DECEMBER (Q4)\",0)))),INDIRECT(\"'Dental Rev-Exp \"&$H1502&\"'!$A$7:$CA$7\"),0)+MATCH(N$1,INDIRECT(\"'Dental Rev-Exp \"&$H1502&\"'!$D$8:$CA$8\"),0)-1)))","v":{"v":0,"d":"$0.00"}},{"v":0,"d":"$0.00"},{"v":0,"d":"$0.00"},{"v":0,"d":"$0.00"},{"v":0,"d":"$0.00"},{"v":0,"d":"$0.00"},"ASR-Dental_Financial_Report_SMMC_03.21.23","2023-03-21","Unaudited"]
["Dental","DEF","Default",1900,"1900-01-01","Q2","1900-06-30","Region 8","Operating Expense","Administrative Expense","Administrative","4.3","Information Systems",{"v":0,"d":"$0.00"},{"v":0,"d":"$0.00"},{"v":0,"d":"$0.00"},{"v":0,"d":"$0.00"},{"v":0,"d":"$0.00"},{"v":0,"d":"$0.00"},"ASR-Dental_Financial_Report_SMMC_03.21.23","2023-03-21","Unaudited"]
["Dental","DEF","Default",1900,"1900-01-01","Q2","1900-06-30","Region 8","Operating Expense","Administrative Expense","Administrative","4.4","Marketing Expenses",{"v":0,"d":"$0.00"},{"v":0,"d":"$0.00"},{"v":0,"d":"$0.00"},{"v":0,"d":"$0.00"},{"v":0,"d":"$0.00"},{"v":0,"d":"$0.00"},"ASR-Dental_Financial_Report_SMMC_03.21.23","2023-03-21","Unaudited"]
["Dental","DEF","Default",1900,"1900-01-01","Q2","1900-06-30","Region 8","Operating Expense","Administrative Expense","Administrative","4.5","General  Administration",{"v":0,"d":"$0.00"},{"v":0,"d":"$0.00"},{"v":0,"d":"$0.00"},{"v":0,"d":"$0.00"},{"v":0,"d":"$0.00"},{"v":0,"d":"$0.00"},"ASR-Dental_Financial_Report_SMMC_03.21.23","2023-03-21","Unaudited"]
["Dental","DEF","Default",1900,"1900-01-01","Q2","1900-06-30","Region 8","Operating Expense","Administrative Expense","Administrative","4.6","Compliance/Regulatory",{"v":0,"d":"$0.00"},{"v":0,"d":"$0.00"},{"v":0,"d":"$0.00"},{"v":0,"d":"$0.00"},{"v":0,"d":"$0.00"},{"v":0,"d":"$0.00"},"ASR-Dental_Financial_Report_SMMC_03.21.23","2023-03-21","Unaudited"]
["Dental","DEF","Default",1900,"1900-01-01","Q2","1900-06-30","Region 8","Operating Expense","Taxes & Fees","Taxes & Fees","5.1","State Premium tax",{"v":0,"d":"$0.00"},{"v":0,"d":"$0.00"},{"v":0,"d":"$0.00"},{"v":0,"d":"$0.00"},{"v":0,"d":"$0.00"},{"v":0,"d":"$0.00"},"ASR-Dental_Financial_Report_SMMC_03.21.23","2023-03-21","Unaudited"]
["Dental","DEF","Default",1900,"1900-01-01","Q2","1900-06-30","Region 8","Operating Expense","Taxes & Fees","Taxes & Fees","5.2","Department of Insurance Assessments",{"v":0,"d":"$0.00"},{"v":0,"d":"$0.00"},{"v":0,"d":"$0.00"},{"v":0,"d":"$0.00"},{"v":0,"d":"$0.00"},{"v":0,"d":"$0.00"},"ASR-Dental_Financial_Report_SMMC_03.21.23","2023-03-21","Unaudited"]
["Dental","DEF","Default",1900,"1900-01-01","Q2","1900-06-30","Region 8","Operating Expense","Taxes & Fees","Taxes & Fees","5.3","Section 9010 Health Insurance Providers Fee",{"v":0,"d":"$0.00"},{"v":0,"d":"$0.00"},{"v":0,"d":"$0.00"},{"v":0,"d":"$0.00"},{"v":0,"d":"$0.00"},{"v":0,"d":"$0.00"},"ASR-Dental_Financial_Report_SMMC_03.21.23","2023-03-21","Unaudited"]
["Dental","DEF","Default",1900,"1900-01-01","Q2","1900-06-30","Region 8","Operating Expense","Taxes & Fees","Taxes & Fees","5.4","Other 1",{"v":0,"d":"$0.00"},{"v":0,"d":"$0.00"},{"v":0,"d":"$0.00"},{"v":0,"d":"$0.00"},{"v":0,"d":"$0.00"},{"v":0,"d":"$0.00"},"ASR-Dental_Financial_Report_SMMC_03.21.23","2023-03-21","Unaudited"]
["Dental","DEF","Default",1900,"1900-01-01","Q2","1900-06-30","Region 8","Operating Expense","Taxes & Fees","Taxes & Fees","5.5","Other 2",{"v":0,"d":"$0.00"},{"v":0,"d":"$0.00"},{"v":0,"d":"$0.00"},{"v":0,"d":"$0.00"},{"v":0,"d":"$0.00"},{"v":0,"d":"$0.00"},"ASR-Dental_Financial_Report_SMMC_03.21.23","2023-03-21","Unaudited"]
["Dental","DEF","Default",1900,"1900-01-01","Q2","1900-06-30","Region 8","Operating Expense","Taxes & Fees","Taxes & Fees","5.6","Other 3",{"$f":"IF(OR(AND($F1512=\"PY\",N$1<>\"Prior Year\"),AND($F1512<>\"PY\",N$1=\"Prior Year\")),0,INDEX(INDIRECT(\"'Dental Rev-Exp \"&$H1512&\"'!$A$1:$CA$200\"),IF($J1512=\"Member Months\",MATCH($J1512,INDIRECT(\"'Dental Rev-Exp \"&$H1512&\"'!$A$1:$A$200\"),0),MATCH($L1512,INDIRECT(\"'Dental Rev-Exp \"&$H1512&\"'!$B$1:$B$200\"),0)),IF($F1512=\"PY\",MATCH(\"Prior Year Adjustments\",INDIRECT(\"'Dental Rev-Exp \"&$H1512&\"'!$A$8:$CA$8\"),0),MATCH(IF($F1512=\"Q1\",\"JANUARY - MARCH (Q1)\",IF($F1512=\"Q2\",\"APRIL - JUNE (Q2)\",IF($F1512=\"Q3\",\"JULY - SEPTEMBER (Q3)\",IF($F1512=\"Q4\",\"OCTOBER - DECEMBER (Q4)\",0)))),INDIRECT(\"'Dental Rev-Exp \"&$H1512&\"'!$A$7:$CA$7\"),0)+MATCH(N$1,INDIRECT(\"'Dental Rev-Exp \"&$H1512&\"'!$D$8:$CA$8\"),0)-1)))","v":{"v":0,"d":"$0.00"}},{"v":0,"d":"$0.00"},{"v":0,"d":"$0.00"},{"v":0,"d":"$0.00"},{"v":0,"d":"$0.00"},{"v":0,"d":"$0.00"},"ASR-Dental_Financial_Report_SMMC_03.21.23","2023-03-21","Unaudited"]
["Dental","DEF","Default",1900,"1900-01-01","Q2","1900-06-30","Region 8","Non-Operating Expense","Income Tax Expense","Income Tax Expense","8.0","Income Tax Expense",{"v":0,"d":"$0.00"},{"v":0,"d":"$0.00"},{"v":0,"d":"$0.00"},{"v":0,"d":"$0.00"},{"v":0,"d":"$0.00"},{"v":0,"d":"$0.00"},"ASR-Dental_Financial_Report_SMMC_03.21.23","2023-03-21","Unaudited"]
["Dental","DEF","Default",1900,"1900-01-01","Q3","1900-09-30","Region 8","Member Months","Member Months","Member Months",null,"Member Months",{"v":0,"d":"$0.00"},{"v":0,"d":"$0.00"},{"v":0,"d":"$0.00"},{"v":0,"d":"$0.00"},{"v":0,"d":"$0.00"},{"v":0,"d":"$0.00"},"ASR-Dental_Financial_Report_SMMC_03.21.23","2023-03-21","Unaudited"]
["Dental","DEF","Default",1900,"1900-01-01","Q3","1900-09-30","Region 8","Operating Revenue","Capitation","Capitation","1.1","Capitation",{"v":0,"d":"$0.00"},{"v":0,"d":"$0.00"},{"v":0,"d":"$0.00"},{"v":0,"d":"$0.00"},{"v":0,"d":"$0.00"},{"v":0,"d":"$0.00"},"ASR-Dental_Financial_Report_SMMC_03.21.23","2023-03-21","Unaudited"]
["Dental","DEF","Default",1900,"1900-01-01","Q3","1900-09-30","Region 8","Operating Revenue","Other Revenue","Other Revenue - 9010","1.2","ACA § 9010 related payments",{"v":0,"d":"$0.00"},{"v":0,"d":"$0.00"},{"v":0,"d":"$0.00"},{"v":0,"d":"$0.00"},{"v":0,"d":"$0.00"},{"v":0,"d":"$0.00"},"ASR-Dental_Financial_Report_SMMC_03.21.23","2023-03-21","Unaudited"]
["Dental","DEF","Default",1900,"1900-01-01","Q3","1900-09-30","Region 8","Operating Revenue","Other Revenue","Other Revenue","1.3","Other Revenue",{"v":0,"d":"$0.00"},{"v":0,"d":"$0.00"},{"v":0,"d":"$0.00"},{"v":0,"d":"$0.00"},{"v":0,"d":"$0.00"},{"v":0,"d":"$0.00"},"ASR-Dental_Financial_Report_SMMC_03.21.23","2023-03-21","Unaudited"]
["Dental","DEF","Default",1900,"1900-01-01","Q3","1900-09-30","Region 8","Operating Expense","Medical Expense","Dental Services","2.1","Dental Services Diagnostic",{"v":0,"d":"$0.00"},{"v":0,"d":"$0.00"},{"v":0,"d":"$0.00"},{"v":0,"d":"$0.00"},{"v":0,"d":"$0.00"},{"v":0,"d":"$0.00"},"ASR-Dental_Financial_Report_SMMC_03.21.23","2023-03-21","Unaudited"]
["Dental","DEF","Default",1900,"1900-01-01","Q3","1900-09-30","Region 8","Operating Expense","Medical Expense","Dental Services",2.2,"Dental Services Preventive",{"v":0,"d":"$0.00"},{"v":0,"d":"$0.00"},{"v":0,"d":"$0.00"},{"v":0,"d":"$0.00"},{"v":0,"d":"$0.00"},{"v":0,"d":"$0.00"},"ASR-Dental_Financial_Report_SMMC_03.21.23","2023-03-21","Unaudited"]
["Dental","DEF","Default",1900,"1900-01-01","Q3","1900-09-30","Region 8","Operating Expense","Medical Expense","Dental Services","2.3","Dental Services Restorative",{"v":0,"d":"$0.00"},{"v":0,"d":"$0.00"},{"v":0,"d":"$0.00"},{"v":0,"d":"$0.00"},{"v":0,"d":"$0.00"},{"v":0,"d":"$0.00"},"ASR-Dental_Financial_Report_SMMC_03.21.23","2023-03-21","Unaudited"]
["Dental","DEF","Default",1900,"1900-01-01","Q3","1900-09-30","Region 8","Operating Expense","Medical Expense","Dental Services","2.4","Dental Services Endodontics",{"v":0,"d":"$0.00"},{"v":0,"d":"$0.00"},{"v":0,"d":"$0.00"},{"v":0,"d":"$0.00"},{"v":0,"d":"$0.00"},{"v":0,"d":"$0.00"},"ASR-Dental_Financial_Report_SMMC_03.21.23","2023-03-21","Unaudited"]
["Dental","DEF","Default",1900,"1900-01-01","Q3","1900-09-30","Region 8","Operating Expense","Medical Expense","Dental Services","2.5","Dental Services Periodontics",{"$f":"IF(OR(AND($F1522=\"PY\",N$1<>\"Prior Year\"),AND($F1522<>\"PY\",N$1=\"Prior Year\")),0,INDEX(INDIRECT(\"'Dental Rev-Exp \"&$H1522&\"'!$A$1:$CA$200\"),IF($J1522=\"Member Months\",MATCH($J1522,INDIRECT(\"'Dental Rev-Exp \"&$H1522&\"'!$A$1:$A$200\"),0),MATCH($L1522,INDIRECT(\"'Dental Rev-Exp \"&$H1522&\"'!$B$1:$B$200\"),0)),IF($F1522=\"PY\",MATCH(\"Prior Year Adjustments\",INDIRECT(\"'Dental Rev-Exp \"&$H1522&\"'!$A$8:$CA$8\"),0),MATCH(IF($F1522=\"Q1\",\"JANUARY - MARCH (Q1)\",IF($F1522=\"Q2\",\"APRIL - JUNE (Q2)\",IF($F1522=\"Q3\",\"JULY - SEPTEMBER (Q3)\",IF($F1522=\"Q4\",\"OCTOBER - DECEMBER (Q4)\",0)))),INDIRECT(\"'Dental Rev-Exp \"&$H1522&\"'!$A$7:$CA$7\"),0)+MATCH(N$1,INDIRECT(\"'Dental Rev-Exp \"&$H1522&\"'!$D$8:$CA$8\"),0)-1)))","v":{"v":0,"d":"$0.00"}},{"v":0,"d":"$0.00"},{"v":0,"d":"$0.00"},{"v":0,"d":"$0.00"},{"v":0,"d":"$0.00"},{"v":0,"d":"$0.00"},"ASR-Dental_Financial_Report_SMMC_03.21.23","2023-03-21","Unaudited"]
["Dental","DEF","Default",1900,"1900-01-01","Q3","1900-09-30","Region 8","Operating Expense","Medical Expense","Dental Services","2.6","Dental Services Prosthodontics",{"v":0,"d":"$0.00"},{"v":0,"d":"$0.00"},{"v":0,"d":"$0.00"},{"v":0,"d":"$0.00"},{"v":0,"d":"$0.00"},{"v":0,"d":"$0.00"},"ASR-Dental_Financial_Report_SMMC_03.21.23","2023-03-21","Unaudited"]
["Dental","DEF","Default",1900,"1900-01-01","Q3","1900-09-30","Region 8","Operating Expense","Medical Expense","Dental Services","2.7","Dental Services Prosthodontics, fixed",{"v":0,"d":"$0.00"},{"v":0,"d":"$0.00"},{"v":0,"d":"$0.00"},{"v":0,"d":"$0.00"},{"v":0,"d":"$0.00"},{"v":0,"d":"$0.00"},"ASR-Dental_Financial_Report_SMMC_03.21.23","2023-03-21","Unaudited"]
["Dental","DEF","Default",1900,"1900-01-01","Q3","1900-09-30","Region 8","Operating Expense","Medical Expense","Dental Services","2.8","Dental Services Oral and Maxillofacial Surgery",{"v":0,"d":"$0.00"},{"v":0,"d":"$0.00"},{"v":0,"d":"$0.00"},{"v":0,"d":"$0.00"},{"v":0,"d":"$0.00"},{"v":0,"d":"$0.00"},"ASR-Dental_Financial_Report_SMMC_03.21.23","2023-03-21","Unaudited"]
["Dental","DEF","Default",1900,"1900-01-01","Q3","1900-09-30","Region 8","Operating Expense","Medical Expense","Dental Services","2.9","Dental Services Orthodontics",{"v":0,"d":"$0.00"},{"v":0,"d":"$0.00"},{"v":0,"d":"$0.00"},{"v":0,"d":"$0.00"},{"v":0,"d":"$0.00"},{"v":0,"d":"$0.00"},"ASR-Dental_Financial_Report_SMMC_03.21.23","2023-03-21","Unaudited"]
["Dental","DEF","Default",1900,"1900-01-01","Q3","1900-09-30","Region 8","Operating Expense","Medical Expense","Dental Services","2.10","Dental Services Adjunctive General Services",{"v":0,"d":"$0.00"},{"v":0,"d":"$0.00"},{"v":0,"d":"$0.00"},{"v":0,"d":"$0.00"},{"v":0,"d":"$0.00"},{"v":0,"d":"$0.00"},"ASR-Dental_Financial_Report_SMMC_03.21.23","2023-03-21","Unaudited"]
["Dental","DEF","Default",1900,"1900-01-01","Q3","1900-09-30","Region 8","Operating Expense","Medical Expense","Dental Services","2.11","Dental Services Other",{"v":0,"d":"$0.00"},{"v":0,"d":"$0.00"},{"v":0,"d":"$0.00"},{"v":0,"d":"$0.00"},{"v":0,"d":"$0.00"},{"v":0,"d":"$0.00"},"ASR-Dental_Financial_Report_SMMC_03.21.23","2023-03-21","Unaudited"]
["Dental","DEF","Default",1900,"1900-01-01","Q3","1900-09-30","Region 8","Operating Expense","Medical Expense","Expanded Benefits","2.12","Dental Expanded Benefits",{"v":0,"d":"$0.00"},{"v":0,"d":"$0.00"},{"v":0,"d":"$0.00"},{"v":0,"d":"$0.00"},{"v":0,"d":"$0.00"},{"v":0,"d":"$0.00"},"ASR-Dental_Financial_Report_SMMC_03.21.23","2023-03-21","Unaudited"]
["Dental","DEF","Default",1900,"1900-01-01","Q3","1900-09-30","Region 8","Operating Expense","Medical Expense","Dental Services","2.13","Dental Services Paid through Subcapitation",{"v":0,"d":"$0.00"},{"v":0,"d":"$0.00"},{"v":0,"d":"$0.00"},{"v":0,"d":"$0.00"},{"v":0,"d":"$0.00"},{"v":0,"d":"$0.00"},"ASR-Dental_Financial_Report_SMMC_03.21.23","2023-03-21","Unaudited"]
["Dental","DEF","Default",1900,"1900-01-01","Q3","1900-09-30","Region 8","Operating Expense","Medical Expense","Dental Services","2.14","Ending IBNP for Dental Services",{"v":0,"d":"$0.00"},{"v":0,"d":"$0.00"},{"v":0,"d":"$0.00"},{"v":0,"d":"$0.00"},{"v":0,"d":"$0.00"},{"v":0,"d":"$0.00"},"ASR-Dental_Financial_Report_SMMC_03.21.23","2023-03-21","Unaudited"]
["Dental","DEF","Default",1900,"1900-01-01","Q3","1900-09-30","Region 8","Operating Expense","Medical Expense","Dental Services","2.15","Dental Settlements/AP",{"$f":"IF(OR(AND($F1532=\"PY\",N$1<>\"Prior Year\"),AND($F1532<>\"PY\",N$1=\"Prior Year\")),0,INDEX(INDIRECT(\"'Dental Rev-Exp \"&$H1532&\"'!$A$1:$CA$200\"),IF($J1532=\"Member Months\",MATCH($J1532,INDIRECT(\"'Dental Rev-Exp \"&$H1532&\"'!$A$1:$A$200\"),0),MATCH($L1532,INDIRECT(\"'Dental Rev-Exp \"&$H1532&\"'!$B$1:$B$200\"),0)),IF($F1532=\"PY\",MATCH(\"Prior Year Adjustments\",INDIRECT(\"'Dental Rev-Exp \"&$H1532&\"'!$A$8:$CA$8\"),0),MATCH(IF($F1532=\"Q1\",\"JANUARY - MARCH (Q1)\",IF($F1532=\"Q2\",\"APRIL - JUNE (Q2)\",IF($F1532=\"Q3\",\"JULY - SEPTEMBER (Q3)\",IF($F1532=\"Q4\",\"OCTOBER - DECEMBER (Q4)\",0)))),INDIRECT(\"'Dental Rev-Exp \"&$H1532&\"'!$A$7:$CA$7\"),0)+MATCH(N$1,INDIRECT(\"'Dental Rev-Exp \"&$H1532&\"'!$D$8:$CA$8\"),0)-1)))","v":{"v":0,"d":"$0.00"}},{"v":0,"d":"$0.00"},{"v":0,"d":"$0.00"},{"v":0,"d":"$0.00"},{"v":0,"d":"$0.00"},{"v":0,"d":"$0.00"},"ASR-Dental_Financial_Report_SMMC_03.21.23","2023-03-21","Unaudited"]
["Dental","DEF","Default",1900,"1900-01-01","Q3","1900-09-30","Region 8","Operating Expense","Medical Expense","Other Medical","3.5","TPL & Fraud/Abuse Recoveries",{"v":0,"d":"$0.00"},{"v":0,"d":"$0.00"},{"v":0,"d":"$0.00"},{"v":0,"d":"$0.00"},{"v":0,"d":"$0.00"},{"v":0,"d":"$0.00"},"ASR-Dental_Financial_Report_SMMC_03.21.23","2023-03-21","Unaudited"]
["Dental","DEF","Default",1900,"1900-01-01","Q3","1900-09-30","Region 8","Operating Expense","Medical Expense","Other Medical",3.6,"Premium Deficiency Reserve",{"v":0,"d":"$0.00"},{"v":0,"d":"$0.00"},{"v":0,"d":"$0.00"},{"v":0,"d":"$0.00"},{"v":0,"d":"$0.00"},{"v":0,"d":"$0.00"},"ASR-Dental_Financial_Report_SMMC_03.21.23","2023-03-21","Unaudited"]
["Dental","DEF","Default",1900,"1900-01-01","Q3","1900-09-30","Region 8","Operating Expense","Medical Expense","Other Medical","3.8","Reinsurance Premiums",{"v":0,"d":"$0.00"},{"v":0,"d":"$0.00"},{"v":0,"d":"$0.00"},{"v":0,"d":"$0.00"},{"v":0,"d":"$0.00"},{"v":0,"d":"$0.00"},"ASR-Dental_Financial_Report_SMMC_03.21.23","2023-03-21","Unaudited"]
["Dental","DEF","Default",1900,"1900-01-01","Q3","1900-09-30","Region 8","Operating Expense","Medical Expense","Other Medical","3.9","Reinsurance Recoveries",{"v":0,"d":"$0.00"},{"v":0,"d":"$0.00"},{"v":0,"d":"$0.00"},{"v":0,"d":"$0.00"},{"v":0,"d":"$0.00"},{"v":0,"d":"$0.00"},"ASR-Dental_Financial_Report_SMMC_03.21.23","2023-03-21","Unaudited"]
["Dental","DEF","Default",1900,"1900-01-01","Q3","1900-09-30","Region 8","Operating Expense","Administrative Expense","Administrative","4.1","Salaries & Benefits",{"v":0,"d":"$0.00"},{"v":0,"d":"$0.00"},{"v":0,"d":"$0.00"},{"v":0,"d":"$0.00"},{"v":0,"d":"$0.00"},{"v":0,"d":"$0.00"},"ASR-Dental_Financial_Report_SMMC_03.21.23","2023-03-21","Unaudited"]
["Dental","DEF","Default",1900,"1900-01-01","Q3","1900-09-30","Region 8","Operating Expense","Administrative Expense","Administrative","4.2","Administrative Services",{"v":0,"d":"$0.00"},{"v":0,"d":"$0.00"},{"v":0,"d":"$0.00"},{"v":0,"d":"$0.00"},{"v":0,"d":"$0.00"},{"v":0,"d":"$0.00"},{"$f":"file_name","v":"ASR-Dental_Financial_Report_SMMC_03.21.23"},{"$f":"file_date","v":"2023-03-21"},{"$f":"status","v":"Unaudited"}]
["Dental","DEF","Default",1900,"1900-01-01","Q3","1900-09-30","Region 8","Operating Expense","Administrative Expense","Administrative","4.3","Information Systems",{"v":0,"d":"$0.00"},{"v":0,"d":"$0.00"},{"v":0,"d":"$0.00"},{"v":0,"d":"$0.00"},{"v":0,"d":"$0.00"},{"v":0,"d":"$0.00"},"ASR-Dental_Financial_Report_SMMC_03.21.23","2023-03-21","Unaudited"]
["Dental","DEF","Default",1900,"1900-01-01","Q3","1900-09-30","Region 8","Operating Expense","Administrative Expense","Administrative","4.4","Marketing Expenses",{"v":0,"d":"$0.00"},{"v":0,"d":"$0.00"},{"v":0,"d":"$0.00"},{"v":0,"d":"$0.00"},{"v":0,"d":"$0.00"},{"v":0,"d":"$0.00"},"ASR-Dental_Financial_Report_SMMC_03.21.23","2023-03-21","Unaudited"]
["Dental","DEF","Default",1900,"1900-01-01","Q3","1900-09-30","Region 8","Operating Expense","Administrative Expense","Administrative","4.5","General  Administration",{"v":0,"d":"$0.00"},{"v":0,"d":"$0.00"},{"v":0,"d":"$0.00"},{"v":0,"d":"$0.00"},{"v":0,"d":"$0.00"},{"v":0,"d":"$0.00"},"ASR-Dental_Financial_Report_SMMC_03.21.23","2023-03-21","Unaudited"]
["Dental","DEF","Default",1900,"1900-01-01","Q3","1900-09-30","Region 8","Operating Expense","Administrative Expense","Administrative","4.6","Compliance/Regulatory",{"$f":"IF(OR(AND($F1542=\"PY\",N$1<>\"Prior Year\"),AND($F1542<>\"PY\",N$1=\"Prior Year\")),0,INDEX(INDIRECT(\"'Dental Rev-Exp \"&$H1542&\"'!$A$1:$CA$200\"),IF($J1542=\"Member Months\",MATCH($J1542,INDIRECT(\"'Dental Rev-Exp \"&$H1542&\"'!$A$1:$A$200\"),0),MATCH($L1542,INDIRECT(\"'Dental Rev-Exp \"&$H1542&\"'!$B$1:$B$200\"),0)),IF($F1542=\"PY\",MATCH(\"Prior Year Adjustments\",INDIRECT(\"'Dental Rev-Exp \"&$H1542&\"'!$A$8:$CA$8\"),0),MATCH(IF($F1542=\"Q1\",\"JANUARY - MARCH (Q1)\",IF($F1542=\"Q2\",\"APRIL - JUNE (Q2)\",IF($F1542=\"Q3\",\"JULY - SEPTEMBER (Q3)\",IF($F1542=\"Q4\",\"OCTOBER - DECEMBER (Q4)\",0)))),INDIRECT(\"'Dental Rev-Exp \"&$H1542&\"'!$A$7:$CA$7\"),0)+MATCH(N$1,INDIRECT(\"'Dental Rev-Exp \"&$H1542&\"'!$D$8:$CA$8\"),0)-1)))","v":{"v":0,"d":"$0.00"}},{"v":0,"d":"$0.00"},{"v":0,"d":"$0.00"},{"v":0,"d":"$0.00"},{"v":0,"d":"$0.00"},{"v":0,"d":"$0.00"},"ASR-Dental_Financial_Report_SMMC_03.21.23","2023-03-21","Unaudited"]
["Dental","DEF","Default",1900,"1900-01-01","Q3","1900-09-30","Region 8","Operating Expense","Taxes & Fees","Taxes & Fees","5.1","State Premium tax",{"v":0,"d":"$0.00"},{"v":0,"d":"$0.00"},{"v":0,"d":"$0.00"},{"v":0,"d":"$0.00"},{"v":0,"d":"$0.00"},{"v":0,"d":"$0.00"},"ASR-Dental_Financial_Report_SMMC_03.21.23","2023-03-21","Unaudited"]
["Dental","DEF","Default",1900,"1900-01-01","Q3","1900-09-30","Region 8","Operating Expense","Taxes & Fees","Taxes & Fees","5.2","Department of Insurance Assessments",{"v":0,"d":"$0.00"},{"v":0,"d":"$0.00"},{"v":0,"d":"$0.00"},{"v":0,"d":"$0.00"},{"v":0,"d":"$0.00"},{"v":0,"d":"$0.00"},"ASR-Dental_Financial_Report_SMMC_03.21.23","2023-03-21","Unaudited"]
["Dental","DEF","Default",1900,"1900-01-01","Q3","1900-09-30","Region 8","Operating Expense","Taxes & Fees","Taxes & Fees","5.3","Section 9010 Health Insurance Providers Fee",{"v":0,"d":"$0.00"},{"v":0,"d":"$0.00"},{"v":0,"d":"$0.00"},{"v":0,"d":"$0.00"},{"v":0,"d":"$0.00"},{"v":0,"d":"$0.00"},"ASR-Dental_Financial_Report_SMMC_03.21.23","2023-03-21","Unaudited"]
["Dental","DEF","Default",1900,"1900-01-01","Q3","1900-09-30","Region 8","Operating Expense","Taxes & Fees","Taxes & Fees","5.4","Other 1",{"v":0,"d":"$0.00"},{"v":0,"d":"$0.00"},{"v":0,"d":"$0.00"},{"v":0,"d":"$0.00"},{"v":0,"d":"$0.00"},{"v":0,"d":"$0.00"},"ASR-Dental_Financial_Report_SMMC_03.21.23","2023-03-21","Unaudited"]
["Dental","DEF","Default",1900,"1900-01-01","Q3","1900-09-30","Region 8","Operating Expense","Taxes & Fees","Taxes & Fees","5.5","Other 2",{"v":0,"d":"$0.00"},{"v":0,"d":"$0.00"},{"v":0,"d":"$0.00"},{"v":0,"d":"$0.00"},{"v":0,"d":"$0.00"},{"v":0,"d":"$0.00"},"ASR-Dental_Financial_Report_SMMC_03.21.23","2023-03-21","Unaudited"]
["Dental","DEF","Default",1900,"1900-01-01","Q3","1900-09-30","Region 8","Operating Expense","Taxes & Fees","Taxes & Fees","5.6","Other 3",{"v":0,"d":"$0.00"},{"v":0,"d":"$0.00"},{"v":0,"d":"$0.00"},{"v":0,"d":"$0.00"},{"v":0,"d":"$0.00"},{"v":0,"d":"$0.00"},"ASR-Dental_Financial_Report_SMMC_03.21.23","2023-03-21","Unaudited"]
["Dental","DEF","Default",1900,"1900-01-01","Q3","1900-09-30","Region 8","Non-Operating Expense","Income Tax Expense","Income Tax Expense","8.0","Income Tax Expense",{"v":0,"d":"$0.00"},{"v":0,"d":"$0.00"},{"v":0,"d":"$0.00"},{"v":0,"d":"$0.00"},{"v":0,"d":"$0.00"},{"v":0,"d":"$0.00"},"ASR-Dental_Financial_Report_SMMC_03.21.23","2023-03-21","Unaudited"]
["Dental","DEF","Default",1900,"1900-01-01","Q4","1900-12-31","Region 8","Member Months","Member Months","Member Months",null,"Member Months",{"v":0,"d":"$0.00"},{"v":0,"d":"$0.00"},{"v":0,"d":"$0.00"},{"v":0,"d":"$0.00"},{"v":0,"d":"$0.00"},{"v":0,"d":"$0.00"},"ASR-Dental_Financial_Report_SMMC_03.21.23","2023-03-21","Unaudited"]
["Dental","DEF","Default",1900,"1900-01-01","Q4","1900-12-31","Region 8","Operating Revenue","Capitation","Capitation","1.1","Capitation",{"v":0,"d":"$0.00"},{"v":0,"d":"$0.00"},{"v":0,"d":"$0.00"},{"v":0,"d":"$0.00"},{"v":0,"d":"$0.00"},{"v":0,"d":"$0.00"},"ASR-Dental_Financial_Report_SMMC_03.21.23","2023-03-21","Unaudited"]
["Dental","DEF","Default",1900,"1900-01-01","Q4","1900-12-31","Region 8","Operating Revenue","Other Revenue","Other Revenue - 9010","1.2","ACA § 9010 related payments",{"$f":"IF(OR(AND($F1552=\"PY\",N$1<>\"Prior Year\"),AND($F1552<>\"PY\",N$1=\"Prior Year\")),0,INDEX(INDIRECT(\"'Dental Rev-Exp \"&$H1552&\"'!$A$1:$CA$200\"),IF($J1552=\"Member Months\",MATCH($J1552,INDIRECT(\"'Dental Rev-Exp \"&$H1552&\"'!$A$1:$A$200\"),0),MATCH($L1552,INDIRECT(\"'Dental Rev-Exp \"&$H1552&\"'!$B$1:$B$200\"),0)),IF($F1552=\"PY\",MATCH(\"Prior Year Adjustments\",INDIRECT(\"'Dental Rev-Exp \"&$H1552&\"'!$A$8:$CA$8\"),0),MATCH(IF($F1552=\"Q1\",\"JANUARY - MARCH (Q1)\",IF($F1552=\"Q2\",\"APRIL - JUNE (Q2)\",IF($F1552=\"Q3\",\"JULY - SEPTEMBER (Q3)\",IF($F1552=\"Q4\",\"OCTOBER - DECEMBER (Q4)\",0)))),INDIRECT(\"'Dental Rev-Exp \"&$H1552&\"'!$A$7:$CA$7\"),0)+MATCH(N$1,INDIRECT(\"'Dental Rev-Exp \"&$H1552&\"'!$D$8:$CA$8\"),0)-1)))","v":{"v":0,"d":"$0.00"}},{"v":0,"d":"$0.00"},{"v":0,"d":"$0.00"},{"v":0,"d":"$0.00"},{"v":0,"d":"$0.00"},{"v":0,"d":"$0.00"},"ASR-Dental_Financial_Report_SMMC_03.21.23","2023-03-21","Unaudited"]
["Dental","DEF","Default",1900,"1900-01-01","Q4","1900-12-31","Region 8","Operating Revenue","Other Revenue","Other Revenue","1.3","Other Revenue",{"v":0,"d":"$0.00"},{"v":0,"d":"$0.00"},{"v":0,"d":"$0.00"},{"v":0,"d":"$0.00"},{"v":0,"d":"$0.00"},{"v":0,"d":"$0.00"},"ASR-Dental_Financial_Report_SMMC_03.21.23","2023-03-21","Unaudited"]
["Dental","DEF","Default",1900,"1900-01-01","Q4","1900-12-31","Region 8","Operating Expense","Medical Expense","Dental Services","2.1","Dental Services Diagnostic",{"v":0,"d":"$0.00"},{"v":0,"d":"$0.00"},{"v":0,"d":"$0.00"},{"v":0,"d":"$0.00"},{"v":0,"d":"$0.00"},{"v":0,"d":"$0.00"},"ASR-Dental_Financial_Report_SMMC_03.21.23","2023-03-21","Unaudited"]
["Dental","DEF","Default",1900,"1900-01-01","Q4","1900-12-31","Region 8","Operating Expense","Medical Expense","Dental Services",2.2,"Dental Services Preventive",{"v":0,"d":"$0.00"},{"v":0,"d":"$0.00"},{"v":0,"d":"$0.00"},{"v":0,"d":"$0.00"},{"v":0,"d":"$0.00"},{"v":0,"d":"$0.00"},"ASR-Dental_Financial_Report_SMMC_03.21.23","2023-03-21","Unaudited"]
["Dental","DEF","Default",1900,"1900-01-01","Q4","1900-12-31","Region 8","Operating Expense","Medical Expense","Dental Services","2.3","Dental Services Restorative",{"v":0,"d":"$0.00"},{"v":0,"d":"$0.00"},{"v":0,"d":"$0.00"},{"v":0,"d":"$0.00"},{"v":0,"d":"$0.00"},{"v":0,"d":"$0.00"},"ASR-Dental_Financial_Report_SMMC_03.21.23","2023-03-21","Unaudited"]
["Dental","DEF","Default",1900,"1900-01-01","Q4","1900-12-31","Region 8","Operating Expense","Medical Expense","Dental Services","2.4","Dental Services Endodontics",{"v":0,"d":"$0.00"},{"v":0,"d":"$0.00"},{"v":0,"d":"$0.00"},{"v":0,"d":"$0.00"},{"v":0,"d":"$0.00"},{"v":0,"d":"$0.00"},"ASR-Dental_Financial_Report_SMMC_03.21.23","2023-03-21","Unaudited"]
["Dental","DEF","Default",1900,"1900-01-01","Q4","1900-12-31","Region 8","Operating Expense","Medical Expense","Dental Services","2.5","Dental Services Periodontics",{"v":0,"d":"$0.00"},{"v":0,"d":"$0.00"},{"v":0,"d":"$0.00"},{"v":0,"d":"$0.00"},{"v":0,"d":"$0.00"},{"v":0,"d":"$0.00"},"ASR-Dental_Financial_Report_SMMC_03.21.23","2023-03-21","Unaudited"]
["Dental","DEF","Default",1900,"1900-01-01","Q4","1900-12-31","Region 8","Operating Expense","Medical Expense","Dental Services","2.6","Dental Services Prosthodontics",{"v":0,"d":"$0.00"},{"v":0,"d":"$0.00"},{"v":0,"d":"$0.00"},{"v":0,"d":"$0.00"},{"v":0,"d":"$0.00"},{"v":0,"d":"$0.00"},"ASR-Dental_Financial_Report_SMMC_03.21.23","2023-03-21","Unaudited"]
["Dental","DEF","Default",1900,"1900-01-01","Q4","1900-12-31","Region 8","Operating Expense","Medical Expense","Dental Services","2.7","Dental Services Prosthodontics, fixed",{"v":0,"d":"$0.00"},{"v":0,"d":"$0.00"},{"v":0,"d":"$0.00"},{"v":0,"d":"$0.00"},{"v":0,"d":"$0.00"},{"v":0,"d":"$0.00"},"ASR-Dental_Financial_Report_SMMC_03.21.23","2023-03-21","Unaudited"]
["Dental","DEF","Default",1900,"1900-01-01","Q4","1900-12-31","Region 8","Operating Expense","Medical Expense","Dental Services","2.8","Dental Services Oral and Maxillofacial Surgery",{"v":0,"d":"$0.00"},{"v":0,"d":"$0.00"},{"v":0,"d":"$0.00"},{"v":0,"d":"$0.00"},{"v":0,"d":"$0.00"},{"v":0,"d":"$0.00"},"ASR-Dental_Financial_Report_SMMC_03.21.23","2023-03-21","Unaudited"]
["Dental","DEF","Default",1900,"1900-01-01","Q4","1900-12-31","Region 8","Operating Expense","Medical Expense","Dental Services","2.9","Dental Services Orthodontics",{"$f":"IF(OR(AND($F1562=\"PY\",N$1<>\"Prior Year\"),AND($F1562<>\"PY\",N$1=\"Prior Year\")),0,INDEX(INDIRECT(\"'Dental Rev-Exp \"&$H1562&\"'!$A$1:$CA$200\"),IF($J1562=\"Member Months\",MATCH($J1562,INDIRECT(\"'Dental Rev-Exp \"&$H1562&\"'!$A$1:$A$200\"),0),MATCH($L1562,INDIRECT(\"'Dental Rev-Exp \"&$H1562&\"'!$B$1:$B$200\"),0)),IF($F1562=\"PY\",MATCH(\"Prior Year Adjustments\",INDIRECT(\"'Dental Rev-Exp \"&$H1562&\"'!$A$8:$CA$8\"),0),MATCH(IF($F1562=\"Q1\",\"JANUARY - MARCH (Q1)\",IF($F1562=\"Q2\",\"APRIL - JUNE (Q2)\",IF($F1562=\"Q3\",\"JULY - SEPTEMBER (Q3)\",IF($F1562=\"Q4\",\"OCTOBER - DECEMBER (Q4)\",0)))),INDIRECT(\"'Dental Rev-Exp \"&$H1562&\"'!$A$7:$CA$7\"),0)+MATCH(N$1,INDIRECT(\"'Dental Rev-Exp \"&$H1562&\"'!$D$8:$CA$8\"),0)-1)))","v":{"v":0,"d":"$0.00"}},{"v":0,"d":"$0.00"},{"v":0,"d":"$0.00"},{"v":0,"d":"$0.00"},{"v":0,"d":"$0.00"},{"v":0,"d":"$0.00"},"ASR-Dental_Financial_Report_SMMC_03.21.23","2023-03-21","Unaudited"]
["Dental","DEF","Default",1900,"1900-01-01","Q4","1900-12-31","Region 8","Operating Expense","Medical Expense","Dental Services","2.10","Dental Services Adjunctive General Services",{"v":0,"d":"$0.00"},{"v":0,"d":"$0.00"},{"v":0,"d":"$0.00"},{"v":0,"d":"$0.00"},{"v":0,"d":"$0.00"},{"v":0,"d":"$0.00"},"ASR-Dental_Financial_Report_SMMC_03.21.23","2023-03-21","Unaudited"]
["Dental","DEF","Default",1900,"1900-01-01","Q4","1900-12-31","Region 8","Operating Expense","Medical Expense","Dental Services","2.11","Dental Services Other",{"v":0,"d":"$0.00"},{"v":0,"d":"$0.00"},{"v":0,"d":"$0.00"},{"v":0,"d":"$0.00"},{"v":0,"d":"$0.00"},{"v":0,"d":"$0.00"},"ASR-Dental_Financial_Report_SMMC_03.21.23","2023-03-21","Unaudited"]
["Dental","DEF","Default",1900,"1900-01-01","Q4","1900-12-31","Region 8","Operating Expense","Medical Expense","Expanded Benefits","2.12","Dental Expanded Benefits",{"v":0,"d":"$0.00"},{"v":0,"d":"$0.00"},{"v":0,"d":"$0.00"},{"v":0,"d":"$0.00"},{"v":0,"d":"$0.00"},{"v":0,"d":"$0.00"},"ASR-Dental_Financial_Report_SMMC_03.21.23","2023-03-21","Unaudited"]
["Dental","DEF","Default",1900,"1900-01-01","Q4","1900-12-31","Region 8","Operating Expense","Medical Expense","Dental Services","2.13","Dental Services Paid through Subcapitation",{"v":0,"d":"$0.00"},{"v":0,"d":"$0.00"},{"v":0,"d":"$0.00"},{"v":0,"d":"$0.00"},{"v":0,"d":"$0.00"},{"v":0,"d":"$0.00"},"ASR-Dental_Financial_Report_SMMC_03.21.23","2023-03-21","Unaudited"]
["Dental","DEF","Default",1900,"1900-01-01","Q4","1900-12-31","Region 8","Operating Expense","Medical Expense","Dental Services","2.14","Ending IBNP for Dental Services",{"v":0,"d":"$0.00"},{"v":0,"d":"$0.00"},{"v":0,"d":"$0.00"},{"v":0,"d":"$0.00"},{"v":0,"d":"$0.00"},{"v":0,"d":"$0.00"},"ASR-Dental_Financial_Report_SMMC_03.21.23","2023-03-21","Unaudited"]
["Dental","DEF","Default",1900,"1900-01-01","Q4","1900-12-31","Region 8","Operating Expense","Medical Expense","Dental Services","2.15","Dental Settlements/AP",{"v":0,"d":"$0.00"},{"v":0,"d":"$0.00"},{"v":0,"d":"$0.00"},{"v":0,"d":"$0.00"},{"v":0,"d":"$0.00"},{"v":0,"d":"$0.00"},"ASR-Dental_Financial_Report_SMMC_03.21.23","2023-03-21","Unaudited"]
["Dental","DEF","Default",1900,"1900-01-01","Q4","1900-12-31","Region 8","Operating Expense","Medical Expense","Other Medical","3.5","TPL & Fraud/Abuse Recoveries",{"v":0,"d":"$0.00"},{"v":0,"d":"$0.00"},{"v":0,"d":"$0.00"},{"v":0,"d":"$0.00"},{"v":0,"d":"$0.00"},{"v":0,"d":"$0.00"},"ASR-Dental_Financial_Report_SMMC_03.21.23","2023-03-21","Unaudited"]
["Dental","DEF","Default",1900,"1900-01-01","Q4","1900-12-31","Region 8","Operating Expense","Medical Expense","Other Medical",3.6,"Premium Deficiency Reserve",{"v":0,"d":"$0.00"},{"v":0,"d":"$0.00"},{"v":0,"d":"$0.00"},{"v":0,"d":"$0.00"},{"v":0,"d":"$0.00"},{"v":0,"d":"$0.00"},"ASR-Dental_Financial_Report_SMMC_03.21.23","2023-03-21","Unaudited"]
["Dental","DEF","Default",1900,"1900-01-01","Q4","1900-12-31","Region 8","Operating Expense","Medical Expense","Other Medical","3.8","Reinsurance Premiums",{"v":0,"d":"$0.00"},{"v":0,"d":"$0.00"},{"v":0,"d":"$0.00"},{"v":0,"d":"$0.00"},{"v":0,"d":"$0.00"},{"v":0,"d":"$0.00"},"ASR-Dental_Financial_Report_SMMC_03.21.23","2023-03-21","Unaudited"]
["Dental","DEF","Default",1900,"1900-01-01","Q4","1900-12-31","Region 8","Operating Expense","Medical Expense","Other Medical","3.9","Reinsurance Recoveries",{"$f":"IF(OR(AND($F1572=\"PY\",N$1<>\"Prior Year\"),AND($F1572<>\"PY\",N$1=\"Prior Year\")),0,INDEX(INDIRECT(\"'Dental Rev-Exp \"&$H1572&\"'!$A$1:$CA$200\"),IF($J1572=\"Member Months\",MATCH($J1572,INDIRECT(\"'Dental Rev-Exp \"&$H1572&\"'!$A$1:$A$200\"),0),MATCH($L1572,INDIRECT(\"'Dental Rev-Exp \"&$H1572&\"'!$B$1:$B$200\"),0)),IF($F1572=\"PY\",MATCH(\"Prior Year Adjustments\",INDIRECT(\"'Dental Rev-Exp \"&$H1572&\"'!$A$8:$CA$8\"),0),MATCH(IF($F1572=\"Q1\",\"JANUARY - MARCH (Q1)\",IF($F1572=\"Q2\",\"APRIL - JUNE (Q2)\",IF($F1572=\"Q3\",\"JULY - SEPTEMBER (Q3)\",IF($F1572=\"Q4\",\"OCTOBER - DECEMBER (Q4)\",0)))),INDIRECT(\"'Dental Rev-Exp \"&$H1572&\"'!$A$7:$CA$7\"),0)+MATCH(N$1,INDIRECT(\"'Dental Rev-Exp \"&$H1572&\"'!$D$8:$CA$8\"),0)-1)))","v":{"v":0,"d":"$0.00"}},{"v":0,"d":"$0.00"},{"v":0,"d":"$0.00"},{"v":0,"d":"$0.00"},{"v":0,"d":"$0.00"},{"v":0,"d":"$0.00"},"ASR-Dental_Financial_Report_SMMC_03.21.23","2023-03-21","Unaudited"]
["Dental","DEF","Default",1900,"1900-01-01","Q4","1900-12-31","Region 8","Operating Expense","Administrative Expense","Administrative","4.1","Salaries & Benefits",{"v":0,"d":"$0.00"},{"v":0,"d":"$0.00"},{"v":0,"d":"$0.00"},{"v":0,"d":"$0.00"},{"v":0,"d":"$0.00"},{"v":0,"d":"$0.00"},"ASR-Dental_Financial_Report_SMMC_03.21.23","2023-03-21","Unaudited"]
["Dental","DEF","Default",1900,"1900-01-01","Q4","1900-12-31","Region 8","Operating Expense","Administrative Expense","Administrative","4.2","Administrative Services",{"v":0,"d":"$0.00"},{"v":0,"d":"$0.00"},{"v":0,"d":"$0.00"},{"v":0,"d":"$0.00"},{"v":0,"d":"$0.00"},{"v":0,"d":"$0.00"},"ASR-Dental_Financial_Report_SMMC_03.21.23","2023-03-21","Unaudited"]
["Dental","DEF","Default",1900,"1900-01-01","Q4","1900-12-31","Region 8","Operating Expense","Administrative Expense","Administrative","4.3","Information Systems",{"v":0,"d":"$0.00"},{"v":0,"d":"$0.00"},{"v":0,"d":"$0.00"},{"v":0,"d":"$0.00"},{"v":0,"d":"$0.00"},{"v":0,"d":"$0.00"},"ASR-Dental_Financial_Report_SMMC_03.21.23","2023-03-21","Unaudited"]
["Dental","DEF","Default",1900,"1900-01-01","Q4","1900-12-31","Region 8","Operating Expense","Administrative Expense","Administrative","4.4","Marketing Expenses",{"v":0,"d":"$0.00"},{"v":0,"d":"$0.00"},{"v":0,"d":"$0.00"},{"v":0,"d":"$0.00"},{"v":0,"d":"$0.00"},{"v":0,"d":"$0.00"},"ASR-Dental_Financial_Report_SMMC_03.21.23","2023-03-21","Unaudited"]
["Dental","DEF","Default",1900,"1900-01-01","Q4","1900-12-31","Region 8","Operating Expense","Administrative Expense","Administrative","4.5","General  Administration",{"v":0,"d":"$0.00"},{"v":0,"d":"$0.00"},{"v":0,"d":"$0.00"},{"v":0,"d":"$0.00"},{"v":0,"d":"$0.00"},{"v":0,"d":"$0.00"},"ASR-Dental_Financial_Report_SMMC_03.21.23","2023-03-21","Unaudited"]
["Dental","DEF","Default",1900,"1900-01-01","Q4","1900-12-31","Region 8","Operating Expense","Administrative Expense","Administrative","4.6","Compliance/Regulatory",{"v":0,"d":"$0.00"},{"v":0,"d":"$0.00"},{"v":0,"d":"$0.00"},{"v":0,"d":"$0.00"},{"v":0,"d":"$0.00"},{"v":0,"d":"$0.00"},"ASR-Dental_Financial_Report_SMMC_03.21.23","2023-03-21","Unaudited"]
["Dental","DEF","Default",1900,"1900-01-01","Q4","1900-12-31","Region 8","Operating Expense","Taxes & Fees","Taxes & Fees","5.1","State Premium tax",{"v":0,"d":"$0.00"},{"v":0,"d":"$0.00"},{"v":0,"d":"$0.00"},{"v":0,"d":"$0.00"},{"v":0,"d":"$0.00"},{"v":0,"d":"$0.00"},"ASR-Dental_Financial_Report_SMMC_03.21.23","2023-03-21","Unaudited"]
["Dental","DEF","Default",1900,"1900-01-01","Q4","1900-12-31","Region 8","Operating Expense","Taxes & Fees","Taxes & Fees","5.2","Department of Insurance Assessments",{"v":0,"d":"$0.00"},{"v":0,"d":"$0.00"},{"v":0,"d":"$0.00"},{"v":0,"d":"$0.00"},{"v":0,"d":"$0.00"},{"v":0,"d":"$0.00"},"ASR-Dental_Financial_Report_SMMC_03.21.23","2023-03-21","Unaudited"]
["Dental","DEF","Default",1900,"1900-01-01","Q4","1900-12-31","Region 8","Operating Expense","Taxes & Fees","Taxes & Fees","5.3","Section 9010 Health Insurance Providers Fee",{"v":0,"d":"$0.00"},{"v":0,"d":"$0.00"},{"v":0,"d":"$0.00"},{"v":0,"d":"$0.00"},{"v":0,"d":"$0.00"},{"v":0,"d":"$0.00"},"ASR-Dental_Financial_Report_SMMC_03.21.23","2023-03-21","Unaudited"]
["Dental","DEF","Default",1900,"1900-01-01","Q4","1900-12-31","Region 8","Operating Expense","Taxes & Fees","Taxes & Fees","5.4","Other 1",{"$f":"IF(OR(AND($F1582=\"PY\",N$1<>\"Prior Year\"),AND($F1582<>\"PY\",N$1=\"Prior Year\")),0,INDEX(INDIRECT(\"'Dental Rev-Exp \"&$H1582&\"'!$A$1:$CA$200\"),IF($J1582=\"Member Months\",MATCH($J1582,INDIRECT(\"'Dental Rev-Exp \"&$H1582&\"'!$A$1:$A$200\"),0),MATCH($L1582,INDIRECT(\"'Dental Rev-Exp \"&$H1582&\"'!$B$1:$B$200\"),0)),IF($F1582=\"PY\",MATCH(\"Prior Year Adjustments\",INDIRECT(\"'Dental Rev-Exp \"&$H1582&\"'!$A$8:$CA$8\"),0),MATCH(IF($F1582=\"Q1\",\"JANUARY - MARCH (Q1)\",IF($F1582=\"Q2\",\"APRIL - JUNE (Q2)\",IF($F1582=\"Q3\",\"JULY - SEPTEMBER (Q3)\",IF($F1582=\"Q4\",\"OCTOBER - DECEMBER (Q4)\",0)))),INDIRECT(\"'Dental Rev-Exp \"&$H1582&\"'!$A$7:$CA$7\"),0)+MATCH(N$1,INDIRECT(\"'Dental Rev-Exp \"&$H1582&\"'!$D$8:$CA$8\"),0)-1)))","v":{"v":0,"d":"$0.00"}},{"v":0,"d":"$0.00"},{"v":0,"d":"$0.00"},{"v":0,"d":"$0.00"},{"v":0,"d":"$0.00"},{"v":0,"d":"$0.00"},"ASR-Dental_Financial_Report_SMMC_03.21.23","2023-03-21","Unaudited"]
["Dental","DEF","Default",1900,"1900-01-01","Q4","1900-12-31","Region 8","Operating Expense","Taxes & Fees","Taxes & Fees","5.5","Other 2",{"v":0,"d":"$0.00"},{"v":0,"d":"$0.00"},{"v":0,"d":"$0.00"},{"v":0,"d":"$0.00"},{"v":0,"d":"$0.00"},{"v":0,"d":"$0.00"},"ASR-Dental_Financial_Report_SMMC_03.21.23","2023-03-21","Unaudited"]
["Dental","DEF","Default",1900,"1900-01-01","Q4","1900-12-31","Region 8","Operating Expense","Taxes & Fees","Taxes & Fees","5.6","Other 3",{"v":0,"d":"$0.00"},{"v":0,"d":"$0.00"},{"v":0,"d":"$0.00"},{"v":0,"d":"$0.00"},{"v":0,"d":"$0.00"},{"v":0,"d":"$0.00"},"ASR-Dental_Financial_Report_SMMC_03.21.23","2023-03-21","Unaudited"]
["Dental","DEF","Default",1900,"1900-01-01","Q4","1900-12-31","Region 8","Non-Operating Expense","Income Tax Expense","Income Tax Expense","8.0","Income Tax Expense",{"v":0,"d":"$0.00"},{"v":0,"d":"$0.00"},{"v":0,"d":"$0.00"},{"v":0,"d":"$0.00"},{"v":0,"d":"$0.00"},{"v":0,"d":"$0.00"},"ASR-Dental_Financial_Report_SMMC_03.21.23","2023-03-21","Unaudited"]
["Dental","DEF","Default",1900,"1900-01-01","PY","1/1/1800","Region 8","Member Months","Member Months","Member Months",null,"Member Months",{"v":0,"d":"$0.00"},{"v":0,"d":"$0.00"},{"v":0,"d":"$0.00"},{"v":0,"d":"$0.00"},{"v":0,"d":"$0.00"},{"v":0,"d":"$0.00"},"ASR-Dental_Financial_Report_SMMC_03.21.23","2023-03-21","Unaudited"]
["Dental","DEF","Default",1900,"1900-01-01","PY","1/1/1800","Region 8","Operating Revenue","Capitation","Capitation","1.1","Capitation",{"v":0,"d":"$0.00"},{"v":0,"d":"$0.00"},{"v":0,"d":"$0.00"},{"v":0,"d":"$0.00"},{"v":0,"d":"$0.00"},{"v":0,"d":"$0.00"},"ASR-Dental_Financial_Report_SMMC_03.21.23","2023-03-21","Unaudited"]
["Dental","DEF","Default",1900,"1900-01-01","PY","1/1/1800","Region 8","Operating Revenue","Other Revenue","Other Revenue - 9010","1.2","ACA § 9010 related payments",{"v":0,"d":"$0.00"},{"v":0,"d":"$0.00"},{"v":0,"d":"$0.00"},{"v":0,"d":"$0.00"},{"v":0,"d":"$0.00"},{"v":0,"d":"$0.00"},"ASR-Dental_Financial_Report_SMMC_03.21.23","2023-03-21","Unaudited"]
["Dental","DEF","Default",1900,"1900-01-01","PY","1/1/1800","Region 8","Operating Revenue","Other Revenue","Other Revenue","1.3","Other Revenue",{"v":0,"d":"$0.00"},{"v":0,"d":"$0.00"},{"v":0,"d":"$0.00"},{"v":0,"d":"$0.00"},{"v":0,"d":"$0.00"},{"v":0,"d":"$0.00"},"ASR-Dental_Financial_Report_SMMC_03.21.23","2023-03-21","Unaudited"]
["Dental","DEF","Default",1900,"1900-01-01","PY","1/1/1800","Region 8","Operating Expense","Medical Expense","Dental Services","2.1","Dental Services Diagnostic",{"v":0,"d":"$0.00"},{"v":0,"d":"$0.00"},{"v":0,"d":"$0.00"},{"v":0,"d":"$0.00"},{"v":0,"d":"$0.00"},{"v":0,"d":"$0.00"},"ASR-Dental_Financial_Report_SMMC_03.21.23","2023-03-21","Unaudited"]
["Dental","DEF","Default",1900,"1900-01-01","PY","1/1/1800","Region 8","Operating Expense","Medical Expense","Dental Services",2.2,"Dental Services Preventive",{"v":0,"d":"$0.00"},{"v":0,"d":"$0.00"},{"v":0,"d":"$0.00"},{"v":0,"d":"$0.00"},{"v":0,"d":"$0.00"},{"v":0,"d":"$0.00"},"ASR-Dental_Financial_Report_SMMC_03.21.23","2023-03-21","Unaudited"]
["Dental","DEF","Default",1900,"1900-01-01","PY","1/1/1800","Region 8","Operating Expense","Medical Expense","Dental Services","2.3","Dental Services Restorative",{"$f":"IF(OR(AND($F1592=\"PY\",N$1<>\"Prior Year\"),AND($F1592<>\"PY\",N$1=\"Prior Year\")),0,INDEX(INDIRECT(\"'Dental Rev-Exp \"&$H1592&\"'!$A$1:$CA$200\"),IF($J1592=\"Member Months\",MATCH($J1592,INDIRECT(\"'Dental Rev-Exp \"&$H1592&\"'!$A$1:$A$200\"),0),MATCH($L1592,INDIRECT(\"'Dental Rev-Exp \"&$H1592&\"'!$B$1:$B$200\"),0)),IF($F1592=\"PY\",MATCH(\"Prior Year Adjustments\",INDIRECT(\"'Dental Rev-Exp \"&$H1592&\"'!$A$8:$CA$8\"),0),MATCH(IF($F1592=\"Q1\",\"JANUARY - MARCH (Q1)\",IF($F1592=\"Q2\",\"APRIL - JUNE (Q2)\",IF($F1592=\"Q3\",\"JULY - SEPTEMBER (Q3)\",IF($F1592=\"Q4\",\"OCTOBER - DECEMBER (Q4)\",0)))),INDIRECT(\"'Dental Rev-Exp \"&$H1592&\"'!$A$7:$CA$7\"),0)+MATCH(N$1,INDIRECT(\"'Dental Rev-Exp \"&$H1592&\"'!$D$8:$CA$8\"),0)-1)))","v":{"v":0,"d":"$0.00"}},{"v":0,"d":"$0.00"},{"v":0,"d":"$0.00"},{"v":0,"d":"$0.00"},{"v":0,"d":"$0.00"},{"v":0,"d":"$0.00"},"ASR-Dental_Financial_Report_SMMC_03.21.23","2023-03-21","Unaudited"]
["Dental","DEF","Default",1900,"1900-01-01","PY","1/1/1800","Region 8","Operating Expense","Medical Expense","Dental Services","2.4","Dental Services Endodontics",{"v":0,"d":"$0.00"},{"v":0,"d":"$0.00"},{"v":0,"d":"$0.00"},{"v":0,"d":"$0.00"},{"v":0,"d":"$0.00"},{"v":0,"d":"$0.00"},"ASR-Dental_Financial_Report_SMMC_03.21.23","2023-03-21","Unaudited"]
["Dental","DEF","Default",1900,"1900-01-01","PY","1/1/1800","Region 8","Operating Expense","Medical Expense","Dental Services","2.5","Dental Services Periodontics",{"v":0,"d":"$0.00"},{"v":0,"d":"$0.00"},{"v":0,"d":"$0.00"},{"v":0,"d":"$0.00"},{"v":0,"d":"$0.00"},{"v":0,"d":"$0.00"},"ASR-Dental_Financial_Report_SMMC_03.21.23","2023-03-21","Unaudited"]
["Dental","DEF","Default",1900,"1900-01-01","PY","1/1/1800","Region 8","Operating Expense","Medical Expense","Dental Services","2.6","Dental Services Prosthodontics",{"v":0,"d":"$0.00"},{"v":0,"d":"$0.00"},{"v":0,"d":"$0.00"},{"v":0,"d":"$0.00"},{"v":0,"d":"$0.00"},{"v":0,"d":"$0.00"},"ASR-Dental_Financial_Report_SMMC_03.21.23","2023-03-21","Unaudited"]
["Dental","DEF","Default",1900,"1900-01-01","PY","1/1/1800","Region 8","Operating Expense","Medical Expense","Dental Services","2.7","Dental Services Prosthodontics, fixed",{"v":0,"d":"$0.00"},{"v":0,"d":"$0.00"},{"v":0,"d":"$0.00"},{"v":0,"d":"$0.00"},{"v":0,"d":"$0.00"},{"v":0,"d":"$0.00"},"ASR-Dental_Financial_Report_SMMC_03.21.23","2023-03-21","Unaudited"]
["Dental","DEF","Default",1900,"1900-01-01","PY","1/1/1800","Region 8","Operating Expense","Medical Expense","Dental Services","2.8","Dental Services Oral and Maxillofacial Surgery",{"v":0,"d":"$0.00"},{"v":0,"d":"$0.00"},{"v":0,"d":"$0.00"},{"v":0,"d":"$0.00"},{"v":0,"d":"$0.00"},{"v":0,"d":"$0.00"},"ASR-Dental_Financial_Report_SMMC_03.21.23","2023-03-21","Unaudited"]
["Dental","DEF","Default",1900,"1900-01-01","PY","1/1/1800","Region 8","Operating Expense","Medical Expense","Dental Services","2.9","Dental Services Orthodontics",{"v":0,"d":"$0.00"},{"v":0,"d":"$0.00"},{"v":0,"d":"$0.00"},{"v":0,"d":"$0.00"},{"v":0,"d":"$0.00"},{"v":0,"d":"$0.00"},"ASR-Dental_Financial_Report_SMMC_03.21.23","2023-03-21","Unaudited"]
["Dental","DEF","Default",1900,"1900-01-01","PY","1/1/1800","Region 8","Operating Expense","Medical Expense","Dental Services","2.10","Dental Services Adjunctive General Services",{"v":0,"d":"$0.00"},{"v":0,"d":"$0.00"},{"v":0,"d":"$0.00"},{"v":0,"d":"$0.00"},{"v":0,"d":"$0.00"},{"v":0,"d":"$0.00"},"ASR-Dental_Financial_Report_SMMC_03.21.23","2023-03-21","Unaudited"]
["Dental","DEF","Default",1900,"1900-01-01","PY","1/1/1800","Region 8","Operating Expense","Medical Expense","Dental Services","2.11","Dental Services Other",{"v":0,"d":"$0.00"},{"v":0,"d":"$0.00"},{"v":0,"d":"$0.00"},{"v":0,"d":"$0.00"},{"v":0,"d":"$0.00"},{"v":0,"d":"$0.00"},"ASR-Dental_Financial_Report_SMMC_03.21.23","2023-03-21","Unaudited"]
["Dental","DEF","Default",1900,"1900-01-01","PY","1/1/1800","Region 8","Operating Expense","Medical Expense","Expanded Benefits","2.12","Dental Expanded Benefits",{"v":0,"d":"$0.00"},{"v":0,"d":"$0.00"},{"v":0,"d":"$0.00"},{"v":0,"d":"$0.00"},{"v":0,"d":"$0.00"},{"v":0,"d":"$0.00"},"ASR-Dental_Financial_Report_SMMC_03.21.23","2023-03-21","Unaudited"]
["Dental","DEF","Default",1900,"1900-01-01","PY","1/1/1800","Region 8","Operating Expense","Medical Expense","Dental Services","2.13","Dental Services Paid through Subcapitation",{"$f":"IF(OR(AND($F1602=\"PY\",N$1<>\"Prior Year\"),AND($F1602<>\"PY\",N$1=\"Prior Year\")),0,INDEX(INDIRECT(\"'Dental Rev-Exp \"&$H1602&\"'!$A$1:$CA$200\"),IF($J1602=\"Member Months\",MATCH($J1602,INDIRECT(\"'Dental Rev-Exp \"&$H1602&\"'!$A$1:$A$200\"),0),MATCH($L1602,INDIRECT(\"'Dental Rev-Exp \"&$H1602&\"'!$B$1:$B$200\"),0)),IF($F1602=\"PY\",MATCH(\"Prior Year Adjustments\",INDIRECT(\"'Dental Rev-Exp \"&$H1602&\"'!$A$8:$CA$8\"),0),MATCH(IF($F1602=\"Q1\",\"JANUARY - MARCH (Q1)\",IF($F1602=\"Q2\",\"APRIL - JUNE (Q2)\",IF($F1602=\"Q3\",\"JULY - SEPTEMBER (Q3)\",IF($F1602=\"Q4\",\"OCTOBER - DECEMBER (Q4)\",0)))),INDIRECT(\"'Dental Rev-Exp \"&$H1602&\"'!$A$7:$CA$7\"),0)+MATCH(N$1,INDIRECT(\"'Dental Rev-Exp \"&$H1602&\"'!$D$8:$CA$8\"),0)-1)))","v":{"v":0,"d":"$0.00"}},{"v":0,"d":"$0.00"},{"v":0,"d":"$0.00"},{"v":0,"d":"$0.00"},{"v":0,"d":"$0.00"},{"v":0,"d":"$0.00"},{"$f":"file_name","v":"ASR-Dental_Financial_Report_SMMC_03.21.23"},{"$f":"file_date","v":"2023-03-21"},{"$f":"status","v":"Unaudited"}]
["Dental","DEF","Default",1900,"1900-01-01","PY","1/1/1800","Region 8","Operating Expense","Medical Expense","Dental Services","2.14","Ending IBNP for Dental Services",{"v":0,"d":"$0.00"},{"v":0,"d":"$0.00"},{"v":0,"d":"$0.00"},{"v":0,"d":"$0.00"},{"v":0,"d":"$0.00"},{"v":0,"d":"$0.00"},"ASR-Dental_Financial_Report_SMMC_03.21.23","2023-03-21","Unaudited"]
["Dental","DEF","Default",1900,"1900-01-01","PY","1/1/1800","Region 8","Operating Expense","Medical Expense","Dental Services","2.15","Dental Settlements/AP",{"v":0,"d":"$0.00"},{"v":0,"d":"$0.00"},{"v":0,"d":"$0.00"},{"v":0,"d":"$0.00"},{"v":0,"d":"$0.00"},{"v":0,"d":"$0.00"},"ASR-Dental_Financial_Report_SMMC_03.21.23","2023-03-21","Unaudited"]
["Dental","DEF","Default",1900,"1900-01-01","PY","1/1/1800","Region 8","Operating Expense","Medical Expense","Other Medical","3.5","TPL & Fraud/Abuse Recoveries",{"v":0,"d":"$0.00"},{"v":0,"d":"$0.00"},{"v":0,"d":"$0.00"},{"v":0,"d":"$0.00"},{"v":0,"d":"$0.00"},{"v":0,"d":"$0.00"},"ASR-Dental_Financial_Report_SMMC_03.21.23","2023-03-21","Unaudited"]
["Dental","DEF","Default",1900,"1900-01-01","PY","1/1/1800","Region 8","Operating Expense","Medical Expense","Other Medical",3.6,"Premium Deficiency Reserve",{"v":0,"d":"$0.00"},{"v":0,"d":"$0.00"},{"v":0,"d":"$0.00"},{"v":0,"d":"$0.00"},{"v":0,"d":"$0.00"},{"v":0,"d":"$0.00"},"ASR-Dental_Financial_Report_SMMC_03.21.23","2023-03-21","Unaudited"]
["Dental","DEF","Default",1900,"1900-01-01","PY","1/1/1800","Region 8","Operating Expense","Medical Expense","Other Medical","3.8","Reinsurance Premiums",{"v":0,"d":"$0.00"},{"v":0,"d":"$0.00"},{"v":0,"d":"$0.00"},{"v":0,"d":"$0.00"},{"v":0,"d":"$0.00"},{"v":0,"d":"$0.00"},"ASR-Dental_Financial_Report_SMMC_03.21.23","2023-03-21","Unaudited"]
["Dental","DEF","Default",1900,"1900-01-01","PY","1/1/1800","Region 8","Operating Expense","Medical Expense","Other Medical","3.9","Reinsurance Recoveries",{"v":0,"d":"$0.00"},{"v":0,"d":"$0.00"},{"v":0,"d":"$0.00"},{"v":0,"d":"$0.00"},{"v":0,"d":"$0.00"},{"v":0,"d":"$0.00"},"ASR-Dental_Financial_Report_SMMC_03.21.23","2023-03-21","Unaudited"]
["Dental","DEF","Default",1900,"1900-01-01","PY","1/1/1800","Region 8","Operating Expense","Administrative Expense","Administrative","4.1","Salaries & Benefits",{"v":0,"d":"$0.00"},{"v":0,"d":"$0.00"},{"v":0,"d":"$0.00"},{"v":0,"d":"$0.00"},{"v":0,"d":"$0.00"},{"v":0,"d":"$0.00"},"ASR-Dental_Financial_Report_SMMC_03.21.23","2023-03-21","Unaudited"]
["Dental","DEF","Default",1900,"1900-01-01","PY","1/1/1800","Region 8","Operating Expense","Administrative Expense","Administrative","4.2","Administrative Services",{"v":0,"d":"$0.00"},{"v":0,"d":"$0.00"},{"v":0,"d":"$0.00"},{"v":0,"d":"$0.00"},{"v":0,"d":"$0.00"},{"v":0,"d":"$0.00"},"ASR-Dental_Financial_Report_SMMC_03.21.23","2023-03-21","Unaudited"]
["Dental","DEF","Default",1900,"1900-01-01","PY","1/1/1800","Region 8","Operating Expense","Administrative Expense","Administrative","4.3","Information Systems",{"v":0,"d":"$0.00"},{"v":0,"d":"$0.00"},{"v":0,"d":"$0.00"},{"v":0,"d":"$0.00"},{"v":0,"d":"$0.00"},{"v":0,"d":"$0.00"},"ASR-Dental_Financial_Report_SMMC_03.21.23","2023-03-21","Unaudited"]
["Dental","DEF","Default",1900,"1900-01-01","PY","1/1/1800","Region 8","Operating Expense","Administrative Expense","Administrative","4.4","Marketing Expenses",{"$f":"IF(OR(AND($F1612=\"PY\",N$1<>\"Prior Year\"),AND($F1612<>\"PY\",N$1=\"Prior Year\")),0,INDEX(INDIRECT(\"'Dental Rev-Exp \"&$H1612&\"'!$A$1:$CA$200\"),IF($J1612=\"Member Months\",MATCH($J1612,INDIRECT(\"'Dental Rev-Exp \"&$H1612&\"'!$A$1:$A$200\"),0),MATCH($L1612,INDIRECT(\"'Dental Rev-Exp \"&$H1612&\"'!$B$1:$B$200\"),0)),IF($F1612=\"PY\",MATCH(\"Prior Year Adjustments\",INDIRECT(\"'Dental Rev-Exp \"&$H1612&\"'!$A$8:$CA$8\"),0),MATCH(IF($F1612=\"Q1\",\"JANUARY - MARCH (Q1)\",IF($F1612=\"Q2\",\"APRIL - JUNE (Q2)\",IF($F1612=\"Q3\",\"JULY - SEPTEMBER (Q3)\",IF($F1612=\"Q4\",\"OCTOBER - DECEMBER (Q4)\",0)))),INDIRECT(\"'Dental Rev-Exp \"&$H1612&\"'!$A$7:$CA$7\"),0)+MATCH(N$1,INDIRECT(\"'Dental Rev-Exp \"&$H1612&\"'!$D$8:$CA$8\"),0)-1)))","v":{"v":0,"d":"$0.00"}},{"v":0,"d":"$0.00"},{"v":0,"d":"$0.00"},{"v":0,"d":"$0.00"},{"v":0,"d":"$0.00"},{"v":0,"d":"$0.00"},"ASR-Dental_Financial_Report_SMMC_03.21.23","2023-03-21","Unaudited"]
["Dental","DEF","Default",1900,"1900-01-01","PY","1/1/1800","Region 8","Operating Expense","Administrative Expense","Administrative","4.5","General  Administration",{"v":0,"d":"$0.00"},{"v":0,"d":"$0.00"},{"v":0,"d":"$0.00"},{"v":0,"d":"$0.00"},{"v":0,"d":"$0.00"},{"v":0,"d":"$0.00"},"ASR-Dental_Financial_Report_SMMC_03.21.23","2023-03-21","Unaudited"]
["Dental","DEF","Default",1900,"1900-01-01","PY","1/1/1800","Region 8","Operating Expense","Administrative Expense","Administrative","4.6","Compliance/Regulatory",{"v":0,"d":"$0.00"},{"v":0,"d":"$0.00"},{"v":0,"d":"$0.00"},{"v":0,"d":"$0.00"},{"v":0,"d":"$0.00"},{"v":0,"d":"$0.00"},"ASR-Dental_Financial_Report_SMMC_03.21.23","2023-03-21","Unaudited"]
["Dental","DEF","Default",1900,"1900-01-01","PY","1/1/1800","Region 8","Operating Expense","Taxes & Fees","Taxes & Fees","5.1","State Premium tax",{"v":0,"d":"$0.00"},{"v":0,"d":"$0.00"},{"v":0,"d":"$0.00"},{"v":0,"d":"$0.00"},{"v":0,"d":"$0.00"},{"v":0,"d":"$0.00"},"ASR-Dental_Financial_Report_SMMC_03.21.23","2023-03-21","Unaudited"]
["Dental","DEF","Default",1900,"1900-01-01","PY","1/1/1800","Region 8","Operating Expense","Taxes & Fees","Taxes & Fees","5.2","Department of Insurance Assessments",{"v":0,"d":"$0.00"},{"v":0,"d":"$0.00"},{"v":0,"d":"$0.00"},{"v":0,"d":"$0.00"},{"v":0,"d":"$0.00"},{"v":0,"d":"$0.00"},"ASR-Dental_Financial_Report_SMMC_03.21.23","2023-03-21","Unaudited"]
["Dental","DEF","Default",1900,"1900-01-01","PY","1/1/1800","Region 8","Operating Expense","Taxes & Fees","Taxes & Fees","5.3","Section 9010 Health Insurance Providers Fee",{"v":0,"d":"$0.00"},{"v":0,"d":"$0.00"},{"v":0,"d":"$0.00"},{"v":0,"d":"$0.00"},{"v":0,"d":"$0.00"},{"v":0,"d":"$0.00"},"ASR-Dental_Financial_Report_SMMC_03.21.23","2023-03-21","Unaudited"]
["Dental","DEF","Default",1900,"1900-01-01","PY","1/1/1800","Region 8","Operating Expense","Taxes & Fees","Taxes & Fees","5.4","Other 1",{"v":0,"d":"$0.00"},{"v":0,"d":"$0.00"},{"v":0,"d":"$0.00"},{"v":0,"d":"$0.00"},{"v":0,"d":"$0.00"},{"v":0,"d":"$0.00"},"ASR-Dental_Financial_Report_SMMC_03.21.23","2023-03-21","Unaudited"]
["Dental","DEF","Default",1900,"1900-01-01","PY","1/1/1800","Region 8","Operating Expense","Taxes & Fees","Taxes & Fees","5.5","Other 2",{"v":0,"d":"$0.00"},{"v":0,"d":"$0.00"},{"v":0,"d":"$0.00"},{"v":0,"d":"$0.00"},{"v":0,"d":"$0.00"},{"v":0,"d":"$0.00"},"ASR-Dental_Financial_Report_SMMC_03.21.23","2023-03-21","Unaudited"]
["Dental","DEF","Default",1900,"1900-01-01","PY","1/1/1800","Region 8","Operating Expense","Taxes & Fees","Taxes & Fees","5.6","Other 3",{"v":0,"d":"$0.00"},{"v":0,"d":"$0.00"},{"v":0,"d":"$0.00"},{"v":0,"d":"$0.00"},{"v":0,"d":"$0.00"},{"v":0,"d":"$0.00"},"ASR-Dental_Financial_Report_SMMC_03.21.23","2023-03-21","Unaudited"]
["Dental","DEF","Default",1900,"1900-01-01","PY","1/1/1800","Region 8","Non-Operating Expense","Income Tax Expense","Income Tax Expense","8.0","Income Tax Expense",{"v":0,"d":"$0.00"},{"v":0,"d":"$0.00"},{"v":0,"d":"$0.00"},{"v":0,"d":"$0.00"},{"v":0,"d":"$0.00"},{"v":0,"d":"$0.00"},"ASR-Dental_Financial_Report_SMMC_03.21.23","2023-03-21","Unaudited"]
["Dental","DEF","Default",1900,"1900-01-01","Q1","1900-03-31","Region 9","Member Months","Member Months","Member Months",null,"Member Months",{"$f":"IF(OR(AND($F1622=\"PY\",N$1<>\"Prior Year\"),AND($F1622<>\"PY\",N$1=\"Prior Year\")),0,INDEX(INDIRECT(\"'Dental Rev-Exp \"&$H1622&\"'!$A$1:$CA$200\"),IF($J1622=\"Member Months\",MATCH($J1622,INDIRECT(\"'Dental Rev-Exp \"&$H1622&\"'!$A$1:$A$200\"),0),MATCH($L1622,INDIRECT(\"'Dental Rev-Exp \"&$H1622&\"'!$B$1:$B$200\"),0)),IF($F1622=\"PY\",MATCH(\"Prior Year Adjustments\",INDIRECT(\"'Dental Rev-Exp \"&$H1622&\"'!$A$8:$CA$8\"),0),MATCH(IF($F1622=\"Q1\",\"JANUARY - MARCH (Q1)\",IF($F1622=\"Q2\",\"APRIL - JUNE (Q2)\",IF($F1622=\"Q3\",\"JULY - SEPTEMBER (Q3)\",IF($F1622=\"Q4\",\"OCTOBER - DECEMBER (Q4)\",0)))),INDIRECT(\"'Dental Rev-Exp \"&$H1622&\"'!$A$7:$CA$7\"),0)+MATCH(N$1,INDIRECT(\"'Dental Rev-Exp \"&$H1622&\"'!$D$8:$CA$8\"),0)-1)))","v":{"v":0,"d":"$0.00"}},{"v":0,"d":"$0.00"},{"v":0,"d":"$0.00"},{"v":0,"d":"$0.00"},{"v":0,"d":"$0.00"},{"v":0,"d":"$0.00"},"ASR-Dental_Financial_Report_SMMC_03.21.23","2023-03-21","Unaudited"]
["Dental","DEF","Default",1900,"1900-01-01","Q1","1900-03-31","Region 9","Operating Revenue","Capitation","Capitation","1.1","Capitation",{"v":0,"d":"$0.00"},{"v":0,"d":"$0.00"},{"v":0,"d":"$0.00"},{"v":0,"d":"$0.00"},{"v":0,"d":"$0.00"},{"v":0,"d":"$0.00"},"ASR-Dental_Financial_Report_SMMC_03.21.23","2023-03-21","Unaudited"]
["Dental","DEF","Default",1900,"1900-01-01","Q1","1900-03-31","Region 9","Operating Revenue","Other Revenue","Other Revenue - 9010","1.2","ACA § 9010 related payments",{"v":0,"d":"$0.00"},{"v":0,"d":"$0.00"},{"v":0,"d":"$0.00"},{"v":0,"d":"$0.00"},{"v":0,"d":"$0.00"},{"v":0,"d":"$0.00"},"ASR-Dental_Financial_Report_SMMC_03.21.23","2023-03-21","Unaudited"]
["Dental","DEF","Default",1900,"1900-01-01","Q1","1900-03-31","Region 9","Operating Revenue","Other Revenue","Other Revenue","1.3","Other Revenue",{"v":0,"d":"$0.00"},{"v":0,"d":"$0.00"},{"v":0,"d":"$0.00"},{"v":0,"d":"$0.00"},{"v":0,"d":"$0.00"},{"v":0,"d":"$0.00"},"ASR-Dental_Financial_Report_SMMC_03.21.23","2023-03-21","Unaudited"]
["Dental","DEF","Default",1900,"1900-01-01","Q1","1900-03-31","Region 9","Operating Expense","Medical Expense","Dental Services","2.1","Dental Services Diagnostic",{"v":0,"d":"$0.00"},{"v":0,"d":"$0.00"},{"v":0,"d":"$0.00"},{"v":0,"d":"$0.00"},{"v":0,"d":"$0.00"},{"v":0,"d":"$0.00"},"ASR-Dental_Financial_Report_SMMC_03.21.23","2023-03-21","Unaudited"]
["Dental","DEF","Default",1900,"1900-01-01","Q1","1900-03-31","Region 9","Operating Expense","Medical Expense","Dental Services",2.2,"Dental Services Preventive",{"v":0,"d":"$0.00"},{"v":0,"d":"$0.00"},{"v":0,"d":"$0.00"},{"v":0,"d":"$0.00"},{"v":0,"d":"$0.00"},{"v":0,"d":"$0.00"},"ASR-Dental_Financial_Report_SMMC_03.21.23","2023-03-21","Unaudited"]
["Dental","DEF","Default",1900,"1900-01-01","Q1","1900-03-31","Region 9","Operating Expense","Medical Expense","Dental Services","2.3","Dental Services Restorative",{"v":0,"d":"$0.00"},{"v":0,"d":"$0.00"},{"v":0,"d":"$0.00"},{"v":0,"d":"$0.00"},{"v":0,"d":"$0.00"},{"v":0,"d":"$0.00"},"ASR-Dental_Financial_Report_SMMC_03.21.23","2023-03-21","Unaudited"]
["Dental","DEF","Default",1900,"1900-01-01","Q1","1900-03-31","Region 9","Operating Expense","Medical Expense","Dental Services","2.4","Dental Services Endodontics",{"v":0,"d":"$0.00"},{"v":0,"d":"$0.00"},{"v":0,"d":"$0.00"},{"v":0,"d":"$0.00"},{"v":0,"d":"$0.00"},{"v":0,"d":"$0.00"},"ASR-Dental_Financial_Report_SMMC_03.21.23","2023-03-21","Unaudited"]
["Dental","DEF","Default",1900,"1900-01-01","Q1","1900-03-31","Region 9","Operating Expense","Medical Expense","Dental Services","2.5","Dental Services Periodontics",{"v":0,"d":"$0.00"},{"v":0,"d":"$0.00"},{"v":0,"d":"$0.00"},{"v":0,"d":"$0.00"},{"v":0,"d":"$0.00"},{"v":0,"d":"$0.00"},"ASR-Dental_Financial_Report_SMMC_03.21.23","2023-03-21","Unaudited"]
["Dental","DEF","Default",1900,"1900-01-01","Q1","1900-03-31","Region 9","Operating Expense","Medical Expense","Dental Services","2.6","Dental Services Prosthodontics",{"v":0,"d":"$0.00"},{"v":0,"d":"$0.00"},{"v":0,"d":"$0.00"},{"v":0,"d":"$0.00"},{"v":0,"d":"$0.00"},{"v":0,"d":"$0.00"},"ASR-Dental_Financial_Report_SMMC_03.21.23","2023-03-21","Unaudited"]
["Dental","DEF","Default",1900,"1900-01-01","Q1","1900-03-31","Region 9","Operating Expense","Medical Expense","Dental Services","2.7","Dental Services Prosthodontics, fixed",{"$f":"IF(OR(AND($F1632=\"PY\",N$1<>\"Prior Year\"),AND($F1632<>\"PY\",N$1=\"Prior Year\")),0,INDEX(INDIRECT(\"'Dental Rev-Exp \"&$H1632&\"'!$A$1:$CA$200\"),IF($J1632=\"Member Months\",MATCH($J1632,INDIRECT(\"'Dental Rev-Exp \"&$H1632&\"'!$A$1:$A$200\"),0),MATCH($L1632,INDIRECT(\"'Dental Rev-Exp \"&$H1632&\"'!$B$1:$B$200\"),0)),IF($F1632=\"PY\",MATCH(\"Prior Year Adjustments\",INDIRECT(\"'Dental Rev-Exp \"&$H1632&\"'!$A$8:$CA$8\"),0),MATCH(IF($F1632=\"Q1\",\"JANUARY - MARCH (Q1)\",IF($F1632=\"Q2\",\"APRIL - JUNE (Q2)\",IF($F1632=\"Q3\",\"JULY - SEPTEMBER (Q3)\",IF($F1632=\"Q4\",\"OCTOBER - DECEMBER (Q4)\",0)))),INDIRECT(\"'Dental Rev-Exp \"&$H1632&\"'!$A$7:$CA$7\"),0)+MATCH(N$1,INDIRECT(\"'Dental Rev-Exp \"&$H1632&\"'!$D$8:$CA$8\"),0)-1)))","v":{"v":0,"d":"$0.00"}},{"v":0,"d":"$0.00"},{"v":0,"d":"$0.00"},{"v":0,"d":"$0.00"},{"v":0,"d":"$0.00"},{"v":0,"d":"$0.00"},"ASR-Dental_Financial_Report_SMMC_03.21.23","2023-03-21","Unaudited"]
["Dental","DEF","Default",1900,"1900-01-01","Q1","1900-03-31","Region 9","Operating Expense","Medical Expense","Dental Services","2.8","Dental Services Oral and Maxillofacial Surgery",{"v":0,"d":"$0.00"},{"v":0,"d":"$0.00"},{"v":0,"d":"$0.00"},{"v":0,"d":"$0.00"},{"v":0,"d":"$0.00"},{"v":0,"d":"$0.00"},"ASR-Dental_Financial_Report_SMMC_03.21.23","2023-03-21","Unaudited"]
["Dental","DEF","Default",1900,"1900-01-01","Q1","1900-03-31","Region 9","Operating Expense","Medical Expense","Dental Services","2.9","Dental Services Orthodontics",{"v":0,"d":"$0.00"},{"v":0,"d":"$0.00"},{"v":0,"d":"$0.00"},{"v":0,"d":"$0.00"},{"v":0,"d":"$0.00"},{"v":0,"d":"$0.00"},"ASR-Dental_Financial_Report_SMMC_03.21.23","2023-03-21","Unaudited"]
["Dental","DEF","Default",1900,"1900-01-01","Q1","1900-03-31","Region 9","Operating Expense","Medical Expense","Dental Services","2.10","Dental Services Adjunctive General Services",{"v":0,"d":"$0.00"},{"v":0,"d":"$0.00"},{"v":0,"d":"$0.00"},{"v":0,"d":"$0.00"},{"v":0,"d":"$0.00"},{"v":0,"d":"$0.00"},"ASR-Dental_Financial_Report_SMMC_03.21.23","2023-03-21","Unaudited"]
["Dental","DEF","Default",1900,"1900-01-01","Q1","1900-03-31","Region 9","Operating Expense","Medical Expense","Dental Services","2.11","Dental Services Other",{"v":0,"d":"$0.00"},{"v":0,"d":"$0.00"},{"v":0,"d":"$0.00"},{"v":0,"d":"$0.00"},{"v":0,"d":"$0.00"},{"v":0,"d":"$0.00"},"ASR-Dental_Financial_Report_SMMC_03.21.23","2023-03-21","Unaudited"]
["Dental","DEF","Default",1900,"1900-01-01","Q1","1900-03-31","Region 9","Operating Expense","Medical Expense","Expanded Benefits","2.12","Dental Expanded Benefits",{"v":0,"d":"$0.00"},{"v":0,"d":"$0.00"},{"v":0,"d":"$0.00"},{"v":0,"d":"$0.00"},{"v":0,"d":"$0.00"},{"v":0,"d":"$0.00"},"ASR-Dental_Financial_Report_SMMC_03.21.23","2023-03-21","Unaudited"]
["Dental","DEF","Default",1900,"1900-01-01","Q1","1900-03-31","Region 9","Operating Expense","Medical Expense","Dental Services","2.13","Dental Services Paid through Subcapitation",{"v":0,"d":"$0.00"},{"v":0,"d":"$0.00"},{"v":0,"d":"$0.00"},{"v":0,"d":"$0.00"},{"v":0,"d":"$0.00"},{"v":0,"d":"$0.00"},"ASR-Dental_Financial_Report_SMMC_03.21.23","2023-03-21","Unaudited"]
["Dental","DEF","Default",1900,"1900-01-01","Q1","1900-03-31","Region 9","Operating Expense","Medical Expense","Dental Services","2.14","Ending IBNP for Dental Services",{"v":0,"d":"$0.00"},{"v":0,"d":"$0.00"},{"v":0,"d":"$0.00"},{"v":0,"d":"$0.00"},{"v":0,"d":"$0.00"},{"v":0,"d":"$0.00"},"ASR-Dental_Financial_Report_SMMC_03.21.23","2023-03-21","Unaudited"]
["Dental","DEF","Default",1900,"1900-01-01","Q1","1900-03-31","Region 9","Operating Expense","Medical Expense","Dental Services","2.15","Dental Settlements/AP",{"v":0,"d":"$0.00"},{"v":0,"d":"$0.00"},{"v":0,"d":"$0.00"},{"v":0,"d":"$0.00"},{"v":0,"d":"$0.00"},{"v":0,"d":"$0.00"},"ASR-Dental_Financial_Report_SMMC_03.21.23","2023-03-21","Unaudited"]
["Dental","DEF","Default",1900,"1900-01-01","Q1","1900-03-31","Region 9","Operating Expense","Medical Expense","Other Medical","3.5","TPL & Fraud/Abuse Recoveries",{"v":0,"d":"$0.00"},{"v":0,"d":"$0.00"},{"v":0,"d":"$0.00"},{"v":0,"d":"$0.00"},{"v":0,"d":"$0.00"},{"v":0,"d":"$0.00"},"ASR-Dental_Financial_Report_SMMC_03.21.23","2023-03-21","Unaudited"]
["Dental","DEF","Default",1900,"1900-01-01","Q1","1900-03-31","Region 9","Operating Expense","Medical Expense","Other Medical",3.6,"Premium Deficiency Reserve",{"$f":"IF(OR(AND($F1642=\"PY\",N$1<>\"Prior Year\"),AND($F1642<>\"PY\",N$1=\"Prior Year\")),0,INDEX(INDIRECT(\"'Dental Rev-Exp \"&$H1642&\"'!$A$1:$CA$200\"),IF($J1642=\"Member Months\",MATCH($J1642,INDIRECT(\"'Dental Rev-Exp \"&$H1642&\"'!$A$1:$A$200\"),0),MATCH($L1642,INDIRECT(\"'Dental Rev-Exp \"&$H1642&\"'!$B$1:$B$200\"),0)),IF($F1642=\"PY\",MATCH(\"Prior Year Adjustments\",INDIRECT(\"'Dental Rev-Exp \"&$H1642&\"'!$A$8:$CA$8\"),0),MATCH(IF($F1642=\"Q1\",\"JANUARY - MARCH (Q1)\",IF($F1642=\"Q2\",\"APRIL - JUNE (Q2)\",IF($F1642=\"Q3\",\"JULY - SEPTEMBER (Q3)\",IF($F1642=\"Q4\",\"OCTOBER - DECEMBER (Q4)\",0)))),INDIRECT(\"'Dental Rev-Exp \"&$H1642&\"'!$A$7:$CA$7\"),0)+MATCH(N$1,INDIRECT(\"'Dental Rev-Exp \"&$H1642&\"'!$D$8:$CA$8\"),0)-1)))","v":{"v":0,"d":"$0.00"}},{"v":0,"d":"$0.00"},{"v":0,"d":"$0.00"},{"v":0,"d":"$0.00"},{"v":0,"d":"$0.00"},{"v":0,"d":"$0.00"},"ASR-Dental_Financial_Report_SMMC_03.21.23","2023-03-21","Unaudited"]
["Dental","DEF","Default",1900,"1900-01-01","Q1","1900-03-31","Region 9","Operating Expense","Medical Expense","Other Medical","3.8","Reinsurance Premiums",{"v":0,"d":"$0.00"},{"v":0,"d":"$0.00"},{"v":0,"d":"$0.00"},{"v":0,"d":"$0.00"},{"v":0,"d":"$0.00"},{"v":0,"d":"$0.00"},"ASR-Dental_Financial_Report_SMMC_03.21.23","2023-03-21","Unaudited"]
["Dental","DEF","Default",1900,"1900-01-01","Q1","1900-03-31","Region 9","Operating Expense","Medical Expense","Other Medical","3.9","Reinsurance Recoveries",{"v":0,"d":"$0.00"},{"v":0,"d":"$0.00"},{"v":0,"d":"$0.00"},{"v":0,"d":"$0.00"},{"v":0,"d":"$0.00"},{"v":0,"d":"$0.00"},"ASR-Dental_Financial_Report_SMMC_03.21.23","2023-03-21","Unaudited"]
["Dental","DEF","Default",1900,"1900-01-01","Q1","1900-03-31","Region 9","Operating Expense","Administrative Expense","Administrative","4.1","Salaries & Benefits",{"v":0,"d":"$0.00"},{"v":0,"d":"$0.00"},{"v":0,"d":"$0.00"},{"v":0,"d":"$0.00"},{"v":0,"d":"$0.00"},{"v":0,"d":"$0.00"},"ASR-Dental_Financial_Report_SMMC_03.21.23","2023-03-21","Unaudited"]
["Dental","DEF","Default",1900,"1900-01-01","Q1","1900-03-31","Region 9","Operating Expense","Administrative Expense","Administrative","4.2","Administrative Services",{"v":0,"d":"$0.00"},{"v":0,"d":"$0.00"},{"v":0,"d":"$0.00"},{"v":0,"d":"$0.00"},{"v":0,"d":"$0.00"},{"v":0,"d":"$0.00"},"ASR-Dental_Financial_Report_SMMC_03.21.23","2023-03-21","Unaudited"]
["Dental","DEF","Default",1900,"1900-01-01","Q1","1900-03-31","Region 9","Operating Expense","Administrative Expense","Administrative","4.3","Information Systems",{"v":0,"d":"$0.00"},{"v":0,"d":"$0.00"},{"v":0,"d":"$0.00"},{"v":0,"d":"$0.00"},{"v":0,"d":"$0.00"},{"v":0,"d":"$0.00"},"ASR-Dental_Financial_Report_SMMC_03.21.23","2023-03-21","Unaudited"]
["Dental","DEF","Default",1900,"1900-01-01","Q1","1900-03-31","Region 9","Operating Expense","Administrative Expense","Administrative","4.4","Marketing Expenses",{"v":0,"d":"$0.00"},{"v":0,"d":"$0.00"},{"v":0,"d":"$0.00"},{"v":0,"d":"$0.00"},{"v":0,"d":"$0.00"},{"v":0,"d":"$0.00"},"ASR-Dental_Financial_Report_SMMC_03.21.23","2023-03-21","Unaudited"]
["Dental","DEF","Default",1900,"1900-01-01","Q1","1900-03-31","Region 9","Operating Expense","Administrative Expense","Administrative","4.5","General  Administration",{"v":0,"d":"$0.00"},{"v":0,"d":"$0.00"},{"v":0,"d":"$0.00"},{"v":0,"d":"$0.00"},{"v":0,"d":"$0.00"},{"v":0,"d":"$0.00"},"ASR-Dental_Financial_Report_SMMC_03.21.23","2023-03-21","Unaudited"]
["Dental","DEF","Default",1900,"1900-01-01","Q1","1900-03-31","Region 9","Operating Expense","Administrative Expense","Administrative","4.6","Compliance/Regulatory",{"v":0,"d":"$0.00"},{"v":0,"d":"$0.00"},{"v":0,"d":"$0.00"},{"v":0,"d":"$0.00"},{"v":0,"d":"$0.00"},{"v":0,"d":"$0.00"},"ASR-Dental_Financial_Report_SMMC_03.21.23","2023-03-21","Unaudited"]
["Dental","DEF","Default",1900,"1900-01-01","Q1","1900-03-31","Region 9","Operating Expense","Taxes & Fees","Taxes & Fees","5.1","State Premium tax",{"v":0,"d":"$0.00"},{"v":0,"d":"$0.00"},{"v":0,"d":"$0.00"},{"v":0,"d":"$0.00"},{"v":0,"d":"$0.00"},{"v":0,"d":"$0.00"},"ASR-Dental_Financial_Report_SMMC_03.21.23","2023-03-21","Unaudited"]
["Dental","DEF","Default",1900,"1900-01-01","Q1","1900-03-31","Region 9","Operating Expense","Taxes & Fees","Taxes & Fees","5.2","Department of Insurance Assessments",{"$f":"IF(OR(AND($F1652=\"PY\",N$1<>\"Prior Year\"),AND($F1652<>\"PY\",N$1=\"Prior Year\")),0,INDEX(INDIRECT(\"'Dental Rev-Exp \"&$H1652&\"'!$A$1:$CA$200\"),IF($J1652=\"Member Months\",MATCH($J1652,INDIRECT(\"'Dental Rev-Exp \"&$H1652&\"'!$A$1:$A$200\"),0),MATCH($L1652,INDIRECT(\"'Dental Rev-Exp \"&$H1652&\"'!$B$1:$B$200\"),0)),IF($F1652=\"PY\",MATCH(\"Prior Year Adjustments\",INDIRECT(\"'Dental Rev-Exp \"&$H1652&\"'!$A$8:$CA$8\"),0),MATCH(IF($F1652=\"Q1\",\"JANUARY - MARCH (Q1)\",IF($F1652=\"Q2\",\"APRIL - JUNE (Q2)\",IF($F1652=\"Q3\",\"JULY - SEPTEMBER (Q3)\",IF($F1652=\"Q4\",\"OCTOBER - DECEMBER (Q4)\",0)))),INDIRECT(\"'Dental Rev-Exp \"&$H1652&\"'!$A$7:$CA$7\"),0)+MATCH(N$1,INDIRECT(\"'Dental Rev-Exp \"&$H1652&\"'!$D$8:$CA$8\"),0)-1)))","v":{"v":0,"d":"$0.00"}},{"v":0,"d":"$0.00"},{"v":0,"d":"$0.00"},{"v":0,"d":"$0.00"},{"v":0,"d":"$0.00"},{"v":0,"d":"$0.00"},"ASR-Dental_Financial_Report_SMMC_03.21.23","2023-03-21","Unaudited"]
["Dental","DEF","Default",1900,"1900-01-01","Q1","1900-03-31","Region 9","Operating Expense","Taxes & Fees","Taxes & Fees","5.3","Section 9010 Health Insurance Providers Fee",{"v":0,"d":"$0.00"},{"v":0,"d":"$0.00"},{"v":0,"d":"$0.00"},{"v":0,"d":"$0.00"},{"v":0,"d":"$0.00"},{"v":0,"d":"$0.00"},"ASR-Dental_Financial_Report_SMMC_03.21.23","2023-03-21","Unaudited"]
["Dental","DEF","Default",1900,"1900-01-01","Q1","1900-03-31","Region 9","Operating Expense","Taxes & Fees","Taxes & Fees","5.4","Other 1",{"v":0,"d":"$0.00"},{"v":0,"d":"$0.00"},{"v":0,"d":"$0.00"},{"v":0,"d":"$0.00"},{"v":0,"d":"$0.00"},{"v":0,"d":"$0.00"},"ASR-Dental_Financial_Report_SMMC_03.21.23","2023-03-21","Unaudited"]
["Dental","DEF","Default",1900,"1900-01-01","Q1","1900-03-31","Region 9","Operating Expense","Taxes & Fees","Taxes & Fees","5.5","Other 2",{"v":0,"d":"$0.00"},{"v":0,"d":"$0.00"},{"v":0,"d":"$0.00"},{"v":0,"d":"$0.00"},{"v":0,"d":"$0.00"},{"v":0,"d":"$0.00"},"ASR-Dental_Financial_Report_SMMC_03.21.23","2023-03-21","Unaudited"]
["Dental","DEF","Default",1900,"1900-01-01","Q1","1900-03-31","Region 9","Operating Expense","Taxes & Fees","Taxes & Fees","5.6","Other 3",{"v":0,"d":"$0.00"},{"v":0,"d":"$0.00"},{"v":0,"d":"$0.00"},{"v":0,"d":"$0.00"},{"v":0,"d":"$0.00"},{"v":0,"d":"$0.00"},"ASR-Dental_Financial_Report_SMMC_03.21.23","2023-03-21","Unaudited"]
["Dental","DEF","Default",1900,"1900-01-01","Q1","1900-03-31","Region 9","Non-Operating Expense","Income Tax Expense","Income Tax Expense","8.0","Income Tax Expense",{"v":0,"d":"$0.00"},{"v":0,"d":"$0.00"},{"v":0,"d":"$0.00"},{"v":0,"d":"$0.00"},{"v":0,"d":"$0.00"},{"v":0,"d":"$0.00"},"ASR-Dental_Financial_Report_SMMC_03.21.23","2023-03-21","Unaudited"]
["Dental","DEF","Default",1900,"1900-01-01","Q2","1900-06-30","Region 9","Member Months","Member Months","Member Months",null,"Member Months",{"v":0,"d":"$0.00"},{"v":0,"d":"$0.00"},{"v":0,"d":"$0.00"},{"v":0,"d":"$0.00"},{"v":0,"d":"$0.00"},{"v":0,"d":"$0.00"},"ASR-Dental_Financial_Report_SMMC_03.21.23","2023-03-21","Unaudited"]
["Dental","DEF","Default",1900,"1900-01-01","Q2","1900-06-30","Region 9","Operating Revenue","Capitation","Capitation","1.1","Capitation",{"v":0,"d":"$0.00"},{"v":0,"d":"$0.00"},{"v":0,"d":"$0.00"},{"v":0,"d":"$0.00"},{"v":0,"d":"$0.00"},{"v":0,"d":"$0.00"},"ASR-Dental_Financial_Report_SMMC_03.21.23","2023-03-21","Unaudited"]
["Dental","DEF","Default",1900,"1900-01-01","Q2","1900-06-30","Region 9","Operating Revenue","Other Revenue","Other Revenue - 9010","1.2","ACA § 9010 related payments",{"v":0,"d":"$0.00"},{"v":0,"d":"$0.00"},{"v":0,"d":"$0.00"},{"v":0,"d":"$0.00"},{"v":0,"d":"$0.00"},{"v":0,"d":"$0.00"},"ASR-Dental_Financial_Report_SMMC_03.21.23","2023-03-21","Unaudited"]
["Dental","DEF","Default",1900,"1900-01-01","Q2","1900-06-30","Region 9","Operating Revenue","Other Revenue","Other Revenue","1.3","Other Revenue",{"v":0,"d":"$0.00"},{"v":0,"d":"$0.00"},{"v":0,"d":"$0.00"},{"v":0,"d":"$0.00"},{"v":0,"d":"$0.00"},{"v":0,"d":"$0.00"},"ASR-Dental_Financial_Report_SMMC_03.21.23","2023-03-21","Unaudited"]
["Dental","DEF","Default",1900,"1900-01-01","Q2","1900-06-30","Region 9","Operating Expense","Medical Expense","Dental Services","2.1","Dental Services Diagnostic",{"$f":"IF(OR(AND($F1662=\"PY\",N$1<>\"Prior Year\"),AND($F1662<>\"PY\",N$1=\"Prior Year\")),0,INDEX(INDIRECT(\"'Dental Rev-Exp \"&$H1662&\"'!$A$1:$CA$200\"),IF($J1662=\"Member Months\",MATCH($J1662,INDIRECT(\"'Dental Rev-Exp \"&$H1662&\"'!$A$1:$A$200\"),0),MATCH($L1662,INDIRECT(\"'Dental Rev-Exp \"&$H1662&\"'!$B$1:$B$200\"),0)),IF($F1662=\"PY\",MATCH(\"Prior Year Adjustments\",INDIRECT(\"'Dental Rev-Exp \"&$H1662&\"'!$A$8:$CA$8\"),0),MATCH(IF($F1662=\"Q1\",\"JANUARY - MARCH (Q1)\",IF($F1662=\"Q2\",\"APRIL - JUNE (Q2)\",IF($F1662=\"Q3\",\"JULY - SEPTEMBER (Q3)\",IF($F1662=\"Q4\",\"OCTOBER - DECEMBER (Q4)\",0)))),INDIRECT(\"'Dental Rev-Exp \"&$H1662&\"'!$A$7:$CA$7\"),0)+MATCH(N$1,INDIRECT(\"'Dental Rev-Exp \"&$H1662&\"'!$D$8:$CA$8\"),0)-1)))","v":{"v":0,"d":"$0.00"}},{"v":0,"d":"$0.00"},{"v":0,"d":"$0.00"},{"v":0,"d":"$0.00"},{"v":0,"d":"$0.00"},{"v":0,"d":"$0.00"},"ASR-Dental_Financial_Report_SMMC_03.21.23","2023-03-21","Unaudited"]
["Dental","DEF","Default",1900,"1900-01-01","Q2","1900-06-30","Region 9","Operating Expense","Medical Expense","Dental Services",2.2,"Dental Services Preventive",{"v":0,"d":"$0.00"},{"v":0,"d":"$0.00"},{"v":0,"d":"$0.00"},{"v":0,"d":"$0.00"},{"v":0,"d":"$0.00"},{"v":0,"d":"$0.00"},"ASR-Dental_Financial_Report_SMMC_03.21.23","2023-03-21","Unaudited"]
["Dental","DEF","Default",1900,"1900-01-01","Q2","1900-06-30","Region 9","Operating Expense","Medical Expense","Dental Services","2.3","Dental Services Restorative",{"v":0,"d":"$0.00"},{"v":0,"d":"$0.00"},{"v":0,"d":"$0.00"},{"v":0,"d":"$0.00"},{"v":0,"d":"$0.00"},{"v":0,"d":"$0.00"},"ASR-Dental_Financial_Report_SMMC_03.21.23","2023-03-21","Unaudited"]
["Dental","DEF","Default",1900,"1900-01-01","Q2","1900-06-30","Region 9","Operating Expense","Medical Expense","Dental Services","2.4","Dental Services Endodontics",{"v":0,"d":"$0.00"},{"v":0,"d":"$0.00"},{"v":0,"d":"$0.00"},{"v":0,"d":"$0.00"},{"v":0,"d":"$0.00"},{"v":0,"d":"$0.00"},"ASR-Dental_Financial_Report_SMMC_03.21.23","2023-03-21","Unaudited"]
["Dental","DEF","Default",1900,"1900-01-01","Q2","1900-06-30","Region 9","Operating Expense","Medical Expense","Dental Services","2.5","Dental Services Periodontics",{"v":0,"d":"$0.00"},{"v":0,"d":"$0.00"},{"v":0,"d":"$0.00"},{"v":0,"d":"$0.00"},{"v":0,"d":"$0.00"},{"v":0,"d":"$0.00"},{"$f":"file_name","v":"ASR-Dental_Financial_Report_SMMC_03.21.23"},{"$f":"file_date","v":"2023-03-21"},{"$f":"status","v":"Unaudited"}]
["Dental","DEF","Default",1900,"1900-01-01","Q2","1900-06-30","Region 9","Operating Expense","Medical Expense","Dental Services","2.6","Dental Services Prosthodontics",{"v":0,"d":"$0.00"},{"v":0,"d":"$0.00"},{"v":0,"d":"$0.00"},{"v":0,"d":"$0.00"},{"v":0,"d":"$0.00"},{"v":0,"d":"$0.00"},"ASR-Dental_Financial_Report_SMMC_03.21.23","2023-03-21","Unaudited"]
["Dental","DEF","Default",1900,"1900-01-01","Q2","1900-06-30","Region 9","Operating Expense","Medical Expense","Dental Services","2.7","Dental Services Prosthodontics, fixed",{"v":0,"d":"$0.00"},{"v":0,"d":"$0.00"},{"v":0,"d":"$0.00"},{"v":0,"d":"$0.00"},{"v":0,"d":"$0.00"},{"v":0,"d":"$0.00"},"ASR-Dental_Financial_Report_SMMC_03.21.23","2023-03-21","Unaudited"]
["Dental","DEF","Default",1900,"1900-01-01","Q2","1900-06-30","Region 9","Operating Expense","Medical Expense","Dental Services","2.8","Dental Services Oral and Maxillofacial Surgery",{"v":0,"d":"$0.00"},{"v":0,"d":"$0.00"},{"v":0,"d":"$0.00"},{"v":0,"d":"$0.00"},{"v":0,"d":"$0.00"},{"v":0,"d":"$0.00"},"ASR-Dental_Financial_Report_SMMC_03.21.23","2023-03-21","Unaudited"]
["Dental","DEF","Default",1900,"1900-01-01","Q2","1900-06-30","Region 9","Operating Expense","Medical Expense","Dental Services","2.9","Dental Services Orthodontics",{"v":0,"d":"$0.00"},{"v":0,"d":"$0.00"},{"v":0,"d":"$0.00"},{"v":0,"d":"$0.00"},{"v":0,"d":"$0.00"},{"v":0,"d":"$0.00"},"ASR-Dental_Financial_Report_SMMC_03.21.23","2023-03-21","Unaudited"]
["Dental","DEF","Default",1900,"1900-01-01","Q2","1900-06-30","Region 9","Operating Expense","Medical Expense","Dental Services","2.10","Dental Services Adjunctive General Services",{"v":0,"d":"$0.00"},{"v":0,"d":"$0.00"},{"v":0,"d":"$0.00"},{"v":0,"d":"$0.00"},{"v":0,"d":"$0.00"},{"v":0,"d":"$0.00"},"ASR-Dental_Financial_Report_SMMC_03.21.23","2023-03-21","Unaudited"]
["Dental","DEF","Default",1900,"1900-01-01","Q2","1900-06-30","Region 9","Operating Expense","Medical Expense","Dental Services","2.11","Dental Services Other",{"$f":"IF(OR(AND($F1672=\"PY\",N$1<>\"Prior Year\"),AND($F1672<>\"PY\",N$1=\"Prior Year\")),0,INDEX(INDIRECT(\"'Dental Rev-Exp \"&$H1672&\"'!$A$1:$CA$200\"),IF($J1672=\"Member Months\",MATCH($J1672,INDIRECT(\"'Dental Rev-Exp \"&$H1672&\"'!$A$1:$A$200\"),0),MATCH($L1672,INDIRECT(\"'Dental Rev-Exp \"&$H1672&\"'!$B$1:$B$200\"),0)),IF($F1672=\"PY\",MATCH(\"Prior Year Adjustments\",INDIRECT(\"'Dental Rev-Exp \"&$H1672&\"'!$A$8:$CA$8\"),0),MATCH(IF($F1672=\"Q1\",\"JANUARY - MARCH (Q1)\",IF($F1672=\"Q2\",\"APRIL - JUNE (Q2)\",IF($F1672=\"Q3\",\"JULY - SEPTEMBER (Q3)\",IF($F1672=\"Q4\",\"OCTOBER - DECEMBER (Q4)\",0)))),INDIRECT(\"'Dental Rev-Exp \"&$H1672&\"'!$A$7:$CA$7\"),0)+MATCH(N$1,INDIRECT(\"'Dental Rev-Exp \"&$H1672&\"'!$D$8:$CA$8\"),0)-1)))","v":{"v":0,"d":"$0.00"}},{"v":0,"d":"$0.00"},{"v":0,"d":"$0.00"},{"v":0,"d":"$0.00"},{"v":0,"d":"$0.00"},{"v":0,"d":"$0.00"},"ASR-Dental_Financial_Report_SMMC_03.21.23","2023-03-21","Unaudited"]
["Dental","DEF","Default",1900,"1900-01-01","Q2","1900-06-30","Region 9","Operating Expense","Medical Expense","Expanded Benefits","2.12","Dental Expanded Benefits",{"v":0,"d":"$0.00"},{"v":0,"d":"$0.00"},{"v":0,"d":"$0.00"},{"v":0,"d":"$0.00"},{"v":0,"d":"$0.00"},{"v":0,"d":"$0.00"},"ASR-Dental_Financial_Report_SMMC_03.21.23","2023-03-21","Unaudited"]
["Dental","DEF","Default",1900,"1900-01-01","Q2","1900-06-30","Region 9","Operating Expense","Medical Expense","Dental Services","2.13","Dental Services Paid through Subcapitation",{"v":0,"d":"$0.00"},{"v":0,"d":"$0.00"},{"v":0,"d":"$0.00"},{"v":0,"d":"$0.00"},{"v":0,"d":"$0.00"},{"v":0,"d":"$0.00"},"ASR-Dental_Financial_Report_SMMC_03.21.23","2023-03-21","Unaudited"]
["Dental","DEF","Default",1900,"1900-01-01","Q2","1900-06-30","Region 9","Operating Expense","Medical Expense","Dental Services","2.14","Ending IBNP for Dental Services",{"v":0,"d":"$0.00"},{"v":0,"d":"$0.00"},{"v":0,"d":"$0.00"},{"v":0,"d":"$0.00"},{"v":0,"d":"$0.00"},{"v":0,"d":"$0.00"},"ASR-Dental_Financial_Report_SMMC_03.21.23","2023-03-21","Unaudited"]
["Dental","DEF","Default",1900,"1900-01-01","Q2","1900-06-30","Region 9","Operating Expense","Medical Expense","Dental Services","2.15","Dental Settlements/AP",{"v":0,"d":"$0.00"},{"v":0,"d":"$0.00"},{"v":0,"d":"$0.00"},{"v":0,"d":"$0.00"},{"v":0,"d":"$0.00"},{"v":0,"d":"$0.00"},"ASR-Dental_Financial_Report_SMMC_03.21.23","2023-03-21","Unaudited"]
["Dental","DEF","Default",1900,"1900-01-01","Q2","1900-06-30","Region 9","Operating Expense","Medical Expense","Other Medical","3.5","TPL & Fraud/Abuse Recoveries",{"v":0,"d":"$0.00"},{"v":0,"d":"$0.00"},{"v":0,"d":"$0.00"},{"v":0,"d":"$0.00"},{"v":0,"d":"$0.00"},{"v":0,"d":"$0.00"},"ASR-Dental_Financial_Report_SMMC_03.21.23","2023-03-21","Unaudited"]
["Dental","DEF","Default",1900,"1900-01-01","Q2","1900-06-30","Region 9","Operating Expense","Medical Expense","Other Medical",3.6,"Premium Deficiency Reserve",{"v":0,"d":"$0.00"},{"v":0,"d":"$0.00"},{"v":0,"d":"$0.00"},{"v":0,"d":"$0.00"},{"v":0,"d":"$0.00"},{"v":0,"d":"$0.00"},"ASR-Dental_Financial_Report_SMMC_03.21.23","2023-03-21","Unaudited"]
["Dental","DEF","Default",1900,"1900-01-01","Q2","1900-06-30","Region 9","Operating Expense","Medical Expense","Other Medical","3.8","Reinsurance Premiums",{"v":0,"d":"$0.00"},{"v":0,"d":"$0.00"},{"v":0,"d":"$0.00"},{"v":0,"d":"$0.00"},{"v":0,"d":"$0.00"},{"v":0,"d":"$0.00"},"ASR-Dental_Financial_Report_SMMC_03.21.23","2023-03-21","Unaudited"]
["Dental","DEF","Default",1900,"1900-01-01","Q2","1900-06-30","Region 9","Operating Expense","Medical Expense","Other Medical","3.9","Reinsurance Recoveries",{"v":0,"d":"$0.00"},{"v":0,"d":"$0.00"},{"v":0,"d":"$0.00"},{"v":0,"d":"$0.00"},{"v":0,"d":"$0.00"},{"v":0,"d":"$0.00"},"ASR-Dental_Financial_Report_SMMC_03.21.23","2023-03-21","Unaudited"]
["Dental","DEF","Default",1900,"1900-01-01","Q2","1900-06-30","Region 9","Operating Expense","Administrative Expense","Administrative","4.1","Salaries & Benefits",{"v":0,"d":"$0.00"},{"v":0,"d":"$0.00"},{"v":0,"d":"$0.00"},{"v":0,"d":"$0.00"},{"v":0,"d":"$0.00"},{"v":0,"d":"$0.00"},"ASR-Dental_Financial_Report_SMMC_03.21.23","2023-03-21","Unaudited"]
["Dental","DEF","Default",1900,"1900-01-01","Q2","1900-06-30","Region 9","Operating Expense","Administrative Expense","Administrative","4.2","Administrative Services",{"$f":"IF(OR(AND($F1682=\"PY\",N$1<>\"Prior Year\"),AND($F1682<>\"PY\",N$1=\"Prior Year\")),0,INDEX(INDIRECT(\"'Dental Rev-Exp \"&$H1682&\"'!$A$1:$CA$200\"),IF($J1682=\"Member Months\",MATCH($J1682,INDIRECT(\"'Dental Rev-Exp \"&$H1682&\"'!$A$1:$A$200\"),0),MATCH($L1682,INDIRECT(\"'Dental Rev-Exp \"&$H1682&\"'!$B$1:$B$200\"),0)),IF($F1682=\"PY\",MATCH(\"Prior Year Adjustments\",INDIRECT(\"'Dental Rev-Exp \"&$H1682&\"'!$A$8:$CA$8\"),0),MATCH(IF($F1682=\"Q1\",\"JANUARY - MARCH (Q1)\",IF($F1682=\"Q2\",\"APRIL - JUNE (Q2)\",IF($F1682=\"Q3\",\"JULY - SEPTEMBER (Q3)\",IF($F1682=\"Q4\",\"OCTOBER - DECEMBER (Q4)\",0)))),INDIRECT(\"'Dental Rev-Exp \"&$H1682&\"'!$A$7:$CA$7\"),0)+MATCH(N$1,INDIRECT(\"'Dental Rev-Exp \"&$H1682&\"'!$D$8:$CA$8\"),0)-1)))","v":{"v":0,"d":"$0.00"}},{"v":0,"d":"$0.00"},{"v":0,"d":"$0.00"},{"v":0,"d":"$0.00"},{"v":0,"d":"$0.00"},{"v":0,"d":"$0.00"},"ASR-Dental_Financial_Report_SMMC_03.21.23","2023-03-21","Unaudited"]
["Dental","DEF","Default",1900,"1900-01-01","Q2","1900-06-30","Region 9","Operating Expense","Administrative Expense","Administrative","4.3","Information Systems",{"v":0,"d":"$0.00"},{"v":0,"d":"$0.00"},{"v":0,"d":"$0.00"},{"v":0,"d":"$0.00"},{"v":0,"d":"$0.00"},{"v":0,"d":"$0.00"},"ASR-Dental_Financial_Report_SMMC_03.21.23","2023-03-21","Unaudited"]
["Dental","DEF","Default",1900,"1900-01-01","Q2","1900-06-30","Region 9","Operating Expense","Administrative Expense","Administrative","4.4","Marketing Expenses",{"v":0,"d":"$0.00"},{"v":0,"d":"$0.00"},{"v":0,"d":"$0.00"},{"v":0,"d":"$0.00"},{"v":0,"d":"$0.00"},{"v":0,"d":"$0.00"},"ASR-Dental_Financial_Report_SMMC_03.21.23","2023-03-21","Unaudited"]
["Dental","DEF","Default",1900,"1900-01-01","Q2","1900-06-30","Region 9","Operating Expense","Administrative Expense","Administrative","4.5","General  Administration",{"v":0,"d":"$0.00"},{"v":0,"d":"$0.00"},{"v":0,"d":"$0.00"},{"v":0,"d":"$0.00"},{"v":0,"d":"$0.00"},{"v":0,"d":"$0.00"},"ASR-Dental_Financial_Report_SMMC_03.21.23","2023-03-21","Unaudited"]
["Dental","DEF","Default",1900,"1900-01-01","Q2","1900-06-30","Region 9","Operating Expense","Administrative Expense","Administrative","4.6","Compliance/Regulatory",{"v":0,"d":"$0.00"},{"v":0,"d":"$0.00"},{"v":0,"d":"$0.00"},{"v":0,"d":"$0.00"},{"v":0,"d":"$0.00"},{"v":0,"d":"$0.00"},"ASR-Dental_Financial_Report_SMMC_03.21.23","2023-03-21","Unaudited"]
["Dental","DEF","Default",1900,"1900-01-01","Q2","1900-06-30","Region 9","Operating Expense","Taxes & Fees","Taxes & Fees","5.1","State Premium tax",{"v":0,"d":"$0.00"},{"v":0,"d":"$0.00"},{"v":0,"d":"$0.00"},{"v":0,"d":"$0.00"},{"v":0,"d":"$0.00"},{"v":0,"d":"$0.00"},"ASR-Dental_Financial_Report_SMMC_03.21.23","2023-03-21","Unaudited"]
["Dental","DEF","Default",1900,"1900-01-01","Q2","1900-06-30","Region 9","Operating Expense","Taxes & Fees","Taxes & Fees","5.2","Department of Insurance Assessments",{"v":0,"d":"$0.00"},{"v":0,"d":"$0.00"},{"v":0,"d":"$0.00"},{"v":0,"d":"$0.00"},{"v":0,"d":"$0.00"},{"v":0,"d":"$0.00"},"ASR-Dental_Financial_Report_SMMC_03.21.23","2023-03-21","Unaudited"]
["Dental","DEF","Default",1900,"1900-01-01","Q2","1900-06-30","Region 9","Operating Expense","Taxes & Fees","Taxes & Fees","5.3","Section 9010 Health Insurance Providers Fee",{"v":0,"d":"$0.00"},{"v":0,"d":"$0.00"},{"v":0,"d":"$0.00"},{"v":0,"d":"$0.00"},{"v":0,"d":"$0.00"},{"v":0,"d":"$0.00"},"ASR-Dental_Financial_Report_SMMC_03.21.23","2023-03-21","Unaudited"]
["Dental","DEF","Default",1900,"1900-01-01","Q2","1900-06-30","Region 9","Operating Expense","Taxes & Fees","Taxes & Fees","5.4","Other 1",{"v":0,"d":"$0.00"},{"v":0,"d":"$0.00"},{"v":0,"d":"$0.00"},{"v":0,"d":"$0.00"},{"v":0,"d":"$0.00"},{"v":0,"d":"$0.00"},"ASR-Dental_Financial_Report_SMMC_03.21.23","2023-03-21","Unaudited"]
["Dental","DEF","Default",1900,"1900-01-01","Q2","1900-06-30","Region 9","Operating Expense","Taxes & Fees","Taxes & Fees","5.5","Other 2",{"v":0,"d":"$0.00"},{"v":0,"d":"$0.00"},{"v":0,"d":"$0.00"},{"v":0,"d":"$0.00"},{"v":0,"d":"$0.00"},{"v":0,"d":"$0.00"},"ASR-Dental_Financial_Report_SMMC_03.21.23","2023-03-21","Unaudited"]
["Dental","DEF","Default",1900,"1900-01-01","Q2","1900-06-30","Region 9","Operating Expense","Taxes & Fees","Taxes & Fees","5.6","Other 3",{"$f":"IF(OR(AND($F1692=\"PY\",N$1<>\"Prior Year\"),AND($F1692<>\"PY\",N$1=\"Prior Year\")),0,INDEX(INDIRECT(\"'Dental Rev-Exp \"&$H1692&\"'!$A$1:$CA$200\"),IF($J1692=\"Member Months\",MATCH($J1692,INDIRECT(\"'Dental Rev-Exp \"&$H1692&\"'!$A$1:$A$200\"),0),MATCH($L1692,INDIRECT(\"'Dental Rev-Exp \"&$H1692&\"'!$B$1:$B$200\"),0)),IF($F1692=\"PY\",MATCH(\"Prior Year Adjustments\",INDIRECT(\"'Dental Rev-Exp \"&$H1692&\"'!$A$8:$CA$8\"),0),MATCH(IF($F1692=\"Q1\",\"JANUARY - MARCH (Q1)\",IF($F1692=\"Q2\",\"APRIL - JUNE (Q2)\",IF($F1692=\"Q3\",\"JULY - SEPTEMBER (Q3)\",IF($F1692=\"Q4\",\"OCTOBER - DECEMBER (Q4)\",0)))),INDIRECT(\"'Dental Rev-Exp \"&$H1692&\"'!$A$7:$CA$7\"),0)+MATCH(N$1,INDIRECT(\"'Dental Rev-Exp \"&$H1692&\"'!$D$8:$CA$8\"),0)-1)))","v":{"v":0,"d":"$0.00"}},{"v":0,"d":"$0.00"},{"v":0,"d":"$0.00"},{"v":0,"d":"$0.00"},{"v":0,"d":"$0.00"},{"v":0,"d":"$0.00"},"ASR-Dental_Financial_Report_SMMC_03.21.23","2023-03-21","Unaudited"]
["Dental","DEF","Default",1900,"1900-01-01","Q2","1900-06-30","Region 9","Non-Operating Expense","Income Tax Expense","Income Tax Expense","8.0","Income Tax Expense",{"v":0,"d":"$0.00"},{"v":0,"d":"$0.00"},{"v":0,"d":"$0.00"},{"v":0,"d":"$0.00"},{"v":0,"d":"$0.00"},{"v":0,"d":"$0.00"},"ASR-Dental_Financial_Report_SMMC_03.21.23","2023-03-21","Unaudited"]
["Dental","DEF","Default",1900,"1900-01-01","Q3","1900-09-30","Region 9","Member Months","Member Months","Member Months",null,"Member Months",{"v":0,"d":"$0.00"},{"v":0,"d":"$0.00"},{"v":0,"d":"$0.00"},{"v":0,"d":"$0.00"},{"v":0,"d":"$0.00"},{"v":0,"d":"$0.00"},"ASR-Dental_Financial_Report_SMMC_03.21.23","2023-03-21","Unaudited"]
["Dental","DEF","Default",1900,"1900-01-01","Q3","1900-09-30","Region 9","Operating Revenue","Capitation","Capitation","1.1","Capitation",{"v":0,"d":"$0.00"},{"v":0,"d":"$0.00"},{"v":0,"d":"$0.00"},{"v":0,"d":"$0.00"},{"v":0,"d":"$0.00"},{"v":0,"d":"$0.00"},"ASR-Dental_Financial_Report_SMMC_03.21.23","2023-03-21","Unaudited"]
["Dental","DEF","Default",1900,"1900-01-01","Q3","1900-09-30","Region 9","Operating Revenue","Other Revenue","Other Revenue - 9010","1.2","ACA § 9010 related payments",{"v":0,"d":"$0.00"},{"v":0,"d":"$0.00"},{"v":0,"d":"$0.00"},{"v":0,"d":"$0.00"},{"v":0,"d":"$0.00"},{"v":0,"d":"$0.00"},"ASR-Dental_Financial_Report_SMMC_03.21.23","2023-03-21","Unaudited"]
["Dental","DEF","Default",1900,"1900-01-01","Q3","1900-09-30","Region 9","Operating Revenue","Other Revenue","Other Revenue","1.3","Other Revenue",{"v":0,"d":"$0.00"},{"v":0,"d":"$0.00"},{"v":0,"d":"$0.00"},{"v":0,"d":"$0.00"},{"v":0,"d":"$0.00"},{"v":0,"d":"$0.00"},"ASR-Dental_Financial_Report_SMMC_03.21.23","2023-03-21","Unaudited"]
["Dental","DEF","Default",1900,"1900-01-01","Q3","1900-09-30","Region 9","Operating Expense","Medical Expense","Dental Services","2.1","Dental Services Diagnostic",{"v":0,"d":"$0.00"},{"v":0,"d":"$0.00"},{"v":0,"d":"$0.00"},{"v":0,"d":"$0.00"},{"v":0,"d":"$0.00"},{"v":0,"d":"$0.00"},"ASR-Dental_Financial_Report_SMMC_03.21.23","2023-03-21","Unaudited"]
["Dental","DEF","Default",1900,"1900-01-01","Q3","1900-09-30","Region 9","Operating Expense","Medical Expense","Dental Services",2.2,"Dental Services Preventive",{"v":0,"d":"$0.00"},{"v":0,"d":"$0.00"},{"v":0,"d":"$0.00"},{"v":0,"d":"$0.00"},{"v":0,"d":"$0.00"},{"v":0,"d":"$0.00"},"ASR-Dental_Financial_Report_SMMC_03.21.23","2023-03-21","Unaudited"]
["Dental","DEF","Default",1900,"1900-01-01","Q3","1900-09-30","Region 9","Operating Expense","Medical Expense","Dental Services","2.3","Dental Services Restorative",{"v":0,"d":"$0.00"},{"v":0,"d":"$0.00"},{"v":0,"d":"$0.00"},{"v":0,"d":"$0.00"},{"v":0,"d":"$0.00"},{"v":0,"d":"$0.00"},"ASR-Dental_Financial_Report_SMMC_03.21.23","2023-03-21","Unaudited"]
["Dental","DEF","Default",1900,"1900-01-01","Q3","1900-09-30","Region 9","Operating Expense","Medical Expense","Dental Services","2.4","Dental Services Endodontics",{"v":0,"d":"$0.00"},{"v":0,"d":"$0.00"},{"v":0,"d":"$0.00"},{"v":0,"d":"$0.00"},{"v":0,"d":"$0.00"},{"v":0,"d":"$0.00"},"ASR-Dental_Financial_Report_SMMC_03.21.23","2023-03-21","Unaudited"]
["Dental","DEF","Default",1900,"1900-01-01","Q3","1900-09-30","Region 9","Operating Expense","Medical Expense","Dental Services","2.5","Dental Services Periodontics",{"$f":"IF(OR(AND($F1702=\"PY\",N$1<>\"Prior Year\"),AND($F1702<>\"PY\",N$1=\"Prior Year\")),0,INDEX(INDIRECT(\"'Dental Rev-Exp \"&$H1702&\"'!$A$1:$CA$200\"),IF($J1702=\"Member Months\",MATCH($J1702,INDIRECT(\"'Dental Rev-Exp \"&$H1702&\"'!$A$1:$A$200\"),0),MATCH($L1702,INDIRECT(\"'Dental Rev-Exp \"&$H1702&\"'!$B$1:$B$200\"),0)),IF($F1702=\"PY\",MATCH(\"Prior Year Adjustments\",INDIRECT(\"'Dental Rev-Exp \"&$H1702&\"'!$A$8:$CA$8\"),0),MATCH(IF($F1702=\"Q1\",\"JANUARY - MARCH (Q1)\",IF($F1702=\"Q2\",\"APRIL - JUNE (Q2)\",IF($F1702=\"Q3\",\"JULY - SEPTEMBER (Q3)\",IF($F1702=\"Q4\",\"OCTOBER - DECEMBER (Q4)\",0)))),INDIRECT(\"'Dental Rev-Exp \"&$H1702&\"'!$A$7:$CA$7\"),0)+MATCH(N$1,INDIRECT(\"'Dental Rev-Exp \"&$H1702&\"'!$D$8:$CA$8\"),0)-1)))","v":{"v":0,"d":"$0.00"}},{"v":0,"d":"$0.00"},{"v":0,"d":"$0.00"},{"v":0,"d":"$0.00"},{"v":0,"d":"$0.00"},{"v":0,"d":"$0.00"},"ASR-Dental_Financial_Report_SMMC_03.21.23","2023-03-21","Unaudited"]
["Dental","DEF","Default",1900,"1900-01-01","Q3","1900-09-30","Region 9","Operating Expense","Medical Expense","Dental Services","2.6","Dental Services Prosthodontics",{"v":0,"d":"$0.00"},{"v":0,"d":"$0.00"},{"v":0,"d":"$0.00"},{"v":0,"d":"$0.00"},{"v":0,"d":"$0.00"},{"v":0,"d":"$0.00"},"ASR-Dental_Financial_Report_SMMC_03.21.23","2023-03-21","Unaudited"]
["Dental","DEF","Default",1900,"1900-01-01","Q3","1900-09-30","Region 9","Operating Expense","Medical Expense","Dental Services","2.7","Dental Services Prosthodontics, fixed",{"v":0,"d":"$0.00"},{"v":0,"d":"$0.00"},{"v":0,"d":"$0.00"},{"v":0,"d":"$0.00"},{"v":0,"d":"$0.00"},{"v":0,"d":"$0.00"},"ASR-Dental_Financial_Report_SMMC_03.21.23","2023-03-21","Unaudited"]
["Dental","DEF","Default",1900,"1900-01-01","Q3","1900-09-30","Region 9","Operating Expense","Medical Expense","Dental Services","2.8","Dental Services Oral and Maxillofacial Surgery",{"v":0,"d":"$0.00"},{"v":0,"d":"$0.00"},{"v":0,"d":"$0.00"},{"v":0,"d":"$0.00"},{"v":0,"d":"$0.00"},{"v":0,"d":"$0.00"},"ASR-Dental_Financial_Report_SMMC_03.21.23","2023-03-21","Unaudited"]
["Dental","DEF","Default",1900,"1900-01-01","Q3","1900-09-30","Region 9","Operating Expense","Medical Expense","Dental Services","2.9","Dental Services Orthodontics",{"v":0,"d":"$0.00"},{"v":0,"d":"$0.00"},{"v":0,"d":"$0.00"},{"v":0,"d":"$0.00"},{"v":0,"d":"$0.00"},{"v":0,"d":"$0.00"},"ASR-Dental_Financial_Report_SMMC_03.21.23","2023-03-21","Unaudited"]
["Dental","DEF","Default",1900,"1900-01-01","Q3","1900-09-30","Region 9","Operating Expense","Medical Expense","Dental Services","2.10","Dental Services Adjunctive General Services",{"v":0,"d":"$0.00"},{"v":0,"d":"$0.00"},{"v":0,"d":"$0.00"},{"v":0,"d":"$0.00"},{"v":0,"d":"$0.00"},{"v":0,"d":"$0.00"},"ASR-Dental_Financial_Report_SMMC_03.21.23","2023-03-21","Unaudited"]
["Dental","DEF","Default",1900,"1900-01-01","Q3","1900-09-30","Region 9","Operating Expense","Medical Expense","Dental Services","2.11","Dental Services Other",{"v":0,"d":"$0.00"},{"v":0,"d":"$0.00"},{"v":0,"d":"$0.00"},{"v":0,"d":"$0.00"},{"v":0,"d":"$0.00"},{"v":0,"d":"$0.00"},"ASR-Dental_Financial_Report_SMMC_03.21.23","2023-03-21","Unaudited"]
["Dental","DEF","Default",1900,"1900-01-01","Q3","1900-09-30","Region 9","Operating Expense","Medical Expense","Expanded Benefits","2.12","Dental Expanded Benefits",{"v":0,"d":"$0.00"},{"v":0,"d":"$0.00"},{"v":0,"d":"$0.00"},{"v":0,"d":"$0.00"},{"v":0,"d":"$0.00"},{"v":0,"d":"$0.00"},"ASR-Dental_Financial_Report_SMMC_03.21.23","2023-03-21","Unaudited"]
["Dental","DEF","Default",1900,"1900-01-01","Q3","1900-09-30","Region 9","Operating Expense","Medical Expense","Dental Services","2.13","Dental Services Paid through Subcapitation",{"v":0,"d":"$0.00"},{"v":0,"d":"$0.00"},{"v":0,"d":"$0.00"},{"v":0,"d":"$0.00"},{"v":0,"d":"$0.00"},{"v":0,"d":"$0.00"},"ASR-Dental_Financial_Report_SMMC_03.21.23","2023-03-21","Unaudited"]
["Dental","DEF","Default",1900,"1900-01-01","Q3","1900-09-30","Region 9","Operating Expense","Medical Expense","Dental Services","2.14","Ending IBNP for Dental Services",{"v":0,"d":"$0.00"},{"v":0,"d":"$0.00"},{"v":0,"d":"$0.00"},{"v":0,"d":"$0.00"},{"v":0,"d":"$0.00"},{"v":0,"d":"$0.00"},"ASR-Dental_Financial_Report_SMMC_03.21.23","2023-03-21","Unaudited"]
["Dental","DEF","Default",1900,"1900-01-01","Q3","1900-09-30","Region 9","Operating Expense","Medical Expense","Dental Services","2.15","Dental Settlements/AP",{"$f":"IF(OR(AND($F1712=\"PY\",N$1<>\"Prior Year\"),AND($F1712<>\"PY\",N$1=\"Prior Year\")),0,INDEX(INDIRECT(\"'Dental Rev-Exp \"&$H1712&\"'!$A$1:$CA$200\"),IF($J1712=\"Member Months\",MATCH($J1712,INDIRECT(\"'Dental Rev-Exp \"&$H1712&\"'!$A$1:$A$200\"),0),MATCH($L1712,INDIRECT(\"'Dental Rev-Exp \"&$H1712&\"'!$B$1:$B$200\"),0)),IF($F1712=\"PY\",MATCH(\"Prior Year Adjustments\",INDIRECT(\"'Dental Rev-Exp \"&$H1712&\"'!$A$8:$CA$8\"),0),MATCH(IF($F1712=\"Q1\",\"JANUARY - MARCH (Q1)\",IF($F1712=\"Q2\",\"APRIL - JUNE (Q2)\",IF($F1712=\"Q3\",\"JULY - SEPTEMBER (Q3)\",IF($F1712=\"Q4\",\"OCTOBER - DECEMBER (Q4)\",0)))),INDIRECT(\"'Dental Rev-Exp \"&$H1712&\"'!$A$7:$CA$7\"),0)+MATCH(N$1,INDIRECT(\"'Dental Rev-Exp \"&$H1712&\"'!$D$8:$CA$8\"),0)-1)))","v":{"v":0,"d":"$0.00"}},{"v":0,"d":"$0.00"},{"v":0,"d":"$0.00"},{"v":0,"d":"$0.00"},{"v":0,"d":"$0.00"},{"v":0,"d":"$0.00"},"ASR-Dental_Financial_Report_SMMC_03.21.23","2023-03-21","Unaudited"]
["Dental","DEF","Default",1900,"1900-01-01","Q3","1900-09-30","Region 9","Operating Expense","Medical Expense","Other Medical","3.5","TPL & Fraud/Abuse Recoveries",{"v":0,"d":"$0.00"},{"v":0,"d":"$0.00"},{"v":0,"d":"$0.00"},{"v":0,"d":"$0.00"},{"v":0,"d":"$0.00"},{"v":0,"d":"$0.00"},"ASR-Dental_Financial_Report_SMMC_03.21.23","2023-03-21","Unaudited"]
["Dental","DEF","Default",1900,"1900-01-01","Q3","1900-09-30","Region 9","Operating Expense","Medical Expense","Other Medical",3.6,"Premium Deficiency Reserve",{"v":0,"d":"$0.00"},{"v":0,"d":"$0.00"},{"v":0,"d":"$0.00"},{"v":0,"d":"$0.00"},{"v":0,"d":"$0.00"},{"v":0,"d":"$0.00"},"ASR-Dental_Financial_Report_SMMC_03.21.23","2023-03-21","Unaudited"]
["Dental","DEF","Default",1900,"1900-01-01","Q3","1900-09-30","Region 9","Operating Expense","Medical Expense","Other Medical","3.8","Reinsurance Premiums",{"v":0,"d":"$0.00"},{"v":0,"d":"$0.00"},{"v":0,"d":"$0.00"},{"v":0,"d":"$0.00"},{"v":0,"d":"$0.00"},{"v":0,"d":"$0.00"},"ASR-Dental_Financial_Report_SMMC_03.21.23","2023-03-21","Unaudited"]
["Dental","DEF","Default",1900,"1900-01-01","Q3","1900-09-30","Region 9","Operating Expense","Medical Expense","Other Medical","3.9","Reinsurance Recoveries",{"v":0,"d":"$0.00"},{"v":0,"d":"$0.00"},{"v":0,"d":"$0.00"},{"v":0,"d":"$0.00"},{"v":0,"d":"$0.00"},{"v":0,"d":"$0.00"},"ASR-Dental_Financial_Report_SMMC_03.21.23","2023-03-21","Unaudited"]
["Dental","DEF","Default",1900,"1900-01-01","Q3","1900-09-30","Region 9","Operating Expense","Administrative Expense","Administrative","4.1","Salaries & Benefits",{"v":0,"d":"$0.00"},{"v":0,"d":"$0.00"},{"v":0,"d":"$0.00"},{"v":0,"d":"$0.00"},{"v":0,"d":"$0.00"},{"v":0,"d":"$0.00"},"ASR-Dental_Financial_Report_SMMC_03.21.23","2023-03-21","Unaudited"]
["Dental","DEF","Default",1900,"1900-01-01","Q3","1900-09-30","Region 9","Operating Expense","Administrative Expense","Administrative","4.2","Administrative Services",{"v":0,"d":"$0.00"},{"v":0,"d":"$0.00"},{"v":0,"d":"$0.00"},{"v":0,"d":"$0.00"},{"v":0,"d":"$0.00"},{"v":0,"d":"$0.00"},"ASR-Dental_Financial_Report_SMMC_03.21.23","2023-03-21","Unaudited"]
["Dental","DEF","Default",1900,"1900-01-01","Q3","1900-09-30","Region 9","Operating Expense","Administrative Expense","Administrative","4.3","Information Systems",{"v":0,"d":"$0.00"},{"v":0,"d":"$0.00"},{"v":0,"d":"$0.00"},{"v":0,"d":"$0.00"},{"v":0,"d":"$0.00"},{"v":0,"d":"$0.00"},"ASR-Dental_Financial_Report_SMMC_03.21.23","2023-03-21","Unaudited"]
["Dental","DEF","Default",1900,"1900-01-01","Q3","1900-09-30","Region 9","Operating Expense","Administrative Expense","Administrative","4.4","Marketing Expenses",{"v":0,"d":"$0.00"},{"v":0,"d":"$0.00"},{"v":0,"d":"$0.00"},{"v":0,"d":"$0.00"},{"v":0,"d":"$0.00"},{"v":0,"d":"$0.00"},"ASR-Dental_Financial_Report_SMMC_03.21.23","2023-03-21","Unaudited"]
["Dental","DEF","Default",1900,"1900-01-01","Q3","1900-09-30","Region 9","Operating Expense","Administrative Expense","Administrative","4.5","General  Administration",{"v":0,"d":"$0.00"},{"v":0,"d":"$0.00"},{"v":0,"d":"$0.00"},{"v":0,"d":"$0.00"},{"v":0,"d":"$0.00"},{"v":0,"d":"$0.00"},"ASR-Dental_Financial_Report_SMMC_03.21.23","2023-03-21","Unaudited"]
["Dental","DEF","Default",1900,"1900-01-01","Q3","1900-09-30","Region 9","Operating Expense","Administrative Expense","Administrative","4.6","Compliance/Regulatory",{"$f":"IF(OR(AND($F1722=\"PY\",N$1<>\"Prior Year\"),AND($F1722<>\"PY\",N$1=\"Prior Year\")),0,INDEX(INDIRECT(\"'Dental Rev-Exp \"&$H1722&\"'!$A$1:$CA$200\"),IF($J1722=\"Member Months\",MATCH($J1722,INDIRECT(\"'Dental Rev-Exp \"&$H1722&\"'!$A$1:$A$200\"),0),MATCH($L1722,INDIRECT(\"'Dental Rev-Exp \"&$H1722&\"'!$B$1:$B$200\"),0)),IF($F1722=\"PY\",MATCH(\"Prior Year Adjustments\",INDIRECT(\"'Dental Rev-Exp \"&$H1722&\"'!$A$8:$CA$8\"),0),MATCH(IF($F1722=\"Q1\",\"JANUARY - MARCH (Q1)\",IF($F1722=\"Q2\",\"APRIL - JUNE (Q2)\",IF($F1722=\"Q3\",\"JULY - SEPTEMBER (Q3)\",IF($F1722=\"Q4\",\"OCTOBER - DECEMBER (Q4)\",0)))),INDIRECT(\"'Dental Rev-Exp \"&$H1722&\"'!$A$7:$CA$7\"),0)+MATCH(N$1,INDIRECT(\"'Dental Rev-Exp \"&$H1722&\"'!$D$8:$CA$8\"),0)-1)))","v":{"v":0,"d":"$0.00"}},{"v":0,"d":"$0.00"},{"v":0,"d":"$0.00"},{"v":0,"d":"$0.00"},{"v":0,"d":"$0.00"},{"v":0,"d":"$0.00"},"ASR-Dental_Financial_Report_SMMC_03.21.23","2023-03-21","Unaudited"]
["Dental","DEF","Default",1900,"1900-01-01","Q3","1900-09-30","Region 9","Operating Expense","Taxes & Fees","Taxes & Fees","5.1","State Premium tax",{"v":0,"d":"$0.00"},{"v":0,"d":"$0.00"},{"v":0,"d":"$0.00"},{"v":0,"d":"$0.00"},{"v":0,"d":"$0.00"},{"v":0,"d":"$0.00"},"ASR-Dental_Financial_Report_SMMC_03.21.23","2023-03-21","Unaudited"]
["Dental","DEF","Default",1900,"1900-01-01","Q3","1900-09-30","Region 9","Operating Expense","Taxes & Fees","Taxes & Fees","5.2","Department of Insurance Assessments",{"v":0,"d":"$0.00"},{"v":0,"d":"$0.00"},{"v":0,"d":"$0.00"},{"v":0,"d":"$0.00"},{"v":0,"d":"$0.00"},{"v":0,"d":"$0.00"},"ASR-Dental_Financial_Report_SMMC_03.21.23","2023-03-21","Unaudited"]
["Dental","DEF","Default",1900,"1900-01-01","Q3","1900-09-30","Region 9","Operating Expense","Taxes & Fees","Taxes & Fees","5.3","Section 9010 Health Insurance Providers Fee",{"v":0,"d":"$0.00"},{"v":0,"d":"$0.00"},{"v":0,"d":"$0.00"},{"v":0,"d":"$0.00"},{"v":0,"d":"$0.00"},{"v":0,"d":"$0.00"},"ASR-Dental_Financial_Report_SMMC_03.21.23","2023-03-21","Unaudited"]
["Dental","DEF","Default",1900,"1900-01-01","Q3","1900-09-30","Region 9","Operating Expense","Taxes & Fees","Taxes & Fees","5.4","Other 1",{"v":0,"d":"$0.00"},{"v":0,"d":"$0.00"},{"v":0,"d":"$0.00"},{"v":0,"d":"$0.00"},{"v":0,"d":"$0.00"},{"v":0,"d":"$0.00"},"ASR-Dental_Financial_Report_SMMC_03.21.23","2023-03-21","Unaudited"]
["Dental","DEF","Default",1900,"1900-01-01","Q3","1900-09-30","Region 9","Operating Expense","Taxes & Fees","Taxes & Fees","5.5","Other 2",{"v":0,"d":"$0.00"},{"v":0,"d":"$0.00"},{"v":0,"d":"$0.00"},{"v":0,"d":"$0.00"},{"v":0,"d":"$0.00"},{"v":0,"d":"$0.00"},"ASR-Dental_Financial_Report_SMMC_03.21.23","2023-03-21","Unaudited"]
["Dental","DEF","Default",1900,"1900-01-01","Q3","1900-09-30","Region 9","Operating Expense","Taxes & Fees","Taxes & Fees","5.6","Other 3",{"v":0,"d":"$0.00"},{"v":0,"d":"$0.00"},{"v":0,"d":"$0.00"},{"v":0,"d":"$0.00"},{"v":0,"d":"$0.00"},{"v":0,"d":"$0.00"},"ASR-Dental_Financial_Report_SMMC_03.21.23","2023-03-21","Unaudited"]
["Dental","DEF","Default",1900,"1900-01-01","Q3","1900-09-30","Region 9","Non-Operating Expense","Income Tax Expense","Income Tax Expense","8.0","Income Tax Expense",{"v":0,"d":"$0.00"},{"v":0,"d":"$0.00"},{"v":0,"d":"$0.00"},{"v":0,"d":"$0.00"},{"v":0,"d":"$0.00"},{"v":0,"d":"$0.00"},"ASR-Dental_Financial_Report_SMMC_03.21.23","2023-03-21","Unaudited"]
["Dental","DEF","Default",1900,"1900-01-01","Q4","1900-12-31","Region 9","Member Months","Member Months","Member Months",null,"Member Months",{"v":0,"d":"$0.00"},{"v":0,"d":"$0.00"},{"v":0,"d":"$0.00"},{"v":0,"d":"$0.00"},{"v":0,"d":"$0.00"},{"v":0,"d":"$0.00"},{"$f":"file_name","v":"ASR-Dental_Financial_Report_SMMC_03.21.23"},{"$f":"file_date","v":"2023-03-21"},{"$f":"status","v":"Unaudited"}]
["Dental","DEF","Default",1900,"1900-01-01","Q4","1900-12-31","Region 9","Operating Revenue","Capitation","Capitation","1.1","Capitation",{"v":0,"d":"$0.00"},{"v":0,"d":"$0.00"},{"v":0,"d":"$0.00"},{"v":0,"d":"$0.00"},{"v":0,"d":"$0.00"},{"v":0,"d":"$0.00"},"ASR-Dental_Financial_Report_SMMC_03.21.23","2023-03-21","Unaudited"]
["Dental","DEF","Default",1900,"1900-01-01","Q4","1900-12-31","Region 9","Operating Revenue","Other Revenue","Other Revenue - 9010","1.2","ACA § 9010 related payments",{"$f":"IF(OR(AND($F1732=\"PY\",N$1<>\"Prior Year\"),AND($F1732<>\"PY\",N$1=\"Prior Year\")),0,INDEX(INDIRECT(\"'Dental Rev-Exp \"&$H1732&\"'!$A$1:$CA$200\"),IF($J1732=\"Member Months\",MATCH($J1732,INDIRECT(\"'Dental Rev-Exp \"&$H1732&\"'!$A$1:$A$200\"),0),MATCH($L1732,INDIRECT(\"'Dental Rev-Exp \"&$H1732&\"'!$B$1:$B$200\"),0)),IF($F1732=\"PY\",MATCH(\"Prior Year Adjustments\",INDIRECT(\"'Dental Rev-Exp \"&$H1732&\"'!$A$8:$CA$8\"),0),MATCH(IF($F1732=\"Q1\",\"JANUARY - MARCH (Q1)\",IF($F1732=\"Q2\",\"APRIL - JUNE (Q2)\",IF($F1732=\"Q3\",\"JULY - SEPTEMBER (Q3)\",IF($F1732=\"Q4\",\"OCTOBER - DECEMBER (Q4)\",0)))),INDIRECT(\"'Dental Rev-Exp \"&$H1732&\"'!$A$7:$CA$7\"),0)+MATCH(N$1,INDIRECT(\"'Dental Rev-Exp \"&$H1732&\"'!$D$8:$CA$8\"),0)-1)))","v":{"v":0,"d":"$0.00"}},{"v":0,"d":"$0.00"},{"v":0,"d":"$0.00"},{"v":0,"d":"$0.00"},{"v":0,"d":"$0.00"},{"v":0,"d":"$0.00"},"ASR-Dental_Financial_Report_SMMC_03.21.23","2023-03-21","Unaudited"]
["Dental","DEF","Default",1900,"1900-01-01","Q4","1900-12-31","Region 9","Operating Revenue","Other Revenue","Other Revenue","1.3","Other Revenue",{"v":0,"d":"$0.00"},{"v":0,"d":"$0.00"},{"v":0,"d":"$0.00"},{"v":0,"d":"$0.00"},{"v":0,"d":"$0.00"},{"v":0,"d":"$0.00"},"ASR-Dental_Financial_Report_SMMC_03.21.23","2023-03-21","Unaudited"]
["Dental","DEF","Default",1900,"1900-01-01","Q4","1900-12-31","Region 9","Operating Expense","Medical Expense","Dental Services","2.1","Dental Services Diagnostic",{"v":0,"d":"$0.00"},{"v":0,"d":"$0.00"},{"v":0,"d":"$0.00"},{"v":0,"d":"$0.00"},{"v":0,"d":"$0.00"},{"v":0,"d":"$0.00"},"ASR-Dental_Financial_Report_SMMC_03.21.23","2023-03-21","Unaudited"]
["Dental","DEF","Default",1900,"1900-01-01","Q4","1900-12-31","Region 9","Operating Expense","Medical Expense","Dental Services",2.2,"Dental Services Preventive",{"v":0,"d":"$0.00"},{"v":0,"d":"$0.00"},{"v":0,"d":"$0.00"},{"v":0,"d":"$0.00"},{"v":0,"d":"$0.00"},{"v":0,"d":"$0.00"},"ASR-Dental_Financial_Report_SMMC_03.21.23","2023-03-21","Unaudited"]
["Dental","DEF","Default",1900,"1900-01-01","Q4","1900-12-31","Region 9","Operating Expense","Medical Expense","Dental Services","2.3","Dental Services Restorative",{"v":0,"d":"$0.00"},{"v":0,"d":"$0.00"},{"v":0,"d":"$0.00"},{"v":0,"d":"$0.00"},{"v":0,"d":"$0.00"},{"v":0,"d":"$0.00"},"ASR-Dental_Financial_Report_SMMC_03.21.23","2023-03-21","Unaudited"]
["Dental","DEF","Default",1900,"1900-01-01","Q4","1900-12-31","Region 9","Operating Expense","Medical Expense","Dental Services","2.4","Dental Services Endodontics",{"v":0,"d":"$0.00"},{"v":0,"d":"$0.00"},{"v":0,"d":"$0.00"},{"v":0,"d":"$0.00"},{"v":0,"d":"$0.00"},{"v":0,"d":"$0.00"},"ASR-Dental_Financial_Report_SMMC_03.21.23","2023-03-21","Unaudited"]
["Dental","DEF","Default",1900,"1900-01-01","Q4","1900-12-31","Region 9","Operating Expense","Medical Expense","Dental Services","2.5","Dental Services Periodontics",{"v":0,"d":"$0.00"},{"v":0,"d":"$0.00"},{"v":0,"d":"$0.00"},{"v":0,"d":"$0.00"},{"v":0,"d":"$0.00"},{"v":0,"d":"$0.00"},"ASR-Dental_Financial_Report_SMMC_03.21.23","2023-03-21","Unaudited"]
["Dental","DEF","Default",1900,"1900-01-01","Q4","1900-12-31","Region 9","Operating Expense","Medical Expense","Dental Services","2.6","Dental Services Prosthodontics",{"v":0,"d":"$0.00"},{"v":0,"d":"$0.00"},{"v":0,"d":"$0.00"},{"v":0,"d":"$0.00"},{"v":0,"d":"$0.00"},{"v":0,"d":"$0.00"},"ASR-Dental_Financial_Report_SMMC_03.21.23","2023-03-21","Unaudited"]
["Dental","DEF","Default",1900,"1900-01-01","Q4","1900-12-31","Region 9","Operating Expense","Medical Expense","Dental Services","2.7","Dental Services Prosthodontics, fixed",{"v":0,"d":"$0.00"},{"v":0,"d":"$0.00"},{"v":0,"d":"$0.00"},{"v":0,"d":"$0.00"},{"v":0,"d":"$0.00"},{"v":0,"d":"$0.00"},"ASR-Dental_Financial_Report_SMMC_03.21.23","2023-03-21","Unaudited"]
["Dental","DEF","Default",1900,"1900-01-01","Q4","1900-12-31","Region 9","Operating Expense","Medical Expense","Dental Services","2.8","Dental Services Oral and Maxillofacial Surgery",{"v":0,"d":"$0.00"},{"v":0,"d":"$0.00"},{"v":0,"d":"$0.00"},{"v":0,"d":"$0.00"},{"v":0,"d":"$0.00"},{"v":0,"d":"$0.00"},"ASR-Dental_Financial_Report_SMMC_03.21.23","2023-03-21","Unaudited"]
["Dental","DEF","Default",1900,"1900-01-01","Q4","1900-12-31","Region 9","Operating Expense","Medical Expense","Dental Services","2.9","Dental Services Orthodontics",{"$f":"IF(OR(AND($F1742=\"PY\",N$1<>\"Prior Year\"),AND($F1742<>\"PY\",N$1=\"Prior Year\")),0,INDEX(INDIRECT(\"'Dental Rev-Exp \"&$H1742&\"'!$A$1:$CA$200\"),IF($J1742=\"Member Months\",MATCH($J1742,INDIRECT(\"'Dental Rev-Exp \"&$H1742&\"'!$A$1:$A$200\"),0),MATCH($L1742,INDIRECT(\"'Dental Rev-Exp \"&$H1742&\"'!$B$1:$B$200\"),0)),IF($F1742=\"PY\",MATCH(\"Prior Year Adjustments\",INDIRECT(\"'Dental Rev-Exp \"&$H1742&\"'!$A$8:$CA$8\"),0),MATCH(IF($F1742=\"Q1\",\"JANUARY - MARCH (Q1)\",IF($F1742=\"Q2\",\"APRIL - JUNE (Q2)\",IF($F1742=\"Q3\",\"JULY - SEPTEMBER (Q3)\",IF($F1742=\"Q4\",\"OCTOBER - DECEMBER (Q4)\",0)))),INDIRECT(\"'Dental Rev-Exp \"&$H1742&\"'!$A$7:$CA$7\"),0)+MATCH(N$1,INDIRECT(\"'Dental Rev-Exp \"&$H1742&\"'!$D$8:$CA$8\"),0)-1)))","v":{"v":0,"d":"$0.00"}},{"v":0,"d":"$0.00"},{"v":0,"d":"$0.00"},{"v":0,"d":"$0.00"},{"v":0,"d":"$0.00"},{"v":0,"d":"$0.00"},"ASR-Dental_Financial_Report_SMMC_03.21.23","2023-03-21","Unaudited"]
["Dental","DEF","Default",1900,"1900-01-01","Q4","1900-12-31","Region 9","Operating Expense","Medical Expense","Dental Services","2.10","Dental Services Adjunctive General Services",{"v":0,"d":"$0.00"},{"v":0,"d":"$0.00"},{"v":0,"d":"$0.00"},{"v":0,"d":"$0.00"},{"v":0,"d":"$0.00"},{"v":0,"d":"$0.00"},"ASR-Dental_Financial_Report_SMMC_03.21.23","2023-03-21","Unaudited"]
["Dental","DEF","Default",1900,"1900-01-01","Q4","1900-12-31","Region 9","Operating Expense","Medical Expense","Dental Services","2.11","Dental Services Other",{"v":0,"d":"$0.00"},{"v":0,"d":"$0.00"},{"v":0,"d":"$0.00"},{"v":0,"d":"$0.00"},{"v":0,"d":"$0.00"},{"v":0,"d":"$0.00"},"ASR-Dental_Financial_Report_SMMC_03.21.23","2023-03-21","Unaudited"]
["Dental","DEF","Default",1900,"1900-01-01","Q4","1900-12-31","Region 9","Operating Expense","Medical Expense","Expanded Benefits","2.12","Dental Expanded Benefits",{"v":0,"d":"$0.00"},{"v":0,"d":"$0.00"},{"v":0,"d":"$0.00"},{"v":0,"d":"$0.00"},{"v":0,"d":"$0.00"},{"v":0,"d":"$0.00"},"ASR-Dental_Financial_Report_SMMC_03.21.23","2023-03-21","Unaudited"]
["Dental","DEF","Default",1900,"1900-01-01","Q4","1900-12-31","Region 9","Operating Expense","Medical Expense","Dental Services","2.13","Dental Services Paid through Subcapitation",{"v":0,"d":"$0.00"},{"v":0,"d":"$0.00"},{"v":0,"d":"$0.00"},{"v":0,"d":"$0.00"},{"v":0,"d":"$0.00"},{"v":0,"d":"$0.00"},"ASR-Dental_Financial_Report_SMMC_03.21.23","2023-03-21","Unaudited"]
["Dental","DEF","Default",1900,"1900-01-01","Q4","1900-12-31","Region 9","Operating Expense","Medical Expense","Dental Services","2.14","Ending IBNP for Dental Services",{"v":0,"d":"$0.00"},{"v":0,"d":"$0.00"},{"v":0,"d":"$0.00"},{"v":0,"d":"$0.00"},{"v":0,"d":"$0.00"},{"v":0,"d":"$0.00"},"ASR-Dental_Financial_Report_SMMC_03.21.23","2023-03-21","Unaudited"]
["Dental","DEF","Default",1900,"1900-01-01","Q4","1900-12-31","Region 9","Operating Expense","Medical Expense","Dental Services","2.15","Dental Settlements/AP",{"v":0,"d":"$0.00"},{"v":0,"d":"$0.00"},{"v":0,"d":"$0.00"},{"v":0,"d":"$0.00"},{"v":0,"d":"$0.00"},{"v":0,"d":"$0.00"},"ASR-Dental_Financial_Report_SMMC_03.21.23","2023-03-21","Unaudited"]
["Dental","DEF","Default",1900,"1900-01-01","Q4","1900-12-31","Region 9","Operating Expense","Medical Expense","Other Medical","3.5","TPL & Fraud/Abuse Recoveries",{"v":0,"d":"$0.00"},{"v":0,"d":"$0.00"},{"v":0,"d":"$0.00"},{"v":0,"d":"$0.00"},{"v":0,"d":"$0.00"},{"v":0,"d":"$0.00"},"ASR-Dental_Financial_Report_SMMC_03.21.23","2023-03-21","Unaudited"]
["Dental","DEF","Default",1900,"1900-01-01","Q4","1900-12-31","Region 9","Operating Expense","Medical Expense","Other Medical",3.6,"Premium Deficiency Reserve",{"v":0,"d":"$0.00"},{"v":0,"d":"$0.00"},{"v":0,"d":"$0.00"},{"v":0,"d":"$0.00"},{"v":0,"d":"$0.00"},{"v":0,"d":"$0.00"},"ASR-Dental_Financial_Report_SMMC_03.21.23","2023-03-21","Unaudited"]
["Dental","DEF","Default",1900,"1900-01-01","Q4","1900-12-31","Region 9","Operating Expense","Medical Expense","Other Medical","3.8","Reinsurance Premiums",{"v":0,"d":"$0.00"},{"v":0,"d":"$0.00"},{"v":0,"d":"$0.00"},{"v":0,"d":"$0.00"},{"v":0,"d":"$0.00"},{"v":0,"d":"$0.00"},"ASR-Dental_Financial_Report_SMMC_03.21.23","2023-03-21","Unaudited"]
["Dental","DEF","Default",1900,"1900-01-01","Q4","1900-12-31","Region 9","Operating Expense","Medical Expense","Other Medical","3.9","Reinsurance Recoveries",{"$f":"IF(OR(AND($F1752=\"PY\",N$1<>\"Prior Year\"),AND($F1752<>\"PY\",N$1=\"Prior Year\")),0,INDEX(INDIRECT(\"'Dental Rev-Exp \"&$H1752&\"'!$A$1:$CA$200\"),IF($J1752=\"Member Months\",MATCH($J1752,INDIRECT(\"'Dental Rev-Exp \"&$H1752&\"'!$A$1:$A$200\"),0),MATCH($L1752,INDIRECT(\"'Dental Rev-Exp \"&$H1752&\"'!$B$1:$B$200\"),0)),IF($F1752=\"PY\",MATCH(\"Prior Year Adjustments\",INDIRECT(\"'Dental Rev-Exp \"&$H1752&\"'!$A$8:$CA$8\"),0),MATCH(IF($F1752=\"Q1\",\"JANUARY - MARCH (Q1)\",IF($F1752=\"Q2\",\"APRIL - JUNE (Q2)\",IF($F1752=\"Q3\",\"JULY - SEPTEMBER (Q3)\",IF($F1752=\"Q4\",\"OCTOBER - DECEMBER (Q4)\",0)))),INDIRECT(\"'Dental Rev-Exp \"&$H1752&\"'!$A$7:$CA$7\"),0)+MATCH(N$1,INDIRECT(\"'Dental Rev-Exp \"&$H1752&\"'!$D$8:$CA$8\"),0)-1)))","v":{"v":0,"d":"$0.00"}},{"v":0,"d":"$0.00"},{"v":0,"d":"$0.00"},{"v":0,"d":"$0.00"},{"v":0,"d":"$0.00"},{"v":0,"d":"$0.00"},"ASR-Dental_Financial_Report_SMMC_03.21.23","2023-03-21","Unaudited"]
["Dental","DEF","Default",1900,"1900-01-01","Q4","1900-12-31","Region 9","Operating Expense","Administrative Expense","Administrative","4.1","Salaries & Benefits",{"v":0,"d":"$0.00"},{"v":0,"d":"$0.00"},{"v":0,"d":"$0.00"},{"v":0,"d":"$0.00"},{"v":0,"d":"$0.00"},{"v":0,"d":"$0.00"},"ASR-Dental_Financial_Report_SMMC_03.21.23","2023-03-21","Unaudited"]
["Dental","DEF","Default",1900,"1900-01-01","Q4","1900-12-31","Region 9","Operating Expense","Administrative Expense","Administrative","4.2","Administrative Services",{"v":0,"d":"$0.00"},{"v":0,"d":"$0.00"},{"v":0,"d":"$0.00"},{"v":0,"d":"$0.00"},{"v":0,"d":"$0.00"},{"v":0,"d":"$0.00"},"ASR-Dental_Financial_Report_SMMC_03.21.23","2023-03-21","Unaudited"]
["Dental","DEF","Default",1900,"1900-01-01","Q4","1900-12-31","Region 9","Operating Expense","Administrative Expense","Administrative","4.3","Information Systems",{"v":0,"d":"$0.00"},{"v":0,"d":"$0.00"},{"v":0,"d":"$0.00"},{"v":0,"d":"$0.00"},{"v":0,"d":"$0.00"},{"v":0,"d":"$0.00"},"ASR-Dental_Financial_Report_SMMC_03.21.23","2023-03-21","Unaudited"]
["Dental","DEF","Default",1900,"1900-01-01","Q4","1900-12-31","Region 9","Operating Expense","Administrative Expense","Administrative","4.4","Marketing Expenses",{"v":0,"d":"$0.00"},{"v":0,"d":"$0.00"},{"v":0,"d":"$0.00"},{"v":0,"d":"$0.00"},{"v":0,"d":"$0.00"},{"v":0,"d":"$0.00"},"ASR-Dental_Financial_Report_SMMC_03.21.23","2023-03-21","Unaudited"]
["Dental","DEF","Default",1900,"1900-01-01","Q4","1900-12-31","Region 9","Operating Expense","Administrative Expense","Administrative","4.5","General  Administration",{"v":0,"d":"$0.00"},{"v":0,"d":"$0.00"},{"v":0,"d":"$0.00"},{"v":0,"d":"$0.00"},{"v":0,"d":"$0.00"},{"v":0,"d":"$0.00"},"ASR-Dental_Financial_Report_SMMC_03.21.23","2023-03-21","Unaudited"]
["Dental","DEF","Default",1900,"1900-01-01","Q4","1900-12-31","Region 9","Operating Expense","Administrative Expense","Administrative","4.6","Compliance/Regulatory",{"v":0,"d":"$0.00"},{"v":0,"d":"$0.00"},{"v":0,"d":"$0.00"},{"v":0,"d":"$0.00"},{"v":0,"d":"$0.00"},{"v":0,"d":"$0.00"},"ASR-Dental_Financial_Report_SMMC_03.21.23","2023-03-21","Unaudited"]
["Dental","DEF","Default",1900,"1900-01-01","Q4","1900-12-31","Region 9","Operating Expense","Taxes & Fees","Taxes & Fees","5.1","State Premium tax",{"v":0,"d":"$0.00"},{"v":0,"d":"$0.00"},{"v":0,"d":"$0.00"},{"v":0,"d":"$0.00"},{"v":0,"d":"$0.00"},{"v":0,"d":"$0.00"},"ASR-Dental_Financial_Report_SMMC_03.21.23","2023-03-21","Unaudited"]
["Dental","DEF","Default",1900,"1900-01-01","Q4","1900-12-31","Region 9","Operating Expense","Taxes & Fees","Taxes & Fees","5.2","Department of Insurance Assessments",{"v":0,"d":"$0.00"},{"v":0,"d":"$0.00"},{"v":0,"d":"$0.00"},{"v":0,"d":"$0.00"},{"v":0,"d":"$0.00"},{"v":0,"d":"$0.00"},"ASR-Dental_Financial_Report_SMMC_03.21.23","2023-03-21","Unaudited"]
["Dental","DEF","Default",1900,"1900-01-01","Q4","1900-12-31","Region 9","Operating Expense","Taxes & Fees","Taxes & Fees","5.3","Section 9010 Health Insurance Providers Fee",{"v":0,"d":"$0.00"},{"v":0,"d":"$0.00"},{"v":0,"d":"$0.00"},{"v":0,"d":"$0.00"},{"v":0,"d":"$0.00"},{"v":0,"d":"$0.00"},"ASR-Dental_Financial_Report_SMMC_03.21.23","2023-03-21","Unaudited"]
["Dental","DEF","Default",1900,"1900-01-01","Q4","1900-12-31","Region 9","Operating Expense","Taxes & Fees","Taxes & Fees","5.4","Other 1",{"$f":"IF(OR(AND($F1762=\"PY\",N$1<>\"Prior Year\"),AND($F1762<>\"PY\",N$1=\"Prior Year\")),0,INDEX(INDIRECT(\"'Dental Rev-Exp \"&$H1762&\"'!$A$1:$CA$200\"),IF($J1762=\"Member Months\",MATCH($J1762,INDIRECT(\"'Dental Rev-Exp \"&$H1762&\"'!$A$1:$A$200\"),0),MATCH($L1762,INDIRECT(\"'Dental Rev-Exp \"&$H1762&\"'!$B$1:$B$200\"),0)),IF($F1762=\"PY\",MATCH(\"Prior Year Adjustments\",INDIRECT(\"'Dental Rev-Exp \"&$H1762&\"'!$A$8:$CA$8\"),0),MATCH(IF($F1762=\"Q1\",\"JANUARY - MARCH (Q1)\",IF($F1762=\"Q2\",\"APRIL - JUNE (Q2)\",IF($F1762=\"Q3\",\"JULY - SEPTEMBER (Q3)\",IF($F1762=\"Q4\",\"OCTOBER - DECEMBER (Q4)\",0)))),INDIRECT(\"'Dental Rev-Exp \"&$H1762&\"'!$A$7:$CA$7\"),0)+MATCH(N$1,INDIRECT(\"'Dental Rev-Exp \"&$H1762&\"'!$D$8:$CA$8\"),0)-1)))","v":{"v":0,"d":"$0.00"}},{"v":0,"d":"$0.00"},{"v":0,"d":"$0.00"},{"v":0,"d":"$0.00"},{"v":0,"d":"$0.00"},{"v":0,"d":"$0.00"},"ASR-Dental_Financial_Report_SMMC_03.21.23","2023-03-21","Unaudited"]
["Dental","DEF","Default",1900,"1900-01-01","Q4","1900-12-31","Region 9","Operating Expense","Taxes & Fees","Taxes & Fees","5.5","Other 2",{"v":0,"d":"$0.00"},{"v":0,"d":"$0.00"},{"v":0,"d":"$0.00"},{"v":0,"d":"$0.00"},{"v":0,"d":"$0.00"},{"v":0,"d":"$0.00"},"ASR-Dental_Financial_Report_SMMC_03.21.23","2023-03-21","Unaudited"]
["Dental","DEF","Default",1900,"1900-01-01","Q4","1900-12-31","Region 9","Operating Expense","Taxes & Fees","Taxes & Fees","5.6","Other 3",{"v":0,"d":"$0.00"},{"v":0,"d":"$0.00"},{"v":0,"d":"$0.00"},{"v":0,"d":"$0.00"},{"v":0,"d":"$0.00"},{"v":0,"d":"$0.00"},"ASR-Dental_Financial_Report_SMMC_03.21.23","2023-03-21","Unaudited"]
["Dental","DEF","Default",1900,"1900-01-01","Q4","1900-12-31","Region 9","Non-Operating Expense","Income Tax Expense","Income Tax Expense","8.0","Income Tax Expense",{"v":0,"d":"$0.00"},{"v":0,"d":"$0.00"},{"v":0,"d":"$0.00"},{"v":0,"d":"$0.00"},{"v":0,"d":"$0.00"},{"v":0,"d":"$0.00"},"ASR-Dental_Financial_Report_SMMC_03.21.23","2023-03-21","Unaudited"]
["Dental","DEF","Default",1900,"1900-01-01","PY","1/1/1800","Region 9","Member Months","Member Months","Member Months",null,"Member Months",{"v":0,"d":"$0.00"},{"v":0,"d":"$0.00"},{"v":0,"d":"$0.00"},{"v":0,"d":"$0.00"},{"v":0,"d":"$0.00"},{"v":0,"d":"$0.00"},"ASR-Dental_Financial_Report_SMMC_03.21.23","2023-03-21","Unaudited"]
["Dental","DEF","Default",1900,"1900-01-01","PY","1/1/1800","Region 9","Operating Revenue","Capitation","Capitation","1.1","Capitation",{"v":0,"d":"$0.00"},{"v":0,"d":"$0.00"},{"v":0,"d":"$0.00"},{"v":0,"d":"$0.00"},{"v":0,"d":"$0.00"},{"v":0,"d":"$0.00"},"ASR-Dental_Financial_Report_SMMC_03.21.23","2023-03-21","Unaudited"]
["Dental","DEF","Default",1900,"1900-01-01","PY","1/1/1800","Region 9","Operating Revenue","Other Revenue","Other Revenue - 9010","1.2","ACA § 9010 related payments",{"v":0,"d":"$0.00"},{"v":0,"d":"$0.00"},{"v":0,"d":"$0.00"},{"v":0,"d":"$0.00"},{"v":0,"d":"$0.00"},{"v":0,"d":"$0.00"},"ASR-Dental_Financial_Report_SMMC_03.21.23","2023-03-21","Unaudited"]
["Dental","DEF","Default",1900,"1900-01-01","PY","1/1/1800","Region 9","Operating Revenue","Other Revenue","Other Revenue","1.3","Other Revenue",{"v":0,"d":"$0.00"},{"v":0,"d":"$0.00"},{"v":0,"d":"$0.00"},{"v":0,"d":"$0.00"},{"v":0,"d":"$0.00"},{"v":0,"d":"$0.00"},"ASR-Dental_Financial_Report_SMMC_03.21.23","2023-03-21","Unaudited"]
["Dental","DEF","Default",1900,"1900-01-01","PY","1/1/1800","Region 9","Operating Expense","Medical Expense","Dental Services","2.1","Dental Services Diagnostic",{"v":0,"d":"$0.00"},{"v":0,"d":"$0.00"},{"v":0,"d":"$0.00"},{"v":0,"d":"$0.00"},{"v":0,"d":"$0.00"},{"v":0,"d":"$0.00"},"ASR-Dental_Financial_Report_SMMC_03.21.23","2023-03-21","Unaudited"]
["Dental","DEF","Default",1900,"1900-01-01","PY","1/1/1800","Region 9","Operating Expense","Medical Expense","Dental Services",2.2,"Dental Services Preventive",{"v":0,"d":"$0.00"},{"v":0,"d":"$0.00"},{"v":0,"d":"$0.00"},{"v":0,"d":"$0.00"},{"v":0,"d":"$0.00"},{"v":0,"d":"$0.00"},"ASR-Dental_Financial_Report_SMMC_03.21.23","2023-03-21","Unaudited"]
["Dental","DEF","Default",1900,"1900-01-01","PY","1/1/1800","Region 9","Operating Expense","Medical Expense","Dental Services","2.3","Dental Services Restorative",{"$f":"IF(OR(AND($F1772=\"PY\",N$1<>\"Prior Year\"),AND($F1772<>\"PY\",N$1=\"Prior Year\")),0,INDEX(INDIRECT(\"'Dental Rev-Exp \"&$H1772&\"'!$A$1:$CA$200\"),IF($J1772=\"Member Months\",MATCH($J1772,INDIRECT(\"'Dental Rev-Exp \"&$H1772&\"'!$A$1:$A$200\"),0),MATCH($L1772,INDIRECT(\"'Dental Rev-Exp \"&$H1772&\"'!$B$1:$B$200\"),0)),IF($F1772=\"PY\",MATCH(\"Prior Year Adjustments\",INDIRECT(\"'Dental Rev-Exp \"&$H1772&\"'!$A$8:$CA$8\"),0),MATCH(IF($F1772=\"Q1\",\"JANUARY - MARCH (Q1)\",IF($F1772=\"Q2\",\"APRIL - JUNE (Q2)\",IF($F1772=\"Q3\",\"JULY - SEPTEMBER (Q3)\",IF($F1772=\"Q4\",\"OCTOBER - DECEMBER (Q4)\",0)))),INDIRECT(\"'Dental Rev-Exp \"&$H1772&\"'!$A$7:$CA$7\"),0)+MATCH(N$1,INDIRECT(\"'Dental Rev-Exp \"&$H1772&\"'!$D$8:$CA$8\"),0)-1)))","v":{"v":0,"d":"$0.00"}},{"v":0,"d":"$0.00"},{"v":0,"d":"$0.00"},{"v":0,"d":"$0.00"},{"v":0,"d":"$0.00"},{"v":0,"d":"$0.00"},"ASR-Dental_Financial_Report_SMMC_03.21.23","2023-03-21","Unaudited"]
["Dental","DEF","Default",1900,"1900-01-01","PY","1/1/1800","Region 9","Operating Expense","Medical Expense","Dental Services","2.4","Dental Services Endodontics",{"v":0,"d":"$0.00"},{"v":0,"d":"$0.00"},{"v":0,"d":"$0.00"},{"v":0,"d":"$0.00"},{"v":0,"d":"$0.00"},{"v":0,"d":"$0.00"},"ASR-Dental_Financial_Report_SMMC_03.21.23","2023-03-21","Unaudited"]
["Dental","DEF","Default",1900,"1900-01-01","PY","1/1/1800","Region 9","Operating Expense","Medical Expense","Dental Services","2.5","Dental Services Periodontics",{"v":0,"d":"$0.00"},{"v":0,"d":"$0.00"},{"v":0,"d":"$0.00"},{"v":0,"d":"$0.00"},{"v":0,"d":"$0.00"},{"v":0,"d":"$0.00"},"ASR-Dental_Financial_Report_SMMC_03.21.23","2023-03-21","Unaudited"]
["Dental","DEF","Default",1900,"1900-01-01","PY","1/1/1800","Region 9","Operating Expense","Medical Expense","Dental Services","2.6","Dental Services Prosthodontics",{"v":0,"d":"$0.00"},{"v":0,"d":"$0.00"},{"v":0,"d":"$0.00"},{"v":0,"d":"$0.00"},{"v":0,"d":"$0.00"},{"v":0,"d":"$0.00"},"ASR-Dental_Financial_Report_SMMC_03.21.23","2023-03-21","Unaudited"]
["Dental","DEF","Default",1900,"1900-01-01","PY","1/1/1800","Region 9","Operating Expense","Medical Expense","Dental Services","2.7","Dental Services Prosthodontics, fixed",{"v":0,"d":"$0.00"},{"v":0,"d":"$0.00"},{"v":0,"d":"$0.00"},{"v":0,"d":"$0.00"},{"v":0,"d":"$0.00"},{"v":0,"d":"$0.00"},"ASR-Dental_Financial_Report_SMMC_03.21.23","2023-03-21","Unaudited"]
["Dental","DEF","Default",1900,"1900-01-01","PY","1/1/1800","Region 9","Operating Expense","Medical Expense","Dental Services","2.8","Dental Services Oral and Maxillofacial Surgery",{"v":0,"d":"$0.00"},{"v":0,"d":"$0.00"},{"v":0,"d":"$0.00"},{"v":0,"d":"$0.00"},{"v":0,"d":"$0.00"},{"v":0,"d":"$0.00"},"ASR-Dental_Financial_Report_SMMC_03.21.23","2023-03-21","Unaudited"]
["Dental","DEF","Default",1900,"1900-01-01","PY","1/1/1800","Region 9","Operating Expense","Medical Expense","Dental Services","2.9","Dental Services Orthodontics",{"v":0,"d":"$0.00"},{"v":0,"d":"$0.00"},{"v":0,"d":"$0.00"},{"v":0,"d":"$0.00"},{"v":0,"d":"$0.00"},{"v":0,"d":"$0.00"},"ASR-Dental_Financial_Report_SMMC_03.21.23","2023-03-21","Unaudited"]
["Dental","DEF","Default",1900,"1900-01-01","PY","1/1/1800","Region 9","Operating Expense","Medical Expense","Dental Services","2.10","Dental Services Adjunctive General Services",{"v":0,"d":"$0.00"},{"v":0,"d":"$0.00"},{"v":0,"d":"$0.00"},{"v":0,"d":"$0.00"},{"v":0,"d":"$0.00"},{"v":0,"d":"$0.00"},"ASR-Dental_Financial_Report_SMMC_03.21.23","2023-03-21","Unaudited"]
["Dental","DEF","Default",1900,"1900-01-01","PY","1/1/1800","Region 9","Operating Expense","Medical Expense","Dental Services","2.11","Dental Services Other",{"v":0,"d":"$0.00"},{"v":0,"d":"$0.00"},{"v":0,"d":"$0.00"},{"v":0,"d":"$0.00"},{"v":0,"d":"$0.00"},{"v":0,"d":"$0.00"},"ASR-Dental_Financial_Report_SMMC_03.21.23","2023-03-21","Unaudited"]
["Dental","DEF","Default",1900,"1900-01-01","PY","1/1/1800","Region 9","Operating Expense","Medical Expense","Expanded Benefits","2.12","Dental Expanded Benefits",{"v":0,"d":"$0.00"},{"v":0,"d":"$0.00"},{"v":0,"d":"$0.00"},{"v":0,"d":"$0.00"},{"v":0,"d":"$0.00"},{"v":0,"d":"$0.00"},"ASR-Dental_Financial_Report_SMMC_03.21.23","2023-03-21","Unaudited"]
["Dental","DEF","Default",1900,"1900-01-01","PY","1/1/1800","Region 9","Operating Expense","Medical Expense","Dental Services","2.13","Dental Services Paid through Subcapitation",{"$f":"IF(OR(AND($F1782=\"PY\",N$1<>\"Prior Year\"),AND($F1782<>\"PY\",N$1=\"Prior Year\")),0,INDEX(INDIRECT(\"'Dental Rev-Exp \"&$H1782&\"'!$A$1:$CA$200\"),IF($J1782=\"Member Months\",MATCH($J1782,INDIRECT(\"'Dental Rev-Exp \"&$H1782&\"'!$A$1:$A$200\"),0),MATCH($L1782,INDIRECT(\"'Dental Rev-Exp \"&$H1782&\"'!$B$1:$B$200\"),0)),IF($F1782=\"PY\",MATCH(\"Prior Year Adjustments\",INDIRECT(\"'Dental Rev-Exp \"&$H1782&\"'!$A$8:$CA$8\"),0),MATCH(IF($F1782=\"Q1\",\"JANUARY - MARCH (Q1)\",IF($F1782=\"Q2\",\"APRIL - JUNE (Q2)\",IF($F1782=\"Q3\",\"JULY - SEPTEMBER (Q3)\",IF($F1782=\"Q4\",\"OCTOBER - DECEMBER (Q4)\",0)))),INDIRECT(\"'Dental Rev-Exp \"&$H1782&\"'!$A$7:$CA$7\"),0)+MATCH(N$1,INDIRECT(\"'Dental Rev-Exp \"&$H1782&\"'!$D$8:$CA$8\"),0)-1)))","v":{"v":0,"d":"$0.00"}},{"v":0,"d":"$0.00"},{"v":0,"d":"$0.00"},{"v":0,"d":"$0.00"},{"v":0,"d":"$0.00"},{"v":0,"d":"$0.00"},"ASR-Dental_Financial_Report_SMMC_03.21.23","2023-03-21","Unaudited"]
["Dental","DEF","Default",1900,"1900-01-01","PY","1/1/1800","Region 9","Operating Expense","Medical Expense","Dental Services","2.14","Ending IBNP for Dental Services",{"v":0,"d":"$0.00"},{"v":0,"d":"$0.00"},{"v":0,"d":"$0.00"},{"v":0,"d":"$0.00"},{"v":0,"d":"$0.00"},{"v":0,"d":"$0.00"},"ASR-Dental_Financial_Report_SMMC_03.21.23","2023-03-21","Unaudited"]
["Dental","DEF","Default",1900,"1900-01-01","PY","1/1/1800","Region 9","Operating Expense","Medical Expense","Dental Services","2.15","Dental Settlements/AP",{"v":0,"d":"$0.00"},{"v":0,"d":"$0.00"},{"v":0,"d":"$0.00"},{"v":0,"d":"$0.00"},{"v":0,"d":"$0.00"},{"v":0,"d":"$0.00"},"ASR-Dental_Financial_Report_SMMC_03.21.23","2023-03-21","Unaudited"]
["Dental","DEF","Default",1900,"1900-01-01","PY","1/1/1800","Region 9","Operating Expense","Medical Expense","Other Medical","3.5","TPL & Fraud/Abuse Recoveries",{"v":0,"d":"$0.00"},{"v":0,"d":"$0.00"},{"v":0,"d":"$0.00"},{"v":0,"d":"$0.00"},{"v":0,"d":"$0.00"},{"v":0,"d":"$0.00"},"ASR-Dental_Financial_Report_SMMC_03.21.23","2023-03-21","Unaudited"]
["Dental","DEF","Default",1900,"1900-01-01","PY","1/1/1800","Region 9","Operating Expense","Medical Expense","Other Medical",3.6,"Premium Deficiency Reserve",{"v":0,"d":"$0.00"},{"v":0,"d":"$0.00"},{"v":0,"d":"$0.00"},{"v":0,"d":"$0.00"},{"v":0,"d":"$0.00"},{"v":0,"d":"$0.00"},"ASR-Dental_Financial_Report_SMMC_03.21.23","2023-03-21","Unaudited"]
["Dental","DEF","Default",1900,"1900-01-01","PY","1/1/1800","Region 9","Operating Expense","Medical Expense","Other Medical","3.8","Reinsurance Premiums",{"v":0,"d":"$0.00"},{"v":0,"d":"$0.00"},{"v":0,"d":"$0.00"},{"v":0,"d":"$0.00"},{"v":0,"d":"$0.00"},{"v":0,"d":"$0.00"},"ASR-Dental_Financial_Report_SMMC_03.21.23","2023-03-21","Unaudited"]
["Dental","DEF","Default",1900,"1900-01-01","PY","1/1/1800","Region 9","Operating Expense","Medical Expense","Other Medical","3.9","Reinsurance Recoveries",{"v":0,"d":"$0.00"},{"v":0,"d":"$0.00"},{"v":0,"d":"$0.00"},{"v":0,"d":"$0.00"},{"v":0,"d":"$0.00"},{"v":0,"d":"$0.00"},"ASR-Dental_Financial_Report_SMMC_03.21.23","2023-03-21","Unaudited"]
["Dental","DEF","Default",1900,"1900-01-01","PY","1/1/1800","Region 9","Operating Expense","Administrative Expense","Administrative","4.1","Salaries & Benefits",{"v":0,"d":"$0.00"},{"v":0,"d":"$0.00"},{"v":0,"d":"$0.00"},{"v":0,"d":"$0.00"},{"v":0,"d":"$0.00"},{"v":0,"d":"$0.00"},"ASR-Dental_Financial_Report_SMMC_03.21.23","2023-03-21","Unaudited"]
["Dental","DEF","Default",1900,"1900-01-01","PY","1/1/1800","Region 9","Operating Expense","Administrative Expense","Administrative","4.2","Administrative Services",{"v":0,"d":"$0.00"},{"v":0,"d":"$0.00"},{"v":0,"d":"$0.00"},{"v":0,"d":"$0.00"},{"v":0,"d":"$0.00"},{"v":0,"d":"$0.00"},"ASR-Dental_Financial_Report_SMMC_03.21.23","2023-03-21","Unaudited"]
["Dental","DEF","Default",1900,"1900-01-01","PY","1/1/1800","Region 9","Operating Expense","Administrative Expense","Administrative","4.3","Information Systems",{"v":0,"d":"$0.00"},{"v":0,"d":"$0.00"},{"v":0,"d":"$0.00"},{"v":0,"d":"$0.00"},{"v":0,"d":"$0.00"},{"v":0,"d":"$0.00"},"ASR-Dental_Financial_Report_SMMC_03.21.23","2023-03-21","Unaudited"]
["Dental","DEF","Default",1900,"1900-01-01","PY","1/1/1800","Region 9","Operating Expense","Administrative Expense","Administrative","4.4","Marketing Expenses",{"$f":"IF(OR(AND($F1792=\"PY\",N$1<>\"Prior Year\"),AND($F1792<>\"PY\",N$1=\"Prior Year\")),0,INDEX(INDIRECT(\"'Dental Rev-Exp \"&$H1792&\"'!$A$1:$CA$200\"),IF($J1792=\"Member Months\",MATCH($J1792,INDIRECT(\"'Dental Rev-Exp \"&$H1792&\"'!$A$1:$A$200\"),0),MATCH($L1792,INDIRECT(\"'Dental Rev-Exp \"&$H1792&\"'!$B$1:$B$200\"),0)),IF($F1792=\"PY\",MATCH(\"Prior Year Adjustments\",INDIRECT(\"'Dental Rev-Exp \"&$H1792&\"'!$A$8:$CA$8\"),0),MATCH(IF($F1792=\"Q1\",\"JANUARY - MARCH (Q1)\",IF($F1792=\"Q2\",\"APRIL - JUNE (Q2)\",IF($F1792=\"Q3\",\"JULY - SEPTEMBER (Q3)\",IF($F1792=\"Q4\",\"OCTOBER - DECEMBER (Q4)\",0)))),INDIRECT(\"'Dental Rev-Exp \"&$H1792&\"'!$A$7:$CA$7\"),0)+MATCH(N$1,INDIRECT(\"'Dental Rev-Exp \"&$H1792&\"'!$D$8:$CA$8\"),0)-1)))","v":{"v":0,"d":"$0.00"}},{"v":0,"d":"$0.00"},{"v":0,"d":"$0.00"},{"v":0,"d":"$0.00"},{"v":0,"d":"$0.00"},{"v":0,"d":"$0.00"},"ASR-Dental_Financial_Report_SMMC_03.21.23","2023-03-21","Unaudited"]
["Dental","DEF","Default",1900,"1900-01-01","PY","1/1/1800","Region 9","Operating Expense","Administrative Expense","Administrative","4.5","General  Administration",{"v":0,"d":"$0.00"},{"v":0,"d":"$0.00"},{"v":0,"d":"$0.00"},{"v":0,"d":"$0.00"},{"v":0,"d":"$0.00"},{"v":0,"d":"$0.00"},"ASR-Dental_Financial_Report_SMMC_03.21.23","2023-03-21","Unaudited"]
["Dental","DEF","Default",1900,"1900-01-01","PY","1/1/1800","Region 9","Operating Expense","Administrative Expense","Administrative","4.6","Compliance/Regulatory",{"v":0,"d":"$0.00"},{"v":0,"d":"$0.00"},{"v":0,"d":"$0.00"},{"v":0,"d":"$0.00"},{"v":0,"d":"$0.00"},{"v":0,"d":"$0.00"},{"$f":"file_name","v":"ASR-Dental_Financial_Report_SMMC_03.21.23"},{"$f":"file_date","v":"2023-03-21"},{"$f":"status","v":"Unaudited"}]
["Dental","DEF","Default",1900,"1900-01-01","PY","1/1/1800","Region 9","Operating Expense","Taxes & Fees","Taxes & Fees","5.1","State Premium tax",{"v":0,"d":"$0.00"},{"v":0,"d":"$0.00"},{"v":0,"d":"$0.00"},{"v":0,"d":"$0.00"},{"v":0,"d":"$0.00"},{"v":0,"d":"$0.00"},"ASR-Dental_Financial_Report_SMMC_03.21.23","2023-03-21","Unaudited"]
["Dental","DEF","Default",1900,"1900-01-01","PY","1/1/1800","Region 9","Operating Expense","Taxes & Fees","Taxes & Fees","5.2","Department of Insurance Assessments",{"v":0,"d":"$0.00"},{"v":0,"d":"$0.00"},{"v":0,"d":"$0.00"},{"v":0,"d":"$0.00"},{"v":0,"d":"$0.00"},{"v":0,"d":"$0.00"},"ASR-Dental_Financial_Report_SMMC_03.21.23","2023-03-21","Unaudited"]
["Dental","DEF","Default",1900,"1900-01-01","PY","1/1/1800","Region 9","Operating Expense","Taxes & Fees","Taxes & Fees","5.3","Section 9010 Health Insurance Providers Fee",{"v":0,"d":"$0.00"},{"v":0,"d":"$0.00"},{"v":0,"d":"$0.00"},{"v":0,"d":"$0.00"},{"v":0,"d":"$0.00"},{"v":0,"d":"$0.00"},"ASR-Dental_Financial_Report_SMMC_03.21.23","2023-03-21","Unaudited"]
["Dental","DEF","Default",1900,"1900-01-01","PY","1/1/1800","Region 9","Operating Expense","Taxes & Fees","Taxes & Fees","5.4","Other 1",{"v":0,"d":"$0.00"},{"v":0,"d":"$0.00"},{"v":0,"d":"$0.00"},{"v":0,"d":"$0.00"},{"v":0,"d":"$0.00"},{"v":0,"d":"$0.00"},"ASR-Dental_Financial_Report_SMMC_03.21.23","2023-03-21","Unaudited"]
["Dental","DEF","Default",1900,"1900-01-01","PY","1/1/1800","Region 9","Operating Expense","Taxes & Fees","Taxes & Fees","5.5","Other 2",{"v":0,"d":"$0.00"},{"v":0,"d":"$0.00"},{"v":0,"d":"$0.00"},{"v":0,"d":"$0.00"},{"v":0,"d":"$0.00"},{"v":0,"d":"$0.00"},"ASR-Dental_Financial_Report_SMMC_03.21.23","2023-03-21","Unaudited"]
["Dental","DEF","Default",1900,"1900-01-01","PY","1/1/1800","Region 9","Operating Expense","Taxes & Fees","Taxes & Fees","5.6","Other 3",{"v":0,"d":"$0.00"},{"v":0,"d":"$0.00"},{"v":0,"d":"$0.00"},{"v":0,"d":"$0.00"},{"v":0,"d":"$0.00"},{"v":0,"d":"$0.00"},"ASR-Dental_Financial_Report_SMMC_03.21.23","2023-03-21","Unaudited"]
["Dental","DEF","Default",1900,"1900-01-01","PY","1/1/1800","Region 9","Non-Operating Expense","Income Tax Expense","Income Tax Expense","8.0","Income Tax Expense",{"v":0,"d":"$0.00"},{"v":0,"d":"$0.00"},{"v":0,"d":"$0.00"},{"v":0,"d":"$0.00"},{"v":0,"d":"$0.00"},{"v":0,"d":"$0.00"},"ASR-Dental_Financial_Report_SMMC_03.21.23","2023-03-21","Unaudited"]
["Dental","DEF","Default",1900,"1900-01-01","Q1","1900-03-31","Region 10","Member Months","Member Months","Member Months",null,"Member Months",{"$f":"IF(OR(AND($F1802=\"PY\",N$1<>\"Prior Year\"),AND($F1802<>\"PY\",N$1=\"Prior Year\")),0,INDEX(INDIRECT(\"'Dental Rev-Exp \"&$H1802&\"'!$A$1:$CA$200\"),IF($J1802=\"Member Months\",MATCH($J1802,INDIRECT(\"'Dental Rev-Exp \"&$H1802&\"'!$A$1:$A$200\"),0),MATCH($L1802,INDIRECT(\"'Dental Rev-Exp \"&$H1802&\"'!$B$1:$B$200\"),0)),IF($F1802=\"PY\",MATCH(\"Prior Year Adjustments\",INDIRECT(\"'Dental Rev-Exp \"&$H1802&\"'!$A$8:$CA$8\"),0),MATCH(IF($F1802=\"Q1\",\"JANUARY - MARCH (Q1)\",IF($F1802=\"Q2\",\"APRIL - JUNE (Q2)\",IF($F1802=\"Q3\",\"JULY - SEPTEMBER (Q3)\",IF($F1802=\"Q4\",\"OCTOBER - DECEMBER (Q4)\",0)))),INDIRECT(\"'Dental Rev-Exp \"&$H1802&\"'!$A$7:$CA$7\"),0)+MATCH(N$1,INDIRECT(\"'Dental Rev-Exp \"&$H1802&\"'!$D$8:$CA$8\"),0)-1)))","v":{"v":0,"d":"$0.00"}},{"v":0,"d":"$0.00"},{"v":0,"d":"$0.00"},{"v":0,"d":"$0.00"},{"v":0,"d":"$0.00"},{"v":0,"d":"$0.00"},"ASR-Dental_Financial_Report_SMMC_03.21.23","2023-03-21","Unaudited"]
["Dental","DEF","Default",1900,"1900-01-01","Q1","1900-03-31","Region 10","Operating Revenue","Capitation","Capitation","1.1","Capitation",{"v":0,"d":"$0.00"},{"v":0,"d":"$0.00"},{"v":0,"d":"$0.00"},{"v":0,"d":"$0.00"},{"v":0,"d":"$0.00"},{"v":0,"d":"$0.00"},"ASR-Dental_Financial_Report_SMMC_03.21.23","2023-03-21","Unaudited"]
["Dental","DEF","Default",1900,"1900-01-01","Q1","1900-03-31","Region 10","Operating Revenue","Other Revenue","Other Revenue - 9010","1.2","ACA § 9010 related payments",{"v":0,"d":"$0.00"},{"v":0,"d":"$0.00"},{"v":0,"d":"$0.00"},{"v":0,"d":"$0.00"},{"v":0,"d":"$0.00"},{"v":0,"d":"$0.00"},"ASR-Dental_Financial_Report_SMMC_03.21.23","2023-03-21","Unaudited"]
["Dental","DEF","Default",1900,"1900-01-01","Q1","1900-03-31","Region 10","Operating Revenue","Other Revenue","Other Revenue","1.3","Other Revenue",{"v":0,"d":"$0.00"},{"v":0,"d":"$0.00"},{"v":0,"d":"$0.00"},{"v":0,"d":"$0.00"},{"v":0,"d":"$0.00"},{"v":0,"d":"$0.00"},"ASR-Dental_Financial_Report_SMMC_03.21.23","2023-03-21","Unaudited"]
["Dental","DEF","Default",1900,"1900-01-01","Q1","1900-03-31","Region 10","Operating Expense","Medical Expense","Dental Services","2.1","Dental Services Diagnostic",{"v":0,"d":"$0.00"},{"v":0,"d":"$0.00"},{"v":0,"d":"$0.00"},{"v":0,"d":"$0.00"},{"v":0,"d":"$0.00"},{"v":0,"d":"$0.00"},"ASR-Dental_Financial_Report_SMMC_03.21.23","2023-03-21","Unaudited"]
["Dental","DEF","Default",1900,"1900-01-01","Q1","1900-03-31","Region 10","Operating Expense","Medical Expense","Dental Services",2.2,"Dental Services Preventive",{"v":0,"d":"$0.00"},{"v":0,"d":"$0.00"},{"v":0,"d":"$0.00"},{"v":0,"d":"$0.00"},{"v":0,"d":"$0.00"},{"v":0,"d":"$0.00"},"ASR-Dental_Financial_Report_SMMC_03.21.23","2023-03-21","Unaudited"]
["Dental","DEF","Default",1900,"1900-01-01","Q1","1900-03-31","Region 10","Operating Expense","Medical Expense","Dental Services","2.3","Dental Services Restorative",{"v":0,"d":"$0.00"},{"v":0,"d":"$0.00"},{"v":0,"d":"$0.00"},{"v":0,"d":"$0.00"},{"v":0,"d":"$0.00"},{"v":0,"d":"$0.00"},"ASR-Dental_Financial_Report_SMMC_03.21.23","2023-03-21","Unaudited"]
["Dental","DEF","Default",1900,"1900-01-01","Q1","1900-03-31","Region 10","Operating Expense","Medical Expense","Dental Services","2.4","Dental Services Endodontics",{"v":0,"d":"$0.00"},{"v":0,"d":"$0.00"},{"v":0,"d":"$0.00"},{"v":0,"d":"$0.00"},{"v":0,"d":"$0.00"},{"v":0,"d":"$0.00"},"ASR-Dental_Financial_Report_SMMC_03.21.23","2023-03-21","Unaudited"]
["Dental","DEF","Default",1900,"1900-01-01","Q1","1900-03-31","Region 10","Operating Expense","Medical Expense","Dental Services","2.5","Dental Services Periodontics",{"v":0,"d":"$0.00"},{"v":0,"d":"$0.00"},{"v":0,"d":"$0.00"},{"v":0,"d":"$0.00"},{"v":0,"d":"$0.00"},{"v":0,"d":"$0.00"},"ASR-Dental_Financial_Report_SMMC_03.21.23","2023-03-21","Unaudited"]
["Dental","DEF","Default",1900,"1900-01-01","Q1","1900-03-31","Region 10","Operating Expense","Medical Expense","Dental Services","2.6","Dental Services Prosthodontics",{"v":0,"d":"$0.00"},{"v":0,"d":"$0.00"},{"v":0,"d":"$0.00"},{"v":0,"d":"$0.00"},{"v":0,"d":"$0.00"},{"v":0,"d":"$0.00"},"ASR-Dental_Financial_Report_SMMC_03.21.23","2023-03-21","Unaudited"]
["Dental","DEF","Default",1900,"1900-01-01","Q1","1900-03-31","Region 10","Operating Expense","Medical Expense","Dental Services","2.7","Dental Services Prosthodontics, fixed",{"$f":"IF(OR(AND($F1812=\"PY\",N$1<>\"Prior Year\"),AND($F1812<>\"PY\",N$1=\"Prior Year\")),0,INDEX(INDIRECT(\"'Dental Rev-Exp \"&$H1812&\"'!$A$1:$CA$200\"),IF($J1812=\"Member Months\",MATCH($J1812,INDIRECT(\"'Dental Rev-Exp \"&$H1812&\"'!$A$1:$A$200\"),0),MATCH($L1812,INDIRECT(\"'Dental Rev-Exp \"&$H1812&\"'!$B$1:$B$200\"),0)),IF($F1812=\"PY\",MATCH(\"Prior Year Adjustments\",INDIRECT(\"'Dental Rev-Exp \"&$H1812&\"'!$A$8:$CA$8\"),0),MATCH(IF($F1812=\"Q1\",\"JANUARY - MARCH (Q1)\",IF($F1812=\"Q2\",\"APRIL - JUNE (Q2)\",IF($F1812=\"Q3\",\"JULY - SEPTEMBER (Q3)\",IF($F1812=\"Q4\",\"OCTOBER - DECEMBER (Q4)\",0)))),INDIRECT(\"'Dental Rev-Exp \"&$H1812&\"'!$A$7:$CA$7\"),0)+MATCH(N$1,INDIRECT(\"'Dental Rev-Exp \"&$H1812&\"'!$D$8:$CA$8\"),0)-1)))","v":{"v":0,"d":"$0.00"}},{"v":0,"d":"$0.00"},{"v":0,"d":"$0.00"},{"v":0,"d":"$0.00"},{"v":0,"d":"$0.00"},{"v":0,"d":"$0.00"},"ASR-Dental_Financial_Report_SMMC_03.21.23","2023-03-21","Unaudited"]
["Dental","DEF","Default",1900,"1900-01-01","Q1","1900-03-31","Region 10","Operating Expense","Medical Expense","Dental Services","2.8","Dental Services Oral and Maxillofacial Surgery",{"v":0,"d":"$0.00"},{"v":0,"d":"$0.00"},{"v":0,"d":"$0.00"},{"v":0,"d":"$0.00"},{"v":0,"d":"$0.00"},{"v":0,"d":"$0.00"},"ASR-Dental_Financial_Report_SMMC_03.21.23","2023-03-21","Unaudited"]
["Dental","DEF","Default",1900,"1900-01-01","Q1","1900-03-31","Region 10","Operating Expense","Medical Expense","Dental Services","2.9","Dental Services Orthodontics",{"v":0,"d":"$0.00"},{"v":0,"d":"$0.00"},{"v":0,"d":"$0.00"},{"v":0,"d":"$0.00"},{"v":0,"d":"$0.00"},{"v":0,"d":"$0.00"},"ASR-Dental_Financial_Report_SMMC_03.21.23","2023-03-21","Unaudited"]
["Dental","DEF","Default",1900,"1900-01-01","Q1","1900-03-31","Region 10","Operating Expense","Medical Expense","Dental Services","2.10","Dental Services Adjunctive General Services",{"v":0,"d":"$0.00"},{"v":0,"d":"$0.00"},{"v":0,"d":"$0.00"},{"v":0,"d":"$0.00"},{"v":0,"d":"$0.00"},{"v":0,"d":"$0.00"},"ASR-Dental_Financial_Report_SMMC_03.21.23","2023-03-21","Unaudited"]
["Dental","DEF","Default",1900,"1900-01-01","Q1","1900-03-31","Region 10","Operating Expense","Medical Expense","Dental Services","2.11","Dental Services Other",{"v":0,"d":"$0.00"},{"v":0,"d":"$0.00"},{"v":0,"d":"$0.00"},{"v":0,"d":"$0.00"},{"v":0,"d":"$0.00"},{"v":0,"d":"$0.00"},"ASR-Dental_Financial_Report_SMMC_03.21.23","2023-03-21","Unaudited"]
["Dental","DEF","Default",1900,"1900-01-01","Q1","1900-03-31","Region 10","Operating Expense","Medical Expense","Expanded Benefits","2.12","Dental Expanded Benefits",{"v":0,"d":"$0.00"},{"v":0,"d":"$0.00"},{"v":0,"d":"$0.00"},{"v":0,"d":"$0.00"},{"v":0,"d":"$0.00"},{"v":0,"d":"$0.00"},"ASR-Dental_Financial_Report_SMMC_03.21.23","2023-03-21","Unaudited"]
["Dental","DEF","Default",1900,"1900-01-01","Q1","1900-03-31","Region 10","Operating Expense","Medical Expense","Dental Services","2.13","Dental Services Paid through Subcapitation",{"v":0,"d":"$0.00"},{"v":0,"d":"$0.00"},{"v":0,"d":"$0.00"},{"v":0,"d":"$0.00"},{"v":0,"d":"$0.00"},{"v":0,"d":"$0.00"},"ASR-Dental_Financial_Report_SMMC_03.21.23","2023-03-21","Unaudited"]
["Dental","DEF","Default",1900,"1900-01-01","Q1","1900-03-31","Region 10","Operating Expense","Medical Expense","Dental Services","2.14","Ending IBNP for Dental Services",{"v":0,"d":"$0.00"},{"v":0,"d":"$0.00"},{"v":0,"d":"$0.00"},{"v":0,"d":"$0.00"},{"v":0,"d":"$0.00"},{"v":0,"d":"$0.00"},"ASR-Dental_Financial_Report_SMMC_03.21.23","2023-03-21","Unaudited"]
["Dental","DEF","Default",1900,"1900-01-01","Q1","1900-03-31","Region 10","Operating Expense","Medical Expense","Dental Services","2.15","Dental Settlements/AP",{"v":0,"d":"$0.00"},{"v":0,"d":"$0.00"},{"v":0,"d":"$0.00"},{"v":0,"d":"$0.00"},{"v":0,"d":"$0.00"},{"v":0,"d":"$0.00"},"ASR-Dental_Financial_Report_SMMC_03.21.23","2023-03-21","Unaudited"]
["Dental","DEF","Default",1900,"1900-01-01","Q1","1900-03-31","Region 10","Operating Expense","Medical Expense","Other Medical","3.5","TPL & Fraud/Abuse Recoveries",{"v":0,"d":"$0.00"},{"v":0,"d":"$0.00"},{"v":0,"d":"$0.00"},{"v":0,"d":"$0.00"},{"v":0,"d":"$0.00"},{"v":0,"d":"$0.00"},"ASR-Dental_Financial_Report_SMMC_03.21.23","2023-03-21","Unaudited"]
["Dental","DEF","Default",1900,"1900-01-01","Q1","1900-03-31","Region 10","Operating Expense","Medical Expense","Other Medical",3.6,"Premium Deficiency Reserve",{"$f":"IF(OR(AND($F1822=\"PY\",N$1<>\"Prior Year\"),AND($F1822<>\"PY\",N$1=\"Prior Year\")),0,INDEX(INDIRECT(\"'Dental Rev-Exp \"&$H1822&\"'!$A$1:$CA$200\"),IF($J1822=\"Member Months\",MATCH($J1822,INDIRECT(\"'Dental Rev-Exp \"&$H1822&\"'!$A$1:$A$200\"),0),MATCH($L1822,INDIRECT(\"'Dental Rev-Exp \"&$H1822&\"'!$B$1:$B$200\"),0)),IF($F1822=\"PY\",MATCH(\"Prior Year Adjustments\",INDIRECT(\"'Dental Rev-Exp \"&$H1822&\"'!$A$8:$CA$8\"),0),MATCH(IF($F1822=\"Q1\",\"JANUARY - MARCH (Q1)\",IF($F1822=\"Q2\",\"APRIL - JUNE (Q2)\",IF($F1822=\"Q3\",\"JULY - SEPTEMBER (Q3)\",IF($F1822=\"Q4\",\"OCTOBER - DECEMBER (Q4)\",0)))),INDIRECT(\"'Dental Rev-Exp \"&$H1822&\"'!$A$7:$CA$7\"),0)+MATCH(N$1,INDIRECT(\"'Dental Rev-Exp \"&$H1822&\"'!$D$8:$CA$8\"),0)-1)))","v":{"v":0,"d":"$0.00"}},{"v":0,"d":"$0.00"},{"v":0,"d":"$0.00"},{"v":0,"d":"$0.00"},{"v":0,"d":"$0.00"},{"v":0,"d":"$0.00"},"ASR-Dental_Financial_Report_SMMC_03.21.23","2023-03-21","Unaudited"]
["Dental","DEF","Default",1900,"1900-01-01","Q1","1900-03-31","Region 10","Operating Expense","Medical Expense","Other Medical","3.8","Reinsurance Premiums",{"v":0,"d":"$0.00"},{"v":0,"d":"$0.00"},{"v":0,"d":"$0.00"},{"v":0,"d":"$0.00"},{"v":0,"d":"$0.00"},{"v":0,"d":"$0.00"},"ASR-Dental_Financial_Report_SMMC_03.21.23","2023-03-21","Unaudited"]
["Dental","DEF","Default",1900,"1900-01-01","Q1","1900-03-31","Region 10","Operating Expense","Medical Expense","Other Medical","3.9","Reinsurance Recoveries",{"v":0,"d":"$0.00"},{"v":0,"d":"$0.00"},{"v":0,"d":"$0.00"},{"v":0,"d":"$0.00"},{"v":0,"d":"$0.00"},{"v":0,"d":"$0.00"},"ASR-Dental_Financial_Report_SMMC_03.21.23","2023-03-21","Unaudited"]
["Dental","DEF","Default",1900,"1900-01-01","Q1","1900-03-31","Region 10","Operating Expense","Administrative Expense","Administrative","4.1","Salaries & Benefits",{"v":0,"d":"$0.00"},{"v":0,"d":"$0.00"},{"v":0,"d":"$0.00"},{"v":0,"d":"$0.00"},{"v":0,"d":"$0.00"},{"v":0,"d":"$0.00"},"ASR-Dental_Financial_Report_SMMC_03.21.23","2023-03-21","Unaudited"]
["Dental","DEF","Default",1900,"1900-01-01","Q1","1900-03-31","Region 10","Operating Expense","Administrative Expense","Administrative","4.2","Administrative Services",{"v":0,"d":"$0.00"},{"v":0,"d":"$0.00"},{"v":0,"d":"$0.00"},{"v":0,"d":"$0.00"},{"v":0,"d":"$0.00"},{"v":0,"d":"$0.00"},"ASR-Dental_Financial_Report_SMMC_03.21.23","2023-03-21","Unaudited"]
["Dental","DEF","Default",1900,"1900-01-01","Q1","1900-03-31","Region 10","Operating Expense","Administrative Expense","Administrative","4.3","Information Systems",{"v":0,"d":"$0.00"},{"v":0,"d":"$0.00"},{"v":0,"d":"$0.00"},{"v":0,"d":"$0.00"},{"v":0,"d":"$0.00"},{"v":0,"d":"$0.00"},"ASR-Dental_Financial_Report_SMMC_03.21.23","2023-03-21","Unaudited"]
["Dental","DEF","Default",1900,"1900-01-01","Q1","1900-03-31","Region 10","Operating Expense","Administrative Expense","Administrative","4.4","Marketing Expenses",{"v":0,"d":"$0.00"},{"v":0,"d":"$0.00"},{"v":0,"d":"$0.00"},{"v":0,"d":"$0.00"},{"v":0,"d":"$0.00"},{"v":0,"d":"$0.00"},"ASR-Dental_Financial_Report_SMMC_03.21.23","2023-03-21","Unaudited"]
["Dental","DEF","Default",1900,"1900-01-01","Q1","1900-03-31","Region 10","Operating Expense","Administrative Expense","Administrative","4.5","General  Administration",{"v":0,"d":"$0.00"},{"v":0,"d":"$0.00"},{"v":0,"d":"$0.00"},{"v":0,"d":"$0.00"},{"v":0,"d":"$0.00"},{"v":0,"d":"$0.00"},"ASR-Dental_Financial_Report_SMMC_03.21.23","2023-03-21","Unaudited"]
["Dental","DEF","Default",1900,"1900-01-01","Q1","1900-03-31","Region 10","Operating Expense","Administrative Expense","Administrative","4.6","Compliance/Regulatory",{"v":0,"d":"$0.00"},{"v":0,"d":"$0.00"},{"v":0,"d":"$0.00"},{"v":0,"d":"$0.00"},{"v":0,"d":"$0.00"},{"v":0,"d":"$0.00"},"ASR-Dental_Financial_Report_SMMC_03.21.23","2023-03-21","Unaudited"]
["Dental","DEF","Default",1900,"1900-01-01","Q1","1900-03-31","Region 10","Operating Expense","Taxes & Fees","Taxes & Fees","5.1","State Premium tax",{"v":0,"d":"$0.00"},{"v":0,"d":"$0.00"},{"v":0,"d":"$0.00"},{"v":0,"d":"$0.00"},{"v":0,"d":"$0.00"},{"v":0,"d":"$0.00"},"ASR-Dental_Financial_Report_SMMC_03.21.23","2023-03-21","Unaudited"]
["Dental","DEF","Default",1900,"1900-01-01","Q1","1900-03-31","Region 10","Operating Expense","Taxes & Fees","Taxes & Fees","5.2","Department of Insurance Assessments",{"$f":"IF(OR(AND($F1832=\"PY\",N$1<>\"Prior Year\"),AND($F1832<>\"PY\",N$1=\"Prior Year\")),0,INDEX(INDIRECT(\"'Dental Rev-Exp \"&$H1832&\"'!$A$1:$CA$200\"),IF($J1832=\"Member Months\",MATCH($J1832,INDIRECT(\"'Dental Rev-Exp \"&$H1832&\"'!$A$1:$A$200\"),0),MATCH($L1832,INDIRECT(\"'Dental Rev-Exp \"&$H1832&\"'!$B$1:$B$200\"),0)),IF($F1832=\"PY\",MATCH(\"Prior Year Adjustments\",INDIRECT(\"'Dental Rev-Exp \"&$H1832&\"'!$A$8:$CA$8\"),0),MATCH(IF($F1832=\"Q1\",\"JANUARY - MARCH (Q1)\",IF($F1832=\"Q2\",\"APRIL - JUNE (Q2)\",IF($F1832=\"Q3\",\"JULY - SEPTEMBER (Q3)\",IF($F1832=\"Q4\",\"OCTOBER - DECEMBER (Q4)\",0)))),INDIRECT(\"'Dental Rev-Exp \"&$H1832&\"'!$A$7:$CA$7\"),0)+MATCH(N$1,INDIRECT(\"'Dental Rev-Exp \"&$H1832&\"'!$D$8:$CA$8\"),0)-1)))","v":{"v":0,"d":"$0.00"}},{"v":0,"d":"$0.00"},{"v":0,"d":"$0.00"},{"v":0,"d":"$0.00"},{"v":0,"d":"$0.00"},{"v":0,"d":"$0.00"},"ASR-Dental_Financial_Report_SMMC_03.21.23","2023-03-21","Unaudited"]
["Dental","DEF","Default",1900,"1900-01-01","Q1","1900-03-31","Region 10","Operating Expense","Taxes & Fees","Taxes & Fees","5.3","Section 9010 Health Insurance Providers Fee",{"v":0,"d":"$0.00"},{"v":0,"d":"$0.00"},{"v":0,"d":"$0.00"},{"v":0,"d":"$0.00"},{"v":0,"d":"$0.00"},{"v":0,"d":"$0.00"},"ASR-Dental_Financial_Report_SMMC_03.21.23","2023-03-21","Unaudited"]
["Dental","DEF","Default",1900,"1900-01-01","Q1","1900-03-31","Region 10","Operating Expense","Taxes & Fees","Taxes & Fees","5.4","Other 1",{"v":0,"d":"$0.00"},{"v":0,"d":"$0.00"},{"v":0,"d":"$0.00"},{"v":0,"d":"$0.00"},{"v":0,"d":"$0.00"},{"v":0,"d":"$0.00"},"ASR-Dental_Financial_Report_SMMC_03.21.23","2023-03-21","Unaudited"]
["Dental","DEF","Default",1900,"1900-01-01","Q1","1900-03-31","Region 10","Operating Expense","Taxes & Fees","Taxes & Fees","5.5","Other 2",{"v":0,"d":"$0.00"},{"v":0,"d":"$0.00"},{"v":0,"d":"$0.00"},{"v":0,"d":"$0.00"},{"v":0,"d":"$0.00"},{"v":0,"d":"$0.00"},"ASR-Dental_Financial_Report_SMMC_03.21.23","2023-03-21","Unaudited"]
["Dental","DEF","Default",1900,"1900-01-01","Q1","1900-03-31","Region 10","Operating Expense","Taxes & Fees","Taxes & Fees","5.6","Other 3",{"v":0,"d":"$0.00"},{"v":0,"d":"$0.00"},{"v":0,"d":"$0.00"},{"v":0,"d":"$0.00"},{"v":0,"d":"$0.00"},{"v":0,"d":"$0.00"},"ASR-Dental_Financial_Report_SMMC_03.21.23","2023-03-21","Unaudited"]
["Dental","DEF","Default",1900,"1900-01-01","Q1","1900-03-31","Region 10","Non-Operating Expense","Income Tax Expense","Income Tax Expense","8.0","Income Tax Expense",{"v":0,"d":"$0.00"},{"v":0,"d":"$0.00"},{"v":0,"d":"$0.00"},{"v":0,"d":"$0.00"},{"v":0,"d":"$0.00"},{"v":0,"d":"$0.00"},"ASR-Dental_Financial_Report_SMMC_03.21.23","2023-03-21","Unaudited"]
["Dental","DEF","Default",1900,"1900-01-01","Q2","1900-06-30","Region 10","Member Months","Member Months","Member Months",null,"Member Months",{"v":0,"d":"$0.00"},{"v":0,"d":"$0.00"},{"v":0,"d":"$0.00"},{"v":0,"d":"$0.00"},{"v":0,"d":"$0.00"},{"v":0,"d":"$0.00"},"ASR-Dental_Financial_Report_SMMC_03.21.23","2023-03-21","Unaudited"]
["Dental","DEF","Default",1900,"1900-01-01","Q2","1900-06-30","Region 10","Operating Revenue","Capitation","Capitation","1.1","Capitation",{"v":0,"d":"$0.00"},{"v":0,"d":"$0.00"},{"v":0,"d":"$0.00"},{"v":0,"d":"$0.00"},{"v":0,"d":"$0.00"},{"v":0,"d":"$0.00"},"ASR-Dental_Financial_Report_SMMC_03.21.23","2023-03-21","Unaudited"]
["Dental","DEF","Default",1900,"1900-01-01","Q2","1900-06-30","Region 10","Operating Revenue","Other Revenue","Other Revenue - 9010","1.2","ACA § 9010 related payments",{"v":0,"d":"$0.00"},{"v":0,"d":"$0.00"},{"v":0,"d":"$0.00"},{"v":0,"d":"$0.00"},{"v":0,"d":"$0.00"},{"v":0,"d":"$0.00"},"ASR-Dental_Financial_Report_SMMC_03.21.23","2023-03-21","Unaudited"]
["Dental","DEF","Default",1900,"1900-01-01","Q2","1900-06-30","Region 10","Operating Revenue","Other Revenue","Other Revenue","1.3","Other Revenue",{"v":0,"d":"$0.00"},{"v":0,"d":"$0.00"},{"v":0,"d":"$0.00"},{"v":0,"d":"$0.00"},{"v":0,"d":"$0.00"},{"v":0,"d":"$0.00"},"ASR-Dental_Financial_Report_SMMC_03.21.23","2023-03-21","Unaudited"]
["Dental","DEF","Default",1900,"1900-01-01","Q2","1900-06-30","Region 10","Operating Expense","Medical Expense","Dental Services","2.1","Dental Services Diagnostic",{"$f":"IF(OR(AND($F1842=\"PY\",N$1<>\"Prior Year\"),AND($F1842<>\"PY\",N$1=\"Prior Year\")),0,INDEX(INDIRECT(\"'Dental Rev-Exp \"&$H1842&\"'!$A$1:$CA$200\"),IF($J1842=\"Member Months\",MATCH($J1842,INDIRECT(\"'Dental Rev-Exp \"&$H1842&\"'!$A$1:$A$200\"),0),MATCH($L1842,INDIRECT(\"'Dental Rev-Exp \"&$H1842&\"'!$B$1:$B$200\"),0)),IF($F1842=\"PY\",MATCH(\"Prior Year Adjustments\",INDIRECT(\"'Dental Rev-Exp \"&$H1842&\"'!$A$8:$CA$8\"),0),MATCH(IF($F1842=\"Q1\",\"JANUARY - MARCH (Q1)\",IF($F1842=\"Q2\",\"APRIL - JUNE (Q2)\",IF($F1842=\"Q3\",\"JULY - SEPTEMBER (Q3)\",IF($F1842=\"Q4\",\"OCTOBER - DECEMBER (Q4)\",0)))),INDIRECT(\"'Dental Rev-Exp \"&$H1842&\"'!$A$7:$CA$7\"),0)+MATCH(N$1,INDIRECT(\"'Dental Rev-Exp \"&$H1842&\"'!$D$8:$CA$8\"),0)-1)))","v":{"v":0,"d":"$0.00"}},{"v":0,"d":"$0.00"},{"v":0,"d":"$0.00"},{"v":0,"d":"$0.00"},{"v":0,"d":"$0.00"},{"v":0,"d":"$0.00"},"ASR-Dental_Financial_Report_SMMC_03.21.23","2023-03-21","Unaudited"]
["Dental","DEF","Default",1900,"1900-01-01","Q2","1900-06-30","Region 10","Operating Expense","Medical Expense","Dental Services",2.2,"Dental Services Preventive",{"v":0,"d":"$0.00"},{"v":0,"d":"$0.00"},{"v":0,"d":"$0.00"},{"v":0,"d":"$0.00"},{"v":0,"d":"$0.00"},{"v":0,"d":"$0.00"},"ASR-Dental_Financial_Report_SMMC_03.21.23","2023-03-21","Unaudited"]
["Dental","DEF","Default",1900,"1900-01-01","Q2","1900-06-30","Region 10","Operating Expense","Medical Expense","Dental Services","2.3","Dental Services Restorative",{"v":0,"d":"$0.00"},{"v":0,"d":"$0.00"},{"v":0,"d":"$0.00"},{"v":0,"d":"$0.00"},{"v":0,"d":"$0.00"},{"v":0,"d":"$0.00"},"ASR-Dental_Financial_Report_SMMC_03.21.23","2023-03-21","Unaudited"]
["Dental","DEF","Default",1900,"1900-01-01","Q2","1900-06-30","Region 10","Operating Expense","Medical Expense","Dental Services","2.4","Dental Services Endodontics",{"v":0,"d":"$0.00"},{"v":0,"d":"$0.00"},{"v":0,"d":"$0.00"},{"v":0,"d":"$0.00"},{"v":0,"d":"$0.00"},{"v":0,"d":"$0.00"},"ASR-Dental_Financial_Report_SMMC_03.21.23","2023-03-21","Unaudited"]
["Dental","DEF","Default",1900,"1900-01-01","Q2","1900-06-30","Region 10","Operating Expense","Medical Expense","Dental Services","2.5","Dental Services Periodontics",{"v":0,"d":"$0.00"},{"v":0,"d":"$0.00"},{"v":0,"d":"$0.00"},{"v":0,"d":"$0.00"},{"v":0,"d":"$0.00"},{"v":0,"d":"$0.00"},"ASR-Dental_Financial_Report_SMMC_03.21.23","2023-03-21","Unaudited"]
["Dental","DEF","Default",1900,"1900-01-01","Q2","1900-06-30","Region 10","Operating Expense","Medical Expense","Dental Services","2.6","Dental Services Prosthodontics",{"v":0,"d":"$0.00"},{"v":0,"d":"$0.00"},{"v":0,"d":"$0.00"},{"v":0,"d":"$0.00"},{"v":0,"d":"$0.00"},{"v":0,"d":"$0.00"},"ASR-Dental_Financial_Report_SMMC_03.21.23","2023-03-21","Unaudited"]
["Dental","DEF","Default",1900,"1900-01-01","Q2","1900-06-30","Region 10","Operating Expense","Medical Expense","Dental Services","2.7","Dental Services Prosthodontics, fixed",{"v":0,"d":"$0.00"},{"v":0,"d":"$0.00"},{"v":0,"d":"$0.00"},{"v":0,"d":"$0.00"},{"v":0,"d":"$0.00"},{"v":0,"d":"$0.00"},"ASR-Dental_Financial_Report_SMMC_03.21.23","2023-03-21","Unaudited"]
["Dental","DEF","Default",1900,"1900-01-01","Q2","1900-06-30","Region 10","Operating Expense","Medical Expense","Dental Services","2.8","Dental Services Oral and Maxillofacial Surgery",{"v":0,"d":"$0.00"},{"v":0,"d":"$0.00"},{"v":0,"d":"$0.00"},{"v":0,"d":"$0.00"},{"v":0,"d":"$0.00"},{"v":0,"d":"$0.00"},"ASR-Dental_Financial_Report_SMMC_03.21.23","2023-03-21","Unaudited"]
["Dental","DEF","Default",1900,"1900-01-01","Q2","1900-06-30","Region 10","Operating Expense","Medical Expense","Dental Services","2.9","Dental Services Orthodontics",{"v":0,"d":"$0.00"},{"v":0,"d":"$0.00"},{"v":0,"d":"$0.00"},{"v":0,"d":"$0.00"},{"v":0,"d":"$0.00"},{"v":0,"d":"$0.00"},"ASR-Dental_Financial_Report_SMMC_03.21.23","2023-03-21","Unaudited"]
["Dental","DEF","Default",1900,"1900-01-01","Q2","1900-06-30","Region 10","Operating Expense","Medical Expense","Dental Services","2.10","Dental Services Adjunctive General Services",{"v":0,"d":"$0.00"},{"v":0,"d":"$0.00"},{"v":0,"d":"$0.00"},{"v":0,"d":"$0.00"},{"v":0,"d":"$0.00"},{"v":0,"d":"$0.00"},"ASR-Dental_Financial_Report_SMMC_03.21.23","2023-03-21","Unaudited"]
["Dental","DEF","Default",1900,"1900-01-01","Q2","1900-06-30","Region 10","Operating Expense","Medical Expense","Dental Services","2.11","Dental Services Other",{"$f":"IF(OR(AND($F1852=\"PY\",N$1<>\"Prior Year\"),AND($F1852<>\"PY\",N$1=\"Prior Year\")),0,INDEX(INDIRECT(\"'Dental Rev-Exp \"&$H1852&\"'!$A$1:$CA$200\"),IF($J1852=\"Member Months\",MATCH($J1852,INDIRECT(\"'Dental Rev-Exp \"&$H1852&\"'!$A$1:$A$200\"),0),MATCH($L1852,INDIRECT(\"'Dental Rev-Exp \"&$H1852&\"'!$B$1:$B$200\"),0)),IF($F1852=\"PY\",MATCH(\"Prior Year Adjustments\",INDIRECT(\"'Dental Rev-Exp \"&$H1852&\"'!$A$8:$CA$8\"),0),MATCH(IF($F1852=\"Q1\",\"JANUARY - MARCH (Q1)\",IF($F1852=\"Q2\",\"APRIL - JUNE (Q2)\",IF($F1852=\"Q3\",\"JULY - SEPTEMBER (Q3)\",IF($F1852=\"Q4\",\"OCTOBER - DECEMBER (Q4)\",0)))),INDIRECT(\"'Dental Rev-Exp \"&$H1852&\"'!$A$7:$CA$7\"),0)+MATCH(N$1,INDIRECT(\"'Dental Rev-Exp \"&$H1852&\"'!$D$8:$CA$8\"),0)-1)))","v":{"v":0,"d":"$0.00"}},{"v":0,"d":"$0.00"},{"v":0,"d":"$0.00"},{"v":0,"d":"$0.00"},{"v":0,"d":"$0.00"},{"v":0,"d":"$0.00"},"ASR-Dental_Financial_Report_SMMC_03.21.23","2023-03-21","Unaudited"]
["Dental","DEF","Default",1900,"1900-01-01","Q2","1900-06-30","Region 10","Operating Expense","Medical Expense","Expanded Benefits","2.12","Dental Expanded Benefits",{"v":0,"d":"$0.00"},{"v":0,"d":"$0.00"},{"v":0,"d":"$0.00"},{"v":0,"d":"$0.00"},{"v":0,"d":"$0.00"},{"v":0,"d":"$0.00"},"ASR-Dental_Financial_Report_SMMC_03.21.23","2023-03-21","Unaudited"]
["Dental","DEF","Default",1900,"1900-01-01","Q2","1900-06-30","Region 10","Operating Expense","Medical Expense","Dental Services","2.13","Dental Services Paid through Subcapitation",{"v":0,"d":"$0.00"},{"v":0,"d":"$0.00"},{"v":0,"d":"$0.00"},{"v":0,"d":"$0.00"},{"v":0,"d":"$0.00"},{"v":0,"d":"$0.00"},"ASR-Dental_Financial_Report_SMMC_03.21.23","2023-03-21","Unaudited"]
["Dental","DEF","Default",1900,"1900-01-01","Q2","1900-06-30","Region 10","Operating Expense","Medical Expense","Dental Services","2.14","Ending IBNP for Dental Services",{"v":0,"d":"$0.00"},{"v":0,"d":"$0.00"},{"v":0,"d":"$0.00"},{"v":0,"d":"$0.00"},{"v":0,"d":"$0.00"},{"v":0,"d":"$0.00"},"ASR-Dental_Financial_Report_SMMC_03.21.23","2023-03-21","Unaudited"]
["Dental","DEF","Default",1900,"1900-01-01","Q2","1900-06-30","Region 10","Operating Expense","Medical Expense","Dental Services","2.15","Dental Settlements/AP",{"v":0,"d":"$0.00"},{"v":0,"d":"$0.00"},{"v":0,"d":"$0.00"},{"v":0,"d":"$0.00"},{"v":0,"d":"$0.00"},{"v":0,"d":"$0.00"},"ASR-Dental_Financial_Report_SMMC_03.21.23","2023-03-21","Unaudited"]
["Dental","DEF","Default",1900,"1900-01-01","Q2","1900-06-30","Region 10","Operating Expense","Medical Expense","Other Medical","3.5","TPL & Fraud/Abuse Recoveries",{"v":0,"d":"$0.00"},{"v":0,"d":"$0.00"},{"v":0,"d":"$0.00"},{"v":0,"d":"$0.00"},{"v":0,"d":"$0.00"},{"v":0,"d":"$0.00"},"ASR-Dental_Financial_Report_SMMC_03.21.23","2023-03-21","Unaudited"]
["Dental","DEF","Default",1900,"1900-01-01","Q2","1900-06-30","Region 10","Operating Expense","Medical Expense","Other Medical",3.6,"Premium Deficiency Reserve",{"v":0,"d":"$0.00"},{"v":0,"d":"$0.00"},{"v":0,"d":"$0.00"},{"v":0,"d":"$0.00"},{"v":0,"d":"$0.00"},{"v":0,"d":"$0.00"},{"$f":"file_name","v":"ASR-Dental_Financial_Report_SMMC_03.21.23"},{"$f":"file_date","v":"2023-03-21"},{"$f":"status","v":"Unaudited"}]
["Dental","DEF","Default",1900,"1900-01-01","Q2","1900-06-30","Region 10","Operating Expense","Medical Expense","Other Medical","3.8","Reinsurance Premiums",{"v":0,"d":"$0.00"},{"v":0,"d":"$0.00"},{"v":0,"d":"$0.00"},{"v":0,"d":"$0.00"},{"v":0,"d":"$0.00"},{"v":0,"d":"$0.00"},"ASR-Dental_Financial_Report_SMMC_03.21.23","2023-03-21","Unaudited"]
["Dental","DEF","Default",1900,"1900-01-01","Q2","1900-06-30","Region 10","Operating Expense","Medical Expense","Other Medical","3.9","Reinsurance Recoveries",{"v":0,"d":"$0.00"},{"v":0,"d":"$0.00"},{"v":0,"d":"$0.00"},{"v":0,"d":"$0.00"},{"v":0,"d":"$0.00"},{"v":0,"d":"$0.00"},"ASR-Dental_Financial_Report_SMMC_03.21.23","2023-03-21","Unaudited"]
["Dental","DEF","Default",1900,"1900-01-01","Q2","1900-06-30","Region 10","Operating Expense","Administrative Expense","Administrative","4.1","Salaries & Benefits",{"v":0,"d":"$0.00"},{"v":0,"d":"$0.00"},{"v":0,"d":"$0.00"},{"v":0,"d":"$0.00"},{"v":0,"d":"$0.00"},{"v":0,"d":"$0.00"},"ASR-Dental_Financial_Report_SMMC_03.21.23","2023-03-21","Unaudited"]
["Dental","DEF","Default",1900,"1900-01-01","Q2","1900-06-30","Region 10","Operating Expense","Administrative Expense","Administrative","4.2","Administrative Services",{"$f":"IF(OR(AND($F1862=\"PY\",N$1<>\"Prior Year\"),AND($F1862<>\"PY\",N$1=\"Prior Year\")),0,INDEX(INDIRECT(\"'Dental Rev-Exp \"&$H1862&\"'!$A$1:$CA$200\"),IF($J1862=\"Member Months\",MATCH($J1862,INDIRECT(\"'Dental Rev-Exp \"&$H1862&\"'!$A$1:$A$200\"),0),MATCH($L1862,INDIRECT(\"'Dental Rev-Exp \"&$H1862&\"'!$B$1:$B$200\"),0)),IF($F1862=\"PY\",MATCH(\"Prior Year Adjustments\",INDIRECT(\"'Dental Rev-Exp \"&$H1862&\"'!$A$8:$CA$8\"),0),MATCH(IF($F1862=\"Q1\",\"JANUARY - MARCH (Q1)\",IF($F1862=\"Q2\",\"APRIL - JUNE (Q2)\",IF($F1862=\"Q3\",\"JULY - SEPTEMBER (Q3)\",IF($F1862=\"Q4\",\"OCTOBER - DECEMBER (Q4)\",0)))),INDIRECT(\"'Dental Rev-Exp \"&$H1862&\"'!$A$7:$CA$7\"),0)+MATCH(N$1,INDIRECT(\"'Dental Rev-Exp \"&$H1862&\"'!$D$8:$CA$8\"),0)-1)))","v":{"v":0,"d":"$0.00"}},{"v":0,"d":"$0.00"},{"v":0,"d":"$0.00"},{"v":0,"d":"$0.00"},{"v":0,"d":"$0.00"},{"v":0,"d":"$0.00"},"ASR-Dental_Financial_Report_SMMC_03.21.23","2023-03-21","Unaudited"]
["Dental","DEF","Default",1900,"1900-01-01","Q2","1900-06-30","Region 10","Operating Expense","Administrative Expense","Administrative","4.3","Information Systems",{"v":0,"d":"$0.00"},{"v":0,"d":"$0.00"},{"v":0,"d":"$0.00"},{"v":0,"d":"$0.00"},{"v":0,"d":"$0.00"},{"v":0,"d":"$0.00"},"ASR-Dental_Financial_Report_SMMC_03.21.23","2023-03-21","Unaudited"]
["Dental","DEF","Default",1900,"1900-01-01","Q2","1900-06-30","Region 10","Operating Expense","Administrative Expense","Administrative","4.4","Marketing Expenses",{"v":0,"d":"$0.00"},{"v":0,"d":"$0.00"},{"v":0,"d":"$0.00"},{"v":0,"d":"$0.00"},{"v":0,"d":"$0.00"},{"v":0,"d":"$0.00"},"ASR-Dental_Financial_Report_SMMC_03.21.23","2023-03-21","Unaudited"]
["Dental","DEF","Default",1900,"1900-01-01","Q2","1900-06-30","Region 10","Operating Expense","Administrative Expense","Administrative","4.5","General  Administration",{"v":0,"d":"$0.00"},{"v":0,"d":"$0.00"},{"v":0,"d":"$0.00"},{"v":0,"d":"$0.00"},{"v":0,"d":"$0.00"},{"v":0,"d":"$0.00"},"ASR-Dental_Financial_Report_SMMC_03.21.23","2023-03-21","Unaudited"]
["Dental","DEF","Default",1900,"1900-01-01","Q2","1900-06-30","Region 10","Operating Expense","Administrative Expense","Administrative","4.6","Compliance/Regulatory",{"v":0,"d":"$0.00"},{"v":0,"d":"$0.00"},{"v":0,"d":"$0.00"},{"v":0,"d":"$0.00"},{"v":0,"d":"$0.00"},{"v":0,"d":"$0.00"},"ASR-Dental_Financial_Report_SMMC_03.21.23","2023-03-21","Unaudited"]
["Dental","DEF","Default",1900,"1900-01-01","Q2","1900-06-30","Region 10","Operating Expense","Taxes & Fees","Taxes & Fees","5.1","State Premium tax",{"v":0,"d":"$0.00"},{"v":0,"d":"$0.00"},{"v":0,"d":"$0.00"},{"v":0,"d":"$0.00"},{"v":0,"d":"$0.00"},{"v":0,"d":"$0.00"},"ASR-Dental_Financial_Report_SMMC_03.21.23","2023-03-21","Unaudited"]
["Dental","DEF","Default",1900,"1900-01-01","Q2","1900-06-30","Region 10","Operating Expense","Taxes & Fees","Taxes & Fees","5.2","Department of Insurance Assessments",{"v":0,"d":"$0.00"},{"v":0,"d":"$0.00"},{"v":0,"d":"$0.00"},{"v":0,"d":"$0.00"},{"v":0,"d":"$0.00"},{"v":0,"d":"$0.00"},"ASR-Dental_Financial_Report_SMMC_03.21.23","2023-03-21","Unaudited"]
["Dental","DEF","Default",1900,"1900-01-01","Q2","1900-06-30","Region 10","Operating Expense","Taxes & Fees","Taxes & Fees","5.3","Section 9010 Health Insurance Providers Fee",{"v":0,"d":"$0.00"},{"v":0,"d":"$0.00"},{"v":0,"d":"$0.00"},{"v":0,"d":"$0.00"},{"v":0,"d":"$0.00"},{"v":0,"d":"$0.00"},"ASR-Dental_Financial_Report_SMMC_03.21.23","2023-03-21","Unaudited"]
["Dental","DEF","Default",1900,"1900-01-01","Q2","1900-06-30","Region 10","Operating Expense","Taxes & Fees","Taxes & Fees","5.4","Other 1",{"v":0,"d":"$0.00"},{"v":0,"d":"$0.00"},{"v":0,"d":"$0.00"},{"v":0,"d":"$0.00"},{"v":0,"d":"$0.00"},{"v":0,"d":"$0.00"},"ASR-Dental_Financial_Report_SMMC_03.21.23","2023-03-21","Unaudited"]
["Dental","DEF","Default",1900,"1900-01-01","Q2","1900-06-30","Region 10","Operating Expense","Taxes & Fees","Taxes & Fees","5.5","Other 2",{"v":0,"d":"$0.00"},{"v":0,"d":"$0.00"},{"v":0,"d":"$0.00"},{"v":0,"d":"$0.00"},{"v":0,"d":"$0.00"},{"v":0,"d":"$0.00"},"ASR-Dental_Financial_Report_SMMC_03.21.23","2023-03-21","Unaudited"]
["Dental","DEF","Default",1900,"1900-01-01","Q2","1900-06-30","Region 10","Operating Expense","Taxes & Fees","Taxes & Fees","5.6","Other 3",{"$f":"IF(OR(AND($F1872=\"PY\",N$1<>\"Prior Year\"),AND($F1872<>\"PY\",N$1=\"Prior Year\")),0,INDEX(INDIRECT(\"'Dental Rev-Exp \"&$H1872&\"'!$A$1:$CA$200\"),IF($J1872=\"Member Months\",MATCH($J1872,INDIRECT(\"'Dental Rev-Exp \"&$H1872&\"'!$A$1:$A$200\"),0),MATCH($L1872,INDIRECT(\"'Dental Rev-Exp \"&$H1872&\"'!$B$1:$B$200\"),0)),IF($F1872=\"PY\",MATCH(\"Prior Year Adjustments\",INDIRECT(\"'Dental Rev-Exp \"&$H1872&\"'!$A$8:$CA$8\"),0),MATCH(IF($F1872=\"Q1\",\"JANUARY - MARCH (Q1)\",IF($F1872=\"Q2\",\"APRIL - JUNE (Q2)\",IF($F1872=\"Q3\",\"JULY - SEPTEMBER (Q3)\",IF($F1872=\"Q4\",\"OCTOBER - DECEMBER (Q4)\",0)))),INDIRECT(\"'Dental Rev-Exp \"&$H1872&\"'!$A$7:$CA$7\"),0)+MATCH(N$1,INDIRECT(\"'Dental Rev-Exp \"&$H1872&\"'!$D$8:$CA$8\"),0)-1)))","v":{"v":0,"d":"$0.00"}},{"v":0,"d":"$0.00"},{"v":0,"d":"$0.00"},{"v":0,"d":"$0.00"},{"v":0,"d":"$0.00"},{"v":0,"d":"$0.00"},"ASR-Dental_Financial_Report_SMMC_03.21.23","2023-03-21","Unaudited"]
["Dental","DEF","Default",1900,"1900-01-01","Q2","1900-06-30","Region 10","Non-Operating Expense","Income Tax Expense","Income Tax Expense","8.0","Income Tax Expense",{"v":0,"d":"$0.00"},{"v":0,"d":"$0.00"},{"v":0,"d":"$0.00"},{"v":0,"d":"$0.00"},{"v":0,"d":"$0.00"},{"v":0,"d":"$0.00"},"ASR-Dental_Financial_Report_SMMC_03.21.23","2023-03-21","Unaudited"]
["Dental","DEF","Default",1900,"1900-01-01","Q3","1900-09-30","Region 10","Member Months","Member Months","Member Months",null,"Member Months",{"v":0,"d":"$0.00"},{"v":0,"d":"$0.00"},{"v":0,"d":"$0.00"},{"v":0,"d":"$0.00"},{"v":0,"d":"$0.00"},{"v":0,"d":"$0.00"},"ASR-Dental_Financial_Report_SMMC_03.21.23","2023-03-21","Unaudited"]
["Dental","DEF","Default",1900,"1900-01-01","Q3","1900-09-30","Region 10","Operating Revenue","Capitation","Capitation","1.1","Capitation",{"v":0,"d":"$0.00"},{"v":0,"d":"$0.00"},{"v":0,"d":"$0.00"},{"v":0,"d":"$0.00"},{"v":0,"d":"$0.00"},{"v":0,"d":"$0.00"},"ASR-Dental_Financial_Report_SMMC_03.21.23","2023-03-21","Unaudited"]
["Dental","DEF","Default",1900,"1900-01-01","Q3","1900-09-30","Region 10","Operating Revenue","Other Revenue","Other Revenue - 9010","1.2","ACA § 9010 related payments",{"v":0,"d":"$0.00"},{"v":0,"d":"$0.00"},{"v":0,"d":"$0.00"},{"v":0,"d":"$0.00"},{"v":0,"d":"$0.00"},{"v":0,"d":"$0.00"},"ASR-Dental_Financial_Report_SMMC_03.21.23","2023-03-21","Unaudited"]
["Dental","DEF","Default",1900,"1900-01-01","Q3","1900-09-30","Region 10","Operating Revenue","Other Revenue","Other Revenue","1.3","Other Revenue",{"v":0,"d":"$0.00"},{"v":0,"d":"$0.00"},{"v":0,"d":"$0.00"},{"v":0,"d":"$0.00"},{"v":0,"d":"$0.00"},{"v":0,"d":"$0.00"},"ASR-Dental_Financial_Report_SMMC_03.21.23","2023-03-21","Unaudited"]
["Dental","DEF","Default",1900,"1900-01-01","Q3","1900-09-30","Region 10","Operating Expense","Medical Expense","Dental Services","2.1","Dental Services Diagnostic",{"v":0,"d":"$0.00"},{"v":0,"d":"$0.00"},{"v":0,"d":"$0.00"},{"v":0,"d":"$0.00"},{"v":0,"d":"$0.00"},{"v":0,"d":"$0.00"},"ASR-Dental_Financial_Report_SMMC_03.21.23","2023-03-21","Unaudited"]
["Dental","DEF","Default",1900,"1900-01-01","Q3","1900-09-30","Region 10","Operating Expense","Medical Expense","Dental Services",2.2,"Dental Services Preventive",{"v":0,"d":"$0.00"},{"v":0,"d":"$0.00"},{"v":0,"d":"$0.00"},{"v":0,"d":"$0.00"},{"v":0,"d":"$0.00"},{"v":0,"d":"$0.00"},"ASR-Dental_Financial_Report_SMMC_03.21.23","2023-03-21","Unaudited"]
["Dental","DEF","Default",1900,"1900-01-01","Q3","1900-09-30","Region 10","Operating Expense","Medical Expense","Dental Services","2.3","Dental Services Restorative",{"v":0,"d":"$0.00"},{"v":0,"d":"$0.00"},{"v":0,"d":"$0.00"},{"v":0,"d":"$0.00"},{"v":0,"d":"$0.00"},{"v":0,"d":"$0.00"},"ASR-Dental_Financial_Report_SMMC_03.21.23","2023-03-21","Unaudited"]
["Dental","DEF","Default",1900,"1900-01-01","Q3","1900-09-30","Region 10","Operating Expense","Medical Expense","Dental Services","2.4","Dental Services Endodontics",{"v":0,"d":"$0.00"},{"v":0,"d":"$0.00"},{"v":0,"d":"$0.00"},{"v":0,"d":"$0.00"},{"v":0,"d":"$0.00"},{"v":0,"d":"$0.00"},"ASR-Dental_Financial_Report_SMMC_03.21.23","2023-03-21","Unaudited"]
["Dental","DEF","Default",1900,"1900-01-01","Q3","1900-09-30","Region 10","Operating Expense","Medical Expense","Dental Services","2.5","Dental Services Periodontics",{"$f":"IF(OR(AND($F1882=\"PY\",N$1<>\"Prior Year\"),AND($F1882<>\"PY\",N$1=\"Prior Year\")),0,INDEX(INDIRECT(\"'Dental Rev-Exp \"&$H1882&\"'!$A$1:$CA$200\"),IF($J1882=\"Member Months\",MATCH($J1882,INDIRECT(\"'Dental Rev-Exp \"&$H1882&\"'!$A$1:$A$200\"),0),MATCH($L1882,INDIRECT(\"'Dental Rev-Exp \"&$H1882&\"'!$B$1:$B$200\"),0)),IF($F1882=\"PY\",MATCH(\"Prior Year Adjustments\",INDIRECT(\"'Dental Rev-Exp \"&$H1882&\"'!$A$8:$CA$8\"),0),MATCH(IF($F1882=\"Q1\",\"JANUARY - MARCH (Q1)\",IF($F1882=\"Q2\",\"APRIL - JUNE (Q2)\",IF($F1882=\"Q3\",\"JULY - SEPTEMBER (Q3)\",IF($F1882=\"Q4\",\"OCTOBER - DECEMBER (Q4)\",0)))),INDIRECT(\"'Dental Rev-Exp \"&$H1882&\"'!$A$7:$CA$7\"),0)+MATCH(N$1,INDIRECT(\"'Dental Rev-Exp \"&$H1882&\"'!$D$8:$CA$8\"),0)-1)))","v":{"v":0,"d":"$0.00"}},{"v":0,"d":"$0.00"},{"v":0,"d":"$0.00"},{"v":0,"d":"$0.00"},{"v":0,"d":"$0.00"},{"v":0,"d":"$0.00"},"ASR-Dental_Financial_Report_SMMC_03.21.23","2023-03-21","Unaudited"]
["Dental","DEF","Default",1900,"1900-01-01","Q3","1900-09-30","Region 10","Operating Expense","Medical Expense","Dental Services","2.6","Dental Services Prosthodontics",{"v":0,"d":"$0.00"},{"v":0,"d":"$0.00"},{"v":0,"d":"$0.00"},{"v":0,"d":"$0.00"},{"v":0,"d":"$0.00"},{"v":0,"d":"$0.00"},"ASR-Dental_Financial_Report_SMMC_03.21.23","2023-03-21","Unaudited"]
["Dental","DEF","Default",1900,"1900-01-01","Q3","1900-09-30","Region 10","Operating Expense","Medical Expense","Dental Services","2.7","Dental Services Prosthodontics, fixed",{"v":0,"d":"$0.00"},{"v":0,"d":"$0.00"},{"v":0,"d":"$0.00"},{"v":0,"d":"$0.00"},{"v":0,"d":"$0.00"},{"v":0,"d":"$0.00"},"ASR-Dental_Financial_Report_SMMC_03.21.23","2023-03-21","Unaudited"]
["Dental","DEF","Default",1900,"1900-01-01","Q3","1900-09-30","Region 10","Operating Expense","Medical Expense","Dental Services","2.8","Dental Services Oral and Maxillofacial Surgery",{"v":0,"d":"$0.00"},{"v":0,"d":"$0.00"},{"v":0,"d":"$0.00"},{"v":0,"d":"$0.00"},{"v":0,"d":"$0.00"},{"v":0,"d":"$0.00"},"ASR-Dental_Financial_Report_SMMC_03.21.23","2023-03-21","Unaudited"]
["Dental","DEF","Default",1900,"1900-01-01","Q3","1900-09-30","Region 10","Operating Expense","Medical Expense","Dental Services","2.9","Dental Services Orthodontics",{"v":0,"d":"$0.00"},{"v":0,"d":"$0.00"},{"v":0,"d":"$0.00"},{"v":0,"d":"$0.00"},{"v":0,"d":"$0.00"},{"v":0,"d":"$0.00"},"ASR-Dental_Financial_Report_SMMC_03.21.23","2023-03-21","Unaudited"]
["Dental","DEF","Default",1900,"1900-01-01","Q3","1900-09-30","Region 10","Operating Expense","Medical Expense","Dental Services","2.10","Dental Services Adjunctive General Services",{"v":0,"d":"$0.00"},{"v":0,"d":"$0.00"},{"v":0,"d":"$0.00"},{"v":0,"d":"$0.00"},{"v":0,"d":"$0.00"},{"v":0,"d":"$0.00"},"ASR-Dental_Financial_Report_SMMC_03.21.23","2023-03-21","Unaudited"]
["Dental","DEF","Default",1900,"1900-01-01","Q3","1900-09-30","Region 10","Operating Expense","Medical Expense","Dental Services","2.11","Dental Services Other",{"v":0,"d":"$0.00"},{"v":0,"d":"$0.00"},{"v":0,"d":"$0.00"},{"v":0,"d":"$0.00"},{"v":0,"d":"$0.00"},{"v":0,"d":"$0.00"},"ASR-Dental_Financial_Report_SMMC_03.21.23","2023-03-21","Unaudited"]
["Dental","DEF","Default",1900,"1900-01-01","Q3","1900-09-30","Region 10","Operating Expense","Medical Expense","Expanded Benefits","2.12","Dental Expanded Benefits",{"v":0,"d":"$0.00"},{"v":0,"d":"$0.00"},{"v":0,"d":"$0.00"},{"v":0,"d":"$0.00"},{"v":0,"d":"$0.00"},{"v":0,"d":"$0.00"},"ASR-Dental_Financial_Report_SMMC_03.21.23","2023-03-21","Unaudited"]
["Dental","DEF","Default",1900,"1900-01-01","Q3","1900-09-30","Region 10","Operating Expense","Medical Expense","Dental Services","2.13","Dental Services Paid through Subcapitation",{"v":0,"d":"$0.00"},{"v":0,"d":"$0.00"},{"v":0,"d":"$0.00"},{"v":0,"d":"$0.00"},{"v":0,"d":"$0.00"},{"v":0,"d":"$0.00"},"ASR-Dental_Financial_Report_SMMC_03.21.23","2023-03-21","Unaudited"]
["Dental","DEF","Default",1900,"1900-01-01","Q3","1900-09-30","Region 10","Operating Expense","Medical Expense","Dental Services","2.14","Ending IBNP for Dental Services",{"v":0,"d":"$0.00"},{"v":0,"d":"$0.00"},{"v":0,"d":"$0.00"},{"v":0,"d":"$0.00"},{"v":0,"d":"$0.00"},{"v":0,"d":"$0.00"},"ASR-Dental_Financial_Report_SMMC_03.21.23","2023-03-21","Unaudited"]
["Dental","DEF","Default",1900,"1900-01-01","Q3","1900-09-30","Region 10","Operating Expense","Medical Expense","Dental Services","2.15","Dental Settlements/AP",{"$f":"IF(OR(AND($F1892=\"PY\",N$1<>\"Prior Year\"),AND($F1892<>\"PY\",N$1=\"Prior Year\")),0,INDEX(INDIRECT(\"'Dental Rev-Exp \"&$H1892&\"'!$A$1:$CA$200\"),IF($J1892=\"Member Months\",MATCH($J1892,INDIRECT(\"'Dental Rev-Exp \"&$H1892&\"'!$A$1:$A$200\"),0),MATCH($L1892,INDIRECT(\"'Dental Rev-Exp \"&$H1892&\"'!$B$1:$B$200\"),0)),IF($F1892=\"PY\",MATCH(\"Prior Year Adjustments\",INDIRECT(\"'Dental Rev-Exp \"&$H1892&\"'!$A$8:$CA$8\"),0),MATCH(IF($F1892=\"Q1\",\"JANUARY - MARCH (Q1)\",IF($F1892=\"Q2\",\"APRIL - JUNE (Q2)\",IF($F1892=\"Q3\",\"JULY - SEPTEMBER (Q3)\",IF($F1892=\"Q4\",\"OCTOBER - DECEMBER (Q4)\",0)))),INDIRECT(\"'Dental Rev-Exp \"&$H1892&\"'!$A$7:$CA$7\"),0)+MATCH(N$1,INDIRECT(\"'Dental Rev-Exp \"&$H1892&\"'!$D$8:$CA$8\"),0)-1)))","v":{"v":0,"d":"$0.00"}},{"v":0,"d":"$0.00"},{"v":0,"d":"$0.00"},{"v":0,"d":"$0.00"},{"v":0,"d":"$0.00"},{"v":0,"d":"$0.00"},"ASR-Dental_Financial_Report_SMMC_03.21.23","2023-03-21","Unaudited"]
["Dental","DEF","Default",1900,"1900-01-01","Q3","1900-09-30","Region 10","Operating Expense","Medical Expense","Other Medical","3.5","TPL & Fraud/Abuse Recoveries",{"v":0,"d":"$0.00"},{"v":0,"d":"$0.00"},{"v":0,"d":"$0.00"},{"v":0,"d":"$0.00"},{"v":0,"d":"$0.00"},{"v":0,"d":"$0.00"},"ASR-Dental_Financial_Report_SMMC_03.21.23","2023-03-21","Unaudited"]
["Dental","DEF","Default",1900,"1900-01-01","Q3","1900-09-30","Region 10","Operating Expense","Medical Expense","Other Medical",3.6,"Premium Deficiency Reserve",{"v":0,"d":"$0.00"},{"v":0,"d":"$0.00"},{"v":0,"d":"$0.00"},{"v":0,"d":"$0.00"},{"v":0,"d":"$0.00"},{"v":0,"d":"$0.00"},"ASR-Dental_Financial_Report_SMMC_03.21.23","2023-03-21","Unaudited"]
["Dental","DEF","Default",1900,"1900-01-01","Q3","1900-09-30","Region 10","Operating Expense","Medical Expense","Other Medical","3.8","Reinsurance Premiums",{"v":0,"d":"$0.00"},{"v":0,"d":"$0.00"},{"v":0,"d":"$0.00"},{"v":0,"d":"$0.00"},{"v":0,"d":"$0.00"},{"v":0,"d":"$0.00"},"ASR-Dental_Financial_Report_SMMC_03.21.23","2023-03-21","Unaudited"]
["Dental","DEF","Default",1900,"1900-01-01","Q3","1900-09-30","Region 10","Operating Expense","Medical Expense","Other Medical","3.9","Reinsurance Recoveries",{"v":0,"d":"$0.00"},{"v":0,"d":"$0.00"},{"v":0,"d":"$0.00"},{"v":0,"d":"$0.00"},{"v":0,"d":"$0.00"},{"v":0,"d":"$0.00"},"ASR-Dental_Financial_Report_SMMC_03.21.23","2023-03-21","Unaudited"]
["Dental","DEF","Default",1900,"1900-01-01","Q3","1900-09-30","Region 10","Operating Expense","Administrative Expense","Administrative","4.1","Salaries & Benefits",{"v":0,"d":"$0.00"},{"v":0,"d":"$0.00"},{"v":0,"d":"$0.00"},{"v":0,"d":"$0.00"},{"v":0,"d":"$0.00"},{"v":0,"d":"$0.00"},"ASR-Dental_Financial_Report_SMMC_03.21.23","2023-03-21","Unaudited"]
["Dental","DEF","Default",1900,"1900-01-01","Q3","1900-09-30","Region 10","Operating Expense","Administrative Expense","Administrative","4.2","Administrative Services",{"v":0,"d":"$0.00"},{"v":0,"d":"$0.00"},{"v":0,"d":"$0.00"},{"v":0,"d":"$0.00"},{"v":0,"d":"$0.00"},{"v":0,"d":"$0.00"},"ASR-Dental_Financial_Report_SMMC_03.21.23","2023-03-21","Unaudited"]
["Dental","DEF","Default",1900,"1900-01-01","Q3","1900-09-30","Region 10","Operating Expense","Administrative Expense","Administrative","4.3","Information Systems",{"v":0,"d":"$0.00"},{"v":0,"d":"$0.00"},{"v":0,"d":"$0.00"},{"v":0,"d":"$0.00"},{"v":0,"d":"$0.00"},{"v":0,"d":"$0.00"},"ASR-Dental_Financial_Report_SMMC_03.21.23","2023-03-21","Unaudited"]
["Dental","DEF","Default",1900,"1900-01-01","Q3","1900-09-30","Region 10","Operating Expense","Administrative Expense","Administrative","4.4","Marketing Expenses",{"v":0,"d":"$0.00"},{"v":0,"d":"$0.00"},{"v":0,"d":"$0.00"},{"v":0,"d":"$0.00"},{"v":0,"d":"$0.00"},{"v":0,"d":"$0.00"},"ASR-Dental_Financial_Report_SMMC_03.21.23","2023-03-21","Unaudited"]
["Dental","DEF","Default",1900,"1900-01-01","Q3","1900-09-30","Region 10","Operating Expense","Administrative Expense","Administrative","4.5","General  Administration",{"v":0,"d":"$0.00"},{"v":0,"d":"$0.00"},{"v":0,"d":"$0.00"},{"v":0,"d":"$0.00"},{"v":0,"d":"$0.00"},{"v":0,"d":"$0.00"},"ASR-Dental_Financial_Report_SMMC_03.21.23","2023-03-21","Unaudited"]
["Dental","DEF","Default",1900,"1900-01-01","Q3","1900-09-30","Region 10","Operating Expense","Administrative Expense","Administrative","4.6","Compliance/Regulatory",{"$f":"IF(OR(AND($F1902=\"PY\",N$1<>\"Prior Year\"),AND($F1902<>\"PY\",N$1=\"Prior Year\")),0,INDEX(INDIRECT(\"'Dental Rev-Exp \"&$H1902&\"'!$A$1:$CA$200\"),IF($J1902=\"Member Months\",MATCH($J1902,INDIRECT(\"'Dental Rev-Exp \"&$H1902&\"'!$A$1:$A$200\"),0),MATCH($L1902,INDIRECT(\"'Dental Rev-Exp \"&$H1902&\"'!$B$1:$B$200\"),0)),IF($F1902=\"PY\",MATCH(\"Prior Year Adjustments\",INDIRECT(\"'Dental Rev-Exp \"&$H1902&\"'!$A$8:$CA$8\"),0),MATCH(IF($F1902=\"Q1\",\"JANUARY - MARCH (Q1)\",IF($F1902=\"Q2\",\"APRIL - JUNE (Q2)\",IF($F1902=\"Q3\",\"JULY - SEPTEMBER (Q3)\",IF($F1902=\"Q4\",\"OCTOBER - DECEMBER (Q4)\",0)))),INDIRECT(\"'Dental Rev-Exp \"&$H1902&\"'!$A$7:$CA$7\"),0)+MATCH(N$1,INDIRECT(\"'Dental Rev-Exp \"&$H1902&\"'!$D$8:$CA$8\"),0)-1)))","v":{"v":0,"d":"$0.00"}},{"v":0,"d":"$0.00"},{"v":0,"d":"$0.00"},{"v":0,"d":"$0.00"},{"v":0,"d":"$0.00"},{"v":0,"d":"$0.00"},"ASR-Dental_Financial_Report_SMMC_03.21.23","2023-03-21","Unaudited"]
["Dental","DEF","Default",1900,"1900-01-01","Q3","1900-09-30","Region 10","Operating Expense","Taxes & Fees","Taxes & Fees","5.1","State Premium tax",{"v":0,"d":"$0.00"},{"v":0,"d":"$0.00"},{"v":0,"d":"$0.00"},{"v":0,"d":"$0.00"},{"v":0,"d":"$0.00"},{"v":0,"d":"$0.00"},"ASR-Dental_Financial_Report_SMMC_03.21.23","2023-03-21","Unaudited"]
["Dental","DEF","Default",1900,"1900-01-01","Q3","1900-09-30","Region 10","Operating Expense","Taxes & Fees","Taxes & Fees","5.2","Department of Insurance Assessments",{"v":0,"d":"$0.00"},{"v":0,"d":"$0.00"},{"v":0,"d":"$0.00"},{"v":0,"d":"$0.00"},{"v":0,"d":"$0.00"},{"v":0,"d":"$0.00"},"ASR-Dental_Financial_Report_SMMC_03.21.23","2023-03-21","Unaudited"]
["Dental","DEF","Default",1900,"1900-01-01","Q3","1900-09-30","Region 10","Operating Expense","Taxes & Fees","Taxes & Fees","5.3","Section 9010 Health Insurance Providers Fee",{"v":0,"d":"$0.00"},{"v":0,"d":"$0.00"},{"v":0,"d":"$0.00"},{"v":0,"d":"$0.00"},{"v":0,"d":"$0.00"},{"v":0,"d":"$0.00"},"ASR-Dental_Financial_Report_SMMC_03.21.23","2023-03-21","Unaudited"]
["Dental","DEF","Default",1900,"1900-01-01","Q3","1900-09-30","Region 10","Operating Expense","Taxes & Fees","Taxes & Fees","5.4","Other 1",{"v":0,"d":"$0.00"},{"v":0,"d":"$0.00"},{"v":0,"d":"$0.00"},{"v":0,"d":"$0.00"},{"v":0,"d":"$0.00"},{"v":0,"d":"$0.00"},"ASR-Dental_Financial_Report_SMMC_03.21.23","2023-03-21","Unaudited"]
["Dental","DEF","Default",1900,"1900-01-01","Q3","1900-09-30","Region 10","Operating Expense","Taxes & Fees","Taxes & Fees","5.5","Other 2",{"v":0,"d":"$0.00"},{"v":0,"d":"$0.00"},{"v":0,"d":"$0.00"},{"v":0,"d":"$0.00"},{"v":0,"d":"$0.00"},{"v":0,"d":"$0.00"},"ASR-Dental_Financial_Report_SMMC_03.21.23","2023-03-21","Unaudited"]
["Dental","DEF","Default",1900,"1900-01-01","Q3","1900-09-30","Region 10","Operating Expense","Taxes & Fees","Taxes & Fees","5.6","Other 3",{"v":0,"d":"$0.00"},{"v":0,"d":"$0.00"},{"v":0,"d":"$0.00"},{"v":0,"d":"$0.00"},{"v":0,"d":"$0.00"},{"v":0,"d":"$0.00"},"ASR-Dental_Financial_Report_SMMC_03.21.23","2023-03-21","Unaudited"]
["Dental","DEF","Default",1900,"1900-01-01","Q3","1900-09-30","Region 10","Non-Operating Expense","Income Tax Expense","Income Tax Expense","8.0","Income Tax Expense",{"v":0,"d":"$0.00"},{"v":0,"d":"$0.00"},{"v":0,"d":"$0.00"},{"v":0,"d":"$0.00"},{"v":0,"d":"$0.00"},{"v":0,"d":"$0.00"},"ASR-Dental_Financial_Report_SMMC_03.21.23","2023-03-21","Unaudited"]
["Dental","DEF","Default",1900,"1900-01-01","Q4","1900-12-31","Region 10","Member Months","Member Months","Member Months",null,"Member Months",{"v":0,"d":"$0.00"},{"v":0,"d":"$0.00"},{"v":0,"d":"$0.00"},{"v":0,"d":"$0.00"},{"v":0,"d":"$0.00"},{"v":0,"d":"$0.00"},"ASR-Dental_Financial_Report_SMMC_03.21.23","2023-03-21","Unaudited"]
["Dental","DEF","Default",1900,"1900-01-01","Q4","1900-12-31","Region 10","Operating Revenue","Capitation","Capitation","1.1","Capitation",{"v":0,"d":"$0.00"},{"v":0,"d":"$0.00"},{"v":0,"d":"$0.00"},{"v":0,"d":"$0.00"},{"v":0,"d":"$0.00"},{"v":0,"d":"$0.00"},"ASR-Dental_Financial_Report_SMMC_03.21.23","2023-03-21","Unaudited"]
["Dental","DEF","Default",1900,"1900-01-01","Q4","1900-12-31","Region 10","Operating Revenue","Other Revenue","Other Revenue - 9010","1.2","ACA § 9010 related payments",{"$f":"IF(OR(AND($F1912=\"PY\",N$1<>\"Prior Year\"),AND($F1912<>\"PY\",N$1=\"Prior Year\")),0,INDEX(INDIRECT(\"'Dental Rev-Exp \"&$H1912&\"'!$A$1:$CA$200\"),IF($J1912=\"Member Months\",MATCH($J1912,INDIRECT(\"'Dental Rev-Exp \"&$H1912&\"'!$A$1:$A$200\"),0),MATCH($L1912,INDIRECT(\"'Dental Rev-Exp \"&$H1912&\"'!$B$1:$B$200\"),0)),IF($F1912=\"PY\",MATCH(\"Prior Year Adjustments\",INDIRECT(\"'Dental Rev-Exp \"&$H1912&\"'!$A$8:$CA$8\"),0),MATCH(IF($F1912=\"Q1\",\"JANUARY - MARCH (Q1)\",IF($F1912=\"Q2\",\"APRIL - JUNE (Q2)\",IF($F1912=\"Q3\",\"JULY - SEPTEMBER (Q3)\",IF($F1912=\"Q4\",\"OCTOBER - DECEMBER (Q4)\",0)))),INDIRECT(\"'Dental Rev-Exp \"&$H1912&\"'!$A$7:$CA$7\"),0)+MATCH(N$1,INDIRECT(\"'Dental Rev-Exp \"&$H1912&\"'!$D$8:$CA$8\"),0)-1)))","v":{"v":0,"d":"$0.00"}},{"v":0,"d":"$0.00"},{"v":0,"d":"$0.00"},{"v":0,"d":"$0.00"},{"v":0,"d":"$0.00"},{"v":0,"d":"$0.00"},"ASR-Dental_Financial_Report_SMMC_03.21.23","2023-03-21","Unaudited"]
["Dental","DEF","Default",1900,"1900-01-01","Q4","1900-12-31","Region 10","Operating Revenue","Other Revenue","Other Revenue","1.3","Other Revenue",{"v":0,"d":"$0.00"},{"v":0,"d":"$0.00"},{"v":0,"d":"$0.00"},{"v":0,"d":"$0.00"},{"v":0,"d":"$0.00"},{"v":0,"d":"$0.00"},"ASR-Dental_Financial_Report_SMMC_03.21.23","2023-03-21","Unaudited"]
["Dental","DEF","Default",1900,"1900-01-01","Q4","1900-12-31","Region 10","Operating Expense","Medical Expense","Dental Services","2.1","Dental Services Diagnostic",{"v":0,"d":"$0.00"},{"v":0,"d":"$0.00"},{"v":0,"d":"$0.00"},{"v":0,"d":"$0.00"},{"v":0,"d":"$0.00"},{"v":0,"d":"$0.00"},"ASR-Dental_Financial_Report_SMMC_03.21.23","2023-03-21","Unaudited"]
["Dental","DEF","Default",1900,"1900-01-01","Q4","1900-12-31","Region 10","Operating Expense","Medical Expense","Dental Services",2.2,"Dental Services Preventive",{"v":0,"d":"$0.00"},{"v":0,"d":"$0.00"},{"v":0,"d":"$0.00"},{"v":0,"d":"$0.00"},{"v":0,"d":"$0.00"},{"v":0,"d":"$0.00"},"ASR-Dental_Financial_Report_SMMC_03.21.23","2023-03-21","Unaudited"]
["Dental","DEF","Default",1900,"1900-01-01","Q4","1900-12-31","Region 10","Operating Expense","Medical Expense","Dental Services","2.3","Dental Services Restorative",{"v":0,"d":"$0.00"},{"v":0,"d":"$0.00"},{"v":0,"d":"$0.00"},{"v":0,"d":"$0.00"},{"v":0,"d":"$0.00"},{"v":0,"d":"$0.00"},"ASR-Dental_Financial_Report_SMMC_03.21.23","2023-03-21","Unaudited"]
["Dental","DEF","Default",1900,"1900-01-01","Q4","1900-12-31","Region 10","Operating Expense","Medical Expense","Dental Services","2.4","Dental Services Endodontics",{"v":0,"d":"$0.00"},{"v":0,"d":"$0.00"},{"v":0,"d":"$0.00"},{"v":0,"d":"$0.00"},{"v":0,"d":"$0.00"},{"v":0,"d":"$0.00"},"ASR-Dental_Financial_Report_SMMC_03.21.23","2023-03-21","Unaudited"]
["Dental","DEF","Default",1900,"1900-01-01","Q4","1900-12-31","Region 10","Operating Expense","Medical Expense","Dental Services","2.5","Dental Services Periodontics",{"v":0,"d":"$0.00"},{"v":0,"d":"$0.00"},{"v":0,"d":"$0.00"},{"v":0,"d":"$0.00"},{"v":0,"d":"$0.00"},{"v":0,"d":"$0.00"},"ASR-Dental_Financial_Report_SMMC_03.21.23","2023-03-21","Unaudited"]
["Dental","DEF","Default",1900,"1900-01-01","Q4","1900-12-31","Region 10","Operating Expense","Medical Expense","Dental Services","2.6","Dental Services Prosthodontics",{"v":0,"d":"$0.00"},{"v":0,"d":"$0.00"},{"v":0,"d":"$0.00"},{"v":0,"d":"$0.00"},{"v":0,"d":"$0.00"},{"v":0,"d":"$0.00"},"ASR-Dental_Financial_Report_SMMC_03.21.23","2023-03-21","Unaudited"]
["Dental","DEF","Default",1900,"1900-01-01","Q4","1900-12-31","Region 10","Operating Expense","Medical Expense","Dental Services","2.7","Dental Services Prosthodontics, fixed",{"v":0,"d":"$0.00"},{"v":0,"d":"$0.00"},{"v":0,"d":"$0.00"},{"v":0,"d":"$0.00"},{"v":0,"d":"$0.00"},{"v":0,"d":"$0.00"},"ASR-Dental_Financial_Report_SMMC_03.21.23","2023-03-21","Unaudited"]
["Dental","DEF","Default",1900,"1900-01-01","Q4","1900-12-31","Region 10","Operating Expense","Medical Expense","Dental Services","2.8","Dental Services Oral and Maxillofacial Surgery",{"v":0,"d":"$0.00"},{"v":0,"d":"$0.00"},{"v":0,"d":"$0.00"},{"v":0,"d":"$0.00"},{"v":0,"d":"$0.00"},{"v":0,"d":"$0.00"},"ASR-Dental_Financial_Report_SMMC_03.21.23","2023-03-21","Unaudited"]
["Dental","DEF","Default",1900,"1900-01-01","Q4","1900-12-31","Region 10","Operating Expense","Medical Expense","Dental Services","2.9","Dental Services Orthodontics",{"$f":"IF(OR(AND($F1922=\"PY\",N$1<>\"Prior Year\"),AND($F1922<>\"PY\",N$1=\"Prior Year\")),0,INDEX(INDIRECT(\"'Dental Rev-Exp \"&$H1922&\"'!$A$1:$CA$200\"),IF($J1922=\"Member Months\",MATCH($J1922,INDIRECT(\"'Dental Rev-Exp \"&$H1922&\"'!$A$1:$A$200\"),0),MATCH($L1922,INDIRECT(\"'Dental Rev-Exp \"&$H1922&\"'!$B$1:$B$200\"),0)),IF($F1922=\"PY\",MATCH(\"Prior Year Adjustments\",INDIRECT(\"'Dental Rev-Exp \"&$H1922&\"'!$A$8:$CA$8\"),0),MATCH(IF($F1922=\"Q1\",\"JANUARY - MARCH (Q1)\",IF($F1922=\"Q2\",\"APRIL - JUNE (Q2)\",IF($F1922=\"Q3\",\"JULY - SEPTEMBER (Q3)\",IF($F1922=\"Q4\",\"OCTOBER - DECEMBER (Q4)\",0)))),INDIRECT(\"'Dental Rev-Exp \"&$H1922&\"'!$A$7:$CA$7\"),0)+MATCH(N$1,INDIRECT(\"'Dental Rev-Exp \"&$H1922&\"'!$D$8:$CA$8\"),0)-1)))","v":{"v":0,"d":"$0.00"}},{"v":0,"d":"$0.00"},{"v":0,"d":"$0.00"},{"v":0,"d":"$0.00"},{"v":0,"d":"$0.00"},{"v":0,"d":"$0.00"},{"$f":"file_name","v":"ASR-Dental_Financial_Report_SMMC_03.21.23"},{"$f":"file_date","v":"2023-03-21"},{"$f":"status","v":"Unaudited"}]
["Dental","DEF","Default",1900,"1900-01-01","Q4","1900-12-31","Region 10","Operating Expense","Medical Expense","Dental Services","2.10","Dental Services Adjunctive General Services",{"v":0,"d":"$0.00"},{"v":0,"d":"$0.00"},{"v":0,"d":"$0.00"},{"v":0,"d":"$0.00"},{"v":0,"d":"$0.00"},{"v":0,"d":"$0.00"},"ASR-Dental_Financial_Report_SMMC_03.21.23","2023-03-21","Unaudited"]
["Dental","DEF","Default",1900,"1900-01-01","Q4","1900-12-31","Region 10","Operating Expense","Medical Expense","Dental Services","2.11","Dental Services Other",{"v":0,"d":"$0.00"},{"v":0,"d":"$0.00"},{"v":0,"d":"$0.00"},{"v":0,"d":"$0.00"},{"v":0,"d":"$0.00"},{"v":0,"d":"$0.00"},"ASR-Dental_Financial_Report_SMMC_03.21.23","2023-03-21","Unaudited"]
["Dental","DEF","Default",1900,"1900-01-01","Q4","1900-12-31","Region 10","Operating Expense","Medical Expense","Expanded Benefits","2.12","Dental Expanded Benefits",{"v":0,"d":"$0.00"},{"v":0,"d":"$0.00"},{"v":0,"d":"$0.00"},{"v":0,"d":"$0.00"},{"v":0,"d":"$0.00"},{"v":0,"d":"$0.00"},"ASR-Dental_Financial_Report_SMMC_03.21.23","2023-03-21","Unaudited"]
["Dental","DEF","Default",1900,"1900-01-01","Q4","1900-12-31","Region 10","Operating Expense","Medical Expense","Dental Services","2.13","Dental Services Paid through Subcapitation",{"v":0,"d":"$0.00"},{"v":0,"d":"$0.00"},{"v":0,"d":"$0.00"},{"v":0,"d":"$0.00"},{"v":0,"d":"$0.00"},{"v":0,"d":"$0.00"},"ASR-Dental_Financial_Report_SMMC_03.21.23","2023-03-21","Unaudited"]
["Dental","DEF","Default",1900,"1900-01-01","Q4","1900-12-31","Region 10","Operating Expense","Medical Expense","Dental Services","2.14","Ending IBNP for Dental Services",{"v":0,"d":"$0.00"},{"v":0,"d":"$0.00"},{"v":0,"d":"$0.00"},{"v":0,"d":"$0.00"},{"v":0,"d":"$0.00"},{"v":0,"d":"$0.00"},"ASR-Dental_Financial_Report_SMMC_03.21.23","2023-03-21","Unaudited"]
["Dental","DEF","Default",1900,"1900-01-01","Q4","1900-12-31","Region 10","Operating Expense","Medical Expense","Dental Services","2.15","Dental Settlements/AP",{"v":0,"d":"$0.00"},{"v":0,"d":"$0.00"},{"v":0,"d":"$0.00"},{"v":0,"d":"$0.00"},{"v":0,"d":"$0.00"},{"v":0,"d":"$0.00"},"ASR-Dental_Financial_Report_SMMC_03.21.23","2023-03-21","Unaudited"]
["Dental","DEF","Default",1900,"1900-01-01","Q4","1900-12-31","Region 10","Operating Expense","Medical Expense","Other Medical","3.5","TPL & Fraud/Abuse Recoveries",{"v":0,"d":"$0.00"},{"v":0,"d":"$0.00"},{"v":0,"d":"$0.00"},{"v":0,"d":"$0.00"},{"v":0,"d":"$0.00"},{"v":0,"d":"$0.00"},"ASR-Dental_Financial_Report_SMMC_03.21.23","2023-03-21","Unaudited"]
["Dental","DEF","Default",1900,"1900-01-01","Q4","1900-12-31","Region 10","Operating Expense","Medical Expense","Other Medical",3.6,"Premium Deficiency Reserve",{"v":0,"d":"$0.00"},{"v":0,"d":"$0.00"},{"v":0,"d":"$0.00"},{"v":0,"d":"$0.00"},{"v":0,"d":"$0.00"},{"v":0,"d":"$0.00"},"ASR-Dental_Financial_Report_SMMC_03.21.23","2023-03-21","Unaudited"]
["Dental","DEF","Default",1900,"1900-01-01","Q4","1900-12-31","Region 10","Operating Expense","Medical Expense","Other Medical","3.8","Reinsurance Premiums",{"v":0,"d":"$0.00"},{"v":0,"d":"$0.00"},{"v":0,"d":"$0.00"},{"v":0,"d":"$0.00"},{"v":0,"d":"$0.00"},{"v":0,"d":"$0.00"},"ASR-Dental_Financial_Report_SMMC_03.21.23","2023-03-21","Unaudited"]
["Dental","DEF","Default",1900,"1900-01-01","Q4","1900-12-31","Region 10","Operating Expense","Medical Expense","Other Medical","3.9","Reinsurance Recoveries",{"$f":"IF(OR(AND($F1932=\"PY\",N$1<>\"Prior Year\"),AND($F1932<>\"PY\",N$1=\"Prior Year\")),0,INDEX(INDIRECT(\"'Dental Rev-Exp \"&$H1932&\"'!$A$1:$CA$200\"),IF($J1932=\"Member Months\",MATCH($J1932,INDIRECT(\"'Dental Rev-Exp \"&$H1932&\"'!$A$1:$A$200\"),0),MATCH($L1932,INDIRECT(\"'Dental Rev-Exp \"&$H1932&\"'!$B$1:$B$200\"),0)),IF($F1932=\"PY\",MATCH(\"Prior Year Adjustments\",INDIRECT(\"'Dental Rev-Exp \"&$H1932&\"'!$A$8:$CA$8\"),0),MATCH(IF($F1932=\"Q1\",\"JANUARY - MARCH (Q1)\",IF($F1932=\"Q2\",\"APRIL - JUNE (Q2)\",IF($F1932=\"Q3\",\"JULY - SEPTEMBER (Q3)\",IF($F1932=\"Q4\",\"OCTOBER - DECEMBER (Q4)\",0)))),INDIRECT(\"'Dental Rev-Exp \"&$H1932&\"'!$A$7:$CA$7\"),0)+MATCH(N$1,INDIRECT(\"'Dental Rev-Exp \"&$H1932&\"'!$D$8:$CA$8\"),0)-1)))","v":{"v":0,"d":"$0.00"}},{"v":0,"d":"$0.00"},{"v":0,"d":"$0.00"},{"v":0,"d":"$0.00"},{"v":0,"d":"$0.00"},{"v":0,"d":"$0.00"},"ASR-Dental_Financial_Report_SMMC_03.21.23","2023-03-21","Unaudited"]
["Dental","DEF","Default",1900,"1900-01-01","Q4","1900-12-31","Region 10","Operating Expense","Administrative Expense","Administrative","4.1","Salaries & Benefits",{"v":0,"d":"$0.00"},{"v":0,"d":"$0.00"},{"v":0,"d":"$0.00"},{"v":0,"d":"$0.00"},{"v":0,"d":"$0.00"},{"v":0,"d":"$0.00"},"ASR-Dental_Financial_Report_SMMC_03.21.23","2023-03-21","Unaudited"]
["Dental","DEF","Default",1900,"1900-01-01","Q4","1900-12-31","Region 10","Operating Expense","Administrative Expense","Administrative","4.2","Administrative Services",{"v":0,"d":"$0.00"},{"v":0,"d":"$0.00"},{"v":0,"d":"$0.00"},{"v":0,"d":"$0.00"},{"v":0,"d":"$0.00"},{"v":0,"d":"$0.00"},"ASR-Dental_Financial_Report_SMMC_03.21.23","2023-03-21","Unaudited"]
["Dental","DEF","Default",1900,"1900-01-01","Q4","1900-12-31","Region 10","Operating Expense","Administrative Expense","Administrative","4.3","Information Systems",{"v":0,"d":"$0.00"},{"v":0,"d":"$0.00"},{"v":0,"d":"$0.00"},{"v":0,"d":"$0.00"},{"v":0,"d":"$0.00"},{"v":0,"d":"$0.00"},"ASR-Dental_Financial_Report_SMMC_03.21.23","2023-03-21","Unaudited"]
["Dental","DEF","Default",1900,"1900-01-01","Q4","1900-12-31","Region 10","Operating Expense","Administrative Expense","Administrative","4.4","Marketing Expenses",{"v":0,"d":"$0.00"},{"v":0,"d":"$0.00"},{"v":0,"d":"$0.00"},{"v":0,"d":"$0.00"},{"v":0,"d":"$0.00"},{"v":0,"d":"$0.00"},"ASR-Dental_Financial_Report_SMMC_03.21.23","2023-03-21","Unaudited"]
["Dental","DEF","Default",1900,"1900-01-01","Q4","1900-12-31","Region 10","Operating Expense","Administrative Expense","Administrative","4.5","General  Administration",{"v":0,"d":"$0.00"},{"v":0,"d":"$0.00"},{"v":0,"d":"$0.00"},{"v":0,"d":"$0.00"},{"v":0,"d":"$0.00"},{"v":0,"d":"$0.00"},"ASR-Dental_Financial_Report_SMMC_03.21.23","2023-03-21","Unaudited"]
["Dental","DEF","Default",1900,"1900-01-01","Q4","1900-12-31","Region 10","Operating Expense","Administrative Expense","Administrative","4.6","Compliance/Regulatory",{"v":0,"d":"$0.00"},{"v":0,"d":"$0.00"},{"v":0,"d":"$0.00"},{"v":0,"d":"$0.00"},{"v":0,"d":"$0.00"},{"v":0,"d":"$0.00"},"ASR-Dental_Financial_Report_SMMC_03.21.23","2023-03-21","Unaudited"]
["Dental","DEF","Default",1900,"1900-01-01","Q4","1900-12-31","Region 10","Operating Expense","Taxes & Fees","Taxes & Fees","5.1","State Premium tax",{"v":0,"d":"$0.00"},{"v":0,"d":"$0.00"},{"v":0,"d":"$0.00"},{"v":0,"d":"$0.00"},{"v":0,"d":"$0.00"},{"v":0,"d":"$0.00"},"ASR-Dental_Financial_Report_SMMC_03.21.23","2023-03-21","Unaudited"]
["Dental","DEF","Default",1900,"1900-01-01","Q4","1900-12-31","Region 10","Operating Expense","Taxes & Fees","Taxes & Fees","5.2","Department of Insurance Assessments",{"v":0,"d":"$0.00"},{"v":0,"d":"$0.00"},{"v":0,"d":"$0.00"},{"v":0,"d":"$0.00"},{"v":0,"d":"$0.00"},{"v":0,"d":"$0.00"},"ASR-Dental_Financial_Report_SMMC_03.21.23","2023-03-21","Unaudited"]
["Dental","DEF","Default",1900,"1900-01-01","Q4","1900-12-31","Region 10","Operating Expense","Taxes & Fees","Taxes & Fees","5.3","Section 9010 Health Insurance Providers Fee",{"v":0,"d":"$0.00"},{"v":0,"d":"$0.00"},{"v":0,"d":"$0.00"},{"v":0,"d":"$0.00"},{"v":0,"d":"$0.00"},{"v":0,"d":"$0.00"},"ASR-Dental_Financial_Report_SMMC_03.21.23","2023-03-21","Unaudited"]
["Dental","DEF","Default",1900,"1900-01-01","Q4","1900-12-31","Region 10","Operating Expense","Taxes & Fees","Taxes & Fees","5.4","Other 1",{"$f":"IF(OR(AND($F1942=\"PY\",N$1<>\"Prior Year\"),AND($F1942<>\"PY\",N$1=\"Prior Year\")),0,INDEX(INDIRECT(\"'Dental Rev-Exp \"&$H1942&\"'!$A$1:$CA$200\"),IF($J1942=\"Member Months\",MATCH($J1942,INDIRECT(\"'Dental Rev-Exp \"&$H1942&\"'!$A$1:$A$200\"),0),MATCH($L1942,INDIRECT(\"'Dental Rev-Exp \"&$H1942&\"'!$B$1:$B$200\"),0)),IF($F1942=\"PY\",MATCH(\"Prior Year Adjustments\",INDIRECT(\"'Dental Rev-Exp \"&$H1942&\"'!$A$8:$CA$8\"),0),MATCH(IF($F1942=\"Q1\",\"JANUARY - MARCH (Q1)\",IF($F1942=\"Q2\",\"APRIL - JUNE (Q2)\",IF($F1942=\"Q3\",\"JULY - SEPTEMBER (Q3)\",IF($F1942=\"Q4\",\"OCTOBER - DECEMBER (Q4)\",0)))),INDIRECT(\"'Dental Rev-Exp \"&$H1942&\"'!$A$7:$CA$7\"),0)+MATCH(N$1,INDIRECT(\"'Dental Rev-Exp \"&$H1942&\"'!$D$8:$CA$8\"),0)-1)))","v":{"v":0,"d":"$0.00"}},{"v":0,"d":"$0.00"},{"v":0,"d":"$0.00"},{"v":0,"d":"$0.00"},{"v":0,"d":"$0.00"},{"v":0,"d":"$0.00"},"ASR-Dental_Financial_Report_SMMC_03.21.23","2023-03-21","Unaudited"]
["Dental","DEF","Default",1900,"1900-01-01","Q4","1900-12-31","Region 10","Operating Expense","Taxes & Fees","Taxes & Fees","5.5","Other 2",{"v":0,"d":"$0.00"},{"v":0,"d":"$0.00"},{"v":0,"d":"$0.00"},{"v":0,"d":"$0.00"},{"v":0,"d":"$0.00"},{"v":0,"d":"$0.00"},"ASR-Dental_Financial_Report_SMMC_03.21.23","2023-03-21","Unaudited"]
["Dental","DEF","Default",1900,"1900-01-01","Q4","1900-12-31","Region 10","Operating Expense","Taxes & Fees","Taxes & Fees","5.6","Other 3",{"v":0,"d":"$0.00"},{"v":0,"d":"$0.00"},{"v":0,"d":"$0.00"},{"v":0,"d":"$0.00"},{"v":0,"d":"$0.00"},{"v":0,"d":"$0.00"},"ASR-Dental_Financial_Report_SMMC_03.21.23","2023-03-21","Unaudited"]
["Dental","DEF","Default",1900,"1900-01-01","Q4","1900-12-31","Region 10","Non-Operating Expense","Income Tax Expense","Income Tax Expense","8.0","Income Tax Expense",{"v":0,"d":"$0.00"},{"v":0,"d":"$0.00"},{"v":0,"d":"$0.00"},{"v":0,"d":"$0.00"},{"v":0,"d":"$0.00"},{"v":0,"d":"$0.00"},"ASR-Dental_Financial_Report_SMMC_03.21.23","2023-03-21","Unaudited"]
["Dental","DEF","Default",1900,"1900-01-01","PY","1/1/1800","Region 10","Member Months","Member Months","Member Months",null,"Member Months",{"v":0,"d":"$0.00"},{"v":0,"d":"$0.00"},{"v":0,"d":"$0.00"},{"v":0,"d":"$0.00"},{"v":0,"d":"$0.00"},{"v":0,"d":"$0.00"},"ASR-Dental_Financial_Report_SMMC_03.21.23","2023-03-21","Unaudited"]
["Dental","DEF","Default",1900,"1900-01-01","PY","1/1/1800","Region 10","Operating Revenue","Capitation","Capitation","1.1","Capitation",{"v":0,"d":"$0.00"},{"v":0,"d":"$0.00"},{"v":0,"d":"$0.00"},{"v":0,"d":"$0.00"},{"v":0,"d":"$0.00"},{"v":0,"d":"$0.00"},"ASR-Dental_Financial_Report_SMMC_03.21.23","2023-03-21","Unaudited"]
["Dental","DEF","Default",1900,"1900-01-01","PY","1/1/1800","Region 10","Operating Revenue","Other Revenue","Other Revenue - 9010","1.2","ACA § 9010 related payments",{"v":0,"d":"$0.00"},{"v":0,"d":"$0.00"},{"v":0,"d":"$0.00"},{"v":0,"d":"$0.00"},{"v":0,"d":"$0.00"},{"v":0,"d":"$0.00"},"ASR-Dental_Financial_Report_SMMC_03.21.23","2023-03-21","Unaudited"]
["Dental","DEF","Default",1900,"1900-01-01","PY","1/1/1800","Region 10","Operating Revenue","Other Revenue","Other Revenue","1.3","Other Revenue",{"v":0,"d":"$0.00"},{"v":0,"d":"$0.00"},{"v":0,"d":"$0.00"},{"v":0,"d":"$0.00"},{"v":0,"d":"$0.00"},{"v":0,"d":"$0.00"},"ASR-Dental_Financial_Report_SMMC_03.21.23","2023-03-21","Unaudited"]
["Dental","DEF","Default",1900,"1900-01-01","PY","1/1/1800","Region 10","Operating Expense","Medical Expense","Dental Services","2.1","Dental Services Diagnostic",{"v":0,"d":"$0.00"},{"v":0,"d":"$0.00"},{"v":0,"d":"$0.00"},{"v":0,"d":"$0.00"},{"v":0,"d":"$0.00"},{"v":0,"d":"$0.00"},"ASR-Dental_Financial_Report_SMMC_03.21.23","2023-03-21","Unaudited"]
["Dental","DEF","Default",1900,"1900-01-01","PY","1/1/1800","Region 10","Operating Expense","Medical Expense","Dental Services",2.2,"Dental Services Preventive",{"v":0,"d":"$0.00"},{"v":0,"d":"$0.00"},{"v":0,"d":"$0.00"},{"v":0,"d":"$0.00"},{"v":0,"d":"$0.00"},{"v":0,"d":"$0.00"},"ASR-Dental_Financial_Report_SMMC_03.21.23","2023-03-21","Unaudited"]
["Dental","DEF","Default",1900,"1900-01-01","PY","1/1/1800","Region 10","Operating Expense","Medical Expense","Dental Services","2.3","Dental Services Restorative",{"$f":"IF(OR(AND($F1952=\"PY\",N$1<>\"Prior Year\"),AND($F1952<>\"PY\",N$1=\"Prior Year\")),0,INDEX(INDIRECT(\"'Dental Rev-Exp \"&$H1952&\"'!$A$1:$CA$200\"),IF($J1952=\"Member Months\",MATCH($J1952,INDIRECT(\"'Dental Rev-Exp \"&$H1952&\"'!$A$1:$A$200\"),0),MATCH($L1952,INDIRECT(\"'Dental Rev-Exp \"&$H1952&\"'!$B$1:$B$200\"),0)),IF($F1952=\"PY\",MATCH(\"Prior Year Adjustments\",INDIRECT(\"'Dental Rev-Exp \"&$H1952&\"'!$A$8:$CA$8\"),0),MATCH(IF($F1952=\"Q1\",\"JANUARY - MARCH (Q1)\",IF($F1952=\"Q2\",\"APRIL - JUNE (Q2)\",IF($F1952=\"Q3\",\"JULY - SEPTEMBER (Q3)\",IF($F1952=\"Q4\",\"OCTOBER - DECEMBER (Q4)\",0)))),INDIRECT(\"'Dental Rev-Exp \"&$H1952&\"'!$A$7:$CA$7\"),0)+MATCH(N$1,INDIRECT(\"'Dental Rev-Exp \"&$H1952&\"'!$D$8:$CA$8\"),0)-1)))","v":{"v":0,"d":"$0.00"}},{"v":0,"d":"$0.00"},{"v":0,"d":"$0.00"},{"v":0,"d":"$0.00"},{"v":0,"d":"$0.00"},{"v":0,"d":"$0.00"},"ASR-Dental_Financial_Report_SMMC_03.21.23","2023-03-21","Unaudited"]
["Dental","DEF","Default",1900,"1900-01-01","PY","1/1/1800","Region 10","Operating Expense","Medical Expense","Dental Services","2.4","Dental Services Endodontics",{"v":0,"d":"$0.00"},{"v":0,"d":"$0.00"},{"v":0,"d":"$0.00"},{"v":0,"d":"$0.00"},{"v":0,"d":"$0.00"},{"v":0,"d":"$0.00"},"ASR-Dental_Financial_Report_SMMC_03.21.23","2023-03-21","Unaudited"]
["Dental","DEF","Default",1900,"1900-01-01","PY","1/1/1800","Region 10","Operating Expense","Medical Expense","Dental Services","2.5","Dental Services Periodontics",{"v":0,"d":"$0.00"},{"v":0,"d":"$0.00"},{"v":0,"d":"$0.00"},{"v":0,"d":"$0.00"},{"v":0,"d":"$0.00"},{"v":0,"d":"$0.00"},"ASR-Dental_Financial_Report_SMMC_03.21.23","2023-03-21","Unaudited"]
["Dental","DEF","Default",1900,"1900-01-01","PY","1/1/1800","Region 10","Operating Expense","Medical Expense","Dental Services","2.6","Dental Services Prosthodontics",{"v":0,"d":"$0.00"},{"v":0,"d":"$0.00"},{"v":0,"d":"$0.00"},{"v":0,"d":"$0.00"},{"v":0,"d":"$0.00"},{"v":0,"d":"$0.00"},"ASR-Dental_Financial_Report_SMMC_03.21.23","2023-03-21","Unaudited"]
["Dental","DEF","Default",1900,"1900-01-01","PY","1/1/1800","Region 10","Operating Expense","Medical Expense","Dental Services","2.7","Dental Services Prosthodontics, fixed",{"v":0,"d":"$0.00"},{"v":0,"d":"$0.00"},{"v":0,"d":"$0.00"},{"v":0,"d":"$0.00"},{"v":0,"d":"$0.00"},{"v":0,"d":"$0.00"},"ASR-Dental_Financial_Report_SMMC_03.21.23","2023-03-21","Unaudited"]
["Dental","DEF","Default",1900,"1900-01-01","PY","1/1/1800","Region 10","Operating Expense","Medical Expense","Dental Services","2.8","Dental Services Oral and Maxillofacial Surgery",{"v":0,"d":"$0.00"},{"v":0,"d":"$0.00"},{"v":0,"d":"$0.00"},{"v":0,"d":"$0.00"},{"v":0,"d":"$0.00"},{"v":0,"d":"$0.00"},"ASR-Dental_Financial_Report_SMMC_03.21.23","2023-03-21","Unaudited"]
["Dental","DEF","Default",1900,"1900-01-01","PY","1/1/1800","Region 10","Operating Expense","Medical Expense","Dental Services","2.9","Dental Services Orthodontics",{"v":0,"d":"$0.00"},{"v":0,"d":"$0.00"},{"v":0,"d":"$0.00"},{"v":0,"d":"$0.00"},{"v":0,"d":"$0.00"},{"v":0,"d":"$0.00"},"ASR-Dental_Financial_Report_SMMC_03.21.23","2023-03-21","Unaudited"]
["Dental","DEF","Default",1900,"1900-01-01","PY","1/1/1800","Region 10","Operating Expense","Medical Expense","Dental Services","2.10","Dental Services Adjunctive General Services",{"v":0,"d":"$0.00"},{"v":0,"d":"$0.00"},{"v":0,"d":"$0.00"},{"v":0,"d":"$0.00"},{"v":0,"d":"$0.00"},{"v":0,"d":"$0.00"},"ASR-Dental_Financial_Report_SMMC_03.21.23","2023-03-21","Unaudited"]
["Dental","DEF","Default",1900,"1900-01-01","PY","1/1/1800","Region 10","Operating Expense","Medical Expense","Dental Services","2.11","Dental Services Other",{"v":0,"d":"$0.00"},{"v":0,"d":"$0.00"},{"v":0,"d":"$0.00"},{"v":0,"d":"$0.00"},{"v":0,"d":"$0.00"},{"v":0,"d":"$0.00"},"ASR-Dental_Financial_Report_SMMC_03.21.23","2023-03-21","Unaudited"]
["Dental","DEF","Default",1900,"1900-01-01","PY","1/1/1800","Region 10","Operating Expense","Medical Expense","Expanded Benefits","2.12","Dental Expanded Benefits",{"v":0,"d":"$0.00"},{"v":0,"d":"$0.00"},{"v":0,"d":"$0.00"},{"v":0,"d":"$0.00"},{"v":0,"d":"$0.00"},{"v":0,"d":"$0.00"},"ASR-Dental_Financial_Report_SMMC_03.21.23","2023-03-21","Unaudited"]
["Dental","DEF","Default",1900,"1900-01-01","PY","1/1/1800","Region 10","Operating Expense","Medical Expense","Dental Services","2.13","Dental Services Paid through Subcapitation",{"$f":"IF(OR(AND($F1962=\"PY\",N$1<>\"Prior Year\"),AND($F1962<>\"PY\",N$1=\"Prior Year\")),0,INDEX(INDIRECT(\"'Dental Rev-Exp \"&$H1962&\"'!$A$1:$CA$200\"),IF($J1962=\"Member Months\",MATCH($J1962,INDIRECT(\"'Dental Rev-Exp \"&$H1962&\"'!$A$1:$A$200\"),0),MATCH($L1962,INDIRECT(\"'Dental Rev-Exp \"&$H1962&\"'!$B$1:$B$200\"),0)),IF($F1962=\"PY\",MATCH(\"Prior Year Adjustments\",INDIRECT(\"'Dental Rev-Exp \"&$H1962&\"'!$A$8:$CA$8\"),0),MATCH(IF($F1962=\"Q1\",\"JANUARY - MARCH (Q1)\",IF($F1962=\"Q2\",\"APRIL - JUNE (Q2)\",IF($F1962=\"Q3\",\"JULY - SEPTEMBER (Q3)\",IF($F1962=\"Q4\",\"OCTOBER - DECEMBER (Q4)\",0)))),INDIRECT(\"'Dental Rev-Exp \"&$H1962&\"'!$A$7:$CA$7\"),0)+MATCH(N$1,INDIRECT(\"'Dental Rev-Exp \"&$H1962&\"'!$D$8:$CA$8\"),0)-1)))","v":{"v":0,"d":"$0.00"}},{"v":0,"d":"$0.00"},{"v":0,"d":"$0.00"},{"v":0,"d":"$0.00"},{"v":0,"d":"$0.00"},{"v":0,"d":"$0.00"},"ASR-Dental_Financial_Report_SMMC_03.21.23","2023-03-21","Unaudited"]
["Dental","DEF","Default",1900,"1900-01-01","PY","1/1/1800","Region 10","Operating Expense","Medical Expense","Dental Services","2.14","Ending IBNP for Dental Services",{"v":0,"d":"$0.00"},{"v":0,"d":"$0.00"},{"v":0,"d":"$0.00"},{"v":0,"d":"$0.00"},{"v":0,"d":"$0.00"},{"v":0,"d":"$0.00"},"ASR-Dental_Financial_Report_SMMC_03.21.23","2023-03-21","Unaudited"]
["Dental","DEF","Default",1900,"1900-01-01","PY","1/1/1800","Region 10","Operating Expense","Medical Expense","Dental Services","2.15","Dental Settlements/AP",{"v":0,"d":"$0.00"},{"v":0,"d":"$0.00"},{"v":0,"d":"$0.00"},{"v":0,"d":"$0.00"},{"v":0,"d":"$0.00"},{"v":0,"d":"$0.00"},"ASR-Dental_Financial_Report_SMMC_03.21.23","2023-03-21","Unaudited"]
["Dental","DEF","Default",1900,"1900-01-01","PY","1/1/1800","Region 10","Operating Expense","Medical Expense","Other Medical","3.5","TPL & Fraud/Abuse Recoveries",{"v":0,"d":"$0.00"},{"v":0,"d":"$0.00"},{"v":0,"d":"$0.00"},{"v":0,"d":"$0.00"},{"v":0,"d":"$0.00"},{"v":0,"d":"$0.00"},"ASR-Dental_Financial_Report_SMMC_03.21.23","2023-03-21","Unaudited"]
["Dental","DEF","Default",1900,"1900-01-01","PY","1/1/1800","Region 10","Operating Expense","Medical Expense","Other Medical",3.6,"Premium Deficiency Reserve",{"v":0,"d":"$0.00"},{"v":0,"d":"$0.00"},{"v":0,"d":"$0.00"},{"v":0,"d":"$0.00"},{"v":0,"d":"$0.00"},{"v":0,"d":"$0.00"},"ASR-Dental_Financial_Report_SMMC_03.21.23","2023-03-21","Unaudited"]
["Dental","DEF","Default",1900,"1900-01-01","PY","1/1/1800","Region 10","Operating Expense","Medical Expense","Other Medical","3.8","Reinsurance Premiums",{"v":0,"d":"$0.00"},{"v":0,"d":"$0.00"},{"v":0,"d":"$0.00"},{"v":0,"d":"$0.00"},{"v":0,"d":"$0.00"},{"v":0,"d":"$0.00"},"ASR-Dental_Financial_Report_SMMC_03.21.23","2023-03-21","Unaudited"]
["Dental","DEF","Default",1900,"1900-01-01","PY","1/1/1800","Region 10","Operating Expense","Medical Expense","Other Medical","3.9","Reinsurance Recoveries",{"v":0,"d":"$0.00"},{"v":0,"d":"$0.00"},{"v":0,"d":"$0.00"},{"v":0,"d":"$0.00"},{"v":0,"d":"$0.00"},{"v":0,"d":"$0.00"},"ASR-Dental_Financial_Report_SMMC_03.21.23","2023-03-21","Unaudited"]
["Dental","DEF","Default",1900,"1900-01-01","PY","1/1/1800","Region 10","Operating Expense","Administrative Expense","Administrative","4.1","Salaries & Benefits",{"v":0,"d":"$0.00"},{"v":0,"d":"$0.00"},{"v":0,"d":"$0.00"},{"v":0,"d":"$0.00"},{"v":0,"d":"$0.00"},{"v":0,"d":"$0.00"},"ASR-Dental_Financial_Report_SMMC_03.21.23","2023-03-21","Unaudited"]
["Dental","DEF","Default",1900,"1900-01-01","PY","1/1/1800","Region 10","Operating Expense","Administrative Expense","Administrative","4.2","Administrative Services",{"v":0,"d":"$0.00"},{"v":0,"d":"$0.00"},{"v":0,"d":"$0.00"},{"v":0,"d":"$0.00"},{"v":0,"d":"$0.00"},{"v":0,"d":"$0.00"},"ASR-Dental_Financial_Report_SMMC_03.21.23","2023-03-21","Unaudited"]
["Dental","DEF","Default",1900,"1900-01-01","PY","1/1/1800","Region 10","Operating Expense","Administrative Expense","Administrative","4.3","Information Systems",{"v":0,"d":"$0.00"},{"v":0,"d":"$0.00"},{"v":0,"d":"$0.00"},{"v":0,"d":"$0.00"},{"v":0,"d":"$0.00"},{"v":0,"d":"$0.00"},"ASR-Dental_Financial_Report_SMMC_03.21.23","2023-03-21","Unaudited"]
["Dental","DEF","Default",1900,"1900-01-01","PY","1/1/1800","Region 10","Operating Expense","Administrative Expense","Administrative","4.4","Marketing Expenses",{"$f":"IF(OR(AND($F1972=\"PY\",N$1<>\"Prior Year\"),AND($F1972<>\"PY\",N$1=\"Prior Year\")),0,INDEX(INDIRECT(\"'Dental Rev-Exp \"&$H1972&\"'!$A$1:$CA$200\"),IF($J1972=\"Member Months\",MATCH($J1972,INDIRECT(\"'Dental Rev-Exp \"&$H1972&\"'!$A$1:$A$200\"),0),MATCH($L1972,INDIRECT(\"'Dental Rev-Exp \"&$H1972&\"'!$B$1:$B$200\"),0)),IF($F1972=\"PY\",MATCH(\"Prior Year Adjustments\",INDIRECT(\"'Dental Rev-Exp \"&$H1972&\"'!$A$8:$CA$8\"),0),MATCH(IF($F1972=\"Q1\",\"JANUARY - MARCH (Q1)\",IF($F1972=\"Q2\",\"APRIL - JUNE (Q2)\",IF($F1972=\"Q3\",\"JULY - SEPTEMBER (Q3)\",IF($F1972=\"Q4\",\"OCTOBER - DECEMBER (Q4)\",0)))),INDIRECT(\"'Dental Rev-Exp \"&$H1972&\"'!$A$7:$CA$7\"),0)+MATCH(N$1,INDIRECT(\"'Dental Rev-Exp \"&$H1972&\"'!$D$8:$CA$8\"),0)-1)))","v":{"v":0,"d":"$0.00"}},{"v":0,"d":"$0.00"},{"v":0,"d":"$0.00"},{"v":0,"d":"$0.00"},{"v":0,"d":"$0.00"},{"v":0,"d":"$0.00"},"ASR-Dental_Financial_Report_SMMC_03.21.23","2023-03-21","Unaudited"]
["Dental","DEF","Default",1900,"1900-01-01","PY","1/1/1800","Region 10","Operating Expense","Administrative Expense","Administrative","4.5","General  Administration",{"v":0,"d":"$0.00"},{"v":0,"d":"$0.00"},{"v":0,"d":"$0.00"},{"v":0,"d":"$0.00"},{"v":0,"d":"$0.00"},{"v":0,"d":"$0.00"},"ASR-Dental_Financial_Report_SMMC_03.21.23","2023-03-21","Unaudited"]
["Dental","DEF","Default",1900,"1900-01-01","PY","1/1/1800","Region 10","Operating Expense","Administrative Expense","Administrative","4.6","Compliance/Regulatory",{"v":0,"d":"$0.00"},{"v":0,"d":"$0.00"},{"v":0,"d":"$0.00"},{"v":0,"d":"$0.00"},{"v":0,"d":"$0.00"},{"v":0,"d":"$0.00"},"ASR-Dental_Financial_Report_SMMC_03.21.23","2023-03-21","Unaudited"]
["Dental","DEF","Default",1900,"1900-01-01","PY","1/1/1800","Region 10","Operating Expense","Taxes & Fees","Taxes & Fees","5.1","State Premium tax",{"v":0,"d":"$0.00"},{"v":0,"d":"$0.00"},{"v":0,"d":"$0.00"},{"v":0,"d":"$0.00"},{"v":0,"d":"$0.00"},{"v":0,"d":"$0.00"},"ASR-Dental_Financial_Report_SMMC_03.21.23","2023-03-21","Unaudited"]
["Dental","DEF","Default",1900,"1900-01-01","PY","1/1/1800","Region 10","Operating Expense","Taxes & Fees","Taxes & Fees","5.2","Department of Insurance Assessments",{"v":0,"d":"$0.00"},{"v":0,"d":"$0.00"},{"v":0,"d":"$0.00"},{"v":0,"d":"$0.00"},{"v":0,"d":"$0.00"},{"v":0,"d":"$0.00"},"ASR-Dental_Financial_Report_SMMC_03.21.23","2023-03-21","Unaudited"]
["Dental","DEF","Default",1900,"1900-01-01","PY","1/1/1800","Region 10","Operating Expense","Taxes & Fees","Taxes & Fees","5.3","Section 9010 Health Insurance Providers Fee",{"v":0,"d":"$0.00"},{"v":0,"d":"$0.00"},{"v":0,"d":"$0.00"},{"v":0,"d":"$0.00"},{"v":0,"d":"$0.00"},{"v":0,"d":"$0.00"},"ASR-Dental_Financial_Report_SMMC_03.21.23","2023-03-21","Unaudited"]
["Dental","DEF","Default",1900,"1900-01-01","PY","1/1/1800","Region 10","Operating Expense","Taxes & Fees","Taxes & Fees","5.4","Other 1",{"v":0,"d":"$0.00"},{"v":0,"d":"$0.00"},{"v":0,"d":"$0.00"},{"v":0,"d":"$0.00"},{"v":0,"d":"$0.00"},{"v":0,"d":"$0.00"},"ASR-Dental_Financial_Report_SMMC_03.21.23","2023-03-21","Unaudited"]
["Dental","DEF","Default",1900,"1900-01-01","PY","1/1/1800","Region 10","Operating Expense","Taxes & Fees","Taxes & Fees","5.5","Other 2",{"v":0,"d":"$0.00"},{"v":0,"d":"$0.00"},{"v":0,"d":"$0.00"},{"v":0,"d":"$0.00"},{"v":0,"d":"$0.00"},{"v":0,"d":"$0.00"},"ASR-Dental_Financial_Report_SMMC_03.21.23","2023-03-21","Unaudited"]
["Dental","DEF","Default",1900,"1900-01-01","PY","1/1/1800","Region 10","Operating Expense","Taxes & Fees","Taxes & Fees","5.6","Other 3",{"v":0,"d":"$0.00"},{"v":0,"d":"$0.00"},{"v":0,"d":"$0.00"},{"v":0,"d":"$0.00"},{"v":0,"d":"$0.00"},{"v":0,"d":"$0.00"},"ASR-Dental_Financial_Report_SMMC_03.21.23","2023-03-21","Unaudited"]
["Dental","DEF","Default",1900,"1900-01-01","PY","1/1/1800","Region 10","Non-Operating Expense","Income Tax Expense","Income Tax Expense","8.0","Income Tax Expense",{"v":0,"d":"$0.00"},{"v":0,"d":"$0.00"},{"v":0,"d":"$0.00"},{"v":0,"d":"$0.00"},{"v":0,"d":"$0.00"},{"v":0,"d":"$0.00"},"ASR-Dental_Financial_Report_SMMC_03.21.23","2023-03-21","Unaudited"]
["Dental","DEF","Default",1900,"1900-01-01","Q1","1900-03-31","Region 11","Member Months","Member Months","Member Months",null,"Member Months",{"$f":"IF(OR(AND($F1982=\"PY\",N$1<>\"Prior Year\"),AND($F1982<>\"PY\",N$1=\"Prior Year\")),0,INDEX(INDIRECT(\"'Dental Rev-Exp \"&$H1982&\"'!$A$1:$CA$200\"),IF($J1982=\"Member Months\",MATCH($J1982,INDIRECT(\"'Dental Rev-Exp \"&$H1982&\"'!$A$1:$A$200\"),0),MATCH($L1982,INDIRECT(\"'Dental Rev-Exp \"&$H1982&\"'!$B$1:$B$200\"),0)),IF($F1982=\"PY\",MATCH(\"Prior Year Adjustments\",INDIRECT(\"'Dental Rev-Exp \"&$H1982&\"'!$A$8:$CA$8\"),0),MATCH(IF($F1982=\"Q1\",\"JANUARY - MARCH (Q1)\",IF($F1982=\"Q2\",\"APRIL - JUNE (Q2)\",IF($F1982=\"Q3\",\"JULY - SEPTEMBER (Q3)\",IF($F1982=\"Q4\",\"OCTOBER - DECEMBER (Q4)\",0)))),INDIRECT(\"'Dental Rev-Exp \"&$H1982&\"'!$A$7:$CA$7\"),0)+MATCH(N$1,INDIRECT(\"'Dental Rev-Exp \"&$H1982&\"'!$D$8:$CA$8\"),0)-1)))","v":{"v":0,"d":"$0.00"}},{"v":0,"d":"$0.00"},{"v":0,"d":"$0.00"},{"v":0,"d":"$0.00"},{"v":0,"d":"$0.00"},{"v":0,"d":"$0.00"},"ASR-Dental_Financial_Report_SMMC_03.21.23","2023-03-21","Unaudited"]
["Dental","DEF","Default",1900,"1900-01-01","Q1","1900-03-31","Region 11","Operating Revenue","Capitation","Capitation","1.1","Capitation",{"v":0,"d":"$0.00"},{"v":0,"d":"$0.00"},{"v":0,"d":"$0.00"},{"v":0,"d":"$0.00"},{"v":0,"d":"$0.00"},{"v":0,"d":"$0.00"},"ASR-Dental_Financial_Report_SMMC_03.21.23","2023-03-21","Unaudited"]
["Dental","DEF","Default",1900,"1900-01-01","Q1","1900-03-31","Region 11","Operating Revenue","Other Revenue","Other Revenue - 9010","1.2","ACA § 9010 related payments",{"v":0,"d":"$0.00"},{"v":0,"d":"$0.00"},{"v":0,"d":"$0.00"},{"v":0,"d":"$0.00"},{"v":0,"d":"$0.00"},{"v":0,"d":"$0.00"},"ASR-Dental_Financial_Report_SMMC_03.21.23","2023-03-21","Unaudited"]
["Dental","DEF","Default",1900,"1900-01-01","Q1","1900-03-31","Region 11","Operating Revenue","Other Revenue","Other Revenue","1.3","Other Revenue",{"v":0,"d":"$0.00"},{"v":0,"d":"$0.00"},{"v":0,"d":"$0.00"},{"v":0,"d":"$0.00"},{"v":0,"d":"$0.00"},{"v":0,"d":"$0.00"},"ASR-Dental_Financial_Report_SMMC_03.21.23","2023-03-21","Unaudited"]
["Dental","DEF","Default",1900,"1900-01-01","Q1","1900-03-31","Region 11","Operating Expense","Medical Expense","Dental Services","2.1","Dental Services Diagnostic",{"v":0,"d":"$0.00"},{"v":0,"d":"$0.00"},{"v":0,"d":"$0.00"},{"v":0,"d":"$0.00"},{"v":0,"d":"$0.00"},{"v":0,"d":"$0.00"},{"$f":"file_name","v":"ASR-Dental_Financial_Report_SMMC_03.21.23"},{"$f":"file_date","v":"2023-03-21"},{"$f":"status","v":"Unaudited"}]
["Dental","DEF","Default",1900,"1900-01-01","Q1","1900-03-31","Region 11","Operating Expense","Medical Expense","Dental Services",2.2,"Dental Services Preventive",{"v":0,"d":"$0.00"},{"v":0,"d":"$0.00"},{"v":0,"d":"$0.00"},{"v":0,"d":"$0.00"},{"v":0,"d":"$0.00"},{"v":0,"d":"$0.00"},"ASR-Dental_Financial_Report_SMMC_03.21.23","2023-03-21","Unaudited"]
["Dental","DEF","Default",1900,"1900-01-01","Q1","1900-03-31","Region 11","Operating Expense","Medical Expense","Dental Services","2.3","Dental Services Restorative",{"v":0,"d":"$0.00"},{"v":0,"d":"$0.00"},{"v":0,"d":"$0.00"},{"v":0,"d":"$0.00"},{"v":0,"d":"$0.00"},{"v":0,"d":"$0.00"},"ASR-Dental_Financial_Report_SMMC_03.21.23","2023-03-21","Unaudited"]
["Dental","DEF","Default",1900,"1900-01-01","Q1","1900-03-31","Region 11","Operating Expense","Medical Expense","Dental Services","2.4","Dental Services Endodontics",{"v":0,"d":"$0.00"},{"v":0,"d":"$0.00"},{"v":0,"d":"$0.00"},{"v":0,"d":"$0.00"},{"v":0,"d":"$0.00"},{"v":0,"d":"$0.00"},"ASR-Dental_Financial_Report_SMMC_03.21.23","2023-03-21","Unaudited"]
["Dental","DEF","Default",1900,"1900-01-01","Q1","1900-03-31","Region 11","Operating Expense","Medical Expense","Dental Services","2.5","Dental Services Periodontics",{"v":0,"d":"$0.00"},{"v":0,"d":"$0.00"},{"v":0,"d":"$0.00"},{"v":0,"d":"$0.00"},{"v":0,"d":"$0.00"},{"v":0,"d":"$0.00"},"ASR-Dental_Financial_Report_SMMC_03.21.23","2023-03-21","Unaudited"]
["Dental","DEF","Default",1900,"1900-01-01","Q1","1900-03-31","Region 11","Operating Expense","Medical Expense","Dental Services","2.6","Dental Services Prosthodontics",{"v":0,"d":"$0.00"},{"v":0,"d":"$0.00"},{"v":0,"d":"$0.00"},{"v":0,"d":"$0.00"},{"v":0,"d":"$0.00"},{"v":0,"d":"$0.00"},"ASR-Dental_Financial_Report_SMMC_03.21.23","2023-03-21","Unaudited"]
["Dental","DEF","Default",1900,"1900-01-01","Q1","1900-03-31","Region 11","Operating Expense","Medical Expense","Dental Services","2.7","Dental Services Prosthodontics, fixed",{"$f":"IF(OR(AND($F1992=\"PY\",N$1<>\"Prior Year\"),AND($F1992<>\"PY\",N$1=\"Prior Year\")),0,INDEX(INDIRECT(\"'Dental Rev-Exp \"&$H1992&\"'!$A$1:$CA$200\"),IF($J1992=\"Member Months\",MATCH($J1992,INDIRECT(\"'Dental Rev-Exp \"&$H1992&\"'!$A$1:$A$200\"),0),MATCH($L1992,INDIRECT(\"'Dental Rev-Exp \"&$H1992&\"'!$B$1:$B$200\"),0)),IF($F1992=\"PY\",MATCH(\"Prior Year Adjustments\",INDIRECT(\"'Dental Rev-Exp \"&$H1992&\"'!$A$8:$CA$8\"),0),MATCH(IF($F1992=\"Q1\",\"JANUARY - MARCH (Q1)\",IF($F1992=\"Q2\",\"APRIL - JUNE (Q2)\",IF($F1992=\"Q3\",\"JULY - SEPTEMBER (Q3)\",IF($F1992=\"Q4\",\"OCTOBER - DECEMBER (Q4)\",0)))),INDIRECT(\"'Dental Rev-Exp \"&$H1992&\"'!$A$7:$CA$7\"),0)+MATCH(N$1,INDIRECT(\"'Dental Rev-Exp \"&$H1992&\"'!$D$8:$CA$8\"),0)-1)))","v":{"v":0,"d":"$0.00"}},{"v":0,"d":"$0.00"},{"v":0,"d":"$0.00"},{"v":0,"d":"$0.00"},{"v":0,"d":"$0.00"},{"v":0,"d":"$0.00"},"ASR-Dental_Financial_Report_SMMC_03.21.23","2023-03-21","Unaudited"]
["Dental","DEF","Default",1900,"1900-01-01","Q1","1900-03-31","Region 11","Operating Expense","Medical Expense","Dental Services","2.8","Dental Services Oral and Maxillofacial Surgery",{"v":0,"d":"$0.00"},{"v":0,"d":"$0.00"},{"v":0,"d":"$0.00"},{"v":0,"d":"$0.00"},{"v":0,"d":"$0.00"},{"v":0,"d":"$0.00"},"ASR-Dental_Financial_Report_SMMC_03.21.23","2023-03-21","Unaudited"]
["Dental","DEF","Default",1900,"1900-01-01","Q1","1900-03-31","Region 11","Operating Expense","Medical Expense","Dental Services","2.9","Dental Services Orthodontics",{"v":0,"d":"$0.00"},{"v":0,"d":"$0.00"},{"v":0,"d":"$0.00"},{"v":0,"d":"$0.00"},{"v":0,"d":"$0.00"},{"v":0,"d":"$0.00"},"ASR-Dental_Financial_Report_SMMC_03.21.23","2023-03-21","Unaudited"]
["Dental","DEF","Default",1900,"1900-01-01","Q1","1900-03-31","Region 11","Operating Expense","Medical Expense","Dental Services","2.10","Dental Services Adjunctive General Services",{"v":0,"d":"$0.00"},{"v":0,"d":"$0.00"},{"v":0,"d":"$0.00"},{"v":0,"d":"$0.00"},{"v":0,"d":"$0.00"},{"v":0,"d":"$0.00"},"ASR-Dental_Financial_Report_SMMC_03.21.23","2023-03-21","Unaudited"]
["Dental","DEF","Default",1900,"1900-01-01","Q1","1900-03-31","Region 11","Operating Expense","Medical Expense","Dental Services","2.11","Dental Services Other",{"v":0,"d":"$0.00"},{"v":0,"d":"$0.00"},{"v":0,"d":"$0.00"},{"v":0,"d":"$0.00"},{"v":0,"d":"$0.00"},{"v":0,"d":"$0.00"},"ASR-Dental_Financial_Report_SMMC_03.21.23","2023-03-21","Unaudited"]
["Dental","DEF","Default",1900,"1900-01-01","Q1","1900-03-31","Region 11","Operating Expense","Medical Expense","Expanded Benefits","2.12","Dental Expanded Benefits",{"v":0,"d":"$0.00"},{"v":0,"d":"$0.00"},{"v":0,"d":"$0.00"},{"v":0,"d":"$0.00"},{"v":0,"d":"$0.00"},{"v":0,"d":"$0.00"},"ASR-Dental_Financial_Report_SMMC_03.21.23","2023-03-21","Unaudited"]
["Dental","DEF","Default",1900,"1900-01-01","Q1","1900-03-31","Region 11","Operating Expense","Medical Expense","Dental Services","2.13","Dental Services Paid through Subcapitation",{"v":0,"d":"$0.00"},{"v":0,"d":"$0.00"},{"v":0,"d":"$0.00"},{"v":0,"d":"$0.00"},{"v":0,"d":"$0.00"},{"v":0,"d":"$0.00"},"ASR-Dental_Financial_Report_SMMC_03.21.23","2023-03-21","Unaudited"]
["Dental","DEF","Default",1900,"1900-01-01","Q1","1900-03-31","Region 11","Operating Expense","Medical Expense","Dental Services","2.14","Ending IBNP for Dental Services",{"v":0,"d":"$0.00"},{"v":0,"d":"$0.00"},{"v":0,"d":"$0.00"},{"v":0,"d":"$0.00"},{"v":0,"d":"$0.00"},{"v":0,"d":"$0.00"},"ASR-Dental_Financial_Report_SMMC_03.21.23","2023-03-21","Unaudited"]
["Dental","DEF","Default",1900,"1900-01-01","Q1","1900-03-31","Region 11","Operating Expense","Medical Expense","Dental Services","2.15","Dental Settlements/AP",{"v":0,"d":"$0.00"},{"v":0,"d":"$0.00"},{"v":0,"d":"$0.00"},{"v":0,"d":"$0.00"},{"v":0,"d":"$0.00"},{"v":0,"d":"$0.00"},"ASR-Dental_Financial_Report_SMMC_03.21.23","2023-03-21","Unaudited"]
["Dental","DEF","Default",1900,"1900-01-01","Q1","1900-03-31","Region 11","Operating Expense","Medical Expense","Other Medical","3.5","TPL & Fraud/Abuse Recoveries",{"v":0,"d":"$0.00"},{"v":0,"d":"$0.00"},{"v":0,"d":"$0.00"},{"v":0,"d":"$0.00"},{"v":0,"d":"$0.00"},{"v":0,"d":"$0.00"},"ASR-Dental_Financial_Report_SMMC_03.21.23","2023-03-21","Unaudited"]
["Dental","DEF","Default",1900,"1900-01-01","Q1","1900-03-31","Region 11","Operating Expense","Medical Expense","Other Medical",3.6,"Premium Deficiency Reserve",{"$f":"IF(OR(AND($F2002=\"PY\",N$1<>\"Prior Year\"),AND($F2002<>\"PY\",N$1=\"Prior Year\")),0,INDEX(INDIRECT(\"'Dental Rev-Exp \"&$H2002&\"'!$A$1:$CA$200\"),IF($J2002=\"Member Months\",MATCH($J2002,INDIRECT(\"'Dental Rev-Exp \"&$H2002&\"'!$A$1:$A$200\"),0),MATCH($L2002,INDIRECT(\"'Dental Rev-Exp \"&$H2002&\"'!$B$1:$B$200\"),0)),IF($F2002=\"PY\",MATCH(\"Prior Year Adjustments\",INDIRECT(\"'Dental Rev-Exp \"&$H2002&\"'!$A$8:$CA$8\"),0),MATCH(IF($F2002=\"Q1\",\"JANUARY - MARCH (Q1)\",IF($F2002=\"Q2\",\"APRIL - JUNE (Q2)\",IF($F2002=\"Q3\",\"JULY - SEPTEMBER (Q3)\",IF($F2002=\"Q4\",\"OCTOBER - DECEMBER (Q4)\",0)))),INDIRECT(\"'Dental Rev-Exp \"&$H2002&\"'!$A$7:$CA$7\"),0)+MATCH(N$1,INDIRECT(\"'Dental Rev-Exp \"&$H2002&\"'!$D$8:$CA$8\"),0)-1)))","v":{"v":0,"d":"$0.00"}},{"v":0,"d":"$0.00"},{"v":0,"d":"$0.00"},{"v":0,"d":"$0.00"},{"v":0,"d":"$0.00"},{"v":0,"d":"$0.00"},"ASR-Dental_Financial_Report_SMMC_03.21.23","2023-03-21","Unaudited"]
["Dental","DEF","Default",1900,"1900-01-01","Q1","1900-03-31","Region 11","Operating Expense","Medical Expense","Other Medical","3.8","Reinsurance Premiums",{"v":0,"d":"$0.00"},{"v":0,"d":"$0.00"},{"v":0,"d":"$0.00"},{"v":0,"d":"$0.00"},{"v":0,"d":"$0.00"},{"v":0,"d":"$0.00"},"ASR-Dental_Financial_Report_SMMC_03.21.23","2023-03-21","Unaudited"]
["Dental","DEF","Default",1900,"1900-01-01","Q1","1900-03-31","Region 11","Operating Expense","Medical Expense","Other Medical","3.9","Reinsurance Recoveries",{"v":0,"d":"$0.00"},{"v":0,"d":"$0.00"},{"v":0,"d":"$0.00"},{"v":0,"d":"$0.00"},{"v":0,"d":"$0.00"},{"v":0,"d":"$0.00"},"ASR-Dental_Financial_Report_SMMC_03.21.23","2023-03-21","Unaudited"]
["Dental","DEF","Default",1900,"1900-01-01","Q1","1900-03-31","Region 11","Operating Expense","Administrative Expense","Administrative","4.1","Salaries & Benefits",{"v":0,"d":"$0.00"},{"v":0,"d":"$0.00"},{"v":0,"d":"$0.00"},{"v":0,"d":"$0.00"},{"v":0,"d":"$0.00"},{"v":0,"d":"$0.00"},"ASR-Dental_Financial_Report_SMMC_03.21.23","2023-03-21","Unaudited"]
["Dental","DEF","Default",1900,"1900-01-01","Q1","1900-03-31","Region 11","Operating Expense","Administrative Expense","Administrative","4.2","Administrative Services",{"v":0,"d":"$0.00"},{"v":0,"d":"$0.00"},{"v":0,"d":"$0.00"},{"v":0,"d":"$0.00"},{"v":0,"d":"$0.00"},{"v":0,"d":"$0.00"},"ASR-Dental_Financial_Report_SMMC_03.21.23","2023-03-21","Unaudited"]
["Dental","DEF","Default",1900,"1900-01-01","Q1","1900-03-31","Region 11","Operating Expense","Administrative Expense","Administrative","4.3","Information Systems",{"v":0,"d":"$0.00"},{"v":0,"d":"$0.00"},{"v":0,"d":"$0.00"},{"v":0,"d":"$0.00"},{"v":0,"d":"$0.00"},{"v":0,"d":"$0.00"},"ASR-Dental_Financial_Report_SMMC_03.21.23","2023-03-21","Unaudited"]
["Dental","DEF","Default",1900,"1900-01-01","Q1","1900-03-31","Region 11","Operating Expense","Administrative Expense","Administrative","4.4","Marketing Expenses",{"v":0,"d":"$0.00"},{"v":0,"d":"$0.00"},{"v":0,"d":"$0.00"},{"v":0,"d":"$0.00"},{"v":0,"d":"$0.00"},{"v":0,"d":"$0.00"},"ASR-Dental_Financial_Report_SMMC_03.21.23","2023-03-21","Unaudited"]
["Dental","DEF","Default",1900,"1900-01-01","Q1","1900-03-31","Region 11","Operating Expense","Administrative Expense","Administrative","4.5","General  Administration",{"v":0,"d":"$0.00"},{"v":0,"d":"$0.00"},{"v":0,"d":"$0.00"},{"v":0,"d":"$0.00"},{"v":0,"d":"$0.00"},{"v":0,"d":"$0.00"},"ASR-Dental_Financial_Report_SMMC_03.21.23","2023-03-21","Unaudited"]
["Dental","DEF","Default",1900,"1900-01-01","Q1","1900-03-31","Region 11","Operating Expense","Administrative Expense","Administrative","4.6","Compliance/Regulatory",{"v":0,"d":"$0.00"},{"v":0,"d":"$0.00"},{"v":0,"d":"$0.00"},{"v":0,"d":"$0.00"},{"v":0,"d":"$0.00"},{"v":0,"d":"$0.00"},"ASR-Dental_Financial_Report_SMMC_03.21.23","2023-03-21","Unaudited"]
["Dental","DEF","Default",1900,"1900-01-01","Q1","1900-03-31","Region 11","Operating Expense","Taxes & Fees","Taxes & Fees","5.1","State Premium tax",{"v":0,"d":"$0.00"},{"v":0,"d":"$0.00"},{"v":0,"d":"$0.00"},{"v":0,"d":"$0.00"},{"v":0,"d":"$0.00"},{"v":0,"d":"$0.00"},"ASR-Dental_Financial_Report_SMMC_03.21.23","2023-03-21","Unaudited"]
["Dental","DEF","Default",1900,"1900-01-01","Q1","1900-03-31","Region 11","Operating Expense","Taxes & Fees","Taxes & Fees","5.2","Department of Insurance Assessments",{"$f":"IF(OR(AND($F2012=\"PY\",N$1<>\"Prior Year\"),AND($F2012<>\"PY\",N$1=\"Prior Year\")),0,INDEX(INDIRECT(\"'Dental Rev-Exp \"&$H2012&\"'!$A$1:$CA$200\"),IF($J2012=\"Member Months\",MATCH($J2012,INDIRECT(\"'Dental Rev-Exp \"&$H2012&\"'!$A$1:$A$200\"),0),MATCH($L2012,INDIRECT(\"'Dental Rev-Exp \"&$H2012&\"'!$B$1:$B$200\"),0)),IF($F2012=\"PY\",MATCH(\"Prior Year Adjustments\",INDIRECT(\"'Dental Rev-Exp \"&$H2012&\"'!$A$8:$CA$8\"),0),MATCH(IF($F2012=\"Q1\",\"JANUARY - MARCH (Q1)\",IF($F2012=\"Q2\",\"APRIL - JUNE (Q2)\",IF($F2012=\"Q3\",\"JULY - SEPTEMBER (Q3)\",IF($F2012=\"Q4\",\"OCTOBER - DECEMBER (Q4)\",0)))),INDIRECT(\"'Dental Rev-Exp \"&$H2012&\"'!$A$7:$CA$7\"),0)+MATCH(N$1,INDIRECT(\"'Dental Rev-Exp \"&$H2012&\"'!$D$8:$CA$8\"),0)-1)))","v":{"v":0,"d":"$0.00"}},{"v":0,"d":"$0.00"},{"v":0,"d":"$0.00"},{"v":0,"d":"$0.00"},{"v":0,"d":"$0.00"},{"v":0,"d":"$0.00"},"ASR-Dental_Financial_Report_SMMC_03.21.23","2023-03-21","Unaudited"]
["Dental","DEF","Default",1900,"1900-01-01","Q1","1900-03-31","Region 11","Operating Expense","Taxes & Fees","Taxes & Fees","5.3","Section 9010 Health Insurance Providers Fee",{"v":0,"d":"$0.00"},{"v":0,"d":"$0.00"},{"v":0,"d":"$0.00"},{"v":0,"d":"$0.00"},{"v":0,"d":"$0.00"},{"v":0,"d":"$0.00"},"ASR-Dental_Financial_Report_SMMC_03.21.23","2023-03-21","Unaudited"]
["Dental","DEF","Default",1900,"1900-01-01","Q1","1900-03-31","Region 11","Operating Expense","Taxes & Fees","Taxes & Fees","5.4","Other 1",{"v":0,"d":"$0.00"},{"v":0,"d":"$0.00"},{"v":0,"d":"$0.00"},{"v":0,"d":"$0.00"},{"v":0,"d":"$0.00"},{"v":0,"d":"$0.00"},"ASR-Dental_Financial_Report_SMMC_03.21.23","2023-03-21","Unaudited"]
["Dental","DEF","Default",1900,"1900-01-01","Q1","1900-03-31","Region 11","Operating Expense","Taxes & Fees","Taxes & Fees","5.5","Other 2",{"v":0,"d":"$0.00"},{"v":0,"d":"$0.00"},{"v":0,"d":"$0.00"},{"v":0,"d":"$0.00"},{"v":0,"d":"$0.00"},{"v":0,"d":"$0.00"},"ASR-Dental_Financial_Report_SMMC_03.21.23","2023-03-21","Unaudited"]
["Dental","DEF","Default",1900,"1900-01-01","Q1","1900-03-31","Region 11","Operating Expense","Taxes & Fees","Taxes & Fees","5.6","Other 3",{"v":0,"d":"$0.00"},{"v":0,"d":"$0.00"},{"v":0,"d":"$0.00"},{"v":0,"d":"$0.00"},{"v":0,"d":"$0.00"},{"v":0,"d":"$0.00"},"ASR-Dental_Financial_Report_SMMC_03.21.23","2023-03-21","Unaudited"]
["Dental","DEF","Default",1900,"1900-01-01","Q1","1900-03-31","Region 11","Non-Operating Expense","Income Tax Expense","Income Tax Expense","8.0","Income Tax Expense",{"v":0,"d":"$0.00"},{"v":0,"d":"$0.00"},{"v":0,"d":"$0.00"},{"v":0,"d":"$0.00"},{"v":0,"d":"$0.00"},{"v":0,"d":"$0.00"},"ASR-Dental_Financial_Report_SMMC_03.21.23","2023-03-21","Unaudited"]
["Dental","DEF","Default",1900,"1900-01-01","Q2","1900-06-30","Region 11","Member Months","Member Months","Member Months",null,"Member Months",{"v":0,"d":"$0.00"},{"v":0,"d":"$0.00"},{"v":0,"d":"$0.00"},{"v":0,"d":"$0.00"},{"v":0,"d":"$0.00"},{"v":0,"d":"$0.00"},"ASR-Dental_Financial_Report_SMMC_03.21.23","2023-03-21","Unaudited"]
["Dental","DEF","Default",1900,"1900-01-01","Q2","1900-06-30","Region 11","Operating Revenue","Capitation","Capitation","1.1","Capitation",{"v":0,"d":"$0.00"},{"v":0,"d":"$0.00"},{"v":0,"d":"$0.00"},{"v":0,"d":"$0.00"},{"v":0,"d":"$0.00"},{"v":0,"d":"$0.00"},"ASR-Dental_Financial_Report_SMMC_03.21.23","2023-03-21","Unaudited"]
["Dental","DEF","Default",1900,"1900-01-01","Q2","1900-06-30","Region 11","Operating Revenue","Other Revenue","Other Revenue - 9010","1.2","ACA § 9010 related payments",{"v":0,"d":"$0.00"},{"v":0,"d":"$0.00"},{"v":0,"d":"$0.00"},{"v":0,"d":"$0.00"},{"v":0,"d":"$0.00"},{"v":0,"d":"$0.00"},"ASR-Dental_Financial_Report_SMMC_03.21.23","2023-03-21","Unaudited"]
["Dental","DEF","Default",1900,"1900-01-01","Q2","1900-06-30","Region 11","Operating Revenue","Other Revenue","Other Revenue","1.3","Other Revenue",{"v":0,"d":"$0.00"},{"v":0,"d":"$0.00"},{"v":0,"d":"$0.00"},{"v":0,"d":"$0.00"},{"v":0,"d":"$0.00"},{"v":0,"d":"$0.00"},"ASR-Dental_Financial_Report_SMMC_03.21.23","2023-03-21","Unaudited"]
["Dental","DEF","Default",1900,"1900-01-01","Q2","1900-06-30","Region 11","Operating Expense","Medical Expense","Dental Services","2.1","Dental Services Diagnostic",{"$f":"IF(OR(AND($F2022=\"PY\",N$1<>\"Prior Year\"),AND($F2022<>\"PY\",N$1=\"Prior Year\")),0,INDEX(INDIRECT(\"'Dental Rev-Exp \"&$H2022&\"'!$A$1:$CA$200\"),IF($J2022=\"Member Months\",MATCH($J2022,INDIRECT(\"'Dental Rev-Exp \"&$H2022&\"'!$A$1:$A$200\"),0),MATCH($L2022,INDIRECT(\"'Dental Rev-Exp \"&$H2022&\"'!$B$1:$B$200\"),0)),IF($F2022=\"PY\",MATCH(\"Prior Year Adjustments\",INDIRECT(\"'Dental Rev-Exp \"&$H2022&\"'!$A$8:$CA$8\"),0),MATCH(IF($F2022=\"Q1\",\"JANUARY - MARCH (Q1)\",IF($F2022=\"Q2\",\"APRIL - JUNE (Q2)\",IF($F2022=\"Q3\",\"JULY - SEPTEMBER (Q3)\",IF($F2022=\"Q4\",\"OCTOBER - DECEMBER (Q4)\",0)))),INDIRECT(\"'Dental Rev-Exp \"&$H2022&\"'!$A$7:$CA$7\"),0)+MATCH(N$1,INDIRECT(\"'Dental Rev-Exp \"&$H2022&\"'!$D$8:$CA$8\"),0)-1)))","v":{"v":0,"d":"$0.00"}},{"v":0,"d":"$0.00"},{"v":0,"d":"$0.00"},{"v":0,"d":"$0.00"},{"v":0,"d":"$0.00"},{"v":0,"d":"$0.00"},"ASR-Dental_Financial_Report_SMMC_03.21.23","2023-03-21","Unaudited"]
["Dental","DEF","Default",1900,"1900-01-01","Q2","1900-06-30","Region 11","Operating Expense","Medical Expense","Dental Services",2.2,"Dental Services Preventive",{"v":0,"d":"$0.00"},{"v":0,"d":"$0.00"},{"v":0,"d":"$0.00"},{"v":0,"d":"$0.00"},{"v":0,"d":"$0.00"},{"v":0,"d":"$0.00"},"ASR-Dental_Financial_Report_SMMC_03.21.23","2023-03-21","Unaudited"]
["Dental","DEF","Default",1900,"1900-01-01","Q2","1900-06-30","Region 11","Operating Expense","Medical Expense","Dental Services","2.3","Dental Services Restorative",{"v":0,"d":"$0.00"},{"v":0,"d":"$0.00"},{"v":0,"d":"$0.00"},{"v":0,"d":"$0.00"},{"v":0,"d":"$0.00"},{"v":0,"d":"$0.00"},"ASR-Dental_Financial_Report_SMMC_03.21.23","2023-03-21","Unaudited"]
["Dental","DEF","Default",1900,"1900-01-01","Q2","1900-06-30","Region 11","Operating Expense","Medical Expense","Dental Services","2.4","Dental Services Endodontics",{"v":0,"d":"$0.00"},{"v":0,"d":"$0.00"},{"v":0,"d":"$0.00"},{"v":0,"d":"$0.00"},{"v":0,"d":"$0.00"},{"v":0,"d":"$0.00"},"ASR-Dental_Financial_Report_SMMC_03.21.23","2023-03-21","Unaudited"]
["Dental","DEF","Default",1900,"1900-01-01","Q2","1900-06-30","Region 11","Operating Expense","Medical Expense","Dental Services","2.5","Dental Services Periodontics",{"v":0,"d":"$0.00"},{"v":0,"d":"$0.00"},{"v":0,"d":"$0.00"},{"v":0,"d":"$0.00"},{"v":0,"d":"$0.00"},{"v":0,"d":"$0.00"},"ASR-Dental_Financial_Report_SMMC_03.21.23","2023-03-21","Unaudited"]
["Dental","DEF","Default",1900,"1900-01-01","Q2","1900-06-30","Region 11","Operating Expense","Medical Expense","Dental Services","2.6","Dental Services Prosthodontics",{"v":0,"d":"$0.00"},{"v":0,"d":"$0.00"},{"v":0,"d":"$0.00"},{"v":0,"d":"$0.00"},{"v":0,"d":"$0.00"},{"v":0,"d":"$0.00"},"ASR-Dental_Financial_Report_SMMC_03.21.23","2023-03-21","Unaudited"]
["Dental","DEF","Default",1900,"1900-01-01","Q2","1900-06-30","Region 11","Operating Expense","Medical Expense","Dental Services","2.7","Dental Services Prosthodontics, fixed",{"v":0,"d":"$0.00"},{"v":0,"d":"$0.00"},{"v":0,"d":"$0.00"},{"v":0,"d":"$0.00"},{"v":0,"d":"$0.00"},{"v":0,"d":"$0.00"},"ASR-Dental_Financial_Report_SMMC_03.21.23","2023-03-21","Unaudited"]
["Dental","DEF","Default",1900,"1900-01-01","Q2","1900-06-30","Region 11","Operating Expense","Medical Expense","Dental Services","2.8","Dental Services Oral and Maxillofacial Surgery",{"v":0,"d":"$0.00"},{"v":0,"d":"$0.00"},{"v":0,"d":"$0.00"},{"v":0,"d":"$0.00"},{"v":0,"d":"$0.00"},{"v":0,"d":"$0.00"},"ASR-Dental_Financial_Report_SMMC_03.21.23","2023-03-21","Unaudited"]
["Dental","DEF","Default",1900,"1900-01-01","Q2","1900-06-30","Region 11","Operating Expense","Medical Expense","Dental Services","2.9","Dental Services Orthodontics",{"v":0,"d":"$0.00"},{"v":0,"d":"$0.00"},{"v":0,"d":"$0.00"},{"v":0,"d":"$0.00"},{"v":0,"d":"$0.00"},{"v":0,"d":"$0.00"},"ASR-Dental_Financial_Report_SMMC_03.21.23","2023-03-21","Unaudited"]
["Dental","DEF","Default",1900,"1900-01-01","Q2","1900-06-30","Region 11","Operating Expense","Medical Expense","Dental Services","2.10","Dental Services Adjunctive General Services",{"v":0,"d":"$0.00"},{"v":0,"d":"$0.00"},{"v":0,"d":"$0.00"},{"v":0,"d":"$0.00"},{"v":0,"d":"$0.00"},{"v":0,"d":"$0.00"},"ASR-Dental_Financial_Report_SMMC_03.21.23","2023-03-21","Unaudited"]
["Dental","DEF","Default",1900,"1900-01-01","Q2","1900-06-30","Region 11","Operating Expense","Medical Expense","Dental Services","2.11","Dental Services Other",{"$f":"IF(OR(AND($F2032=\"PY\",N$1<>\"Prior Year\"),AND($F2032<>\"PY\",N$1=\"Prior Year\")),0,INDEX(INDIRECT(\"'Dental Rev-Exp \"&$H2032&\"'!$A$1:$CA$200\"),IF($J2032=\"Member Months\",MATCH($J2032,INDIRECT(\"'Dental Rev-Exp \"&$H2032&\"'!$A$1:$A$200\"),0),MATCH($L2032,INDIRECT(\"'Dental Rev-Exp \"&$H2032&\"'!$B$1:$B$200\"),0)),IF($F2032=\"PY\",MATCH(\"Prior Year Adjustments\",INDIRECT(\"'Dental Rev-Exp \"&$H2032&\"'!$A$8:$CA$8\"),0),MATCH(IF($F2032=\"Q1\",\"JANUARY - MARCH (Q1)\",IF($F2032=\"Q2\",\"APRIL - JUNE (Q2)\",IF($F2032=\"Q3\",\"JULY - SEPTEMBER (Q3)\",IF($F2032=\"Q4\",\"OCTOBER - DECEMBER (Q4)\",0)))),INDIRECT(\"'Dental Rev-Exp \"&$H2032&\"'!$A$7:$CA$7\"),0)+MATCH(N$1,INDIRECT(\"'Dental Rev-Exp \"&$H2032&\"'!$D$8:$CA$8\"),0)-1)))","v":{"v":0,"d":"$0.00"}},{"v":0,"d":"$0.00"},{"v":0,"d":"$0.00"},{"v":0,"d":"$0.00"},{"v":0,"d":"$0.00"},{"v":0,"d":"$0.00"},"ASR-Dental_Financial_Report_SMMC_03.21.23","2023-03-21","Unaudited"]
["Dental","DEF","Default",1900,"1900-01-01","Q2","1900-06-30","Region 11","Operating Expense","Medical Expense","Expanded Benefits","2.12","Dental Expanded Benefits",{"v":0,"d":"$0.00"},{"v":0,"d":"$0.00"},{"v":0,"d":"$0.00"},{"v":0,"d":"$0.00"},{"v":0,"d":"$0.00"},{"v":0,"d":"$0.00"},"ASR-Dental_Financial_Report_SMMC_03.21.23","2023-03-21","Unaudited"]
["Dental","DEF","Default",1900,"1900-01-01","Q2","1900-06-30","Region 11","Operating Expense","Medical Expense","Dental Services","2.13","Dental Services Paid through Subcapitation",{"v":0,"d":"$0.00"},{"v":0,"d":"$0.00"},{"v":0,"d":"$0.00"},{"v":0,"d":"$0.00"},{"v":0,"d":"$0.00"},{"v":0,"d":"$0.00"},"ASR-Dental_Financial_Report_SMMC_03.21.23","2023-03-21","Unaudited"]
["Dental","DEF","Default",1900,"1900-01-01","Q2","1900-06-30","Region 11","Operating Expense","Medical Expense","Dental Services","2.14","Ending IBNP for Dental Services",{"v":0,"d":"$0.00"},{"v":0,"d":"$0.00"},{"v":0,"d":"$0.00"},{"v":0,"d":"$0.00"},{"v":0,"d":"$0.00"},{"v":0,"d":"$0.00"},"ASR-Dental_Financial_Report_SMMC_03.21.23","2023-03-21","Unaudited"]
["Dental","DEF","Default",1900,"1900-01-01","Q2","1900-06-30","Region 11","Operating Expense","Medical Expense","Dental Services","2.15","Dental Settlements/AP",{"v":0,"d":"$0.00"},{"v":0,"d":"$0.00"},{"v":0,"d":"$0.00"},{"v":0,"d":"$0.00"},{"v":0,"d":"$0.00"},{"v":0,"d":"$0.00"},"ASR-Dental_Financial_Report_SMMC_03.21.23","2023-03-21","Unaudited"]
["Dental","DEF","Default",1900,"1900-01-01","Q2","1900-06-30","Region 11","Operating Expense","Medical Expense","Other Medical","3.5","TPL & Fraud/Abuse Recoveries",{"v":0,"d":"$0.00"},{"v":0,"d":"$0.00"},{"v":0,"d":"$0.00"},{"v":0,"d":"$0.00"},{"v":0,"d":"$0.00"},{"v":0,"d":"$0.00"},"ASR-Dental_Financial_Report_SMMC_03.21.23","2023-03-21","Unaudited"]
["Dental","DEF","Default",1900,"1900-01-01","Q2","1900-06-30","Region 11","Operating Expense","Medical Expense","Other Medical",3.6,"Premium Deficiency Reserve",{"v":0,"d":"$0.00"},{"v":0,"d":"$0.00"},{"v":0,"d":"$0.00"},{"v":0,"d":"$0.00"},{"v":0,"d":"$0.00"},{"v":0,"d":"$0.00"},"ASR-Dental_Financial_Report_SMMC_03.21.23","2023-03-21","Unaudited"]
["Dental","DEF","Default",1900,"1900-01-01","Q2","1900-06-30","Region 11","Operating Expense","Medical Expense","Other Medical","3.8","Reinsurance Premiums",{"v":0,"d":"$0.00"},{"v":0,"d":"$0.00"},{"v":0,"d":"$0.00"},{"v":0,"d":"$0.00"},{"v":0,"d":"$0.00"},{"v":0,"d":"$0.00"},"ASR-Dental_Financial_Report_SMMC_03.21.23","2023-03-21","Unaudited"]
["Dental","DEF","Default",1900,"1900-01-01","Q2","1900-06-30","Region 11","Operating Expense","Medical Expense","Other Medical","3.9","Reinsurance Recoveries",{"v":0,"d":"$0.00"},{"v":0,"d":"$0.00"},{"v":0,"d":"$0.00"},{"v":0,"d":"$0.00"},{"v":0,"d":"$0.00"},{"v":0,"d":"$0.00"},"ASR-Dental_Financial_Report_SMMC_03.21.23","2023-03-21","Unaudited"]
["Dental","DEF","Default",1900,"1900-01-01","Q2","1900-06-30","Region 11","Operating Expense","Administrative Expense","Administrative","4.1","Salaries & Benefits",{"v":0,"d":"$0.00"},{"v":0,"d":"$0.00"},{"v":0,"d":"$0.00"},{"v":0,"d":"$0.00"},{"v":0,"d":"$0.00"},{"v":0,"d":"$0.00"},"ASR-Dental_Financial_Report_SMMC_03.21.23","2023-03-21","Unaudited"]
["Dental","DEF","Default",1900,"1900-01-01","Q2","1900-06-30","Region 11","Operating Expense","Administrative Expense","Administrative","4.2","Administrative Services",{"$f":"IF(OR(AND($F2042=\"PY\",N$1<>\"Prior Year\"),AND($F2042<>\"PY\",N$1=\"Prior Year\")),0,INDEX(INDIRECT(\"'Dental Rev-Exp \"&$H2042&\"'!$A$1:$CA$200\"),IF($J2042=\"Member Months\",MATCH($J2042,INDIRECT(\"'Dental Rev-Exp \"&$H2042&\"'!$A$1:$A$200\"),0),MATCH($L2042,INDIRECT(\"'Dental Rev-Exp \"&$H2042&\"'!$B$1:$B$200\"),0)),IF($F2042=\"PY\",MATCH(\"Prior Year Adjustments\",INDIRECT(\"'Dental Rev-Exp \"&$H2042&\"'!$A$8:$CA$8\"),0),MATCH(IF($F2042=\"Q1\",\"JANUARY - MARCH (Q1)\",IF($F2042=\"Q2\",\"APRIL - JUNE (Q2)\",IF($F2042=\"Q3\",\"JULY - SEPTEMBER (Q3)\",IF($F2042=\"Q4\",\"OCTOBER - DECEMBER (Q4)\",0)))),INDIRECT(\"'Dental Rev-Exp \"&$H2042&\"'!$A$7:$CA$7\"),0)+MATCH(N$1,INDIRECT(\"'Dental Rev-Exp \"&$H2042&\"'!$D$8:$CA$8\"),0)-1)))","v":{"v":0,"d":"$0.00"}},{"v":0,"d":"$0.00"},{"v":0,"d":"$0.00"},{"v":0,"d":"$0.00"},{"v":0,"d":"$0.00"},{"v":0,"d":"$0.00"},"ASR-Dental_Financial_Report_SMMC_03.21.23","2023-03-21","Unaudited"]
["Dental","DEF","Default",1900,"1900-01-01","Q2","1900-06-30","Region 11","Operating Expense","Administrative Expense","Administrative","4.3","Information Systems",{"v":0,"d":"$0.00"},{"v":0,"d":"$0.00"},{"v":0,"d":"$0.00"},{"v":0,"d":"$0.00"},{"v":0,"d":"$0.00"},{"v":0,"d":"$0.00"},"ASR-Dental_Financial_Report_SMMC_03.21.23","2023-03-21","Unaudited"]
["Dental","DEF","Default",1900,"1900-01-01","Q2","1900-06-30","Region 11","Operating Expense","Administrative Expense","Administrative","4.4","Marketing Expenses",{"v":0,"d":"$0.00"},{"v":0,"d":"$0.00"},{"v":0,"d":"$0.00"},{"v":0,"d":"$0.00"},{"v":0,"d":"$0.00"},{"v":0,"d":"$0.00"},"ASR-Dental_Financial_Report_SMMC_03.21.23","2023-03-21","Unaudited"]
["Dental","DEF","Default",1900,"1900-01-01","Q2","1900-06-30","Region 11","Operating Expense","Administrative Expense","Administrative","4.5","General  Administration",{"v":0,"d":"$0.00"},{"v":0,"d":"$0.00"},{"v":0,"d":"$0.00"},{"v":0,"d":"$0.00"},{"v":0,"d":"$0.00"},{"v":0,"d":"$0.00"},"ASR-Dental_Financial_Report_SMMC_03.21.23","2023-03-21","Unaudited"]
["Dental","DEF","Default",1900,"1900-01-01","Q2","1900-06-30","Region 11","Operating Expense","Administrative Expense","Administrative","4.6","Compliance/Regulatory",{"v":0,"d":"$0.00"},{"v":0,"d":"$0.00"},{"v":0,"d":"$0.00"},{"v":0,"d":"$0.00"},{"v":0,"d":"$0.00"},{"v":0,"d":"$0.00"},"ASR-Dental_Financial_Report_SMMC_03.21.23","2023-03-21","Unaudited"]
["Dental","DEF","Default",1900,"1900-01-01","Q2","1900-06-30","Region 11","Operating Expense","Taxes & Fees","Taxes & Fees","5.1","State Premium tax",{"v":0,"d":"$0.00"},{"v":0,"d":"$0.00"},{"v":0,"d":"$0.00"},{"v":0,"d":"$0.00"},{"v":0,"d":"$0.00"},{"v":0,"d":"$0.00"},"ASR-Dental_Financial_Report_SMMC_03.21.23","2023-03-21","Unaudited"]
["Dental","DEF","Default",1900,"1900-01-01","Q2","1900-06-30","Region 11","Operating Expense","Taxes & Fees","Taxes & Fees","5.2","Department of Insurance Assessments",{"v":0,"d":"$0.00"},{"v":0,"d":"$0.00"},{"v":0,"d":"$0.00"},{"v":0,"d":"$0.00"},{"v":0,"d":"$0.00"},{"v":0,"d":"$0.00"},"ASR-Dental_Financial_Report_SMMC_03.21.23","2023-03-21","Unaudited"]
["Dental","DEF","Default",1900,"1900-01-01","Q2","1900-06-30","Region 11","Operating Expense","Taxes & Fees","Taxes & Fees","5.3","Section 9010 Health Insurance Providers Fee",{"v":0,"d":"$0.00"},{"v":0,"d":"$0.00"},{"v":0,"d":"$0.00"},{"v":0,"d":"$0.00"},{"v":0,"d":"$0.00"},{"v":0,"d":"$0.00"},"ASR-Dental_Financial_Report_SMMC_03.21.23","2023-03-21","Unaudited"]
["Dental","DEF","Default",1900,"1900-01-01","Q2","1900-06-30","Region 11","Operating Expense","Taxes & Fees","Taxes & Fees","5.4","Other 1",{"v":0,"d":"$0.00"},{"v":0,"d":"$0.00"},{"v":0,"d":"$0.00"},{"v":0,"d":"$0.00"},{"v":0,"d":"$0.00"},{"v":0,"d":"$0.00"},{"$f":"file_name","v":"ASR-Dental_Financial_Report_SMMC_03.21.23"},{"$f":"file_date","v":"2023-03-21"},{"$f":"status","v":"Unaudited"}]
["Dental","DEF","Default",1900,"1900-01-01","Q2","1900-06-30","Region 11","Operating Expense","Taxes & Fees","Taxes & Fees","5.5","Other 2",{"v":0,"d":"$0.00"},{"v":0,"d":"$0.00"},{"v":0,"d":"$0.00"},{"v":0,"d":"$0.00"},{"v":0,"d":"$0.00"},{"v":0,"d":"$0.00"},"ASR-Dental_Financial_Report_SMMC_03.21.23","2023-03-21","Unaudited"]
["Dental","DEF","Default",1900,"1900-01-01","Q2","1900-06-30","Region 11","Operating Expense","Taxes & Fees","Taxes & Fees","5.6","Other 3",{"$f":"IF(OR(AND($F2052=\"PY\",N$1<>\"Prior Year\"),AND($F2052<>\"PY\",N$1=\"Prior Year\")),0,INDEX(INDIRECT(\"'Dental Rev-Exp \"&$H2052&\"'!$A$1:$CA$200\"),IF($J2052=\"Member Months\",MATCH($J2052,INDIRECT(\"'Dental Rev-Exp \"&$H2052&\"'!$A$1:$A$200\"),0),MATCH($L2052,INDIRECT(\"'Dental Rev-Exp \"&$H2052&\"'!$B$1:$B$200\"),0)),IF($F2052=\"PY\",MATCH(\"Prior Year Adjustments\",INDIRECT(\"'Dental Rev-Exp \"&$H2052&\"'!$A$8:$CA$8\"),0),MATCH(IF($F2052=\"Q1\",\"JANUARY - MARCH (Q1)\",IF($F2052=\"Q2\",\"APRIL - JUNE (Q2)\",IF($F2052=\"Q3\",\"JULY - SEPTEMBER (Q3)\",IF($F2052=\"Q4\",\"OCTOBER - DECEMBER (Q4)\",0)))),INDIRECT(\"'Dental Rev-Exp \"&$H2052&\"'!$A$7:$CA$7\"),0)+MATCH(N$1,INDIRECT(\"'Dental Rev-Exp \"&$H2052&\"'!$D$8:$CA$8\"),0)-1)))","v":{"v":0,"d":"$0.00"}},{"v":0,"d":"$0.00"},{"v":0,"d":"$0.00"},{"v":0,"d":"$0.00"},{"v":0,"d":"$0.00"},{"v":0,"d":"$0.00"},"ASR-Dental_Financial_Report_SMMC_03.21.23","2023-03-21","Unaudited"]
["Dental","DEF","Default",1900,"1900-01-01","Q2","1900-06-30","Region 11","Non-Operating Expense","Income Tax Expense","Income Tax Expense","8.0","Income Tax Expense",{"v":0,"d":"$0.00"},{"v":0,"d":"$0.00"},{"v":0,"d":"$0.00"},{"v":0,"d":"$0.00"},{"v":0,"d":"$0.00"},{"v":0,"d":"$0.00"},"ASR-Dental_Financial_Report_SMMC_03.21.23","2023-03-21","Unaudited"]
["Dental","DEF","Default",1900,"1900-01-01","Q3","1900-09-30","Region 11","Member Months","Member Months","Member Months",null,"Member Months",{"v":0,"d":"$0.00"},{"v":0,"d":"$0.00"},{"v":0,"d":"$0.00"},{"v":0,"d":"$0.00"},{"v":0,"d":"$0.00"},{"v":0,"d":"$0.00"},"ASR-Dental_Financial_Report_SMMC_03.21.23","2023-03-21","Unaudited"]
["Dental","DEF","Default",1900,"1900-01-01","Q3","1900-09-30","Region 11","Operating Revenue","Capitation","Capitation","1.1","Capitation",{"v":0,"d":"$0.00"},{"v":0,"d":"$0.00"},{"v":0,"d":"$0.00"},{"v":0,"d":"$0.00"},{"v":0,"d":"$0.00"},{"v":0,"d":"$0.00"},"ASR-Dental_Financial_Report_SMMC_03.21.23","2023-03-21","Unaudited"]
["Dental","DEF","Default",1900,"1900-01-01","Q3","1900-09-30","Region 11","Operating Revenue","Other Revenue","Other Revenue - 9010","1.2","ACA § 9010 related payments",{"v":0,"d":"$0.00"},{"v":0,"d":"$0.00"},{"v":0,"d":"$0.00"},{"v":0,"d":"$0.00"},{"v":0,"d":"$0.00"},{"v":0,"d":"$0.00"},"ASR-Dental_Financial_Report_SMMC_03.21.23","2023-03-21","Unaudited"]
["Dental","DEF","Default",1900,"1900-01-01","Q3","1900-09-30","Region 11","Operating Revenue","Other Revenue","Other Revenue","1.3","Other Revenue",{"v":0,"d":"$0.00"},{"v":0,"d":"$0.00"},{"v":0,"d":"$0.00"},{"v":0,"d":"$0.00"},{"v":0,"d":"$0.00"},{"v":0,"d":"$0.00"},"ASR-Dental_Financial_Report_SMMC_03.21.23","2023-03-21","Unaudited"]
["Dental","DEF","Default",1900,"1900-01-01","Q3","1900-09-30","Region 11","Operating Expense","Medical Expense","Dental Services","2.1","Dental Services Diagnostic",{"v":0,"d":"$0.00"},{"v":0,"d":"$0.00"},{"v":0,"d":"$0.00"},{"v":0,"d":"$0.00"},{"v":0,"d":"$0.00"},{"v":0,"d":"$0.00"},"ASR-Dental_Financial_Report_SMMC_03.21.23","2023-03-21","Unaudited"]
["Dental","DEF","Default",1900,"1900-01-01","Q3","1900-09-30","Region 11","Operating Expense","Medical Expense","Dental Services",2.2,"Dental Services Preventive",{"v":0,"d":"$0.00"},{"v":0,"d":"$0.00"},{"v":0,"d":"$0.00"},{"v":0,"d":"$0.00"},{"v":0,"d":"$0.00"},{"v":0,"d":"$0.00"},"ASR-Dental_Financial_Report_SMMC_03.21.23","2023-03-21","Unaudited"]
["Dental","DEF","Default",1900,"1900-01-01","Q3","1900-09-30","Region 11","Operating Expense","Medical Expense","Dental Services","2.3","Dental Services Restorative",{"v":0,"d":"$0.00"},{"v":0,"d":"$0.00"},{"v":0,"d":"$0.00"},{"v":0,"d":"$0.00"},{"v":0,"d":"$0.00"},{"v":0,"d":"$0.00"},"ASR-Dental_Financial_Report_SMMC_03.21.23","2023-03-21","Unaudited"]
["Dental","DEF","Default",1900,"1900-01-01","Q3","1900-09-30","Region 11","Operating Expense","Medical Expense","Dental Services","2.4","Dental Services Endodontics",{"v":0,"d":"$0.00"},{"v":0,"d":"$0.00"},{"v":0,"d":"$0.00"},{"v":0,"d":"$0.00"},{"v":0,"d":"$0.00"},{"v":0,"d":"$0.00"},"ASR-Dental_Financial_Report_SMMC_03.21.23","2023-03-21","Unaudited"]
["Dental","DEF","Default",1900,"1900-01-01","Q3","1900-09-30","Region 11","Operating Expense","Medical Expense","Dental Services","2.5","Dental Services Periodontics",{"$f":"IF(OR(AND($F2062=\"PY\",N$1<>\"Prior Year\"),AND($F2062<>\"PY\",N$1=\"Prior Year\")),0,INDEX(INDIRECT(\"'Dental Rev-Exp \"&$H2062&\"'!$A$1:$CA$200\"),IF($J2062=\"Member Months\",MATCH($J2062,INDIRECT(\"'Dental Rev-Exp \"&$H2062&\"'!$A$1:$A$200\"),0),MATCH($L2062,INDIRECT(\"'Dental Rev-Exp \"&$H2062&\"'!$B$1:$B$200\"),0)),IF($F2062=\"PY\",MATCH(\"Prior Year Adjustments\",INDIRECT(\"'Dental Rev-Exp \"&$H2062&\"'!$A$8:$CA$8\"),0),MATCH(IF($F2062=\"Q1\",\"JANUARY - MARCH (Q1)\",IF($F2062=\"Q2\",\"APRIL - JUNE (Q2)\",IF($F2062=\"Q3\",\"JULY - SEPTEMBER (Q3)\",IF($F2062=\"Q4\",\"OCTOBER - DECEMBER (Q4)\",0)))),INDIRECT(\"'Dental Rev-Exp \"&$H2062&\"'!$A$7:$CA$7\"),0)+MATCH(N$1,INDIRECT(\"'Dental Rev-Exp \"&$H2062&\"'!$D$8:$CA$8\"),0)-1)))","v":{"v":0,"d":"$0.00"}},{"v":0,"d":"$0.00"},{"v":0,"d":"$0.00"},{"v":0,"d":"$0.00"},{"v":0,"d":"$0.00"},{"v":0,"d":"$0.00"},"ASR-Dental_Financial_Report_SMMC_03.21.23","2023-03-21","Unaudited"]
["Dental","DEF","Default",1900,"1900-01-01","Q3","1900-09-30","Region 11","Operating Expense","Medical Expense","Dental Services","2.6","Dental Services Prosthodontics",{"v":0,"d":"$0.00"},{"v":0,"d":"$0.00"},{"v":0,"d":"$0.00"},{"v":0,"d":"$0.00"},{"v":0,"d":"$0.00"},{"v":0,"d":"$0.00"},"ASR-Dental_Financial_Report_SMMC_03.21.23","2023-03-21","Unaudited"]
["Dental","DEF","Default",1900,"1900-01-01","Q3","1900-09-30","Region 11","Operating Expense","Medical Expense","Dental Services","2.7","Dental Services Prosthodontics, fixed",{"v":0,"d":"$0.00"},{"v":0,"d":"$0.00"},{"v":0,"d":"$0.00"},{"v":0,"d":"$0.00"},{"v":0,"d":"$0.00"},{"v":0,"d":"$0.00"},"ASR-Dental_Financial_Report_SMMC_03.21.23","2023-03-21","Unaudited"]
["Dental","DEF","Default",1900,"1900-01-01","Q3","1900-09-30","Region 11","Operating Expense","Medical Expense","Dental Services","2.8","Dental Services Oral and Maxillofacial Surgery",{"v":0,"d":"$0.00"},{"v":0,"d":"$0.00"},{"v":0,"d":"$0.00"},{"v":0,"d":"$0.00"},{"v":0,"d":"$0.00"},{"v":0,"d":"$0.00"},"ASR-Dental_Financial_Report_SMMC_03.21.23","2023-03-21","Unaudited"]
["Dental","DEF","Default",1900,"1900-01-01","Q3","1900-09-30","Region 11","Operating Expense","Medical Expense","Dental Services","2.9","Dental Services Orthodontics",{"v":0,"d":"$0.00"},{"v":0,"d":"$0.00"},{"v":0,"d":"$0.00"},{"v":0,"d":"$0.00"},{"v":0,"d":"$0.00"},{"v":0,"d":"$0.00"},"ASR-Dental_Financial_Report_SMMC_03.21.23","2023-03-21","Unaudited"]
["Dental","DEF","Default",1900,"1900-01-01","Q3","1900-09-30","Region 11","Operating Expense","Medical Expense","Dental Services","2.10","Dental Services Adjunctive General Services",{"v":0,"d":"$0.00"},{"v":0,"d":"$0.00"},{"v":0,"d":"$0.00"},{"v":0,"d":"$0.00"},{"v":0,"d":"$0.00"},{"v":0,"d":"$0.00"},"ASR-Dental_Financial_Report_SMMC_03.21.23","2023-03-21","Unaudited"]
["Dental","DEF","Default",1900,"1900-01-01","Q3","1900-09-30","Region 11","Operating Expense","Medical Expense","Dental Services","2.11","Dental Services Other",{"v":0,"d":"$0.00"},{"v":0,"d":"$0.00"},{"v":0,"d":"$0.00"},{"v":0,"d":"$0.00"},{"v":0,"d":"$0.00"},{"v":0,"d":"$0.00"},"ASR-Dental_Financial_Report_SMMC_03.21.23","2023-03-21","Unaudited"]
["Dental","DEF","Default",1900,"1900-01-01","Q3","1900-09-30","Region 11","Operating Expense","Medical Expense","Expanded Benefits","2.12","Dental Expanded Benefits",{"v":0,"d":"$0.00"},{"v":0,"d":"$0.00"},{"v":0,"d":"$0.00"},{"v":0,"d":"$0.00"},{"v":0,"d":"$0.00"},{"v":0,"d":"$0.00"},"ASR-Dental_Financial_Report_SMMC_03.21.23","2023-03-21","Unaudited"]
["Dental","DEF","Default",1900,"1900-01-01","Q3","1900-09-30","Region 11","Operating Expense","Medical Expense","Dental Services","2.13","Dental Services Paid through Subcapitation",{"v":0,"d":"$0.00"},{"v":0,"d":"$0.00"},{"v":0,"d":"$0.00"},{"v":0,"d":"$0.00"},{"v":0,"d":"$0.00"},{"v":0,"d":"$0.00"},"ASR-Dental_Financial_Report_SMMC_03.21.23","2023-03-21","Unaudited"]
["Dental","DEF","Default",1900,"1900-01-01","Q3","1900-09-30","Region 11","Operating Expense","Medical Expense","Dental Services","2.14","Ending IBNP for Dental Services",{"v":0,"d":"$0.00"},{"v":0,"d":"$0.00"},{"v":0,"d":"$0.00"},{"v":0,"d":"$0.00"},{"v":0,"d":"$0.00"},{"v":0,"d":"$0.00"},"ASR-Dental_Financial_Report_SMMC_03.21.23","2023-03-21","Unaudited"]
["Dental","DEF","Default",1900,"1900-01-01","Q3","1900-09-30","Region 11","Operating Expense","Medical Expense","Dental Services","2.15","Dental Settlements/AP",{"$f":"IF(OR(AND($F2072=\"PY\",N$1<>\"Prior Year\"),AND($F2072<>\"PY\",N$1=\"Prior Year\")),0,INDEX(INDIRECT(\"'Dental Rev-Exp \"&$H2072&\"'!$A$1:$CA$200\"),IF($J2072=\"Member Months\",MATCH($J2072,INDIRECT(\"'Dental Rev-Exp \"&$H2072&\"'!$A$1:$A$200\"),0),MATCH($L2072,INDIRECT(\"'Dental Rev-Exp \"&$H2072&\"'!$B$1:$B$200\"),0)),IF($F2072=\"PY\",MATCH(\"Prior Year Adjustments\",INDIRECT(\"'Dental Rev-Exp \"&$H2072&\"'!$A$8:$CA$8\"),0),MATCH(IF($F2072=\"Q1\",\"JANUARY - MARCH (Q1)\",IF($F2072=\"Q2\",\"APRIL - JUNE (Q2)\",IF($F2072=\"Q3\",\"JULY - SEPTEMBER (Q3)\",IF($F2072=\"Q4\",\"OCTOBER - DECEMBER (Q4)\",0)))),INDIRECT(\"'Dental Rev-Exp \"&$H2072&\"'!$A$7:$CA$7\"),0)+MATCH(N$1,INDIRECT(\"'Dental Rev-Exp \"&$H2072&\"'!$D$8:$CA$8\"),0)-1)))","v":{"v":0,"d":"$0.00"}},{"v":0,"d":"$0.00"},{"v":0,"d":"$0.00"},{"v":0,"d":"$0.00"},{"v":0,"d":"$0.00"},{"v":0,"d":"$0.00"},"ASR-Dental_Financial_Report_SMMC_03.21.23","2023-03-21","Unaudited"]
["Dental","DEF","Default",1900,"1900-01-01","Q3","1900-09-30","Region 11","Operating Expense","Medical Expense","Other Medical","3.5","TPL & Fraud/Abuse Recoveries",{"v":0,"d":"$0.00"},{"v":0,"d":"$0.00"},{"v":0,"d":"$0.00"},{"v":0,"d":"$0.00"},{"v":0,"d":"$0.00"},{"v":0,"d":"$0.00"},"ASR-Dental_Financial_Report_SMMC_03.21.23","2023-03-21","Unaudited"]
["Dental","DEF","Default",1900,"1900-01-01","Q3","1900-09-30","Region 11","Operating Expense","Medical Expense","Other Medical",3.6,"Premium Deficiency Reserve",{"v":0,"d":"$0.00"},{"v":0,"d":"$0.00"},{"v":0,"d":"$0.00"},{"v":0,"d":"$0.00"},{"v":0,"d":"$0.00"},{"v":0,"d":"$0.00"},"ASR-Dental_Financial_Report_SMMC_03.21.23","2023-03-21","Unaudited"]
["Dental","DEF","Default",1900,"1900-01-01","Q3","1900-09-30","Region 11","Operating Expense","Medical Expense","Other Medical","3.8","Reinsurance Premiums",{"v":0,"d":"$0.00"},{"v":0,"d":"$0.00"},{"v":0,"d":"$0.00"},{"v":0,"d":"$0.00"},{"v":0,"d":"$0.00"},{"v":0,"d":"$0.00"},"ASR-Dental_Financial_Report_SMMC_03.21.23","2023-03-21","Unaudited"]
["Dental","DEF","Default",1900,"1900-01-01","Q3","1900-09-30","Region 11","Operating Expense","Medical Expense","Other Medical","3.9","Reinsurance Recoveries",{"v":0,"d":"$0.00"},{"v":0,"d":"$0.00"},{"v":0,"d":"$0.00"},{"v":0,"d":"$0.00"},{"v":0,"d":"$0.00"},{"v":0,"d":"$0.00"},"ASR-Dental_Financial_Report_SMMC_03.21.23","2023-03-21","Unaudited"]
["Dental","DEF","Default",1900,"1900-01-01","Q3","1900-09-30","Region 11","Operating Expense","Administrative Expense","Administrative","4.1","Salaries & Benefits",{"v":0,"d":"$0.00"},{"v":0,"d":"$0.00"},{"v":0,"d":"$0.00"},{"v":0,"d":"$0.00"},{"v":0,"d":"$0.00"},{"v":0,"d":"$0.00"},"ASR-Dental_Financial_Report_SMMC_03.21.23","2023-03-21","Unaudited"]
["Dental","DEF","Default",1900,"1900-01-01","Q3","1900-09-30","Region 11","Operating Expense","Administrative Expense","Administrative","4.2","Administrative Services",{"v":0,"d":"$0.00"},{"v":0,"d":"$0.00"},{"v":0,"d":"$0.00"},{"v":0,"d":"$0.00"},{"v":0,"d":"$0.00"},{"v":0,"d":"$0.00"},"ASR-Dental_Financial_Report_SMMC_03.21.23","2023-03-21","Unaudited"]
["Dental","DEF","Default",1900,"1900-01-01","Q3","1900-09-30","Region 11","Operating Expense","Administrative Expense","Administrative","4.3","Information Systems",{"v":0,"d":"$0.00"},{"v":0,"d":"$0.00"},{"v":0,"d":"$0.00"},{"v":0,"d":"$0.00"},{"v":0,"d":"$0.00"},{"v":0,"d":"$0.00"},"ASR-Dental_Financial_Report_SMMC_03.21.23","2023-03-21","Unaudited"]
["Dental","DEF","Default",1900,"1900-01-01","Q3","1900-09-30","Region 11","Operating Expense","Administrative Expense","Administrative","4.4","Marketing Expenses",{"v":0,"d":"$0.00"},{"v":0,"d":"$0.00"},{"v":0,"d":"$0.00"},{"v":0,"d":"$0.00"},{"v":0,"d":"$0.00"},{"v":0,"d":"$0.00"},"ASR-Dental_Financial_Report_SMMC_03.21.23","2023-03-21","Unaudited"]
["Dental","DEF","Default",1900,"1900-01-01","Q3","1900-09-30","Region 11","Operating Expense","Administrative Expense","Administrative","4.5","General  Administration",{"v":0,"d":"$0.00"},{"v":0,"d":"$0.00"},{"v":0,"d":"$0.00"},{"v":0,"d":"$0.00"},{"v":0,"d":"$0.00"},{"v":0,"d":"$0.00"},"ASR-Dental_Financial_Report_SMMC_03.21.23","2023-03-21","Unaudited"]
["Dental","DEF","Default",1900,"1900-01-01","Q3","1900-09-30","Region 11","Operating Expense","Administrative Expense","Administrative","4.6","Compliance/Regulatory",{"$f":"IF(OR(AND($F2082=\"PY\",N$1<>\"Prior Year\"),AND($F2082<>\"PY\",N$1=\"Prior Year\")),0,INDEX(INDIRECT(\"'Dental Rev-Exp \"&$H2082&\"'!$A$1:$CA$200\"),IF($J2082=\"Member Months\",MATCH($J2082,INDIRECT(\"'Dental Rev-Exp \"&$H2082&\"'!$A$1:$A$200\"),0),MATCH($L2082,INDIRECT(\"'Dental Rev-Exp \"&$H2082&\"'!$B$1:$B$200\"),0)),IF($F2082=\"PY\",MATCH(\"Prior Year Adjustments\",INDIRECT(\"'Dental Rev-Exp \"&$H2082&\"'!$A$8:$CA$8\"),0),MATCH(IF($F2082=\"Q1\",\"JANUARY - MARCH (Q1)\",IF($F2082=\"Q2\",\"APRIL - JUNE (Q2)\",IF($F2082=\"Q3\",\"JULY - SEPTEMBER (Q3)\",IF($F2082=\"Q4\",\"OCTOBER - DECEMBER (Q4)\",0)))),INDIRECT(\"'Dental Rev-Exp \"&$H2082&\"'!$A$7:$CA$7\"),0)+MATCH(N$1,INDIRECT(\"'Dental Rev-Exp \"&$H2082&\"'!$D$8:$CA$8\"),0)-1)))","v":{"v":0,"d":"$0.00"}},{"v":0,"d":"$0.00"},{"v":0,"d":"$0.00"},{"v":0,"d":"$0.00"},{"v":0,"d":"$0.00"},{"v":0,"d":"$0.00"},"ASR-Dental_Financial_Report_SMMC_03.21.23","2023-03-21","Unaudited"]
["Dental","DEF","Default",1900,"1900-01-01","Q3","1900-09-30","Region 11","Operating Expense","Taxes & Fees","Taxes & Fees","5.1","State Premium tax",{"v":0,"d":"$0.00"},{"v":0,"d":"$0.00"},{"v":0,"d":"$0.00"},{"v":0,"d":"$0.00"},{"v":0,"d":"$0.00"},{"v":0,"d":"$0.00"},"ASR-Dental_Financial_Report_SMMC_03.21.23","2023-03-21","Unaudited"]
["Dental","DEF","Default",1900,"1900-01-01","Q3","1900-09-30","Region 11","Operating Expense","Taxes & Fees","Taxes & Fees","5.2","Department of Insurance Assessments",{"v":0,"d":"$0.00"},{"v":0,"d":"$0.00"},{"v":0,"d":"$0.00"},{"v":0,"d":"$0.00"},{"v":0,"d":"$0.00"},{"v":0,"d":"$0.00"},"ASR-Dental_Financial_Report_SMMC_03.21.23","2023-03-21","Unaudited"]
["Dental","DEF","Default",1900,"1900-01-01","Q3","1900-09-30","Region 11","Operating Expense","Taxes & Fees","Taxes & Fees","5.3","Section 9010 Health Insurance Providers Fee",{"v":0,"d":"$0.00"},{"v":0,"d":"$0.00"},{"v":0,"d":"$0.00"},{"v":0,"d":"$0.00"},{"v":0,"d":"$0.00"},{"v":0,"d":"$0.00"},"ASR-Dental_Financial_Report_SMMC_03.21.23","2023-03-21","Unaudited"]
["Dental","DEF","Default",1900,"1900-01-01","Q3","1900-09-30","Region 11","Operating Expense","Taxes & Fees","Taxes & Fees","5.4","Other 1",{"v":0,"d":"$0.00"},{"v":0,"d":"$0.00"},{"v":0,"d":"$0.00"},{"v":0,"d":"$0.00"},{"v":0,"d":"$0.00"},{"v":0,"d":"$0.00"},"ASR-Dental_Financial_Report_SMMC_03.21.23","2023-03-21","Unaudited"]
["Dental","DEF","Default",1900,"1900-01-01","Q3","1900-09-30","Region 11","Operating Expense","Taxes & Fees","Taxes & Fees","5.5","Other 2",{"v":0,"d":"$0.00"},{"v":0,"d":"$0.00"},{"v":0,"d":"$0.00"},{"v":0,"d":"$0.00"},{"v":0,"d":"$0.00"},{"v":0,"d":"$0.00"},"ASR-Dental_Financial_Report_SMMC_03.21.23","2023-03-21","Unaudited"]
["Dental","DEF","Default",1900,"1900-01-01","Q3","1900-09-30","Region 11","Operating Expense","Taxes & Fees","Taxes & Fees","5.6","Other 3",{"v":0,"d":"$0.00"},{"v":0,"d":"$0.00"},{"v":0,"d":"$0.00"},{"v":0,"d":"$0.00"},{"v":0,"d":"$0.00"},{"v":0,"d":"$0.00"},"ASR-Dental_Financial_Report_SMMC_03.21.23","2023-03-21","Unaudited"]
["Dental","DEF","Default",1900,"1900-01-01","Q3","1900-09-30","Region 11","Non-Operating Expense","Income Tax Expense","Income Tax Expense","8.0","Income Tax Expense",{"v":0,"d":"$0.00"},{"v":0,"d":"$0.00"},{"v":0,"d":"$0.00"},{"v":0,"d":"$0.00"},{"v":0,"d":"$0.00"},{"v":0,"d":"$0.00"},"ASR-Dental_Financial_Report_SMMC_03.21.23","2023-03-21","Unaudited"]
["Dental","DEF","Default",1900,"1900-01-01","Q4","1900-12-31","Region 11","Member Months","Member Months","Member Months",null,"Member Months",{"v":0,"d":"$0.00"},{"v":0,"d":"$0.00"},{"v":0,"d":"$0.00"},{"v":0,"d":"$0.00"},{"v":0,"d":"$0.00"},{"v":0,"d":"$0.00"},"ASR-Dental_Financial_Report_SMMC_03.21.23","2023-03-21","Unaudited"]
["Dental","DEF","Default",1900,"1900-01-01","Q4","1900-12-31","Region 11","Operating Revenue","Capitation","Capitation","1.1","Capitation",{"v":0,"d":"$0.00"},{"v":0,"d":"$0.00"},{"v":0,"d":"$0.00"},{"v":0,"d":"$0.00"},{"v":0,"d":"$0.00"},{"v":0,"d":"$0.00"},"ASR-Dental_Financial_Report_SMMC_03.21.23","2023-03-21","Unaudited"]
["Dental","DEF","Default",1900,"1900-01-01","Q4","1900-12-31","Region 11","Operating Revenue","Other Revenue","Other Revenue - 9010","1.2","ACA § 9010 related payments",{"$f":"IF(OR(AND($F2092=\"PY\",N$1<>\"Prior Year\"),AND($F2092<>\"PY\",N$1=\"Prior Year\")),0,INDEX(INDIRECT(\"'Dental Rev-Exp \"&$H2092&\"'!$A$1:$CA$200\"),IF($J2092=\"Member Months\",MATCH($J2092,INDIRECT(\"'Dental Rev-Exp \"&$H2092&\"'!$A$1:$A$200\"),0),MATCH($L2092,INDIRECT(\"'Dental Rev-Exp \"&$H2092&\"'!$B$1:$B$200\"),0)),IF($F2092=\"PY\",MATCH(\"Prior Year Adjustments\",INDIRECT(\"'Dental Rev-Exp \"&$H2092&\"'!$A$8:$CA$8\"),0),MATCH(IF($F2092=\"Q1\",\"JANUARY - MARCH (Q1)\",IF($F2092=\"Q2\",\"APRIL - JUNE (Q2)\",IF($F2092=\"Q3\",\"JULY - SEPTEMBER (Q3)\",IF($F2092=\"Q4\",\"OCTOBER - DECEMBER (Q4)\",0)))),INDIRECT(\"'Dental Rev-Exp \"&$H2092&\"'!$A$7:$CA$7\"),0)+MATCH(N$1,INDIRECT(\"'Dental Rev-Exp \"&$H2092&\"'!$D$8:$CA$8\"),0)-1)))","v":{"v":0,"d":"$0.00"}},{"v":0,"d":"$0.00"},{"v":0,"d":"$0.00"},{"v":0,"d":"$0.00"},{"v":0,"d":"$0.00"},{"v":0,"d":"$0.00"},"ASR-Dental_Financial_Report_SMMC_03.21.23","2023-03-21","Unaudited"]
["Dental","DEF","Default",1900,"1900-01-01","Q4","1900-12-31","Region 11","Operating Revenue","Other Revenue","Other Revenue","1.3","Other Revenue",{"v":0,"d":"$0.00"},{"v":0,"d":"$0.00"},{"v":0,"d":"$0.00"},{"v":0,"d":"$0.00"},{"v":0,"d":"$0.00"},{"v":0,"d":"$0.00"},"ASR-Dental_Financial_Report_SMMC_03.21.23","2023-03-21","Unaudited"]
["Dental","DEF","Default",1900,"1900-01-01","Q4","1900-12-31","Region 11","Operating Expense","Medical Expense","Dental Services","2.1","Dental Services Diagnostic",{"v":0,"d":"$0.00"},{"v":0,"d":"$0.00"},{"v":0,"d":"$0.00"},{"v":0,"d":"$0.00"},{"v":0,"d":"$0.00"},{"v":0,"d":"$0.00"},"ASR-Dental_Financial_Report_SMMC_03.21.23","2023-03-21","Unaudited"]
["Dental","DEF","Default",1900,"1900-01-01","Q4","1900-12-31","Region 11","Operating Expense","Medical Expense","Dental Services",2.2,"Dental Services Preventive",{"v":0,"d":"$0.00"},{"v":0,"d":"$0.00"},{"v":0,"d":"$0.00"},{"v":0,"d":"$0.00"},{"v":0,"d":"$0.00"},{"v":0,"d":"$0.00"},"ASR-Dental_Financial_Report_SMMC_03.21.23","2023-03-21","Unaudited"]
["Dental","DEF","Default",1900,"1900-01-01","Q4","1900-12-31","Region 11","Operating Expense","Medical Expense","Dental Services","2.3","Dental Services Restorative",{"v":0,"d":"$0.00"},{"v":0,"d":"$0.00"},{"v":0,"d":"$0.00"},{"v":0,"d":"$0.00"},{"v":0,"d":"$0.00"},{"v":0,"d":"$0.00"},"ASR-Dental_Financial_Report_SMMC_03.21.23","2023-03-21","Unaudited"]
["Dental","DEF","Default",1900,"1900-01-01","Q4","1900-12-31","Region 11","Operating Expense","Medical Expense","Dental Services","2.4","Dental Services Endodontics",{"v":0,"d":"$0.00"},{"v":0,"d":"$0.00"},{"v":0,"d":"$0.00"},{"v":0,"d":"$0.00"},{"v":0,"d":"$0.00"},{"v":0,"d":"$0.00"},"ASR-Dental_Financial_Report_SMMC_03.21.23","2023-03-21","Unaudited"]
["Dental","DEF","Default",1900,"1900-01-01","Q4","1900-12-31","Region 11","Operating Expense","Medical Expense","Dental Services","2.5","Dental Services Periodontics",{"v":0,"d":"$0.00"},{"v":0,"d":"$0.00"},{"v":0,"d":"$0.00"},{"v":0,"d":"$0.00"},{"v":0,"d":"$0.00"},{"v":0,"d":"$0.00"},"ASR-Dental_Financial_Report_SMMC_03.21.23","2023-03-21","Unaudited"]
["Dental","DEF","Default",1900,"1900-01-01","Q4","1900-12-31","Region 11","Operating Expense","Medical Expense","Dental Services","2.6","Dental Services Prosthodontics",{"v":0,"d":"$0.00"},{"v":0,"d":"$0.00"},{"v":0,"d":"$0.00"},{"v":0,"d":"$0.00"},{"v":0,"d":"$0.00"},{"v":0,"d":"$0.00"},"ASR-Dental_Financial_Report_SMMC_03.21.23","2023-03-21","Unaudited"]
["Dental","DEF","Default",1900,"1900-01-01","Q4","1900-12-31","Region 11","Operating Expense","Medical Expense","Dental Services","2.7","Dental Services Prosthodontics, fixed",{"v":0,"d":"$0.00"},{"v":0,"d":"$0.00"},{"v":0,"d":"$0.00"},{"v":0,"d":"$0.00"},{"v":0,"d":"$0.00"},{"v":0,"d":"$0.00"},"ASR-Dental_Financial_Report_SMMC_03.21.23","2023-03-21","Unaudited"]
["Dental","DEF","Default",1900,"1900-01-01","Q4","1900-12-31","Region 11","Operating Expense","Medical Expense","Dental Services","2.8","Dental Services Oral and Maxillofacial Surgery",{"v":0,"d":"$0.00"},{"v":0,"d":"$0.00"},{"v":0,"d":"$0.00"},{"v":0,"d":"$0.00"},{"v":0,"d":"$0.00"},{"v":0,"d":"$0.00"},"ASR-Dental_Financial_Report_SMMC_03.21.23","2023-03-21","Unaudited"]
["Dental","DEF","Default",1900,"1900-01-01","Q4","1900-12-31","Region 11","Operating Expense","Medical Expense","Dental Services","2.9","Dental Services Orthodontics",{"$f":"IF(OR(AND($F2102=\"PY\",N$1<>\"Prior Year\"),AND($F2102<>\"PY\",N$1=\"Prior Year\")),0,INDEX(INDIRECT(\"'Dental Rev-Exp \"&$H2102&\"'!$A$1:$CA$200\"),IF($J2102=\"Member Months\",MATCH($J2102,INDIRECT(\"'Dental Rev-Exp \"&$H2102&\"'!$A$1:$A$200\"),0),MATCH($L2102,INDIRECT(\"'Dental Rev-Exp \"&$H2102&\"'!$B$1:$B$200\"),0)),IF($F2102=\"PY\",MATCH(\"Prior Year Adjustments\",INDIRECT(\"'Dental Rev-Exp \"&$H2102&\"'!$A$8:$CA$8\"),0),MATCH(IF($F2102=\"Q1\",\"JANUARY - MARCH (Q1)\",IF($F2102=\"Q2\",\"APRIL - JUNE (Q2)\",IF($F2102=\"Q3\",\"JULY - SEPTEMBER (Q3)\",IF($F2102=\"Q4\",\"OCTOBER - DECEMBER (Q4)\",0)))),INDIRECT(\"'Dental Rev-Exp \"&$H2102&\"'!$A$7:$CA$7\"),0)+MATCH(N$1,INDIRECT(\"'Dental Rev-Exp \"&$H2102&\"'!$D$8:$CA$8\"),0)-1)))","v":{"v":0,"d":"$0.00"}},{"v":0,"d":"$0.00"},{"v":0,"d":"$0.00"},{"v":0,"d":"$0.00"},{"v":0,"d":"$0.00"},{"v":0,"d":"$0.00"},"ASR-Dental_Financial_Report_SMMC_03.21.23","2023-03-21","Unaudited"]
["Dental","DEF","Default",1900,"1900-01-01","Q4","1900-12-31","Region 11","Operating Expense","Medical Expense","Dental Services","2.10","Dental Services Adjunctive General Services",{"v":0,"d":"$0.00"},{"v":0,"d":"$0.00"},{"v":0,"d":"$0.00"},{"v":0,"d":"$0.00"},{"v":0,"d":"$0.00"},{"v":0,"d":"$0.00"},"ASR-Dental_Financial_Report_SMMC_03.21.23","2023-03-21","Unaudited"]
["Dental","DEF","Default",1900,"1900-01-01","Q4","1900-12-31","Region 11","Operating Expense","Medical Expense","Dental Services","2.11","Dental Services Other",{"v":0,"d":"$0.00"},{"v":0,"d":"$0.00"},{"v":0,"d":"$0.00"},{"v":0,"d":"$0.00"},{"v":0,"d":"$0.00"},{"v":0,"d":"$0.00"},"ASR-Dental_Financial_Report_SMMC_03.21.23","2023-03-21","Unaudited"]
["Dental","DEF","Default",1900,"1900-01-01","Q4","1900-12-31","Region 11","Operating Expense","Medical Expense","Expanded Benefits","2.12","Dental Expanded Benefits",{"v":0,"d":"$0.00"},{"v":0,"d":"$0.00"},{"v":0,"d":"$0.00"},{"v":0,"d":"$0.00"},{"v":0,"d":"$0.00"},{"v":0,"d":"$0.00"},"ASR-Dental_Financial_Report_SMMC_03.21.23","2023-03-21","Unaudited"]
["Dental","DEF","Default",1900,"1900-01-01","Q4","1900-12-31","Region 11","Operating Expense","Medical Expense","Dental Services","2.13","Dental Services Paid through Subcapitation",{"v":0,"d":"$0.00"},{"v":0,"d":"$0.00"},{"v":0,"d":"$0.00"},{"v":0,"d":"$0.00"},{"v":0,"d":"$0.00"},{"v":0,"d":"$0.00"},"ASR-Dental_Financial_Report_SMMC_03.21.23","2023-03-21","Unaudited"]
["Dental","DEF","Default",1900,"1900-01-01","Q4","1900-12-31","Region 11","Operating Expense","Medical Expense","Dental Services","2.14","Ending IBNP for Dental Services",{"v":0,"d":"$0.00"},{"v":0,"d":"$0.00"},{"v":0,"d":"$0.00"},{"v":0,"d":"$0.00"},{"v":0,"d":"$0.00"},{"v":0,"d":"$0.00"},"ASR-Dental_Financial_Report_SMMC_03.21.23","2023-03-21","Unaudited"]
["Dental","DEF","Default",1900,"1900-01-01","Q4","1900-12-31","Region 11","Operating Expense","Medical Expense","Dental Services","2.15","Dental Settlements/AP",{"v":0,"d":"$0.00"},{"v":0,"d":"$0.00"},{"v":0,"d":"$0.00"},{"v":0,"d":"$0.00"},{"v":0,"d":"$0.00"},{"v":0,"d":"$0.00"},"ASR-Dental_Financial_Report_SMMC_03.21.23","2023-03-21","Unaudited"]
["Dental","DEF","Default",1900,"1900-01-01","Q4","1900-12-31","Region 11","Operating Expense","Medical Expense","Other Medical","3.5","TPL & Fraud/Abuse Recoveries",{"v":0,"d":"$0.00"},{"v":0,"d":"$0.00"},{"v":0,"d":"$0.00"},{"v":0,"d":"$0.00"},{"v":0,"d":"$0.00"},{"v":0,"d":"$0.00"},"ASR-Dental_Financial_Report_SMMC_03.21.23","2023-03-21","Unaudited"]
["Dental","DEF","Default",1900,"1900-01-01","Q4","1900-12-31","Region 11","Operating Expense","Medical Expense","Other Medical",3.6,"Premium Deficiency Reserve",{"v":0,"d":"$0.00"},{"v":0,"d":"$0.00"},{"v":0,"d":"$0.00"},{"v":0,"d":"$0.00"},{"v":0,"d":"$0.00"},{"v":0,"d":"$0.00"},"ASR-Dental_Financial_Report_SMMC_03.21.23","2023-03-21","Unaudited"]
["Dental","DEF","Default",1900,"1900-01-01","Q4","1900-12-31","Region 11","Operating Expense","Medical Expense","Other Medical","3.8","Reinsurance Premiums",{"v":0,"d":"$0.00"},{"v":0,"d":"$0.00"},{"v":0,"d":"$0.00"},{"v":0,"d":"$0.00"},{"v":0,"d":"$0.00"},{"v":0,"d":"$0.00"},"ASR-Dental_Financial_Report_SMMC_03.21.23","2023-03-21","Unaudited"]
["Dental","DEF","Default",1900,"1900-01-01","Q4","1900-12-31","Region 11","Operating Expense","Medical Expense","Other Medical","3.9","Reinsurance Recoveries",{"$f":"IF(OR(AND($F2112=\"PY\",N$1<>\"Prior Year\"),AND($F2112<>\"PY\",N$1=\"Prior Year\")),0,INDEX(INDIRECT(\"'Dental Rev-Exp \"&$H2112&\"'!$A$1:$CA$200\"),IF($J2112=\"Member Months\",MATCH($J2112,INDIRECT(\"'Dental Rev-Exp \"&$H2112&\"'!$A$1:$A$200\"),0),MATCH($L2112,INDIRECT(\"'Dental Rev-Exp \"&$H2112&\"'!$B$1:$B$200\"),0)),IF($F2112=\"PY\",MATCH(\"Prior Year Adjustments\",INDIRECT(\"'Dental Rev-Exp \"&$H2112&\"'!$A$8:$CA$8\"),0),MATCH(IF($F2112=\"Q1\",\"JANUARY - MARCH (Q1)\",IF($F2112=\"Q2\",\"APRIL - JUNE (Q2)\",IF($F2112=\"Q3\",\"JULY - SEPTEMBER (Q3)\",IF($F2112=\"Q4\",\"OCTOBER - DECEMBER (Q4)\",0)))),INDIRECT(\"'Dental Rev-Exp \"&$H2112&\"'!$A$7:$CA$7\"),0)+MATCH(N$1,INDIRECT(\"'Dental Rev-Exp \"&$H2112&\"'!$D$8:$CA$8\"),0)-1)))","v":{"v":0,"d":"$0.00"}},{"v":0,"d":"$0.00"},{"v":0,"d":"$0.00"},{"v":0,"d":"$0.00"},{"v":0,"d":"$0.00"},{"v":0,"d":"$0.00"},"ASR-Dental_Financial_Report_SMMC_03.21.23","2023-03-21","Unaudited"]
["Dental","DEF","Default",1900,"1900-01-01","Q4","1900-12-31","Region 11","Operating Expense","Administrative Expense","Administrative","4.1","Salaries & Benefits",{"v":0,"d":"$0.00"},{"v":0,"d":"$0.00"},{"v":0,"d":"$0.00"},{"v":0,"d":"$0.00"},{"v":0,"d":"$0.00"},{"v":0,"d":"$0.00"},"ASR-Dental_Financial_Report_SMMC_03.21.23","2023-03-21","Unaudited"]
["Dental","DEF","Default",1900,"1900-01-01","Q4","1900-12-31","Region 11","Operating Expense","Administrative Expense","Administrative","4.2","Administrative Services",{"v":0,"d":"$0.00"},{"v":0,"d":"$0.00"},{"v":0,"d":"$0.00"},{"v":0,"d":"$0.00"},{"v":0,"d":"$0.00"},{"v":0,"d":"$0.00"},{"$f":"file_name","v":"ASR-Dental_Financial_Report_SMMC_03.21.23"},{"$f":"file_date","v":"2023-03-21"},{"$f":"status","v":"Unaudited"}]
["Dental","DEF","Default",1900,"1900-01-01","Q4","1900-12-31","Region 11","Operating Expense","Administrative Expense","Administrative","4.3","Information Systems",{"v":0,"d":"$0.00"},{"v":0,"d":"$0.00"},{"v":0,"d":"$0.00"},{"v":0,"d":"$0.00"},{"v":0,"d":"$0.00"},{"v":0,"d":"$0.00"},"ASR-Dental_Financial_Report_SMMC_03.21.23","2023-03-21","Unaudited"]
["Dental","DEF","Default",1900,"1900-01-01","Q4","1900-12-31","Region 11","Operating Expense","Administrative Expense","Administrative","4.4","Marketing Expenses",{"v":0,"d":"$0.00"},{"v":0,"d":"$0.00"},{"v":0,"d":"$0.00"},{"v":0,"d":"$0.00"},{"v":0,"d":"$0.00"},{"v":0,"d":"$0.00"},"ASR-Dental_Financial_Report_SMMC_03.21.23","2023-03-21","Unaudited"]
["Dental","DEF","Default",1900,"1900-01-01","Q4","1900-12-31","Region 11","Operating Expense","Administrative Expense","Administrative","4.5","General  Administration",{"v":0,"d":"$0.00"},{"v":0,"d":"$0.00"},{"v":0,"d":"$0.00"},{"v":0,"d":"$0.00"},{"v":0,"d":"$0.00"},{"v":0,"d":"$0.00"},"ASR-Dental_Financial_Report_SMMC_03.21.23","2023-03-21","Unaudited"]
["Dental","DEF","Default",1900,"1900-01-01","Q4","1900-12-31","Region 11","Operating Expense","Administrative Expense","Administrative","4.6","Compliance/Regulatory",{"v":0,"d":"$0.00"},{"v":0,"d":"$0.00"},{"v":0,"d":"$0.00"},{"v":0,"d":"$0.00"},{"v":0,"d":"$0.00"},{"v":0,"d":"$0.00"},"ASR-Dental_Financial_Report_SMMC_03.21.23","2023-03-21","Unaudited"]
["Dental","DEF","Default",1900,"1900-01-01","Q4","1900-12-31","Region 11","Operating Expense","Taxes & Fees","Taxes & Fees","5.1","State Premium tax",{"v":0,"d":"$0.00"},{"v":0,"d":"$0.00"},{"v":0,"d":"$0.00"},{"v":0,"d":"$0.00"},{"v":0,"d":"$0.00"},{"v":0,"d":"$0.00"},"ASR-Dental_Financial_Report_SMMC_03.21.23","2023-03-21","Unaudited"]
["Dental","DEF","Default",1900,"1900-01-01","Q4","1900-12-31","Region 11","Operating Expense","Taxes & Fees","Taxes & Fees","5.2","Department of Insurance Assessments",{"v":0,"d":"$0.00"},{"v":0,"d":"$0.00"},{"v":0,"d":"$0.00"},{"v":0,"d":"$0.00"},{"v":0,"d":"$0.00"},{"v":0,"d":"$0.00"},"ASR-Dental_Financial_Report_SMMC_03.21.23","2023-03-21","Unaudited"]
["Dental","DEF","Default",1900,"1900-01-01","Q4","1900-12-31","Region 11","Operating Expense","Taxes & Fees","Taxes & Fees","5.3","Section 9010 Health Insurance Providers Fee",{"v":0,"d":"$0.00"},{"v":0,"d":"$0.00"},{"v":0,"d":"$0.00"},{"v":0,"d":"$0.00"},{"v":0,"d":"$0.00"},{"v":0,"d":"$0.00"},"ASR-Dental_Financial_Report_SMMC_03.21.23","2023-03-21","Unaudited"]
["Dental","DEF","Default",1900,"1900-01-01","Q4","1900-12-31","Region 11","Operating Expense","Taxes & Fees","Taxes & Fees","5.4","Other 1",{"$f":"IF(OR(AND($F2122=\"PY\",N$1<>\"Prior Year\"),AND($F2122<>\"PY\",N$1=\"Prior Year\")),0,INDEX(INDIRECT(\"'Dental Rev-Exp \"&$H2122&\"'!$A$1:$CA$200\"),IF($J2122=\"Member Months\",MATCH($J2122,INDIRECT(\"'Dental Rev-Exp \"&$H2122&\"'!$A$1:$A$200\"),0),MATCH($L2122,INDIRECT(\"'Dental Rev-Exp \"&$H2122&\"'!$B$1:$B$200\"),0)),IF($F2122=\"PY\",MATCH(\"Prior Year Adjustments\",INDIRECT(\"'Dental Rev-Exp \"&$H2122&\"'!$A$8:$CA$8\"),0),MATCH(IF($F2122=\"Q1\",\"JANUARY - MARCH (Q1)\",IF($F2122=\"Q2\",\"APRIL - JUNE (Q2)\",IF($F2122=\"Q3\",\"JULY - SEPTEMBER (Q3)\",IF($F2122=\"Q4\",\"OCTOBER - DECEMBER (Q4)\",0)))),INDIRECT(\"'Dental Rev-Exp \"&$H2122&\"'!$A$7:$CA$7\"),0)+MATCH(N$1,INDIRECT(\"'Dental Rev-Exp \"&$H2122&\"'!$D$8:$CA$8\"),0)-1)))","v":{"v":0,"d":"$0.00"}},{"v":0,"d":"$0.00"},{"v":0,"d":"$0.00"},{"v":0,"d":"$0.00"},{"v":0,"d":"$0.00"},{"v":0,"d":"$0.00"},"ASR-Dental_Financial_Report_SMMC_03.21.23","2023-03-21","Unaudited"]
["Dental","DEF","Default",1900,"1900-01-01","Q4","1900-12-31","Region 11","Operating Expense","Taxes & Fees","Taxes & Fees","5.5","Other 2",{"v":0,"d":"$0.00"},{"v":0,"d":"$0.00"},{"v":0,"d":"$0.00"},{"v":0,"d":"$0.00"},{"v":0,"d":"$0.00"},{"v":0,"d":"$0.00"},"ASR-Dental_Financial_Report_SMMC_03.21.23","2023-03-21","Unaudited"]
["Dental","DEF","Default",1900,"1900-01-01","Q4","1900-12-31","Region 11","Operating Expense","Taxes & Fees","Taxes & Fees","5.6","Other 3",{"v":0,"d":"$0.00"},{"v":0,"d":"$0.00"},{"v":0,"d":"$0.00"},{"v":0,"d":"$0.00"},{"v":0,"d":"$0.00"},{"v":0,"d":"$0.00"},"ASR-Dental_Financial_Report_SMMC_03.21.23","2023-03-21","Unaudited"]
["Dental","DEF","Default",1900,"1900-01-01","Q4","1900-12-31","Region 11","Non-Operating Expense","Income Tax Expense","Income Tax Expense","8.0","Income Tax Expense",{"v":0,"d":"$0.00"},{"v":0,"d":"$0.00"},{"v":0,"d":"$0.00"},{"v":0,"d":"$0.00"},{"v":0,"d":"$0.00"},{"v":0,"d":"$0.00"},"ASR-Dental_Financial_Report_SMMC_03.21.23","2023-03-21","Unaudited"]
["Dental","DEF","Default",1900,"1900-01-01","PY","1/1/1800","Region 11","Member Months","Member Months","Member Months",null,"Member Months",{"v":0,"d":"$0.00"},{"v":0,"d":"$0.00"},{"v":0,"d":"$0.00"},{"v":0,"d":"$0.00"},{"v":0,"d":"$0.00"},{"v":0,"d":"$0.00"},"ASR-Dental_Financial_Report_SMMC_03.21.23","2023-03-21","Unaudited"]
["Dental","DEF","Default",1900,"1900-01-01","PY","1/1/1800","Region 11","Operating Revenue","Capitation","Capitation","1.1","Capitation",{"v":0,"d":"$0.00"},{"v":0,"d":"$0.00"},{"v":0,"d":"$0.00"},{"v":0,"d":"$0.00"},{"v":0,"d":"$0.00"},{"v":0,"d":"$0.00"},"ASR-Dental_Financial_Report_SMMC_03.21.23","2023-03-21","Unaudited"]
["Dental","DEF","Default",1900,"1900-01-01","PY","1/1/1800","Region 11","Operating Revenue","Other Revenue","Other Revenue - 9010","1.2","ACA § 9010 related payments",{"v":0,"d":"$0.00"},{"v":0,"d":"$0.00"},{"v":0,"d":"$0.00"},{"v":0,"d":"$0.00"},{"v":0,"d":"$0.00"},{"v":0,"d":"$0.00"},"ASR-Dental_Financial_Report_SMMC_03.21.23","2023-03-21","Unaudited"]
["Dental","DEF","Default",1900,"1900-01-01","PY","1/1/1800","Region 11","Operating Revenue","Other Revenue","Other Revenue","1.3","Other Revenue",{"v":0,"d":"$0.00"},{"v":0,"d":"$0.00"},{"v":0,"d":"$0.00"},{"v":0,"d":"$0.00"},{"v":0,"d":"$0.00"},{"v":0,"d":"$0.00"},"ASR-Dental_Financial_Report_SMMC_03.21.23","2023-03-21","Unaudited"]
["Dental","DEF","Default",1900,"1900-01-01","PY","1/1/1800","Region 11","Operating Expense","Medical Expense","Dental Services","2.1","Dental Services Diagnostic",{"v":0,"d":"$0.00"},{"v":0,"d":"$0.00"},{"v":0,"d":"$0.00"},{"v":0,"d":"$0.00"},{"v":0,"d":"$0.00"},{"v":0,"d":"$0.00"},"ASR-Dental_Financial_Report_SMMC_03.21.23","2023-03-21","Unaudited"]
["Dental","DEF","Default",1900,"1900-01-01","PY","1/1/1800","Region 11","Operating Expense","Medical Expense","Dental Services",2.2,"Dental Services Preventive",{"v":0,"d":"$0.00"},{"v":0,"d":"$0.00"},{"v":0,"d":"$0.00"},{"v":0,"d":"$0.00"},{"v":0,"d":"$0.00"},{"v":0,"d":"$0.00"},"ASR-Dental_Financial_Report_SMMC_03.21.23","2023-03-21","Unaudited"]
["Dental","DEF","Default",1900,"1900-01-01","PY","1/1/1800","Region 11","Operating Expense","Medical Expense","Dental Services","2.3","Dental Services Restorative",{"$f":"IF(OR(AND($F2132=\"PY\",N$1<>\"Prior Year\"),AND($F2132<>\"PY\",N$1=\"Prior Year\")),0,INDEX(INDIRECT(\"'Dental Rev-Exp \"&$H2132&\"'!$A$1:$CA$200\"),IF($J2132=\"Member Months\",MATCH($J2132,INDIRECT(\"'Dental Rev-Exp \"&$H2132&\"'!$A$1:$A$200\"),0),MATCH($L2132,INDIRECT(\"'Dental Rev-Exp \"&$H2132&\"'!$B$1:$B$200\"),0)),IF($F2132=\"PY\",MATCH(\"Prior Year Adjustments\",INDIRECT(\"'Dental Rev-Exp \"&$H2132&\"'!$A$8:$CA$8\"),0),MATCH(IF($F2132=\"Q1\",\"JANUARY - MARCH (Q1)\",IF($F2132=\"Q2\",\"APRIL - JUNE (Q2)\",IF($F2132=\"Q3\",\"JULY - SEPTEMBER (Q3)\",IF($F2132=\"Q4\",\"OCTOBER - DECEMBER (Q4)\",0)))),INDIRECT(\"'Dental Rev-Exp \"&$H2132&\"'!$A$7:$CA$7\"),0)+MATCH(N$1,INDIRECT(\"'Dental Rev-Exp \"&$H2132&\"'!$D$8:$CA$8\"),0)-1)))","v":{"v":0,"d":"$0.00"}},{"v":0,"d":"$0.00"},{"v":0,"d":"$0.00"},{"v":0,"d":"$0.00"},{"v":0,"d":"$0.00"},{"v":0,"d":"$0.00"},"ASR-Dental_Financial_Report_SMMC_03.21.23","2023-03-21","Unaudited"]
["Dental","DEF","Default",1900,"1900-01-01","PY","1/1/1800","Region 11","Operating Expense","Medical Expense","Dental Services","2.4","Dental Services Endodontics",{"v":0,"d":"$0.00"},{"v":0,"d":"$0.00"},{"v":0,"d":"$0.00"},{"v":0,"d":"$0.00"},{"v":0,"d":"$0.00"},{"v":0,"d":"$0.00"},"ASR-Dental_Financial_Report_SMMC_03.21.23","2023-03-21","Unaudited"]
["Dental","DEF","Default",1900,"1900-01-01","PY","1/1/1800","Region 11","Operating Expense","Medical Expense","Dental Services","2.5","Dental Services Periodontics",{"v":0,"d":"$0.00"},{"v":0,"d":"$0.00"},{"v":0,"d":"$0.00"},{"v":0,"d":"$0.00"},{"v":0,"d":"$0.00"},{"v":0,"d":"$0.00"},"ASR-Dental_Financial_Report_SMMC_03.21.23","2023-03-21","Unaudited"]
["Dental","DEF","Default",1900,"1900-01-01","PY","1/1/1800","Region 11","Operating Expense","Medical Expense","Dental Services","2.6","Dental Services Prosthodontics",{"v":0,"d":"$0.00"},{"v":0,"d":"$0.00"},{"v":0,"d":"$0.00"},{"v":0,"d":"$0.00"},{"v":0,"d":"$0.00"},{"v":0,"d":"$0.00"},"ASR-Dental_Financial_Report_SMMC_03.21.23","2023-03-21","Unaudited"]
["Dental","DEF","Default",1900,"1900-01-01","PY","1/1/1800","Region 11","Operating Expense","Medical Expense","Dental Services","2.7","Dental Services Prosthodontics, fixed",{"v":0,"d":"$0.00"},{"v":0,"d":"$0.00"},{"v":0,"d":"$0.00"},{"v":0,"d":"$0.00"},{"v":0,"d":"$0.00"},{"v":0,"d":"$0.00"},"ASR-Dental_Financial_Report_SMMC_03.21.23","2023-03-21","Unaudited"]
["Dental","DEF","Default",1900,"1900-01-01","PY","1/1/1800","Region 11","Operating Expense","Medical Expense","Dental Services","2.8","Dental Services Oral and Maxillofacial Surgery",{"v":0,"d":"$0.00"},{"v":0,"d":"$0.00"},{"v":0,"d":"$0.00"},{"v":0,"d":"$0.00"},{"v":0,"d":"$0.00"},{"v":0,"d":"$0.00"},"ASR-Dental_Financial_Report_SMMC_03.21.23","2023-03-21","Unaudited"]
["Dental","DEF","Default",1900,"1900-01-01","PY","1/1/1800","Region 11","Operating Expense","Medical Expense","Dental Services","2.9","Dental Services Orthodontics",{"v":0,"d":"$0.00"},{"v":0,"d":"$0.00"},{"v":0,"d":"$0.00"},{"v":0,"d":"$0.00"},{"v":0,"d":"$0.00"},{"v":0,"d":"$0.00"},"ASR-Dental_Financial_Report_SMMC_03.21.23","2023-03-21","Unaudited"]
["Dental","DEF","Default",1900,"1900-01-01","PY","1/1/1800","Region 11","Operating Expense","Medical Expense","Dental Services","2.10","Dental Services Adjunctive General Services",{"v":0,"d":"$0.00"},{"v":0,"d":"$0.00"},{"v":0,"d":"$0.00"},{"v":0,"d":"$0.00"},{"v":0,"d":"$0.00"},{"v":0,"d":"$0.00"},"ASR-Dental_Financial_Report_SMMC_03.21.23","2023-03-21","Unaudited"]
["Dental","DEF","Default",1900,"1900-01-01","PY","1/1/1800","Region 11","Operating Expense","Medical Expense","Dental Services","2.11","Dental Services Other",{"v":0,"d":"$0.00"},{"v":0,"d":"$0.00"},{"v":0,"d":"$0.00"},{"v":0,"d":"$0.00"},{"v":0,"d":"$0.00"},{"v":0,"d":"$0.00"},"ASR-Dental_Financial_Report_SMMC_03.21.23","2023-03-21","Unaudited"]
["Dental","DEF","Default",1900,"1900-01-01","PY","1/1/1800","Region 11","Operating Expense","Medical Expense","Expanded Benefits","2.12","Dental Expanded Benefits",{"v":0,"d":"$0.00"},{"v":0,"d":"$0.00"},{"v":0,"d":"$0.00"},{"v":0,"d":"$0.00"},{"v":0,"d":"$0.00"},{"v":0,"d":"$0.00"},"ASR-Dental_Financial_Report_SMMC_03.21.23","2023-03-21","Unaudited"]
["Dental","DEF","Default",1900,"1900-01-01","PY","1/1/1800","Region 11","Operating Expense","Medical Expense","Dental Services","2.13","Dental Services Paid through Subcapitation",{"$f":"IF(OR(AND($F2142=\"PY\",N$1<>\"Prior Year\"),AND($F2142<>\"PY\",N$1=\"Prior Year\")),0,INDEX(INDIRECT(\"'Dental Rev-Exp \"&$H2142&\"'!$A$1:$CA$200\"),IF($J2142=\"Member Months\",MATCH($J2142,INDIRECT(\"'Dental Rev-Exp \"&$H2142&\"'!$A$1:$A$200\"),0),MATCH($L2142,INDIRECT(\"'Dental Rev-Exp \"&$H2142&\"'!$B$1:$B$200\"),0)),IF($F2142=\"PY\",MATCH(\"Prior Year Adjustments\",INDIRECT(\"'Dental Rev-Exp \"&$H2142&\"'!$A$8:$CA$8\"),0),MATCH(IF($F2142=\"Q1\",\"JANUARY - MARCH (Q1)\",IF($F2142=\"Q2\",\"APRIL - JUNE (Q2)\",IF($F2142=\"Q3\",\"JULY - SEPTEMBER (Q3)\",IF($F2142=\"Q4\",\"OCTOBER - DECEMBER (Q4)\",0)))),INDIRECT(\"'Dental Rev-Exp \"&$H2142&\"'!$A$7:$CA$7\"),0)+MATCH(N$1,INDIRECT(\"'Dental Rev-Exp \"&$H2142&\"'!$D$8:$CA$8\"),0)-1)))","v":{"v":0,"d":"$0.00"}},{"v":0,"d":"$0.00"},{"v":0,"d":"$0.00"},{"v":0,"d":"$0.00"},{"v":0,"d":"$0.00"},{"v":0,"d":"$0.00"},"ASR-Dental_Financial_Report_SMMC_03.21.23","2023-03-21","Unaudited"]
["Dental","DEF","Default",1900,"1900-01-01","PY","1/1/1800","Region 11","Operating Expense","Medical Expense","Dental Services","2.14","Ending IBNP for Dental Services",{"v":0,"d":"$0.00"},{"v":0,"d":"$0.00"},{"v":0,"d":"$0.00"},{"v":0,"d":"$0.00"},{"v":0,"d":"$0.00"},{"v":0,"d":"$0.00"},"ASR-Dental_Financial_Report_SMMC_03.21.23","2023-03-21","Unaudited"]
["Dental","DEF","Default",1900,"1900-01-01","PY","1/1/1800","Region 11","Operating Expense","Medical Expense","Dental Services","2.15","Dental Settlements/AP",{"v":0,"d":"$0.00"},{"v":0,"d":"$0.00"},{"v":0,"d":"$0.00"},{"v":0,"d":"$0.00"},{"v":0,"d":"$0.00"},{"v":0,"d":"$0.00"},"ASR-Dental_Financial_Report_SMMC_03.21.23","2023-03-21","Unaudited"]
["Dental","DEF","Default",1900,"1900-01-01","PY","1/1/1800","Region 11","Operating Expense","Medical Expense","Other Medical","3.5","TPL & Fraud/Abuse Recoveries",{"v":0,"d":"$0.00"},{"v":0,"d":"$0.00"},{"v":0,"d":"$0.00"},{"v":0,"d":"$0.00"},{"v":0,"d":"$0.00"},{"v":0,"d":"$0.00"},"ASR-Dental_Financial_Report_SMMC_03.21.23","2023-03-21","Unaudited"]
["Dental","DEF","Default",1900,"1900-01-01","PY","1/1/1800","Region 11","Operating Expense","Medical Expense","Other Medical",3.6,"Premium Deficiency Reserve",{"v":0,"d":"$0.00"},{"v":0,"d":"$0.00"},{"v":0,"d":"$0.00"},{"v":0,"d":"$0.00"},{"v":0,"d":"$0.00"},{"v":0,"d":"$0.00"},"ASR-Dental_Financial_Report_SMMC_03.21.23","2023-03-21","Unaudited"]
["Dental","DEF","Default",1900,"1900-01-01","PY","1/1/1800","Region 11","Operating Expense","Medical Expense","Other Medical","3.8","Reinsurance Premiums",{"v":0,"d":"$0.00"},{"v":0,"d":"$0.00"},{"v":0,"d":"$0.00"},{"v":0,"d":"$0.00"},{"v":0,"d":"$0.00"},{"v":0,"d":"$0.00"},"ASR-Dental_Financial_Report_SMMC_03.21.23","2023-03-21","Unaudited"]
["Dental","DEF","Default",1900,"1900-01-01","PY","1/1/1800","Region 11","Operating Expense","Medical Expense","Other Medical","3.9","Reinsurance Recoveries",{"v":0,"d":"$0.00"},{"v":0,"d":"$0.00"},{"v":0,"d":"$0.00"},{"v":0,"d":"$0.00"},{"v":0,"d":"$0.00"},{"v":0,"d":"$0.00"},"ASR-Dental_Financial_Report_SMMC_03.21.23","2023-03-21","Unaudited"]
["Dental","DEF","Default",1900,"1900-01-01","PY","1/1/1800","Region 11","Operating Expense","Administrative Expense","Administrative","4.1","Salaries & Benefits",{"v":0,"d":"$0.00"},{"v":0,"d":"$0.00"},{"v":0,"d":"$0.00"},{"v":0,"d":"$0.00"},{"v":0,"d":"$0.00"},{"v":0,"d":"$0.00"},"ASR-Dental_Financial_Report_SMMC_03.21.23","2023-03-21","Unaudited"]
["Dental","DEF","Default",1900,"1900-01-01","PY","1/1/1800","Region 11","Operating Expense","Administrative Expense","Administrative","4.2","Administrative Services",{"v":0,"d":"$0.00"},{"v":0,"d":"$0.00"},{"v":0,"d":"$0.00"},{"v":0,"d":"$0.00"},{"v":0,"d":"$0.00"},{"v":0,"d":"$0.00"},"ASR-Dental_Financial_Report_SMMC_03.21.23","2023-03-21","Unaudited"]
["Dental","DEF","Default",1900,"1900-01-01","PY","1/1/1800","Region 11","Operating Expense","Administrative Expense","Administrative","4.3","Information Systems",{"v":0,"d":"$0.00"},{"v":0,"d":"$0.00"},{"v":0,"d":"$0.00"},{"v":0,"d":"$0.00"},{"v":0,"d":"$0.00"},{"v":0,"d":"$0.00"},"ASR-Dental_Financial_Report_SMMC_03.21.23","2023-03-21","Unaudited"]
["Dental","DEF","Default",1900,"1900-01-01","PY","1/1/1800","Region 11","Operating Expense","Administrative Expense","Administrative","4.4","Marketing Expenses",{"$f":"IF(OR(AND($F2152=\"PY\",N$1<>\"Prior Year\"),AND($F2152<>\"PY\",N$1=\"Prior Year\")),0,INDEX(INDIRECT(\"'Dental Rev-Exp \"&$H2152&\"'!$A$1:$CA$200\"),IF($J2152=\"Member Months\",MATCH($J2152,INDIRECT(\"'Dental Rev-Exp \"&$H2152&\"'!$A$1:$A$200\"),0),MATCH($L2152,INDIRECT(\"'Dental Rev-Exp \"&$H2152&\"'!$B$1:$B$200\"),0)),IF($F2152=\"PY\",MATCH(\"Prior Year Adjustments\",INDIRECT(\"'Dental Rev-Exp \"&$H2152&\"'!$A$8:$CA$8\"),0),MATCH(IF($F2152=\"Q1\",\"JANUARY - MARCH (Q1)\",IF($F2152=\"Q2\",\"APRIL - JUNE (Q2)\",IF($F2152=\"Q3\",\"JULY - SEPTEMBER (Q3)\",IF($F2152=\"Q4\",\"OCTOBER - DECEMBER (Q4)\",0)))),INDIRECT(\"'Dental Rev-Exp \"&$H2152&\"'!$A$7:$CA$7\"),0)+MATCH(N$1,INDIRECT(\"'Dental Rev-Exp \"&$H2152&\"'!$D$8:$CA$8\"),0)-1)))","v":{"v":0,"d":"$0.00"}},{"v":0,"d":"$0.00"},{"v":0,"d":"$0.00"},{"v":0,"d":"$0.00"},{"v":0,"d":"$0.00"},{"v":0,"d":"$0.00"},"ASR-Dental_Financial_Report_SMMC_03.21.23","2023-03-21","Unaudited"]
["Dental","DEF","Default",1900,"1900-01-01","PY","1/1/1800","Region 11","Operating Expense","Administrative Expense","Administrative","4.5","General  Administration",{"v":0,"d":"$0.00"},{"v":0,"d":"$0.00"},{"v":0,"d":"$0.00"},{"v":0,"d":"$0.00"},{"v":0,"d":"$0.00"},{"v":0,"d":"$0.00"},"ASR-Dental_Financial_Report_SMMC_03.21.23","2023-03-21","Unaudited"]
["Dental","DEF","Default",1900,"1900-01-01","PY","1/1/1800","Region 11","Operating Expense","Administrative Expense","Administrative","4.6","Compliance/Regulatory",{"v":0,"d":"$0.00"},{"v":0,"d":"$0.00"},{"v":0,"d":"$0.00"},{"v":0,"d":"$0.00"},{"v":0,"d":"$0.00"},{"v":0,"d":"$0.00"},"ASR-Dental_Financial_Report_SMMC_03.21.23","2023-03-21","Unaudited"]
["Dental","DEF","Default",1900,"1900-01-01","PY","1/1/1800","Region 11","Operating Expense","Taxes & Fees","Taxes & Fees","5.1","State Premium tax",{"v":0,"d":"$0.00"},{"v":0,"d":"$0.00"},{"v":0,"d":"$0.00"},{"v":0,"d":"$0.00"},{"v":0,"d":"$0.00"},{"v":0,"d":"$0.00"},"ASR-Dental_Financial_Report_SMMC_03.21.23","2023-03-21","Unaudited"]
["Dental","DEF","Default",1900,"1900-01-01","PY","1/1/1800","Region 11","Operating Expense","Taxes & Fees","Taxes & Fees","5.2","Department of Insurance Assessments",{"v":0,"d":"$0.00"},{"v":0,"d":"$0.00"},{"v":0,"d":"$0.00"},{"v":0,"d":"$0.00"},{"v":0,"d":"$0.00"},{"v":0,"d":"$0.00"},"ASR-Dental_Financial_Report_SMMC_03.21.23","2023-03-21","Unaudited"]
["Dental","DEF","Default",1900,"1900-01-01","PY","1/1/1800","Region 11","Operating Expense","Taxes & Fees","Taxes & Fees","5.3","Section 9010 Health Insurance Providers Fee",{"v":0,"d":"$0.00"},{"v":0,"d":"$0.00"},{"v":0,"d":"$0.00"},{"v":0,"d":"$0.00"},{"v":0,"d":"$0.00"},{"v":0,"d":"$0.00"},"ASR-Dental_Financial_Report_SMMC_03.21.23","2023-03-21","Unaudited"]
["Dental","DEF","Default",1900,"1900-01-01","PY","1/1/1800","Region 11","Operating Expense","Taxes & Fees","Taxes & Fees","5.4","Other 1",{"v":0,"d":"$0.00"},{"v":0,"d":"$0.00"},{"v":0,"d":"$0.00"},{"v":0,"d":"$0.00"},{"v":0,"d":"$0.00"},{"v":0,"d":"$0.00"},"ASR-Dental_Financial_Report_SMMC_03.21.23","2023-03-21","Unaudited"]
["Dental","DEF","Default",1900,"1900-01-01","PY","1/1/1800","Region 11","Operating Expense","Taxes & Fees","Taxes & Fees","5.5","Other 2",{"v":0,"d":"$0.00"},{"v":0,"d":"$0.00"},{"v":0,"d":"$0.00"},{"v":0,"d":"$0.00"},{"v":0,"d":"$0.00"},{"v":0,"d":"$0.00"},"ASR-Dental_Financial_Report_SMMC_03.21.23","2023-03-21","Unaudited"]
["Dental","DEF","Default",1900,"1900-01-01","PY","1/1/1800","Region 11","Operating Expense","Taxes & Fees","Taxes & Fees","5.6","Other 3",{"v":0,"d":"$0.00"},{"v":0,"d":"$0.00"},{"v":0,"d":"$0.00"},{"v":0,"d":"$0.00"},{"v":0,"d":"$0.00"},{"v":0,"d":"$0.00"},"ASR-Dental_Financial_Report_SMMC_03.21.23","2023-03-21","Unaudited"]
["Dental","DEF","Default",1900,"1900-01-01","PY","1/1/1800","Region 11","Non-Operating Expense","Income Tax Expense","Income Tax Expense","8.0","Income Tax Expense",{"v":0,"d":"$0.00"},{"v":0,"d":"$0.00"},{"v":0,"d":"$0.00"},{"v":0,"d":"$0.00"},{"v":0,"d":"$0.00"},{"v":0,"d":"$0.00"},"ASR-Dental_Financial_Report_SMMC_03.21.23","2023-03-21","Unaudited"]

{"sheet":"Dental Ratio","index":31,"n_rows":181,"n_cols":18,"rows_kept":181,"hidden":true}
["Contract","Plan ID","Plan Name","Reporting Year","Reporting Quarter","Quarter Ending","Ratio","Period","Region","Total","Medicaid Only/Dual Eligible 0-20 Years","Medicaid Only 21+ Years","Dual Eligible 21+ Years","Medically Needy 0-20 Years","Medically Needy 21+ Years","File Name ","File Date","Status"]
[{"$f":"dental_contract","v":"Dental"},{"$f":"plan_id","v":"DEF"},{"$f":"plan_name","v":"Default"},{"$f":"reporting_year","v":1900},{"$f":"reporting_quarter","v":"1900-01-01"},{"$f":"IFERROR(IF($H2=\"Quarter\",IF(OR(IFERROR(YEAR(F1),0)<>reporting_year,$H1=\"YTD\"), DATEVALUE(\"3/31/\" & reporting_year),IF(MONTH($F1)=3,DATEVALUE(\"6/30/\" & reporting_year),IF(MONTH($F1)=6,DATEVALUE(\"9/30/\"&reporting_year),DATEVALUE(\"12/31/\"&reporting_year)))),reporting_quarter),\"\")","v":"1900-03-31"},"MLR","Quarter","Summary",{"$f":"IFERROR(IF($G2=\"MLR\",(INDEX(INDIRECT(\"'Dental Rev-Exp \"&$I2&\"'!$A$1:$CA$200\"),MATCH(\"Grand Total Medical Benefit Expense Net of Reinsurance\",INDIRECT(\"'Dental Rev-Exp \"&$I2&\"'!$C$1:$C$200\"),0),MATCH(IF($H2=\"Quarter\",IF($F2=DATEVALUE(\"3/31/\"&reporting_year),\"JANUARY - MARCH (Q1)\",IF($F2=DATEVALUE(\"6/30/\"&reporting_year),\"APRIL - JUNE (Q2)\",IF($F2=DATEVALUE(\"9/30/\"&reporting_year),\"JULY - SEPTEMBER (Q3)\",IF($F2=DATEVALUE(\"12/31/\"&reporting_year),\"OCTOBER - DECEMBER (Q4)\")))),\"TOTAL (TO DATE)\"),INDIRECT(\"'Dental Rev-Exp \"&$I2&\"'!$A$7:$CA$7\"),0)+MATCH(J$1,INDIRECT(\"'Dental Rev-Exp \"&$I2&\"'!$D$8:$CA$8\"),0)-1)-INDEX(INDIRECT(\"'Dental Rev-Exp \"&$I2&\"'!$A$1:$CA$200\"),MATCH(\"Dental Expanded Benefits FFS\",INDIRECT(\"'Dental Rev-Exp \"&$I2&\"'!$C$1:$C$200\"),0),MATCH(IF($H2=\"Quarter\",IF($F2=DATEVALUE(\"3/31/\"&reporting_year),\"JANUARY - MARCH (Q1)\",IF($F2=DATEVALUE(\"6/30/\"&reporting_year),\"APRIL - JUNE (Q2)\",IF($F2=DATEVALUE(\"9/30/\"&reporting_year),\"JULY - SEPTEMBER (Q3)\",IF($F2=DATEVALUE(\"12/31/\"&reporting_year),\"OCTOBER - DECEMBER (Q4)\")))),\"TOTAL (TO DATE)\"),INDIRECT(\"'Dental Rev-Exp \"&$I2&\"'!$A$7:$CA$7\"),0)+MATCH(J$1,INDIRECT(\"'Dental Rev-Exp \"&$I2&\"'!$D$8:$CA$8\"),0)-1)),IF($G2=\"Admin\",INDEX(INDIRECT(\"'Dental Rev-Exp \"&$I2&\"'!$A$1:$CA$200\"),MATCH(\"Total Administrative Expenses \",INDIRECT(\"'Dental Rev-Exp \"&$I2&\"'!$C$1:$C$200\"),0),MATCH(IF($H2=\"Quarter\",IF($F2=DATEVALUE(\"3/31/\"&reporting_year),\"JANUARY - MARCH (Q1)\",IF($F2=DATEVALUE(\"6/30/\"&reporting_year),\"APRIL - JUNE (Q2)\",IF($F2=DATEVALUE(\"9/30/\"&reporting_year),\"JULY - SEPTEMBER (Q3)\",IF($F2=DATEVALUE(\"12/31/\"&reporting_year),\"OCTOBER - DECEMBER (Q4)\")))),\"TOTAL (TO DATE)\"),INDIRECT(\"'Dental Rev-Exp \"&$I2&\"'!$A$7:$CA$7\"),0)+MATCH(J$1,INDIRECT(\"'Dental Rev-Exp \"&$I2&\"'!$D$8:$CA$8\"),0)-1),IF($G2=\"Margin\",INDEX(INDIRECT(\"'Dental Rev-Exp \"&$I2&\"'!$A$1:$CA$200\"),MATCH(\"Underwriting Gain / (Loss)  --- AKA Pre-tax Earnings from Operations\",INDIRECT(\"'Dental Rev-Exp \"&$I2&\"'!$C$1:$C$200\"),0),MATCH(IF($H2=\"Quarter\",IF($F2=DATEVALUE(\"3/31/\"&reporting_year),\"JANUARY - MARCH (Q1)\",IF($F2=DATEVALUE(\"6/30/\"&reporting_year),\"APRIL - JUNE (Q2)\",IF($F2=DATEVALUE(\"9/30/\"&reporting_year),\"JULY - SEPTEMBER (Q3)\",IF($F2=DATEVALUE(\"12/31/\"&reporting_year),\"OCTOBER - DECEMBER (Q4)\")))),\"TOTAL (TO DATE)\"),INDIRECT(\"'Dental Rev-Exp \"&$I2&\"'!$A$7:$CA$7\"),0)+MATCH(J$1,INDIRECT(\"'Dental Rev-Exp \"&$I2&\"'!$D$8:$CA$8\"),0)-1)-INDEX(INDIRECT(\"'Dental Rev-Exp \"&$I2&\"'!$A$1:$CA$200\"),MATCH(\"ACA § 9010 related payments\",INDIRECT(\"'Dental Rev-Exp \"&$I2&\"'!$C$1:$C$200\"),0),MATCH(IF($H2=\"Quarter\",IF($F2=DATEVALUE(\"3/31/\"&reporting_year),\"JANUARY - MARCH (Q1)\",IF($F2=DATEVALUE(\"6/30/\"&reporting_year),\"APRIL - JUNE (Q2)\",IF($F2=DATEVALUE(\"9/30/\"&reporting_year),\"JULY - SEPTEMBER (Q3)\",IF($F2=DATEVALUE(\"12/31/\"&reporting_year),\"OCTOBER - DECEMBER (Q4)\")))),\"TOTAL (TO DATE)\"),INDIRECT(\"'Dental Rev-Exp \"&$I2&\"'!$A$7:$CA$7\"),0)+MATCH(J$1,INDIRECT(\"'Dental Rev-Exp \"&$I2&\"'!$D$8:$CA$8\"),0)-1)+INDEX(INDIRECT(\"'Dental Rev-Exp \"&$I2&\"'!$A$1:$CA$200\"),MATCH(\"Section 9010 Health Insurance Providers Fee\",INDIRECT(\"'Dental Rev-Exp \"&$I2&\"'!$C$1:$C$200\"),0),MATCH(IF($H2=\"Quarter\",IF($F2=DATEVALUE(\"3/31/\"&reporting_year),\"JANUARY - MARCH (Q1)\",IF($F2=DATEVALUE(\"6/30/\"&reporting_year),\"APRIL - JUNE (Q2)\",IF($F2=DATEVALUE(\"9/30/\"&reporting_year),\"JULY - SEPTEMBER (Q3)\",IF($F2=DATEVALUE(\"12/31/\"&reporting_year),\"OCTOBER - DECEMBER (Q4)\")))),\"TOTAL (TO DATE)\"),INDIRECT(\"'Dental Rev-Exp \"&$I2&\"'!$A$7:$CA$7\"),0)+MATCH(J$1,INDIRECT(\"'Dental Rev-Exp \"&$I2&\"'!$D$8:$CA$8\"),0)-1))))/(INDEX(INDIRECT(\"'Dental Rev-Exp \"&$I2&\"'!$A$1:$CA$200\"),MATCH(\"Total Revenue\",INDIRECT(\"'Dental Rev-Exp \"&$I2&\"'!$C$1:$C$200\"),0),MATCH(IF($H2=\"Quarter\",IF($F2=DATEVALUE(\"3/31/\"&reporting_year),\"JANUARY - MARCH (Q1)\",IF($F2=DATEVALUE(\"6/30/\"&reporting_year),\"APRIL - JUNE (Q2)\",IF($F2=DATEVALUE(\"9/30/\"&reporting_year),\"JULY - SEPTEMBER (Q3)\",IF($F2=DATEVALUE(\"12/31/\"&reporting_year),\"OCTOBER - DECEMBER (Q4)\")))),\"TOTAL (TO DATE)\"),INDIRECT(\"'Dental Rev-Exp \"&$I2&\"'!$A$7:$CA$7\"),0)+MATCH(J$1,INDIRECT(\"'Dental Rev-Exp \"&$I2&\"'!$D$8:$CA$8\"),0)-1)-INDEX(INDIRECT(\"'Dental Rev-Exp \"&$I2&\"'!$A$1:$CA$200\"),MATCH(\"ACA § 9010 related payments\",INDIRECT(\"'Dental Rev-Exp \"&$I2&\"'!$C$1:$C$200\"),0),MATCH(IF($H2=\"Quarter\",IF($F2=DATEVALUE(\"3/31/\"&reporting_year),\"JANUARY - MARCH (Q1)\",IF($F2=DATEVALUE(\"6/30/\"&reporting_year),\"APRIL - JUNE (Q2)\",IF($F2=DATEVALUE(\"9/30/\"&reporting_year),\"JULY - SEPTEMBER (Q3)\",IF($F2=DATEVALUE(\"12/31/\"&reporting_year),\"OCTOBER - DECEMBER (Q4)\")))),\"TOTAL (TO DATE)\"),INDIRECT(\"'Dental Rev-Exp \"&$I2&\"'!$A$7:$CA$7\"),0)+MATCH(J$1,INDIRECT(\"'Dental Rev-Exp \"&$I2&\"'!$D$8:$CA$8\"),0)-1)),0)","v":{"v":0,"d":"0.0%"}},{"v":0,"d":"0.0%"},{"v":0,"d":"0.0%"},{"v":0,"d":"0.0%"},{"v":0,"d":"0.0%"},{"v":0,"d":"0.0%"},{"$f":"file_name","v":"ASR-Dental_Financial_Report_SMMC_03.21.23"},{"$f":"file_date","v":"2023-03-21"},{"$f":"status","v":"Unaudited"}]
["Dental","DEF","Default",1900,"1900-01-01","1900-06-30","MLR","Quarter","Summary",{"v":0,"d":"0.0%"},{"v":0,"d":"0.0%"},{"v":0,"d":"0.0%"},{"v":0,"d":"0.0%"},{"v":0,"d":"0.0%"},{"v":0,"d":"0.0%"},"ASR-Dental_Financial_Report_SMMC_03.21.23","2023-03-21","Unaudited"]
["Dental","DEF","Default",1900,"1900-01-01","1900-09-30","MLR","Quarter","Summary",{"v":0,"d":"0.0%"},{"v":0,"d":"0.0%"},{"v":0,"d":"0.0%"},{"v":0,"d":"0.0%"},{"v":0,"d":"0.0%"},{"v":0,"d":"0.0%"},"ASR-Dental_Financial_Report_SMMC_03.21.23","2023-03-21","Unaudited"]
["Dental","DEF","Default",1900,"1900-01-01","1900-12-31","MLR","Quarter","Summary",{"v":0,"d":"0.0%"},{"v":0,"d":"0.0%"},{"v":0,"d":"0.0%"},{"v":0,"d":"0.0%"},{"v":0,"d":"0.0%"},{"v":0,"d":"0.0%"},"ASR-Dental_Financial_Report_SMMC_03.21.23","2023-03-21","Unaudited"]
["Dental","DEF","Default",1900,"1900-01-01","1900-01-01","MLR","YTD","Summary",{"v":0,"d":"0.0%"},{"v":0,"d":"0.0%"},{"v":0,"d":"0.0%"},{"v":0,"d":"0.0%"},{"v":0,"d":"0.0%"},{"v":0,"d":"0.0%"},"ASR-Dental_Financial_Report_SMMC_03.21.23","2023-03-21","Unaudited"]
["Dental","DEF","Default",1900,"1900-01-01","1900-03-31","Admin","Quarter","Summary",{"v":0,"d":"0.0%"},{"v":0,"d":"0.0%"},{"v":0,"d":"0.0%"},{"v":0,"d":"0.0%"},{"v":0,"d":"0.0%"},{"v":0,"d":"0.0%"},"ASR-Dental_Financial_Report_SMMC_03.21.23","2023-03-21","Unaudited"]
["Dental","DEF","Default",1900,"1900-01-01","1900-06-30","Admin","Quarter","Summary",{"v":0,"d":"0.0%"},{"v":0,"d":"0.0%"},{"v":0,"d":"0.0%"},{"v":0,"d":"0.0%"},{"v":0,"d":"0.0%"},{"v":0,"d":"0.0%"},"ASR-Dental_Financial_Report_SMMC_03.21.23","2023-03-21","Unaudited"]
["Dental","DEF","Default",1900,"1900-01-01","1900-09-30","Admin","Quarter","Summary",{"v":0,"d":"0.0%"},{"v":0,"d":"0.0%"},{"v":0,"d":"0.0%"},{"v":0,"d":"0.0%"},{"v":0,"d":"0.0%"},{"v":0,"d":"0.0%"},"ASR-Dental_Financial_Report_SMMC_03.21.23","2023-03-21","Unaudited"]
["Dental","DEF","Default",1900,"1900-01-01","1900-12-31","Admin","Quarter","Summary",{"v":0,"d":"0.0%"},{"v":0,"d":"0.0%"},{"v":0,"d":"0.0%"},{"v":0,"d":"0.0%"},{"v":0,"d":"0.0%"},{"v":0,"d":"0.0%"},"ASR-Dental_Financial_Report_SMMC_03.21.23","2023-03-21","Unaudited"]
["Dental","DEF","Default",1900,"1900-01-01","1900-01-01","Admin","YTD","Summary",{"v":0,"d":"0.0%"},{"v":0,"d":"0.0%"},{"v":0,"d":"0.0%"},{"v":0,"d":"0.0%"},{"v":0,"d":"0.0%"},{"v":0,"d":"0.0%"},"ASR-Dental_Financial_Report_SMMC_03.21.23","2023-03-21","Unaudited"]
["Dental","DEF","Default",1900,"1900-01-01","1900-03-31","Margin","Quarter","Summary",{"v":0,"d":"0.0%"},{"v":0,"d":"0.0%"},{"v":0,"d":"0.0%"},{"v":0,"d":"0.0%"},{"v":0,"d":"0.0%"},{"v":0,"d":"0.0%"},"ASR-Dental_Financial_Report_SMMC_03.21.23","2023-03-21","Unaudited"]
["Dental","DEF","Default",1900,"1900-01-01","1900-06-30","Margin","Quarter","Summary",{"v":0,"d":"0.0%"},{"v":0,"d":"0.0%"},{"v":0,"d":"0.0%"},{"v":0,"d":"0.0%"},{"v":0,"d":"0.0%"},{"v":0,"d":"0.0%"},"ASR-Dental_Financial_Report_SMMC_03.21.23","2023-03-21","Unaudited"]
["Dental","DEF","Default",1900,"1900-01-01","1900-09-30","Margin","Quarter","Summary",{"v":0,"d":"0.0%"},{"v":0,"d":"0.0%"},{"v":0,"d":"0.0%"},{"v":0,"d":"0.0%"},{"v":0,"d":"0.0%"},{"v":0,"d":"0.0%"},"ASR-Dental_Financial_Report_SMMC_03.21.23","2023-03-21","Unaudited"]
["Dental","DEF","Default",1900,"1900-01-01","1900-12-31","Margin","Quarter","Summary",{"v":0,"d":"0.0%"},{"v":0,"d":"0.0%"},{"v":0,"d":"0.0%"},{"v":0,"d":"0.0%"},{"v":0,"d":"0.0%"},{"v":0,"d":"0.0%"},"ASR-Dental_Financial_Report_SMMC_03.21.23","2023-03-21","Unaudited"]
["Dental","DEF","Default",1900,"1900-01-01","1900-01-01","Margin","YTD","Summary",{"v":0,"d":"0.0%"},{"v":0,"d":"0.0%"},{"v":0,"d":"0.0%"},{"v":0,"d":"0.0%"},{"v":0,"d":"0.0%"},{"v":0,"d":"0.0%"},"ASR-Dental_Financial_Report_SMMC_03.21.23","2023-03-21","Unaudited"]
["Dental","DEF","Default",1900,"1900-01-01","1900-03-31","MLR","Quarter","Region 1",{"v":0,"d":"0.0%"},{"v":0,"d":"0.0%"},{"v":0,"d":"0.0%"},{"v":0,"d":"0.0%"},{"v":0,"d":"0.0%"},{"v":0,"d":"0.0%"},"ASR-Dental_Financial_Report_SMMC_03.21.23","2023-03-21","Unaudited"]
["Dental","DEF","Default",1900,"1900-01-01","1900-06-30","MLR","Quarter","Region 1",{"$f":"IFERROR(IF($G18=\"MLR\",(INDEX(INDIRECT(\"'Dental Rev-Exp \"&$I18&\"'!$A$1:$CA$200\"),MATCH(\"Grand Total Medical Benefit Expense Net of Reinsurance\",INDIRECT(\"'Dental Rev-Exp \"&$I18&\"'!$C$1:$C$200\"),0),MATCH(IF($H18=\"Quarter\",IF($F18=DATEVALUE(\"3/31/\"&reporting_year),\"JANUARY - MARCH (Q1)\",IF($F18=DATEVALUE(\"6/30/\"&reporting_year),\"APRIL - JUNE (Q2)\",IF($F18=DATEVALUE(\"9/30/\"&reporting_year),\"JULY - SEPTEMBER (Q3)\",IF($F18=DATEVALUE(\"12/31/\"&reporting_year),\"OCTOBER - DECEMBER (Q4)\")))),\"TOTAL (TO DATE)\"),INDIRECT(\"'Dental Rev-Exp \"&$I18&\"'!$A$7:$CA$7\"),0)+MATCH(J$1,INDIRECT(\"'Dental Rev-Exp \"&$I18&\"'!$D$8:$CA$8\"),0)-1)-INDEX(INDIRECT(\"'Dental Rev-Exp \"&$I18&\"'!$A$1:$CA$200\"),MATCH(\"Dental Expanded Benefits FFS\",INDIRECT(\"'Dental Rev-Exp \"&$I18&\"'!$C$1:$C$200\"),0),MATCH(IF($H18=\"Quarter\",IF($F18=DATEVALUE(\"3/31/\"&reporting_year),\"JANUARY - MARCH (Q1)\",IF($F18=DATEVALUE(\"6/30/\"&reporting_year),\"APRIL - JUNE (Q2)\",IF($F18=DATEVALUE(\"9/30/\"&reporting_year),\"JULY - SEPTEMBER (Q3)\",IF($F18=DATEVALUE(\"12/31/\"&reporting_year),\"OCTOBER - DECEMBER (Q4)\")))),\"TOTAL (TO DATE)\"),INDIRECT(\"'Dental Rev-Exp \"&$I18&\"'!$A$7:$CA$7\"),0)+MATCH(J$1,INDIRECT(\"'Dental Rev-Exp \"&$I18&\"'!$D$8:$CA$8\"),0)-1)),IF($G18=\"Admin\",INDEX(INDIRECT(\"'Dental Rev-Exp \"&$I18&\"'!$A$1:$CA$200\"),MATCH(\"Total Administrative Expenses \",INDIRECT(\"'Dental Rev-Exp \"&$I18&\"'!$C$1:$C$200\"),0),MATCH(IF($H18=\"Quarter\",IF($F18=DATEVALUE(\"3/31/\"&reporting_year),\"JANUARY - MARCH (Q1)\",IF($F18=DATEVALUE(\"6/30/\"&reporting_year),\"APRIL - JUNE (Q2)\",IF($F18=DATEVALUE(\"9/30/\"&reporting_year),\"JULY - SEPTEMBER (Q3)\",IF($F18=DATEVALUE(\"12/31/\"&reporting_year),\"OCTOBER - DECEMBER (Q4)\")))),\"TOTAL (TO DATE)\"),INDIRECT(\"'Dental Rev-Exp \"&$I18&\"'!$A$7:$CA$7\"),0)+MATCH(J$1,INDIRECT(\"'Dental Rev-Exp \"&$I18&\"'!$D$8:$CA$8\"),0)-1),IF($G18=\"Margin\",INDEX(INDIRECT(\"'Dental Rev-Exp \"&$I18&\"'!$A$1:$CA$200\"),MATCH(\"Underwriting Gain / (Loss)  --- AKA Pre-tax Earnings from Operations\",INDIRECT(\"'Dental Rev-Exp \"&$I18&\"'!$C$1:$C$200\"),0),MATCH(IF($H18=\"Quarter\",IF($F18=DATEVALUE(\"3/31/\"&reporting_year),\"JANUARY - MARCH (Q1)\",IF($F18=DATEVALUE(\"6/30/\"&reporting_year),\"APRIL - JUNE (Q2)\",IF($F18=DATEVALUE(\"9/30/\"&reporting_year),\"JULY - SEPTEMBER (Q3)\",IF($F18=DATEVALUE(\"12/31/\"&reporting_year),\"OCTOBER - DECEMBER (Q4)\")))),\"TOTAL (TO DATE)\"),INDIRECT(\"'Dental Rev-Exp \"&$I18&\"'!$A$7:$CA$7\"),0)+MATCH(J$1,INDIRECT(\"'Dental Rev-Exp \"&$I18&\"'!$D$8:$CA$8\"),0)-1)-INDEX(INDIRECT(\"'Dental Rev-Exp \"&$I18&\"'!$A$1:$CA$200\"),MATCH(\"ACA § 9010 related payments\",INDIRECT(\"'Dental Rev-Exp \"&$I18&\"'!$C$1:$C$200\"),0),MATCH(IF($H18=\"Quarter\",IF($F18=DATEVALUE(\"3/31/\"&reporting_year),\"JANUARY - MARCH (Q1)\",IF($F18=DATEVALUE(\"6/30/\"&reporting_year),\"APRIL - JUNE (Q2)\",IF($F18=DATEVALUE(\"9/30/\"&reporting_year),\"JULY - SEPTEMBER (Q3)\",IF($F18=DATEVALUE(\"12/31/\"&reporting_year),\"OCTOBER - DECEMBER (Q4)\")))),\"TOTAL (TO DATE)\"),INDIRECT(\"'Dental Rev-Exp \"&$I18&\"'!$A$7:$CA$7\"),0)+MATCH(J$1,INDIRECT(\"'Dental Rev-Exp \"&$I18&\"'!$D$8:$CA$8\"),0)-1)+INDEX(INDIRECT(\"'Dental Rev-Exp \"&$I18&\"'!$A$1:$CA$200\"),MATCH(\"Section 9010 Health Insurance Providers Fee\",INDIRECT(\"'Dental Rev-Exp \"&$I18&\"'!$C$1:$C$200\"),0),MATCH(IF($H18=\"Quarter\",IF($F18=DATEVALUE(\"3/31/\"&reporting_year),\"JANUARY - MARCH (Q1)\",IF($F18=DATEVALUE(\"6/30/\"&reporting_year),\"APRIL - JUNE (Q2)\",IF($F18=DATEVALUE(\"9/30/\"&reporting_year),\"JULY - SEPTEMBER (Q3)\",IF($F18=DATEVALUE(\"12/31/\"&reporting_year),\"OCTOBER - DECEMBER (Q4)\")))),\"TOTAL (TO DATE)\"),INDIRECT(\"'Dental Rev-Exp \"&$I18&\"'!$A$7:$CA$7\"),0)+MATCH(J$1,INDIRECT(\"'Dental Rev-Exp \"&$I18&\"'!$D$8:$CA$8\"),0)-1))))/(INDEX(INDIRECT(\"'Dental Rev-Exp \"&$I18&\"'!$A$1:$CA$200\"),MATCH(\"Total Revenue\",INDIRECT(\"'Dental Rev-Exp \"&$I18&\"'!$C$1:$C$200\"),0),MATCH(IF($H18=\"Quarter\",IF($F18=DATEVALUE(\"3/31/\"&reporting_year),\"JANUARY - MARCH (Q1)\",IF($F18=DATEVALUE(\"6/30/\"&reporting_year),\"APRIL - JUNE (Q2)\",IF($F18=DATEVALUE(\"9/30/\"&reporting_year),\"JULY - SEPTEMBER (Q3)\",IF($F18=DATEVALUE(\"12/31/\"&reporting_year),\"OCTOBER - DECEMBER (Q4)\")))),\"TOTAL (TO DATE)\"),INDIRECT(\"'Dental Rev-Exp \"&$I18&\"'!$A$7:$CA$7\"),0)+MATCH(J$1,INDIRECT(\"'Dental Rev-Exp \"&$I18&\"'!$D$8:$CA$8\"),0)-1)-INDEX(INDIRECT(\"'Dental Rev-Exp \"&$I18&\"'!$A$1:$CA$200\"),MATCH(\"ACA § 9010 related payments\",INDIRECT(\"'Dental Rev-Exp \"&$I18&\"'!$C$1:$C$200\"),0),MATCH(IF($H18=\"Quarter\",IF($F18=DATEVALUE(\"3/31/\"&reporting_year),\"JANUARY - MARCH (Q1)\",IF($F18=DATEVALUE(\"6/30/\"&reporting_year),\"APRIL - JUNE (Q2)\",IF($F18=DATEVALUE(\"9/30/\"&reporting_year),\"JULY - SEPTEMBER (Q3)\",IF($F18=DATEVALUE(\"12/31/\"&reporting_year),\"OCTOBER - DECEMBER (Q4)\")))),\"TOTAL (TO DATE)\"),INDIRECT(\"'Dental Rev-Exp \"&$I18&\"'!$A$7:$CA$7\"),0)+MATCH(J$1,INDIRECT(\"'Dental Rev-Exp \"&$I18&\"'!$D$8:$CA$8\"),0)-1)),0)","v":{"v":0,"d":"0.0%"}},{"v":0,"d":"0.0%"},{"v":0,"d":"0.0%"},{"v":0,"d":"0.0%"},{"v":0,"d":"0.0%"},{"v":0,"d":"0.0%"},"ASR-Dental_Financial_Report_SMMC_03.21.23","2023-03-21","Unaudited"]
["Dental","DEF","Default",1900,"1900-01-01","1900-09-30","MLR","Quarter","Region 1",{"v":0,"d":"0.0%"},{"v":0,"d":"0.0%"},{"v":0,"d":"0.0%"},{"v":0,"d":"0.0%"},{"v":0,"d":"0.0%"},{"v":0,"d":"0.0%"},"ASR-Dental_Financial_Report_SMMC_03.21.23","2023-03-21","Unaudited"]
["Dental","DEF","Default",1900,"1900-01-01","1900-12-31","MLR","Quarter","Region 1",{"v":0,"d":"0.0%"},{"v":0,"d":"0.0%"},{"v":0,"d":"0.0%"},{"v":0,"d":"0.0%"},{"v":0,"d":"0.0%"},{"v":0,"d":"0.0%"},"ASR-Dental_Financial_Report_SMMC_03.21.23","2023-03-21","Unaudited"]
["Dental","DEF","Default",1900,"1900-01-01","1900-01-01","MLR","YTD","Region 1",{"v":0,"d":"0.0%"},{"v":0,"d":"0.0%"},{"v":0,"d":"0.0%"},{"v":0,"d":"0.0%"},{"v":0,"d":"0.0%"},{"v":0,"d":"0.0%"},"ASR-Dental_Financial_Report_SMMC_03.21.23","2023-03-21","Unaudited"]
["Dental","DEF","Default",1900,"1900-01-01","1900-03-31","Admin","Quarter","Region 1",{"v":0,"d":"0.0%"},{"v":0,"d":"0.0%"},{"v":0,"d":"0.0%"},{"v":0,"d":"0.0%"},{"v":0,"d":"0.0%"},{"v":0,"d":"0.0%"},"ASR-Dental_Financial_Report_SMMC_03.21.23","2023-03-21","Unaudited"]
["Dental","DEF","Default",1900,"1900-01-01","1900-06-30","Admin","Quarter","Region 1",{"v":0,"d":"0.0%"},{"v":0,"d":"0.0%"},{"v":0,"d":"0.0%"},{"v":0,"d":"0.0%"},{"v":0,"d":"0.0%"},{"v":0,"d":"0.0%"},"ASR-Dental_Financial_Report_SMMC_03.21.23","2023-03-21","Unaudited"]
["Dental","DEF","Default",1900,"1900-01-01","1900-09-30","Admin","Quarter","Region 1",{"v":0,"d":"0.0%"},{"v":0,"d":"0.0%"},{"v":0,"d":"0.0%"},{"v":0,"d":"0.0%"},{"v":0,"d":"0.0%"},{"v":0,"d":"0.0%"},"ASR-Dental_Financial_Report_SMMC_03.21.23","2023-03-21","Unaudited"]
["Dental","DEF","Default",1900,"1900-01-01","1900-12-31","Admin","Quarter","Region 1",{"v":0,"d":"0.0%"},{"v":0,"d":"0.0%"},{"v":0,"d":"0.0%"},{"v":0,"d":"0.0%"},{"v":0,"d":"0.0%"},{"v":0,"d":"0.0%"},"ASR-Dental_Financial_Report_SMMC_03.21.23","2023-03-21","Unaudited"]
["Dental","DEF","Default",1900,"1900-01-01","1900-01-01","Admin","YTD","Region 1",{"v":0,"d":"0.0%"},{"v":0,"d":"0.0%"},{"v":0,"d":"0.0%"},{"v":0,"d":"0.0%"},{"v":0,"d":"0.0%"},{"v":0,"d":"0.0%"},"ASR-Dental_Financial_Report_SMMC_03.21.23","2023-03-21","Unaudited"]
["Dental","DEF","Default",1900,"1900-01-01","1900-03-31","Margin","Quarter","Region 1",{"v":0,"d":"0.0%"},{"v":0,"d":"0.0%"},{"v":0,"d":"0.0%"},{"v":0,"d":"0.0%"},{"v":0,"d":"0.0%"},{"v":0,"d":"0.0%"},"ASR-Dental_Financial_Report_SMMC_03.21.23","2023-03-21","Unaudited"]
["Dental","DEF","Default",1900,"1900-01-01","1900-06-30","Margin","Quarter","Region 1",{"v":0,"d":"0.0%"},{"v":0,"d":"0.0%"},{"v":0,"d":"0.0%"},{"v":0,"d":"0.0%"},{"v":0,"d":"0.0%"},{"v":0,"d":"0.0%"},"ASR-Dental_Financial_Report_SMMC_03.21.23","2023-03-21","Unaudited"]
["Dental","DEF","Default",1900,"1900-01-01","1900-09-30","Margin","Quarter","Region 1",{"v":0,"d":"0.0%"},{"v":0,"d":"0.0%"},{"v":0,"d":"0.0%"},{"v":0,"d":"0.0%"},{"v":0,"d":"0.0%"},{"v":0,"d":"0.0%"},"ASR-Dental_Financial_Report_SMMC_03.21.23","2023-03-21","Unaudited"]
["Dental","DEF","Default",1900,"1900-01-01","1900-12-31","Margin","Quarter","Region 1",{"v":0,"d":"0.0%"},{"v":0,"d":"0.0%"},{"v":0,"d":"0.0%"},{"v":0,"d":"0.0%"},{"v":0,"d":"0.0%"},{"v":0,"d":"0.0%"},"ASR-Dental_Financial_Report_SMMC_03.21.23","2023-03-21","Unaudited"]
["Dental","DEF","Default",1900,"1900-01-01","1900-01-01","Margin","YTD","Region 1",{"v":0,"d":"0.0%"},{"v":0,"d":"0.0%"},{"v":0,"d":"0.0%"},{"v":0,"d":"0.0%"},{"v":0,"d":"0.0%"},{"v":0,"d":"0.0%"},"ASR-Dental_Financial_Report_SMMC_03.21.23","2023-03-21","Unaudited"]
["Dental","DEF","Default",1900,"1900-01-01","1900-03-31","MLR","Quarter","Region 2",{"v":0,"d":"0.0%"},{"v":0,"d":"0.0%"},{"v":0,"d":"0.0%"},{"v":0,"d":"0.0%"},{"v":0,"d":"0.0%"},{"v":0,"d":"0.0%"},"ASR-Dental_Financial_Report_SMMC_03.21.23","2023-03-21","Unaudited"]
["Dental","DEF","Default",1900,"1900-01-01","1900-06-30","MLR","Quarter","Region 2",{"v":0,"d":"0.0%"},{"v":0,"d":"0.0%"},{"v":0,"d":"0.0%"},{"v":0,"d":"0.0%"},{"v":0,"d":"0.0%"},{"v":0,"d":"0.0%"},"ASR-Dental_Financial_Report_SMMC_03.21.23","2023-03-21","Unaudited"]
[{"$f":"dental_contract","v":"Dental"},{"$f":"plan_id","v":"DEF"},{"$f":"plan_name","v":"Default"},{"$f":"reporting_year","v":1900},{"$f":"reporting_quarter","v":"1900-01-01"},{"$f":"IFERROR(IF($H34=\"Quarter\",IF(OR(IFERROR(YEAR(F33),0)<>reporting_year,$H33=\"YTD\"), DATEVALUE(\"3/31/\" & reporting_year),IF(MONTH($F33)=3,DATEVALUE(\"6/30/\" & reporting_year),IF(MONTH($F33)=6,DATEVALUE(\"9/30/\"&reporting_year),DATEVALUE(\"12/31/\"&reporting_year)))),reporting_quarter),\"\")","v":"1900-09-30"},"MLR","Quarter","Region 2",{"v":0,"d":"0.0%"},{"v":0,"d":"0.0%"},{"v":0,"d":"0.0%"},{"v":0,"d":"0.0%"},{"v":0,"d":"0.0%"},{"v":0,"d":"0.0%"},{"$f":"file_name","v":"ASR-Dental_Financial_Report_SMMC_03.21.23"},{"$f":"file_date","v":"2023-03-21"},{"$f":"status","v":"Unaudited"}]
["Dental","DEF","Default",1900,"1900-01-01","1900-12-31","MLR","Quarter","Region 2",{"v":0,"d":"0.0%"},{"v":0,"d":"0.0%"},{"v":0,"d":"0.0%"},{"v":0,"d":"0.0%"},{"v":0,"d":"0.0%"},{"v":0,"d":"0.0%"},"ASR-Dental_Financial_Report_SMMC_03.21.23","2023-03-21","Unaudited"]
["Dental","DEF","Default",1900,"1900-01-01","1900-01-01","MLR","YTD","Region 2",{"v":0,"d":"0.0%"},{"v":0,"d":"0.0%"},{"v":0,"d":"0.0%"},{"v":0,"d":"0.0%"},{"v":0,"d":"0.0%"},{"v":0,"d":"0.0%"},"ASR-Dental_Financial_Report_SMMC_03.21.23","2023-03-21","Unaudited"]
["Dental","DEF","Default",1900,"1900-01-01","1900-03-31","Admin","Quarter","Region 2",{"v":0,"d":"0.0%"},{"v":0,"d":"0.0%"},{"v":0,"d":"0.0%"},{"v":0,"d":"0.0%"},{"v":0,"d":"0.0%"},{"v":0,"d":"0.0%"},"ASR-Dental_Financial_Report_SMMC_03.21.23","2023-03-21","Unaudited"]
["Dental","DEF","Default",1900,"1900-01-01","1900-06-30","Admin","Quarter","Region 2",{"v":0,"d":"0.0%"},{"v":0,"d":"0.0%"},{"v":0,"d":"0.0%"},{"v":0,"d":"0.0%"},{"v":0,"d":"0.0%"},{"v":0,"d":"0.0%"},"ASR-Dental_Financial_Report_SMMC_03.21.23","2023-03-21","Unaudited"]
["Dental","DEF","Default",1900,"1900-01-01","1900-09-30","Admin","Quarter","Region 2",{"v":0,"d":"0.0%"},{"v":0,"d":"0.0%"},{"v":0,"d":"0.0%"},{"v":0,"d":"0.0%"},{"v":0,"d":"0.0%"},{"v":0,"d":"0.0%"},"ASR-Dental_Financial_Report_SMMC_03.21.23","2023-03-21","Unaudited"]
["Dental","DEF","Default",1900,"1900-01-01","1900-12-31","Admin","Quarter","Region 2",{"v":0,"d":"0.0%"},{"v":0,"d":"0.0%"},{"v":0,"d":"0.0%"},{"v":0,"d":"0.0%"},{"v":0,"d":"0.0%"},{"v":0,"d":"0.0%"},"ASR-Dental_Financial_Report_SMMC_03.21.23","2023-03-21","Unaudited"]
["Dental","DEF","Default",1900,"1900-01-01","1900-01-01","Admin","YTD","Region 2",{"v":0,"d":"0.0%"},{"v":0,"d":"0.0%"},{"v":0,"d":"0.0%"},{"v":0,"d":"0.0%"},{"v":0,"d":"0.0%"},{"v":0,"d":"0.0%"},"ASR-Dental_Financial_Report_SMMC_03.21.23","2023-03-21","Unaudited"]
["Dental","DEF","Default",1900,"1900-01-01","1900-03-31","Margin","Quarter","Region 2",{"v":0,"d":"0.0%"},{"v":0,"d":"0.0%"},{"v":0,"d":"0.0%"},{"v":0,"d":"0.0%"},{"v":0,"d":"0.0%"},{"v":0,"d":"0.0%"},"ASR-Dental_Financial_Report_SMMC_03.21.23","2023-03-21","Unaudited"]
["Dental","DEF","Default",1900,"1900-01-01","1900-06-30","Margin","Quarter","Region 2",{"v":0,"d":"0.0%"},{"v":0,"d":"0.0%"},{"v":0,"d":"0.0%"},{"v":0,"d":"0.0%"},{"v":0,"d":"0.0%"},{"v":0,"d":"0.0%"},"ASR-Dental_Financial_Report_SMMC_03.21.23","2023-03-21","Unaudited"]
["Dental","DEF","Default",1900,"1900-01-01","1900-09-30","Margin","Quarter","Region 2",{"v":0,"d":"0.0%"},{"v":0,"d":"0.0%"},{"v":0,"d":"0.0%"},{"v":0,"d":"0.0%"},{"v":0,"d":"0.0%"},{"v":0,"d":"0.0%"},"ASR-Dental_Financial_Report_SMMC_03.21.23","2023-03-21","Unaudited"]
["Dental","DEF","Default",1900,"1900-01-01","1900-12-31","Margin","Quarter","Region 2",{"v":0,"d":"0.0%"},{"v":0,"d":"0.0%"},{"v":0,"d":"0.0%"},{"v":0,"d":"0.0%"},{"v":0,"d":"0.0%"},{"v":0,"d":"0.0%"},"ASR-Dental_Financial_Report_SMMC_03.21.23","2023-03-21","Unaudited"]
["Dental","DEF","Default",1900,"1900-01-01","1900-01-01","Margin","YTD","Region 2",{"v":0,"d":"0.0%"},{"v":0,"d":"0.0%"},{"v":0,"d":"0.0%"},{"v":0,"d":"0.0%"},{"v":0,"d":"0.0%"},{"v":0,"d":"0.0%"},"ASR-Dental_Financial_Report_SMMC_03.21.23","2023-03-21","Unaudited"]
["Dental","DEF","Default",1900,"1900-01-01","1900-03-31","MLR","Quarter","Region 3",{"v":0,"d":"0.0%"},{"v":0,"d":"0.0%"},{"v":0,"d":"0.0%"},{"v":0,"d":"0.0%"},{"v":0,"d":"0.0%"},{"v":0,"d":"0.0%"},"ASR-Dental_Financial_Report_SMMC_03.21.23","2023-03-21","Unaudited"]
["Dental","DEF","Default",1900,"1900-01-01","1900-06-30","MLR","Quarter","Region 3",{"v":0,"d":"0.0%"},{"v":0,"d":"0.0%"},{"v":0,"d":"0.0%"},{"v":0,"d":"0.0%"},{"v":0,"d":"0.0%"},{"v":0,"d":"0.0%"},"ASR-Dental_Financial_Report_SMMC_03.21.23","2023-03-21","Unaudited"]
["Dental","DEF","Default",1900,"1900-01-01","1900-09-30","MLR","Quarter","Region 3",{"v":0,"d":"0.0%"},{"v":0,"d":"0.0%"},{"v":0,"d":"0.0%"},{"v":0,"d":"0.0%"},{"v":0,"d":"0.0%"},{"v":0,"d":"0.0%"},"ASR-Dental_Financial_Report_SMMC_03.21.23","2023-03-21","Unaudited"]
["Dental","DEF","Default",1900,"1900-01-01","1900-12-31","MLR","Quarter","Region 3",{"v":0,"d":"0.0%"},{"v":0,"d":"0.0%"},{"v":0,"d":"0.0%"},{"v":0,"d":"0.0%"},{"v":0,"d":"0.0%"},{"v":0,"d":"0.0%"},"ASR-Dental_Financial_Report_SMMC_03.21.23","2023-03-21","Unaudited"]
["Dental","DEF","Default",1900,"1900-01-01","1900-01-01","MLR","YTD","Region 3",{"v":0,"d":"0.0%"},{"v":0,"d":"0.0%"},{"v":0,"d":"0.0%"},{"v":0,"d":"0.0%"},{"v":0,"d":"0.0%"},{"v":0,"d":"0.0%"},"ASR-Dental_Financial_Report_SMMC_03.21.23","2023-03-21","Unaudited"]
["Dental","DEF","Default",1900,"1900-01-01","1900-03-31","Admin","Quarter","Region 3",{"v":0,"d":"0.0%"},{"v":0,"d":"0.0%"},{"v":0,"d":"0.0%"},{"v":0,"d":"0.0%"},{"v":0,"d":"0.0%"},{"v":0,"d":"0.0%"},"ASR-Dental_Financial_Report_SMMC_03.21.23","2023-03-21","Unaudited"]
["Dental","DEF","Default",1900,"1900-01-01","1900-06-30","Admin","Quarter","Region 3",{"v":0,"d":"0.0%"},{"v":0,"d":"0.0%"},{"v":0,"d":"0.0%"},{"v":0,"d":"0.0%"},{"v":0,"d":"0.0%"},{"v":0,"d":"0.0%"},"ASR-Dental_Financial_Report_SMMC_03.21.23","2023-03-21","Unaudited"]
["Dental","DEF","Default",1900,"1900-01-01","1900-09-30","Admin","Quarter","Region 3",{"v":0,"d":"0.0%"},{"v":0,"d":"0.0%"},{"v":0,"d":"0.0%"},{"v":0,"d":"0.0%"},{"v":0,"d":"0.0%"},{"v":0,"d":"0.0%"},"ASR-Dental_Financial_Report_SMMC_03.21.23","2023-03-21","Unaudited"]
["Dental","DEF","Default",1900,"1900-01-01","1900-12-31","Admin","Quarter","Region 3",{"v":0,"d":"0.0%"},{"v":0,"d":"0.0%"},{"v":0,"d":"0.0%"},{"v":0,"d":"0.0%"},{"v":0,"d":"0.0%"},{"v":0,"d":"0.0%"},"ASR-Dental_Financial_Report_SMMC_03.21.23","2023-03-21","Unaudited"]
["Dental","DEF","Default",1900,"1900-01-01","1900-01-01","Admin","YTD","Region 3",{"v":0,"d":"0.0%"},{"v":0,"d":"0.0%"},{"v":0,"d":"0.0%"},{"v":0,"d":"0.0%"},{"v":0,"d":"0.0%"},{"v":0,"d":"0.0%"},"ASR-Dental_Financial_Report_SMMC_03.21.23","2023-03-21","Unaudited"]
["Dental","DEF","Default",1900,"1900-01-01","1900-03-31","Margin","Quarter","Region 3",{"v":0,"d":"0.0%"},{"v":0,"d":"0.0%"},{"v":0,"d":"0.0%"},{"v":0,"d":"0.0%"},{"v":0,"d":"0.0%"},{"v":0,"d":"0.0%"},"ASR-Dental_Financial_Report_SMMC_03.21.23","2023-03-21","Unaudited"]
["Dental","DEF","Default",1900,"1900-01-01","1900-06-30","Margin","Quarter","Region 3",{"v":0,"d":"0.0%"},{"v":0,"d":"0.0%"},{"v":0,"d":"0.0%"},{"v":0,"d":"0.0%"},{"v":0,"d":"0.0%"},{"v":0,"d":"0.0%"},"ASR-Dental_Financial_Report_SMMC_03.21.23","2023-03-21","Unaudited"]
["Dental","DEF","Default",1900,"1900-01-01","1900-09-30","Margin","Quarter","Region 3",{"v":0,"d":"0.0%"},{"v":0,"d":"0.0%"},{"v":0,"d":"0.0%"},{"v":0,"d":"0.0%"},{"v":0,"d":"0.0%"},{"v":0,"d":"0.0%"},"ASR-Dental_Financial_Report_SMMC_03.21.23","2023-03-21","Unaudited"]
["Dental","DEF","Default",1900,"1900-01-01","1900-12-31","Margin","Quarter","Region 3",{"v":0,"d":"0.0%"},{"v":0,"d":"0.0%"},{"v":0,"d":"0.0%"},{"$f":"IFERROR(IF($G60=\"MLR\",(INDEX(INDIRECT(\"'Dental Rev-Exp \"&$I60&\"'!$A$1:$CA$200\"),MATCH(\"Grand Total Medical Benefit Expense Net of Reinsurance\",INDIRECT(\"'Dental Rev-Exp \"&$I60&\"'!$C$1:$C$200\"),0),MATCH(IF($H60=\"Quarter\",IF($F60=DATEVALUE(\"3/31/\"&reporting_year),\"JANUARY - MARCH (Q1)\",IF($F60=DATEVALUE(\"6/30/\"&reporting_year),\"APRIL - JUNE (Q2)\",IF($F60=DATEVALUE(\"9/30/\"&reporting_year),\"JULY - SEPTEMBER (Q3)\",IF($F60=DATEVALUE(\"12/31/\"&reporting_year),\"OCTOBER - DECEMBER (Q4)\")))),\"TOTAL (TO DATE)\"),INDIRECT(\"'Dental Rev-Exp \"&$I60&\"'!$A$7:$CA$7\"),0)+MATCH(M$1,INDIRECT(\"'Dental Rev-Exp \"&$I60&\"'!$D$8:$CA$8\"),0)-1)-INDEX(INDIRECT(\"'Dental Rev-Exp \"&$I60&\"'!$A$1:$CA$200\"),MATCH(\"Dental Expanded Benefits FFS\",INDIRECT(\"'Dental Rev-Exp \"&$I60&\"'!$C$1:$C$200\"),0),MATCH(IF($H60=\"Quarter\",IF($F60=DATEVALUE(\"3/31/\"&reporting_year),\"JANUARY - MARCH (Q1)\",IF($F60=DATEVALUE(\"6/30/\"&reporting_year),\"APRIL - JUNE (Q2)\",IF($F60=DATEVALUE(\"9/30/\"&reporting_year),\"JULY - SEPTEMBER (Q3)\",IF($F60=DATEVALUE(\"12/31/\"&reporting_year),\"OCTOBER - DECEMBER (Q4)\")))),\"TOTAL (TO DATE)\"),INDIRECT(\"'Dental Rev-Exp \"&$I60&\"'!$A$7:$CA$7\"),0)+MATCH(M$1,INDIRECT(\"'Dental Rev-Exp \"&$I60&\"'!$D$8:$CA$8\"),0)-1)),IF($G60=\"Admin\",INDEX(INDIRECT(\"'Dental Rev-Exp \"&$I60&\"'!$A$1:$CA$200\"),MATCH(\"Total Administrative Expenses \",INDIRECT(\"'Dental Rev-Exp \"&$I60&\"'!$C$1:$C$200\"),0),MATCH(IF($H60=\"Quarter\",IF($F60=DATEVALUE(\"3/31/\"&reporting_year),\"JANUARY - MARCH (Q1)\",IF($F60=DATEVALUE(\"6/30/\"&reporting_year),\"APRIL - JUNE (Q2)\",IF($F60=DATEVALUE(\"9/30/\"&reporting_year),\"JULY - SEPTEMBER (Q3)\",IF($F60=DATEVALUE(\"12/31/\"&reporting_year),\"OCTOBER - DECEMBER (Q4)\")))),\"TOTAL (TO DATE)\"),INDIRECT(\"'Dental Rev-Exp \"&$I60&\"'!$A$7:$CA$7\"),0)+MATCH(M$1,INDIRECT(\"'Dental Rev-Exp \"&$I60&\"'!$D$8:$CA$8\"),0)-1),IF($G60=\"Margin\",INDEX(INDIRECT(\"'Dental Rev-Exp \"&$I60&\"'!$A$1:$CA$200\"),MATCH(\"Underwriting Gain / (Loss)  --- AKA Pre-tax Earnings from Operations\",INDIRECT(\"'Dental Rev-Exp \"&$I60&\"'!$C$1:$C$200\"),0),MATCH(IF($H60=\"Quarter\",IF($F60=DATEVALUE(\"3/31/\"&reporting_year),\"JANUARY - MARCH (Q1)\",IF($F60=DATEVALUE(\"6/30/\"&reporting_year),\"APRIL - JUNE (Q2)\",IF($F60=DATEVALUE(\"9/30/\"&reporting_year),\"JULY - SEPTEMBER (Q3)\",IF($F60=DATEVALUE(\"12/31/\"&reporting_year),\"OCTOBER - DECEMBER (Q4)\")))),\"TOTAL (TO DATE)\"),INDIRECT(\"'Dental Rev-Exp \"&$I60&\"'!$A$7:$CA$7\"),0)+MATCH(M$1,INDIRECT(\"'Dental Rev-Exp \"&$I60&\"'!$D$8:$CA$8\"),0)-1)-INDEX(INDIRECT(\"'Dental Rev-Exp \"&$I60&\"'!$A$1:$CA$200\"),MATCH(\"ACA § 9010 related payments\",INDIRECT(\"'Dental Rev-Exp \"&$I60&\"'!$C$1:$C$200\"),0),MATCH(IF($H60=\"Quarter\",IF($F60=DATEVALUE(\"3/31/\"&reporting_year),\"JANUARY - MARCH (Q1)\",IF($F60=DATEVALUE(\"6/30/\"&reporting_year),\"APRIL - JUNE (Q2)\",IF($F60=DATEVALUE(\"9/30/\"&reporting_year),\"JULY - SEPTEMBER (Q3)\",IF($F60=DATEVALUE(\"12/31/\"&reporting_year),\"OCTOBER - DECEMBER (Q4)\")))),\"TOTAL (TO DATE)\"),INDIRECT(\"'Dental Rev-Exp \"&$I60&\"'!$A$7:$CA$7\"),0)+MATCH(M$1,INDIRECT(\"'Dental Rev-Exp \"&$I60&\"'!$D$8:$CA$8\"),0)-1)+INDEX(INDIRECT(\"'Dental Rev-Exp \"&$I60&\"'!$A$1:$CA$200\"),MATCH(\"Section 9010 Health Insurance Providers Fee\",INDIRECT(\"'Dental Rev-Exp \"&$I60&\"'!$C$1:$C$200\"),0),MATCH(IF($H60=\"Quarter\",IF($F60=DATEVALUE(\"3/31/\"&reporting_year),\"JANUARY - MARCH (Q1)\",IF($F60=DATEVALUE(\"6/30/\"&reporting_year),\"APRIL - JUNE (Q2)\",IF($F60=DATEVALUE(\"9/30/\"&reporting_year),\"JULY - SEPTEMBER (Q3)\",IF($F60=DATEVALUE(\"12/31/\"&reporting_year),\"OCTOBER - DECEMBER (Q4)\")))),\"TOTAL (TO DATE)\"),INDIRECT(\"'Dental Rev-Exp \"&$I60&\"'!$A$7:$CA$7\"),0)+MATCH(M$1,INDIRECT(\"'Dental Rev-Exp \"&$I60&\"'!$D$8:$CA$8\"),0)-1))))/(INDEX(INDIRECT(\"'Dental Rev-Exp \"&$I60&\"'!$A$1:$CA$200\"),MATCH(\"Total Revenue\",INDIRECT(\"'Dental Rev-Exp \"&$I60&\"'!$C$1:$C$200\"),0),MATCH(IF($H60=\"Quarter\",IF($F60=DATEVALUE(\"3/31/\"&reporting_year),\"JANUARY - MARCH (Q1)\",IF($F60=DATEVALUE(\"6/30/\"&reporting_year),\"APRIL - JUNE (Q2)\",IF($F60=DATEVALUE(\"9/30/\"&reporting_year),\"JULY - SEPTEMBER (Q3)\",IF($F60=DATEVALUE(\"12/31/\"&reporting_year),\"OCTOBER - DECEMBER (Q4)\")))),\"TOTAL (TO DATE)\"),INDIRECT(\"'Dental Rev-Exp \"&$I60&\"'!$A$7:$CA$7\"),0)+MATCH(M$1,INDIRECT(\"'Dental Rev-Exp \"&$I60&\"'!$D$8:$CA$8\"),0)-1)-INDEX(INDIRECT(\"'Dental Rev-Exp \"&$I60&\"'!$A$1:$CA$200\"),MATCH(\"ACA § 9010 related payments\",INDIRECT(\"'Dental Rev-Exp \"&$I60&\"'!$C$1:$C$200\"),0),MATCH(IF($H60=\"Quarter\",IF($F60=DATEVALUE(\"3/31/\"&reporting_year),\"JANUARY - MARCH (Q1)\",IF($F60=DATEVALUE(\"6/30/\"&reporting_year),\"APRIL - JUNE (Q2)\",IF($F60=DATEVALUE(\"9/30/\"&reporting_year),\"JULY - SEPTEMBER (Q3)\",IF($F60=DATEVALUE(\"12/31/\"&reporting_year),\"OCTOBER - DECEMBER (Q4)\")))),\"TOTAL (TO DATE)\"),INDIRECT(\"'Dental Rev-Exp \"&$I60&\"'!$A$7:$CA$7\"),0)+MATCH(M$1,INDIRECT(\"'Dental Rev-Exp \"&$I60&\"'!$D$8:$CA$8\"),0)-1)),0)","v":{"v":0,"d":"0.0%"}},{"v":0,"d":"0.0%"},{"v":0,"d":"0.0%"},"ASR-Dental_Financial_Report_SMMC_03.21.23","2023-03-21","Unaudited"]
["Dental","DEF","Default",1900,"1900-01-01","1900-01-01","Margin","YTD","Region 3",{"v":0,"d":"0.0%"},{"v":0,"d":"0.0%"},{"v":0,"d":"0.0%"},{"v":0,"d":"0.0%"},{"v":0,"d":"0.0%"},{"v":0,"d":"0.0%"},"ASR-Dental_Financial_Report_SMMC_03.21.23","2023-03-21","Unaudited"]
["Dental","DEF","Default",1900,"1900-01-01","1900-03-31","MLR","Quarter","Region 4",{"v":0,"d":"0.0%"},{"v":0,"d":"0.0%"},{"v":0,"d":"0.0%"},{"v":0,"d":"0.0%"},{"v":0,"d":"0.0%"},{"v":0,"d":"0.0%"},"ASR-Dental_Financial_Report_SMMC_03.21.23","2023-03-21","Unaudited"]
["Dental","DEF","Default",1900,"1900-01-01","1900-06-30","MLR","Quarter","Region 4",{"v":0,"d":"0.0%"},{"v":0,"d":"0.0%"},{"v":0,"d":"0.0%"},{"v":0,"d":"0.0%"},{"v":0,"d":"0.0%"},{"v":0,"d":"0.0%"},"ASR-Dental_Financial_Report_SMMC_03.21.23","2023-03-21","Unaudited"]
["Dental","DEF","Default",1900,"1900-01-01","1900-09-30","MLR","Quarter","Region 4",{"v":0,"d":"0.0%"},{"v":0,"d":"0.0%"},{"v":0,"d":"0.0%"},{"v":0,"d":"0.0%"},{"v":0,"d":"0.0%"},{"v":0,"d":"0.0%"},"ASR-Dental_Financial_Report_SMMC_03.21.23","2023-03-21","Unaudited"]
["Dental","DEF","Default",1900,"1900-01-01","1900-12-31","MLR","Quarter","Region 4",{"v":0,"d":"0.0%"},{"v":0,"d":"0.0%"},{"v":0,"d":"0.0%"},{"v":0,"d":"0.0%"},{"v":0,"d":"0.0%"},{"v":0,"d":"0.0%"},"ASR-Dental_Financial_Report_SMMC_03.21.23","2023-03-21","Unaudited"]
[{"$f":"dental_contract","v":"Dental"},{"$f":"plan_id","v":"DEF"},{"$f":"plan_name","v":"Default"},{"$f":"reporting_year","v":1900},{"$f":"reporting_quarter","v":"1900-01-01"},{"$f":"IFERROR(IF($H66=\"Quarter\",IF(OR(IFERROR(YEAR(F65),0)<>reporting_year,$H65=\"YTD\"), DATEVALUE(\"3/31/\" & reporting_year),IF(MONTH($F65)=3,DATEVALUE(\"6/30/\" & reporting_year),IF(MONTH($F65)=6,DATEVALUE(\"9/30/\"&reporting_year),DATEVALUE(\"12/31/\"&reporting_year)))),reporting_quarter),\"\")","v":"1900-01-01"},"MLR","YTD","Region 4",{"v":0,"d":"0.0%"},{"v":0,"d":"0.0%"},{"v":0,"d":"0.0%"},{"v":0,"d":"0.0%"},{"v":0,"d":"0.0%"},{"v":0,"d":"0.0%"},{"$f":"file_name","v":"ASR-Dental_Financial_Report_SMMC_03.21.23"},{"$f":"file_date","v":"2023-03-21"},{"$f":"status","v":"Unaudited"}]
["Dental","DEF","Default",1900,"1900-01-01","1900-03-31","Admin","Quarter","Region 4",{"v":0,"d":"0.0%"},{"v":0,"d":"0.0%"},{"v":0,"d":"0.0%"},{"v":0,"d":"0.0%"},{"v":0,"d":"0.0%"},{"v":0,"d":"0.0%"},"ASR-Dental_Financial_Report_SMMC_03.21.23","2023-03-21","Unaudited"]
["Dental","DEF","Default",1900,"1900-01-01","1900-06-30","Admin","Quarter","Region 4",{"v":0,"d":"0.0%"},{"v":0,"d":"0.0%"},{"v":0,"d":"0.0%"},{"v":0,"d":"0.0%"},{"v":0,"d":"0.0%"},{"v":0,"d":"0.0%"},"ASR-Dental_Financial_Report_SMMC_03.21.23","2023-03-21","Unaudited"]
["Dental","DEF","Default",1900,"1900-01-01","1900-09-30","Admin","Quarter","Region 4",{"v":0,"d":"0.0%"},{"v":0,"d":"0.0%"},{"v":0,"d":"0.0%"},{"v":0,"d":"0.0%"},{"v":0,"d":"0.0%"},{"v":0,"d":"0.0%"},"ASR-Dental_Financial_Report_SMMC_03.21.23","2023-03-21","Unaudited"]
["Dental","DEF","Default",1900,"1900-01-01","1900-12-31","Admin","Quarter","Region 4",{"v":0,"d":"0.0%"},{"v":0,"d":"0.0%"},{"v":0,"d":"0.0%"},{"v":0,"d":"0.0%"},{"v":0,"d":"0.0%"},{"v":0,"d":"0.0%"},"ASR-Dental_Financial_Report_SMMC_03.21.23","2023-03-21","Unaudited"]
["Dental","DEF","Default",1900,"1900-01-01","1900-01-01","Admin","YTD","Region 4",{"v":0,"d":"0.0%"},{"v":0,"d":"0.0%"},{"v":0,"d":"0.0%"},{"v":0,"d":"0.0%"},{"v":0,"d":"0.0%"},{"v":0,"d":"0.0%"},"ASR-Dental_Financial_Report_SMMC_03.21.23","2023-03-21","Unaudited"]
["Dental","DEF","Default",1900,"1900-01-01","1900-03-31","Margin","Quarter","Region 4",{"v":0,"d":"0.0%"},{"v":0,"d":"0.0%"},{"v":0,"d":"0.0%"},{"v":0,"d":"0.0%"},{"v":0,"d":"0.0%"},{"v":0,"d":"0.0%"},"ASR-Dental_Financial_Report_SMMC_03.21.23","2023-03-21","Unaudited"]
["Dental","DEF","Default",1900,"1900-01-01","1900-06-30","Margin","Quarter","Region 4",{"v":0,"d":"0.0%"},{"v":0,"d":"0.0%"},{"v":0,"d":"0.0%"},{"v":0,"d":"0.0%"},{"v":0,"d":"0.0%"},{"v":0,"d":"0.0%"},"ASR-Dental_Financial_Report_SMMC_03.21.23","2023-03-21","Unaudited"]
["Dental","DEF","Default",1900,"1900-01-01","1900-09-30","Margin","Quarter","Region 4",{"v":0,"d":"0.0%"},{"v":0,"d":"0.0%"},{"v":0,"d":"0.0%"},{"v":0,"d":"0.0%"},{"v":0,"d":"0.0%"},{"v":0,"d":"0.0%"},"ASR-Dental_Financial_Report_SMMC_03.21.23","2023-03-21","Unaudited"]
["Dental","DEF","Default",1900,"1900-01-01","1900-12-31","Margin","Quarter","Region 4",{"v":0,"d":"0.0%"},{"v":0,"d":"0.0%"},{"v":0,"d":"0.0%"},{"v":0,"d":"0.0%"},{"v":0,"d":"0.0%"},{"v":0,"d":"0.0%"},"ASR-Dental_Financial_Report_SMMC_03.21.23","2023-03-21","Unaudited"]
["Dental","DEF","Default",1900,"1900-01-01","1900-01-01","Margin","YTD","Region 4",{"v":0,"d":"0.0%"},{"v":0,"d":"0.0%"},{"v":0,"d":"0.0%"},{"v":0,"d":"0.0%"},{"v":0,"d":"0.0%"},{"v":0,"d":"0.0%"},"ASR-Dental_Financial_Report_SMMC_03.21.23","2023-03-21","Unaudited"]
["Dental","DEF","Default",1900,"1900-01-01","1900-03-31","MLR","Quarter","Region 5",{"v":0,"d":"0.0%"},{"v":0,"d":"0.0%"},{"v":0,"d":"0.0%"},{"v":0,"d":"0.0%"},{"v":0,"d":"0.0%"},{"v":0,"d":"0.0%"},"ASR-Dental_Financial_Report_SMMC_03.21.23","2023-03-21","Unaudited"]
["Dental","DEF","Default",1900,"1900-01-01","1900-06-30","MLR","Quarter","Region 5",{"v":0,"d":"0.0%"},{"v":0,"d":"0.0%"},{"v":0,"d":"0.0%"},{"v":0,"d":"0.0%"},{"v":0,"d":"0.0%"},{"v":0,"d":"0.0%"},"ASR-Dental_Financial_Report_SMMC_03.21.23","2023-03-21","Unaudited"]
["Dental","DEF","Default",1900,"1900-01-01","1900-09-30","MLR","Quarter","Region 5",{"v":0,"d":"0.0%"},{"v":0,"d":"0.0%"},{"v":0,"d":"0.0%"},{"v":0,"d":"0.0%"},{"v":0,"d":"0.0%"},{"v":0,"d":"0.0%"},"ASR-Dental_Financial_Report_SMMC_03.21.23","2023-03-21","Unaudited"]
["Dental","DEF","Default",1900,"1900-01-01","1900-12-31","MLR","Quarter","Region 5",{"v":0,"d":"0.0%"},{"v":0,"d":"0.0%"},{"v":0,"d":"0.0%"},{"v":0,"d":"0.0%"},{"v":0,"d":"0.0%"},{"v":0,"d":"0.0%"},"ASR-Dental_Financial_Report_SMMC_03.21.23","2023-03-21","Unaudited"]
["Dental","DEF","Default",1900,"1900-01-01","1900-01-01","MLR","YTD","Region 5",{"v":0,"d":"0.0%"},{"v":0,"d":"0.0%"},{"v":0,"d":"0.0%"},{"v":0,"d":"0.0%"},{"v":0,"d":"0.0%"},{"v":0,"d":"0.0%"},"ASR-Dental_Financial_Report_SMMC_03.21.23","2023-03-21","Unaudited"]
["Dental","DEF","Default",1900,"1900-01-01","1900-03-31","Admin","Quarter","Region 5",{"v":0,"d":"0.0%"},{"v":0,"d":"0.0%"},{"v":0,"d":"0.0%"},{"v":0,"d":"0.0%"},{"v":0,"d":"0.0%"},{"v":0,"d":"0.0%"},"ASR-Dental_Financial_Report_SMMC_03.21.23","2023-03-21","Unaudited"]
["Dental","DEF","Default",1900,"1900-01-01","1900-06-30","Admin","Quarter","Region 5",{"v":0,"d":"0.0%"},{"v":0,"d":"0.0%"},{"v":0,"d":"0.0%"},{"v":0,"d":"0.0%"},{"v":0,"d":"0.0%"},{"v":0,"d":"0.0%"},"ASR-Dental_Financial_Report_SMMC_03.21.23","2023-03-21","Unaudited"]
["Dental","DEF","Default",1900,"1900-01-01","1900-09-30","Admin","Quarter","Region 5",{"v":0,"d":"0.0%"},{"v":0,"d":"0.0%"},{"v":0,"d":"0.0%"},{"v":0,"d":"0.0%"},{"v":0,"d":"0.0%"},{"v":0,"d":"0.0%"},"ASR-Dental_Financial_Report_SMMC_03.21.23","2023-03-21","Unaudited"]
["Dental","DEF","Default",1900,"1900-01-01","1900-12-31","Admin","Quarter","Region 5",{"v":0,"d":"0.0%"},{"v":0,"d":"0.0%"},{"v":0,"d":"0.0%"},{"v":0,"d":"0.0%"},{"v":0,"d":"0.0%"},{"v":0,"d":"0.0%"},"ASR-Dental_Financial_Report_SMMC_03.21.23","2023-03-21","Unaudited"]
["Dental","DEF","Default",1900,"1900-01-01","1900-01-01","Admin","YTD","Region 5",{"v":0,"d":"0.0%"},{"v":0,"d":"0.0%"},{"v":0,"d":"0.0%"},{"v":0,"d":"0.0%"},{"v":0,"d":"0.0%"},{"v":0,"d":"0.0%"},"ASR-Dental_Financial_Report_SMMC_03.21.23","2023-03-21","Unaudited"]
["Dental","DEF","Default",1900,"1900-01-01","1900-03-31","Margin","Quarter","Region 5",{"v":0,"d":"0.0%"},{"v":0,"d":"0.0%"},{"v":0,"d":"0.0%"},{"v":0,"d":"0.0%"},{"v":0,"d":"0.0%"},{"v":0,"d":"0.0%"},"ASR-Dental_Financial_Report_SMMC_03.21.23","2023-03-21","Unaudited"]
["Dental","DEF","Default",1900,"1900-01-01","1900-06-30","Margin","Quarter","Region 5",{"v":0,"d":"0.0%"},{"v":0,"d":"0.0%"},{"v":0,"d":"0.0%"},{"v":0,"d":"0.0%"},{"v":0,"d":"0.0%"},{"v":0,"d":"0.0%"},"ASR-Dental_Financial_Report_SMMC_03.21.23","2023-03-21","Unaudited"]
["Dental","DEF","Default",1900,"1900-01-01","1900-09-30","Margin","Quarter","Region 5",{"v":0,"d":"0.0%"},{"v":0,"d":"0.0%"},{"v":0,"d":"0.0%"},{"v":0,"d":"0.0%"},{"v":0,"d":"0.0%"},{"v":0,"d":"0.0%"},"ASR-Dental_Financial_Report_SMMC_03.21.23","2023-03-21","Unaudited"]
["Dental","DEF","Default",1900,"1900-01-01","1900-12-31","Margin","Quarter","Region 5",{"v":0,"d":"0.0%"},{"v":0,"d":"0.0%"},{"v":0,"d":"0.0%"},{"v":0,"d":"0.0%"},{"v":0,"d":"0.0%"},{"v":0,"d":"0.0%"},"ASR-Dental_Financial_Report_SMMC_03.21.23","2023-03-21","Unaudited"]
["Dental","DEF","Default",1900,"1900-01-01","1900-01-01","Margin","YTD","Region 5",{"v":0,"d":"0.0%"},{"v":0,"d":"0.0%"},{"v":0,"d":"0.0%"},{"v":0,"d":"0.0%"},{"v":0,"d":"0.0%"},{"v":0,"d":"0.0%"},"ASR-Dental_Financial_Report_SMMC_03.21.23","2023-03-21","Unaudited"]
["Dental","DEF","Default",1900,"1900-01-01","1900-03-31","MLR","Quarter","Region 6",{"v":0,"d":"0.0%"},{"v":0,"d":"0.0%"},{"v":0,"d":"0.0%"},{"v":0,"d":"0.0%"},{"v":0,"d":"0.0%"},{"v":0,"d":"0.0%"},"ASR-Dental_Financial_Report_SMMC_03.21.23","2023-03-21","Unaudited"]
["Dental","DEF","Default",1900,"1900-01-01","1900-06-30","MLR","Quarter","Region 6",{"v":0,"d":"0.0%"},{"v":0,"d":"0.0%"},{"v":0,"d":"0.0%"},{"v":0,"d":"0.0%"},{"v":0,"d":"0.0%"},{"v":0,"d":"0.0%"},"ASR-Dental_Financial_Report_SMMC_03.21.23","2023-03-21","Unaudited"]
["Dental","DEF","Default",1900,"1900-01-01","1900-09-30","MLR","Quarter","Region 6",{"v":0,"d":"0.0%"},{"v":0,"d":"0.0%"},{"v":0,"d":"0.0%"},{"v":0,"d":"0.0%"},{"v":0,"d":"0.0%"},{"v":0,"d":"0.0%"},"ASR-Dental_Financial_Report_SMMC_03.21.23","2023-03-21","Unaudited"]
["Dental","DEF","Default",1900,"1900-01-01","1900-12-31","MLR","Quarter","Region 6",{"v":0,"d":"0.0%"},{"v":0,"d":"0.0%"},{"v":0,"d":"0.0%"},{"v":0,"d":"0.0%"},{"v":0,"d":"0.0%"},{"v":0,"d":"0.0%"},"ASR-Dental_Financial_Report_SMMC_03.21.23","2023-03-21","Unaudited"]
["Dental","DEF","Default",1900,"1900-01-01","1900-01-01","MLR","YTD","Region 6",{"v":0,"d":"0.0%"},{"v":0,"d":"0.0%"},{"v":0,"d":"0.0%"},{"v":0,"d":"0.0%"},{"v":0,"d":"0.0%"},{"v":0,"d":"0.0%"},"ASR-Dental_Financial_Report_SMMC_03.21.23","2023-03-21","Unaudited"]
["Dental","DEF","Default",1900,"1900-01-01","1900-03-31","Admin","Quarter","Region 6",{"v":0,"d":"0.0%"},{"v":0,"d":"0.0%"},{"v":0,"d":"0.0%"},{"v":0,"d":"0.0%"},{"v":0,"d":"0.0%"},{"v":0,"d":"0.0%"},"ASR-Dental_Financial_Report_SMMC_03.21.23","2023-03-21","Unaudited"]
[{"$f":"dental_contract","v":"Dental"},{"$f":"plan_id","v":"DEF"},{"$f":"plan_name","v":"Default"},{"$f":"reporting_year","v":1900},{"$f":"reporting_quarter","v":"1900-01-01"},{"$f":"IFERROR(IF($H98=\"Quarter\",IF(OR(IFERROR(YEAR(F97),0)<>reporting_year,$H97=\"YTD\"), DATEVALUE(\"3/31/\" & reporting_year),IF(MONTH($F97)=3,DATEVALUE(\"6/30/\" & reporting_year),IF(MONTH($F97)=6,DATEVALUE(\"9/30/\"&reporting_year),DATEVALUE(\"12/31/\"&reporting_year)))),reporting_quarter),\"\")","v":"1900-06-30"},"Admin","Quarter","Region 6",{"v":0,"d":"0.0%"},{"v":0,"d":"0.0%"},{"v":0,"d":"0.0%"},{"v":0,"d":"0.0%"},{"v":0,"d":"0.0%"},{"v":0,"d":"0.0%"},{"$f":"file_name","v":"ASR-Dental_Financial_Report_SMMC_03.21.23"},{"$f":"file_date","v":"2023-03-21"},{"$f":"status","v":"Unaudited"}]
["Dental","DEF","Default",1900,"1900-01-01","1900-09-30","Admin","Quarter","Region 6",{"v":0,"d":"0.0%"},{"v":0,"d":"0.0%"},{"v":0,"d":"0.0%"},{"v":0,"d":"0.0%"},{"v":0,"d":"0.0%"},{"v":0,"d":"0.0%"},"ASR-Dental_Financial_Report_SMMC_03.21.23","2023-03-21","Unaudited"]
["Dental","DEF","Default",1900,"1900-01-01","1900-12-31","Admin","Quarter","Region 6",{"v":0,"d":"0.0%"},{"v":0,"d":"0.0%"},{"v":0,"d":"0.0%"},{"v":0,"d":"0.0%"},{"v":0,"d":"0.0%"},{"v":0,"d":"0.0%"},"ASR-Dental_Financial_Report_SMMC_03.21.23","2023-03-21","Unaudited"]
["Dental","DEF","Default",1900,"1900-01-01","1900-01-01","Admin","YTD","Region 6",{"v":0,"d":"0.0%"},{"v":0,"d":"0.0%"},{"v":0,"d":"0.0%"},{"v":0,"d":"0.0%"},{"v":0,"d":"0.0%"},{"v":0,"d":"0.0%"},"ASR-Dental_Financial_Report_SMMC_03.21.23","2023-03-21","Unaudited"]
["Dental","DEF","Default",1900,"1900-01-01","1900-03-31","Margin","Quarter","Region 6",{"v":0,"d":"0.0%"},{"v":0,"d":"0.0%"},{"v":0,"d":"0.0%"},{"v":0,"d":"0.0%"},{"v":0,"d":"0.0%"},{"v":0,"d":"0.0%"},"ASR-Dental_Financial_Report_SMMC_03.21.23","2023-03-21","Unaudited"]
["Dental","DEF","Default",1900,"1900-01-01","1900-06-30","Margin","Quarter","Region 6",{"$f":"IFERROR(IF($G103=\"MLR\",(INDEX(INDIRECT(\"'Dental Rev-Exp \"&$I103&\"'!$A$1:$CA$200\"),MATCH(\"Grand Total Medical Benefit Expense Net of Reinsurance\",INDIRECT(\"'Dental Rev-Exp \"&$I103&\"'!$C$1:$C$200\"),0),MATCH(IF($H103=\"Quarter\",IF($F103=DATEVALUE(\"3/31/\"&reporting_year),\"JANUARY - MARCH (Q1)\",IF($F103=DATEVALUE(\"6/30/\"&reporting_year),\"APRIL - JUNE (Q2)\",IF($F103=DATEVALUE(\"9/30/\"&reporting_year),\"JULY - SEPTEMBER (Q3)\",IF($F103=DATEVALUE(\"12/31/\"&reporting_year),\"OCTOBER - DECEMBER (Q4)\")))),\"TOTAL (TO DATE)\"),INDIRECT(\"'Dental Rev-Exp \"&$I103&\"'!$A$7:$CA$7\"),0)+MATCH(J$1,INDIRECT(\"'Dental Rev-Exp \"&$I103&\"'!$D$8:$CA$8\"),0)-1)-INDEX(INDIRECT(\"'Dental Rev-Exp \"&$I103&\"'!$A$1:$CA$200\"),MATCH(\"Dental Expanded Benefits FFS\",INDIRECT(\"'Dental Rev-Exp \"&$I103&\"'!$C$1:$C$200\"),0),MATCH(IF($H103=\"Quarter\",IF($F103=DATEVALUE(\"3/31/\"&reporting_year),\"JANUARY - MARCH (Q1)\",IF($F103=DATEVALUE(\"6/30/\"&reporting_year),\"APRIL - JUNE (Q2)\",IF($F103=DATEVALUE(\"9/30/\"&reporting_year),\"JULY - SEPTEMBER (Q3)\",IF($F103=DATEVALUE(\"12/31/\"&reporting_year),\"OCTOBER - DECEMBER (Q4)\")))),\"TOTAL (TO DATE)\"),INDIRECT(\"'Dental Rev-Exp \"&$I103&\"'!$A$7:$CA$7\"),0)+MATCH(J$1,INDIRECT(\"'Dental Rev-Exp \"&$I103&\"'!$D$8:$CA$8\"),0)-1)),IF($G103=\"Admin\",INDEX(INDIRECT(\"'Dental Rev-Exp \"&$I103&\"'!$A$1:$CA$200\"),MATCH(\"Total Administrative Expenses \",INDIRECT(\"'Dental Rev-Exp \"&$I103&\"'!$C$1:$C$200\"),0),MATCH(IF($H103=\"Quarter\",IF($F103=DATEVALUE(\"3/31/\"&reporting_year),\"JANUARY - MARCH (Q1)\",IF($F103=DATEVALUE(\"6/30/\"&reporting_year),\"APRIL - JUNE (Q2)\",IF($F103=DATEVALUE(\"9/30/\"&reporting_year),\"JULY - SEPTEMBER (Q3)\",IF($F103=DATEVALUE(\"12/31/\"&reporting_year),\"OCTOBER - DECEMBER (Q4)\")))),\"TOTAL (TO DATE)\"),INDIRECT(\"'Dental Rev-Exp \"&$I103&\"'!$A$7:$CA$7\"),0)+MATCH(J$1,INDIRECT(\"'Dental Rev-Exp \"&$I103&\"'!$D$8:$CA$8\"),0)-1),IF($G103=\"Margin\",INDEX(INDIRECT(\"'Dental Rev-Exp \"&$I103&\"'!$A$1:$CA$200\"),MATCH(\"Underwriting Gain / (Loss)  --- AKA Pre-tax Earnings from Operations\",INDIRECT(\"'Dental Rev-Exp \"&$I103&\"'!$C$1:$C$200\"),0),MATCH(IF($H103=\"Quarter\",IF($F103=DATEVALUE(\"3/31/\"&reporting_year),\"JANUARY - MARCH (Q1)\",IF($F103=DATEVALUE(\"6/30/\"&reporting_year),\"APRIL - JUNE (Q2)\",IF($F103=DATEVALUE(\"9/30/\"&reporting_year),\"JULY - SEPTEMBER (Q3)\",IF($F103=DATEVALUE(\"12/31/\"&reporting_year),\"OCTOBER - DECEMBER (Q4)\")))),\"TOTAL (TO DATE)\"),INDIRECT(\"'Dental Rev-Exp \"&$I103&\"'!$A$7:$CA$7\"),0)+MATCH(J$1,INDIRECT(\"'Dental Rev-Exp \"&$I103&\"'!$D$8:$CA$8\"),0)-1)-INDEX(INDIRECT(\"'Dental Rev-Exp \"&$I103&\"'!$A$1:$CA$200\"),MATCH(\"ACA § 9010 related payments\",INDIRECT(\"'Dental Rev-Exp \"&$I103&\"'!$C$1:$C$200\"),0),MATCH(IF($H103=\"Quarter\",IF($F103=DATEVALUE(\"3/31/\"&reporting_year),\"JANUARY - MARCH (Q1)\",IF($F103=DATEVALUE(\"6/30/\"&reporting_year),\"APRIL - JUNE (Q2)\",IF($F103=DATEVALUE(\"9/30/\"&reporting_year),\"JULY - SEPTEMBER (Q3)\",IF($F103=DATEVALUE(\"12/31/\"&reporting_year),\"OCTOBER - DECEMBER (Q4)\")))),\"TOTAL (TO DATE)\"),INDIRECT(\"'Dental Rev-Exp \"&$I103&\"'!$A$7:$CA$7\"),0)+MATCH(J$1,INDIRECT(\"'Dental Rev-Exp \"&$I103&\"'!$D$8:$CA$8\"),0)-1)+INDEX(INDIRECT(\"'Dental Rev-Exp \"&$I103&\"'!$A$1:$CA$200\"),MATCH(\"Section 9010 Health Insurance Providers Fee\",INDIRECT(\"'Dental Rev-Exp \"&$I103&\"'!$C$1:$C$200\"),0),MATCH(IF($H103=\"Quarter\",IF($F103=DATEVALUE(\"3/31/\"&reporting_year),\"JANUARY - MARCH (Q1)\",IF($F103=DATEVALUE(\"6/30/\"&reporting_year),\"APRIL - JUNE (Q2)\",IF($F103=DATEVALUE(\"9/30/\"&reporting_year),\"JULY - SEPTEMBER (Q3)\",IF($F103=DATEVALUE(\"12/31/\"&reporting_year),\"OCTOBER - DECEMBER (Q4)\")))),\"TOTAL (TO DATE)\"),INDIRECT(\"'Dental Rev-Exp \"&$I103&\"'!$A$7:$CA$7\"),0)+MATCH(J$1,INDIRECT(\"'Dental Rev-Exp \"&$I103&\"'!$D$8:$CA$8\"),0)-1))))/(INDEX(INDIRECT(\"'Dental Rev-Exp \"&$I103&\"'!$A$1:$CA$200\"),MATCH(\"Total Revenue\",INDIRECT(\"'Dental Rev-Exp \"&$I103&\"'!$C$1:$C$200\"),0),MATCH(IF($H103=\"Quarter\",IF($F103=DATEVALUE(\"3/31/\"&reporting_year),\"JANUARY - MARCH (Q1)\",IF($F103=DATEVALUE(\"6/30/\"&reporting_year),\"APRIL - JUNE (Q2)\",IF($F103=DATEVALUE(\"9/30/\"&reporting_year),\"JULY - SEPTEMBER (Q3)\",IF($F103=DATEVALUE(\"12/31/\"&reporting_year),\"OCTOBER - DECEMBER (Q4)\")))),\"TOTAL (TO DATE)\"),INDIRECT(\"'Dental Rev-Exp \"&$I103&\"'!$A$7:$CA$7\"),0)+MATCH(J$1,INDIRECT(\"'Dental Rev-Exp \"&$I103&\"'!$D$8:$CA$8\"),0)-1)-INDEX(INDIRECT(\"'Dental Rev-Exp \"&$I103&\"'!$A$1:$CA$200\"),MATCH(\"ACA § 9010 related payments\",INDIRECT(\"'Dental Rev-Exp \"&$I103&\"'!$C$1:$C$200\"),0),MATCH(IF($H103=\"Quarter\",IF($F103=DATEVALUE(\"3/31/\"&reporting_year),\"JANUARY - MARCH (Q1)\",IF($F103=DATEVALUE(\"6/30/\"&reporting_year),\"APRIL - JUNE (Q2)\",IF($F103=DATEVALUE(\"9/30/\"&reporting_year),\"JULY - SEPTEMBER (Q3)\",IF($F103=DATEVALUE(\"12/31/\"&reporting_year),\"OCTOBER - DECEMBER (Q4)\")))),\"TOTAL (TO DATE)\"),INDIRECT(\"'Dental Rev-Exp \"&$I103&\"'!$A$7:$CA$7\"),0)+MATCH(J$1,INDIRECT(\"'Dental Rev-Exp \"&$I103&\"'!$D$8:$CA$8\"),0)-1)),0)","v":{"v":0,"d":"0.0%"}},{"v":0,"d":"0.0%"},{"v":0,"d":"0.0%"},{"v":0,"d":"0.0%"},{"v":0,"d":"0.0%"},{"v":0,"d":"0.0%"},"ASR-Dental_Financial_Report_SMMC_03.21.23","2023-03-21","Unaudited"]
["Dental","DEF","Default",1900,"1900-01-01","1900-09-30","Margin","Quarter","Region 6",{"v":0,"d":"0.0%"},{"v":0,"d":"0.0%"},{"v":0,"d":"0.0%"},{"v":0,"d":"0.0%"},{"v":0,"d":"0.0%"},{"v":0,"d":"0.0%"},"ASR-Dental_Financial_Report_SMMC_03.21.23","2023-03-21","Unaudited"]
["Dental","DEF","Default",1900,"1900-01-01","1900-12-31","Margin","Quarter","Region 6",{"v":0,"d":"0.0%"},{"v":0,"d":"0.0%"},{"v":0,"d":"0.0%"},{"v":0,"d":"0.0%"},{"v":0,"d":"0.0%"},{"v":0,"d":"0.0%"},"ASR-Dental_Financial_Report_SMMC_03.21.23","2023-03-21","Unaudited"]
["Dental","DEF","Default",1900,"1900-01-01","1900-01-01","Margin","YTD","Region 6",{"v":0,"d":"0.0%"},{"v":0,"d":"0.0%"},{"v":0,"d":"0.0%"},{"v":0,"d":"0.0%"},{"v":0,"d":"0.0%"},{"v":0,"d":"0.0%"},"ASR-Dental_Financial_Report_SMMC_03.21.23","2023-03-21","Unaudited"]
["Dental","DEF","Default",1900,"1900-01-01","1900-03-31","MLR","Quarter","Region 7",{"v":0,"d":"0.0%"},{"v":0,"d":"0.0%"},{"v":0,"d":"0.0%"},{"v":0,"d":"0.0%"},{"v":0,"d":"0.0%"},{"v":0,"d":"0.0%"},"ASR-Dental_Financial_Report_SMMC_03.21.23","2023-03-21","Unaudited"]
["Dental","DEF","Default",1900,"1900-01-01","1900-06-30","MLR","Quarter","Region 7",{"v":0,"d":"0.0%"},{"v":0,"d":"0.0%"},{"v":0,"d":"0.0%"},{"v":0,"d":"0.0%"},{"v":0,"d":"0.0%"},{"v":0,"d":"0.0%"},"ASR-Dental_Financial_Report_SMMC_03.21.23","2023-03-21","Unaudited"]
["Dental","DEF","Default",1900,"1900-01-01","1900-09-30","MLR","Quarter","Region 7",{"v":0,"d":"0.0%"},{"v":0,"d":"0.0%"},{"v":0,"d":"0.0%"},{"v":0,"d":"0.0%"},{"v":0,"d":"0.0%"},{"v":0,"d":"0.0%"},"ASR-Dental_Financial_Report_SMMC_03.21.23","2023-03-21","Unaudited"]
["Dental","DEF","Default",1900,"1900-01-01","1900-12-31","MLR","Quarter","Region 7",{"v":0,"d":"0.0%"},{"v":0,"d":"0.0%"},{"v":0,"d":"0.0%"},{"v":0,"d":"0.0%"},{"v":0,"d":"0.0%"},{"v":0,"d":"0.0%"},"ASR-Dental_Financial_Report_SMMC_03.21.23","2023-03-21","Unaudited"]
["Dental","DEF","Default",1900,"1900-01-01","1900-01-01","MLR","YTD","Region 7",{"v":0,"d":"0.0%"},{"v":0,"d":"0.0%"},{"v":0,"d":"0.0%"},{"v":0,"d":"0.0%"},{"v":0,"d":"0.0%"},{"v":0,"d":"0.0%"},"ASR-Dental_Financial_Report_SMMC_03.21.23","2023-03-21","Unaudited"]
["Dental","DEF","Default",1900,"1900-01-01","1900-03-31","Admin","Quarter","Region 7",{"v":0,"d":"0.0%"},{"v":0,"d":"0.0%"},{"v":0,"d":"0.0%"},{"v":0,"d":"0.0%"},{"v":0,"d":"0.0%"},{"v":0,"d":"0.0%"},"ASR-Dental_Financial_Report_SMMC_03.21.23","2023-03-21","Unaudited"]
["Dental","DEF","Default",1900,"1900-01-01","1900-06-30","Admin","Quarter","Region 7",{"v":0,"d":"0.0%"},{"v":0,"d":"0.0%"},{"v":0,"d":"0.0%"},{"v":0,"d":"0.0%"},{"v":0,"d":"0.0%"},{"v":0,"d":"0.0%"},"ASR-Dental_Financial_Report_SMMC_03.21.23","2023-03-21","Unaudited"]
["Dental","DEF","Default",1900,"1900-01-01","1900-09-30","Admin","Quarter","Region 7",{"v":0,"d":"0.0%"},{"v":0,"d":"0.0%"},{"v":0,"d":"0.0%"},{"v":0,"d":"0.0%"},{"v":0,"d":"0.0%"},{"v":0,"d":"0.0%"},"ASR-Dental_Financial_Report_SMMC_03.21.23","2023-03-21","Unaudited"]
["Dental","DEF","Default",1900,"1900-01-01","1900-12-31","Admin","Quarter","Region 7",{"v":0,"d":"0.0%"},{"v":0,"d":"0.0%"},{"v":0,"d":"0.0%"},{"v":0,"d":"0.0%"},{"v":0,"d":"0.0%"},{"v":0,"d":"0.0%"},"ASR-Dental_Financial_Report_SMMC_03.21.23","2023-03-21","Unaudited"]
["Dental","DEF","Default",1900,"1900-01-01","1900-01-01","Admin","YTD","Region 7",{"v":0,"d":"0.0%"},{"v":0,"d":"0.0%"},{"v":0,"d":"0.0%"},{"v":0,"d":"0.0%"},{"v":0,"d":"0.0%"},{"v":0,"d":"0.0%"},"ASR-Dental_Financial_Report_SMMC_03.21.23","2023-03-21","Unaudited"]
["Dental","DEF","Default",1900,"1900-01-01","1900-03-31","Margin","Quarter","Region 7",{"v":0,"d":"0.0%"},{"v":0,"d":"0.0%"},{"v":0,"d":"0.0%"},{"v":0,"d":"0.0%"},{"v":0,"d":"0.0%"},{"v":0,"d":"0.0%"},"ASR-Dental_Financial_Report_SMMC_03.21.23","2023-03-21","Unaudited"]
["Dental","DEF","Default",1900,"1900-01-01","1900-06-30","Margin","Quarter","Region 7",{"v":0,"d":"0.0%"},{"v":0,"d":"0.0%"},{"v":0,"d":"0.0%"},{"v":0,"d":"0.0%"},{"v":0,"d":"0.0%"},{"v":0,"d":"0.0%"},"ASR-Dental_Financial_Report_SMMC_03.21.23","2023-03-21","Unaudited"]
["Dental","DEF","Default",1900,"1900-01-01","1900-09-30","Margin","Quarter","Region 7",{"v":0,"d":"0.0%"},{"v":0,"d":"0.0%"},{"v":0,"d":"0.0%"},{"v":0,"d":"0.0%"},{"v":0,"d":"0.0%"},{"v":0,"d":"0.0%"},"ASR-Dental_Financial_Report_SMMC_03.21.23","2023-03-21","Unaudited"]
["Dental","DEF","Default",1900,"1900-01-01","1900-12-31","Margin","Quarter","Region 7",{"v":0,"d":"0.0%"},{"v":0,"d":"0.0%"},{"v":0,"d":"0.0%"},{"v":0,"d":"0.0%"},{"v":0,"d":"0.0%"},{"v":0,"d":"0.0%"},"ASR-Dental_Financial_Report_SMMC_03.21.23","2023-03-21","Unaudited"]
["Dental","DEF","Default",1900,"1900-01-01","1900-01-01","Margin","YTD","Region 7",{"v":0,"d":"0.0%"},{"v":0,"d":"0.0%"},{"v":0,"d":"0.0%"},{"v":0,"d":"0.0%"},{"v":0,"d":"0.0%"},{"v":0,"d":"0.0%"},"ASR-Dental_Financial_Report_SMMC_03.21.23","2023-03-21","Unaudited"]
["Dental","DEF","Default",1900,"1900-01-01","1900-03-31","MLR","Quarter","Region 8",{"v":0,"d":"0.0%"},{"v":0,"d":"0.0%"},{"v":0,"d":"0.0%"},{"v":0,"d":"0.0%"},{"v":0,"d":"0.0%"},{"v":0,"d":"0.0%"},"ASR-Dental_Financial_Report_SMMC_03.21.23","2023-03-21","Unaudited"]
["Dental","DEF","Default",1900,"1900-01-01","1900-06-30","MLR","Quarter","Region 8",{"v":0,"d":"0.0%"},{"v":0,"d":"0.0%"},{"v":0,"d":"0.0%"},{"v":0,"d":"0.0%"},{"v":0,"d":"0.0%"},{"v":0,"d":"0.0%"},"ASR-Dental_Financial_Report_SMMC_03.21.23","2023-03-21","Unaudited"]
["Dental","DEF","Default",1900,"1900-01-01","1900-09-30","MLR","Quarter","Region 8",{"v":0,"d":"0.0%"},{"v":0,"d":"0.0%"},{"v":0,"d":"0.0%"},{"v":0,"d":"0.0%"},{"v":0,"d":"0.0%"},{"v":0,"d":"0.0%"},"ASR-Dental_Financial_Report_SMMC_03.21.23","2023-03-21","Unaudited"]
["Dental","DEF","Default",1900,"1900-01-01","1900-12-31","MLR","Quarter","Region 8",{"v":0,"d":"0.0%"},{"v":0,"d":"0.0%"},{"v":0,"d":"0.0%"},{"v":0,"d":"0.0%"},{"v":0,"d":"0.0%"},{"v":0,"d":"0.0%"},"ASR-Dental_Financial_Report_SMMC_03.21.23","2023-03-21","Unaudited"]
["Dental","DEF","Default",1900,"1900-01-01","1900-01-01","MLR","YTD","Region 8",{"v":0,"d":"0.0%"},{"v":0,"d":"0.0%"},{"v":0,"d":"0.0%"},{"v":0,"d":"0.0%"},{"v":0,"d":"0.0%"},{"v":0,"d":"0.0%"},"ASR-Dental_Financial_Report_SMMC_03.21.23","2023-03-21","Unaudited"]
["Dental","DEF","Default",1900,"1900-01-01","1900-03-31","Admin","Quarter","Region 8",{"v":0,"d":"0.0%"},{"v":0,"d":"0.0%"},{"v":0,"d":"0.0%"},{"v":0,"d":"0.0%"},{"v":0,"d":"0.0%"},{"v":0,"d":"0.0%"},"ASR-Dental_Financial_Report_SMMC_03.21.23","2023-03-21","Unaudited"]
["Dental","DEF","Default",1900,"1900-01-01","1900-06-30","Admin","Quarter","Region 8",{"v":0,"d":"0.0%"},{"v":0,"d":"0.0%"},{"v":0,"d":"0.0%"},{"v":0,"d":"0.0%"},{"v":0,"d":"0.0%"},{"v":0,"d":"0.0%"},"ASR-Dental_Financial_Report_SMMC_03.21.23","2023-03-21","Unaudited"]
["Dental","DEF","Default",1900,"1900-01-01","1900-09-30","Admin","Quarter","Region 8",{"v":0,"d":"0.0%"},{"v":0,"d":"0.0%"},{"v":0,"d":"0.0%"},{"v":0,"d":"0.0%"},{"v":0,"d":"0.0%"},{"v":0,"d":"0.0%"},"ASR-Dental_Financial_Report_SMMC_03.21.23","2023-03-21","Unaudited"]
[{"$f":"dental_contract","v":"Dental"},{"$f":"plan_id","v":"DEF"},{"$f":"plan_name","v":"Default"},{"$f":"reporting_year","v":1900},{"$f":"reporting_quarter","v":"1900-01-01"},{"$f":"IFERROR(IF($H130=\"Quarter\",IF(OR(IFERROR(YEAR(F129),0)<>reporting_year,$H129=\"YTD\"), DATEVALUE(\"3/31/\" & reporting_year),IF(MONTH($F129)=3,DATEVALUE(\"6/30/\" & reporting_year),IF(MONTH($F129)=6,DATEVALUE(\"9/30/\"&reporting_year),DATEVALUE(\"12/31/\"&reporting_year)))),reporting_quarter),\"\")","v":"1900-12-31"},"Admin","Quarter","Region 8",{"v":0,"d":"0.0%"},{"v":0,"d":"0.0%"},{"v":0,"d":"0.0%"},{"v":0,"d":"0.0%"},{"v":0,"d":"0.0%"},{"v":0,"d":"0.0%"},{"$f":"file_name","v":"ASR-Dental_Financial_Report_SMMC_03.21.23"},{"$f":"file_date","v":"2023-03-21"},{"$f":"status","v":"Unaudited"}]
["Dental","DEF","Default",1900,"1900-01-01","1900-01-01","Admin","YTD","Region 8",{"v":0,"d":"0.0%"},{"v":0,"d":"0.0%"},{"v":0,"d":"0.0%"},{"v":0,"d":"0.0%"},{"v":0,"d":"0.0%"},{"v":0,"d":"0.0%"},"ASR-Dental_Financial_Report_SMMC_03.21.23","2023-03-21","Unaudited"]
["Dental","DEF","Default",1900,"1900-01-01","1900-03-31","Margin","Quarter","Region 8",{"v":0,"d":"0.0%"},{"v":0,"d":"0.0%"},{"v":0,"d":"0.0%"},{"v":0,"d":"0.0%"},{"v":0,"d":"0.0%"},{"v":0,"d":"0.0%"},"ASR-Dental_Financial_Report_SMMC_03.21.23","2023-03-21","Unaudited"]
["Dental","DEF","Default",1900,"1900-01-01","1900-06-30","Margin","Quarter","Region 8",{"v":0,"d":"0.0%"},{"v":0,"d":"0.0%"},{"v":0,"d":"0.0%"},{"v":0,"d":"0.0%"},{"v":0,"d":"0.0%"},{"v":0,"d":"0.0%"},"ASR-Dental_Financial_Report_SMMC_03.21.23","2023-03-21","Unaudited"]
["Dental","DEF","Default",1900,"1900-01-01","1900-09-30","Margin","Quarter","Region 8",{"v":0,"d":"0.0%"},{"v":0,"d":"0.0%"},{"v":0,"d":"0.0%"},{"v":0,"d":"0.0%"},{"v":0,"d":"0.0%"},{"v":0,"d":"0.0%"},"ASR-Dental_Financial_Report_SMMC_03.21.23","2023-03-21","Unaudited"]
["Dental","DEF","Default",1900,"1900-01-01","1900-12-31","Margin","Quarter","Region 8",{"v":0,"d":"0.0%"},{"v":0,"d":"0.0%"},{"v":0,"d":"0.0%"},{"v":0,"d":"0.0%"},{"v":0,"d":"0.0%"},{"v":0,"d":"0.0%"},"ASR-Dental_Financial_Report_SMMC_03.21.23","2023-03-21","Unaudited"]
["Dental","DEF","Default",1900,"1900-01-01","1900-01-01","Margin","YTD","Region 8",{"v":0,"d":"0.0%"},{"v":0,"d":"0.0%"},{"v":0,"d":"0.0%"},{"v":0,"d":"0.0%"},{"v":0,"d":"0.0%"},{"v":0,"d":"0.0%"},"ASR-Dental_Financial_Report_SMMC_03.21.23","2023-03-21","Unaudited"]
["Dental","DEF","Default",1900,"1900-01-01","1900-03-31","MLR","Quarter","Region 9",{"v":0,"d":"0.0%"},{"v":0,"d":"0.0%"},{"v":0,"d":"0.0%"},{"v":0,"d":"0.0%"},{"v":0,"d":"0.0%"},{"v":0,"d":"0.0%"},"ASR-Dental_Financial_Report_SMMC_03.21.23","2023-03-21","Unaudited"]
["Dental","DEF","Default",1900,"1900-01-01","1900-06-30","MLR","Quarter","Region 9",{"v":0,"d":"0.0%"},{"v":0,"d":"0.0%"},{"v":0,"d":"0.0%"},{"v":0,"d":"0.0%"},{"v":0,"d":"0.0%"},{"v":0,"d":"0.0%"},"ASR-Dental_Financial_Report_SMMC_03.21.23","2023-03-21","Unaudited"]
["Dental","DEF","Default",1900,"1900-01-01","1900-09-30","MLR","Quarter","Region 9",{"v":0,"d":"0.0%"},{"v":0,"d":"0.0%"},{"v":0,"d":"0.0%"},{"v":0,"d":"0.0%"},{"v":0,"d":"0.0%"},{"v":0,"d":"0.0%"},"ASR-Dental_Financial_Report_SMMC_03.21.23","2023-03-21","Unaudited"]
["Dental","DEF","Default",1900,"1900-01-01","1900-12-31","MLR","Quarter","Region 9",{"v":0,"d":"0.0%"},{"v":0,"d":"0.0%"},{"v":0,"d":"0.0%"},{"v":0,"d":"0.0%"},{"v":0,"d":"0.0%"},{"v":0,"d":"0.0%"},"ASR-Dental_Financial_Report_SMMC_03.21.23","2023-03-21","Unaudited"]
["Dental","DEF","Default",1900,"1900-01-01","1900-01-01","MLR","YTD","Region 9",{"v":0,"d":"0.0%"},{"v":0,"d":"0.0%"},{"v":0,"d":"0.0%"},{"v":0,"d":"0.0%"},{"v":0,"d":"0.0%"},{"v":0,"d":"0.0%"},"ASR-Dental_Financial_Report_SMMC_03.21.23","2023-03-21","Unaudited"]
["Dental","DEF","Default",1900,"1900-01-01","1900-03-31","Admin","Quarter","Region 9",{"v":0,"d":"0.0%"},{"v":0,"d":"0.0%"},{"v":0,"d":"0.0%"},{"v":0,"d":"0.0%"},{"v":0,"d":"0.0%"},{"v":0,"d":"0.0%"},"ASR-Dental_Financial_Report_SMMC_03.21.23","2023-03-21","Unaudited"]
["Dental","DEF","Default",1900,"1900-01-01","1900-06-30","Admin","Quarter","Region 9",{"v":0,"d":"0.0%"},{"v":0,"d":"0.0%"},{"v":0,"d":"0.0%"},{"v":0,"d":"0.0%"},{"v":0,"d":"0.0%"},{"v":0,"d":"0.0%"},"ASR-Dental_Financial_Report_SMMC_03.21.23","2023-03-21","Unaudited"]
["Dental","DEF","Default",1900,"1900-01-01","1900-09-30","Admin","Quarter","Region 9",{"v":0,"d":"0.0%"},{"v":0,"d":"0.0%"},{"v":0,"d":"0.0%"},{"v":0,"d":"0.0%"},{"v":0,"d":"0.0%"},{"v":0,"d":"0.0%"},"ASR-Dental_Financial_Report_SMMC_03.21.23","2023-03-21","Unaudited"]
["Dental","DEF","Default",1900,"1900-01-01","1900-12-31","Admin","Quarter","Region 9",{"v":0,"d":"0.0%"},{"v":0,"d":"0.0%"},{"v":0,"d":"0.0%"},{"$f":"IFERROR(IF($G145=\"MLR\",(INDEX(INDIRECT(\"'Dental Rev-Exp \"&$I145&\"'!$A$1:$CA$200\"),MATCH(\"Grand Total Medical Benefit Expense Net of Reinsurance\",INDIRECT(\"'Dental Rev-Exp \"&$I145&\"'!$C$1:$C$200\"),0),MATCH(IF($H145=\"Quarter\",IF($F145=DATEVALUE(\"3/31/\"&reporting_year),\"JANUARY - MARCH (Q1)\",IF($F145=DATEVALUE(\"6/30/\"&reporting_year),\"APRIL - JUNE (Q2)\",IF($F145=DATEVALUE(\"9/30/\"&reporting_year),\"JULY - SEPTEMBER (Q3)\",IF($F145=DATEVALUE(\"12/31/\"&reporting_year),\"OCTOBER - DECEMBER (Q4)\")))),\"TOTAL (TO DATE)\"),INDIRECT(\"'Dental Rev-Exp \"&$I145&\"'!$A$7:$CA$7\"),0)+MATCH(M$1,INDIRECT(\"'Dental Rev-Exp \"&$I145&\"'!$D$8:$CA$8\"),0)-1)-INDEX(INDIRECT(\"'Dental Rev-Exp \"&$I145&\"'!$A$1:$CA$200\"),MATCH(\"Dental Expanded Benefits FFS\",INDIRECT(\"'Dental Rev-Exp \"&$I145&\"'!$C$1:$C$200\"),0),MATCH(IF($H145=\"Quarter\",IF($F145=DATEVALUE(\"3/31/\"&reporting_year),\"JANUARY - MARCH (Q1)\",IF($F145=DATEVALUE(\"6/30/\"&reporting_year),\"APRIL - JUNE (Q2)\",IF($F145=DATEVALUE(\"9/30/\"&reporting_year),\"JULY - SEPTEMBER (Q3)\",IF($F145=DATEVALUE(\"12/31/\"&reporting_year),\"OCTOBER - DECEMBER (Q4)\")))),\"TOTAL (TO DATE)\"),INDIRECT(\"'Dental Rev-Exp \"&$I145&\"'!$A$7:$CA$7\"),0)+MATCH(M$1,INDIRECT(\"'Dental Rev-Exp \"&$I145&\"'!$D$8:$CA$8\"),0)-1)),IF($G145=\"Admin\",INDEX(INDIRECT(\"'Dental Rev-Exp \"&$I145&\"'!$A$1:$CA$200\"),MATCH(\"Total Administrative Expenses \",INDIRECT(\"'Dental Rev-Exp \"&$I145&\"'!$C$1:$C$200\"),0),MATCH(IF($H145=\"Quarter\",IF($F145=DATEVALUE(\"3/31/\"&reporting_year),\"JANUARY - MARCH (Q1)\",IF($F145=DATEVALUE(\"6/30/\"&reporting_year),\"APRIL - JUNE (Q2)\",IF($F145=DATEVALUE(\"9/30/\"&reporting_year),\"JULY - SEPTEMBER (Q3)\",IF($F145=DATEVALUE(\"12/31/\"&reporting_year),\"OCTOBER - DECEMBER (Q4)\")))),\"TOTAL (TO DATE)\"),INDIRECT(\"'Dental Rev-Exp \"&$I145&\"'!$A$7:$CA$7\"),0)+MATCH(M$1,INDIRECT(\"'Dental Rev-Exp \"&$I145&\"'!$D$8:$CA$8\"),0)-1),IF($G145=\"Margin\",INDEX(INDIRECT(\"'Dental Rev-Exp \"&$I145&\"'!$A$1:$CA$200\"),MATCH(\"Underwriting Gain / (Loss)  --- AKA Pre-tax Earnings from Operations\",INDIRECT(\"'Dental Rev-Exp \"&$I145&\"'!$C$1:$C$200\"),0),MATCH(IF($H145=\"Quarter\",IF($F145=DATEVALUE(\"3/31/\"&reporting_year),\"JANUARY - MARCH (Q1)\",IF($F145=DATEVALUE(\"6/30/\"&reporting_year),\"APRIL - JUNE (Q2)\",IF($F145=DATEVALUE(\"9/30/\"&reporting_year),\"JULY - SEPTEMBER (Q3)\",IF($F145=DATEVALUE(\"12/31/\"&reporting_year),\"OCTOBER - DECEMBER (Q4)\")))),\"TOTAL (TO DATE)\"),INDIRECT(\"'Dental Rev-Exp \"&$I145&\"'!$A$7:$CA$7\"),0)+MATCH(M$1,INDIRECT(\"'Dental Rev-Exp \"&$I145&\"'!$D$8:$CA$8\"),0)-1)-INDEX(INDIRECT(\"'Dental Rev-Exp \"&$I145&\"'!$A$1:$CA$200\"),MATCH(\"ACA § 9010 related payments\",INDIRECT(\"'Dental Rev-Exp \"&$I145&\"'!$C$1:$C$200\"),0),MATCH(IF($H145=\"Quarter\",IF($F145=DATEVALUE(\"3/31/\"&reporting_year),\"JANUARY - MARCH (Q1)\",IF($F145=DATEVALUE(\"6/30/\"&reporting_year),\"APRIL - JUNE (Q2)\",IF($F145=DATEVALUE(\"9/30/\"&reporting_year),\"JULY - SEPTEMBER (Q3)\",IF($F145=DATEVALUE(\"12/31/\"&reporting_year),\"OCTOBER - DECEMBER (Q4)\")))),\"TOTAL (TO DATE)\"),INDIRECT(\"'Dental Rev-Exp \"&$I145&\"'!$A$7:$CA$7\"),0)+MATCH(M$1,INDIRECT(\"'Dental Rev-Exp \"&$I145&\"'!$D$8:$CA$8\"),0)-1)+INDEX(INDIRECT(\"'Dental Rev-Exp \"&$I145&\"'!$A$1:$CA$200\"),MATCH(\"Section 9010 Health Insurance Providers Fee\",INDIRECT(\"'Dental Rev-Exp \"&$I145&\"'!$C$1:$C$200\"),0),MATCH(IF($H145=\"Quarter\",IF($F145=DATEVALUE(\"3/31/\"&reporting_year),\"JANUARY - MARCH (Q1)\",IF($F145=DATEVALUE(\"6/30/\"&reporting_year),\"APRIL - JUNE (Q2)\",IF($F145=DATEVALUE(\"9/30/\"&reporting_year),\"JULY - SEPTEMBER (Q3)\",IF($F145=DATEVALUE(\"12/31/\"&reporting_year),\"OCTOBER - DECEMBER (Q4)\")))),\"TOTAL (TO DATE)\"),INDIRECT(\"'Dental Rev-Exp \"&$I145&\"'!$A$7:$CA$7\"),0)+MATCH(M$1,INDIRECT(\"'Dental Rev-Exp \"&$I145&\"'!$D$8:$CA$8\"),0)-1))))/(INDEX(INDIRECT(\"'Dental Rev-Exp \"&$I145&\"'!$A$1:$CA$200\"),MATCH(\"Total Revenue\",INDIRECT(\"'Dental Rev-Exp \"&$I145&\"'!$C$1:$C$200\"),0),MATCH(IF($H145=\"Quarter\",IF($F145=DATEVALUE(\"3/31/\"&reporting_year),\"JANUARY - MARCH (Q1)\",IF($F145=DATEVALUE(\"6/30/\"&reporting_year),\"APRIL - JUNE (Q2)\",IF($F145=DATEVALUE(\"9/30/\"&reporting_year),\"JULY - SEPTEMBER (Q3)\",IF($F145=DATEVALUE(\"12/31/\"&reporting_year),\"OCTOBER - DECEMBER (Q4)\")))),\"TOTAL (TO DATE)\"),INDIRECT(\"'Dental Rev-Exp \"&$I145&\"'!$A$7:$CA$7\"),0)+MATCH(M$1,INDIRECT(\"'Dental Rev-Exp \"&$I145&\"'!$D$8:$CA$8\"),0)-1)-INDEX(INDIRECT(\"'Dental Rev-Exp \"&$I145&\"'!$A$1:$CA$200\"),MATCH(\"ACA § 9010 related payments\",INDIRECT(\"'Dental Rev-Exp \"&$I145&\"'!$C$1:$C$200\"),0),MATCH(IF($H145=\"Quarter\",IF($F145=DATEVALUE(\"3/31/\"&reporting_year),\"JANUARY - MARCH (Q1)\",IF($F145=DATEVALUE(\"6/30/\"&reporting_year),\"APRIL - JUNE (Q2)\",IF($F145=DATEVALUE(\"9/30/\"&reporting_year),\"JULY - SEPTEMBER (Q3)\",IF($F145=DATEVALUE(\"12/31/\"&reporting_year),\"OCTOBER - DECEMBER (Q4)\")))),\"TOTAL (TO DATE)\"),INDIRECT(\"'Dental Rev-Exp \"&$I145&\"'!$A$7:$CA$7\"),0)+MATCH(M$1,INDIRECT(\"'Dental Rev-Exp \"&$I145&\"'!$D$8:$CA$8\"),0)-1)),0)","v":{"v":0,"d":"0.0%"}},{"v":0,"d":"0.0%"},{"v":0,"d":"0.0%"},"ASR-Dental_Financial_Report_SMMC_03.21.23","2023-03-21","Unaudited"]
["Dental","DEF","Default",1900,"1900-01-01","1900-01-01","Admin","YTD","Region 9",{"v":0,"d":"0.0%"},{"v":0,"d":"0.0%"},{"v":0,"d":"0.0%"},{"v":0,"d":"0.0%"},{"v":0,"d":"0.0%"},{"v":0,"d":"0.0%"},"ASR-Dental_Financial_Report_SMMC_03.21.23","2023-03-21","Unaudited"]
["Dental","DEF","Default",1900,"1900-01-01","1900-03-31","Margin","Quarter","Region 9",{"v":0,"d":"0.0%"},{"v":0,"d":"0.0%"},{"v":0,"d":"0.0%"},{"v":0,"d":"0.0%"},{"v":0,"d":"0.0%"},{"v":0,"d":"0.0%"},"ASR-Dental_Financial_Report_SMMC_03.21.23","2023-03-21","Unaudited"]
["Dental","DEF","Default",1900,"1900-01-01","1900-06-30","Margin","Quarter","Region 9",{"v":0,"d":"0.0%"},{"v":0,"d":"0.0%"},{"v":0,"d":"0.0%"},{"v":0,"d":"0.0%"},{"v":0,"d":"0.0%"},{"v":0,"d":"0.0%"},"ASR-Dental_Financial_Report_SMMC_03.21.23","2023-03-21","Unaudited"]
["Dental","DEF","Default",1900,"1900-01-01","1900-09-30","Margin","Quarter","Region 9",{"v":0,"d":"0.0%"},{"v":0,"d":"0.0%"},{"v":0,"d":"0.0%"},{"v":0,"d":"0.0%"},{"v":0,"d":"0.0%"},{"v":0,"d":"0.0%"},"ASR-Dental_Financial_Report_SMMC_03.21.23","2023-03-21","Unaudited"]
["Dental","DEF","Default",1900,"1900-01-01","1900-12-31","Margin","Quarter","Region 9",{"v":0,"d":"0.0%"},{"v":0,"d":"0.0%"},{"v":0,"d":"0.0%"},{"v":0,"d":"0.0%"},{"v":0,"d":"0.0%"},{"v":0,"d":"0.0%"},"ASR-Dental_Financial_Report_SMMC_03.21.23","2023-03-21","Unaudited"]
["Dental","DEF","Default",1900,"1900-01-01","1900-01-01","Margin","YTD","Region 9",{"v":0,"d":"0.0%"},{"v":0,"d":"0.0%"},{"v":0,"d":"0.0%"},{"v":0,"d":"0.0%"},{"v":0,"d":"0.0%"},{"v":0,"d":"0.0%"},"ASR-Dental_Financial_Report_SMMC_03.21.23","2023-03-21","Unaudited"]
["Dental","DEF","Default",1900,"1900-01-01","1900-03-31","MLR","Quarter","Region 10",{"v":0,"d":"0.0%"},{"v":0,"d":"0.0%"},{"v":0,"d":"0.0%"},{"v":0,"d":"0.0%"},{"v":0,"d":"0.0%"},{"v":0,"d":"0.0%"},"ASR-Dental_Financial_Report_SMMC_03.21.23","2023-03-21","Unaudited"]
["Dental","DEF","Default",1900,"1900-01-01","1900-06-30","MLR","Quarter","Region 10",{"v":0,"d":"0.0%"},{"v":0,"d":"0.0%"},{"v":0,"d":"0.0%"},{"v":0,"d":"0.0%"},{"v":0,"d":"0.0%"},{"v":0,"d":"0.0%"},"ASR-Dental_Financial_Report_SMMC_03.21.23","2023-03-21","Unaudited"]
["Dental","DEF","Default",1900,"1900-01-01","1900-09-30","MLR","Quarter","Region 10",{"v":0,"d":"0.0%"},{"v":0,"d":"0.0%"},{"v":0,"d":"0.0%"},{"v":0,"d":"0.0%"},{"v":0,"d":"0.0%"},{"v":0,"d":"0.0%"},"ASR-Dental_Financial_Report_SMMC_03.21.23","2023-03-21","Unaudited"]
["Dental","DEF","Default",1900,"1900-01-01","1900-12-31","MLR","Quarter","Region 10",{"v":0,"d":"0.0%"},{"v":0,"d":"0.0%"},{"v":0,"d":"0.0%"},{"v":0,"d":"0.0%"},{"v":0,"d":"0.0%"},{"v":0,"d":"0.0%"},"ASR-Dental_Financial_Report_SMMC_03.21.23","2023-03-21","Unaudited"]
["Dental","DEF","Default",1900,"1900-01-01","1900-01-01","MLR","YTD","Region 10",{"v":0,"d":"0.0%"},{"v":0,"d":"0.0%"},{"v":0,"d":"0.0%"},{"v":0,"d":"0.0%"},{"v":0,"d":"0.0%"},{"v":0,"d":"0.0%"},"ASR-Dental_Financial_Report_SMMC_03.21.23","2023-03-21","Unaudited"]
["Dental","DEF","Default",1900,"1900-01-01","1900-03-31","Admin","Quarter","Region 10",{"v":0,"d":"0.0%"},{"v":0,"d":"0.0%"},{"v":0,"d":"0.0%"},{"v":0,"d":"0.0%"},{"v":0,"d":"0.0%"},{"v":0,"d":"0.0%"},"ASR-Dental_Financial_Report_SMMC_03.21.23","2023-03-21","Unaudited"]
["Dental","DEF","Default",1900,"1900-01-01","1900-06-30","Admin","Quarter","Region 10",{"v":0,"d":"0.0%"},{"v":0,"d":"0.0%"},{"v":0,"d":"0.0%"},{"v":0,"d":"0.0%"},{"v":0,"d":"0.0%"},{"v":0,"d":"0.0%"},"ASR-Dental_Financial_Report_SMMC_03.21.23","2023-03-21","Unaudited"]
["Dental","DEF","Default",1900,"1900-01-01","1900-09-30","Admin","Quarter","Region 10",{"v":0,"d":"0.0%"},{"v":0,"d":"0.0%"},{"v":0,"d":"0.0%"},{"v":0,"d":"0.0%"},{"v":0,"d":"0.0%"},{"v":0,"d":"0.0%"},"ASR-Dental_Financial_Report_SMMC_03.21.23","2023-03-21","Unaudited"]
["Dental","DEF","Default",1900,"1900-01-01","1900-12-31","Admin","Quarter","Region 10",{"v":0,"d":"0.0%"},{"v":0,"d":"0.0%"},{"v":0,"d":"0.0%"},{"v":0,"d":"0.0%"},{"v":0,"d":"0.0%"},{"v":0,"d":"0.0%"},"ASR-Dental_Financial_Report_SMMC_03.21.23","2023-03-21","Unaudited"]
["Dental","DEF","Default",1900,"1900-01-01","1900-01-01","Admin","YTD","Region 10",{"v":0,"d":"0.0%"},{"v":0,"d":"0.0%"},{"v":0,"d":"0.0%"},{"v":0,"d":"0.0%"},{"v":0,"d":"0.0%"},{"v":0,"d":"0.0%"},"ASR-Dental_Financial_Report_SMMC_03.21.23","2023-03-21","Unaudited"]
[{"$f":"dental_contract","v":"Dental"},{"$f":"plan_id","v":"DEF"},{"$f":"plan_name","v":"Default"},{"$f":"reporting_year","v":1900},{"$f":"reporting_quarter","v":"1900-01-01"},{"$f":"IFERROR(IF($H162=\"Quarter\",IF(OR(IFERROR(YEAR(F161),0)<>reporting_year,$H161=\"YTD\"), DATEVALUE(\"3/31/\" & reporting_year),IF(MONTH($F161)=3,DATEVALUE(\"6/30/\" & reporting_year),IF(MONTH($F161)=6,DATEVALUE(\"9/30/\"&reporting_year),DATEVALUE(\"12/31/\"&reporting_year)))),reporting_quarter),\"\")","v":"1900-03-31"},"Margin","Quarter","Region 10",{"v":0,"d":"0.0%"},{"v":0,"d":"0.0%"},{"v":0,"d":"0.0%"},{"v":0,"d":"0.0%"},{"v":0,"d":"0.0%"},{"v":0,"d":"0.0%"},{"$f":"file_name","v":"ASR-Dental_Financial_Report_SMMC_03.21.23"},{"$f":"file_date","v":"2023-03-21"},{"$f":"status","v":"Unaudited"}]
["Dental","DEF","Default",1900,"1900-01-01","1900-06-30","Margin","Quarter","Region 10",{"v":0,"d":"0.0%"},{"v":0,"d":"0.0%"},{"v":0,"d":"0.0%"},{"v":0,"d":"0.0%"},{"v":0,"d":"0.0%"},{"v":0,"d":"0.0%"},"ASR-Dental_Financial_Report_SMMC_03.21.23","2023-03-21","Unaudited"]
["Dental","DEF","Default",1900,"1900-01-01","1900-09-30","Margin","Quarter","Region 10",{"v":0,"d":"0.0%"},{"v":0,"d":"0.0%"},{"v":0,"d":"0.0%"},{"v":0,"d":"0.0%"},{"v":0,"d":"0.0%"},{"v":0,"d":"0.0%"},"ASR-Dental_Financial_Report_SMMC_03.21.23","2023-03-21","Unaudited"]
["Dental","DEF","Default",1900,"1900-01-01","1900-12-31","Margin","Quarter","Region 10",{"v":0,"d":"0.0%"},{"v":0,"d":"0.0%"},{"v":0,"d":"0.0%"},{"v":0,"d":"0.0%"},{"v":0,"d":"0.0%"},{"v":0,"d":"0.0%"},"ASR-Dental_Financial_Report_SMMC_03.21.23","2023-03-21","Unaudited"]
["Dental","DEF","Default",1900,"1900-01-01","1900-01-01","Margin","YTD","Region 10",{"v":0,"d":"0.0%"},{"v":0,"d":"0.0%"},{"v":0,"d":"0.0%"},{"v":0,"d":"0.0%"},{"v":0,"d":"0.0%"},{"v":0,"d":"0.0%"},"ASR-Dental_Financial_Report_SMMC_03.21.23","2023-03-21","Unaudited"]
["Dental","DEF","Default",1900,"1900-01-01","1900-03-31","MLR","Quarter","Region 11",{"v":0,"d":"0.0%"},{"v":0,"d":"0.0%"},{"v":0,"d":"0.0%"},{"v":0,"d":"0.0%"},{"v":0,"d":"0.0%"},{"v":0,"d":"0.0%"},"ASR-Dental_Financial_Report_SMMC_03.21.23","2023-03-21","Unaudited"]
["Dental","DEF","Default",1900,"1900-01-01","1900-06-30","MLR","Quarter","Region 11",{"v":0,"d":"0.0%"},{"v":0,"d":"0.0%"},{"v":0,"d":"0.0%"},{"v":0,"d":"0.0%"},{"v":0,"d":"0.0%"},{"v":0,"d":"0.0%"},"ASR-Dental_Financial_Report_SMMC_03.21.23","2023-03-21","Unaudited"]
["Dental","DEF","Default",1900,"1900-01-01","1900-09-30","MLR","Quarter","Region 11",{"v":0,"d":"0.0%"},{"v":0,"d":"0.0%"},{"v":0,"d":"0.0%"},{"v":0,"d":"0.0%"},{"v":0,"d":"0.0%"},{"v":0,"d":"0.0%"},"ASR-Dental_Financial_Report_SMMC_03.21.23","2023-03-21","Unaudited"]
["Dental","DEF","Default",1900,"1900-01-01","1900-12-31","MLR","Quarter","Region 11",{"v":0,"d":"0.0%"},{"v":0,"d":"0.0%"},{"v":0,"d":"0.0%"},{"v":0,"d":"0.0%"},{"v":0,"d":"0.0%"},{"v":0,"d":"0.0%"},"ASR-Dental_Financial_Report_SMMC_03.21.23","2023-03-21","Unaudited"]
["Dental","DEF","Default",1900,"1900-01-01","1900-01-01","MLR","YTD","Region 11",{"v":0,"d":"0.0%"},{"v":0,"d":"0.0%"},{"v":0,"d":"0.0%"},{"v":0,"d":"0.0%"},{"v":0,"d":"0.0%"},{"v":0,"d":"0.0%"},"ASR-Dental_Financial_Report_SMMC_03.21.23","2023-03-21","Unaudited"]
["Dental","DEF","Default",1900,"1900-01-01","1900-03-31","Admin","Quarter","Region 11",{"v":0,"d":"0.0%"},{"v":0,"d":"0.0%"},{"v":0,"d":"0.0%"},{"v":0,"d":"0.0%"},{"v":0,"d":"0.0%"},{"v":0,"d":"0.0%"},"ASR-Dental_Financial_Report_SMMC_03.21.23","2023-03-21","Unaudited"]
["Dental","DEF","Default",1900,"1900-01-01","1900-06-30","Admin","Quarter","Region 11",{"v":0,"d":"0.0%"},{"v":0,"d":"0.0%"},{"v":0,"d":"0.0%"},{"v":0,"d":"0.0%"},{"v":0,"d":"0.0%"},{"v":0,"d":"0.0%"},"ASR-Dental_Financial_Report_SMMC_03.21.23","2023-03-21","Unaudited"]
["Dental","DEF","Default",1900,"1900-01-01","1900-09-30","Admin","Quarter","Region 11",{"v":0,"d":"0.0%"},{"v":0,"d":"0.0%"},{"v":0,"d":"0.0%"},{"v":0,"d":"0.0%"},{"v":0,"d":"0.0%"},{"v":0,"d":"0.0%"},"ASR-Dental_Financial_Report_SMMC_03.21.23","2023-03-21","Unaudited"]
["Dental","DEF","Default",1900,"1900-01-01","1900-12-31","Admin","Quarter","Region 11",{"v":0,"d":"0.0%"},{"v":0,"d":"0.0%"},{"v":0,"d":"0.0%"},{"v":0,"d":"0.0%"},{"v":0,"d":"0.0%"},{"v":0,"d":"0.0%"},"ASR-Dental_Financial_Report_SMMC_03.21.23","2023-03-21","Unaudited"]
["Dental","DEF","Default",1900,"1900-01-01","1900-01-01","Admin","YTD","Region 11",{"v":0,"d":"0.0%"},{"v":0,"d":"0.0%"},{"v":0,"d":"0.0%"},{"v":0,"d":"0.0%"},{"v":0,"d":"0.0%"},{"v":0,"d":"0.0%"},"ASR-Dental_Financial_Report_SMMC_03.21.23","2023-03-21","Unaudited"]
["Dental","DEF","Default",1900,"1900-01-01","1900-03-31","Margin","Quarter","Region 11",{"v":0,"d":"0.0%"},{"v":0,"d":"0.0%"},{"v":0,"d":"0.0%"},{"v":0,"d":"0.0%"},{"v":0,"d":"0.0%"},{"v":0,"d":"0.0%"},"ASR-Dental_Financial_Report_SMMC_03.21.23","2023-03-21","Unaudited"]
["Dental","DEF","Default",1900,"1900-01-01","1900-06-30","Margin","Quarter","Region 11",{"v":0,"d":"0.0%"},{"v":0,"d":"0.0%"},{"v":0,"d":"0.0%"},{"v":0,"d":"0.0%"},{"v":0,"d":"0.0%"},{"v":0,"d":"0.0%"},"ASR-Dental_Financial_Report_SMMC_03.21.23","2023-03-21","Unaudited"]
["Dental","DEF","Default",1900,"1900-01-01","1900-09-30","Margin","Quarter","Region 11",{"v":0,"d":"0.0%"},{"v":0,"d":"0.0%"},{"v":0,"d":"0.0%"},{"v":0,"d":"0.0%"},{"v":0,"d":"0.0%"},{"v":0,"d":"0.0%"},"ASR-Dental_Financial_Report_SMMC_03.21.23","2023-03-21","Unaudited"]
["Dental","DEF","Default",1900,"1900-01-01","1900-12-31","Margin","Quarter","Region 11",{"v":0,"d":"0.0%"},{"v":0,"d":"0.0%"},{"v":0,"d":"0.0%"},{"v":0,"d":"0.0%"},{"v":0,"d":"0.0%"},{"v":0,"d":"0.0%"},"ASR-Dental_Financial_Report_SMMC_03.21.23","2023-03-21","Unaudited"]
["Dental","DEF","Default",1900,"1900-01-01","1900-01-01","Margin","YTD","Region 11",{"v":0,"d":"0.0%"},{"v":0,"d":"0.0%"},{"v":0,"d":"0.0%"},{"v":0,"d":"0.0%"},{"v":0,"d":"0.0%"},{"v":0,"d":"0.0%"},"ASR-Dental_Financial_Report_SMMC_03.21.23","2023-03-21","Unaudited"]